{"text_format":"1","workbook":"xlsx","n_sheets":10,"sheets":["改訂日","1 フローチャート","2 算定シート","3　計算シート","4　手順と記号の説明","モーター効率","モーター効率(元)","対象制御方式","課題or質問","シート構成"],"not_rendered":{"charts":0,"images":0,"macros":1,"external_links":2,"defined_names":49,"comments":0,"pivot_tables":0},"unopened":[],"bounds":{"document_bytes":16777216,"sheet_cells":100000,"rows_first":2000,"rows_last":500,"rows_between":2000,"halvings":0,"cell_chars":16384,"cell_head_chars":4096},"cells_cut":0,"cells_raw":0,"read":"whole","date_system":"1900"}

{"sheet":"改訂日","index":0,"n_rows":8,"n_cols":5,"rows_kept":8,"cut":false,"hidden":true,"merged":[]}
[]
[null,"改訂日","Ver","担当","内容"]
[null,"2025-09-09",0.1,"鈴木","α版発行"]
[null,"2025-09-10",0.2,"鈴木","給油式ロードアンロードの式修正"]
[null,"2025-09-11",0.3,"藤井","電力量を変更すると導入後の電力量が極端に小さくなり、Vr1を再入力すると正しくなる問題を修正。ゴールシークのマクロ変更"]
[null,"2025-09-16",0.4,"鈴木","入力項目が不足の場合マクロでエラーが発生するのを修正。β版発行"]
[null,"2025-11-05",1,"鈴木","容量制御方式名称変更、"]
[null,"2025-11-14",1.1100000000000001,"鈴木","Step2レシーバタンク容量入力欄削除、解説書改版に伴うツール変更(0.6乗則)"]

{"sheet":"1 フローチャート","index":1,"n_rows":80,"n_cols":14,"rows_kept":80,"cut":false,"hidden":false,"merged":[[1,1,1,12]]}
[]
[null,"設備更新等によるCO2削減効果の算定ツール （空気圧縮機（コンプレッサー）の高効率化）　",null,null,null,null,null,null,null,null,null,null,null,"Ver. 1.11"]
[]
[]
[]
[]
[]
[]
[]
[null,null,null,null,null,null,null,null,"いいえ"]
[]
[]
[]
[null,"はい"]
[]
[]
[]
[null,null,null,null,null,null,null,null,"いいえ"]
[]
[]
[null,"はい"]
[]
[]
[]
[]
[null,null,null,null,null,"いいえ",null,null,null,null,"いいえ"]
[]
[]
[null,"はい",null,null,null,null,null,"はい"]
[]
[]
[]
[]
[]
[null,null,null,null,null,null,null,null,"いいえ"]
[]
[]
[null,"はい"]
[]
[]
[]
[]
[]
[]
[]
[]
[]
[]
[]
[]
[]
[]
[]
[]
[]
[]
[]
[]
[]
[]
[]
[]
[]
[]
[]
[]
[]
[]
[]
[]
[]
[]
[]
[]
[]
[]
[]
[]
[]
[null,null,null,null,null,null,null,null,null,null,null,null,null,"　　"]

{"sheet":"2 算定シート","index":2,"n_rows":54,"n_cols":30,"rows_kept":54,"cut":false,"hidden":false,"merged":[[41,2,41,10],[21,22,23,31],[24,22,25,31],[26,22,27,31],[7,5,7,6],[10,10,10,12],[7,3,7,4],[7,29,7,32],[19,10,19,12],[25,13,25,16],[26,13,26,16],[17,13,17,16],[19,13,19,19],[14,13,14,16],[14,17,14,19],[15,13,15,16],[15,17,15,19],[20,17,20,19],[21,13,21,16],[21,17,21,19],[19,1,26,1],[19,2,26,9],[16,13,16,16],[16,17,16,19],[7,21,7,22],[7,23,7,24],[7,25,7,26],[26,17,26,19],[22,13,22,16],[22,17,22,19],[23,13,23,16],[23,17,23,19],[24,13,24,16],[24,17,24,19],[25,17,25,19],[3,1,8,1],[20,13,20,16],[4,17,4,18],[13,17,13,19],[3,2,3,26],[4,3,4,4],[4,19,4,20],[16,22,18,31],[4,21,4,22],[39,8,39,9],[39,10,39,11],[4,13,4,14],[4,15,4,16],[8,17,8,19],[4,25,4,26],[13,13,13,16],[10,13,10,19],[7,13,7,14],[7,15,7,16],[7,17,7,18],[7,19,7,20],[8,2,8,16],[11,13,11,16],[11,17,11,19],[12,13,12,16],[12,17,12,19],[7,11,7,12],[4,9,4,10],[4,11,4,12],[7,7,7,8],[7,9,7,10],[5,2,6,2],[4,23,4,24],[1,1,1,24],[1,25,1,26],[39,2,39,3],[38,2,38,3],[38,4,38,5],[38,6,38,7],[38,8,38,9],[38,10,38,11],[38,12,38,13],[38,14,38,15],[38,16,38,17],[38,18,38,19],[38,20,38,21],[38,22,38,23],[38,24,38,25],[39,4,39,5],[32,1,39,1],[4,5,4,6],[4,7,4,8],[20,10,26,12],[17,17,17,19],[39,12,39,13],[39,14,39,15],[39,16,39,17],[53,1,53,3],[53,9,53,12],[53,5,53,8],[43,1,43,12],[44,5,44,8],[46,5,46,8],[47,5,47,8],[48,5,48,8],[49,5,49,8],[50,5,50,8],[51,5,51,8],[45,1,45,4],[45,5,45,8],[45,9,45,12],[47,1,47,4],[44,1,44,4],[46,1,46,4],[48,1,48,4],[49,1,49,4],[50,1,50,4],[51,1,51,4],[47,9,47,12],[46,9,46,12],[41,11,41,12],[50,9,50,12],[51,9,51,12],[44,9,44,12],[48,9,48,12],[49,9,49,12],[10,1,16,1],[10,2,16,9],[11,10,16,12],[32,2,32,16],[28,2,28,10],[28,11,28,19],[30,2,30,13],[30,14,30,16],[35,12,35,25],[30,18,30,29],[39,18,39,19],[39,20,39,21],[39,22,39,23],[39,24,39,25],[37,2,37,25],[35,2,35,8],[39,6,39,7],[13,22,15,31]]}
[]
[null,{"$f":"'1 フローチャート'!B2","v":"設備更新等によるCO2削減効果の算定ツール （空気圧縮機（コンプレッサー）の高効率化）　"},null,null,null,null,null,null,null,null,null,null,null,null,null,null,null,null,null,null,null,null,null,null,null,{"$f":"'1 フローチャート'!N2","v":"Ver. 1.11"}]
[]
[null,"step\n1","既存設備の1日の稼働時間及び毎月の稼働日数を入力してください"]
[null,null,"月",4,null,5,null,6,null,7,null,8,null,9,null,10,null,11,null,12,null,1,null,2,null,3,null,null,"セルの説明"]
[null,null,"稼働時間","時間","分","時間","分","時間","分","時間","分","時間","分","時間","分","時間","分","時間","分","時間","分","時間","分","時間","分","時間","分",null,null,"プルダウンから選択してください"]
[null,null,null,null,null,null,null,null,null,null,null,null,null,null,null,null,null,null,null,null,null,null,null,null,null,null,null,null,null,"数値を入力してください"]
[null,null,"稼働日数",null,null,null,null,null,null,null,null,null,null,null,null,null,null,null,null,null,null,null,null,null,null,null,null,null,null,"自動で表示されます（入力不可）"]
[null,null,"使用しているいずれかの周波数を選択してください"]
[]
[null,"step\n2","既存設備の定格性能および使用条件を\n選択または入力してください",null,null,null,null,null,null,null,"容量制御方式"]
[null,null,null,null,null,null,null,null,null,null,"定格性能",null,null,"定格風量",null,null,null,null,null,null,"ｍ3/min"]
[null,null,null,null,null,null,null,null,null,null,null,null,null,"定格出力",null,null,null,null,null,null,"kW"]
[null,null,null,null,null,null,null,null,null,null,null,null,null,"定格消費電力",null,null,null,{"$f":"IFERROR('3　計算シート'!E10,\"\")","v":""},null,null,"kW",null,"*1)定格消費電力がわかる場合は、値を入力して下さい。\n不明の場合は、定格出力を定格モーター効率で除して求めるので、定格モーター効率を入力して下さい"]
[null,null,null,null,null,null,null,null,null,null,null,null,null,"定格消費電力（入力）*1",null,null,null,null,null,null,"kW"]
[null,null,null,null,null,null,null,null,null,null,null,null,null,"定格モーター効率",null,null,null,{"$f":"IFERROR('3　計算シート'!E11,\"\")","v":""},null,null,"％"]
[null,null,null,null,null,null,null,null,null,null,null,null,null,"定格モーター効率(入力)*2",null,null,null,null,null,null,"％",null,"*2)定格モーター効率がわかる場合は、値を入力して下さい。\n不明な場合は、IE1クラスの効率を使用します。"]
[null,null,null,null,null,null,null,null,null,null,null,null,null,"レシーバータンク容量",null,null,null,null,null,null,"m3"]
[null,null,null,null,null,null,null,null,null,null,null,null,null,null,"　　"]
[null,"step\n3","導入設備の定格性能および使用条件を\n選択または入力してください",null,null,null,null,null,null,null,"容量制御方式"]
[null,null,null,null,null,null,null,null,null,null,"定格性能",null,null,"定格風量",null,null,null,null,null,null,"ｍ3/min"]
[null,null,null,null,null,null,null,null,null,null,null,null,null,"定格出力",null,null,null,null,null,null,"kW",null,"*1)定格消費電力がわかる場合は、値を入力して下さい。\n不明の場合は、定格出力を定格モーター効率で除して求めるので、定格モーター効率を入力して下さい"]
[null,null,null,null,null,null,null,null,null,null,null,null,null,"定格消費電力",null,null,null,{"$f":"IFERROR('3　計算シート'!E15,\"\")","v":""},null,null,"kW"]
[null,null,null,null,null,null,null,null,null,null,null,null,null,"定格消費電力（入力）*1",null,null,null,null,null,null,"kW"]
[null,null,null,null,null,null,null,null,null,null,null,null,null,"定格モーター効率",null,null,null,{"$f":"IFERROR('3　計算シート'!E16,\"\")","v":""},null,null,"％",null,"*3)定格モーター効率がわかる場合は、値を入力して下さい。\n不明な場合は、IE3クラスの効率を使用します。"]
[null,null,null,null,null,null,null,null,null,null,null,null,null,"定格モーター効率(入力)*3",null,null,null,null,null,null,"％"]
[null,null,null,null,null,null,null,null,null,null,null,null,null,"レシーバータンク容量*4",null,null,null,null,null,null,"m3",null,"*4)容量制御方式がロードアンロード(給油式)の場合は、レシーバタンク容量の値を必ず入力して下さい。"]
[]
[null,"step\n4","既存設備の電力量算定方法を選択してください"]
[]
[null,"step\n5","常設電力量計の1年間の積算電力量を入力してください[kWh/年]",null,null,null,null,null,null,null,null,null,null,null,null,null,null,null,"※消費電力比が100%を超えています。\n既存機の定格消費電力または積算電力量ご確認の上、入力を修正してください"]
[]
[null,"step\n6","計測した電力量（7日以上）を入力してください[kWh/日]"]
[]
[]
[null,null,"基準となる月を入力してください",null,null,null,null,null,null,null,"月",null,"※消費電力比が100%を超えています\n既存機の定格消費電力または計測した電力量をご確認の上、入力を修正してください"]
[]
[null,null,"生産量（単位は、任意の数量、質量、金額等）を数値のみ入力してください"]
[null,null,4,null,5,null,6,null,7,null,8,null,9,null,10,null,11,null,12,null,1,null,2,null,3]
[]
[]
[null,"step\n7","基準年度の電力単価を入力してください[円/kWh]"]
[]
[null,"効果の算定結果"]
[null,"項    目",null,null,null,"既存設備",null,null,null,"導入設備"]
[null,"容量制御方式",null,null,null,{"$f":"N11","v":0},null,null,null,{"$f":"N20","v":0}]
[null,"定格風量\n[m3/min]",null,null,null,{"$f":"IF('3　計算シート'!E8=0,\"\",'3　計算シート'!E8)","v":""},null,null,null,{"$f":"IF('3　計算シート'!E13=0,\"\",'3　計算シート'!E13)","v":""}]
[null,"モーター定格出力\n(公称出力)　[kW]",null,null,null,{"$f":"IF('3　計算シート'!E9=0,\"\",'3　計算シート'!E9)","v":""},null,null,null,{"$f":"IF('3　計算シート'!E14=0,\"\",'3　計算シート'!E14)","v":""}]
[null,"年間使用電力量\n[kWh/年]",null,null,null,{"$f":"IFERROR('3　計算シート'!M21,\"\")","v":""},null,null,null,{"$f":"IFERROR('3　計算シート'!J40,\"\")","v":""}]
[null,"CO2排出量\n[t-CO2/年]",null,null,null,{"$f":"IFERROR('3　計算シート'!J12,\"\")","v":""},null,null,null,{"$f":"IFERROR('3　計算シート'!J13,\"\")","v":""}]
[null,"CO2削減量\n[t-CO2/年]",null,null,null,null,null,null,null,{"$f":"IFERROR('3　計算シート'!J14,\"\")","v":""}]
[null,"電気料金\n[千円/年]",null,null,null,{"$f":"IFERROR('3　計算シート'!J15,\"\")","v":""},null,null,null,{"$f":"IFERROR('3　計算シート'!J16,\"\")","v":""}]
[]
[null,"CO2排出係数\n(標準環境状態)",null,null,"電気",{"$f":"'3　計算シート'!K11","v":0.438},null,null,null,"t-CO2/千kWh"]

{"sheet":"3　計算シート","index":3,"n_rows":95,"n_cols":22,"rows_kept":95,"cut":false,"hidden":true,"merged":[[48,4,49,4],[50,0,52,0],[50,1,52,1],[50,2,52,2],[59,3,60,3],[63,0,65,0],[63,1,65,1],[63,2,65,2],[37,2,47,2],[38,3,39,3],[48,3,49,3],[37,0,47,0],[37,1,47,1],[53,0,62,0],[53,1,62,1],[53,2,62,2],[12,0,16,0],[18,0,26,0],[25,15,25,16],[31,13,31,14],[29,0,30,0],[7,0,11,0],[7,5,7,6],[7,10,7,11],[8,10,8,12],[9,10,9,11],[10,10,10,12],[85,5,86,6],[2,17,2,20],[2,21,2,24],[1,14,1,16],[1,17,1,20],[1,21,1,24],[2,14,2,16],[4,14,4,15]]}
[true]
["月","4月","5月","6月","7月","8月","9月","10月","11月","12月","1月","2月","3月",null,"エネルギー使用量（GJ/年）",null,null,{"$f":"IFERROR('3　計算シート'!J9,\"\")","v":""},null,null,null,{"$f":"IFERROR('3　計算シート'!J10,\"\")","v":""}]
["時",{"$f":"'2 算定シート'!D7","v":0},{"$f":"'2 算定シート'!F7","v":0},{"$f":"'2 算定シート'!H7","v":0},{"$f":"'2 算定シート'!J7","v":0},{"$f":"'2 算定シート'!L7","v":0},{"$f":"'2 算定シート'!N7","v":0},{"$f":"'2 算定シート'!P7","v":0},{"$f":"'2 算定シート'!R7","v":0},{"$f":"'2 算定シート'!T7","v":0},{"$f":"'2 算定シート'!V7","v":0},{"$f":"'2 算定シート'!X7","v":0},{"$f":"'2 算定シート'!Z7","v":0},null,"エネルギー削減量（GJ/年）",null,null,null,null,null,null,{"$f":"IFERROR('3　計算シート'!J11,\"\")","v":""}]
["分",{"$f":"'2 算定シート'!E7","v":0},{"$f":"'2 算定シート'!G7","v":0},{"$f":"'2 算定シート'!I7","v":0},{"$f":"'2 算定シート'!K7","v":0},{"$f":"'2 算定シート'!M7","v":0},{"$f":"'2 算定シート'!O7","v":0},{"$f":"'2 算定シート'!Q7","v":0},{"$f":"'2 算定シート'!S7","v":0},{"$f":"'2 算定シート'!U7","v":0},{"$f":"'2 算定シート'!W7","v":0},{"$f":"'2 算定シート'!Y7","v":0},{"$f":"'2 算定シート'!AA7","v":0}]
["稼働時間/日",{"$f":"(B3*60+B4)/60","v":0},0,0,0,0,0,0,0,0,0,0,0,"合計"]
["稼働日数",{"$f":"'2 算定シート'!D8","v":0},{"$f":"'2 算定シート'!F8","v":0},{"$f":"'2 算定シート'!H8","v":0},{"$f":"'2 算定シート'!J8","v":0},{"$f":"'2 算定シート'!L8","v":0},{"$f":"'2 算定シート'!N8","v":0},{"$f":"'2 算定シート'!P8","v":0},{"$f":"'2 算定シート'!R8","v":0},{"$f":"'2 算定シート'!T8","v":0},{"$f":"'2 算定シート'!V8","v":0},{"$f":"'2 算定シート'!X8","v":0},{"$f":"'2 算定シート'!Z8","v":0},{"$f":"SUM(B6:M6)","v":0},"日/年"]
["稼働時間/月",{"$f":"B5*B6","v":0},0,0,0,0,0,0,0,0,0,0,0,{"$f":"SUM(B7:M7)","v":0},"h/年"]
["既存設備","定格風量","ｍ3/min","Qo1",{"$f":"'2 算定シート'!R12","v":0},"電気料金単価",null,"千円/kWh",null,{"$f":"'2 算定シート'!L42","v":0},"電力の単位発熱量",null,"GJ/千kWh"]
[null,"定格出力","kW",null,{"$f":"'2 算定シート'!R13","v":0},"エネルギー使用量（既存）",null,"GJ/年","PE1",{"$f":"$M$21*($K$9/1000)","v":{"$error":"#N/A"}},8.64]
[null,"定格消費電力","kW","P1R",{"$f":"モーター効率!J3","v":{"$error":"#N/A"}},"エネルギー使用量（導入）",null,"GJ/年","PE2",{"$f":"$J$40*($K$9/1000)","v":{"$error":"#N/A"}},"電力のCO2排出係数",null,"t-CO2/千kWh"]
[null,"定格モーター効率","％",null,{"$f":"モーター効率!I3","v":{"$error":"#N/A"}},"エネルギー削減量",null,"GJ/年","△PE",{"$f":"J9-J10","v":{"$error":"#N/A"}},0.438]
[null,"レシーバータンク容量","m3","Vr1",{"$f":"'2 算定シート'!R18","v":0},"CO2排出量（既存）",null,"t-CO2/年","C1",{"$f":"M21*($K$11/1000)","v":{"$error":"#N/A"}}]
["導入設備","定格風量","ｍ3/min","Qo2",{"$f":"'2 算定シート'!R21","v":0},"CO2排出量（導入）",null,"t-CO2/年","C2",{"$f":"J40*($K$11/1000)","v":{"$error":"#N/A"}}]
[null,"定格出力","kW",null,{"$f":"'2 算定シート'!R22","v":0},"CO2排出削減量",null,"t-CO2/年","△C",{"$f":"J12-J13","v":{"$error":"#N/A"}}]
[null,"定格消費電力","kW","P2R",{"$f":"モーター効率!J4","v":{"$error":"#N/A"}},"電気料金（既存）",null,"千円/年",null,{"$f":"(M21/1000)*$J$8","v":{"$error":"#N/A"}}]
[null,"定格モーター効率","％",null,{"$f":"モーター効率!I4","v":{"$error":"#N/A"}},"電気料金（導入）",null,"千円/年",null,{"$f":"(J40/1000)*$J$8","v":{"$error":"#N/A"}}]
[null,"レシーバータンク容量","m3","Vr2",{"$f":"'2 算定シート'!R27","v":0}]
[]
["②電力量実測値より「E1」算出","Ps",{"$f":"'2 算定シート'!J36","v":0}]
[null,"n",{"$f":"COUNTA('2 算定シート'!C34:Q34)","v":0},null,null,null,null,null,null,"①E1",{"$f":"IF('2 算定シート'!$L$29=\"①専用の常設電力量計により算出\",TRUE,FALSE)","v":false},{"$f":"'2 算定シート'!$O$31","v":0}]
[null,"Ek",{"$f":"SUM('2 算定シート'!$C$34:$Q$34)","v":0},null,null,null,null,null,"①専用の常設電力量計により算出","②E1",{"$f":"IF('2 算定シート'!$L$29=\"②一日当たりの電力量を一定（7日-15日程度）　　の日数平均値により算出\",TRUE,FALSE)","v":false},{"$f":"$P$27","v":{"$error":"#DIV/0!"}},{"$f":"INDEX(L20:L22, MATCH($A$1, K20:K21, 0))","v":{"$error":"#N/A"}},"kWh/年"]
[null,"E1av",{"$f":"$C$21/$C$20","v":{"$error":"#DIV/0!"}},null,null,null,null,null,"②一日当たりの電力量を一定（7日-15日程度）　　の日数平均値により算出"]
[null,"Ns",{"$f":"INDEX(B6:M6, MATCH(C19,D24:O24, 0))","v":{"$error":"#N/A"}}]
[null,"Ps",{"$f":"INDEX(D25:O25, MATCH(C19,D24:O24, 0))","v":{"$error":"#N/A"}},4,5,6,7,8,9,10,11,12,1,2,3]
[null,"生産量/月","Pm",{"$f":"'2 算定シート'!C40","v":0},{"$f":"'2 算定シート'!E40","v":0},{"$f":"'2 算定シート'!G40","v":0},{"$f":"'2 算定シート'!I40","v":0},{"$f":"'2 算定シート'!K40","v":0},{"$f":"'2 算定シート'!M40","v":0},{"$f":"'2 算定シート'!O40","v":0},{"$f":"'2 算定シート'!Q40","v":0},{"$f":"'2 算定シート'!S40","v":0},{"$f":"'2 算定シート'!U40","v":0},{"$f":"'2 算定シート'!W40","v":0},{"$f":"'2 算定シート'!Y40","v":0}]
[null,"稼働変動率","Rm",{"$f":"(D25/$C$24)*($C$23/B6)","v":{"$error":"#N/A"}},{"$f":"(E25/$C$24)*($C$23/C6)","v":{"$error":"#N/A"}},{"$error":"#N/A"},{"$error":"#N/A"},{"$error":"#N/A"},{"$error":"#N/A"},{"$error":"#N/A"},{"$error":"#N/A"},{"$error":"#N/A"},{"$error":"#N/A"},{"$error":"#N/A"},{"$error":"#N/A"},"既設機電力量　②E1"]
[null,"電力使用量　kWh/月","Em",{"$f":"$C$22*(D26)*B6","v":{"$error":"#DIV/0!"}},{"$error":"#DIV/0!"},{"$error":"#DIV/0!"},{"$error":"#DIV/0!"},{"$error":"#DIV/0!"},{"$error":"#DIV/0!"},{"$error":"#DIV/0!"},{"$error":"#DIV/0!"},{"$error":"#DIV/0!"},{"$error":"#DIV/0!"},{"$error":"#DIV/0!"},{"$error":"#DIV/0!"},{"$f":"SUM(D27:O27)","v":{"$error":"#DIV/0!"}},"kWh/年"]
[]
[]
["既存設備","平均電力","P1av",{"$f":"M21/N7","v":{"$error":"#N/A"}},"kW"]
[null,"消費電力比","k1av",{"$f":"D30/E10","v":{"$error":"#N/A"}},"1以上はNG"]
[null,null,null,null,null,null,null,null,null,null,null,null,null,"セルの説明"]
["吸込み絞りプラスパージ_減圧","ロードアンロード_給油式","ロードアンロード_オイルフリー","インバータ",null,null,null,null,null,null,null,null,null,"チェックボックスを選択してください"]
["ロードアンロード_給油式","ロードアンロード_給油式","ロードアンロード_オイルフリー","インバータ",{"$f":"'2 算定シート'!N11","v":0},null,"①E2",{"$f":"AND(E34=B38,E35=C38)","v":false},{"$f":"E48","v":{"$error":"#DIV/0!"}},null,null,null,null,"数値を入力してください"]
["インバータ","インバータ","インバータ","インバータ",{"$f":"'2 算定シート'!N20","v":0},null,"②E2",{"$f":"AND(E34=B49,E35=C49)","v":false},{"$f":"E49","v":{"$error":"#DIV/0!"}},null,null,null,null,"自動で表示されます(入力不可です)"]
[null,null,null,null,null,null,"③E2",{"$f":"AND(E34=B50,E35=C50)","v":false},{"$f":"E49","v":{"$error":"#DIV/0!"}}]
[null,"既存","導入",null,null,null,"④E2",{"$f":"AND(E34=B51,E35=C51)","v":false},{"$f":"E53","v":{"$error":"#DIV/0!"}}]
["①","吸込み絞りプラスパージ_減圧","ロードアンロード_給油式","R2",{"$f":"E17/E13","v":{"$error":"#DIV/0!"}},null,"⑤E2",{"$f":"AND(E34=B54,E35,C54)","v":false},{"$f":"E63","v":{"$error":"#DIV/0!"}}]
[null,null,null,"q1",{"$f":"IF($D$31>=0.82,(($D$31-0.7)/0.3),(($D$31-0.25)/1.425))","v":{"$error":"#N/A"}},null,"⑥E2",{"$f":"AND(E34=B64,E35=C64)","v":false},{"$f":"E66","v":{"$error":"#DIV/0!"}}]
[null,null,null,null,{"$f":"IF(D31<=0.25,0,E39)","v":{"$error":"#N/A"}},null,"⑦E2",{"$f":"AND(E34=B67,E35=C67)","v":false},{"$f":"E67","v":{"$error":"#DIV/0!"}},{"$f":"INDEX(I34:I40, MATCH($A$1, H34:H40, 0))","v":{"$error":"#N/A"}}]
[null,null,null,"q2",{"$f":"(E8/E13)*E40","v":{"$error":"#DIV/0!"}}]
[null,null,null,"k2=R2≦0.1",{"$f":"IF(E38<=0.1,(-3.0182*E41^4+8.1758*E41^3-7.6712*E41^2+3.2741*E41+0.25),\"\")","v":{"$error":"#DIV/0!"}}]
[null,null,null,"k2=0.1<R2≦0.2",{"$f":"IF(AND(0.1<E38,E38<=0.2),(1.0354*E41^3-2.2037*E41^2+1.9215*E41+0.25),\"\")","v":{"$error":"#DIV/0!"}}]
[null,null,null,"k2=0.2<R2≦0.3",{"$f":"IF(AND(0.2<E38,E38<=0.3),(0.4467*E41^3-1.1898*E41^2+1.4953*E41+0.25),\"\")","v":{"$error":"#DIV/0!"}}]
[null,null,null,"k2=0.3<R2≦0.4",{"$f":"IF(AND(0.3<E38,E38<=0.4),(-0.3834*E41^2+1.1254*E41+0.25),\"\")","v":{"$error":"#DIV/0!"}}]
[null,null,null,"k2=0.4<R2",{"$f":"IF(0.4<E38,-0.2884*E41^2+1.0304*E41+0.25,\"\")","v":{"$error":"#DIV/0!"}}]
[null,null,null,"k2",{"$f":"N72","v":{"$error":"#DIV/0!"}},"近似式を止め、公式使用に変更(下B.導入機)"]
[null,null,null,"E2",{"$f":"E47*E15*N7","v":{"$error":"#DIV/0!"}}]
["②","ロードアンロード_給油式","ロードアンロード_給油式","E2",{"$f":"($E$8/$E$13)*$M$21","v":{"$error":"#DIV/0!"}}]
["③","ロードアンロード_オイルフリー","ロードアンロード_オイルフリー"]
["④","吸込み絞りプラスパージ_減圧","インバータ","q1",{"$f":"E40","v":{"$error":"#N/A"}}]
[null,null,null,"q2(=k2)",{"$f":"E41","v":{"$error":"#DIV/0!"}}]
[null,null,null,"E2",{"$f":"E52*E15*N7","v":{"$error":"#DIV/0!"}}]
["⑤","ロードアンロード_給油式","インバータ","R1",{"$f":"E12/E8","v":{"$error":"#DIV/0!"}}]
[null,null,null,"q1=R1≦0.1",{"$f":"IF(E54<=0.1,(-18.089*D31^4+45.9*D31^3-38.664*D31^2+13.467*D31-1.6064),\"\")","v":{"$error":"#DIV/0!"}}]
[null,null,null,"q1=0.1<R1≦0.2",{"$f":"IF(AND(0.1<E54,E54<=0.2),(0.9915*D31^3-0.25*D31^2+0.3569*D31-0.0849),\"\")","v":{"$error":"#DIV/0!"}}]
[null,null,null,"q1=0.2<R1≦0.3",{"$f":"IF(AND(0.2<E54,E54<=0.3),(1.1365*D31^3-0.8888*D31^2+0.9606*D31-0.2001),\"\")","v":{"$error":"#DIV/0!"}}]
[null,null,null,"q1=0.3<R1≦0.4",{"$f":"IF(AND(0.3<E54,E54<=0.4),(0.9164*D31^2+0.1774*D31-0.0981),\"\")","v":{"$error":"#DIV/0!"}}]
[null,null,null,"q1=0.4<R1",{"$f":"IF(0.4<E54,0.6953*D31^2+0.4647*D31-0.1588,\"\")","v":{"$error":"#DIV/0!"}}]
[null,null,null,"q1",{"$f":"SUM(E55:E59)","v":{"$error":"#DIV/0!"}}]
[null,null,null,null,{"$f":"IF(C88<0,0,C88)","v":{"$error":"#DIV/0!"}},"近似式を止め、公式使用に変更(下A.既存機)"]
[null,null,null,"q2(=k2)",{"$f":"(E8/E13)*E61","v":{"$error":"#DIV/0!"}}]
[null,null,null,"E2",{"$f":"E62*E15*N7","v":{"$error":"#DIV/0!"}}]
["⑥","ロードアンロード_オイルフリー","インバータ","q1",{"$f":"IF(D31<=0.25,0,((D31-0.25)/0.75))","v":{"$error":"#N/A"}}]
[null,null,null,"q2",{"$f":"(E8/E13)*E64","v":{"$error":"#DIV/0!"}}]
[null,null,null,"E2",{"$f":"E65*E15*N7","v":{"$error":"#DIV/0!"}}]
["⑦","インバータ","インバータ","E2",{"$f":"($E$8/$E$13)*$M$21","v":{"$error":"#DIV/0!"}}]
[]
["A.既存機",null,null,null,null,null,null,null,"B.導入機"]
["給油式スクリュー","tc＞＝tR　の場合",null,null,null,null,null,null,"給油式スクリュー","tc＞＝tR　の場合"]
[null,"①　　κ1＝（96×to+62.5×tr+25×(tc－tR)）/（100×(to+tc）)",null,null,null,null,null,null,null,"　　κ2＝（96×to+62.5×tr+25×(tc－tR)）/（100×(to+tc）)"]
[null,null,{"$f":"(96*C77+62.5*C80+25*(C79-C80))/(100*(C77+C79))","v":{"$error":"#DIV/0!"}},"入力",null,null,null,null,null,null,{"$f":"(96*K77+62.5*K80+25*(K79-K80))/(100*(K77+K79))","v":{"$error":"#DIV/0!"}},"答","　　κ2＝",{"$f":"IF(K79<K80,K75,K72)","v":{"$error":"#DIV/0!"}}]
[null,"tc＜tR　の場合",null,null,null,null,null,null,null,"tc＜tR　の場合"]
[null,"②　　κ1＝（96×to+62.5×tc）/（100×(to+tc）)",null,null,null,null,null,null,null,"　　κ2＝（96×to+62.5×tc）/（100×(to+tc）)"]
[null,null,{"$f":"(96*C77+62.5*C79)/(100*(C77+C79))","v":{"$error":"#DIV/0!"}},"入力",null,null,null,null,null,null,{"$f":"(96*K77+62.5*K79)/(100*(K77+K79))","v":{"$error":"#DIV/0!"}},"答"]
[null,"to ＝ （ΔP×Vr×60）/(（Q -Qu）×Po)",null,null,null,null,null,null,null,"to ＝ （ΔP×Vr×60）/(（Q -Qu）×Po)"]
[null,"to ＝ ",{"$f":"(C81*C82*60)/((C83-C86)*C84)","v":0},null,null,null,null,null,null,"to ＝ ",{"$f":"(K81*K82*60)/((K83-K86)*K84)","v":{"$error":"#DIV/0!"}}]
[null,"tc ＝ ","(ΔP×Vr×60)/(Qu×Po)",null,null,null,null,null,null,"tc ＝ ","(ΔP×Vr×60)/(Qu×Po)"]
[null,"tc ＝ ",{"$f":"(C81*C82*60)/(C86*C84)","v":0},null,null,null,null,null,null,"tc ＝ ",{"$f":"(K81*K82*60)/(K86*K84)","v":{"$error":"#DIV/0!"}}]
[null,"tr ＝",30,"sec",null,null,null,null,null,"tr ＝",30,"sec"]
[null,"ΔP＝",0.1,"Mpa",null,null,null,null,null,"ΔP＝",0.1,"Mpa"]
[null,"Vr1 ＝",{"$f":"$E$12","v":0},"m3",null,null,null,null,null,"Vr2 ＝",{"$f":"$E$17","v":0},"m3"]
[null,"Qo1＝",{"$f":"$E$8","v":0},"m3/min",null,null,null,null,null,"Qo2＝",{"$f":"$E$13","v":0},"m3/min"]
[null,"Po＝",0.1013,"MPa",null,null,null,null,null,"Po＝",0.1013,"MPa"]
[null,"R1＝",{"$f":"C82/C83","v":{"$error":"#DIV/0!"}},null,"↓ゴールシークを使用",null,null,null,null,"R2＝",{"$f":"K82/K83","v":{"$error":"#DIV/0!"}}]
[null,"Qu1 ＝",6.3404909686843407,"m3/min","答","tc,tRを比較して①、②を選択",null,null,null,"Qu2 ＝",{"$f":"K88*K83","v":{"$error":"#DIV/0!"}},"m3/min","変数"]
[null,"q1＝Qu1/Qo1",null,null,null,null,null,null,null,"Qu2=q2×Qo2"]
[null,"q1＝",{"$f":"C86/C83","v":{"$error":"#DIV/0!"}},null,null,null,null,null,null,"q2＝",{"$f":"E41","v":{"$error":"#DIV/0!"}}]
[]
[null,"マクロエラーチェック"]
[null,{"$f":"IFERROR(D31,0)","v":0}]
[null,{"$f":"IFERROR(C72,0)","v":0}]
[null,{"$f":"IFERROR(C75,0)","v":0}]
[null,{"$f":"IFERROR(C79,0)","v":0}]
[null,{"$f":"IF(OR(B91=0,B92=0,B93=0,B94=0),0,1)","v":0}]

{"sheet":"4　手順と記号の説明","index":4,"n_rows":64,"n_cols":9,"rows_kept":64,"cut":false,"hidden":true,"merged":[[47,2,47,3],[48,2,48,3],[49,2,49,3],[50,2,50,3],[51,2,51,3],[35,2,35,3],[36,2,36,3],[37,2,37,3],[38,2,38,3],[46,2,46,3],[39,2,39,3],[40,2,40,3],[41,2,41,3],[42,2,42,3],[43,2,43,3],[44,2,44,3],[45,2,45,3],[8,2,12,2],[17,2,17,3],[13,2,16,2],[19,2,29,2],[30,2,34,2],[3,2,3,3],[4,2,4,3],[5,2,5,3],[6,2,6,3],[7,2,7,3]]}
[]
[null,"計算手順及び方法"]
[null,null,"手順等",null,"記号","シート番号","計算式","単位","備考"]
[null,1,"既設機はスクリュー圧縮機か",null,null,1,null,null,"NOの場合ツール使用不可"]
[null,2,"既設機の容量制御は吸込み絞り＋パージまたはロードアンロードか",null,null,1,null,null,"NOの場合ツール使用不可"]
[null,3,"導入予定機はインバーター式またはロードアンロードか",null,null,1,null,null,"NOの場合ツール使用不可"]
[null,4,"各月の設備稼働時間を入力",null,null,2,null,"時分/月"]
[null,5,"各月の設備稼働時間を数値に算出",null,null,4,"（各月の時間×60+各月の分）÷60"]
[null,6,"既存設備の定格性能を入力","定格風量","Q1",2,null,"ｍ3/min"]
[null,7,null,"定格圧力",null,2,null,"MPa-G"]
[null,8,null,"使用圧力",null,2,null,"MPa-G"]
[null,9,null,"定格出力",null,2,null,"kW"]
[null,10,null,"定格消費電力","P1R",2,null,"kW"]
[null,11,"導入設備の定格性能を入力","定格風量","Q2",2,null,"ｍ3/min"]
[null,12,null,"定格圧力",null,2,null,"MPa-G"]
[null,13,null,"定格出力",null,2,null,"kW"]
[null,14,null,"定格消費電力","P2R",2,null,"kW"]
[null,15,"既設機電力量の求め方を①②③から選択",null,null,2,null,null,"チェックボックスで選択肢以外はグレーアウト\n①専用の常設電力量計により算出\n②一日当たりの電力量を一定（7日-15日程度）の日数平均値により算出\n③風量比から算出※風量計測値を把握できている場合"]
[null,16,"①専用の常設電力量計から算出","電力量計の年間の積算電力量入力","①E1",2,null,"kWh/年"]
[null,17,"②一日当たりの電力量を一定（7日-15日程度）の日数平均値により算出","日毎の「計測電力量」入力","ek",2,null,"kWh/日","最低必要日数７日（入力は15日分まで可能）"]
[null,18,null,"計測した合計日数算出","n",4,"COUNTA（計測電力量の入力数）","日"]
[null,19,null,"計測電力量合計を算出","Se",4,"SUM（入力された計測電力量の数値）","kWh"]
[null,20,null,"平均値算出","E1av",4,"Se÷n","kWh/日"]
[null,21,null,"基準月入力","Ps",2,null,"月"]
[null,22,null,"各月の生産量入力","Pm",2,null,"任意"]
[null,23,null,"各月の稼働日数入力","Nm",2,null,"日"]
[null,24,null,"基準月の生産量抽出","Pds",4,"INDEX（各月の生産量, MATCH（入力された基準月, 4月から3月の間, 0））","任意"]
[null,25,null,"各月の稼働率算出","Rm",4,"（Pm÷Ps）×（Ns÷Nm）","パーセント"]
[null,26,null,"各月の電力量算出","Em",4,"E1av×Rm×Nm","kWh/月"]
[null,27,null,"各月の電力量合計","②E1",4,"SUM（各月のEm）","kWh/年"]
[null,28,"③風量計測値を把握している場合に風量比から算出","各月の計測風量を入力","V1m",2,null,"m3/月"]
[null,29,null,"各月の風量比算出","q1m",4,"V1m÷（V1R×60×tm）×100","パーセント"]
[null,30,null,"各月の消費電力比算出","k1m",4,"IF（（q1m>=40）,（0.3×q1m+70）,（1.55×q1m+20））","パーセント","※1　各月のq1mが40％以上は「0.3×風量比+70」\n※2　各月のq1mが40％未満は「1.55×風量比+20」"]
[null,31,null,"各月の電力使用量算出","Em",4,"k1m÷100×P1R×tm","kWh/月"]
[null,32,null,"各月の電力量合計","③E1",4,"SUM（各月のEm）","kWh/年"]
[null,33,"既存設備の年間電力使用量算出",null,"E1",4,"INDEX(①②③それぞれの算出数値, MATCH(「TRUE」, ①②③のチェックボックスオンオフ, 0))","kWh/年","「15」で選択したチェックボックスによって抽出"]
[null,34,"基準年度の電力単価を入力",null,null,2,null,"円/kWh"]
[null,35,"既存導入設備の平均電力を算出",null,"P1av",4,"E1÷t","kW"]
[null,36,"既存導入設備の消費電力比を算出",null,"k1av",4,"P1av÷P1R"]
[null,37,"既存設備の風量比を算出",null,"q1",4,"IF（k1av>=0.82,（（k1av-0.7）÷0.3）,（（k1av-0.2）÷1.55））",null,"※1　消費電力比が82％以上は「消費電力比-70）÷0.3」\n※2　消費電力比が82％未満は「（消費電力比-20）÷1.55」"]
[null,38,"導入設備の風量比を算出",null,"q2",4,"Q1÷Q2×q1"]
[null,39,"導入設備の年間電力量を算出",null,"E2",4,"k2×P2R×t","kWh/年"]
[null,40,"電力の単位発熱量",null,"H",4,null,"GJ/千kWh","固定値「8.64」"]
[null,41,"電力のCO2排出係数",null,"α",4,null,"t-CO2/千kWh","固定値「0.438」"]
[null,42,"既存設備のエネルギー使用量を算出",null,"PE1",4,"E1×H","GJ/年"]
[null,43,"導入設備のエネルギー使用量を算出",null,"PE2",4,"E2×H","GJ/年"]
[null,44,"エネルギー削減量を算出",null,"△PE",4,"PE1-PE2","GJ/年"]
[null,45,"既存設備のCO2排出量を算出",null,"C1",4,"E1×α","t-CO2/年"]
[null,46,"導入設備のCO2排出量を算出",null,"C2",4,"E2×α","t-CO2/年"]
[null,47,"CO2排出削減量",null,"△C",4,"E1-E2","t-CO2/年"]
[null,48,"既存設備の電気料金を算出",null,null,4,"E1×電力単価","千円/年"]
[null,49,"導入設備の電気料金を算出",null,null,4,"E2×電力単価","千円/年"]
[null,50]
[null,51]
[null,52]
[null,53]
[null,54]
[null,55]
[null,56]
[null,57]
[null,58]
[null,59]
[null,60]
[null,61]

{"sheet":"モーター効率","index":5,"n_rows":52,"n_cols":12,"rows_kept":52,"cut":false,"hidden":true,"merged":[]}
[null,null,null,"定格",null,null,"定格",null,"効率","消費電力"]
[{"$f":"'2 算定シート'!R9","v":0},{"$f":"IF(A2=TRUE,\"50\",\"\")","v":""},null,"出力","効率",null,"消費電力",null,"入力値","入力値","優先"]
[null,{"$f":"IF(A3=TRUE,\"60\",\"\")","v":""},null,{"$f":"'2 算定シート'!R13","v":0},{"$f":"INDEX(E13:E52, MATCH(1, (B13:B52=C4)*(D13:D52>D3),0))","v":{"$error":"#N/A"}},null,{"$f":"D3/(I3/100)","v":{"$error":"#N/A"}},null,{"$f":"IF('2 算定シート'!R17=\"\",E3,'2 算定シート'!R17)","v":{"$error":"#N/A"}},{"$f":"IF('2 算定シート'!R15=\"\",G3,'2 算定シート'!R15)","v":{"$error":"#N/A"}},null,"既存"]
[null,null,{"$f":"IF(A2=60,\"●\",\"○\")","v":"○"},{"$f":"'2 算定シート'!R22","v":0},{"$f":"INDEX(J13:J48, MATCH(1, (G13:G52=$C$4)*(I13:I52>D4),0))","v":{"$error":"#N/A"}},null,{"$f":"D4/(I4/100)","v":{"$error":"#N/A"}},null,{"$f":"IF('2 算定シート'!R26=\"\",E4,'2 算定シート'!R26)","v":{"$error":"#N/A"}},{"$f":"IF('2 算定シート'!R24=\"\",G4,'2 算定シート'!R24)","v":{"$error":"#N/A"}},null,"導入"]
[null,null,"●","60Hz"]
[null,null,"○","50Hz"]
[]
[]
[]
[null,null,"既存機",null,null,null,null,"導入機"]
[null,"周波数\n[Hz]","定格出力範囲",null,"モーター効率",null,"周波数\n[Hz]","定格出力範囲",null,"モーター効率"]
[null,null,"kW以上","kW未満","IE1[%]",null,null,"kW以上","kW未満","IE3[%]"]
[null,{"$f":"IF($D$3=0,\"\",\"○\")","v":""},0,1.1000000000000001,72.099999999999994,null,{"$f":"IF($D$4=0,\"\",\"●\")","v":""},0,0.92500000000000004,85.5]
[null,{"$f":"IF($D$3=0,\"\",\"○\")","v":""},1.1000000000000001,1.5,75,null,{"$f":"IF($D$4=0,\"\",\"○\")","v":""},0,1.1000000000000001,82.5]
[null,{"$f":"IF($D$3=0,\"\",\"○\")","v":""},1.5,2.2000000000000002,77.2,null,{"$f":"IF($D$4=0,\"\",\"○\")","v":""},1.1000000000000001,1.5,84.1]
[null,{"$f":"IF($D$3=0,\"\",\"●\")","v":""},0,0.92500000000000004,78,null,{"$f":"IF($D$4=0,\"\",\"●\")","v":""},0.92500000000000004,1.85,86.5]
[null,{"$f":"IF($D$3=0,\"\",\"●\")","v":""},0.92500000000000004,1.5,79,null,{"$f":"IF($D$4=0,\"\",\"○\")","v":""},1.5,2.2000000000000002,85.3]
[null,{"$f":"IF($D$3=0,\"\",\"○\")","v":""},2.2000000000000002,3,79.7,null,{"$f":"IF($D$4=0,\"\",\"○\")","v":""},2.2000000000000002,3,86.7]
[null,{"$f":"IF($D$3=0,\"\",\"●\")","v":""},1.5,2.2000000000000002,81.5,null,{"$f":"IF($D$4=0,\"\",\"○\")","v":""},3,3.7,87.7]
[null,{"$f":"IF($D$3=0,\"\",\"○\")","v":""},3,3.7,81.5,null,{"$f":"IF($D$4=0,\"\",\"●\")","v":""},1.85,4.5999999999999996,89.5]
[null,{"$f":"IF($D$3=0,\"\",\"●\")","v":""},2.2000000000000002,3.7,83,null,{"$f":"IF($D$4=0,\"\",\"○\")","v":""},3.7,5.5,88.6]
[null,{"$f":"IF($D$3=0,\"\",\"○\")","v":""},3.7,5.5,83.1,null,{"$f":"IF($D$4=0,\"\",\"○\")","v":""},5.5,7.5,89.6]
[null,{"$f":"IF($D$3=0,\"\",\"○\")","v":""},5.5,7.5,84.7,null,{"$f":"IF($D$4=0,\"\",\"●\")","v":""},4.5999999999999996,9.25,91.7]
[null,{"$f":"IF($D$3=0,\"\",\"●\")","v":""},3.7,5.5,85,null,{"$f":"IF($D$4=0,\"\",\"○\")","v":""},7.5,11,90.4]
[null,{"$f":"IF($D$3=0,\"\",\"○\")","v":""},7.5,11,86,null,{"$f":"IF($D$4=0,\"\",\"●\")","v":""},9.25,13,92.4]
[null,{"$f":"IF($D$3=0,\"\",\"●\")","v":""},5.5,7.5,87,null,{"$f":"IF($D$4=0,\"\",\"○\")","v":""},11,15,91.4]
[null,{"$f":"IF($D$3=0,\"\",\"●\")","v":""},7.5,11,87.5,null,{"$f":"IF($D$4=0,\"\",\"●\")","v":""},13,16.75,93]
[null,{"$f":"IF($D$3=0,\"\",\"○\")","v":""},11,15,87.6,null,{"$f":"IF($D$4=0,\"\",\"○\")","v":""},15,18.5,"92,1"]
[null,{"$f":"IF($D$3=0,\"\",\"●\")","v":""},11,15,88.5,null,{"$f":"IF($D$4=0,\"\",\"○\")","v":""},18.5,22,92.6]
[null,{"$f":"IF($D$3=0,\"\",\"○\")","v":""},15,18.5,88.7,null,{"$f":"IF($D$4=0,\"\",\"●\")","v":""},16.75,26,93.6]
[null,{"$f":"IF($D$3=0,\"\",\"○\")","v":""},18.5,22,89.3,null,{"$f":"IF($D$4=0,\"\",\"○\")","v":""},22,30,93]
[null,{"$f":"IF($D$3=0,\"\",\"●\")","v":""},15,18.5,89.5,null,{"$f":"IF($D$4=0,\"\",\"●\")","v":""},26,33.5,94.1]
[null,{"$f":"IF($D$3=0,\"\",\"○\")","v":""},22,30,89.9,null,{"$f":"IF($D$4=0,\"\",\"○\")","v":""},30,37,93.6]
[null,{"$f":"IF($D$3=0,\"\",\"●\")","v":""},18.5,22,90.5,null,{"$f":"IF($D$4=0,\"\",\"●\")","v":""},33.5,41,94.5]
[null,{"$f":"IF($D$3=0,\"\",\"○\")","v":""},30,37,90.7,null,{"$f":"IF($D$4=0,\"\",\"○\")","v":""},37,45,93.9]
[null,{"$f":"IF($D$3=0,\"\",\"●\")","v":""},22,30,91,null,{"$f":"IF($D$4=0,\"\",\"●\")","v":""},41,50,95]
[null,{"$f":"IF($D$3=0,\"\",\"○\")","v":""},37,45,91.2,null,{"$f":"IF($D$4=0,\"\",\"○\")","v":""},45,55,94.2]
[null,{"$f":"IF($D$3=0,\"\",\"●\")","v":""},30,37,91.7,null,{"$f":"IF($D$4=0,\"\",\"○\")","v":""},55,75,94.6]
[null,{"$f":"IF($D$3=0,\"\",\"○\")","v":""},45,55,91.7,null,{"$f":"IF($D$4=0,\"\",\"○\")","v":""},75,90,95]
[null,{"$f":"IF($D$3=0,\"\",\"○\")","v":""},55,75,92.1,null,{"$f":"IF($D$4=0,\"\",\"●\")","v":""},50,100,95.4]
[null,{"$f":"IF($D$3=0,\"\",\"●\")","v":""},37,45,92.4,null,{"$f":"IF($D$4=0,\"\",\"○\")","v":""},90,110,95.2]
[null,{"$f":"IF($D$3=0,\"\",\"○\")","v":""},75,90,92.7,null,{"$f":"IF($D$4=0,\"\",\"●\")","v":""},100,130,95.8]
[null,{"$f":"IF($D$3=0,\"\",\"●\")","v":""},45,75,93,null,{"$f":"IF($D$4=0,\"\",\"○\")","v":""},110,132,95.4]
[null,{"$f":"IF($D$3=0,\"\",\"○\")","v":""},90,110,93,null,{"$f":"IF($D$4=0,\"\",\"○\")","v":""},132,160,95.6]
[null,{"$f":"IF($D$3=0,\"\",\"●\")","v":""},75,110,93.2,null,{"$f":"IF($D$4=0,\"\",\"○\")","v":""},160,200,95.8]
[null,{"$f":"IF($D$3=0,\"\",\"○\")","v":""},110,132,93.3,null,{"$f":"IF($D$4=0,\"\",\"○\")","v":""},200,375,96]
[null,{"$f":"IF($D$3=0,\"\",\"●\")","v":""},110,132,93.5,null,{"$f":"IF($D$4=0,\"\",\"●\")","v":""},130,9999,96.2]
[null,{"$f":"IF($D$3=0,\"\",\"○\")","v":""},132,160,93.5,null,{"$f":"IF($D$4=0,\"\",\"○\")","v":""},375,9999,96]
[null,{"$f":"IF($D$3=0,\"\",\"○\")","v":""},160,200,93.8]
[null,{"$f":"IF($D$3=0,\"\",\"○\")","v":""},200,375,94]
[null,{"$f":"IF($D$3=0,\"\",\"○\")","v":""},375,9999,94]
[null,{"$f":"IF($D$3=0,\"\",\"●\")","v":""},132,9999,94.5]

{"sheet":"モーター効率(元)","index":6,"n_rows":53,"n_cols":12,"rows_kept":53,"cut":false,"hidden":true,"merged":[[34,11,35,11],[2,3,2,5],[2,9,2,11],[3,1,4,1],[3,3,3,4],[3,8,4,8],[3,9,3,10],[23,11,28,11],[3,7,4,7],[5,7,28,7],[14,10,15,10],[14,11,15,11],[18,3,19,3],[18,4,19,4],[18,5,19,5],[19,8,21,8],[29,7,52,7],[34,8,35,8],[34,9,35,9],[34,10,35,10],[5,1,28,1],[29,1,52,1],[34,3,35,3],[34,4,35,4],[34,5,35,5],[20,5,21,5],[19,9,21,9],[19,10,21,10],[23,3,28,3],[23,4,28,4],[23,5,28,5],[23,8,28,8],[19,11,21,11],[20,3,21,3],[20,4,21,4],[23,9,28,9],[23,10,28,10],[10,8,11,8],[10,9,11,9],[10,10,11,10],[10,11,11,11],[14,8,15,8],[14,9,15,9],[6,8,7,8],[6,9,7,9],[6,10,7,10],[6,11,7,11],[8,8,9,8],[8,9,9,9],[8,10,9,10],[8,11,9,11]]}
[]
[]
[null,null,null,"既存機",null,null,null,null,null,"導入機"]
[null,"周波数[Hz]","定格出力","定格出力範囲",null,"モーター効率",null,"周波数[Hz]","区分","定格出力範囲",null,"モーター効率"]
[null,null,"kW","kW以上","kW未満","IE1[%]",null,null,null,"kW以上","kW未満","IE3[%]"]
[null,60,0.75,"-",0.92500000000000004,78,null,60,1,null,0.92500000000000004,85.5]
[null,null,1.1000000000000001,0.92500000000000004,1.5,79,null,null,2,0.92500000000000004,1.85,86.5]
[null,null,1.5,1.5,2.2000000000000002,81.5]
[null,null,2.2000000000000002,2.2000000000000002,3.7,83,null,null,3,1.85,4.5999999999999996,89.5]
[null,null,3.7,3.7,5.5,85]
[null,null,5.5,5.5,7.5,87,null,null,4,4.5999999999999996,9.25,91.7]
[null,null,7.5,7.5,11,87.5]
[null,null,11,11,15,88.5,null,null,5,9.25,13,92.4]
[null,null,15,15,18.5,89.5,null,null,6,13,16.75,93]
[null,null,18.5,18.5,22,90.5,null,null,7,16.75,26,93.6]
[null,null,22,22,30,91]
[null,null,30,30,37,91.7,null,null,8,26,33.5,94.1]
[null,null,37,37,45,92.4,null,null,9,33.5,41,94.5]
[null,null,45,45,75,93,null,null,10,41,50,95]
[null,null,55,null,null,null,null,null,11,50,100,95.4]
[null,null,75,75,110,93.2]
[null,null,90]
[null,null,110,110,132,93.5,null,null,12,100,130,95.8]
[null,null,132,132,"-",94.5,null,null,13,130,null,96.2]
[null,null,150]
[null,null,160]
[null,null,185]
[null,null,200]
[null,null,375]
[null,50,0.75,null,1.1000000000000001,72.099999999999994,null,50,14,null,1.1000000000000001,82.5]
[null,null,1.1000000000000001,1.1000000000000001,1.5,75,null,null,15,1.1000000000000001,1.5,84.1]
[null,null,1.5,1.5,2.2000000000000002,77.2,null,null,16,1.5,2.2000000000000002,85.3]
[null,null,2.2000000000000002,2.2000000000000002,3,79.7,null,null,17,2.2000000000000002,3,86.7]
[null,null,3,3,3.7,81.5,null,null,18,3,3.7,87.7]
[null,null,3.7,3.7,5.5,83.1,null,null,19,3.7,5.5,88.6]
[null,null,4]
[null,null,5.5,5.5,7.5,84.7,null,null,20,5.5,7.5,89.6]
[null,null,7.5,7.5,11,86,null,null,21,7.5,11,90.4]
[null,null,11,11,15,87.6,null,null,22,11,15,91.4]
[null,null,15,15,18.5,88.7,null,null,23,15,18.5,"92,1"]
[null,null,18.5,18.5,22,89.3,null,null,24,18.5,22,92.6]
[null,null,22,22,30,89.9,null,null,25,22,30,93]
[null,null,30,30,37,90.7,null,null,26,30,37,93.6]
[null,null,37,37,45,91.2,null,null,27,37,45,93.9]
[null,null,45,45,55,91.7,null,null,28,45,55,94.2]
[null,null,55,55,75,92.1,null,null,29,55,75,94.6]
[null,null,75,75,90,92.7,null,null,30,75,90,95]
[null,null,90,90,110,93,null,null,31,90,110,95.2]
[null,null,110,110,132,93.3,null,null,32,110,132,95.4]
[null,null,132,132,160,93.5,null,null,33,132,160,95.6]
[null,null,160,160,200,93.8,null,null,34,160,200,95.8]
[null,null,200,200,375,94,null,null,35,200,375,96]
[null,null,375,375,null,94,null,null,36,375,null,96]

{"sheet":"対象制御方式","index":7,"n_rows":11,"n_cols":7,"rows_kept":11,"cut":false,"hidden":true,"merged":[]}
[]
[]
[null,null,null,null,"対象の容量制御方式"]
[]
[null,null,"既存","導入","ロードアンロード（給油式）","ロードアンロード（ドライオイルフリー）","インバーター"]
[null,null,"吸込絞り弁＋減圧（パージ）（給油式）",null,"〇","×１","〇"]
[null,null,"ロードアンロード（給油式）",null,"〇","×１","〇"]
[null,null,"ロードアンロード（ドライオイルフリー）",null,"×１","〇","〇"]
[null,null,"インバーター",null,"×２","×２","〇"]
[null,null,"×１：オイルフリー機は特殊用途（食品・医療・電子部品・医薬等）のため、給油式からオイルフリー、オイルフリーから給油式への更新はない"]
[null,null,"×２：消費電力量が増えるため、対象外"]

{"sheet":"課題or質問","index":8,"n_rows":2,"n_cols":5,"rows_kept":2,"cut":false,"hidden":true,"merged":[]}
[]
[null,"日付","課題or質問","回答","備考"]

{"sheet":"シート構成","index":9,"n_rows":18,"n_cols":19,"rows_kept":18,"cut":false,"hidden":true,"merged":[[15,2,16,3],[17,2,18,3],[8,2,8,4],[8,8,8,10],[9,14,9,16],[10,14,11,16],[13,2,14,3],[6,7,6,11],[6,18,7,20],[13,8,13,10],[13,14,13,16],[14,8,15,10],[14,18,15,20],[9,18,9,20],[10,18,11,20],[13,18,13,20],[1,1,1,5],[3,2,3,4],[3,13,3,21],[4,2,5,4],[5,18,5,20]]}
[]
[null,"表示シート"]
[]
[null,null,"1 フローチャート",null,null,null,null,null,null,null,null,null,null,"非表示シート"]
[null,null,"事業者がツール使用可否を把握"]
[null,null,null,null,null,null,null,null,null,null,null,null,null,null,null,null,null,null,"シート構成"]
[null,null,null,null,null,null,null,"非表示シート",null,null,null,null,null,null,null,null,null,null,"本ツールのシート構成を表示"]
[]
[null,null,"2 算定シート",null,null,null,null,null,"2 算定シート(裏)"]
[null,null,"1.事業者が情報を入力",null,null,null,null,null,"1.入力された情報で算定",null,null,null,null,null,"4 手順と記号の説明",null,null,null,"課題or質問"]
[null,null,"2.効果を表示するのみ",null,null,null,null,null,"2.効果を表シートに転記",null,null,null,null,null,"計算の手順と記号を説明",null,null,null,"ツール作成時、更新時、改定時等の課題や質問を記入"]
[]
[]
[null,null,"数値のやりとり",null,null,null,null,null,"3 燃料データ",null,null,null,null,null,"参考 燃料データ ボイラー",null,null,null,"改訂日"]
[null,null,null,null,null,null,null,null,"選択できる燃料データの一覧表\n※燃料dataあります",null,null,null,null,null,"参考資料",null,null,null,"改定日、Ver、担当、内容を記入"]
[null,null,"情報の確認",null,null,null,null,null,null,null,null,null,null,null,"効果算定ツール(ボイラー)より"]
[]
[null,null,"シート選択"]