{"text_format":"1","workbook":"xlsx","n_sheets":55,"sheets":["必ずこのシートから始めてください","温暖地(γ既定値)","寒冷地(γ既定値)","温暖地(γ個別入力)","寒冷地(γ個別入力)","γ一覧表","管理","都道府県庁所在地等一覧表","札幌","青森","盛岡","仙台","秋田","山形","福島","水戸","宇都宮","前橋","熊谷","千葉","東京","横浜","新潟","富山","金沢","福井","甲府","長野","岐阜","静岡","名古屋","津","彦根","京都","大阪","神戸","奈良","和歌山","鳥取","松江","岡山","広島","山口","徳島","高松","松山","高知","福岡","佐賀","長崎","熊本","大分","宮崎","鹿児島","那覇"],"not_rendered":{"charts":0,"images":0,"macros":1,"external_links":0,"defined_names":9,"comments":0,"pivot_tables":0},"unopened":[],"bounds":{"document_bytes":16777216,"sheet_cells":100000,"rows_first":2000,"rows_last":500,"rows_between":2000,"halvings":0,"cell_chars":16384,"cell_head_chars":4096},"cells_cut":0,"cells_raw":0,"read":"whole","date_system":"1900"}

{"sheet":"必ずこのシートから始めてください","index":0,"n_rows":34,"n_cols":14,"rows_kept":34,"cut":false,"hidden":false,"merged":[[18,3,18,12],[13,10,14,10],[9,10,10,10],[11,10,12,10],[9,4,10,9],[13,11,14,12],[32,4,32,12],[33,4,33,12],[2,12,3,13],[31,4,31,13],[29,4,29,12],[26,6,27,7],[26,8,27,9],[21,10,22,10],[23,10,24,10],[21,4,22,9],[23,4,24,9],[21,11,22,12],[23,11,24,12],[2,3,3,11],[21,3,24,3],[25,3,25,12],[29,3,30,3],[4,2,5,13],[19,3,20,12],[16,6,17,7],[16,8,17,9],[15,3,15,12],[7,11,8,12],[9,11,10,12],[11,11,12,12],[30,4,30,12],[7,10,8,10],[7,4,8,9],[7,3,8,3],[11,4,12,9],[13,4,14,9],[9,3,14,3]]}
[]
[]
[null,null,null,"空調年間活動量算定ツール(水冷HPチラー版)",null,null,null,null,null,null,null,null,"Ver.1.0"]
[]
[null,null,"電気式水冷ウォーターチリングユニットの年間電力使用量の算定"]
[]
[]
[null,null,null,"ここから\nスタート","水冷HPチラーを設置する都道府県を選択",null,null,null,null,null,"選択"]
[]
[null,null,null,"γ\n既定値","選択した都道府県庁所在地等\n（埼玉県は熊谷市、滋賀県は彦根市よりデータ取得）",null,null,null,null,null,"自動表示",{"$f":"IF($L$8=\"\",\"\",VLOOKUP($L$8,γ一覧表!$C$3:$F$50,2,FALSE))","v":""}]
[]
[null,null,null,null,"都道府県庁所在地等の【暖・冷房負荷比：γ値】",null,null,null,null,null,"自動表示",{"$f":"IF($L$8=\"\",\"\",VLOOKUP($L$8,γ一覧表!$C$3:$F$50,3,FALSE))","v":""}]
[]
[null,null,null,null,"表示された【γ値】で使用するシート",null,null,null,null,null,"自動表示",{"$f":"IF($L$8=\"\",\"\",VLOOKUP($L$8,γ一覧表!$C$3:$F$50,4,FALSE))","v":""}]
[]
[null,null,null,"使用するシートを選択(各シートが開く)"]
[null,null,null,null,null,null,"温暖地(γ既定値)",null,"寒冷地(γ既定値)"]
[]
[]
[null,null,null,"都道府県庁所在地等と気候条件が大きく異なる場合、以下にγ値を入力し、表示されたシートを使用"]
[]
[null,null,null,"γ\n個別入力","都道府県庁所在地等の既定値以外を使用する場合の【γ値】",null,null,null,null,null,"入力",null,null,{"$f":"ROUNDUP($L$22,1)","v":0}]
[]
[null,null,null,null,"入力した【γ値】で使用するシート ",null,null,null,null,null,"自動表示",{"$f":"IF($L$22=\"\",\"\",VLOOKUP($N$22,γ一覧表!$I$3:$J$50,2))","v":""}]
[]
[null,null,null,"使用するシートを選択(各シートが開く)"]
[null,null,null,null,null,null,"温暖地(γ個別入力)",null,"寒冷地(γ個別入力)"]
[]
[]
[null,null,null,"注意事項","●【γ値】とは設備設計時の空調負荷計算における最大暖房負荷と最大冷房負荷の比率。"]
[null,null,null,null,"    負荷の大きな方で空調機の機種選定がなされたものとする。冷房負荷に対して選択した場合はγ≦1である。"]
[null,null,null,null,"● 本ツールは、設備更新の効果を簡易的に把握するために開発されたものであり、他の目的に利用することは想定されていません。"]
[null,null,null,null,"● あらゆる入力に対して正しい計算結果が得られることを保証するものではありません。"]
[null,null,null,null,"    計算結果の取り扱いについては、自己責任でお願いします。"]

{"sheet":"温暖地(γ既定値)","index":1,"n_rows":193,"n_cols":68,"rows_kept":193,"cut":false,"hidden":false,"merged":[[27,3,38,3],[41,3,52,3],[96,49,96,50],[75,49,76,50],[9,3,9,26],[57,3,57,4],[57,5,57,6],[57,7,57,8],[24,19,25,20],[2,2,2,3],[3,2,3,3],[5,2,5,3],[6,2,6,3],[24,3,25,4],[130,3,130,26],[78,3,78,4],[78,5,78,6],[78,7,78,8],[114,3,114,26],[98,3,98,26],[96,24,96,25]]}
[]
[null,null,"水冷HPチラーの設置場所"]
[null,null,{"$f":"IF(必ずこのシートから始めてください!$L$8=\"\",\"\",必ずこのシートから始めてください!$L$8)","v":""},null,null,"手順1：空調を行う月、時間を下記の指定の色で塗る(指定の色以外で塗ると計算できません。)"]
[null,null,{"$f":"VLOOKUP($C$3,γ一覧表!$C$3:$E$50,2,FALSE)","v":{"$error":"#N/A"}},null,null,null,"冷却","青","【左から5列目、一番薄い色(アクセント1,白＋基本色80％)】"]
[null,null,null,null,null,null,"加熱","オレンジ","【左から6番目、一番薄い色(アクセント2,白＋基本色80％)】"]
[null,null,"使用するγ値",null,null,"手順2：各月の運転日数を入力する"]
[null,null,{"$f":"IFERROR(IF(VLOOKUP($C$3,γ一覧表!$C$3:$E$50,3,FALSE)>1,\"---\",IFERROR(VLOOKUP($C$3,γ一覧表!$C$3:$E$50,3,FALSE),\"---\")),\"---\")","v":"---"},null,null,"手順3：Ctrl + Alt + F9を同時に押す",null,null,null,null,null,null,null,null,null,null,null,"●時刻別平均外気湿球温度表記載の数値は、選択された都道府県の県庁所在地等の月別、時刻別平均外気湿球温度"]
[null,null,null,null,null,"手順4：黄色のセルに値を入力する(緑は自動計算)",null,null,null,null,null,null,null,null,null,null,null,"●本データは気象庁発表の1992年4月1日から2022年3月31日までの30年の1時間データを整理したもの"]
[null,null,"時刻別平均外気湿球温度[℃]",null,null,null,null,null,null,null,null,null,null,null,null,null,null,"●2月はうるう日を含みます"]
[null,null,null,null,null,null,null,null,null,null,null,null,null,null,null,null,null,null,null,null,null,null,null,null,null,null,null,{"$f":"SUM($AB$11:$AB$23)","v":0},{"$f":"必ずこのシートから始めてください!M3","v":"Ver.1.0"}]
[null,null,"月",0,1,2,3,4,5,6,7,8,9,10,11,12,13,14,15,16,17,18,19,20,21,22,23,"運転日数","月"]
[null,null,4,{"$f":"IFERROR(INDIRECT($C$4&\"!B5\"),\"\")","v":""},{"$f":"IFERROR(INDIRECT($C$4&\"!C5\"),\"\")","v":""},{"$f":"IFERROR(INDIRECT($C$4&\"!D5\"),\"\")","v":""},{"$f":"IFERROR(INDIRECT($C$4&\"!E5\"),\"\")","v":""},{"$f":"IFERROR(INDIRECT($C$4&\"!F5\"),\"\")","v":""},{"$f":"IFERROR(INDIRECT($C$4&\"!G5\"),\"\")","v":""},{"$f":"IFERROR(INDIRECT($C$4&\"!H5\"),\"\")","v":""},{"$f":"IFERROR(INDIRECT($C$4&\"!I5\"),\"\")","v":""},{"$f":"IFERROR(INDIRECT($C$4&\"!J5\"),\"\")","v":""},{"$f":"IFERROR(INDIRECT($C$4&\"!K5\"),\"\")","v":""},{"$f":"IFERROR(INDIRECT($C$4&\"!L5\"),\"\")","v":""},{"$f":"IFERROR(INDIRECT($C$4&\"!M5\"),\"\")","v":""},{"$f":"IFERROR(INDIRECT($C$4&\"!N5\"),\"\")","v":""},{"$f":"IFERROR(INDIRECT($C$4&\"!O5\"),\"\")","v":""},{"$f":"IFERROR(INDIRECT($C$4&\"!P5\"),\"\")","v":""},{"$f":"IFERROR(INDIRECT($C$4&\"!Q5\"),\"\")","v":""},{"$f":"IFERROR(INDIRECT($C$4&\"!R5\"),\"\")","v":""},{"$f":"IFERROR(INDIRECT($C$4&\"!S5\"),\"\")","v":""},{"$f":"IFERROR(INDIRECT($C$4&\"!T5\"),\"\")","v":""},{"$f":"IFERROR(INDIRECT($C$4&\"!U5\"),\"\")","v":""},{"$f":"IFERROR(INDIRECT($C$4&\"!V5\"),\"\")","v":""},{"$f":"IFERROR(INDIRECT($C$4&\"!W5\"),\"\")","v":""},{"$f":"IFERROR(INDIRECT($C$4&\"!X5\"),\"\")","v":""},{"$f":"IFERROR(INDIRECT($C$4&\"!Y5\"),\"\")","v":""},null,4]
[null,null,5,{"$f":"IFERROR(INDIRECT($C$4&\"!B6\"),\"\")","v":""},{"$f":"IFERROR(INDIRECT($C$4&\"!C6\"),\"\")","v":""},{"$f":"IFERROR(INDIRECT($C$4&\"!D6\"),\"\")","v":""},{"$f":"IFERROR(INDIRECT($C$4&\"!E6\"),\"\")","v":""},{"$f":"IFERROR(INDIRECT($C$4&\"!F6\"),\"\")","v":""},{"$f":"IFERROR(INDIRECT($C$4&\"!G6\"),\"\")","v":""},{"$f":"IFERROR(INDIRECT($C$4&\"!H6\"),\"\")","v":""},{"$f":"IFERROR(INDIRECT($C$4&\"!I6\"),\"\")","v":""},{"$f":"IFERROR(INDIRECT($C$4&\"!J6\"),\"\")","v":""},{"$f":"IFERROR(INDIRECT($C$4&\"!K6\"),\"\")","v":""},{"$f":"IFERROR(INDIRECT($C$4&\"!L6\"),\"\")","v":""},{"$f":"IFERROR(INDIRECT($C$4&\"!M6\"),\"\")","v":""},{"$f":"IFERROR(INDIRECT($C$4&\"!N6\"),\"\")","v":""},{"$f":"IFERROR(INDIRECT($C$4&\"!O6\"),\"\")","v":""},{"$f":"IFERROR(INDIRECT($C$4&\"!P6\"),\"\")","v":""},{"$f":"IFERROR(INDIRECT($C$4&\"!Q6\"),\"\")","v":""},{"$f":"IFERROR(INDIRECT($C$4&\"!R6\"),\"\")","v":""},{"$f":"IFERROR(INDIRECT($C$4&\"!S6\"),\"\")","v":""},{"$f":"IFERROR(INDIRECT($C$4&\"!T6\"),\"\")","v":""},{"$f":"IFERROR(INDIRECT($C$4&\"!U6\"),\"\")","v":""},{"$f":"IFERROR(INDIRECT($C$4&\"!V6\"),\"\")","v":""},{"$f":"IFERROR(INDIRECT($C$4&\"!W6\"),\"\")","v":""},{"$f":"IFERROR(INDIRECT($C$4&\"!X6\"),\"\")","v":""},{"$f":"IFERROR(INDIRECT($C$4&\"!Y6\"),\"\")","v":""},null,5]
[null,null,6,{"$f":"IFERROR(INDIRECT($C$4&\"!B7\"),\"\")","v":""},{"$f":"IFERROR(INDIRECT($C$4&\"!C7\"),\"\")","v":""},{"$f":"IFERROR(INDIRECT($C$4&\"!D7\"),\"\")","v":""},{"$f":"IFERROR(INDIRECT($C$4&\"!E7\"),\"\")","v":""},{"$f":"IFERROR(INDIRECT($C$4&\"!F7\"),\"\")","v":""},{"$f":"IFERROR(INDIRECT($C$4&\"!G7\"),\"\")","v":""},{"$f":"IFERROR(INDIRECT($C$4&\"!H7\"),\"\")","v":""},{"$f":"IFERROR(INDIRECT($C$4&\"!I7\"),\"\")","v":""},{"$f":"IFERROR(INDIRECT($C$4&\"!J7\"),\"\")","v":""},{"$f":"IFERROR(INDIRECT($C$4&\"!K7\"),\"\")","v":""},{"$f":"IFERROR(INDIRECT($C$4&\"!L7\"),\"\")","v":""},{"$f":"IFERROR(INDIRECT($C$4&\"!M7\"),\"\")","v":""},{"$f":"IFERROR(INDIRECT($C$4&\"!N7\"),\"\")","v":""},{"$f":"IFERROR(INDIRECT($C$4&\"!O7\"),\"\")","v":""},{"$f":"IFERROR(INDIRECT($C$4&\"!P7\"),\"\")","v":""},{"$f":"IFERROR(INDIRECT($C$4&\"!Q7\"),\"\")","v":""},{"$f":"IFERROR(INDIRECT($C$4&\"!R7\"),\"\")","v":""},{"$f":"IFERROR(INDIRECT($C$4&\"!S7\"),\"\")","v":""},{"$f":"IFERROR(INDIRECT($C$4&\"!T7\"),\"\")","v":""},{"$f":"IFERROR(INDIRECT($C$4&\"!U7\"),\"\")","v":""},{"$f":"IFERROR(INDIRECT($C$4&\"!V7\"),\"\")","v":""},{"$f":"IFERROR(INDIRECT($C$4&\"!W7\"),\"\")","v":""},{"$f":"IFERROR(INDIRECT($C$4&\"!X7\"),\"\")","v":""},{"$f":"IFERROR(INDIRECT($C$4&\"!Y7\"),\"\")","v":""},null,6]
[null,null,7,{"$f":"IFERROR(INDIRECT($C$4&\"!B8\"),\"\")","v":""},{"$f":"IFERROR(INDIRECT($C$4&\"!C8\"),\"\")","v":""},{"$f":"IFERROR(INDIRECT($C$4&\"!D8\"),\"\")","v":""},{"$f":"IFERROR(INDIRECT($C$4&\"!E8\"),\"\")","v":""},{"$f":"IFERROR(INDIRECT($C$4&\"!F8\"),\"\")","v":""},{"$f":"IFERROR(INDIRECT($C$4&\"!G8\"),\"\")","v":""},{"$f":"IFERROR(INDIRECT($C$4&\"!H8\"),\"\")","v":""},{"$f":"IFERROR(INDIRECT($C$4&\"!I8\"),\"\")","v":""},{"$f":"IFERROR(INDIRECT($C$4&\"!J8\"),\"\")","v":""},{"$f":"IFERROR(INDIRECT($C$4&\"!K8\"),\"\")","v":""},{"$f":"IFERROR(INDIRECT($C$4&\"!L8\"),\"\")","v":""},{"$f":"IFERROR(INDIRECT($C$4&\"!M8\"),\"\")","v":""},{"$f":"IFERROR(INDIRECT($C$4&\"!N8\"),\"\")","v":""},{"$f":"IFERROR(INDIRECT($C$4&\"!O8\"),\"\")","v":""},{"$f":"IFERROR(INDIRECT($C$4&\"!P8\"),\"\")","v":""},{"$f":"IFERROR(INDIRECT($C$4&\"!Q8\"),\"\")","v":""},{"$f":"IFERROR(INDIRECT($C$4&\"!R8\"),\"\")","v":""},{"$f":"IFERROR(INDIRECT($C$4&\"!S8\"),\"\")","v":""},{"$f":"IFERROR(INDIRECT($C$4&\"!T8\"),\"\")","v":""},{"$f":"IFERROR(INDIRECT($C$4&\"!U8\"),\"\")","v":""},{"$f":"IFERROR(INDIRECT($C$4&\"!V8\"),\"\")","v":""},{"$f":"IFERROR(INDIRECT($C$4&\"!W8\"),\"\")","v":""},{"$f":"IFERROR(INDIRECT($C$4&\"!X8\"),\"\")","v":""},{"$f":"IFERROR(INDIRECT($C$4&\"!Y8\"),\"\")","v":""},null,7]
[null,null,8,{"$f":"IFERROR(INDIRECT($C$4&\"!B9\"),\"\")","v":""},{"$f":"IFERROR(INDIRECT($C$4&\"!C9\"),\"\")","v":""},{"$f":"IFERROR(INDIRECT($C$4&\"!D9\"),\"\")","v":""},{"$f":"IFERROR(INDIRECT($C$4&\"!E9\"),\"\")","v":""},{"$f":"IFERROR(INDIRECT($C$4&\"!F9\"),\"\")","v":""},{"$f":"IFERROR(INDIRECT($C$4&\"!G9\"),\"\")","v":""},{"$f":"IFERROR(INDIRECT($C$4&\"!H9\"),\"\")","v":""},{"$f":"IFERROR(INDIRECT($C$4&\"!I9\"),\"\")","v":""},{"$f":"IFERROR(INDIRECT($C$4&\"!J9\"),\"\")","v":""},{"$f":"IFERROR(INDIRECT($C$4&\"!K9\"),\"\")","v":""},{"$f":"IFERROR(INDIRECT($C$4&\"!L9\"),\"\")","v":""},{"$f":"IFERROR(INDIRECT($C$4&\"!M9\"),\"\")","v":""},{"$f":"IFERROR(INDIRECT($C$4&\"!N9\"),\"\")","v":""},{"$f":"IFERROR(INDIRECT($C$4&\"!O9\"),\"\")","v":""},{"$f":"IFERROR(INDIRECT($C$4&\"!P9\"),\"\")","v":""},{"$f":"IFERROR(INDIRECT($C$4&\"!Q9\"),\"\")","v":""},{"$f":"IFERROR(INDIRECT($C$4&\"!R9\"),\"\")","v":""},{"$f":"IFERROR(INDIRECT($C$4&\"!S9\"),\"\")","v":""},{"$f":"IFERROR(INDIRECT($C$4&\"!T9\"),\"\")","v":""},{"$f":"IFERROR(INDIRECT($C$4&\"!U9\"),\"\")","v":""},{"$f":"IFERROR(INDIRECT($C$4&\"!V9\"),\"\")","v":""},{"$f":"IFERROR(INDIRECT($C$4&\"!W9\"),\"\")","v":""},{"$f":"IFERROR(INDIRECT($C$4&\"!X9\"),\"\")","v":""},{"$f":"IFERROR(INDIRECT($C$4&\"!Y9\"),\"\")","v":""},null,8]
[null,null,9,{"$f":"IFERROR(INDIRECT($C$4&\"!B10\"),\"\")","v":""},{"$f":"IFERROR(INDIRECT($C$4&\"!C10\"),\"\")","v":""},{"$f":"IFERROR(INDIRECT($C$4&\"!D10\"),\"\")","v":""},{"$f":"IFERROR(INDIRECT($C$4&\"!E10\"),\"\")","v":""},{"$f":"IFERROR(INDIRECT($C$4&\"!F10\"),\"\")","v":""},{"$f":"IFERROR(INDIRECT($C$4&\"!G10\"),\"\")","v":""},{"$f":"IFERROR(INDIRECT($C$4&\"!H10\"),\"\")","v":""},{"$f":"IFERROR(INDIRECT($C$4&\"!I10\"),\"\")","v":""},{"$f":"IFERROR(INDIRECT($C$4&\"!J10\"),\"\")","v":""},{"$f":"IFERROR(INDIRECT($C$4&\"!K10\"),\"\")","v":""},{"$f":"IFERROR(INDIRECT($C$4&\"!L10\"),\"\")","v":""},{"$f":"IFERROR(INDIRECT($C$4&\"!M10\"),\"\")","v":""},{"$f":"IFERROR(INDIRECT($C$4&\"!N10\"),\"\")","v":""},{"$f":"IFERROR(INDIRECT($C$4&\"!O10\"),\"\")","v":""},{"$f":"IFERROR(INDIRECT($C$4&\"!P10\"),\"\")","v":""},{"$f":"IFERROR(INDIRECT($C$4&\"!Q10\"),\"\")","v":""},{"$f":"IFERROR(INDIRECT($C$4&\"!R10\"),\"\")","v":""},{"$f":"IFERROR(INDIRECT($C$4&\"!S10\"),\"\")","v":""},{"$f":"IFERROR(INDIRECT($C$4&\"!T10\"),\"\")","v":""},{"$f":"IFERROR(INDIRECT($C$4&\"!U10\"),\"\")","v":""},{"$f":"IFERROR(INDIRECT($C$4&\"!V10\"),\"\")","v":""},{"$f":"IFERROR(INDIRECT($C$4&\"!W10\"),\"\")","v":""},{"$f":"IFERROR(INDIRECT($C$4&\"!X10\"),\"\")","v":""},{"$f":"IFERROR(INDIRECT($C$4&\"!Y10\"),\"\")","v":""},null,9]
[null,null,10,{"$f":"IFERROR(INDIRECT($C$4&\"!B11\"),\"\")","v":""},{"$f":"IFERROR(INDIRECT($C$4&\"!C11\"),\"\")","v":""},{"$f":"IFERROR(INDIRECT($C$4&\"!D11\"),\"\")","v":""},{"$f":"IFERROR(INDIRECT($C$4&\"!E11\"),\"\")","v":""},{"$f":"IFERROR(INDIRECT($C$4&\"!F11\"),\"\")","v":""},{"$f":"IFERROR(INDIRECT($C$4&\"!G11\"),\"\")","v":""},{"$f":"IFERROR(INDIRECT($C$4&\"!H11\"),\"\")","v":""},{"$f":"IFERROR(INDIRECT($C$4&\"!I11\"),\"\")","v":""},{"$f":"IFERROR(INDIRECT($C$4&\"!J11\"),\"\")","v":""},{"$f":"IFERROR(INDIRECT($C$4&\"!K11\"),\"\")","v":""},{"$f":"IFERROR(INDIRECT($C$4&\"!L11\"),\"\")","v":""},{"$f":"IFERROR(INDIRECT($C$4&\"!M11\"),\"\")","v":""},{"$f":"IFERROR(INDIRECT($C$4&\"!N11\"),\"\")","v":""},{"$f":"IFERROR(INDIRECT($C$4&\"!O11\"),\"\")","v":""},{"$f":"IFERROR(INDIRECT($C$4&\"!P11\"),\"\")","v":""},{"$f":"IFERROR(INDIRECT($C$4&\"!Q11\"),\"\")","v":""},{"$f":"IFERROR(INDIRECT($C$4&\"!R11\"),\"\")","v":""},{"$f":"IFERROR(INDIRECT($C$4&\"!S11\"),\"\")","v":""},{"$f":"IFERROR(INDIRECT($C$4&\"!T11\"),\"\")","v":""},{"$f":"IFERROR(INDIRECT($C$4&\"!U11\"),\"\")","v":""},{"$f":"IFERROR(INDIRECT($C$4&\"!V11\"),\"\")","v":""},{"$f":"IFERROR(INDIRECT($C$4&\"!W11\"),\"\")","v":""},{"$f":"IFERROR(INDIRECT($C$4&\"!X11\"),\"\")","v":""},{"$f":"IFERROR(INDIRECT($C$4&\"!Y11\"),\"\")","v":""},null,10]
[null,null,11,{"$f":"IFERROR(INDIRECT($C$4&\"!B12\"),\"\")","v":""},{"$f":"IFERROR(INDIRECT($C$4&\"!C12\"),\"\")","v":""},{"$f":"IFERROR(INDIRECT($C$4&\"!D12\"),\"\")","v":""},{"$f":"IFERROR(INDIRECT($C$4&\"!E12\"),\"\")","v":""},{"$f":"IFERROR(INDIRECT($C$4&\"!F12\"),\"\")","v":""},{"$f":"IFERROR(INDIRECT($C$4&\"!G12\"),\"\")","v":""},{"$f":"IFERROR(INDIRECT($C$4&\"!H12\"),\"\")","v":""},{"$f":"IFERROR(INDIRECT($C$4&\"!I12\"),\"\")","v":""},{"$f":"IFERROR(INDIRECT($C$4&\"!J12\"),\"\")","v":""},{"$f":"IFERROR(INDIRECT($C$4&\"!K12\"),\"\")","v":""},{"$f":"IFERROR(INDIRECT($C$4&\"!L12\"),\"\")","v":""},{"$f":"IFERROR(INDIRECT($C$4&\"!M12\"),\"\")","v":""},{"$f":"IFERROR(INDIRECT($C$4&\"!N12\"),\"\")","v":""},{"$f":"IFERROR(INDIRECT($C$4&\"!O12\"),\"\")","v":""},{"$f":"IFERROR(INDIRECT($C$4&\"!P12\"),\"\")","v":""},{"$f":"IFERROR(INDIRECT($C$4&\"!Q12\"),\"\")","v":""},{"$f":"IFERROR(INDIRECT($C$4&\"!R12\"),\"\")","v":""},{"$f":"IFERROR(INDIRECT($C$4&\"!S12\"),\"\")","v":""},{"$f":"IFERROR(INDIRECT($C$4&\"!T12\"),\"\")","v":""},{"$f":"IFERROR(INDIRECT($C$4&\"!U12\"),\"\")","v":""},{"$f":"IFERROR(INDIRECT($C$4&\"!V12\"),\"\")","v":""},{"$f":"IFERROR(INDIRECT($C$4&\"!W12\"),\"\")","v":""},{"$f":"IFERROR(INDIRECT($C$4&\"!X12\"),\"\")","v":""},{"$f":"IFERROR(INDIRECT($C$4&\"!Y12\"),\"\")","v":""},null,11]
[null,null,12,{"$f":"IFERROR(INDIRECT($C$4&\"!B13\"),\"\")","v":""},{"$f":"IFERROR(INDIRECT($C$4&\"!C13\"),\"\")","v":""},{"$f":"IFERROR(INDIRECT($C$4&\"!D13\"),\"\")","v":""},{"$f":"IFERROR(INDIRECT($C$4&\"!E13\"),\"\")","v":""},{"$f":"IFERROR(INDIRECT($C$4&\"!F13\"),\"\")","v":""},{"$f":"IFERROR(INDIRECT($C$4&\"!G13\"),\"\")","v":""},{"$f":"IFERROR(INDIRECT($C$4&\"!H13\"),\"\")","v":""},{"$f":"IFERROR(INDIRECT($C$4&\"!I13\"),\"\")","v":""},{"$f":"IFERROR(INDIRECT($C$4&\"!J13\"),\"\")","v":""},{"$f":"IFERROR(INDIRECT($C$4&\"!K13\"),\"\")","v":""},{"$f":"IFERROR(INDIRECT($C$4&\"!L13\"),\"\")","v":""},{"$f":"IFERROR(INDIRECT($C$4&\"!M13\"),\"\")","v":""},{"$f":"IFERROR(INDIRECT($C$4&\"!N13\"),\"\")","v":""},{"$f":"IFERROR(INDIRECT($C$4&\"!O13\"),\"\")","v":""},{"$f":"IFERROR(INDIRECT($C$4&\"!P13\"),\"\")","v":""},{"$f":"IFERROR(INDIRECT($C$4&\"!Q13\"),\"\")","v":""},{"$f":"IFERROR(INDIRECT($C$4&\"!R13\"),\"\")","v":""},{"$f":"IFERROR(INDIRECT($C$4&\"!S13\"),\"\")","v":""},{"$f":"IFERROR(INDIRECT($C$4&\"!T13\"),\"\")","v":""},{"$f":"IFERROR(INDIRECT($C$4&\"!U13\"),\"\")","v":""},{"$f":"IFERROR(INDIRECT($C$4&\"!V13\"),\"\")","v":""},{"$f":"IFERROR(INDIRECT($C$4&\"!W13\"),\"\")","v":""},{"$f":"IFERROR(INDIRECT($C$4&\"!X13\"),\"\")","v":""},{"$f":"IFERROR(INDIRECT($C$4&\"!Y13\"),\"\")","v":""},null,12]
[null,null,1,{"$f":"IFERROR(INDIRECT($C$4&\"!B14\"),\"\")","v":""},{"$f":"IFERROR(INDIRECT($C$4&\"!C14\"),\"\")","v":""},{"$f":"IFERROR(INDIRECT($C$4&\"!D14\"),\"\")","v":""},{"$f":"IFERROR(INDIRECT($C$4&\"!E14\"),\"\")","v":""},{"$f":"IFERROR(INDIRECT($C$4&\"!F14\"),\"\")","v":""},{"$f":"IFERROR(INDIRECT($C$4&\"!G14\"),\"\")","v":""},{"$f":"IFERROR(INDIRECT($C$4&\"!H14\"),\"\")","v":""},{"$f":"IFERROR(INDIRECT($C$4&\"!I14\"),\"\")","v":""},{"$f":"IFERROR(INDIRECT($C$4&\"!J14\"),\"\")","v":""},{"$f":"IFERROR(INDIRECT($C$4&\"!K14\"),\"\")","v":""},{"$f":"IFERROR(INDIRECT($C$4&\"!L14\"),\"\")","v":""},{"$f":"IFERROR(INDIRECT($C$4&\"!M14\"),\"\")","v":""},{"$f":"IFERROR(INDIRECT($C$4&\"!N14\"),\"\")","v":""},{"$f":"IFERROR(INDIRECT($C$4&\"!O14\"),\"\")","v":""},{"$f":"IFERROR(INDIRECT($C$4&\"!P14\"),\"\")","v":""},{"$f":"IFERROR(INDIRECT($C$4&\"!Q14\"),\"\")","v":""},{"$f":"IFERROR(INDIRECT($C$4&\"!R14\"),\"\")","v":""},{"$f":"IFERROR(INDIRECT($C$4&\"!S14\"),\"\")","v":""},{"$f":"IFERROR(INDIRECT($C$4&\"!T14\"),\"\")","v":""},{"$f":"IFERROR(INDIRECT($C$4&\"!U14\"),\"\")","v":""},{"$f":"IFERROR(INDIRECT($C$4&\"!V14\"),\"\")","v":""},{"$f":"IFERROR(INDIRECT($C$4&\"!W14\"),\"\")","v":""},{"$f":"IFERROR(INDIRECT($C$4&\"!X14\"),\"\")","v":""},{"$f":"IFERROR(INDIRECT($C$4&\"!Y14\"),\"\")","v":""},null,1]
[null,null,2,{"$f":"IFERROR(INDIRECT($C$4&\"!B15\"),\"\")","v":""},{"$f":"IFERROR(INDIRECT($C$4&\"!C15\"),\"\")","v":""},{"$f":"IFERROR(INDIRECT($C$4&\"!D15\"),\"\")","v":""},{"$f":"IFERROR(INDIRECT($C$4&\"!E15\"),\"\")","v":""},{"$f":"IFERROR(INDIRECT($C$4&\"!F15\"),\"\")","v":""},{"$f":"IFERROR(INDIRECT($C$4&\"!G15\"),\"\")","v":""},{"$f":"IFERROR(INDIRECT($C$4&\"!H15\"),\"\")","v":""},{"$f":"IFERROR(INDIRECT($C$4&\"!I15\"),\"\")","v":""},{"$f":"IFERROR(INDIRECT($C$4&\"!J15\"),\"\")","v":""},{"$f":"IFERROR(INDIRECT($C$4&\"!K15\"),\"\")","v":""},{"$f":"IFERROR(INDIRECT($C$4&\"!L15\"),\"\")","v":""},{"$f":"IFERROR(INDIRECT($C$4&\"!M15\"),\"\")","v":""},{"$f":"IFERROR(INDIRECT($C$4&\"!N15\"),\"\")","v":""},{"$f":"IFERROR(INDIRECT($C$4&\"!O15\"),\"\")","v":""},{"$f":"IFERROR(INDIRECT($C$4&\"!P15\"),\"\")","v":""},{"$f":"IFERROR(INDIRECT($C$4&\"!Q15\"),\"\")","v":""},{"$f":"IFERROR(INDIRECT($C$4&\"!R15\"),\"\")","v":""},{"$f":"IFERROR(INDIRECT($C$4&\"!S15\"),\"\")","v":""},{"$f":"IFERROR(INDIRECT($C$4&\"!T15\"),\"\")","v":""},{"$f":"IFERROR(INDIRECT($C$4&\"!U15\"),\"\")","v":""},{"$f":"IFERROR(INDIRECT($C$4&\"!V15\"),\"\")","v":""},{"$f":"IFERROR(INDIRECT($C$4&\"!W15\"),\"\")","v":""},{"$f":"IFERROR(INDIRECT($C$4&\"!X15\"),\"\")","v":""},{"$f":"IFERROR(INDIRECT($C$4&\"!Y15\"),\"\")","v":""},null,2]
[null,null,3,{"$f":"IFERROR(INDIRECT($C$4&\"!B16\"),\"\")","v":""},{"$f":"IFERROR(INDIRECT($C$4&\"!C16\"),\"\")","v":""},{"$f":"IFERROR(INDIRECT($C$4&\"!D16\"),\"\")","v":""},{"$f":"IFERROR(INDIRECT($C$4&\"!E16\"),\"\")","v":""},{"$f":"IFERROR(INDIRECT($C$4&\"!F16\"),\"\")","v":""},{"$f":"IFERROR(INDIRECT($C$4&\"!G16\"),\"\")","v":""},{"$f":"IFERROR(INDIRECT($C$4&\"!H16\"),\"\")","v":""},{"$f":"IFERROR(INDIRECT($C$4&\"!I16\"),\"\")","v":""},{"$f":"IFERROR(INDIRECT($C$4&\"!J16\"),\"\")","v":""},{"$f":"IFERROR(INDIRECT($C$4&\"!K16\"),\"\")","v":""},{"$f":"IFERROR(INDIRECT($C$4&\"!L16\"),\"\")","v":""},{"$f":"IFERROR(INDIRECT($C$4&\"!M16\"),\"\")","v":""},{"$f":"IFERROR(INDIRECT($C$4&\"!N16\"),\"\")","v":""},{"$f":"IFERROR(INDIRECT($C$4&\"!O16\"),\"\")","v":""},{"$f":"IFERROR(INDIRECT($C$4&\"!P16\"),\"\")","v":""},{"$f":"IFERROR(INDIRECT($C$4&\"!Q16\"),\"\")","v":""},{"$f":"IFERROR(INDIRECT($C$4&\"!R16\"),\"\")","v":""},{"$f":"IFERROR(INDIRECT($C$4&\"!S16\"),\"\")","v":""},{"$f":"IFERROR(INDIRECT($C$4&\"!T16\"),\"\")","v":""},{"$f":"IFERROR(INDIRECT($C$4&\"!U16\"),\"\")","v":""},{"$f":"IFERROR(INDIRECT($C$4&\"!V16\"),\"\")","v":""},{"$f":"IFERROR(INDIRECT($C$4&\"!W16\"),\"\")","v":""},{"$f":"IFERROR(INDIRECT($C$4&\"!X16\"),\"\")","v":""},{"$f":"IFERROR(INDIRECT($C$4&\"!Y16\"),\"\")","v":""},null,3]
[]
[null,null,null,"定格条件\n【冷却】",null,"冷却水","入口温度","30℃","冷水","入口温度","12℃",null,null,null,null,null,null,null,null,"定格条件\n【加熱】",null,"熱源水","入口温度","15℃(不定)",null,"温水","入口温度","40℃"]
[null,null,null,null,null,null,"出口温度","35℃",null,"出口温度","7℃",null,null,null,null,null,null,null,null,null,null,null,"出口温度","10℃(不定)",null,null,"出口温度","45℃"]
[]
[null,null,null,"設備導入前",null,null,null,null,null,null,null,null,null,null,null,null,"前1","前2","前3"]
[null,null,null,null,"定格冷却能力",null,null,null,"水冷HPチラーの仕様を入力",null,null,null,null,null,null,"Φco",150,null,null,"kW"]
[null,null,null,null,"定格冷却消費電力",null,null,null,"水冷HPチラーの仕様を入力",null,null,null,null,null,null,"Pco",30,null,null,"kW"]
[null,null,null,null,"定格冷却COP",null,null,null,"自動計算",null,null,null,null,null,null,"σco",{"$f":"IFERROR(Q$29/Q$30,\"\")","v":5},{"$f":"IFERROR(R$29/R$30,\"\")","v":""},{"$f":"IFERROR(S$29/S$30,\"\")","v":""},"σco＝Φco／Pco"]
[null,null,null,null,"定格加熱能力",null,null,null,"水冷HPチラーの仕様を入力",null,null,null,null,null,null,"Φwo",180,null,null,"kW"]
[null,null,null,null,"定格加熱消費電力",null,null,null,"水冷HPチラーの仕様を入力",null,null,null,null,null,null,"Pwo",34.299999999999997,null,null,"kW"]
[null,null,null,null,"定格加熱COP",null,null,null,"自動計算",null,null,null,null,null,null,"σwo",{"$f":"IFERROR(Q$32/Q$33,\"\")","v":5.2478134110787176},{"$f":"IFERROR(R$32/R$33,\"\")","v":""},{"$f":"IFERROR(S$32/S$33,\"\")","v":""},"σwo＝Φwo／Pwo"]
[null,null,null,null,"冷却塔ファンモータ定格出力",null,null,null,"水冷HPチラーの仕様を入力",null,null,null,null,null,null,"Pf",1.5,null,null,"kW"]
[null,null,null,null,"冷却水ポンプ定格出力",null,null,null,"水冷HPチラーの仕様を入力",null,null,null,null,null,null,"Pp1",3.7,null,null,"kW"]
[null,null,null,null,"冷温水ポンプ定格出力",null,null,null,"水冷HPチラーの仕様を入力",null,null,null,null,null,null,"Pp2",2.2000000000000002,null,null,"kW"]
[null,null,null,null,"暖房時熱源水ポンプ定格出力",null,null,null,"水冷HPチラーの仕様を入力",null,null,null,null,null,null,"Pps1",2.2000000000000002,null,null,"kW"]
[null,null,null,null,"最大冷却負荷",null,null,null,null,null,null,null,null,null,null,"Qc",null,null,null,"kW"]
[null,null,null,null,null,null,null,null,null,null,null,null,null,null,null,null,{"$f":"IF($Q$39=\"\",0.8,IF($Q$39=0,0.8,IF($Q$29<$Q$39,1,$Q$39/$Q$29)))","v":0.8},{"$f":"IF($R$39=\"\",0.8,IF($R$39=0,0.8,IF($R$29<$R$39,1,$R$39/$R$29)))","v":0.8},{"$f":"IF($S$39=\"\",0.8,IF($S$39=0,0.8,IF($S$29<$S$39,1,$S$39/$S$29)))","v":0.8}]
[]
[null,null,null,"設備導入後",null,null,null,null,null,null,null,null,null,null,null,null,"後1","後2","後3"]
[null,null,null,null,"定格冷却能力",null,null,null,"水冷HPチラーの仕様を入力",null,null,null,null,null,null,"Φco",null,null,null,"kW"]
[null,null,null,null,"定格冷却消費電力",null,null,null,"水冷HPチラーの仕様を入力",null,null,null,null,null,null,"Pco",null,null,null,"kW"]
[null,null,null,null,"定格冷却COP",null,null,null,"自動計算",null,null,null,null,null,null,"σco",{"$f":"IFERROR(Q43/Q44,\"\")","v":""},{"$f":"IFERROR(R43/R44,\"\")","v":""},{"$f":"IFERROR(S43/S44,\"\")","v":""},"σco＝Φco／Pco"]
[null,null,null,null,"定格加熱能力",null,null,null,"水冷HPチラーの仕様を入力",null,null,null,null,null,null,"Φwo",null,null,null,"kW"]
[null,null,null,null,"定格加熱消費電力",null,null,null,"水冷HPチラーの仕様を入力",null,null,null,null,null,null,"Pwo",null,null,null,"kW"]
[null,null,null,null,"定格加熱COP",null,null,null,"自動計算",null,null,null,null,null,null,"σwo",{"$f":"IFERROR(Q46/Q47,\"\")","v":""},{"$f":"IFERROR(R46/R47,\"\")","v":""},{"$f":"IFERROR(S46/S47,\"\")","v":""},"σwo＝Φwo／Pwo"]
[null,null,null,null,"冷却塔ファンモータ定格出力",null,null,null,"水冷HPチラーの仕様を入力",null,null,null,null,null,null,"Pf",null,null,null,"kW"]
[null,null,null,null,"冷却水ポンプ定格出力",null,null,null,"水冷HPチラーの仕様を入力",null,null,null,null,null,null,"Pp1",null,null,null,"kW"]
[null,null,null,null,"冷温水ポンプ定格出力",null,null,null,"水冷HPチラーの仕様を入力",null,null,null,null,null,null,"Pp2",null,null,null,"kW"]
[null,null,null,null,"暖房時熱源水ポンプ定格出力",null,null,null,"水冷HPチラーの仕様を入力",null,null,null,null,null,null,"Pps1",null,null,null,"kW"]
[null,null,null,null,"最大冷却負荷",null,null,null,null,null,null,null,null,null,null,"Qc",null,null,null,"kW"]
[null,null,null,null,null,null,null,null,null,null,null,null,null,null,null,null,{"$f":"IF($Q$53=\"\",0.8,IF($Q$53=0,0.8,IF($Q$43<$Q$53,1,$Q$53/$Q$43)))","v":0.8},{"$f":"IF($R$53=\"\",0.8,IF($R$53=0,0.8,IF($R$43<$R$53,1,$R$53/$R$43)))","v":0.8},{"$f":"IF($S$53=\"\",0.8,IF($S$53=0,0.8,IF($S$43<$S$53,1,$S$53/$S$43)))","v":0.8}]
[]
[null,null,"設備導入前年間電力使用量[kWh]"]
[null,null,null,"冷却(Ec)",null,"加熱(Ew)",null,"合計(Ecw)"]
[null,null,null,{"$f":"IFERROR($F$74+$M$74+$T$74,\"\")","v":0},null,{"$f":"IFERROR($I$74+$P$74+$W$74,\"\")","v":0},null,{"$f":"IFERROR($J$74+$Q$74+$X$74,\"\")","v":0}]
[]
[null,null,null,"前1",null,null,null,null,null,null,"前2",null,null,null,null,null,null,"前3"]
[null,null,"月    期間","主機(Ecc)","補機(Eaxc)","全体(Ec)","主機(Eww)","補機(Eaxw)","全体(Ew)","月合計","主機(Ecc)","補機(Eaxc)","全体(Ec)","主機(Eww)","補機(Eaxw)","全体(Ew)","月合計","主機(Ecc)","補機(Eaxc)","全体(Ec)","主機(Eww)","補機(Eaxw)","全体(Ew)","月合計"]
[null,null,4,{"$f":"IF($C$7=\"---\",\"\",IFERROR(AX149,\"\"))","v":""},{"$f":"IF($C$7=\"---\",\"\",IFERROR(AY149,\"\"))","v":""},"",{"$f":"IF($C$7=\"---\",\"\",IFERROR(AX171,\"\"))","v":""},{"$f":"IF($C$7=\"---\",\"\",IFERROR(AY171,\"\"))","v":""},{"$f":"IF($C$7=\"---\",\"\",IFERROR(AZ171,\"\"))","v":""},{"$f":"IFERROR(SUM(F62+I62),\"\")","v":""},{"$f":"IF($C$7=\"---\",\"\",IFERROR($BA149,\"\"))","v":""},{"$f":"IF($C$7=\"---\",\"\",IFERROR($BB149,\"\"))","v":""},{"$f":"IF($C$7=\"---\",\"\",IFERROR($BC149,\"\"))","v":""},{"$f":"IF($C$7=\"---\",\"\",IFERROR(BA171,\"\"))","v":""},{"$f":"IF($C$7=\"---\",\"\",IFERROR(BB171,\"\"))","v":""},{"$f":"IF($C$7=\"---\",\"\",IFERROR(BC171,\"\"))","v":""},{"$f":"IFERROR(SUM(M62+P62),\"\")","v":""},{"$f":"IF($C$7=\"---\",\"\",IFERROR($BD149,\"\"))","v":""},{"$f":"IF($C$7=\"---\",\"\",IFERROR($BE149,\"\"))","v":""},{"$f":"IF($C$7=\"---\",\"\",IFERROR($BF149,\"\"))","v":""},{"$f":"IF($C$7=\"---\",\"\",IFERROR(BD171,\"\"))","v":""},{"$f":"IF($C$7=\"---\",\"\",IFERROR(BE171,\"\"))","v":""},{"$f":"IF($C$7=\"---\",\"\",IFERROR(BF171,\"\"))","v":""},{"$f":"IFERROR(SUM(T62+W62),\"\")","v":""}]
[null,null,5,{"$f":"IF($C$7=\"---\",\"\",IFERROR($AX150,\"\"))","v":""},{"$f":"IF($C$7=\"---\",\"\",IFERROR(AY150,\"\"))","v":""},{"$f":"IF($C$7=\"---\",\"\",IFERROR(AZ150,\"\"))","v":""},{"$f":"IF($C$7=\"---\",\"\",IFERROR(AX172,\"\"))","v":""},"","",{"$f":"IFERROR(SUM(F63+I63),\"\")","v":""},{"$f":"IF($C$7=\"---\",\"\",IFERROR($BA150,\"\"))","v":""},{"$f":"IF($C$7=\"---\",\"\",IFERROR($BB150,\"\"))","v":""},{"$f":"IF($C$7=\"---\",\"\",IFERROR($BC150,\"\"))","v":""},{"$f":"IF($C$7=\"---\",\"\",IFERROR(BA172,\"\"))","v":""},"","",{"$f":"IFERROR(SUM(M63+P63),\"\")","v":""},{"$f":"IF($C$7=\"---\",\"\",IFERROR($BD150,\"\"))","v":""},{"$f":"IF($C$7=\"---\",\"\",IFERROR($BE150,\"\"))","v":""},{"$f":"IF($C$7=\"---\",\"\",IFERROR($BF150,\"\"))","v":""},{"$f":"IF($C$7=\"---\",\"\",IFERROR(BD172,\"\"))","v":""},"","",{"$f":"IFERROR(SUM(T63+W63),\"\")","v":""}]
[null,null,6,"","","",{"$f":"IF($C$7=\"---\",\"\",IFERROR(AX173,\"\"))","v":""},"","","","","","",{"$f":"IF($C$7=\"---\",\"\",IFERROR(BA173,\"\"))","v":""},"","","","","","",{"$f":"IF($C$7=\"---\",\"\",IFERROR(BD173,\"\"))","v":""},"","",""]
[null,null,7,"","","",{"$f":"IF($C$7=\"---\",\"\",IFERROR(AX174,\"\"))","v":""},"","","","","","",{"$f":"IF($C$7=\"---\",\"\",IFERROR(BA174,\"\"))","v":""},"","","","","","",{"$f":"IF($C$7=\"---\",\"\",IFERROR(BD174,\"\"))","v":""},"","",""]
[null,null,8,"","","",{"$f":"IF($C$7=\"---\",\"\",IFERROR(AX175,\"\"))","v":""},"","","","","","",{"$f":"IF($C$7=\"---\",\"\",IFERROR(BA175,\"\"))","v":""},"","","","","","",{"$f":"IF($C$7=\"---\",\"\",IFERROR(BD175,\"\"))","v":""},"","",""]
[null,null,9,"","","",{"$f":"IF($C$7=\"---\",\"\",IFERROR(AX176,\"\"))","v":""},"","","","","","",{"$f":"IF($C$7=\"---\",\"\",IFERROR(BA176,\"\"))","v":""},"","","","","","",{"$f":"IF($C$7=\"---\",\"\",IFERROR(BD176,\"\"))","v":""},"","",""]
[null,null,10,"","","",{"$f":"IF($C$7=\"---\",\"\",IFERROR(AX177,\"\"))","v":""},"","","","","","",{"$f":"IF($C$7=\"---\",\"\",IFERROR(BA177,\"\"))","v":""},"","","","","","",{"$f":"IF($C$7=\"---\",\"\",IFERROR(BD177,\"\"))","v":""},"","",""]
[null,null,11,"","","",{"$f":"IF($C$7=\"---\",\"\",IFERROR(AX178,\"\"))","v":""},"","","","","","",{"$f":"IF($C$7=\"---\",\"\",IFERROR(BA178,\"\"))","v":""},"","","","","","",{"$f":"IF($C$7=\"---\",\"\",IFERROR(BD178,\"\"))","v":""},"","",""]
[null,null,12,"","","",{"$f":"IF($C$7=\"---\",\"\",IFERROR(AX179,\"\"))","v":""},"","",{"$f":"IFERROR(SUM(F70+I70),\"\")","v":""},"","","",{"$f":"IF($C$7=\"---\",\"\",IFERROR(BA179,\"\"))","v":""},"","",{"$f":"IFERROR(SUM(M70+P70),\"\")","v":""},"","","",{"$f":"IF($C$7=\"---\",\"\",IFERROR(BD179,\"\"))","v":""},"","",{"$f":"IFERROR(SUM(T70+W70),\"\")","v":""}]
[null,null,1,"","","",{"$f":"IF($C$7=\"---\",\"\",IFERROR(AX180,\"\"))","v":""},"","","","","","",{"$f":"IF($C$7=\"---\",\"\",IFERROR(BA180,\"\"))","v":""},"","","","","","",{"$f":"IF($C$7=\"---\",\"\",IFERROR(BD180,\"\"))","v":""},"","",""]
[null,null,2,"","","",{"$f":"IF($C$7=\"---\",\"\",IFERROR(AX181,\"\"))","v":""},"","",{"$f":"IFERROR(SUM(F72+I72),\"\")","v":""},"","","",{"$f":"IF($C$7=\"---\",\"\",IFERROR(BA181,\"\"))","v":""},"","",{"$f":"IFERROR(SUM(M72+P72),\"\")","v":""},"","","",{"$f":"IF($C$7=\"---\",\"\",IFERROR(BD181,\"\"))","v":""},"","",""]
[null,null,3,"","","",{"$f":"IF($C$7=\"---\",\"\",IFERROR(AX182,\"\"))","v":""},"","","","","","",{"$f":"IF($C$7=\"---\",\"\",IFERROR(BA182,\"\"))","v":""},"","","","","","",{"$f":"IF($C$7=\"---\",\"\",IFERROR(BD182,\"\"))","v":""},"","",""]
[null,null,"合計",{"$f":"IFERROR(SUM($D$62:$D$73),\"\")","v":0},{"$f":"IFERROR(SUM($E$62:$E$73),\"\")","v":0},{"$f":"IFERROR(SUM(F$62:F$73),\"\")","v":0},0,0,0,0,0,{"$f":"IFERROR(SUM(L$62:L$73),\"\")","v":0},0,0,0,0,0,0,0,{"$f":"IFERROR(SUM(T$62:T$73),\"\")","v":0},0,0,0,0]
[]
[]
[null,null,"設備導入後年間電力使用量[kWh]"]
[null,null,null,"冷却(Ec)",null,"加熱(Ew)",null,"合計(Ecw)"]
[null,null,null,{"$f":"IFERROR($F$95+$M$95+$T$95,\"\")","v":0},null,{"$f":"IFERROR($I$95+$P$95+$W$95,\"\")","v":0},null,{"$f":"IFERROR($J$95+$Q$95+$X$95,\"\")","v":0}]
[]
[null,null,null,"後1",null,null,null,null,null,null,"後2",null,null,null,null,null,null,"後3"]
[null,null,"月    期間","主機(Ecc)","補機(Eaxc)","全体(Ec)","主機(Eww)","補機(Eaxw)","全体(Ew)","月合計","主機(Ecc)","補機(Eaxc)","全体(Ec)","主機(Eww)","補機(Eaxw)","全体(Ew)","月合計","主機(Ecc)","補機(Eaxc)","全体(Ec)","主機(Eww)","補機(Eaxw)","全体(Ew)","月合計"]
[null,null,4,{"$f":"IF($C$7=\"---\",\"\",IFERROR($BH149,\"\"))","v":""},{"$f":"IF($C$7=\"---\",\"\",IFERROR($BI149,\"\"))","v":""},{"$f":"IF($C$7=\"---\",\"\",IFERROR($BJ149,\"\"))","v":""},{"$f":"IF($C$7=\"---\",\"\",IFERROR($BH171,\"\"))","v":""},{"$f":"IF($C$7=\"---\",\"\",IFERROR($BI171,\"\"))","v":""},{"$f":"IF($C$7=\"---\",\"\",IFERROR($BJ171,\"\"))","v":""},{"$f":"IFERROR(SUM(F83+I83),\"\")","v":""},{"$f":"IF($C$7=\"---\",\"\",IFERROR($BK149,\"\"))","v":""},{"$f":"IF($C$7=\"---\",\"\",IFERROR($BL149,\"\"))","v":""},{"$f":"IF($C$7=\"---\",\"\",IFERROR($BM149,\"\"))","v":""},{"$f":"IF($C$7=\"---\",\"\",IFERROR($BK171,\"\"))","v":""},{"$f":"IF($C$7=\"---\",\"\",IFERROR($BL171,\"\"))","v":""},{"$f":"IF($C$7=\"---\",\"\",IFERROR($BM171,\"\"))","v":""},{"$f":"IFERROR(SUM(M83+P83),\"\")","v":""},{"$f":"IF($C$7=\"---\",\"\",IFERROR($BN149,\"\"))","v":""},{"$f":"IF($C$7=\"---\",\"\",IFERROR($BO149,\"\"))","v":""},{"$f":"IF($C$7=\"---\",\"\",IFERROR($BP149,\"\"))","v":""},{"$f":"IF($C$7=\"---\",\"\",IFERROR($BN171,\"\"))","v":""},{"$f":"IF($C$7=\"---\",\"\",IFERROR($BO171,\"\"))","v":""},{"$f":"IF($C$7=\"---\",\"\",IFERROR($BP171,\"\"))","v":""},{"$f":"IFERROR(SUM(T83+W83),\"\")","v":""}]
[null,null,5,{"$f":"IF($C$7=\"---\",\"\",IFERROR($BH150,\"\"))","v":""},{"$f":"IF($C$7=\"---\",\"\",IFERROR($BI150,\"\"))","v":""},{"$f":"IF($C$7=\"---\",\"\",IFERROR($BJ150,\"\"))","v":""},{"$f":"IF($C$7=\"---\",\"\",IFERROR($BH172,\"\"))","v":""},{"$f":"IF($C$7=\"---\",\"\",IFERROR($BI172,\"\"))","v":""},{"$f":"IF($C$7=\"---\",\"\",IFERROR($BJ172,\"\"))","v":""},{"$f":"IFERROR(SUM(F84+I84),\"\")","v":""},{"$f":"IF($C$7=\"---\",\"\",IFERROR($BK150,\"\"))","v":""},{"$f":"IF($C$7=\"---\",\"\",IFERROR($BL150,\"\"))","v":""},{"$f":"IF($C$7=\"---\",\"\",IFERROR($BM150,\"\"))","v":""},{"$f":"IF($C$7=\"---\",\"\",IFERROR($BK172,\"\"))","v":""},{"$f":"IF($C$7=\"---\",\"\",IFERROR($BL172,\"\"))","v":""},{"$f":"IF($C$7=\"---\",\"\",IFERROR($BM172,\"\"))","v":""},{"$f":"IFERROR(SUM(M84+P84),\"\")","v":""},{"$f":"IF($C$7=\"---\",\"\",IFERROR($BN150,\"\"))","v":""},{"$f":"IF($C$7=\"---\",\"\",IFERROR($BO150,\"\"))","v":""},{"$f":"IF($C$7=\"---\",\"\",IFERROR($BP150,\"\"))","v":""},{"$f":"IF($C$7=\"---\",\"\",IFERROR($BN172,\"\"))","v":""},{"$f":"IF($C$7=\"---\",\"\",IFERROR($BO172,\"\"))","v":""},{"$f":"IF($C$7=\"---\",\"\",IFERROR($BP172,\"\"))","v":""},{"$f":"IFERROR(SUM(T84+W84),\"\")","v":""}]
[null,null,6,"","","","","","","","","","","","","","","","","","","","",""]
[null,null,7,"","","","","","","","","","","","","","","","","","","","",""]
[null,null,8,"","","","","","","","","","","","","","","","","","","","",""]
[null,null,9,"","","","","","","","","","","","","","","","","","","","",""]
[null,null,10,"","","","","","","","","","","","","","","","","","","","",""]
[null,null,11,"","","","","","","","","","","","","","","","","","","","",{"$f":"IFERROR(SUM(T90+W90),\"\")","v":""}]
[null,null,12,"","","","","","",{"$f":"IFERROR(SUM(F91+I91),\"\")","v":""},"","","","","","",{"$f":"IFERROR(SUM(M91+P91),\"\")","v":""},"","","","","","",{"$f":"IFERROR(SUM(T91+W91),\"\")","v":""}]
[null,null,1,"","","","","","","","","","","","","","","","","","","","",""]
[null,null,2,"","","","","","","","","","","","","","","","","","","","",""]
[null,null,3,"","","",{"$f":"IF($C$7=\"---\",\"\",IFERROR($BH182,\"\"))","v":""},{"$f":"IF($C$7=\"---\",\"\",IFERROR($BI182,\"\"))","v":""},{"$f":"IF($C$7=\"---\",\"\",IFERROR($BJ182,\"\"))","v":""},"","","","","","","","","","","","","","",""]
[null,null,"合計",{"$f":"IFERROR(SUM(D83:D94),\"\")","v":0},{"$f":"IFERROR(SUM(E83:E94),\"\")","v":0},0,0,0,0,0,0,0,0,0,0,0,0,0,0,0,0,0,0,0]
[]
[]
[null,null,"作業表1(青色のセルを「24」、オレンジ色のセルを「19」として抽出）"]
[null,null,null," 時刻"]
[null,null,"月",0,1,2,3,4,5,6,7,8,9,10,11,12,13,14,15,16,17,18,19,20,21,22,23,"月"]
[null,null,4,{"$f":"CELLCOLOR($D$12)","v":-4142},{"$f":"CELLCOLOR($E$12)","v":-4142},{"$f":"CELLCOLOR($F$12)","v":-4142},{"$f":"CELLCOLOR($G$12)","v":-4142},{"$f":"CELLCOLOR($H$12)","v":-4142},{"$f":"CELLCOLOR($I$12)","v":-4142},{"$f":"CELLCOLOR($J$12)","v":-4142},{"$f":"CELLCOLOR($K$12)","v":-4142},{"$f":"CELLCOLOR($L$12)","v":-4142},{"$f":"CELLCOLOR($M$12)","v":-4142},{"$f":"CELLCOLOR($N$12)","v":-4142},{"$f":"CELLCOLOR($O$12)","v":-4142},{"$f":"CELLCOLOR($P$12)","v":-4142},{"$f":"CELLCOLOR($Q$12)","v":-4142},{"$f":"CELLCOLOR($R$12)","v":-4142},{"$f":"CELLCOLOR($S$12)","v":-4142},{"$f":"CELLCOLOR($T$12)","v":-4142},{"$f":"CELLCOLOR($U$12)","v":-4142},{"$f":"CELLCOLOR($V$12)","v":-4142},{"$f":"CELLCOLOR($W$12)","v":-4142},{"$f":"CELLCOLOR($X$12)","v":-4142},{"$f":"CELLCOLOR($Y$12)","v":-4142},{"$f":"CELLCOLOR($Z$12)","v":-4142},{"$f":"CELLCOLOR($AA$12)","v":-4142},4]
[null,null,5,{"$f":"CELLCOLOR($D$13)","v":-4142},{"$f":"CELLCOLOR($E$13)","v":-4142},{"$f":"CELLCOLOR($F$13)","v":-4142},{"$f":"CELLCOLOR($G$13)","v":-4142},{"$f":"CELLCOLOR($H$13)","v":-4142},{"$f":"CELLCOLOR($I$13)","v":-4142},{"$f":"CELLCOLOR($J$13)","v":-4142},{"$f":"CELLCOLOR($K$13)","v":-4142},{"$f":"CELLCOLOR($L$13)","v":-4142},{"$f":"CELLCOLOR($M$13)","v":-4142},{"$f":"CELLCOLOR($N$13)","v":-4142},{"$f":"CELLCOLOR($O$13)","v":-4142},{"$f":"CELLCOLOR($P$13)","v":-4142},{"$f":"CELLCOLOR($Q$13)","v":-4142},{"$f":"CELLCOLOR($R$13)","v":-4142},{"$f":"CELLCOLOR($S$13)","v":-4142},{"$f":"CELLCOLOR($T$13)","v":-4142},{"$f":"CELLCOLOR($U$13)","v":-4142},{"$f":"CELLCOLOR($V$13)","v":-4142},{"$f":"CELLCOLOR($W$13)","v":-4142},{"$f":"CELLCOLOR($X$13)","v":-4142},{"$f":"CELLCOLOR($Y$13)","v":-4142},{"$f":"CELLCOLOR($Z$13)","v":-4142},{"$f":"CELLCOLOR($AA$13)","v":-4142},5]
[null,null,6,{"$f":"CELLCOLOR($D$14)","v":-4142},{"$f":"CELLCOLOR($E$14)","v":-4142},{"$f":"CELLCOLOR($F$14)","v":-4142},{"$f":"CELLCOLOR($G$14)","v":-4142},{"$f":"CELLCOLOR($H$14)","v":-4142},{"$f":"CELLCOLOR($I$14)","v":-4142},{"$f":"CELLCOLOR($J$14)","v":-4142},{"$f":"CELLCOLOR($K$14)","v":-4142},{"$f":"CELLCOLOR($L$14)","v":-4142},{"$f":"CELLCOLOR($M$14)","v":-4142},{"$f":"CELLCOLOR($N$14)","v":-4142},{"$f":"CELLCOLOR($O$14)","v":-4142},{"$f":"CELLCOLOR($P$14)","v":-4142},{"$f":"CELLCOLOR($Q$14)","v":-4142},{"$f":"CELLCOLOR($R$14)","v":-4142},{"$f":"CELLCOLOR($S$14)","v":-4142},{"$f":"CELLCOLOR($T$14)","v":-4142},{"$f":"CELLCOLOR($U$14)","v":-4142},{"$f":"CELLCOLOR($V$14)","v":-4142},{"$f":"CELLCOLOR($W$14)","v":-4142},{"$f":"CELLCOLOR($X$14)","v":-4142},{"$f":"CELLCOLOR($Y$14)","v":-4142},{"$f":"CELLCOLOR($Z$14)","v":-4142},{"$f":"CELLCOLOR($AA$14)","v":-4142},6]
[null,null,7,{"$f":"CELLCOLOR($D$15)","v":-4142},{"$f":"CELLCOLOR($E$15)","v":-4142},{"$f":"CELLCOLOR($F$15)","v":-4142},{"$f":"CELLCOLOR($G$15)","v":-4142},{"$f":"CELLCOLOR($H$15)","v":-4142},{"$f":"CELLCOLOR($I$15)","v":-4142},{"$f":"CELLCOLOR($J$15)","v":-4142},{"$f":"CELLCOLOR($K$15)","v":-4142},{"$f":"CELLCOLOR($L$15)","v":-4142},{"$f":"CELLCOLOR($M$15)","v":-4142},{"$f":"CELLCOLOR($N$15)","v":-4142},{"$f":"CELLCOLOR($O$15)","v":-4142},{"$f":"CELLCOLOR($P$15)","v":-4142},{"$f":"CELLCOLOR($Q$15)","v":-4142},{"$f":"CELLCOLOR($R$15)","v":-4142},{"$f":"CELLCOLOR($S$15)","v":-4142},{"$f":"CELLCOLOR($T$15)","v":-4142},{"$f":"CELLCOLOR($U$15)","v":-4142},{"$f":"CELLCOLOR($V$15)","v":-4142},{"$f":"CELLCOLOR($W$15)","v":-4142},{"$f":"CELLCOLOR($X$15)","v":-4142},{"$f":"CELLCOLOR($Y$15)","v":-4142},{"$f":"CELLCOLOR($Z$15)","v":-4142},{"$f":"CELLCOLOR($AA$15)","v":-4142},7]
[null,null,8,{"$f":"CELLCOLOR($D$16)","v":-4142},{"$f":"CELLCOLOR($E$16)","v":-4142},{"$f":"CELLCOLOR($F$16)","v":-4142},{"$f":"CELLCOLOR($G$16)","v":-4142},{"$f":"CELLCOLOR($H$16)","v":-4142},{"$f":"CELLCOLOR($I$16)","v":-4142},{"$f":"CELLCOLOR($J$16)","v":-4142},{"$f":"CELLCOLOR($K$16)","v":-4142},{"$f":"CELLCOLOR($L$16)","v":-4142},{"$f":"CELLCOLOR($M$16)","v":-4142},{"$f":"CELLCOLOR($N$16)","v":-4142},{"$f":"CELLCOLOR($O$16)","v":-4142},{"$f":"CELLCOLOR($P$16)","v":-4142},{"$f":"CELLCOLOR($Q$16)","v":-4142},{"$f":"CELLCOLOR($R$16)","v":-4142},{"$f":"CELLCOLOR($S$16)","v":-4142},{"$f":"CELLCOLOR($T$16)","v":-4142},{"$f":"CELLCOLOR($U$16)","v":-4142},{"$f":"CELLCOLOR($V$16)","v":-4142},{"$f":"CELLCOLOR($W$16)","v":-4142},{"$f":"CELLCOLOR($X$16)","v":-4142},{"$f":"CELLCOLOR($Y$16)","v":-4142},{"$f":"CELLCOLOR($Z$16)","v":-4142},{"$f":"CELLCOLOR($AA$16)","v":-4142},8]
[null,null,9,{"$f":"CELLCOLOR($D$17)","v":-4142},{"$f":"CELLCOLOR($E$17)","v":-4142},{"$f":"CELLCOLOR($F$17)","v":-4142},{"$f":"CELLCOLOR($G$17)","v":-4142},{"$f":"CELLCOLOR($H$17)","v":-4142},{"$f":"CELLCOLOR($I$17)","v":-4142},{"$f":"CELLCOLOR($J$17)","v":-4142},{"$f":"CELLCOLOR($K$17)","v":-4142},{"$f":"CELLCOLOR($L$17)","v":-4142},{"$f":"CELLCOLOR($M$17)","v":-4142},{"$f":"CELLCOLOR($N$17)","v":-4142},{"$f":"CELLCOLOR($O$17)","v":-4142},{"$f":"CELLCOLOR($P$17)","v":-4142},{"$f":"CELLCOLOR($Q$17)","v":-4142},{"$f":"CELLCOLOR($R$17)","v":-4142},{"$f":"CELLCOLOR($S$17)","v":-4142},{"$f":"CELLCOLOR($T$17)","v":-4142},{"$f":"CELLCOLOR($U$17)","v":-4142},{"$f":"CELLCOLOR($V$17)","v":-4142},{"$f":"CELLCOLOR($W$17)","v":-4142},{"$f":"CELLCOLOR($X$17)","v":-4142},{"$f":"CELLCOLOR($Y$17)","v":-4142},{"$f":"CELLCOLOR($Z$17)","v":-4142},{"$f":"CELLCOLOR($AA$17)","v":-4142},9]
[null,null,10,{"$f":"CELLCOLOR($D$18)","v":-4142},{"$f":"CELLCOLOR($E$18)","v":-4142},{"$f":"CELLCOLOR($F$18)","v":-4142},{"$f":"CELLCOLOR($G$18)","v":-4142},{"$f":"CELLCOLOR($H$18)","v":-4142},{"$f":"CELLCOLOR($I$18)","v":-4142},{"$f":"CELLCOLOR($J$18)","v":-4142},{"$f":"CELLCOLOR($K$18)","v":-4142},{"$f":"CELLCOLOR($L$18)","v":-4142},{"$f":"CELLCOLOR($M$18)","v":-4142},{"$f":"CELLCOLOR($N$18)","v":-4142},{"$f":"CELLCOLOR($O$18)","v":-4142},{"$f":"CELLCOLOR($P$18)","v":-4142},{"$f":"CELLCOLOR($Q$18)","v":-4142},{"$f":"CELLCOLOR($R$18)","v":-4142},{"$f":"CELLCOLOR($S$18)","v":-4142},{"$f":"CELLCOLOR($T$18)","v":-4142},{"$f":"CELLCOLOR($U$18)","v":-4142},{"$f":"CELLCOLOR($V$18)","v":-4142},{"$f":"CELLCOLOR($W$18)","v":-4142},{"$f":"CELLCOLOR($X$18)","v":-4142},{"$f":"CELLCOLOR($Y$18)","v":-4142},{"$f":"CELLCOLOR($Z$18)","v":-4142},{"$f":"CELLCOLOR($AA$18)","v":-4142},10]
[null,null,11,{"$f":"CELLCOLOR($D$19)","v":-4142},{"$f":"CELLCOLOR($E$19)","v":-4142},{"$f":"CELLCOLOR($F$19)","v":-4142},{"$f":"CELLCOLOR($G$19)","v":-4142},{"$f":"CELLCOLOR($H$19)","v":-4142},{"$f":"CELLCOLOR($I$19)","v":-4142},{"$f":"CELLCOLOR($J$19)","v":-4142},{"$f":"CELLCOLOR($K$19)","v":-4142},{"$f":"CELLCOLOR($L$19)","v":-4142},{"$f":"CELLCOLOR($M$19)","v":-4142},{"$f":"CELLCOLOR($N$19)","v":-4142},{"$f":"CELLCOLOR($O$19)","v":-4142},{"$f":"CELLCOLOR($P$19)","v":-4142},{"$f":"CELLCOLOR($Q$19)","v":-4142},{"$f":"CELLCOLOR($R$19)","v":-4142},{"$f":"CELLCOLOR($S$19)","v":-4142},{"$f":"CELLCOLOR($T$19)","v":-4142},{"$f":"CELLCOLOR($U$19)","v":-4142},{"$f":"CELLCOLOR($V$19)","v":-4142},{"$f":"CELLCOLOR($W$19)","v":-4142},{"$f":"CELLCOLOR($X$19)","v":-4142},{"$f":"CELLCOLOR($Y$19)","v":-4142},{"$f":"CELLCOLOR($Z$19)","v":-4142},{"$f":"CELLCOLOR($AA$19)","v":-4142},11]
[null,null,12,{"$f":"CELLCOLOR($D$20)","v":-4142},{"$f":"CELLCOLOR($E$20)","v":-4142},{"$f":"CELLCOLOR($F$20)","v":-4142},{"$f":"CELLCOLOR($G$20)","v":-4142},{"$f":"CELLCOLOR($H$20)","v":-4142},{"$f":"CELLCOLOR($I$20)","v":-4142},{"$f":"CELLCOLOR($J$20)","v":-4142},{"$f":"CELLCOLOR($K$20)","v":-4142},{"$f":"CELLCOLOR($L$20)","v":-4142},{"$f":"CELLCOLOR($M$20)","v":-4142},{"$f":"CELLCOLOR($N$20)","v":-4142},{"$f":"CELLCOLOR($O$20)","v":-4142},{"$f":"CELLCOLOR($P$20)","v":-4142},{"$f":"CELLCOLOR($Q$20)","v":-4142},{"$f":"CELLCOLOR($R$20)","v":-4142},{"$f":"CELLCOLOR($S$20)","v":-4142},{"$f":"CELLCOLOR($T$20)","v":-4142},{"$f":"CELLCOLOR($U$20)","v":-4142},{"$f":"CELLCOLOR($V$20)","v":-4142},{"$f":"CELLCOLOR($W$20)","v":-4142},{"$f":"CELLCOLOR($X$20)","v":-4142},{"$f":"CELLCOLOR($Y$20)","v":-4142},{"$f":"CELLCOLOR($Z$20)","v":-4142},{"$f":"CELLCOLOR($AA$20)","v":-4142},12]
[null,null,1,{"$f":"CELLCOLOR($D$21)","v":-4142},{"$f":"CELLCOLOR($E$21)","v":-4142},{"$f":"CELLCOLOR($F$21)","v":-4142},{"$f":"CELLCOLOR($G$21)","v":-4142},{"$f":"CELLCOLOR($H$21)","v":-4142},{"$f":"CELLCOLOR($I$21)","v":-4142},{"$f":"CELLCOLOR($J$21)","v":-4142},{"$f":"CELLCOLOR($K$21)","v":-4142},{"$f":"CELLCOLOR($L$21)","v":-4142},{"$f":"CELLCOLOR($M$21)","v":-4142},{"$f":"CELLCOLOR($N$21)","v":-4142},{"$f":"CELLCOLOR($O$21)","v":-4142},{"$f":"CELLCOLOR($P$21)","v":-4142},{"$f":"CELLCOLOR($Q$21)","v":-4142},{"$f":"CELLCOLOR($R$21)","v":-4142},{"$f":"CELLCOLOR($S$21)","v":-4142},{"$f":"CELLCOLOR($T$21)","v":-4142},{"$f":"CELLCOLOR($U$21)","v":-4142},{"$f":"CELLCOLOR($V$21)","v":-4142},{"$f":"CELLCOLOR($W$21)","v":-4142},{"$f":"CELLCOLOR($X$21)","v":-4142},{"$f":"CELLCOLOR($Y$21)","v":-4142},{"$f":"CELLCOLOR($Z$21)","v":-4142},{"$f":"CELLCOLOR($AA$21)","v":-4142},1]
[null,null,2,{"$f":"CELLCOLOR($D$22)","v":-4142},{"$f":"CELLCOLOR($E$22)","v":-4142},{"$f":"CELLCOLOR($F$22)","v":-4142},{"$f":"CELLCOLOR($G$22)","v":-4142},{"$f":"CELLCOLOR($H$22)","v":-4142},{"$f":"CELLCOLOR($I$22)","v":-4142},{"$f":"CELLCOLOR($J$22)","v":-4142},{"$f":"CELLCOLOR($K$22)","v":-4142},{"$f":"CELLCOLOR($L$22)","v":-4142},{"$f":"CELLCOLOR($M$22)","v":-4142},{"$f":"CELLCOLOR($N$22)","v":-4142},{"$f":"CELLCOLOR($O$22)","v":-4142},{"$f":"CELLCOLOR($P$22)","v":-4142},{"$f":"CELLCOLOR($Q$22)","v":-4142},{"$f":"CELLCOLOR($R$22)","v":-4142},{"$f":"CELLCOLOR($S$22)","v":-4142},{"$f":"CELLCOLOR($T$22)","v":-4142},{"$f":"CELLCOLOR($U$22)","v":-4142},{"$f":"CELLCOLOR($V$22)","v":-4142},{"$f":"CELLCOLOR($W$22)","v":-4142},{"$f":"CELLCOLOR($X$22)","v":-4142},{"$f":"CELLCOLOR($Y$22)","v":-4142},{"$f":"CELLCOLOR($Z$22)","v":-4142},{"$f":"CELLCOLOR($AA$22)","v":-4142},2]
[null,null,3,{"$f":"CELLCOLOR($D$23)","v":-4142},{"$f":"CELLCOLOR($E$23)","v":-4142},{"$f":"CELLCOLOR($F$23)","v":-4142},{"$f":"CELLCOLOR($G$23)","v":-4142},{"$f":"CELLCOLOR($H$23)","v":-4142},{"$f":"CELLCOLOR($I$23)","v":-4142},{"$f":"CELLCOLOR($J$23)","v":-4142},{"$f":"CELLCOLOR($K$23)","v":-4142},{"$f":"CELLCOLOR($L$23)","v":-4142},{"$f":"CELLCOLOR($M$23)","v":-4142},{"$f":"CELLCOLOR($N$23)","v":-4142},{"$f":"CELLCOLOR($O$23)","v":-4142},{"$f":"CELLCOLOR($P$23)","v":-4142},{"$f":"CELLCOLOR($Q$23)","v":-4142},{"$f":"CELLCOLOR($R$23)","v":-4142},{"$f":"CELLCOLOR($S$23)","v":-4142},{"$f":"CELLCOLOR($T$23)","v":-4142},{"$f":"CELLCOLOR($U$23)","v":-4142},{"$f":"CELLCOLOR($V$23)","v":-4142},{"$f":"CELLCOLOR($W$23)","v":-4142},{"$f":"CELLCOLOR($X$23)","v":-4142},{"$f":"CELLCOLOR($Y$23)","v":-4142},{"$f":"CELLCOLOR($Z$23)","v":-4142},{"$f":"CELLCOLOR($AA$23)","v":-4142},3]
[]
[null,null,"作業表2-1(冷却)●月▲時の平均外気湿球温度(四捨五入で表示）"]
[null,null,null," 時刻"]
[null,null,"月",0,1,2,3,4,5,6,7,8,9,10,11,12,13,14,15,16,17,18,19,20,21,22,23,"月"]
[null,null,4,{"$f":"IF($D$101=24,ROUND($D$12,0),\"\")&\"\"","v":""},{"$f":"IF($E$101=24,ROUND($E$12,0),\"\")&\"\"","v":""},{"$f":"IF($F$101=24,ROUND($F$12,0),\"\")&\"\"","v":""},{"$f":"IF($G$101=24,ROUND($G$12,0),\"\")&\"\"","v":""},{"$f":"IF($H$101=24,ROUND($H$12,0),\"\")&\"\"","v":""},{"$f":"IF($I$101=24,ROUND($I$12,0),\"\")&\"\"","v":""},{"$f":"IF($J$101=24,ROUND($J$12,0),\"\")&\"\"","v":""},{"$f":"IF($K$101=24,ROUND($K$12,0),\"\")&\"\"","v":""},{"$f":"IF($L$101=24,ROUND($L$12,0),\"\")&\"\"","v":""},{"$f":"IF($M$101=24,ROUND($M$12,0),\"\")&\"\"","v":""},{"$f":"IF($N$101=24,ROUND($N$12,0),\"\")&\"\"","v":""},{"$f":"IF($O$101=24,ROUND($O$12,0),\"\")&\"\"","v":""},{"$f":"IF($P$101=24,ROUND($P$12,0),\"\")&\"\"","v":""},{"$f":"IF($Q$101=24,ROUND($Q$12,0),\"\")&\"\"","v":""},{"$f":"IF($R$101=24,ROUND($R$12,0),\"\")&\"\"","v":""},{"$f":"IF($S$101=24,ROUND($S$12,0),\"\")&\"\"","v":""},{"$f":"IF($T$101=24,ROUND($T$12,0),\"\")&\"\"","v":""},{"$f":"IF($U$101=24,ROUND($U$12,0),\"\")&\"\"","v":""},{"$f":"IF($V$101=24,ROUND($V$12,0),\"\")&\"\"","v":""},{"$f":"IF($W$101=24,ROUND($W$12,0),\"\")&\"\"","v":""},{"$f":"IF($X$101=24,ROUND($X$12,0),\"\")&\"\"","v":""},{"$f":"IF($Y$101=24,ROUND($Y$12,0),\"\")&\"\"","v":""},{"$f":"IF($Z$101=24,ROUND($Z$12,0),\"\")&\"\"","v":""},{"$f":"IF($AA$101=24,ROUND($AA$12,0),\"\")&\"\"","v":""},4]
[null,null,5,{"$f":"IF($D$102=24,ROUND($D$13,0),\"\")&\"\"","v":""},{"$f":"IF($E$102=24,ROUND($E$13,0),\"\")&\"\"","v":""},{"$f":"IF($F$102=24,ROUND($F$13,0),\"\")&\"\"","v":""},{"$f":"IF($G$102=24,ROUND($G$13,0),\"\")&\"\"","v":""},{"$f":"IF($H$102=24,ROUND($H$13,0),\"\")&\"\"","v":""},{"$f":"IF($I$102=24,ROUND($I$13,0),\"\")&\"\"","v":""},{"$f":"IF($J$102=24,ROUND($J$13,0),\"\")&\"\"","v":""},{"$f":"IF($K$102=24,ROUND($K$13,0),\"\")&\"\"","v":""},{"$f":"IF($L$102=24,ROUND($L$13,0),\"\")&\"\"","v":""},{"$f":"IF($M$102=24,ROUND($M$13,0),\"\")&\"\"","v":""},{"$f":"IF($N$102=24,ROUND($N$13,0),\"\")&\"\"","v":""},{"$f":"IF($O$102=24,ROUND($O$13,0),\"\")&\"\"","v":""},{"$f":"IF($P$102=24,ROUND($P$13,0),\"\")&\"\"","v":""},{"$f":"IF($Q$102=24,ROUND($Q$13,0),\"\")&\"\"","v":""},{"$f":"IF($R$102=24,ROUND($R$13,0),\"\")&\"\"","v":""},{"$f":"IF($S$102=24,ROUND($S$13,0),\"\")&\"\"","v":""},{"$f":"IF($T$102=24,ROUND($T$13,0),\"\")&\"\"","v":""},{"$f":"IF($U$102=24,ROUND($U$13,0),\"\")&\"\"","v":""},{"$f":"IF($V$102=24,ROUND($V$13,0),\"\")&\"\"","v":""},{"$f":"IF($W$102=24,ROUND($W$13,0),\"\")&\"\"","v":""},{"$f":"IF($X$102=24,ROUND($X$13,0),\"\")&\"\"","v":""},{"$f":"IF($Y$102=24,ROUND($Y$13,0),\"\")&\"\"","v":""},{"$f":"IF($Z$102=24,ROUND($Z$13,0),\"\")&\"\"","v":""},{"$f":"IF($AA$102=24,ROUND($AA$13,0),\"\")&\"\"","v":""},5]
[null,null,6,{"$f":"IF($D$103=24,ROUND($D$14,0),\"\")&\"\"","v":""},{"$f":"IF($E$103=24,ROUND($E$14,0),\"\")&\"\"","v":""},{"$f":"IF($F$103=24,ROUND($F$14,0),\"\")&\"\"","v":""},{"$f":"IF($G$103=24,ROUND($G$14,0),\"\")&\"\"","v":""},{"$f":"IF($H$103=24,ROUND($H$14,0),\"\")&\"\"","v":""},{"$f":"IF($I$103=24,ROUND($I$14,0),\"\")&\"\"","v":""},{"$f":"IF($J$103=24,ROUND($J$14,0),\"\")&\"\"","v":""},{"$f":"IF($K$103=24,ROUND($K$14,0),\"\")&\"\"","v":""},{"$f":"IF($L$103=24,ROUND($L$14,0),\"\")&\"\"","v":""},{"$f":"IF($M$103=24,ROUND($M$14,0),\"\")&\"\"","v":""},{"$f":"IF($N$103=24,ROUND($N$14,0),\"\")&\"\"","v":""},{"$f":"IF($O$103=24,ROUND($O$14,0),\"\")&\"\"","v":""},{"$f":"IF($P$103=24,ROUND($P$14,0),\"\")&\"\"","v":""},{"$f":"IF($Q$103=24,ROUND($Q$14,0),\"\")&\"\"","v":""},{"$f":"IF($R$103=24,ROUND($R$14,0),\"\")&\"\"","v":""},{"$f":"IF($S$103=24,ROUND($S$14,0),\"\")&\"\"","v":""},{"$f":"IF($T$103=24,ROUND($T$14,0),\"\")&\"\"","v":""},{"$f":"IF($U$103=24,ROUND($U$14,0),\"\")&\"\"","v":""},{"$f":"IF($V$103=24,ROUND($V$14,0),\"\")&\"\"","v":""},{"$f":"IF($W$103=24,ROUND($W$14,0),\"\")&\"\"","v":""},{"$f":"IF($X$103=24,ROUND($X$14,0),\"\")&\"\"","v":""},{"$f":"IF($Y$103=24,ROUND($Y$14,0),\"\")&\"\"","v":""},{"$f":"IF($Z$103=24,ROUND($Z$14,0),\"\")&\"\"","v":""},{"$f":"IF($AA$103=24,ROUND($AA$14,0),\"\")&\"\"","v":""},6]
[null,null,7,{"$f":"IF($D$104=24,ROUND($D$15,0),\"\")&\"\"","v":""},{"$f":"IF($E$104=24,ROUND($E$15,0),\"\")&\"\"","v":""},{"$f":"IF($F$104=24,ROUND($F$15,0),\"\")&\"\"","v":""},{"$f":"IF($G$104=24,ROUND($G$15,0),\"\")&\"\"","v":""},{"$f":"IF($H$104=24,ROUND($H$15,0),\"\")&\"\"","v":""},{"$f":"IF($I$104=24,ROUND($I$15,0),\"\")&\"\"","v":""},{"$f":"IF($J$104=24,ROUND($J$15,0),\"\")&\"\"","v":""},{"$f":"IF($K$104=24,ROUND($K$15,0),\"\")&\"\"","v":""},{"$f":"IF($L$104=24,ROUND($L$15,0),\"\")&\"\"","v":""},{"$f":"IF($M$104=24,ROUND($M$15,0),\"\")&\"\"","v":""},{"$f":"IF($N$104=24,ROUND($N$15,0),\"\")&\"\"","v":""},{"$f":"IF($O$104=24,ROUND($O$15,0),\"\")&\"\"","v":""},{"$f":"IF($P$104=24,ROUND($P$15,0),\"\")&\"\"","v":""},{"$f":"IF($Q$104=24,ROUND($Q$15,0),\"\")&\"\"","v":""},{"$f":"IF($R$104=24,ROUND($R$15,0),\"\")&\"\"","v":""},{"$f":"IF($S$104=24,ROUND($S$15,0),\"\")&\"\"","v":""},{"$f":"IF($T$104=24,ROUND($T$15,0),\"\")&\"\"","v":""},{"$f":"IF($U$104=24,ROUND($U$15,0),\"\")&\"\"","v":""},{"$f":"IF($V$104=24,ROUND($V$15,0),\"\")&\"\"","v":""},{"$f":"IF($W$104=24,ROUND($W$15,0),\"\")&\"\"","v":""},{"$f":"IF($X$104=24,ROUND($X$15,0),\"\")&\"\"","v":""},{"$f":"IF($Y$104=24,ROUND($Y$15,0),\"\")&\"\"","v":""},{"$f":"IF($Z$104=24,ROUND($Z$15,0),\"\")&\"\"","v":""},{"$f":"IF($AA$104=24,ROUND($AA$15,0),\"\")&\"\"","v":""},7]
[null,null,8,{"$f":"IF($D$105=24,ROUND($D$16,0),\"\")&\"\"","v":""},{"$f":"IF($E$105=24,ROUND($E$16,0),\"\")&\"\"","v":""},{"$f":"IF($F$105=24,ROUND($F$16,0),\"\")&\"\"","v":""},{"$f":"IF($G$105=24,ROUND($G$16,0),\"\")&\"\"","v":""},{"$f":"IF($H$105=24,ROUND($H$16,0),\"\")&\"\"","v":""},{"$f":"IF($I$105=24,ROUND($I$16,0),\"\")&\"\"","v":""},{"$f":"IF($J$105=24,ROUND($J$16,0),\"\")&\"\"","v":""},{"$f":"IF($K$105=24,ROUND($K$16,0),\"\")&\"\"","v":""},{"$f":"IF($L$105=24,ROUND($L$16,0),\"\")&\"\"","v":""},{"$f":"IF($M$105=24,ROUND($M$16,0),\"\")&\"\"","v":""},{"$f":"IF($N$105=24,ROUND($N$16,0),\"\")&\"\"","v":""},{"$f":"IF($O$105=24,ROUND($O$16,0),\"\")&\"\"","v":""},{"$f":"IF($P$105=24,ROUND($P$16,0),\"\")&\"\"","v":""},{"$f":"IF($Q$105=24,ROUND($Q$16,0),\"\")&\"\"","v":""},{"$f":"IF($R$105=24,ROUND($R$16,0),\"\")&\"\"","v":""},{"$f":"IF($S$105=24,ROUND($S$16,0),\"\")&\"\"","v":""},{"$f":"IF($T$105=24,ROUND($T$16,0),\"\")&\"\"","v":""},{"$f":"IF($U$105=24,ROUND($U$16,0),\"\")&\"\"","v":""},{"$f":"IF($V$105=24,ROUND($V$16,0),\"\")&\"\"","v":""},{"$f":"IF($W$105=24,ROUND($W$16,0),\"\")&\"\"","v":""},{"$f":"IF($X$105=24,ROUND($X$16,0),\"\")&\"\"","v":""},{"$f":"IF($Y$105=24,ROUND($Y$16,0),\"\")&\"\"","v":""},{"$f":"IF($Z$105=24,ROUND($Z$16,0),\"\")&\"\"","v":""},{"$f":"IF($AA$105=24,ROUND($AA$16,0),\"\")&\"\"","v":""},8]
[null,null,9,{"$f":"IF($D$106=24,ROUND($D$17,0),\"\")&\"\"","v":""},{"$f":"IF($E$106=24,ROUND($E$17,0),\"\")&\"\"","v":""},{"$f":"IF($F$106=24,ROUND($F$17,0),\"\")&\"\"","v":""},{"$f":"IF($G$106=24,ROUND($G$17,0),\"\")&\"\"","v":""},{"$f":"IF($H$106=24,ROUND($H$17,0),\"\")&\"\"","v":""},{"$f":"IF($I$106=24,ROUND($I$17,0),\"\")&\"\"","v":""},{"$f":"IF($J$106=24,ROUND($J$17,0),\"\")&\"\"","v":""},{"$f":"IF($K$106=24,ROUND($K$17,0),\"\")&\"\"","v":""},{"$f":"IF($L$106=24,ROUND($L$17,0),\"\")&\"\"","v":""},{"$f":"IF($M$106=24,ROUND($M$17,0),\"\")&\"\"","v":""},{"$f":"IF($N$106=24,ROUND($N$17,0),\"\")&\"\"","v":""},{"$f":"IF($O$106=24,ROUND($O$17,0),\"\")&\"\"","v":""},{"$f":"IF($P$106=24,ROUND($P$17,0),\"\")&\"\"","v":""},{"$f":"IF($Q$106=24,ROUND($Q$17,0),\"\")&\"\"","v":""},{"$f":"IF($R$106=24,ROUND($R$17,0),\"\")&\"\"","v":""},{"$f":"IF($S$106=24,ROUND($S$17,0),\"\")&\"\"","v":""},{"$f":"IF($T$106=24,ROUND($T$17,0),\"\")&\"\"","v":""},{"$f":"IF($U$106=24,ROUND($U$17,0),\"\")&\"\"","v":""},{"$f":"IF($V$106=24,ROUND($V$17,0),\"\")&\"\"","v":""},{"$f":"IF($W$106=24,ROUND($W$17,0),\"\")&\"\"","v":""},{"$f":"IF($X$106=24,ROUND($X$17,0),\"\")&\"\"","v":""},{"$f":"IF($Y$106=24,ROUND($Y$17,0),\"\")&\"\"","v":""},{"$f":"IF($Z$106=24,ROUND($Z$17,0),\"\")&\"\"","v":""},{"$f":"IF($AA$106=24,ROUND($AA$17,0),\"\")&\"\"","v":""},9]
[null,null,10,{"$f":"IF($D$107=24,ROUND($D$18,0),\"\")&\"\"","v":""},{"$f":"IF($E$107=24,ROUND($E$18,0),\"\")&\"\"","v":""},{"$f":"IF($F$107=24,ROUND($F$18,0),\"\")&\"\"","v":""},{"$f":"IF($G$107=24,ROUND($G$18,0),\"\")&\"\"","v":""},{"$f":"IF($H$107=24,ROUND($H$18,0),\"\")&\"\"","v":""},{"$f":"IF($I$107=24,ROUND($I$18,0),\"\")&\"\"","v":""},{"$f":"IF($J$107=24,ROUND($J$18,0),\"\")&\"\"","v":""},{"$f":"IF($K$107=24,ROUND($K$18,0),\"\")&\"\"","v":""},{"$f":"IF($L$107=24,ROUND($L$18,0),\"\")&\"\"","v":""},{"$f":"IF($M$107=24,ROUND($M$18,0),\"\")&\"\"","v":""},{"$f":"IF($N$107=24,ROUND($N$18,0),\"\")&\"\"","v":""},{"$f":"IF($O$107=24,ROUND($O$18,0),\"\")&\"\"","v":""},{"$f":"IF($P$107=24,ROUND($P$18,0),\"\")&\"\"","v":""},{"$f":"IF($Q$107=24,ROUND($Q$18,0),\"\")&\"\"","v":""},{"$f":"IF($R$107=24,ROUND($R$18,0),\"\")&\"\"","v":""},{"$f":"IF($S$107=24,ROUND($S$18,0),\"\")&\"\"","v":""},{"$f":"IF($T$107=24,ROUND($T$18,0),\"\")&\"\"","v":""},{"$f":"IF($U$107=24,ROUND($U$18,0),\"\")&\"\"","v":""},{"$f":"IF($V$107=24,ROUND($V$18,0),\"\")&\"\"","v":""},{"$f":"IF($W$107=24,ROUND($W$18,0),\"\")&\"\"","v":""},{"$f":"IF($X$107=24,ROUND($X$18,0),\"\")&\"\"","v":""},{"$f":"IF($Y$107=24,ROUND($Y$18,0),\"\")&\"\"","v":""},{"$f":"IF($Z$107=24,ROUND($Z$18,0),\"\")&\"\"","v":""},{"$f":"IF($AA$107=24,ROUND($AA$18,0),\"\")&\"\"","v":""},10]
[null,null,11,{"$f":"IF($D$108=24,ROUND($D$19,0),\"\")&\"\"","v":""},{"$f":"IF($E$108=24,ROUND($E$19,0),\"\")&\"\"","v":""},{"$f":"IF($F$108=24,ROUND($F$19,0),\"\")&\"\"","v":""},{"$f":"IF($G$108=24,ROUND($G$19,0),\"\")&\"\"","v":""},{"$f":"IF($H$108=24,ROUND($H$19,0),\"\")&\"\"","v":""},{"$f":"IF($I$108=24,ROUND($I$19,0),\"\")&\"\"","v":""},{"$f":"IF($J$108=24,ROUND($J$19,0),\"\")&\"\"","v":""},{"$f":"IF($K$108=24,ROUND($K$19,0),\"\")&\"\"","v":""},{"$f":"IF($L$108=24,ROUND($L$19,0),\"\")&\"\"","v":""},{"$f":"IF($M$108=24,ROUND($M$19,0),\"\")&\"\"","v":""},{"$f":"IF($N$108=24,ROUND($N$19,0),\"\")&\"\"","v":""},{"$f":"IF($O$108=24,ROUND($O$19,0),\"\")&\"\"","v":""},{"$f":"IF($P$108=24,ROUND($P$19,0),\"\")&\"\"","v":""},{"$f":"IF($Q$108=24,ROUND($Q$19,0),\"\")&\"\"","v":""},{"$f":"IF($R$108=24,ROUND($R$19,0),\"\")&\"\"","v":""},{"$f":"IF($S$108=24,ROUND($S$19,0),\"\")&\"\"","v":""},{"$f":"IF($T$108=24,ROUND($T$19,0),\"\")&\"\"","v":""},{"$f":"IF($U$108=24,ROUND($U$19,0),\"\")&\"\"","v":""},{"$f":"IF($V$108=24,ROUND($V$19,0),\"\")&\"\"","v":""},{"$f":"IF($W$108=24,ROUND($W$19,0),\"\")&\"\"","v":""},{"$f":"IF($X$108=24,ROUND($X$19,0),\"\")&\"\"","v":""},{"$f":"IF($Y$108=24,ROUND($Y$19,0),\"\")&\"\"","v":""},{"$f":"IF($Z$108=24,ROUND($Z$19,0),\"\")&\"\"","v":""},{"$f":"IF($AA$108=24,ROUND($AA$19,0),\"\")&\"\"","v":""},11]
[null,null,12,{"$f":"IF($D$109=24,ROUND($D$20,0),\"\")&\"\"","v":""},{"$f":"IF($E$109=24,ROUND($E$20,0),\"\")&\"\"","v":""},{"$f":"IF($F$109=24,ROUND($F$20,0),\"\")&\"\"","v":""},{"$f":"IF($G$109=24,ROUND($G$20,0),\"\")&\"\"","v":""},{"$f":"IF($H$109=24,ROUND($H$20,0),\"\")&\"\"","v":""},{"$f":"IF($I$109=24,ROUND($I$20,0),\"\")&\"\"","v":""},{"$f":"IF($J$109=24,ROUND($J$20,0),\"\")&\"\"","v":""},{"$f":"IF($K$109=24,ROUND($K$20,0),\"\")&\"\"","v":""},{"$f":"IF($L$109=24,ROUND($L$20,0),\"\")&\"\"","v":""},{"$f":"IF($M$109=24,ROUND($M$20,0),\"\")&\"\"","v":""},{"$f":"IF($N$109=24,ROUND($N$20,0),\"\")&\"\"","v":""},{"$f":"IF($O$109=24,ROUND($O$20,0),\"\")&\"\"","v":""},{"$f":"IF($P$109=24,ROUND($P$20,0),\"\")&\"\"","v":""},{"$f":"IF($Q$109=24,ROUND($Q$20,0),\"\")&\"\"","v":""},{"$f":"IF($R$109=24,ROUND($R$20,0),\"\")&\"\"","v":""},{"$f":"IF($S$109=24,ROUND($S$20,0),\"\")&\"\"","v":""},{"$f":"IF($T$109=24,ROUND($T$20,0),\"\")&\"\"","v":""},{"$f":"IF($U$109=24,ROUND($U$20,0),\"\")&\"\"","v":""},{"$f":"IF($V$109=24,ROUND($V$20,0),\"\")&\"\"","v":""},{"$f":"IF($W$109=24,ROUND($W$20,0),\"\")&\"\"","v":""},{"$f":"IF($X$109=24,ROUND($X$20,0),\"\")&\"\"","v":""},{"$f":"IF($Y$109=24,ROUND($Y$20,0),\"\")&\"\"","v":""},{"$f":"IF($Z$109=24,ROUND($Z$20,0),\"\")&\"\"","v":""},{"$f":"IF($AA$109=24,ROUND($AA$20,0),\"\")&\"\"","v":""},12]
[null,null,1,{"$f":"IF($D$110=24,ROUND($D$21,0),\"\")&\"\"","v":""},{"$f":"IF($E$110=24,ROUND($E$21,0),\"\")&\"\"","v":""},{"$f":"IF($F$110=24,ROUND($F$21,0),\"\")&\"\"","v":""},{"$f":"IF($G$110=24,ROUND($G$21,0),\"\")&\"\"","v":""},{"$f":"IF($H$110=24,ROUND($H$21,0),\"\")&\"\"","v":""},{"$f":"IF($I$110=24,ROUND($I$21,0),\"\")&\"\"","v":""},{"$f":"IF($J$110=24,ROUND($J$21,0),\"\")&\"\"","v":""},{"$f":"IF($K$110=24,ROUND($K$21,0),\"\")&\"\"","v":""},{"$f":"IF($L$110=24,ROUND($L$21,0),\"\")&\"\"","v":""},{"$f":"IF($M$110=24,ROUND($M$21,0),\"\")&\"\"","v":""},{"$f":"IF($N$110=24,ROUND($N$21,0),\"\")&\"\"","v":""},{"$f":"IF($O$110=24,ROUND($O$21,0),\"\")&\"\"","v":""},{"$f":"IF($P$110=24,ROUND($P$21,0),\"\")&\"\"","v":""},{"$f":"IF($Q$110=24,ROUND($Q$21,0),\"\")&\"\"","v":""},{"$f":"IF($R$110=24,ROUND($R$21,0),\"\")&\"\"","v":""},{"$f":"IF($S$110=24,ROUND($S$21,0),\"\")&\"\"","v":""},{"$f":"IF($T$110=24,ROUND($T$21,0),\"\")&\"\"","v":""},{"$f":"IF($U$110=24,ROUND($U$21,0),\"\")&\"\"","v":""},{"$f":"IF($V$110=24,ROUND($V$21,0),\"\")&\"\"","v":""},{"$f":"IF($W$110=24,ROUND($W$21,0),\"\")&\"\"","v":""},{"$f":"IF($X$110=24,ROUND($X$21,0),\"\")&\"\"","v":""},{"$f":"IF($Y$110=24,ROUND($Y$21,0),\"\")&\"\"","v":""},{"$f":"IF($Z$110=24,ROUND($Z$21,0),\"\")&\"\"","v":""},{"$f":"IF($AA$110=24,ROUND($AA$21,0),\"\")&\"\"","v":""},1]
[null,null,2,{"$f":"IF($D$111=24,ROUND($D$22,0),\"\")&\"\"","v":""},{"$f":"IF($E$111=24,ROUND($E$22,0),\"\")&\"\"","v":""},{"$f":"IF($F$111=24,ROUND($F$22,0),\"\")&\"\"","v":""},{"$f":"IF($G$111=24,ROUND($G$22,0),\"\")&\"\"","v":""},{"$f":"IF($H$111=24,ROUND($H$22,0),\"\")&\"\"","v":""},{"$f":"IF($I$111=24,ROUND($I$22,0),\"\")&\"\"","v":""},{"$f":"IF($J$111=24,ROUND($J$22,0),\"\")&\"\"","v":""},{"$f":"IF($K$111=24,ROUND($K$22,0),\"\")&\"\"","v":""},{"$f":"IF($L$111=24,ROUND($L$22,0),\"\")&\"\"","v":""},{"$f":"IF($M$111=24,ROUND($M$22,0),\"\")&\"\"","v":""},{"$f":"IF($N$111=24,ROUND($N$22,0),\"\")&\"\"","v":""},{"$f":"IF($O$111=24,ROUND($O$22,0),\"\")&\"\"","v":""},{"$f":"IF($P$111=24,ROUND($P$22,0),\"\")&\"\"","v":""},{"$f":"IF($Q$111=24,ROUND($Q$22,0),\"\")&\"\"","v":""},{"$f":"IF($R$111=24,ROUND($R$22,0),\"\")&\"\"","v":""},{"$f":"IF($S$111=24,ROUND($S$22,0),\"\")&\"\"","v":""},{"$f":"IF($T$111=24,ROUND($T$22,0),\"\")&\"\"","v":""},{"$f":"IF($U$111=24,ROUND($U$22,0),\"\")&\"\"","v":""},{"$f":"IF($V$111=24,ROUND($V$22,0),\"\")&\"\"","v":""},{"$f":"IF($W$111=24,ROUND($W$22,0),\"\")&\"\"","v":""},{"$f":"IF($X$111=24,ROUND($X$22,0),\"\")&\"\"","v":""},{"$f":"IF($Y$111=24,ROUND($Y$22,0),\"\")&\"\"","v":""},{"$f":"IF($Z$111=24,ROUND($Z$22,0),\"\")&\"\"","v":""},{"$f":"IF($AA$111=24,ROUND($AA$22,0),\"\")&\"\"","v":""},2]
[null,null,3,{"$f":"IF($D$112=24,ROUND($D$23,0),\"\")&\"\"","v":""},{"$f":"IF($E$112=24,ROUND($E$23,0),\"\")&\"\"","v":""},{"$f":"IF($F$112=24,ROUND($F$23,0),\"\")&\"\"","v":""},{"$f":"IF($G$112=24,ROUND($G$23,0),\"\")&\"\"","v":""},{"$f":"IF($H$112=24,ROUND($H$23,0),\"\")&\"\"","v":""},{"$f":"IF($I$112=24,ROUND($I$23,0),\"\")&\"\"","v":""},{"$f":"IF($J$112=24,ROUND($J$23,0),\"\")&\"\"","v":""},{"$f":"IF($K$112=24,ROUND($K$23,0),\"\")&\"\"","v":""},{"$f":"IF($L$112=24,ROUND($L$23,0),\"\")&\"\"","v":""},{"$f":"IF($M$112=24,ROUND($M$23,0),\"\")&\"\"","v":""},{"$f":"IF($N$112=24,ROUND($N$23,0),\"\")&\"\"","v":""},{"$f":"IF($O$112=24,ROUND($O$23,0),\"\")&\"\"","v":""},{"$f":"IF($P$112=24,ROUND($P$23,0),\"\")&\"\"","v":""},{"$f":"IF($Q$112=24,ROUND($Q$23,0),\"\")&\"\"","v":""},{"$f":"IF($R$112=24,ROUND($R$23,0),\"\")&\"\"","v":""},{"$f":"IF($S$112=24,ROUND($S$23,0),\"\")&\"\"","v":""},{"$f":"IF($T$112=24,ROUND($T$23,0),\"\")&\"\"","v":""},{"$f":"IF($U$112=24,ROUND($U$23,0),\"\")&\"\"","v":""},{"$f":"IF($V$112=24,ROUND($V$23,0),\"\")&\"\"","v":""},{"$f":"IF($W$112=24,ROUND($W$23,0),\"\")&\"\"","v":""},{"$f":"IF($X$112=24,ROUND($X$23,0),\"\")&\"\"","v":""},{"$f":"IF($Y$112=24,ROUND($Y$23,0),\"\")&\"\"","v":""},{"$f":"IF($Z$112=24,ROUND($Z$23,0),\"\")&\"\"","v":""},{"$f":"IF($AA$112=24,ROUND($AA$23,0),\"\")&\"\"","v":""},3]
[]
[null,null,"作業表2-2(加熱)●月▲時の平均外気湿球温度(四捨五入で表示）"]
[null,null,null," 時刻"]
[null,null,"月",0,1,2,3,4,5,6,7,8,9,10,11,12,13,14,15,16,17,18,19,20,21,22,23,"月"]
[null,null,4,{"$f":"IF($D$101=19,ROUND($D$12,0),\"\")&\"\"","v":""},{"$f":"IF($E$101=19,ROUND($E$12,0),\"\")&\"\"","v":""},{"$f":"IF($F$101=19,ROUND($F$12,0),\"\")&\"\"","v":""},{"$f":"IF($G$101=19,ROUND($G$12,0),\"\")&\"\"","v":""},{"$f":"IF($H$101=19,ROUND($H$12,0),\"\")&\"\"","v":""},{"$f":"IF($I$101=19,ROUND($I$12,0),\"\")&\"\"","v":""},{"$f":"IF($J$101=19,ROUND($J$12,0),\"\")&\"\"","v":""},{"$f":"IF($K$101=19,ROUND($K$12,0),\"\")&\"\"","v":""},{"$f":"IF($L$101=19,ROUND($L$12,0),\"\")&\"\"","v":""},{"$f":"IF($M$101=19,ROUND($M$12,0),\"\")&\"\"","v":""},{"$f":"IF($N$101=19,ROUND($N$12,0),\"\")&\"\"","v":""},{"$f":"IF($O$101=19,ROUND($O$12,0),\"\")&\"\"","v":""},{"$f":"IF($P$101=19,ROUND($P$12,0),\"\")&\"\"","v":""},{"$f":"IF($Q$101=19,ROUND($Q$12,0),\"\")&\"\"","v":""},{"$f":"IF($R$101=19,ROUND($R$12,0),\"\")&\"\"","v":""},{"$f":"IF($S$101=19,ROUND($S$12,0),\"\")&\"\"","v":""},{"$f":"IF($T$101=19,ROUND($T$12,0),\"\")&\"\"","v":""},{"$f":"IF($U$101=19,ROUND($U$12,0),\"\")&\"\"","v":""},{"$f":"IF($V$101=19,ROUND($V$12,0),\"\")&\"\"","v":""},{"$f":"IF($W$101=19,ROUND($W$12,0),\"\")&\"\"","v":""},{"$f":"IF($X$101=19,ROUND($X$12,0),\"\")&\"\"","v":""},{"$f":"IF($Y$101=19,ROUND($Y$12,0),\"\")&\"\"","v":""},{"$f":"IF($Z$101=19,ROUND($Z$12,0),\"\")&\"\"","v":""},{"$f":"IF($AA$101=19,ROUND($AA$12,0),\"\")&\"\"","v":""},4]
[null,null,5,{"$f":"IF($D$102=19,ROUND($D$13,0),\"\")&\"\"","v":""},{"$f":"IF($E$102=19,ROUND($E$13,0),\"\")&\"\"","v":""},{"$f":"IF($F$102=19,ROUND($F$13,0),\"\")&\"\"","v":""},{"$f":"IF($G$102=19,ROUND($G$13,0),\"\")&\"\"","v":""},{"$f":"IF($H$102=19,ROUND($H$13,0),\"\")&\"\"","v":""},{"$f":"IF($I$102=19,ROUND($I$13,0),\"\")&\"\"","v":""},{"$f":"IF($J$102=19,ROUND($J$13,0),\"\")&\"\"","v":""},{"$f":"IF($K$102=19,ROUND($K$13,0),\"\")&\"\"","v":""},{"$f":"IF($L$102=19,ROUND($L$13,0),\"\")&\"\"","v":""},{"$f":"IF($M$102=19,ROUND($M$13,0),\"\")&\"\"","v":""},{"$f":"IF($N$102=19,ROUND($N$13,0),\"\")&\"\"","v":""},{"$f":"IF($O$102=19,ROUND($O$13,0),\"\")&\"\"","v":""},{"$f":"IF($P$102=19,ROUND($P$13,0),\"\")&\"\"","v":""},{"$f":"IF($Q$102=19,ROUND($Q$13,0),\"\")&\"\"","v":""},{"$f":"IF($R$102=19,ROUND($R$13,0),\"\")&\"\"","v":""},{"$f":"IF($S$102=19,ROUND($S$13,0),\"\")&\"\"","v":""},{"$f":"IF($T$102=19,ROUND($T$13,0),\"\")&\"\"","v":""},{"$f":"IF($U$102=19,ROUND($U$13,0),\"\")&\"\"","v":""},{"$f":"IF($V$102=19,ROUND($V$13,0),\"\")&\"\"","v":""},{"$f":"IF($W$102=19,ROUND($W$13,0),\"\")&\"\"","v":""},{"$f":"IF($X$102=19,ROUND($X$13,0),\"\")&\"\"","v":""},{"$f":"IF($Y$102=19,ROUND($Y$13,0),\"\")&\"\"","v":""},{"$f":"IF($Z$102=19,ROUND($Z$13,0),\"\")&\"\"","v":""},{"$f":"IF($AA$102=19,ROUND($AA$13,0),\"\")&\"\"","v":""},5]
[null,null,6,{"$f":"IF($D$103=19,ROUND($D$14,0),\"\")&\"\"","v":""},{"$f":"IF($E$103=19,ROUND($E$14,0),\"\")&\"\"","v":""},{"$f":"IF($F$103=19,ROUND($F$14,0),\"\")&\"\"","v":""},{"$f":"IF($G$103=19,ROUND($G$14,0),\"\")&\"\"","v":""},{"$f":"IF($H$103=19,ROUND($H$14,0),\"\")&\"\"","v":""},{"$f":"IF($I$103=19,ROUND($I$14,0),\"\")&\"\"","v":""},{"$f":"IF($J$103=19,ROUND($J$14,0),\"\")&\"\"","v":""},{"$f":"IF($K$103=19,ROUND($K$14,0),\"\")&\"\"","v":""},{"$f":"IF($L$103=19,ROUND($L$14,0),\"\")&\"\"","v":""},{"$f":"IF($M$103=19,ROUND($M$14,0),\"\")&\"\"","v":""},{"$f":"IF($N$103=19,ROUND($N$14,0),\"\")&\"\"","v":""},{"$f":"IF($O$103=19,ROUND($O$14,0),\"\")&\"\"","v":""},{"$f":"IF($P$103=19,ROUND($P$14,0),\"\")&\"\"","v":""},{"$f":"IF($Q$103=19,ROUND($Q$14,0),\"\")&\"\"","v":""},{"$f":"IF($R$103=19,ROUND($R$14,0),\"\")&\"\"","v":""},{"$f":"IF($S$103=19,ROUND($S$14,0),\"\")&\"\"","v":""},{"$f":"IF($T$103=19,ROUND($T$14,0),\"\")&\"\"","v":""},{"$f":"IF($U$103=19,ROUND($U$14,0),\"\")&\"\"","v":""},{"$f":"IF($V$103=19,ROUND($V$14,0),\"\")&\"\"","v":""},{"$f":"IF($W$103=19,ROUND($W$14,0),\"\")&\"\"","v":""},{"$f":"IF($X$103=19,ROUND($X$14,0),\"\")&\"\"","v":""},{"$f":"IF($Y$103=19,ROUND($Y$14,0),\"\")&\"\"","v":""},{"$f":"IF($Z$103=19,ROUND($Z$14,0),\"\")&\"\"","v":""},{"$f":"IF($AA$103=19,ROUND($AA$14,0),\"\")&\"\"","v":""},6]
[null,null,7,{"$f":"IF($D$104=19,ROUND($D$15,0),\"\")&\"\"","v":""},{"$f":"IF($E$104=19,ROUND($E$15,0),\"\")&\"\"","v":""},{"$f":"IF($F$104=19,ROUND($F$15,0),\"\")&\"\"","v":""},{"$f":"IF($G$104=19,ROUND($G$15,0),\"\")&\"\"","v":""},{"$f":"IF($H$104=19,ROUND($H$15,0),\"\")&\"\"","v":""},{"$f":"IF($I$104=19,ROUND($I$15,0),\"\")&\"\"","v":""},{"$f":"IF($J$104=19,ROUND($J$15,0),\"\")&\"\"","v":""},{"$f":"IF($K$104=19,ROUND($K$15,0),\"\")&\"\"","v":""},{"$f":"IF($L$104=19,ROUND($L$15,0),\"\")&\"\"","v":""},{"$f":"IF($M$104=19,ROUND($M$15,0),\"\")&\"\"","v":""},{"$f":"IF($N$104=19,ROUND($N$15,0),\"\")&\"\"","v":""},{"$f":"IF($O$104=19,ROUND($O$15,0),\"\")&\"\"","v":""},{"$f":"IF($P$104=19,ROUND($P$15,0),\"\")&\"\"","v":""},{"$f":"IF($Q$104=19,ROUND($Q$15,0),\"\")&\"\"","v":""},{"$f":"IF($R$104=19,ROUND($R$15,0),\"\")&\"\"","v":""},{"$f":"IF($S$104=19,ROUND($S$15,0),\"\")&\"\"","v":""},{"$f":"IF($T$104=19,ROUND($T$15,0),\"\")&\"\"","v":""},{"$f":"IF($U$104=19,ROUND($U$15,0),\"\")&\"\"","v":""},{"$f":"IF($V$104=19,ROUND($V$15,0),\"\")&\"\"","v":""},{"$f":"IF($W$104=19,ROUND($W$15,0),\"\")&\"\"","v":""},{"$f":"IF($X$104=19,ROUND($X$15,0),\"\")&\"\"","v":""},{"$f":"IF($Y$104=19,ROUND($Y$15,0),\"\")&\"\"","v":""},{"$f":"IF($Z$104=19,ROUND($Z$15,0),\"\")&\"\"","v":""},{"$f":"IF($AA$104=19,ROUND($AA$15,0),\"\")&\"\"","v":""},7]
[null,null,8,{"$f":"IF($D$105=19,ROUND($D$16,0),\"\")&\"\"","v":""},{"$f":"IF($E$105=19,ROUND($E$16,0),\"\")&\"\"","v":""},{"$f":"IF($F$105=19,ROUND($F$16,0),\"\")&\"\"","v":""},{"$f":"IF($G$105=19,ROUND($G$16,0),\"\")&\"\"","v":""},{"$f":"IF($H$105=19,ROUND($H$16,0),\"\")&\"\"","v":""},{"$f":"IF($I$105=19,ROUND($I$16,0),\"\")&\"\"","v":""},{"$f":"IF($J$105=19,ROUND($J$16,0),\"\")&\"\"","v":""},{"$f":"IF($K$105=19,ROUND($K$16,0),\"\")&\"\"","v":""},{"$f":"IF($L$105=19,ROUND($L$16,0),\"\")&\"\"","v":""},{"$f":"IF($M$105=19,ROUND($M$16,0),\"\")&\"\"","v":""},{"$f":"IF($N$105=19,ROUND($N$16,0),\"\")&\"\"","v":""},{"$f":"IF($O$105=19,ROUND($O$16,0),\"\")&\"\"","v":""},{"$f":"IF($P$105=19,ROUND($P$16,0),\"\")&\"\"","v":""},{"$f":"IF($Q$105=19,ROUND($Q$16,0),\"\")&\"\"","v":""},{"$f":"IF($R$105=19,ROUND($R$16,0),\"\")&\"\"","v":""},{"$f":"IF($S$105=19,ROUND($S$16,0),\"\")&\"\"","v":""},{"$f":"IF($T$105=19,ROUND($T$16,0),\"\")&\"\"","v":""},{"$f":"IF($U$105=19,ROUND($U$16,0),\"\")&\"\"","v":""},{"$f":"IF($V$105=19,ROUND($V$16,0),\"\")&\"\"","v":""},{"$f":"IF($W$105=19,ROUND($W$16,0),\"\")&\"\"","v":""},{"$f":"IF($X$105=19,ROUND($X$16,0),\"\")&\"\"","v":""},{"$f":"IF($Y$105=19,ROUND($Y$16,0),\"\")&\"\"","v":""},{"$f":"IF($Z$105=19,ROUND($Z$16,0),\"\")&\"\"","v":""},{"$f":"IF($AA$105=19,ROUND($AA$16,0),\"\")&\"\"","v":""},8]
[null,null,9,{"$f":"IF($D$106=19,ROUND($D$17,0),\"\")&\"\"","v":""},{"$f":"IF($E$106=19,ROUND($E$17,0),\"\")&\"\"","v":""},{"$f":"IF($F$106=19,ROUND($F$17,0),\"\")&\"\"","v":""},{"$f":"IF($G$106=19,ROUND($G$17,0),\"\")&\"\"","v":""},{"$f":"IF($H$106=19,ROUND($H$17,0),\"\")&\"\"","v":""},{"$f":"IF($I$106=19,ROUND($I$17,0),\"\")&\"\"","v":""},{"$f":"IF($J$106=19,ROUND($J$17,0),\"\")&\"\"","v":""},{"$f":"IF($K$106=19,ROUND($K$17,0),\"\")&\"\"","v":""},{"$f":"IF($L$106=19,ROUND($L$17,0),\"\")&\"\"","v":""},{"$f":"IF($M$106=19,ROUND($M$17,0),\"\")&\"\"","v":""},{"$f":"IF($N$106=19,ROUND($N$17,0),\"\")&\"\"","v":""},{"$f":"IF($O$106=19,ROUND($O$17,0),\"\")&\"\"","v":""},{"$f":"IF($P$106=19,ROUND($P$17,0),\"\")&\"\"","v":""},{"$f":"IF($Q$106=19,ROUND($Q$17,0),\"\")&\"\"","v":""},{"$f":"IF($R$106=19,ROUND($R$17,0),\"\")&\"\"","v":""},{"$f":"IF($S$106=19,ROUND($S$17,0),\"\")&\"\"","v":""},{"$f":"IF($T$106=19,ROUND($T$17,0),\"\")&\"\"","v":""},{"$f":"IF($U$106=19,ROUND($U$17,0),\"\")&\"\"","v":""},{"$f":"IF($V$106=19,ROUND($V$17,0),\"\")&\"\"","v":""},{"$f":"IF($W$106=19,ROUND($W$17,0),\"\")&\"\"","v":""},{"$f":"IF($X$106=19,ROUND($X$17,0),\"\")&\"\"","v":""},{"$f":"IF($Y$106=19,ROUND($Y$17,0),\"\")&\"\"","v":""},{"$f":"IF($Z$106=19,ROUND($Z$17,0),\"\")&\"\"","v":""},{"$f":"IF($AA$106=19,ROUND($AA$17,0),\"\")&\"\"","v":""},9]
[null,null,10,{"$f":"IF($D$107=19,ROUND($D$18,0),\"\")&\"\"","v":""},{"$f":"IF($E$107=19,ROUND($E$18,0),\"\")&\"\"","v":""},{"$f":"IF($F$107=19,ROUND($F$18,0),\"\")&\"\"","v":""},{"$f":"IF($G$107=19,ROUND($G$18,0),\"\")&\"\"","v":""},{"$f":"IF($H$107=19,ROUND($H$18,0),\"\")&\"\"","v":""},{"$f":"IF($I$107=19,ROUND($I$18,0),\"\")&\"\"","v":""},{"$f":"IF($J$107=19,ROUND($J$18,0),\"\")&\"\"","v":""},{"$f":"IF($K$107=19,ROUND($K$18,0),\"\")&\"\"","v":""},{"$f":"IF($L$107=19,ROUND($L$18,0),\"\")&\"\"","v":""},{"$f":"IF($M$107=19,ROUND($M$18,0),\"\")&\"\"","v":""},{"$f":"IF($N$107=19,ROUND($N$18,0),\"\")&\"\"","v":""},{"$f":"IF($O$107=19,ROUND($O$18,0),\"\")&\"\"","v":""},{"$f":"IF($P$107=19,ROUND($P$18,0),\"\")&\"\"","v":""},{"$f":"IF($Q$107=19,ROUND($Q$18,0),\"\")&\"\"","v":""},{"$f":"IF($R$107=19,ROUND($R$18,0),\"\")&\"\"","v":""},{"$f":"IF($S$107=19,ROUND($S$18,0),\"\")&\"\"","v":""},{"$f":"IF($T$107=19,ROUND($T$18,0),\"\")&\"\"","v":""},{"$f":"IF($U$107=19,ROUND($U$18,0),\"\")&\"\"","v":""},{"$f":"IF($V$107=19,ROUND($V$18,0),\"\")&\"\"","v":""},{"$f":"IF($W$107=19,ROUND($W$18,0),\"\")&\"\"","v":""},{"$f":"IF($X$107=19,ROUND($X$18,0),\"\")&\"\"","v":""},{"$f":"IF($Y$107=19,ROUND($Y$18,0),\"\")&\"\"","v":""},{"$f":"IF($Z$107=19,ROUND($Z$18,0),\"\")&\"\"","v":""},{"$f":"IF($AA$107=19,ROUND($AA$18,0),\"\")&\"\"","v":""},10]
[null,null,11,{"$f":"IF($D$108=19,ROUND($D$19,0),\"\")&\"\"","v":""},{"$f":"IF($E$108=19,ROUND($E$19,0),\"\")&\"\"","v":""},{"$f":"IF($F$108=19,ROUND($F$19,0),\"\")&\"\"","v":""},{"$f":"IF($G$108=19,ROUND($G$19,0),\"\")&\"\"","v":""},{"$f":"IF($H$108=19,ROUND($H$19,0),\"\")&\"\"","v":""},{"$f":"IF($I$108=19,ROUND($I$19,0),\"\")&\"\"","v":""},{"$f":"IF($J$108=19,ROUND($J$19,0),\"\")&\"\"","v":""},{"$f":"IF($K$108=19,ROUND($K$19,0),\"\")&\"\"","v":""},{"$f":"IF($L$108=19,ROUND($L$19,0),\"\")&\"\"","v":""},{"$f":"IF($M$108=19,ROUND($M$19,0),\"\")&\"\"","v":""},{"$f":"IF($N$108=19,ROUND($N$19,0),\"\")&\"\"","v":""},{"$f":"IF($O$108=19,ROUND($O$19,0),\"\")&\"\"","v":""},{"$f":"IF($P$108=19,ROUND($P$19,0),\"\")&\"\"","v":""},{"$f":"IF($Q$108=19,ROUND($Q$19,0),\"\")&\"\"","v":""},{"$f":"IF($R$108=19,ROUND($R$19,0),\"\")&\"\"","v":""},{"$f":"IF($S$108=19,ROUND($S$19,0),\"\")&\"\"","v":""},{"$f":"IF($T$108=19,ROUND($T$19,0),\"\")&\"\"","v":""},{"$f":"IF($U$108=19,ROUND($U$19,0),\"\")&\"\"","v":""},{"$f":"IF($V$108=19,ROUND($V$19,0),\"\")&\"\"","v":""},{"$f":"IF($W$108=19,ROUND($W$19,0),\"\")&\"\"","v":""},{"$f":"IF($X$108=19,ROUND($X$19,0),\"\")&\"\"","v":""},{"$f":"IF($Y$108=19,ROUND($Y$19,0),\"\")&\"\"","v":""},{"$f":"IF($Z$108=19,ROUND($Z$19,0),\"\")&\"\"","v":""},{"$f":"IF($AA$108=19,ROUND($AA$19,0),\"\")&\"\"","v":""},11]
[null,null,12,{"$f":"IF($D$109=19,ROUND($D$20,0),\"\")&\"\"","v":""},{"$f":"IF($E$109=19,ROUND($E$20,0),\"\")&\"\"","v":""},{"$f":"IF($F$109=19,ROUND($F$20,0),\"\")&\"\"","v":""},{"$f":"IF($G$109=19,ROUND($G$20,0),\"\")&\"\"","v":""},{"$f":"IF($H$109=19,ROUND($H$20,0),\"\")&\"\"","v":""},{"$f":"IF($I$109=19,ROUND($I$20,0),\"\")&\"\"","v":""},{"$f":"IF($J$109=19,ROUND($J$20,0),\"\")&\"\"","v":""},{"$f":"IF($K$109=19,ROUND($K$20,0),\"\")&\"\"","v":""},{"$f":"IF($L$109=19,ROUND($L$20,0),\"\")&\"\"","v":""},{"$f":"IF($M$109=19,ROUND($M$20,0),\"\")&\"\"","v":""},{"$f":"IF($N$109=19,ROUND($N$20,0),\"\")&\"\"","v":""},{"$f":"IF($O$109=19,ROUND($O$20,0),\"\")&\"\"","v":""},{"$f":"IF($P$109=19,ROUND($P$20,0),\"\")&\"\"","v":""},{"$f":"IF($Q$109=19,ROUND($Q$20,0),\"\")&\"\"","v":""},{"$f":"IF($R$109=19,ROUND($R$20,0),\"\")&\"\"","v":""},{"$f":"IF($S$109=19,ROUND($S$20,0),\"\")&\"\"","v":""},{"$f":"IF($T$109=19,ROUND($T$20,0),\"\")&\"\"","v":""},{"$f":"IF($U$109=19,ROUND($U$20,0),\"\")&\"\"","v":""},{"$f":"IF($V$109=19,ROUND($V$20,0),\"\")&\"\"","v":""},{"$f":"IF($W$109=19,ROUND($W$20,0),\"\")&\"\"","v":""},{"$f":"IF($X$109=19,ROUND($X$20,0),\"\")&\"\"","v":""},{"$f":"IF($Y$109=19,ROUND($Y$20,0),\"\")&\"\"","v":""},{"$f":"IF($Z$109=19,ROUND($Z$20,0),\"\")&\"\"","v":""},{"$f":"IF($AA$109=19,ROUND($AA$20,0),\"\")&\"\"","v":""},12]
[null,null,1,{"$f":"IF($D$110=19,ROUND($D$21,0),\"\")&\"\"","v":""},{"$f":"IF($E$110=19,ROUND($E$21,0),\"\")&\"\"","v":""},{"$f":"IF($F$110=19,ROUND($F$21,0),\"\")&\"\"","v":""},{"$f":"IF($G$110=19,ROUND($G$21,0),\"\")&\"\"","v":""},{"$f":"IF($H$110=19,ROUND($H$21,0),\"\")&\"\"","v":""},{"$f":"IF($I$110=19,ROUND($I$21,0),\"\")&\"\"","v":""},{"$f":"IF($J$110=19,ROUND($J$21,0),\"\")&\"\"","v":""},{"$f":"IF($K$110=19,ROUND($K$21,0),\"\")&\"\"","v":""},{"$f":"IF($L$110=19,ROUND($L$21,0),\"\")&\"\"","v":""},{"$f":"IF($M$110=19,ROUND($M$21,0),\"\")&\"\"","v":""},{"$f":"IF($N$110=19,ROUND($N$21,0),\"\")&\"\"","v":""},{"$f":"IF($O$110=19,ROUND($O$21,0),\"\")&\"\"","v":""},{"$f":"IF($P$110=19,ROUND($P$21,0),\"\")&\"\"","v":""},{"$f":"IF($Q$110=19,ROUND($Q$21,0),\"\")&\"\"","v":""},{"$f":"IF($R$110=19,ROUND($R$21,0),\"\")&\"\"","v":""},{"$f":"IF($S$110=19,ROUND($S$21,0),\"\")&\"\"","v":""},{"$f":"IF($T$110=19,ROUND($T$21,0),\"\")&\"\"","v":""},{"$f":"IF($U$110=19,ROUND($U$21,0),\"\")&\"\"","v":""},{"$f":"IF($V$110=19,ROUND($V$21,0),\"\")&\"\"","v":""},{"$f":"IF($W$110=19,ROUND($W$21,0),\"\")&\"\"","v":""},{"$f":"IF($X$110=19,ROUND($X$21,0),\"\")&\"\"","v":""},{"$f":"IF($Y$110=19,ROUND($Y$21,0),\"\")&\"\"","v":""},{"$f":"IF($Z$110=19,ROUND($Z$21,0),\"\")&\"\"","v":""},{"$f":"IF($AA$110=19,ROUND($AA$21,0),\"\")&\"\"","v":""},1]
[null,null,2,{"$f":"IF($D$111=19,ROUND($D$22,0),\"\")&\"\"","v":""},{"$f":"IF($E$111=19,ROUND($E$22,0),\"\")&\"\"","v":""},{"$f":"IF($F$111=19,ROUND($F$22,0),\"\")&\"\"","v":""},{"$f":"IF($G$111=19,ROUND($G$22,0),\"\")&\"\"","v":""},{"$f":"IF($H$111=19,ROUND($H$22,0),\"\")&\"\"","v":""},{"$f":"IF($I$111=19,ROUND($I$22,0),\"\")&\"\"","v":""},{"$f":"IF($J$111=19,ROUND($J$22,0),\"\")&\"\"","v":""},{"$f":"IF($K$111=19,ROUND($K$22,0),\"\")&\"\"","v":""},{"$f":"IF($L$111=19,ROUND($L$22,0),\"\")&\"\"","v":""},{"$f":"IF($M$111=19,ROUND($M$22,0),\"\")&\"\"","v":""},{"$f":"IF($N$111=19,ROUND($N$22,0),\"\")&\"\"","v":""},{"$f":"IF($O$111=19,ROUND($O$22,0),\"\")&\"\"","v":""},{"$f":"IF($P$111=19,ROUND($P$22,0),\"\")&\"\"","v":""},{"$f":"IF($Q$111=19,ROUND($Q$22,0),\"\")&\"\"","v":""},{"$f":"IF($R$111=19,ROUND($R$22,0),\"\")&\"\"","v":""},{"$f":"IF($S$111=19,ROUND($S$22,0),\"\")&\"\"","v":""},{"$f":"IF($T$111=19,ROUND($T$22,0),\"\")&\"\"","v":""},{"$f":"IF($U$111=19,ROUND($U$22,0),\"\")&\"\"","v":""},{"$f":"IF($V$111=19,ROUND($V$22,0),\"\")&\"\"","v":""},{"$f":"IF($W$111=19,ROUND($W$22,0),\"\")&\"\"","v":""},{"$f":"IF($X$111=19,ROUND($X$22,0),\"\")&\"\"","v":""},{"$f":"IF($Y$111=19,ROUND($Y$22,0),\"\")&\"\"","v":""},{"$f":"IF($Z$111=19,ROUND($Z$22,0),\"\")&\"\"","v":""},{"$f":"IF($AA$111=19,ROUND($AA$22,0),\"\")&\"\"","v":""},2]
[null,null,3,{"$f":"IF($D$112=19,ROUND($D$23,0),\"\")&\"\"","v":""},{"$f":"IF($E$112=19,ROUND($E$23,0),\"\")&\"\"","v":""},{"$f":"IF($F$112=19,ROUND($F$23,0),\"\")&\"\"","v":""},{"$f":"IF($G$112=19,ROUND($G$23,0),\"\")&\"\"","v":""},{"$f":"IF($H$112=19,ROUND($H$23,0),\"\")&\"\"","v":""},{"$f":"IF($I$112=19,ROUND($I$23,0),\"\")&\"\"","v":""},{"$f":"IF($J$112=19,ROUND($J$23,0),\"\")&\"\"","v":""},{"$f":"IF($K$112=19,ROUND($K$23,0),\"\")&\"\"","v":""},{"$f":"IF($L$112=19,ROUND($L$23,0),\"\")&\"\"","v":""},{"$f":"IF($M$112=19,ROUND($M$23,0),\"\")&\"\"","v":""},{"$f":"IF($N$112=19,ROUND($N$23,0),\"\")&\"\"","v":""},{"$f":"IF($O$112=19,ROUND($O$23,0),\"\")&\"\"","v":""},{"$f":"IF($P$112=19,ROUND($P$23,0),\"\")&\"\"","v":""},{"$f":"IF($Q$112=19,ROUND($Q$23,0),\"\")&\"\"","v":""},{"$f":"IF($R$112=19,ROUND($R$23,0),\"\")&\"\"","v":""},{"$f":"IF($S$112=19,ROUND($S$23,0),\"\")&\"\"","v":""},{"$f":"IF($T$112=19,ROUND($T$23,0),\"\")&\"\"","v":""},{"$f":"IF($U$112=19,ROUND($U$23,0),\"\")&\"\"","v":""},{"$f":"IF($V$112=19,ROUND($V$23,0),\"\")&\"\"","v":""},{"$f":"IF($W$112=19,ROUND($W$23,0),\"\")&\"\"","v":""},{"$f":"IF($X$112=19,ROUND($X$23,0),\"\")&\"\"","v":""},{"$f":"IF($Y$112=19,ROUND($Y$23,0),\"\")&\"\"","v":""},{"$f":"IF($Z$112=19,ROUND($Z$23,0),\"\")&\"\"","v":""},{"$f":"IF($AA$112=19,ROUND($AA$23,0),\"\")&\"\"","v":""},3]
[]
[null,null,"冷却期間中　外気湿球温度(Tw)が発生する時間[hour]",null,null,null,null,null,null,null,null,null,null,null,null,null,null,null,null,null,null,null,null,null,null,null,null,null,null,null,null,null,null,null,null,null,null,null,null,null,null,null,null,null,null,null,null,null,null,null,{"$f":"Q35+Q36+Q37","v":7.4},null,null,{"$f":"R35+R36+R37","v":0},null,null,{"$f":"S35+S36+S37","v":0},null,null,null,{"$f":"Q49+Q50+Q51","v":0},null,null,{"$f":"R49+R50+R51","v":0},null,null,{"$f":"S49+S50+S51","v":0}]
[null,null,null,"外気湿球温度(Tw)",null,null,null,null,null,null,null,null,null,null,null,null,null,null,null,null,null,null,null,null,null,null,null,null,null,null,null,null,null,null,null,null,null,null,null,null,null,null,null,null,null,null,null,null,null,"前1",null,null,"前2",null,null,"前3",null,null,null,"後1",null,null,"後2",null,null,"後3"]
[null,null,"月",-6,-5,-4,-3,-2,-1,0,1,2,3,4,5,6,7,8,9,10,11,12,13,14,15,16,17,18,19,20,21,22,23,24,25,26,27,28,29,30,31,32,33,34,35,"月",null,"EccのΣ","EaxcのΣ","Ecc","Eaxc","Ec","Ecc","Eaxc","Ec","Ecc","Eaxc","Ec",null,"Ecc","Eaxc","Ec","Ecc","Eaxc","Ec","Ecc","Eaxc","Ec"]
[null,null,4,{"$f":"COUNTIF($D$117:$AA$117,$D$148)*$AB$12","v":0},{"$f":"COUNTIF($D$117:$AA$117,$E$148)*$AB$12","v":0},{"$f":"COUNTIF($D$117:$AA$117,$F$148)*$AB$12","v":0},{"$f":"COUNTIF($D$117:$AA$117,$G$148)*$AB$12","v":0},{"$f":"COUNTIF($D$117:$AA$117,$H$148)*$AB$12","v":0},{"$f":"COUNTIF($D$117:$AA$117,$I$148)*$AB$12","v":0},{"$f":"COUNTIF($D$117:$AA$117,$J$148)*$AB$12","v":0},{"$f":"COUNTIF($D$117:$AA$117,$K$148)*$AB$12","v":0},{"$f":"COUNTIF($D$117:$AA$117,$L$148)*$AB$12","v":0},{"$f":"COUNTIF($D$117:$AA$117,$M$148)*$AB$12","v":0},{"$f":"COUNTIF($D$117:$AA$117,$N$148)*$AB$12","v":0},{"$f":"COUNTIF($D$117:$AA$117,$O$148)*$AB$12","v":0},{"$f":"COUNTIF($D$117:$AA$117,$P$148)*$AB$12","v":0},{"$f":"COUNTIF($D$117:$AA$117,$Q$148)*$AB$12","v":0},{"$f":"COUNTIF($D$117:$AA$117,$R$148)*$AB$12","v":0},{"$f":"COUNTIF($D$117:$AA$117,$S$148)*$AB$12","v":0},{"$f":"COUNTIF($D$117:$AA$117,$T$148)*$AB$12","v":0},{"$f":"COUNTIF($D$117:$AA$117,$U$148)*$AB$12","v":0},{"$f":"COUNTIF($D$117:$AA$117,$V$148)*$AB$12","v":0},{"$f":"COUNTIF($D$117:$AA$117,$W$148)*$AB$12","v":0},{"$f":"COUNTIF($D$117:$AA$117,$X$148)*$AB$12","v":0},{"$f":"COUNTIF($D$117:$AA$117,$Y$148)*$AB$12","v":0},{"$f":"COUNTIF($D$117:$AA$117,$Z$148)*$AB$12","v":0},{"$f":"COUNTIF($D$117:$AA$117,$AA$148)*$AB$12","v":0},{"$f":"COUNTIF($D$117:$AA$117,$AB$148)*$AB$12","v":0},{"$f":"COUNTIF($D$117:$AA$117,$AC$148)*$AB$12","v":0},{"$f":"COUNTIF($D$117:$AA$117,$AD$148)*$AB$12","v":0},{"$f":"COUNTIF($D$117:$AA$117,$AE$148)*$AB$12","v":0},{"$f":"COUNTIF($D$117:$AA$117,$AF$148)*$AB$12","v":0},{"$f":"COUNTIF($D$117:$AA$117,$AG$148)*$AB$12","v":0},{"$f":"COUNTIF($D$117:$AA$117,$AH$148)*$AB$12","v":0},{"$f":"COUNTIF($D$117:$AA$117,$AI$148)*$AB$12","v":0},{"$f":"COUNTIF($D$117:$AA$117,$AJ$148)*$AB$12","v":0},{"$f":"COUNTIF($D$117:$AA$117,$AK$148)*$AB$12","v":0},{"$f":"COUNTIF($D$117:$AA$117,$AL$148)*$AB$12","v":0},{"$f":"COUNTIF($D$117:$AA$117,$AM$148)*$AB$12","v":0},{"$f":"COUNTIF($D$117:$AA$117,$AN$148)*$AB$12","v":0},{"$f":"COUNTIF($D$117:$AA$117,$AO$148)*$AB$12","v":0},{"$f":"COUNTIF($D$117:$AA$117,$AP$148)*$AB$12","v":0},{"$f":"COUNTIF($D$117:$AA$117,$AQ$148)*$AB$12","v":0},{"$f":"COUNTIF($D$117:$AA$117,$AR$148)*$AB$12","v":0},{"$f":"COUNTIF($D$117:$AA$117,$AS$148)*$AB$12","v":0},4,null,{"$f":"SUMPRODUCT($D$149:$AS$149,$D$162:$AS$162)","v":0},{"$f":"SUMPRODUCT($D149:$AS149,$D$189:$AS$189)","v":0},{"$f":"$Q$29/$Q$31*$AV149*$Q$40","v":0},{"$f":"AW149*$AY$146","v":0},{"$f":"IFERROR(AX149+AY149,\"\")","v":0},{"$f":"$R$29/$R$31*$AV149*$R$40","v":{"$error":"#VALUE!"}},{"$f":"AW149*$BB$146","v":0},{"$f":"IFERROR(BA149+BB149,\"\")","v":""},{"$f":"$S$29/$S$31*$AV149*$S$40","v":{"$error":"#VALUE!"}},{"$f":"AW149*$BE$146","v":0},{"$f":"IFERROR(BD149+BE149,\"\")","v":""},null,{"$f":"$Q$43/$Q$45*$AV149*$Q$54","v":{"$error":"#VALUE!"}},{"$f":"AW149*$BI$146","v":0},{"$f":"IFERROR(BH149+BI149,\"\")","v":""},{"$f":"$R$43/$R$45*$AV149*$R$54","v":{"$error":"#VALUE!"}},{"$f":"AW149*$BL$146","v":0},{"$f":"IFERROR(BK149+BL149,\"\")","v":""},{"$f":"$S$43/$S$45*$AV149*$S$54","v":{"$error":"#VALUE!"}},{"$f":"AW149*$BO$146","v":0},{"$f":"IFERROR(BN149+BO149,\"\")","v":""}]
[null,null,5,{"$f":"COUNTIF($D$118:$AA$118,$D$148)*$AB$13","v":0},{"$f":"COUNTIF($D$118:$AA$118,$E$148)*$AB$13","v":0},{"$f":"COUNTIF($D$118:$AA$118,$F$148)*$AB$13","v":0},{"$f":"COUNTIF($D$118:$AA$118,$G$148)*$AB$13","v":0},{"$f":"COUNTIF($D$118:$AA$118,$H$148)*$AB$13","v":0},{"$f":"COUNTIF($D$118:$AA$118,$I$148)*$AB$13","v":0},{"$f":"COUNTIF($D$118:$AA$118,$J$148)*$AB$13","v":0},{"$f":"COUNTIF($D$118:$AA$118,$K$148)*$AB$13","v":0},{"$f":"COUNTIF($D$118:$AA$118,$L$148)*$AB$13","v":0},{"$f":"COUNTIF($D$118:$AA$118,$M$148)*$AB$13","v":0},{"$f":"COUNTIF($D$118:$AA$118,$N$148)*$AB$13","v":0},{"$f":"COUNTIF($D$118:$AA$118,$O$148)*$AB$13","v":0},{"$f":"COUNTIF($D$118:$AA$118,$P$148)*$AB$13","v":0},{"$f":"COUNTIF($D$118:$AA$118,$Q$148)*$AB$13","v":0},{"$f":"COUNTIF($D$118:$AA$118,$R$148)*$AB$13","v":0},{"$f":"COUNTIF($D$118:$AA$118,$S$148)*$AB$13","v":0},{"$f":"COUNTIF($D$118:$AA$118,$T$148)*$AB$13","v":0},{"$f":"COUNTIF($D$118:$AA$118,$U$148)*$AB$13","v":0},{"$f":"COUNTIF($D$118:$AA$118,$V$148)*$AB$13","v":0},{"$f":"COUNTIF($D$118:$AA$118,$W$148)*$AB$13","v":0},{"$f":"COUNTIF($D$118:$AA$118,$X$148)*$AB$13","v":0},{"$f":"COUNTIF($D$118:$AA$118,$Y$148)*$AB$13","v":0},{"$f":"COUNTIF($D$118:$AA$118,$Z$148)*$AB$13","v":0},{"$f":"COUNTIF($D$118:$AA$118,$AA$148)*$AB$13","v":0},{"$f":"COUNTIF($D$118:$AA$118,$AB$148)*$AB$13","v":0},{"$f":"COUNTIF($D$118:$AA$118,$AC$148)*$AB$13","v":0},{"$f":"COUNTIF($D$118:$AA$118,$AD$148)*$AB$13","v":0},{"$f":"COUNTIF($D$118:$AA$118,$AE$148)*$AB$13","v":0},{"$f":"COUNTIF($D$118:$AA$118,$AF$148)*$AB$13","v":0},{"$f":"COUNTIF($D$118:$AA$118,$AG$148)*$AB$13","v":0},{"$f":"COUNTIF($D$118:$AA$118,$AH$148)*$AB$13","v":0},{"$f":"COUNTIF($D$118:$AA$118,$AI$148)*$AB$13","v":0},{"$f":"COUNTIF($D$118:$AA$118,$AJ$148)*$AB$13","v":0},{"$f":"COUNTIF($D$118:$AA$118,$AK$148)*$AB$13","v":0},{"$f":"COUNTIF($D$118:$AA$118,$AL$148)*$AB$13","v":0},{"$f":"COUNTIF($D$118:$AA$118,$AM$148)*$AB$13","v":0},{"$f":"COUNTIF($D$118:$AA$118,$AN$148)*$AB$13","v":0},{"$f":"COUNTIF($D$118:$AA$118,$AO$148)*$AB$13","v":0},{"$f":"COUNTIF($D$118:$AA$118,$AP$148)*$AB$13","v":0},{"$f":"COUNTIF($D$118:$AA$118,$AQ$148)*$AB$13","v":0},{"$f":"COUNTIF($D$118:$AA$118,$AR$148)*$AB$13","v":0},{"$f":"COUNTIF($D$118:$AA$118,$AS$148)*$AB$13","v":0},5,null,{"$f":"SUMPRODUCT($D$150:$AS$150,$D$162:$AS$162)","v":0},{"$f":"SUMPRODUCT($D150:$AS150,$D$189:$AS$189)","v":0},0,{"$f":"AW150*$AY$146","v":0},{"$f":"IFERROR(AX150+AY150,\"\")","v":0},{"$error":"#VALUE!"},{"$f":"AW150*$BB$146","v":0},{"$f":"IFERROR(BA150+BB150,\"\")","v":""},{"$error":"#VALUE!"},{"$f":"AW150*$BE$146","v":0},{"$f":"IFERROR(BD150+BE150,\"\")","v":""},null,{"$error":"#VALUE!"},{"$f":"AW150*$BI$146","v":0},{"$f":"IFERROR(BH150+BI150,\"\")","v":""},{"$error":"#VALUE!"},{"$f":"AW150*$BL$146","v":0},{"$f":"IFERROR(BK150+BL150,\"\")","v":""},{"$error":"#VALUE!"},{"$f":"AW150*$BO$146","v":0},{"$f":"IFERROR(BN150+BO150,\"\")","v":""}]
[null,null,6,{"$f":"COUNTIF($D$119:$AA$119,$D$148)*$AB$14","v":0},{"$f":"COUNTIF($D$119:$AA$119,$E$148)*$AB$14","v":0},{"$f":"COUNTIF($D$119:$AA$119,$F$148)*$AB$14","v":0},{"$f":"COUNTIF($D$119:$AA$119,$G$148)*$AB$14","v":0},{"$f":"COUNTIF($D$119:$AA$119,$H$148)*$AB$14","v":0},{"$f":"COUNTIF($D$119:$AA$119,$I$148)*$AB$14","v":0},{"$f":"COUNTIF($D$119:$AA$119,$J$148)*$AB$14","v":0},{"$f":"COUNTIF($D$119:$AA$119,$K$148)*$AB$14","v":0},{"$f":"COUNTIF($D$119:$AA$119,$L$148)*$AB$14","v":0},{"$f":"COUNTIF($D$119:$AA$119,$M$148)*$AB$14","v":0},{"$f":"COUNTIF($D$119:$AA$119,$N$148)*$AB$14","v":0},{"$f":"COUNTIF($D$119:$AA$119,$O$148)*$AB$14","v":0},{"$f":"COUNTIF($D$119:$AA$119,$P$148)*$AB$14","v":0},{"$f":"COUNTIF($D$119:$AA$119,$Q$148)*$AB$14","v":0},{"$f":"COUNTIF($D$119:$AA$119,$R$148)*$AB$14","v":0},{"$f":"COUNTIF($D$119:$AA$119,$S$148)*$AB$14","v":0},{"$f":"COUNTIF($D$119:$AA$119,$T$148)*$AB$14","v":0},{"$f":"COUNTIF($D$119:$AA$119,$U$148)*$AB$14","v":0},{"$f":"COUNTIF($D$119:$AA$119,$V$148)*$AB$14","v":0},{"$f":"COUNTIF($D$119:$AA$119,$W$148)*$AB$14","v":0},{"$f":"COUNTIF($D$119:$AA$119,$X$148)*$AB$14","v":0},{"$f":"COUNTIF($D$119:$AA$119,$Y$148)*$AB$14","v":0},{"$f":"COUNTIF($D$119:$AA$119,$Z$148)*$AB$14","v":0},{"$f":"COUNTIF($D$119:$AA$119,$AA$148)*$AB$14","v":0},{"$f":"COUNTIF($D$119:$AA$119,$AB$148)*$AB$14","v":0},{"$f":"COUNTIF($D$119:$AA$119,$AC$148)*$AB$14","v":0},{"$f":"COUNTIF($D$119:$AA$119,$AD$148)*$AB$14","v":0},{"$f":"COUNTIF($D$119:$AA$119,$AE$148)*$AB$14","v":0},{"$f":"COUNTIF($D$119:$AA$119,$AF$148)*$AB$14","v":0},{"$f":"COUNTIF($D$119:$AA$119,$AG$148)*$AB$14","v":0},{"$f":"COUNTIF($D$119:$AA$119,$AH$148)*$AB$14","v":0},{"$f":"COUNTIF($D$119:$AA$119,$AI$148)*$AB$14","v":0},{"$f":"COUNTIF($D$119:$AA$119,$AJ$148)*$AB$14","v":0},{"$f":"COUNTIF($D$119:$AA$119,$AK$148)*$AB$14","v":0},{"$f":"COUNTIF($D$119:$AA$119,$AL$148)*$AB$14","v":0},{"$f":"COUNTIF($D$119:$AA$119,$AM$148)*$AB$14","v":0},{"$f":"COUNTIF($D$119:$AA$119,$AN$148)*$AB$14","v":0},{"$f":"COUNTIF($D$119:$AA$119,$AO$148)*$AB$14","v":0},{"$f":"COUNTIF($D$119:$AA$119,$AP$148)*$AB$14","v":0},{"$f":"COUNTIF($D$119:$AA$119,$AQ$148)*$AB$14","v":0},{"$f":"COUNTIF($D$119:$AA$119,$AR$148)*$AB$14","v":0},{"$f":"COUNTIF($D$119:$AA$119,$AS$148)*$AB$14","v":0},6,null,{"$f":"SUMPRODUCT($D$151:$AS$151,$D$162:$AS$162)","v":0},0,0,0,0,{"$error":"#VALUE!"},0,"",{"$error":"#VALUE!"},0,"",null,{"$error":"#VALUE!"},0,"",{"$error":"#VALUE!"},0,"",{"$error":"#VALUE!"},0,""]
[null,null,7,{"$f":"COUNTIF($D$120:$AA$120,$D$148)*$AB$15","v":0},{"$f":"COUNTIF($D$120:$AA$120,$E$148)*$AB$15","v":0},{"$f":"COUNTIF($D$120:$AA$120,$F$148)*$AB$15","v":0},{"$f":"COUNTIF($D$120:$AA$120,$G$148)*$AB$15","v":0},{"$f":"COUNTIF($D$120:$AA$120,$H$148)*$AB$15","v":0},{"$f":"COUNTIF($D$120:$AA$120,$I$148)*$AB$15","v":0},{"$f":"COUNTIF($D$120:$AA$120,$J$148)*$AB$15","v":0},{"$f":"COUNTIF($D$120:$AA$120,$K$148)*$AB$15","v":0},{"$f":"COUNTIF($D$120:$AA$120,$L$148)*$AB$15","v":0},{"$f":"COUNTIF($D$120:$AA$120,$M$148)*$AB$15","v":0},{"$f":"COUNTIF($D$120:$AA$120,$N$148)*$AB$15","v":0},{"$f":"COUNTIF($D$120:$AA$120,$O$148)*$AB$15","v":0},{"$f":"COUNTIF($D$120:$AA$120,$P$148)*$AB$15","v":0},{"$f":"COUNTIF($D$120:$AA$120,$Q$148)*$AB$15","v":0},{"$f":"COUNTIF($D$120:$AA$120,$R$148)*$AB$15","v":0},{"$f":"COUNTIF($D$120:$AA$120,$S$148)*$AB$15","v":0},{"$f":"COUNTIF($D$120:$AA$120,$T$148)*$AB$15","v":0},{"$f":"COUNTIF($D$120:$AA$120,$U$148)*$AB$15","v":0},{"$f":"COUNTIF($D$120:$AA$120,$V$148)*$AB$15","v":0},{"$f":"COUNTIF($D$120:$AA$120,$W$148)*$AB$15","v":0},{"$f":"COUNTIF($D$120:$AA$120,$X$148)*$AB$15","v":0},{"$f":"COUNTIF($D$120:$AA$120,$Y$148)*$AB$15","v":0},{"$f":"COUNTIF($D$120:$AA$120,$Z$148)*$AB$15","v":0},{"$f":"COUNTIF($D$120:$AA$120,$AA$148)*$AB$15","v":0},{"$f":"COUNTIF($D$120:$AA$120,$AB$148)*$AB$15","v":0},{"$f":"COUNTIF($D$120:$AA$120,$AC$148)*$AB$15","v":0},{"$f":"COUNTIF($D$120:$AA$120,$AD$148)*$AB$15","v":0},{"$f":"COUNTIF($D$120:$AA$120,$AE$148)*$AB$15","v":0},{"$f":"COUNTIF($D$120:$AA$120,$AF$148)*$AB$15","v":0},{"$f":"COUNTIF($D$120:$AA$120,$AG$148)*$AB$15","v":0},{"$f":"COUNTIF($D$120:$AA$120,$AH$148)*$AB$15","v":0},{"$f":"COUNTIF($D$120:$AA$120,$AI$148)*$AB$15","v":0},{"$f":"COUNTIF($D$120:$AA$120,$AJ$148)*$AB$15","v":0},{"$f":"COUNTIF($D$120:$AA$120,$AK$148)*$AB$15","v":0},{"$f":"COUNTIF($D$120:$AA$120,$AL$148)*$AB$15","v":0},{"$f":"COUNTIF($D$120:$AA$120,$AM$148)*$AB$15","v":0},{"$f":"COUNTIF($D$120:$AA$120,$AN$148)*$AB$15","v":0},{"$f":"COUNTIF($D$120:$AA$120,$AO$148)*$AB$15","v":0},{"$f":"COUNTIF($D$120:$AA$120,$AP$148)*$AB$15","v":0},{"$f":"COUNTIF($D$120:$AA$120,$AQ$148)*$AB$15","v":0},{"$f":"COUNTIF($D$120:$AA$120,$AR$148)*$AB$15","v":0},{"$f":"COUNTIF($D$120:$AA$120,$AS$148)*$AB$15","v":0},7,null,{"$f":"SUMPRODUCT($D$152:$AS$152,$D$162:$AS$162)","v":0},0,0,0,0,{"$error":"#VALUE!"},0,"",{"$error":"#VALUE!"},0,"",null,{"$error":"#VALUE!"},0,"",{"$error":"#VALUE!"},0,"",{"$error":"#VALUE!"},0,""]
[null,null,8,{"$f":"COUNTIF($D$121:$AA$121,$D$148)*$AB$16","v":0},{"$f":"COUNTIF($D$121:$AA$121,$E$148)*$AB$16","v":0},{"$f":"COUNTIF($D$121:$AA$121,$F$148)*$AB$16","v":0},{"$f":"COUNTIF($D$121:$AA$121,$G$148)*$AB$16","v":0},{"$f":"COUNTIF($D$121:$AA$121,$H$148)*$AB$16","v":0},{"$f":"COUNTIF($D$121:$AA$121,$I$148)*$AB$16","v":0},{"$f":"COUNTIF($D$121:$AA$121,$J$148)*$AB$16","v":0},{"$f":"COUNTIF($D$121:$AA$121,$K$148)*$AB$16","v":0},{"$f":"COUNTIF($D$121:$AA$121,$L$148)*$AB$16","v":0},{"$f":"COUNTIF($D$121:$AA$121,$M$148)*$AB$16","v":0},{"$f":"COUNTIF($D$121:$AA$121,$N$148)*$AB$16","v":0},{"$f":"COUNTIF($D$121:$AA$121,$O$148)*$AB$16","v":0},{"$f":"COUNTIF($D$121:$AA$121,$P$148)*$AB$16","v":0},{"$f":"COUNTIF($D$121:$AA$121,$Q$148)*$AB$16","v":0},{"$f":"COUNTIF($D$121:$AA$121,$R$148)*$AB$16","v":0},{"$f":"COUNTIF($D$121:$AA$121,$S$148)*$AB$16","v":0},{"$f":"COUNTIF($D$121:$AA$121,$T$148)*$AB$16","v":0},{"$f":"COUNTIF($D$121:$AA$121,$U$148)*$AB$16","v":0},{"$f":"COUNTIF($D$121:$AA$121,$V$148)*$AB$16","v":0},{"$f":"COUNTIF($D$121:$AA$121,$W$148)*$AB$16","v":0},{"$f":"COUNTIF($D$121:$AA$121,$X$148)*$AB$16","v":0},{"$f":"COUNTIF($D$121:$AA$121,$Y$148)*$AB$16","v":0},{"$f":"COUNTIF($D$121:$AA$121,$Z$148)*$AB$16","v":0},{"$f":"COUNTIF($D$121:$AA$121,$AA$148)*$AB$16","v":0},{"$f":"COUNTIF($D$121:$AA$121,$AB$148)*$AB$16","v":0},{"$f":"COUNTIF($D$121:$AA$121,$AC$148)*$AB$16","v":0},{"$f":"COUNTIF($D$121:$AA$121,$AD$148)*$AB$16","v":0},{"$f":"COUNTIF($D$121:$AA$121,$AE$148)*$AB$16","v":0},{"$f":"COUNTIF($D$121:$AA$121,$AF$148)*$AB$16","v":0},{"$f":"COUNTIF($D$121:$AA$121,$AG$148)*$AB$16","v":0},{"$f":"COUNTIF($D$121:$AA$121,$AH$148)*$AB$16","v":0},{"$f":"COUNTIF($D$121:$AA$121,$AI$148)*$AB$16","v":0},{"$f":"COUNTIF($D$121:$AA$121,$AJ$148)*$AB$16","v":0},{"$f":"COUNTIF($D$121:$AA$121,$AK$148)*$AB$16","v":0},{"$f":"COUNTIF($D$121:$AA$121,$AL$148)*$AB$16","v":0},{"$f":"COUNTIF($D$121:$AA$121,$AM$148)*$AB$16","v":0},{"$f":"COUNTIF($D$121:$AA$121,$AN$148)*$AB$16","v":0},{"$f":"COUNTIF($D$121:$AA$121,$AO$148)*$AB$16","v":0},{"$f":"COUNTIF($D$121:$AA$121,$AP$148)*$AB$16","v":0},{"$f":"COUNTIF($D$121:$AA$121,$AQ$148)*$AB$16","v":0},{"$f":"COUNTIF($D$121:$AA$121,$AR$148)*$AB$16","v":0},{"$f":"COUNTIF($D$121:$AA$121,$AS$148)*$AB$16","v":0},8,null,{"$f":"SUMPRODUCT($D$153:$AS$153,$D$162:$AS$162)","v":0},0,0,0,0,{"$error":"#VALUE!"},0,"",{"$error":"#VALUE!"},0,"",null,{"$error":"#VALUE!"},0,"",{"$error":"#VALUE!"},0,"",{"$error":"#VALUE!"},0,""]
[null,null,9,{"$f":"COUNTIF($D$122:$AA$122,$D$148)*$AB$17","v":0},{"$f":"COUNTIF($D$122:$AA$122,$E$148)*$AB$17","v":0},{"$f":"COUNTIF($D$122:$AA$122,$F$148)*$AB$17","v":0},{"$f":"COUNTIF($D$122:$AA$122,$G$148)*$AB$17","v":0},{"$f":"COUNTIF($D$122:$AA$122,$H$148)*$AB$17","v":0},{"$f":"COUNTIF($D$122:$AA$122,$I$148)*$AB$17","v":0},{"$f":"COUNTIF($D$122:$AA$122,$J$148)*$AB$17","v":0},{"$f":"COUNTIF($D$122:$AA$122,$K$148)*$AB$17","v":0},{"$f":"COUNTIF($D$122:$AA$122,$L$148)*$AB$17","v":0},{"$f":"COUNTIF($D$122:$AA$122,$M$148)*$AB$17","v":0},{"$f":"COUNTIF($D$122:$AA$122,$N$148)*$AB$17","v":0},{"$f":"COUNTIF($D$122:$AA$122,$O$148)*$AB$17","v":0},{"$f":"COUNTIF($D$122:$AA$122,$P$148)*$AB$17","v":0},{"$f":"COUNTIF($D$122:$AA$122,$Q$148)*$AB$17","v":0},{"$f":"COUNTIF($D$122:$AA$122,$R$148)*$AB$17","v":0},{"$f":"COUNTIF($D$122:$AA$122,$S$148)*$AB$17","v":0},{"$f":"COUNTIF($D$122:$AA$122,$T$148)*$AB$17","v":0},{"$f":"COUNTIF($D$122:$AA$122,$U$148)*$AB$17","v":0},{"$f":"COUNTIF($D$122:$AA$122,$V$148)*$AB$17","v":0},{"$f":"COUNTIF($D$122:$AA$122,$W$148)*$AB$17","v":0},{"$f":"COUNTIF($D$122:$AA$122,$X$148)*$AB$17","v":0},{"$f":"COUNTIF($D$122:$AA$122,$Y$148)*$AB$17","v":0},{"$f":"COUNTIF($D$122:$AA$122,$Z$148)*$AB$17","v":0},{"$f":"COUNTIF($D$122:$AA$122,$AA$148)*$AB$17","v":0},{"$f":"COUNTIF($D$122:$AA$122,$AB$148)*$AB$17","v":0},{"$f":"COUNTIF($D$122:$AA$122,$AC$148)*$AB$17","v":0},{"$f":"COUNTIF($D$122:$AA$122,$AD$148)*$AB$17","v":0},{"$f":"COUNTIF($D$122:$AA$122,$AE$148)*$AB$17","v":0},{"$f":"COUNTIF($D$122:$AA$122,$AF$148)*$AB$17","v":0},{"$f":"COUNTIF($D$122:$AA$122,$AG$148)*$AB$17","v":0},{"$f":"COUNTIF($D$122:$AA$122,$AH$148)*$AB$17","v":0},{"$f":"COUNTIF($D$122:$AA$122,$AI$148)*$AB$17","v":0},{"$f":"COUNTIF($D$122:$AA$122,$AJ$148)*$AB$17","v":0},{"$f":"COUNTIF($D$122:$AA$122,$AK$148)*$AB$17","v":0},{"$f":"COUNTIF($D$122:$AA$122,$AL$148)*$AB$17","v":0},{"$f":"COUNTIF($D$122:$AA$122,$AM$148)*$AB$17","v":0},{"$f":"COUNTIF($D$122:$AA$122,$AN$148)*$AB$17","v":0},{"$f":"COUNTIF($D$122:$AA$122,$AO$148)*$AB$17","v":0},{"$f":"COUNTIF($D$122:$AA$122,$AP$148)*$AB$17","v":0},{"$f":"COUNTIF($D$122:$AA$122,$AQ$148)*$AB$17","v":0},{"$f":"COUNTIF($D$122:$AA$122,$AR$148)*$AB$17","v":0},{"$f":"COUNTIF($D$122:$AA$122,$AS$148)*$AB$17","v":0},9,null,{"$f":"SUMPRODUCT($D$154:$AS$154,$D$162:$AS$162)","v":0},0,0,{"$f":"AW154*$AY$146","v":0},0,{"$error":"#VALUE!"},0,{"$f":"IFERROR(BA154+BB154,\"\")","v":""},{"$error":"#VALUE!"},0,"",null,{"$error":"#VALUE!"},0,"",{"$error":"#VALUE!"},0,"",{"$error":"#VALUE!"},0,""]
[null,null,10,{"$f":"COUNTIF($D$123:$AA$123,$D$148)*$AB$18","v":0},{"$f":"COUNTIF($D$123:$AA$123,$E$148)*$AB$18","v":0},{"$f":"COUNTIF($D$123:$AA$123,$F$148)*$AB$18","v":0},{"$f":"COUNTIF($D$123:$AA$123,$G$148)*$AB$18","v":0},{"$f":"COUNTIF($D$123:$AA$123,$H$148)*$AB$18","v":0},{"$f":"COUNTIF($D$123:$AA$123,$I$148)*$AB$18","v":0},{"$f":"COUNTIF($D$123:$AA$123,$J$148)*$AB$18","v":0},{"$f":"COUNTIF($D$123:$AA$123,$K$148)*$AB$18","v":0},{"$f":"COUNTIF($D$123:$AA$123,$L$148)*$AB$18","v":0},{"$f":"COUNTIF($D$123:$AA$123,$M$148)*$AB$18","v":0},{"$f":"COUNTIF($D$123:$AA$123,$N$148)*$AB$18","v":0},{"$f":"COUNTIF($D$123:$AA$123,$O$148)*$AB$18","v":0},{"$f":"COUNTIF($D$123:$AA$123,$P$148)*$AB$18","v":0},{"$f":"COUNTIF($D$123:$AA$123,$Q$148)*$AB$18","v":0},{"$f":"COUNTIF($D$123:$AA$123,$R$148)*$AB$18","v":0},{"$f":"COUNTIF($D$123:$AA$123,$S$148)*$AB$18","v":0},{"$f":"COUNTIF($D$123:$AA$123,$T$148)*$AB$18","v":0},{"$f":"COUNTIF($D$123:$AA$123,$U$148)*$AB$18","v":0},{"$f":"COUNTIF($D$123:$AA$123,$V$148)*$AB$18","v":0},{"$f":"COUNTIF($D$123:$AA$123,$W$148)*$AB$18","v":0},{"$f":"COUNTIF($D$123:$AA$123,$X$148)*$AB$18","v":0},{"$f":"COUNTIF($D$123:$AA$123,$Y$148)*$AB$18","v":0},{"$f":"COUNTIF($D$123:$AA$123,$Z$148)*$AB$18","v":0},{"$f":"COUNTIF($D$123:$AA$123,$AA$148)*$AB$18","v":0},{"$f":"COUNTIF($D$123:$AA$123,$AB$148)*$AB$18","v":0},{"$f":"COUNTIF($D$123:$AA$123,$AC$148)*$AB$18","v":0},{"$f":"COUNTIF($D$123:$AA$123,$AD$148)*$AB$18","v":0},{"$f":"COUNTIF($D$123:$AA$123,$AE$148)*$AB$18","v":0},{"$f":"COUNTIF($D$123:$AA$123,$AF$148)*$AB$18","v":0},{"$f":"COUNTIF($D$123:$AA$123,$AG$148)*$AB$18","v":0},{"$f":"COUNTIF($D$123:$AA$123,$AH$148)*$AB$18","v":0},{"$f":"COUNTIF($D$123:$AA$123,$AI$148)*$AB$18","v":0},{"$f":"COUNTIF($D$123:$AA$123,$AJ$148)*$AB$18","v":0},{"$f":"COUNTIF($D$123:$AA$123,$AK$148)*$AB$18","v":0},{"$f":"COUNTIF($D$123:$AA$123,$AL$148)*$AB$18","v":0},{"$f":"COUNTIF($D$123:$AA$123,$AM$148)*$AB$18","v":0},{"$f":"COUNTIF($D$123:$AA$123,$AN$148)*$AB$18","v":0},{"$f":"COUNTIF($D$123:$AA$123,$AO$148)*$AB$18","v":0},{"$f":"COUNTIF($D$123:$AA$123,$AP$148)*$AB$18","v":0},{"$f":"COUNTIF($D$123:$AA$123,$AQ$148)*$AB$18","v":0},{"$f":"COUNTIF($D$123:$AA$123,$AR$148)*$AB$18","v":0},{"$f":"COUNTIF($D$123:$AA$123,$AS$148)*$AB$18","v":0},10,null,{"$f":"SUMPRODUCT($D$155:$AS$155,$D$162:$AS$162)","v":0},0,0,0,0,{"$error":"#VALUE!"},0,"",{"$error":"#VALUE!"},0,"",null,{"$error":"#VALUE!"},0,"",{"$error":"#VALUE!"},0,"",{"$error":"#VALUE!"},0,""]
[null,null,11,{"$f":"COUNTIF($D$124:$AA$124,$D$148)*$AB$19","v":0},{"$f":"COUNTIF($D$124:$AA$124,$E$148)*$AB$19","v":0},{"$f":"COUNTIF($D$124:$AA$124,$F$148)*$AB$19","v":0},{"$f":"COUNTIF($D$124:$AA$124,$G$148)*$AB$19","v":0},{"$f":"COUNTIF($D$124:$AA$124,$H$148)*$AB$19","v":0},{"$f":"COUNTIF($D$124:$AA$124,$I$148)*$AB$19","v":0},{"$f":"COUNTIF($D$124:$AA$124,$J$148)*$AB$19","v":0},{"$f":"COUNTIF($D$124:$AA$124,$K$148)*$AB$19","v":0},{"$f":"COUNTIF($D$124:$AA$124,$L$148)*$AB$19","v":0},{"$f":"COUNTIF($D$124:$AA$124,$M$148)*$AB$19","v":0},{"$f":"COUNTIF($D$124:$AA$124,$N$148)*$AB$19","v":0},{"$f":"COUNTIF($D$124:$AA$124,$O$148)*$AB$19","v":0},{"$f":"COUNTIF($D$124:$AA$124,$P$148)*$AB$19","v":0},{"$f":"COUNTIF($D$124:$AA$124,$Q$148)*$AB$19","v":0},{"$f":"COUNTIF($D$124:$AA$124,$R$148)*$AB$19","v":0},{"$f":"COUNTIF($D$124:$AA$124,$S$148)*$AB$19","v":0},{"$f":"COUNTIF($D$124:$AA$124,$T$148)*$AB$19","v":0},{"$f":"COUNTIF($D$124:$AA$124,$U$148)*$AB$19","v":0},{"$f":"COUNTIF($D$124:$AA$124,$V$148)*$AB$19","v":0},{"$f":"COUNTIF($D$124:$AA$124,$W$148)*$AB$19","v":0},{"$f":"COUNTIF($D$124:$AA$124,$X$148)*$AB$19","v":0},{"$f":"COUNTIF($D$124:$AA$124,$Y$148)*$AB$19","v":0},{"$f":"COUNTIF($D$124:$AA$124,$Z$148)*$AB$19","v":0},{"$f":"COUNTIF($D$124:$AA$124,$AA$148)*$AB$19","v":0},{"$f":"COUNTIF($D$124:$AA$124,$AB$148)*$AB$19","v":0},{"$f":"COUNTIF($D$124:$AA$124,$AC$148)*$AB$19","v":0},{"$f":"COUNTIF($D$124:$AA$124,$AD$148)*$AB$19","v":0},{"$f":"COUNTIF($D$124:$AA$124,$AE$148)*$AB$19","v":0},{"$f":"COUNTIF($D$124:$AA$124,$AF$148)*$AB$19","v":0},{"$f":"COUNTIF($D$124:$AA$124,$AG$148)*$AB$19","v":0},{"$f":"COUNTIF($D$124:$AA$124,$AH$148)*$AB$19","v":0},{"$f":"COUNTIF($D$124:$AA$124,$AI$148)*$AB$19","v":0},{"$f":"COUNTIF($D$124:$AA$124,$AJ$148)*$AB$19","v":0},{"$f":"COUNTIF($D$124:$AA$124,$AK$148)*$AB$19","v":0},{"$f":"COUNTIF($D$124:$AA$124,$AL$148)*$AB$19","v":0},{"$f":"COUNTIF($D$124:$AA$124,$AM$148)*$AB$19","v":0},{"$f":"COUNTIF($D$124:$AA$124,$AN$148)*$AB$19","v":0},{"$f":"COUNTIF($D$124:$AA$124,$AO$148)*$AB$19","v":0},{"$f":"COUNTIF($D$124:$AA$124,$AP$148)*$AB$19","v":0},{"$f":"COUNTIF($D$124:$AA$124,$AQ$148)*$AB$19","v":0},{"$f":"COUNTIF($D$124:$AA$124,$AR$148)*$AB$19","v":0},{"$f":"COUNTIF($D$124:$AA$124,$AS$148)*$AB$19","v":0},11,null,{"$f":"SUMPRODUCT($D$156:$AS$156,$D$162:$AS$162)","v":0},0,0,0,0,{"$error":"#VALUE!"},0,"",{"$error":"#VALUE!"},0,"",null,{"$error":"#VALUE!"},0,"",{"$error":"#VALUE!"},0,"",{"$error":"#VALUE!"},0,""]
[null,null,12,{"$f":"COUNTIF($D$125:$AA$125,$D$148)*$AB$20","v":0},{"$f":"COUNTIF($D$125:$AA$125,$E$148)*$AB$20","v":0},{"$f":"COUNTIF($D$125:$AA$125,$F$148)*$AB$20","v":0},{"$f":"COUNTIF($D$125:$AA$125,$G$148)*$AB$20","v":0},{"$f":"COUNTIF($D$125:$AA$125,$H$148)*$AB$20","v":0},{"$f":"COUNTIF($D$125:$AA$125,$I$148)*$AB$20","v":0},{"$f":"COUNTIF($D$125:$AA$125,$J$148)*$AB$20","v":0},{"$f":"COUNTIF($D$125:$AA$125,$K$148)*$AB$20","v":0},{"$f":"COUNTIF($D$125:$AA$125,$L$148)*$AB$20","v":0},{"$f":"COUNTIF($D$125:$AA$125,$M$148)*$AB$20","v":0},{"$f":"COUNTIF($D$125:$AA$125,$N$148)*$AB$20","v":0},{"$f":"COUNTIF($D$125:$AA$125,$O$148)*$AB$20","v":0},{"$f":"COUNTIF($D$125:$AA$125,$P$148)*$AB$20","v":0},{"$f":"COUNTIF($D$125:$AA$125,$Q$148)*$AB$20","v":0},{"$f":"COUNTIF($D$125:$AA$125,$R$148)*$AB$20","v":0},{"$f":"COUNTIF($D$125:$AA$125,$S$148)*$AB$20","v":0},{"$f":"COUNTIF($D$125:$AA$125,$T$148)*$AB$20","v":0},{"$f":"COUNTIF($D$125:$AA$125,$U$148)*$AB$20","v":0},{"$f":"COUNTIF($D$125:$AA$125,$V$148)*$AB$20","v":0},{"$f":"COUNTIF($D$125:$AA$125,$W$148)*$AB$20","v":0},{"$f":"COUNTIF($D$125:$AA$125,$X$148)*$AB$20","v":0},{"$f":"COUNTIF($D$125:$AA$125,$Y$148)*$AB$20","v":0},{"$f":"COUNTIF($D$125:$AA$125,$Z$148)*$AB$20","v":0},{"$f":"COUNTIF($D$125:$AA$125,$AA$148)*$AB$20","v":0},{"$f":"COUNTIF($D$125:$AA$125,$AB$148)*$AB$20","v":0},{"$f":"COUNTIF($D$125:$AA$125,$AC$148)*$AB$20","v":0},{"$f":"COUNTIF($D$125:$AA$125,$AD$148)*$AB$20","v":0},{"$f":"COUNTIF($D$125:$AA$125,$AE$148)*$AB$20","v":0},{"$f":"COUNTIF($D$125:$AA$125,$AF$148)*$AB$20","v":0},{"$f":"COUNTIF($D$125:$AA$125,$AG$148)*$AB$20","v":0},{"$f":"COUNTIF($D$125:$AA$125,$AH$148)*$AB$20","v":0},{"$f":"COUNTIF($D$125:$AA$125,$AI$148)*$AB$20","v":0},{"$f":"COUNTIF($D$125:$AA$125,$AJ$148)*$AB$20","v":0},{"$f":"COUNTIF($D$125:$AA$125,$AK$148)*$AB$20","v":0},{"$f":"COUNTIF($D$125:$AA$125,$AL$148)*$AB$20","v":0},{"$f":"COUNTIF($D$125:$AA$125,$AM$148)*$AB$20","v":0},{"$f":"COUNTIF($D$125:$AA$125,$AN$148)*$AB$20","v":0},{"$f":"COUNTIF($D$125:$AA$125,$AO$148)*$AB$20","v":0},{"$f":"COUNTIF($D$125:$AA$125,$AP$148)*$AB$20","v":0},{"$f":"COUNTIF($D$125:$AA$125,$AQ$148)*$AB$20","v":0},{"$f":"COUNTIF($D$125:$AA$125,$AR$148)*$AB$20","v":0},{"$f":"COUNTIF($D$125:$AA$125,$AS$148)*$AB$20","v":0},12,null,{"$f":"SUMPRODUCT($D$157:$AS$157,$D$162:$AS$162)","v":0},0,0,0,0,{"$error":"#VALUE!"},0,"",{"$error":"#VALUE!"},0,"",null,{"$error":"#VALUE!"},0,"",{"$error":"#VALUE!"},0,"",{"$error":"#VALUE!"},0,""]
[null,null,1,{"$f":"COUNTIF($D$126:$AA$126,$D$148)*$AB$21","v":0},{"$f":"COUNTIF($D$126:$AA$126,$E$148)*$AB$21","v":0},{"$f":"COUNTIF($D$126:$AA$126,$F$148)*$AB$21","v":0},{"$f":"COUNTIF($D$126:$AA$126,$G$148)*$AB$21","v":0},{"$f":"COUNTIF($D$126:$AA$126,$H$148)*$AB$21","v":0},{"$f":"COUNTIF($D$126:$AA$126,$I$148)*$AB$21","v":0},{"$f":"COUNTIF($D$126:$AA$126,$J$148)*$AB$21","v":0},{"$f":"COUNTIF($D$126:$AA$126,$K$148)*$AB$21","v":0},{"$f":"COUNTIF($D$126:$AA$126,$L$148)*$AB$21","v":0},{"$f":"COUNTIF($D$126:$AA$126,$M$148)*$AB$21","v":0},{"$f":"COUNTIF($D$126:$AA$126,$N$148)*$AB$21","v":0},{"$f":"COUNTIF($D$126:$AA$126,$O$148)*$AB$21","v":0},{"$f":"COUNTIF($D$126:$AA$126,$P$148)*$AB$21","v":0},{"$f":"COUNTIF($D$126:$AA$126,$Q$148)*$AB$21","v":0},{"$f":"COUNTIF($D$126:$AA$126,$R$148)*$AB$21","v":0},{"$f":"COUNTIF($D$126:$AA$126,$S$148)*$AB$21","v":0},{"$f":"COUNTIF($D$126:$AA$126,$T$148)*$AB$21","v":0},{"$f":"COUNTIF($D$126:$AA$126,$U$148)*$AB$21","v":0},{"$f":"COUNTIF($D$126:$AA$126,$V$148)*$AB$21","v":0},{"$f":"COUNTIF($D$126:$AA$126,$W$148)*$AB$21","v":0},{"$f":"COUNTIF($D$126:$AA$126,$X$148)*$AB$21","v":0},{"$f":"COUNTIF($D$126:$AA$126,$Y$148)*$AB$21","v":0},{"$f":"COUNTIF($D$126:$AA$126,$Z$148)*$AB$21","v":0},{"$f":"COUNTIF($D$126:$AA$126,$AA$148)*$AB$21","v":0},{"$f":"COUNTIF($D$126:$AA$126,$AB$148)*$AB$21","v":0},{"$f":"COUNTIF($D$126:$AA$126,$AC$148)*$AB$21","v":0},{"$f":"COUNTIF($D$126:$AA$126,$AD$148)*$AB$21","v":0},{"$f":"COUNTIF($D$126:$AA$126,$AE$148)*$AB$21","v":0},{"$f":"COUNTIF($D$126:$AA$126,$AF$148)*$AB$21","v":0},{"$f":"COUNTIF($D$126:$AA$126,$AG$148)*$AB$21","v":0},{"$f":"COUNTIF($D$126:$AA$126,$AH$148)*$AB$21","v":0},{"$f":"COUNTIF($D$126:$AA$126,$AI$148)*$AB$21","v":0},{"$f":"COUNTIF($D$126:$AA$126,$AJ$148)*$AB$21","v":0},{"$f":"COUNTIF($D$126:$AA$126,$AK$148)*$AB$21","v":0},{"$f":"COUNTIF($D$126:$AA$126,$AL$148)*$AB$21","v":0},{"$f":"COUNTIF($D$126:$AA$126,$AM$148)*$AB$21","v":0},{"$f":"COUNTIF($D$126:$AA$126,$AN$148)*$AB$21","v":0},{"$f":"COUNTIF($D$126:$AA$126,$AO$148)*$AB$21","v":0},{"$f":"COUNTIF($D$126:$AA$126,$AP$148)*$AB$21","v":0},{"$f":"COUNTIF($D$126:$AA$126,$AQ$148)*$AB$21","v":0},{"$f":"COUNTIF($D$126:$AA$126,$AR$148)*$AB$21","v":0},{"$f":"COUNTIF($D$126:$AA$126,$AS$148)*$AB$21","v":0},1,null,{"$f":"SUMPRODUCT($D$158:$AS$158,$D$162:$AS$162)","v":0},0,0,0,0,{"$error":"#VALUE!"},0,"",{"$error":"#VALUE!"},0,"",null,{"$error":"#VALUE!"},0,"",{"$error":"#VALUE!"},0,"",{"$error":"#VALUE!"},0,""]
[null,null,2,{"$f":"COUNTIF($D$127:$AA$127,$D$148)*$AB$22","v":0},{"$f":"COUNTIF($D$127:$AA$127,$E$148)*$AB$22","v":0},{"$f":"COUNTIF($D$127:$AA$127,$F$148)*$AB$22","v":0},{"$f":"COUNTIF($D$127:$AA$127,$G$148)*$AB$22","v":0},{"$f":"COUNTIF($D$127:$AA$127,$H$148)*$AB$22","v":0},{"$f":"COUNTIF($D$127:$AA$127,$I$148)*$AB$22","v":0},{"$f":"COUNTIF($D$127:$AA$127,$J$148)*$AB$22","v":0},{"$f":"COUNTIF($D$127:$AA$127,$K$148)*$AB$22","v":0},{"$f":"COUNTIF($D$127:$AA$127,$L$148)*$AB$22","v":0},{"$f":"COUNTIF($D$127:$AA$127,$M$148)*$AB$22","v":0},{"$f":"COUNTIF($D$127:$AA$127,$N$148)*$AB$22","v":0},{"$f":"COUNTIF($D$127:$AA$127,$O$148)*$AB$22","v":0},{"$f":"COUNTIF($D$127:$AA$127,$P$148)*$AB$22","v":0},{"$f":"COUNTIF($D$127:$AA$127,$Q$148)*$AB$22","v":0},{"$f":"COUNTIF($D$127:$AA$127,$R$148)*$AB$22","v":0},{"$f":"COUNTIF($D$127:$AA$127,$S$148)*$AB$22","v":0},{"$f":"COUNTIF($D$127:$AA$127,$T$148)*$AB$22","v":0},{"$f":"COUNTIF($D$127:$AA$127,$U$148)*$AB$22","v":0},{"$f":"COUNTIF($D$127:$AA$127,$V$148)*$AB$22","v":0},{"$f":"COUNTIF($D$127:$AA$127,$W$148)*$AB$22","v":0},{"$f":"COUNTIF($D$127:$AA$127,$X$148)*$AB$22","v":0},{"$f":"COUNTIF($D$127:$AA$127,$Y$148)*$AB$22","v":0},{"$f":"COUNTIF($D$127:$AA$127,$Z$148)*$AB$22","v":0},{"$f":"COUNTIF($D$127:$AA$127,$AA$148)*$AB$22","v":0},{"$f":"COUNTIF($D$127:$AA$127,$AB$148)*$AB$22","v":0},{"$f":"COUNTIF($D$127:$AA$127,$AC$148)*$AB$22","v":0},{"$f":"COUNTIF($D$127:$AA$127,$AD$148)*$AB$22","v":0},{"$f":"COUNTIF($D$127:$AA$127,$AE$148)*$AB$22","v":0},{"$f":"COUNTIF($D$127:$AA$127,$AF$148)*$AB$22","v":0},{"$f":"COUNTIF($D$127:$AA$127,$AG$148)*$AB$22","v":0},{"$f":"COUNTIF($D$127:$AA$127,$AH$148)*$AB$22","v":0},{"$f":"COUNTIF($D$127:$AA$127,$AI$148)*$AB$22","v":0},{"$f":"COUNTIF($D$127:$AA$127,$AJ$148)*$AB$22","v":0},{"$f":"COUNTIF($D$127:$AA$127,$AK$148)*$AB$22","v":0},{"$f":"COUNTIF($D$127:$AA$127,$AL$148)*$AB$22","v":0},{"$f":"COUNTIF($D$127:$AA$127,$AM$148)*$AB$22","v":0},{"$f":"COUNTIF($D$127:$AA$127,$AN$148)*$AB$22","v":0},{"$f":"COUNTIF($D$127:$AA$127,$AO$148)*$AB$22","v":0},{"$f":"COUNTIF($D$127:$AA$127,$AP$148)*$AB$22","v":0},{"$f":"COUNTIF($D$127:$AA$127,$AQ$148)*$AB$22","v":0},{"$f":"COUNTIF($D$127:$AA$127,$AR$148)*$AB$22","v":0},{"$f":"COUNTIF($D$127:$AA$127,$AS$148)*$AB$22","v":0},2,null,{"$f":"SUMPRODUCT($D$159:$AS$159,$D$162:$AS$162)","v":0},0,0,0,0,{"$error":"#VALUE!"},0,"",{"$error":"#VALUE!"},0,"",null,{"$error":"#VALUE!"},0,"",{"$error":"#VALUE!"},0,"",{"$error":"#VALUE!"},0,""]
[null,null,3,{"$f":"COUNTIF($D$128:$AA$128,$D$148)*$AB$23","v":0},{"$f":"COUNTIF($D$128:$AA$128,$E$148)*$AB$23","v":0},{"$f":"COUNTIF($D$128:$AA$128,$F$148)*$AB$23","v":0},{"$f":"COUNTIF($D$128:$AA$128,$G$148)*$AB$23","v":0},{"$f":"COUNTIF($D$128:$AA$128,$H$148)*$AB$23","v":0},{"$f":"COUNTIF($D$128:$AA$128,$I$148)*$AB$23","v":0},{"$f":"COUNTIF($D$128:$AA$128,$J$148)*$AB$23","v":0},{"$f":"COUNTIF($D$128:$AA$128,$K$148)*$AB$23","v":0},{"$f":"COUNTIF($D$128:$AA$128,$L$148)*$AB$23","v":0},{"$f":"COUNTIF($D$128:$AA$128,$M$148)*$AB$23","v":0},{"$f":"COUNTIF($D$128:$AA$128,$N$148)*$AB$23","v":0},{"$f":"COUNTIF($D$128:$AA$128,$O$148)*$AB$23","v":0},{"$f":"COUNTIF($D$128:$AA$128,$P$148)*$AB$23","v":0},{"$f":"COUNTIF($D$128:$AA$128,$Q$148)*$AB$23","v":0},{"$f":"COUNTIF($D$128:$AA$128,$R$148)*$AB$23","v":0},{"$f":"COUNTIF($D$128:$AA$128,$S$148)*$AB$23","v":0},{"$f":"COUNTIF($D$128:$AA$128,$T$148)*$AB$23","v":0},{"$f":"COUNTIF($D$128:$AA$128,$U$148)*$AB$23","v":0},{"$f":"COUNTIF($D$128:$AA$128,$V$148)*$AB$23","v":0},{"$f":"COUNTIF($D$128:$AA$128,$W$148)*$AB$23","v":0},{"$f":"COUNTIF($D$128:$AA$128,$X$148)*$AB$23","v":0},{"$f":"COUNTIF($D$128:$AA$128,$Y$148)*$AB$23","v":0},{"$f":"COUNTIF($D$128:$AA$128,$Z$148)*$AB$23","v":0},{"$f":"COUNTIF($D$128:$AA$128,$AA$148)*$AB$23","v":0},{"$f":"COUNTIF($D$128:$AA$128,$AB$148)*$AB$23","v":0},{"$f":"COUNTIF($D$128:$AA$128,$AC$148)*$AB$23","v":0},{"$f":"COUNTIF($D$128:$AA$128,$AD$148)*$AB$23","v":0},{"$f":"COUNTIF($D$128:$AA$128,$AE$148)*$AB$23","v":0},{"$f":"COUNTIF($D$128:$AA$128,$AF$148)*$AB$23","v":0},{"$f":"COUNTIF($D$128:$AA$128,$AG$148)*$AB$23","v":0},{"$f":"COUNTIF($D$128:$AA$128,$AH$148)*$AB$23","v":0},{"$f":"COUNTIF($D$128:$AA$128,$AI$148)*$AB$23","v":0},{"$f":"COUNTIF($D$128:$AA$128,$AJ$148)*$AB$23","v":0},{"$f":"COUNTIF($D$128:$AA$128,$AK$148)*$AB$23","v":0},{"$f":"COUNTIF($D$128:$AA$128,$AL$148)*$AB$23","v":0},{"$f":"COUNTIF($D$128:$AA$128,$AM$148)*$AB$23","v":0},{"$f":"COUNTIF($D$128:$AA$128,$AN$148)*$AB$23","v":0},{"$f":"COUNTIF($D$128:$AA$128,$AO$148)*$AB$23","v":0},{"$f":"COUNTIF($D$128:$AA$128,$AP$148)*$AB$23","v":0},{"$f":"COUNTIF($D$128:$AA$128,$AQ$148)*$AB$23","v":0},{"$f":"COUNTIF($D$128:$AA$128,$AR$148)*$AB$23","v":0},{"$f":"COUNTIF($D$128:$AA$128,$AS$148)*$AB$23","v":0},3,null,{"$f":"SUMPRODUCT($D$160:$AS$160,$D$162:$AS$162)","v":0},0,0,{"$f":"AW160*$AY$146","v":0},{"$f":"IFERROR(AX160+AY160,\"\")","v":0},{"$error":"#VALUE!"},{"$f":"AW160*$BB$146","v":0},"",{"$error":"#VALUE!"},{"$f":"AW160*$BE$146","v":0},"",null,{"$error":"#VALUE!"},0,{"$f":"IFERROR(BH160+BI160,\"\")","v":""},{"$error":"#VALUE!"},0,{"$f":"IFERROR(BK160+BL160,\"\")","v":""},{"$error":"#VALUE!"},0,{"$f":"IFERROR(BN160+BO160,\"\")","v":""}]
[null,"tc","冷却運転時間",{"$f":"SUM($D$149:$D$160)","v":0},{"$f":"SUM($E$149:$E$160)","v":0},{"$f":"SUM($F$149:$F$160)","v":0},{"$f":"SUM($G$149:$G$160)","v":0},{"$f":"SUM($H$149:$H$160)","v":0},{"$f":"SUM($I$149:$I$160)","v":0},{"$f":"SUM($J$149:$J$160)","v":0},{"$f":"SUM($K$149:$K$160)","v":0},{"$f":"SUM($L$149:$L$160)","v":0},{"$f":"SUM($M$149:$M$160)","v":0},{"$f":"SUM($N$149:$N$160)","v":0},{"$f":"SUM($O$149:$O$160)","v":0},{"$f":"SUM($P$149:$P$160)","v":0},{"$f":"SUM($Q$149:$Q$160)","v":0},{"$f":"SUM($R$149:$R$160)","v":0},{"$f":"SUM($S$149:$S$160)","v":0},{"$f":"SUM($T$149:$T$160)","v":0},{"$f":"SUM($U$149:$U$160)","v":0},{"$f":"SUM($V$149:$V$160)","v":0},{"$f":"SUM($W$149:$W$160)","v":0},{"$f":"SUM($X$149:$X$160)","v":0},{"$f":"SUM($Y$149:$Y$160)","v":0},{"$f":"SUM($Z$149:$Z$160)","v":0},{"$f":"SUM($AA$149:$AA$160)","v":0},{"$f":"SUM($AB$149:$AB$160)","v":0},{"$f":"SUM($AC$149:$AC$160)","v":0},{"$f":"SUM($AD$149:$AD$160)","v":0},{"$f":"SUM($AE$149:$AE$160)","v":0},{"$f":"SUM($AF$149:$AF$160)","v":0},{"$f":"SUM($AG$149:$AG$160)","v":0},{"$f":"SUM($AH$149:$AH$160)","v":0},{"$f":"SUM($AI$149:$AI$160)","v":0},{"$f":"SUM($AJ$149:$AJ$160)","v":0},{"$f":"SUM($AK$149:$AK$160)","v":0},{"$f":"SUM($AL$149:$AL$160)","v":0},{"$f":"SUM($AM$149:$AM$160)","v":0},{"$f":"SUM($AN$149:$AN$160)","v":0},{"$f":"SUM($AO$149:$AO$160)","v":0},{"$f":"SUM($AP$149:$AP$160)","v":0},{"$f":"SUM($AQ$149:$AQ$160)","v":0},{"$f":"SUM($AR$149:$AR$160)","v":0},{"$f":"SUM($AS$149:$AS$160)","v":0},"冷却運転時間",null,{"$f":"SUM($AV$149:$AV$160)","v":0},{"$f":"SUM(AW149:AW160)","v":0},{"$f":"SUM($AX$149:$AX$160)","v":0},{"$f":"SUM(AY149:AY160)","v":0},{"$f":"SUM(AZ149:AZ160)","v":0},{"$f":"SUM($BA$149:$BA$160)","v":{"$error":"#VALUE!"}},{"$f":"SUM(BB149:BB160)","v":0},{"$f":"SUM(BC149:BC160)","v":0},{"$f":"SUM($BD$149:$BD$160)","v":{"$error":"#VALUE!"}},{"$f":"SUM(BE149:BE160)","v":0},{"$f":"SUM(BF149:BF160)","v":0},null,{"$f":"SUM($BH$149:$BH$160)","v":{"$error":"#VALUE!"}},{"$f":"SUM(BI149:BI160)","v":0},{"$f":"SUM(BJ149:BJ160)","v":0},{"$f":"SUM($BK$149:$BK$160)","v":{"$error":"#VALUE!"}},{"$f":"SUM(BL149:BL160)","v":0},{"$f":"SUM(BM149:BM160)","v":0},{"$f":"SUM($BN$149:$BN$160)","v":{"$error":"#VALUE!"}},{"$f":"SUM(BO149:BO160)","v":0},{"$f":"SUM(BP149:BP160)","v":0}]
[null,"εc","冷却時消費電力比",{"$f":"$D$163/$D$165","v":0},{"$f":"$E$163/$E$165","v":0},{"$f":"$F$163/$F$165","v":0},{"$f":"$G$163/$G$165","v":0},{"$f":"$H$163/$H$165","v":0},{"$f":"$I$163/$I$165","v":0},{"$f":"$J$163/$J$165","v":0},{"$f":"$K$163/$K$165","v":0},{"$f":"$L$163/$L$165","v":0},{"$f":"$M$163/$M$165","v":0},{"$f":"$N$163/$N$165","v":0},{"$f":"$O$163/$O$165","v":0},{"$f":"$P$163/$P$165","v":0},{"$f":"$Q$163/$Q$165","v":0},{"$f":"$R$163/$R$165","v":0},{"$f":"$S$163/$S$165","v":0},{"$f":"$T$163/$T$165","v":0},{"$f":"$U$163/$U$165","v":0},{"$f":"$V$163/$V$165","v":0},{"$f":"$W$163/$W$165","v":4.4599016309824581E-2},{"$f":"$X$163/$X$165","v":9.1903398793550986E-2},{"$f":"$Y$163/$Y$165","v":0.14209951695258602},{"$f":"$Z$163/$Z$165","v":0.19538909863257339},{"$f":"$AA$163/$AA$165","v":0.251990726741256},{"$f":"$AB$163/$AB$165","v":0.31214150548095521},{"$f":"$AC$163/$AC$165","v":0.37609891805582574},{"$f":"$AD$163/$AD$165","v":0.44414290102417586},{"$f":"$AE$163/$AE$165","v":0.51657816419967317},{"$f":"$AF$163/$AF$165","v":0.59373678935643692},{"$f":"$AG$163/$AG$165","v":0.67598114607465876},{"$f":"$AH$163/$AH$165","v":0.76370716901084046},{"$f":"$AI$163/$AI$165","v":0.85734804785278917},{"$f":"$AJ$163/$AJ$165","v":0.95737838942038933},{"$f":"$AK$163/$AK$165","v":1.0643189210360509},{"$f":"$AL$163/$AL$165","v":1.1050704522195833},{"$f":"$AM$163/$AM$165","v":1.1481853527556083},{"$f":"$AN$163/$AN$165","v":1.1938480722314382},{"$f":"$AO$163/$AO$165","v":1.2422612095688699},{"$f":"$AP$163/$AP$165","v":1.2936476724691082},{"$f":"$AQ$163/$AQ$165","v":1.3482531385175869},{"$f":"$AR$163/$AR$165","v":1.4063488663253034},{"$f":"$AS$163/$AS$165","v":1.4682349138275319},"冷却時消費電力比","εc"]
[null,"αc","冷却空調負荷率",{"$f":"IF((1/15)*(D$148-27)+1<0,0,IF((1/15)*(D$148-27)+1>1,1,(1/15)*(D$148-27)+1))","v":0},{"$f":"IF((1/15)*(E$148-27)+1<0,0,IF((1/15)*(E$148-27)+1>1,1,(1/15)*(E$148-27)+1))","v":0},0,0,0,0,0,0,0,0,0,0,0,0,0,0,0,0,0,6.6666666666666652E-2,0.1333333333333333,0.19999999999999996,0.26666666666666672,0.33333333333333337,0.4,0.46666666666666667,0.53333333333333333,0.6,0.66666666666666674,0.73333333333333339,0.8,0.8666666666666667,0.93333333333333335,1,1,1,1,1,1,1,1,1,"冷却空調負荷率","αc"]
[null,"Tc1","冷却水入口(冷却塔出口)温度",{"$f":"(18/15)*(D$148-27)+32","v":-7.6000000000000014},{"$f":"(18/15)*(E$148-27)+32","v":-6.3999999999999986},-5.1999999999999957,-4,-2.7999999999999972,-1.6000000000000014,-0.39999999999999858,0.80000000000000071,2,3.2000000000000028,4.4000000000000021,5.6000000000000014,6.8000000000000007,8,9.1999999999999993,10.400000000000002,11.600000000000001,12.8,14,15.2,16.399999999999999,17.600000000000001,18.8,20,21.200000000000003,22.4,23.6,24.8,26,27.2,28.4,29.6,30.8,32,33.200000000000003,34.4,35.6,36.799999999999997,38,39.200000000000003,40.4,41.6,"冷却水入口(冷却塔出口)温度","Tc1"]
[null,"βc","冷却COP比",{"$f":"2.32/10000*D$164*D$164-4.4/100*D$164+2.11","v":2.45780032},{"$f":"2.32/10000*E$164*E$164-4.4/100*E$164+2.11","v":2.4011027199999999},2.3450732799999998,2.2897119999999997,2.2350188799999997,2.1809939200000001,2.1276371199999997,2.0749484799999998,2.0229279999999998,1.9715756799999997,1.9208915199999999,1.8708755199999998,1.8215276799999998,1.7728479999999998,1.72483648,1.6774931199999998,1.6308179199999997,1.5848108799999998,1.5394719999999997,1.4948012799999999,1.4507987199999999,1.4074643199999999,1.3647980799999997,1.3227999999999998,1.2814700799999996,1.2408083199999997,1.2008147199999997,1.1614892799999996,1.1228319999999998,1.0848428799999998,1.0475219199999999,1.0108691199999997,0.97488447999999961,0.93956799999999974,0.90491967999999945,0.87093951999999986,0.83762751999999963,0.80498367999999987,0.7730079999999997,0.74170047999999955,0.71106111999999966,0.68108991999999957,"冷却COP比","βc"]
[null,null,"Σ",{"$f":"$D$161*$D$162","v":0},{"$f":"$E$161*$E$162","v":0},{"$f":"$F$161*$F$162","v":0},{"$f":"$G$161*$G$162","v":0},{"$f":"$H$161*$H$162","v":0},{"$f":"$I$161*$I$162","v":0},{"$f":"$J$161*$J$162","v":0},{"$f":"$K$161*$K$162","v":0},{"$f":"$L$161*$L$162","v":0},{"$f":"$M$161*$M$162","v":0},{"$f":"$N$161*$N$162","v":0},{"$f":"$O$161*$O$162","v":0},{"$f":"$P$161*$P$162","v":0},{"$f":"$Q$161*$Q$162","v":0},{"$f":"$R$161*$R$162","v":0},{"$f":"$S$161*$S$162","v":0},{"$f":"$T$161*$T$162","v":0},{"$f":"$U$161*$U$162","v":0},{"$f":"$V$161*$V$162","v":0},{"$f":"$W$161*$W$162","v":0},{"$f":"$X$161*$X$162","v":0},{"$f":"$Y$161*$Y$162","v":0},{"$f":"$Z$161*$Z$162","v":0},{"$f":"$AA$161*$AA$162","v":0},{"$f":"$AB$161*$AB$162","v":0},{"$f":"$AC$161*$AC$162","v":0},{"$f":"$AD$161*$AD$162","v":0},{"$f":"$AE$161*$AE$162","v":0},{"$f":"$AF$161*$AF$162","v":0},{"$f":"$AG$161*$AG$162","v":0},{"$f":"$AH$161*$AH$162","v":0},{"$f":"$AI$161*$AI$162","v":0},{"$f":"$AJ$161*$AJ$162","v":0},{"$f":"$AK$161*$AK$162","v":0},{"$f":"$AL$161*$AL$162","v":0},{"$f":"$AM$161*$AM$162","v":0},{"$f":"$AN$161*$AN$162","v":0},{"$f":"$AO$161*$AO$162","v":0},{"$f":"$AP$161*$AP$162","v":0},{"$f":"$AQ$161*$AQ$162","v":0},{"$f":"$AR$161*$AR$162","v":0},{"$f":"$AS$161*$AS$162","v":0},{"$f":"SUM($D$166:$AS$166)","v":0}]
[]
[null,null,"加熱期間中　外気湿球温度(Tw)が発生する時間[hour]",null,null,null,null,null,null,null,null,null,null,null,null,null,null,null,null,null,null,null,null,null,null,null,null,null,null,null,null,null,null,null,null,null,null,null,null,null,null,null,null,null,null,null,null,null,null,null,{"$f":"Q37+Q38","v":4.4000000000000004},null,null,{"$f":"R37+R38","v":0},null,null,{"$f":"S37+S38","v":0},null,null,null,{"$f":"Q51+Q52","v":0},null,null,{"$f":"R51+R52","v":0},null,null,{"$f":"S51+S52","v":0}]
[null,null,null,"外気湿球温度(Tw)",null,null,null,null,null,null,null,null,null,null,null,null,null,null,null,null,null,null,null,null,null,null,null,null,null,null,null,null,null,null,null,null,null,null,null,null,null,null,null,null,null,null,null,null,null,"前1",null,null,"前2",null,null,"前3",null,null,null,"後1",null,null,"後2",null,null,"後3"]
[null,null,"月",-6,-5,-4,-3,-2,-1,0,1,2,3,4,5,6,7,8,9,10,11,12,13,14,15,16,17,18,19,20,21,22,23,24,25,26,27,28,29,30,31,32,33,34,35,"月",null,"EwwのΣ","EaxwのΣ","Eww","Eaxw","Ew","Eww","Eaxw","Ew","Eww","Eaxw","Ew",null,"Eww","Eaxw","Ew","Eww","Eaxw","Ew","Eww","Eaxw","Ew"]
[null,null,4,{"$f":"COUNTIF($D$133:$AA$133,$D$170)*$AB$12","v":0},{"$f":"COUNTIF($D$133:$AA$133,$E$170)*$AB$12","v":0},{"$f":"COUNTIF($D$133:$AA$133,$F$170)*$AB$12","v":0},{"$f":"COUNTIF($D$133:$AA$133,$G$170)*$AB$12","v":0},{"$f":"COUNTIF($D$133:$AA$133,$H$170)*$AB$12","v":0},{"$f":"COUNTIF($D$133:$AA$133,$I$170)*$AB$12","v":0},{"$f":"COUNTIF($D$133:$AA$133,$J$170)*$AB$12","v":0},{"$f":"COUNTIF($D$133:$AA$133,$K$170)*$AB$12","v":0},{"$f":"COUNTIF($D$133:$AA$133,$L$170)*$AB$12","v":0},{"$f":"COUNTIF($D$133:$AA$133,$M$170)*$AB$12","v":0},{"$f":"COUNTIF($D$133:$AA$133,$N$170)*$AB$12","v":0},{"$f":"COUNTIF($D$133:$AA$133,$O$170)*$AB$12","v":0},{"$f":"COUNTIF($D$133:$AA$133,$P$170)*$AB$12","v":0},{"$f":"COUNTIF($D$133:$AA$133,$Q$170)*$AB$12","v":0},{"$f":"COUNTIF($D$133:$AA$133,$R$170)*$AB$12","v":0},{"$f":"COUNTIF($D$133:$AA$133,$S$170)*$AB$12","v":0},{"$f":"COUNTIF($D$133:$AA$133,$T$170)*$AB$12","v":0},{"$f":"COUNTIF($D$133:$AA$133,$U$170)*$AB$12","v":0},{"$f":"COUNTIF($D$133:$AA$133,$V$170)*$AB$12","v":0},{"$f":"COUNTIF($D$133:$AA$133,$W$170)*$AB$12","v":0},{"$f":"COUNTIF($D$133:$AA$133,$X$170)*$AB$12","v":0},{"$f":"COUNTIF($D$133:$AA$133,$Y$170)*$AB$12","v":0},{"$f":"COUNTIF($D$133:$AA$133,$Z$170)*$AB$12","v":0},{"$f":"COUNTIF($D$133:$AA$133,$AA$170)*$AB$12","v":0},{"$f":"COUNTIF($D$133:$AA$133,$AB$170)*$AB$12","v":0},{"$f":"COUNTIF($D$133:$AA$133,$AC$170)*$AB$12","v":0},{"$f":"COUNTIF($D$133:$AA$133,$AD$170)*$AB$12","v":0},{"$f":"COUNTIF($D$133:$AA$133,$AE$170)*$AB$12","v":0},{"$f":"COUNTIF($D$133:$AA$133,$AF$170)*$AB$12","v":0},{"$f":"COUNTIF($D$133:$AA$133,$AG$170)*$AB$12","v":0},{"$f":"COUNTIF($D$133:$AA$133,$AH$170)*$AB$12","v":0},{"$f":"COUNTIF($D$133:$AA$133,$AI$170)*$AB$12","v":0},{"$f":"COUNTIF($D$133:$AA$133,$AJ$170)*$AB$12","v":0},{"$f":"COUNTIF($D$133:$AA$133,$AK$170)*$AB$12","v":0},{"$f":"COUNTIF($D$133:$AA$133,$AL$170)*$AB$12","v":0},{"$f":"COUNTIF($D$133:$AA$133,$AM$170)*$AB$12","v":0},{"$f":"COUNTIF($D$133:$AA$133,$AN$170)*$AB$12","v":0},{"$f":"COUNTIF($D$133:$AA$133,$AO$170)*$AB$12","v":0},{"$f":"COUNTIF($D$133:$AA$133,$AP$170)*$AB$12","v":0},{"$f":"COUNTIF($D$133:$AA$133,$AQ$170)*$AB$12","v":0},{"$f":"COUNTIF($D$133:$AA$133,$AR$170)*$AB$12","v":0},{"$f":"COUNTIF($D$133:$AA$133,$AS$170)*$AB$12","v":0},4,null,{"$f":"SUMPRODUCT($D$171:$AS$171,$D$184:$AS$184)","v":0},{"$f":"SUMPRODUCT($D171:$AS171,$D$192:$AS$192)","v":0},{"$f":"IFERROR(($Q$29*$C$7)/$Q$34*$AV171*$Q$40,\"\")","v":""},{"$f":"AW171*$AY$168","v":0},{"$f":"IFERROR(AX171+AY171,\"\")","v":""},{"$f":"IFERROR(($R$29*$C$7)/$R$34*$AV171*$R$40,\"\")","v":""},{"$f":"AW171*$BB$168","v":0},{"$f":"IFERROR(BA171+BB171,\"\")","v":""},{"$f":"IFERROR(($S$29*$C$7)/$S$34*$AV171*$S$40,\"\")","v":""},{"$f":"AW171*$BE$168","v":0},{"$f":"IFERROR(BD171+BE171,\"\")","v":""},null,{"$f":"IFERROR(($Q$43*$C$7)/$Q$48*$AV171*$Q$54,\"\")","v":""},{"$f":"AW171*$BI$168","v":0},{"$f":"IFERROR(BH171+BI171,\"\")","v":""},{"$f":"IFERROR(($R$43*$C$7)/$R$48*$AV171*$R$54,\"\")","v":""},{"$f":"AW171*$BL$168","v":0},{"$f":"IFERROR(BK171+BL171,\"\")","v":""},{"$f":"IFERROR(($S$43*$C$7)/$S$48*$AV171*$S$54,\"\")","v":""},{"$f":"AW171*$BO$168","v":0},{"$f":"IFERROR(BN171+BO171,\"\")","v":""}]
[null,null,5,{"$f":"COUNTIF($D$134:$AA$134,$D$170)*$AB$13","v":0},{"$f":"COUNTIF($D$134:$AA$134,$E$170)*$AB$13","v":0},{"$f":"COUNTIF($D$134:$AA$134,$F$170)*$AB$13","v":0},{"$f":"COUNTIF($D$134:$AA$134,$G$170)*$AB$13","v":0},{"$f":"COUNTIF($D$134:$AA$134,$H$170)*$AB$13","v":0},{"$f":"COUNTIF($D$134:$AA$134,$I$170)*$AB$13","v":0},{"$f":"COUNTIF($D$134:$AA$134,$J$170)*$AB$13","v":0},{"$f":"COUNTIF($D$134:$AA$134,$K$170)*$AB$13","v":0},{"$f":"COUNTIF($D$134:$AA$134,$L$170)*$AB$13","v":0},{"$f":"COUNTIF($D$134:$AA$134,$M$170)*$AB$13","v":0},{"$f":"COUNTIF($D$134:$AA$134,$N$170)*$AB$13","v":0},{"$f":"COUNTIF($D$134:$AA$134,$O$170)*$AB$13","v":0},{"$f":"COUNTIF($D$134:$AA$134,$P$170)*$AB$13","v":0},{"$f":"COUNTIF($D$134:$AA$134,$Q$170)*$AB$13","v":0},{"$f":"COUNTIF($D$134:$AA$134,$R$170)*$AB$13","v":0},{"$f":"COUNTIF($D$134:$AA$134,$S$170)*$AB$13","v":0},{"$f":"COUNTIF($D$134:$AA$134,$T$170)*$AB$13","v":0},{"$f":"COUNTIF($D$134:$AA$134,$U$170)*$AB$13","v":0},{"$f":"COUNTIF($D$134:$AA$134,$V$170)*$AB$13","v":0},{"$f":"COUNTIF($D$134:$AA$134,$W$170)*$AB$13","v":0},{"$f":"COUNTIF($D$134:$AA$134,$X$170)*$AB$13","v":0},{"$f":"COUNTIF($D$134:$AA$134,$Y$170)*$AB$13","v":0},{"$f":"COUNTIF($D$134:$AA$134,$Z$170)*$AB$13","v":0},{"$f":"COUNTIF($D$134:$AA$134,$AA$170)*$AB$13","v":0},{"$f":"COUNTIF($D$134:$AA$134,$AB$170)*$AB$13","v":0},{"$f":"COUNTIF($D$134:$AA$134,$AC$170)*$AB$13","v":0},{"$f":"COUNTIF($D$134:$AA$134,$AD$170)*$AB$13","v":0},{"$f":"COUNTIF($D$134:$AA$134,$AE$170)*$AB$13","v":0},{"$f":"COUNTIF($D$134:$AA$134,$AF$170)*$AB$13","v":0},{"$f":"COUNTIF($D$134:$AA$134,$AG$170)*$AB$13","v":0},{"$f":"COUNTIF($D$134:$AA$134,$AH$170)*$AB$13","v":0},{"$f":"COUNTIF($D$134:$AA$134,$AI$170)*$AB$13","v":0},{"$f":"COUNTIF($D$134:$AA$134,$AJ$170)*$AB$13","v":0},{"$f":"COUNTIF($D$134:$AA$134,$AK$170)*$AB$13","v":0},{"$f":"COUNTIF($D$134:$AA$134,$AL$170)*$AB$13","v":0},{"$f":"COUNTIF($D$134:$AA$134,$AM$170)*$AB$13","v":0},{"$f":"COUNTIF($D$134:$AA$134,$AN$170)*$AB$13","v":0},{"$f":"COUNTIF($D$134:$AA$134,$AO$170)*$AB$13","v":0},{"$f":"COUNTIF($D$134:$AA$134,$AP$170)*$AB$13","v":0},{"$f":"COUNTIF($D$134:$AA$134,$AQ$170)*$AB$13","v":0},{"$f":"COUNTIF($D$134:$AA$134,$AR$170)*$AB$13","v":0},{"$f":"COUNTIF($D$134:$AA$134,$AS$170)*$AB$13","v":0},5,null,{"$f":"SUMPRODUCT($D$172:$AS$172,$D$184:$AS$184)","v":0},{"$f":"SUMPRODUCT($D172:$AS172,$D$192:$AS$192)","v":0},"",{"$f":"AW172*$AY$168","v":0},{"$f":"IFERROR(AX172+AY172,\"\")","v":""},"",{"$f":"AW172*$BB$168","v":0},{"$f":"IFERROR(BA172+BB172,\"\")","v":""},"",{"$f":"AW172*$BE$168","v":0},{"$f":"IFERROR(BD172+BE172,\"\")","v":""},null,"",{"$f":"AW172*$BI$168","v":0},{"$f":"IFERROR(BH172+BI172,\"\")","v":""},"",{"$f":"AW172*$BL$168","v":0},{"$f":"IFERROR(BK172+BL172,\"\")","v":""},"",{"$f":"AW172*$BO$168","v":0},{"$f":"IFERROR(BN172+BO172,\"\")","v":""}]
[null,null,6,{"$f":"COUNTIF($D$135:$AA$135,$D$170)*$AB$14","v":0},{"$f":"COUNTIF($D$135:$AA$135,$E$170)*$AB$14","v":0},{"$f":"COUNTIF($D$135:$AA$135,$F$170)*$AB$14","v":0},{"$f":"COUNTIF($D$135:$AA$135,$G$170)*$AB$14","v":0},{"$f":"COUNTIF($D$135:$AA$135,$H$170)*$AB$14","v":0},{"$f":"COUNTIF($D$135:$AA$135,$I$170)*$AB$14","v":0},{"$f":"COUNTIF($D$135:$AA$135,$J$170)*$AB$14","v":0},{"$f":"COUNTIF($D$135:$AA$135,$K$170)*$AB$14","v":0},{"$f":"COUNTIF($D$135:$AA$135,$L$170)*$AB$14","v":0},{"$f":"COUNTIF($D$135:$AA$135,$M$170)*$AB$14","v":0},{"$f":"COUNTIF($D$135:$AA$135,$N$170)*$AB$14","v":0},{"$f":"COUNTIF($D$135:$AA$135,$O$170)*$AB$14","v":0},{"$f":"COUNTIF($D$135:$AA$135,$P$170)*$AB$14","v":0},{"$f":"COUNTIF($D$135:$AA$135,$Q$170)*$AB$14","v":0},{"$f":"COUNTIF($D$135:$AA$135,$R$170)*$AB$14","v":0},{"$f":"COUNTIF($D$135:$AA$135,$S$170)*$AB$14","v":0},{"$f":"COUNTIF($D$135:$AA$135,$T$170)*$AB$14","v":0},{"$f":"COUNTIF($D$135:$AA$135,$U$170)*$AB$14","v":0},{"$f":"COUNTIF($D$135:$AA$135,$V$170)*$AB$14","v":0},{"$f":"COUNTIF($D$135:$AA$135,$W$170)*$AB$14","v":0},{"$f":"COUNTIF($D$135:$AA$135,$X$170)*$AB$14","v":0},{"$f":"COUNTIF($D$135:$AA$135,$Y$170)*$AB$14","v":0},{"$f":"COUNTIF($D$135:$AA$135,$Z$170)*$AB$14","v":0},{"$f":"COUNTIF($D$135:$AA$135,$AA$170)*$AB$14","v":0},{"$f":"COUNTIF($D$135:$AA$135,$AB$170)*$AB$14","v":0},{"$f":"COUNTIF($D$135:$AA$135,$AC$170)*$AB$14","v":0},{"$f":"COUNTIF($D$135:$AA$135,$AD$170)*$AB$14","v":0},{"$f":"COUNTIF($D$135:$AA$135,$AE$170)*$AB$14","v":0},{"$f":"COUNTIF($D$135:$AA$135,$AF$170)*$AB$14","v":0},{"$f":"COUNTIF($D$135:$AA$135,$AG$170)*$AB$14","v":0},{"$f":"COUNTIF($D$135:$AA$135,$AH$170)*$AB$14","v":0},{"$f":"COUNTIF($D$135:$AA$135,$AI$170)*$AB$14","v":0},{"$f":"COUNTIF($D$135:$AA$135,$AJ$170)*$AB$14","v":0},{"$f":"COUNTIF($D$135:$AA$135,$AK$170)*$AB$14","v":0},{"$f":"COUNTIF($D$135:$AA$135,$AL$170)*$AB$14","v":0},{"$f":"COUNTIF($D$135:$AA$135,$AM$170)*$AB$14","v":0},{"$f":"COUNTIF($D$135:$AA$135,$AN$170)*$AB$14","v":0},{"$f":"COUNTIF($D$135:$AA$135,$AO$170)*$AB$14","v":0},{"$f":"COUNTIF($D$135:$AA$135,$AP$170)*$AB$14","v":0},{"$f":"COUNTIF($D$135:$AA$135,$AQ$170)*$AB$14","v":0},{"$f":"COUNTIF($D$135:$AA$135,$AR$170)*$AB$14","v":0},{"$f":"COUNTIF($D$135:$AA$135,$AS$170)*$AB$14","v":0},6,null,{"$f":"SUMPRODUCT($D$173:$AS$173,$D$184:$AS$184)","v":0},0,"",0,"","",0,{"$f":"IFERROR(BA173+BB173,\"\")","v":""},"",0,"",null,"",0,"","",0,"","",0,""]
[null,null,7,{"$f":"COUNTIF($D$136:$AA$136,$D$170)*$AB$15","v":0},{"$f":"COUNTIF($D$136:$AA$136,$E$170)*$AB$15","v":0},{"$f":"COUNTIF($D$136:$AA$136,$F$170)*$AB$15","v":0},{"$f":"COUNTIF($D$136:$AA$136,$G$170)*$AB$15","v":0},{"$f":"COUNTIF($D$136:$AA$136,$H$170)*$AB$15","v":0},{"$f":"COUNTIF($D$136:$AA$136,$I$170)*$AB$15","v":0},{"$f":"COUNTIF($D$136:$AA$136,$J$170)*$AB$15","v":0},{"$f":"COUNTIF($D$136:$AA$136,$K$170)*$AB$15","v":0},{"$f":"COUNTIF($D$136:$AA$136,$L$170)*$AB$15","v":0},{"$f":"COUNTIF($D$136:$AA$136,$M$170)*$AB$15","v":0},{"$f":"COUNTIF($D$136:$AA$136,$N$170)*$AB$15","v":0},{"$f":"COUNTIF($D$136:$AA$136,$O$170)*$AB$15","v":0},{"$f":"COUNTIF($D$136:$AA$136,$P$170)*$AB$15","v":0},{"$f":"COUNTIF($D$136:$AA$136,$Q$170)*$AB$15","v":0},{"$f":"COUNTIF($D$136:$AA$136,$R$170)*$AB$15","v":0},{"$f":"COUNTIF($D$136:$AA$136,$S$170)*$AB$15","v":0},{"$f":"COUNTIF($D$136:$AA$136,$T$170)*$AB$15","v":0},{"$f":"COUNTIF($D$136:$AA$136,$U$170)*$AB$15","v":0},{"$f":"COUNTIF($D$136:$AA$136,$V$170)*$AB$15","v":0},{"$f":"COUNTIF($D$136:$AA$136,$W$170)*$AB$15","v":0},{"$f":"COUNTIF($D$136:$AA$136,$X$170)*$AB$15","v":0},{"$f":"COUNTIF($D$136:$AA$136,$Y$170)*$AB$15","v":0},{"$f":"COUNTIF($D$136:$AA$136,$Z$170)*$AB$15","v":0},{"$f":"COUNTIF($D$136:$AA$136,$AA$170)*$AB$15","v":0},{"$f":"COUNTIF($D$136:$AA$136,$AB$170)*$AB$15","v":0},{"$f":"COUNTIF($D$136:$AA$136,$AC$170)*$AB$15","v":0},{"$f":"COUNTIF($D$136:$AA$136,$AD$170)*$AB$15","v":0},{"$f":"COUNTIF($D$136:$AA$136,$AE$170)*$AB$15","v":0},{"$f":"COUNTIF($D$136:$AA$136,$AF$170)*$AB$15","v":0},{"$f":"COUNTIF($D$136:$AA$136,$AG$170)*$AB$15","v":0},{"$f":"COUNTIF($D$136:$AA$136,$AH$170)*$AB$15","v":0},{"$f":"COUNTIF($D$136:$AA$136,$AI$170)*$AB$15","v":0},{"$f":"COUNTIF($D$136:$AA$136,$AJ$170)*$AB$15","v":0},{"$f":"COUNTIF($D$136:$AA$136,$AK$170)*$AB$15","v":0},{"$f":"COUNTIF($D$136:$AA$136,$AL$170)*$AB$15","v":0},{"$f":"COUNTIF($D$136:$AA$136,$AM$170)*$AB$15","v":0},{"$f":"COUNTIF($D$136:$AA$136,$AN$170)*$AB$15","v":0},{"$f":"COUNTIF($D$136:$AA$136,$AO$170)*$AB$15","v":0},{"$f":"COUNTIF($D$136:$AA$136,$AP$170)*$AB$15","v":0},{"$f":"COUNTIF($D$136:$AA$136,$AQ$170)*$AB$15","v":0},{"$f":"COUNTIF($D$136:$AA$136,$AR$170)*$AB$15","v":0},{"$f":"COUNTIF($D$136:$AA$136,$AS$170)*$AB$15","v":0},7,null,{"$f":"SUMPRODUCT($D$174:$AS$174,$D$184:$AS$184)","v":0},0,"",0,"","",0,"","",0,"",null,"",0,"","",0,"","",0,""]
[null,null,8,{"$f":"COUNTIF($D$137:$AA$137,$D$170)*$AB$16","v":0},{"$f":"COUNTIF($D$137:$AA$137,$E$170)*$AB$16","v":0},{"$f":"COUNTIF($D$137:$AA$137,$F$170)*$AB$16","v":0},{"$f":"COUNTIF($D$137:$AA$137,$G$170)*$AB$16","v":0},{"$f":"COUNTIF($D$137:$AA$137,$H$170)*$AB$16","v":0},{"$f":"COUNTIF($D$137:$AA$137,$I$170)*$AB$16","v":0},{"$f":"COUNTIF($D$137:$AA$137,$J$170)*$AB$16","v":0},{"$f":"COUNTIF($D$137:$AA$137,$K$170)*$AB$16","v":0},{"$f":"COUNTIF($D$137:$AA$137,$L$170)*$AB$16","v":0},{"$f":"COUNTIF($D$137:$AA$137,$M$170)*$AB$16","v":0},{"$f":"COUNTIF($D$137:$AA$137,$N$170)*$AB$16","v":0},{"$f":"COUNTIF($D$137:$AA$137,$O$170)*$AB$16","v":0},{"$f":"COUNTIF($D$137:$AA$137,$P$170)*$AB$16","v":0},{"$f":"COUNTIF($D$137:$AA$137,$Q$170)*$AB$16","v":0},{"$f":"COUNTIF($D$137:$AA$137,$R$170)*$AB$16","v":0},{"$f":"COUNTIF($D$137:$AA$137,$S$170)*$AB$16","v":0},{"$f":"COUNTIF($D$137:$AA$137,$T$170)*$AB$16","v":0},{"$f":"COUNTIF($D$137:$AA$137,$U$170)*$AB$16","v":0},{"$f":"COUNTIF($D$137:$AA$137,$V$170)*$AB$16","v":0},{"$f":"COUNTIF($D$137:$AA$137,$W$170)*$AB$16","v":0},{"$f":"COUNTIF($D$137:$AA$137,$X$170)*$AB$16","v":0},{"$f":"COUNTIF($D$137:$AA$137,$Y$170)*$AB$16","v":0},{"$f":"COUNTIF($D$137:$AA$137,$Z$170)*$AB$16","v":0},{"$f":"COUNTIF($D$137:$AA$137,$AA$170)*$AB$16","v":0},{"$f":"COUNTIF($D$137:$AA$137,$AB$170)*$AB$16","v":0},{"$f":"COUNTIF($D$137:$AA$137,$AC$170)*$AB$16","v":0},{"$f":"COUNTIF($D$137:$AA$137,$AD$170)*$AB$16","v":0},{"$f":"COUNTIF($D$137:$AA$137,$AE$170)*$AB$16","v":0},{"$f":"COUNTIF($D$137:$AA$137,$AF$170)*$AB$16","v":0},{"$f":"COUNTIF($D$137:$AA$137,$AG$170)*$AB$16","v":0},{"$f":"COUNTIF($D$137:$AA$137,$AH$170)*$AB$16","v":0},{"$f":"COUNTIF($D$137:$AA$137,$AI$170)*$AB$16","v":0},{"$f":"COUNTIF($D$137:$AA$137,$AJ$170)*$AB$16","v":0},{"$f":"COUNTIF($D$137:$AA$137,$AK$170)*$AB$16","v":0},{"$f":"COUNTIF($D$137:$AA$137,$AL$170)*$AB$16","v":0},{"$f":"COUNTIF($D$137:$AA$137,$AM$170)*$AB$16","v":0},{"$f":"COUNTIF($D$137:$AA$137,$AN$170)*$AB$16","v":0},{"$f":"COUNTIF($D$137:$AA$137,$AO$170)*$AB$16","v":0},{"$f":"COUNTIF($D$137:$AA$137,$AP$170)*$AB$16","v":0},{"$f":"COUNTIF($D$137:$AA$137,$AQ$170)*$AB$16","v":0},{"$f":"COUNTIF($D$137:$AA$137,$AR$170)*$AB$16","v":0},{"$f":"COUNTIF($D$137:$AA$137,$AS$170)*$AB$16","v":0},8,null,{"$f":"SUMPRODUCT($D$175:$AS$175,$D$184:$AS$184)","v":0},0,"",0,"","",0,"","",0,"",null,"",0,"","",0,"","",0,""]
[null,null,9,{"$f":"COUNTIF($D$138:$AA$138,$D$170)*$AB$17","v":0},{"$f":"COUNTIF($D$138:$AA$138,$E$170)*$AB$17","v":0},{"$f":"COUNTIF($D$138:$AA$138,$F$170)*$AB$17","v":0},{"$f":"COUNTIF($D$138:$AA$138,$G$170)*$AB$17","v":0},{"$f":"COUNTIF($D$138:$AA$138,$H$170)*$AB$17","v":0},{"$f":"COUNTIF($D$138:$AA$138,$I$170)*$AB$17","v":0},{"$f":"COUNTIF($D$138:$AA$138,$J$170)*$AB$17","v":0},{"$f":"COUNTIF($D$138:$AA$138,$K$170)*$AB$17","v":0},{"$f":"COUNTIF($D$138:$AA$138,$L$170)*$AB$17","v":0},{"$f":"COUNTIF($D$138:$AA$138,$M$170)*$AB$17","v":0},{"$f":"COUNTIF($D$138:$AA$138,$N$170)*$AB$17","v":0},{"$f":"COUNTIF($D$138:$AA$138,$O$170)*$AB$17","v":0},{"$f":"COUNTIF($D$138:$AA$138,$P$170)*$AB$17","v":0},{"$f":"COUNTIF($D$138:$AA$138,$Q$170)*$AB$17","v":0},{"$f":"COUNTIF($D$138:$AA$138,$R$170)*$AB$17","v":0},{"$f":"COUNTIF($D$138:$AA$138,$S$170)*$AB$17","v":0},{"$f":"COUNTIF($D$138:$AA$138,$T$170)*$AB$17","v":0},{"$f":"COUNTIF($D$138:$AA$138,$U$170)*$AB$17","v":0},{"$f":"COUNTIF($D$138:$AA$138,$V$170)*$AB$17","v":0},{"$f":"COUNTIF($D$138:$AA$138,$W$170)*$AB$17","v":0},{"$f":"COUNTIF($D$138:$AA$138,$X$170)*$AB$17","v":0},{"$f":"COUNTIF($D$138:$AA$138,$Y$170)*$AB$17","v":0},{"$f":"COUNTIF($D$138:$AA$138,$Z$170)*$AB$17","v":0},{"$f":"COUNTIF($D$138:$AA$138,$AA$170)*$AB$17","v":0},{"$f":"COUNTIF($D$138:$AA$138,$AB$170)*$AB$17","v":0},{"$f":"COUNTIF($D$138:$AA$138,$AC$170)*$AB$17","v":0},{"$f":"COUNTIF($D$138:$AA$138,$AD$170)*$AB$17","v":0},{"$f":"COUNTIF($D$138:$AA$138,$AE$170)*$AB$17","v":0},{"$f":"COUNTIF($D$138:$AA$138,$AF$170)*$AB$17","v":0},{"$f":"COUNTIF($D$138:$AA$138,$AG$170)*$AB$17","v":0},{"$f":"COUNTIF($D$138:$AA$138,$AH$170)*$AB$17","v":0},{"$f":"COUNTIF($D$138:$AA$138,$AI$170)*$AB$17","v":0},{"$f":"COUNTIF($D$138:$AA$138,$AJ$170)*$AB$17","v":0},{"$f":"COUNTIF($D$138:$AA$138,$AK$170)*$AB$17","v":0},{"$f":"COUNTIF($D$138:$AA$138,$AL$170)*$AB$17","v":0},{"$f":"COUNTIF($D$138:$AA$138,$AM$170)*$AB$17","v":0},{"$f":"COUNTIF($D$138:$AA$138,$AN$170)*$AB$17","v":0},{"$f":"COUNTIF($D$138:$AA$138,$AO$170)*$AB$17","v":0},{"$f":"COUNTIF($D$138:$AA$138,$AP$170)*$AB$17","v":0},{"$f":"COUNTIF($D$138:$AA$138,$AQ$170)*$AB$17","v":0},{"$f":"COUNTIF($D$138:$AA$138,$AR$170)*$AB$17","v":0},{"$f":"COUNTIF($D$138:$AA$138,$AS$170)*$AB$17","v":0},9,null,{"$f":"SUMPRODUCT($D$176:$AS$176,$D$184:$AS$184)","v":0},0,"",0,"","",0,"","",0,"",null,"",0,"","",0,"","",0,""]
[null,null,10,{"$f":"COUNTIF($D$139:$AA$139,$D$170)*$AB$18","v":0},{"$f":"COUNTIF($D$139:$AA$139,$E$170)*$AB$18","v":0},{"$f":"COUNTIF($D$139:$AA$139,$F$170)*$AB$18","v":0},{"$f":"COUNTIF($D$139:$AA$139,$G$170)*$AB$18","v":0},{"$f":"COUNTIF($D$139:$AA$139,$H$170)*$AB$18","v":0},{"$f":"COUNTIF($D$139:$AA$139,$I$170)*$AB$18","v":0},{"$f":"COUNTIF($D$139:$AA$139,$J$170)*$AB$18","v":0},{"$f":"COUNTIF($D$139:$AA$139,$K$170)*$AB$18","v":0},{"$f":"COUNTIF($D$139:$AA$139,$L$170)*$AB$18","v":0},{"$f":"COUNTIF($D$139:$AA$139,$M$170)*$AB$18","v":0},{"$f":"COUNTIF($D$139:$AA$139,$N$170)*$AB$18","v":0},{"$f":"COUNTIF($D$139:$AA$139,$O$170)*$AB$18","v":0},{"$f":"COUNTIF($D$139:$AA$139,$P$170)*$AB$18","v":0},{"$f":"COUNTIF($D$139:$AA$139,$Q$170)*$AB$18","v":0},{"$f":"COUNTIF($D$139:$AA$139,$R$170)*$AB$18","v":0},{"$f":"COUNTIF($D$139:$AA$139,$S$170)*$AB$18","v":0},{"$f":"COUNTIF($D$139:$AA$139,$T$170)*$AB$18","v":0},{"$f":"COUNTIF($D$139:$AA$139,$U$170)*$AB$18","v":0},{"$f":"COUNTIF($D$139:$AA$139,$V$170)*$AB$18","v":0},{"$f":"COUNTIF($D$139:$AA$139,$W$170)*$AB$18","v":0},{"$f":"COUNTIF($D$139:$AA$139,$X$170)*$AB$18","v":0},{"$f":"COUNTIF($D$139:$AA$139,$Y$170)*$AB$18","v":0},{"$f":"COUNTIF($D$139:$AA$139,$Z$170)*$AB$18","v":0},{"$f":"COUNTIF($D$139:$AA$139,$AA$170)*$AB$18","v":0},{"$f":"COUNTIF($D$139:$AA$139,$AB$170)*$AB$18","v":0},{"$f":"COUNTIF($D$139:$AA$139,$AC$170)*$AB$18","v":0},{"$f":"COUNTIF($D$139:$AA$139,$AD$170)*$AB$18","v":0},{"$f":"COUNTIF($D$139:$AA$139,$AE$170)*$AB$18","v":0},{"$f":"COUNTIF($D$139:$AA$139,$AF$170)*$AB$18","v":0},{"$f":"COUNTIF($D$139:$AA$139,$AG$170)*$AB$18","v":0},{"$f":"COUNTIF($D$139:$AA$139,$AH$170)*$AB$18","v":0},{"$f":"COUNTIF($D$139:$AA$139,$AI$170)*$AB$18","v":0},{"$f":"COUNTIF($D$139:$AA$139,$AJ$170)*$AB$18","v":0},{"$f":"COUNTIF($D$139:$AA$139,$AK$170)*$AB$18","v":0},{"$f":"COUNTIF($D$139:$AA$139,$AL$170)*$AB$18","v":0},{"$f":"COUNTIF($D$139:$AA$139,$AM$170)*$AB$18","v":0},{"$f":"COUNTIF($D$139:$AA$139,$AN$170)*$AB$18","v":0},{"$f":"COUNTIF($D$139:$AA$139,$AO$170)*$AB$18","v":0},{"$f":"COUNTIF($D$139:$AA$139,$AP$170)*$AB$18","v":0},{"$f":"COUNTIF($D$139:$AA$139,$AQ$170)*$AB$18","v":0},{"$f":"COUNTIF($D$139:$AA$139,$AR$170)*$AB$18","v":0},{"$f":"COUNTIF($D$139:$AA$139,$AS$170)*$AB$18","v":0},10,null,{"$f":"SUMPRODUCT($D$177:$AS$177,$D$184:$AS$184)","v":0},0,"",0,"","",0,"","",0,"",null,"",0,"","",0,"","",0,""]
[null,null,11,{"$f":"COUNTIF($D$140:$AA$140,$D$170)*$AB$19","v":0},{"$f":"COUNTIF($D$140:$AA$140,$E$170)*$AB$19","v":0},{"$f":"COUNTIF($D$140:$AA$140,$F$170)*$AB$19","v":0},{"$f":"COUNTIF($D$140:$AA$140,$G$170)*$AB$19","v":0},{"$f":"COUNTIF($D$140:$AA$140,$H$170)*$AB$19","v":0},{"$f":"COUNTIF($D$140:$AA$140,$I$170)*$AB$19","v":0},{"$f":"COUNTIF($D$140:$AA$140,$J$170)*$AB$19","v":0},{"$f":"COUNTIF($D$140:$AA$140,$K$170)*$AB$19","v":0},{"$f":"COUNTIF($D$140:$AA$140,$L$170)*$AB$19","v":0},{"$f":"COUNTIF($D$140:$AA$140,$M$170)*$AB$19","v":0},{"$f":"COUNTIF($D$140:$AA$140,$N$170)*$AB$19","v":0},{"$f":"COUNTIF($D$140:$AA$140,$O$170)*$AB$19","v":0},{"$f":"COUNTIF($D$140:$AA$140,$P$170)*$AB$19","v":0},{"$f":"COUNTIF($D$140:$AA$140,$Q$170)*$AB$19","v":0},{"$f":"COUNTIF($D$140:$AA$140,$R$170)*$AB$19","v":0},{"$f":"COUNTIF($D$140:$AA$140,$S$170)*$AB$19","v":0},{"$f":"COUNTIF($D$140:$AA$140,$T$170)*$AB$19","v":0},{"$f":"COUNTIF($D$140:$AA$140,$U$170)*$AB$19","v":0},{"$f":"COUNTIF($D$140:$AA$140,$V$170)*$AB$19","v":0},{"$f":"COUNTIF($D$140:$AA$140,$W$170)*$AB$19","v":0},{"$f":"COUNTIF($D$140:$AA$140,$X$170)*$AB$19","v":0},{"$f":"COUNTIF($D$140:$AA$140,$Y$170)*$AB$19","v":0},{"$f":"COUNTIF($D$140:$AA$140,$Z$170)*$AB$19","v":0},{"$f":"COUNTIF($D$140:$AA$140,$AA$170)*$AB$19","v":0},{"$f":"COUNTIF($D$140:$AA$140,$AB$170)*$AB$19","v":0},{"$f":"COUNTIF($D$140:$AA$140,$AC$170)*$AB$19","v":0},{"$f":"COUNTIF($D$140:$AA$140,$AD$170)*$AB$19","v":0},{"$f":"COUNTIF($D$140:$AA$140,$AE$170)*$AB$19","v":0},{"$f":"COUNTIF($D$140:$AA$140,$AF$170)*$AB$19","v":0},{"$f":"COUNTIF($D$140:$AA$140,$AG$170)*$AB$19","v":0},{"$f":"COUNTIF($D$140:$AA$140,$AH$170)*$AB$19","v":0},{"$f":"COUNTIF($D$140:$AA$140,$AI$170)*$AB$19","v":0},{"$f":"COUNTIF($D$140:$AA$140,$AJ$170)*$AB$19","v":0},{"$f":"COUNTIF($D$140:$AA$140,$AK$170)*$AB$19","v":0},{"$f":"COUNTIF($D$140:$AA$140,$AL$170)*$AB$19","v":0},{"$f":"COUNTIF($D$140:$AA$140,$AM$170)*$AB$19","v":0},{"$f":"COUNTIF($D$140:$AA$140,$AN$170)*$AB$19","v":0},{"$f":"COUNTIF($D$140:$AA$140,$AO$170)*$AB$19","v":0},{"$f":"COUNTIF($D$140:$AA$140,$AP$170)*$AB$19","v":0},{"$f":"COUNTIF($D$140:$AA$140,$AQ$170)*$AB$19","v":0},{"$f":"COUNTIF($D$140:$AA$140,$AR$170)*$AB$19","v":0},{"$f":"COUNTIF($D$140:$AA$140,$AS$170)*$AB$19","v":0},11,null,{"$f":"SUMPRODUCT($D$178:$AS$178,$D$184:$AS$184)","v":0},0,"",0,"","",0,"","",0,"",null,"",0,"","",0,"","",0,""]
[null,null,12,{"$f":"COUNTIF($D$141:$AA$141,$D$170)*$AB$20","v":0},{"$f":"COUNTIF($D$141:$AA$141,$E$170)*$AB$20","v":0},{"$f":"COUNTIF($D$141:$AA$141,$F$170)*$AB$20","v":0},{"$f":"COUNTIF($D$141:$AA$141,$G$170)*$AB$20","v":0},{"$f":"COUNTIF($D$141:$AA$141,$H$170)*$AB$20","v":0},{"$f":"COUNTIF($D$141:$AA$141,$I$170)*$AB$20","v":0},{"$f":"COUNTIF($D$141:$AA$141,$J$170)*$AB$20","v":0},{"$f":"COUNTIF($D$141:$AA$141,$K$170)*$AB$20","v":0},{"$f":"COUNTIF($D$141:$AA$141,$L$170)*$AB$20","v":0},{"$f":"COUNTIF($D$141:$AA$141,$M$170)*$AB$20","v":0},{"$f":"COUNTIF($D$141:$AA$141,$N$170)*$AB$20","v":0},{"$f":"COUNTIF($D$141:$AA$141,$O$170)*$AB$20","v":0},{"$f":"COUNTIF($D$141:$AA$141,$P$170)*$AB$20","v":0},{"$f":"COUNTIF($D$141:$AA$141,$Q$170)*$AB$20","v":0},{"$f":"COUNTIF($D$141:$AA$141,$R$170)*$AB$20","v":0},{"$f":"COUNTIF($D$141:$AA$141,$S$170)*$AB$20","v":0},{"$f":"COUNTIF($D$141:$AA$141,$T$170)*$AB$20","v":0},{"$f":"COUNTIF($D$141:$AA$141,$U$170)*$AB$20","v":0},{"$f":"COUNTIF($D$141:$AA$141,$V$170)*$AB$20","v":0},{"$f":"COUNTIF($D$141:$AA$141,$W$170)*$AB$20","v":0},{"$f":"COUNTIF($D$141:$AA$141,$X$170)*$AB$20","v":0},{"$f":"COUNTIF($D$141:$AA$141,$Y$170)*$AB$20","v":0},{"$f":"COUNTIF($D$141:$AA$141,$Z$170)*$AB$20","v":0},{"$f":"COUNTIF($D$141:$AA$141,$AA$170)*$AB$20","v":0},{"$f":"COUNTIF($D$141:$AA$141,$AB$170)*$AB$20","v":0},{"$f":"COUNTIF($D$141:$AA$141,$AC$170)*$AB$20","v":0},{"$f":"COUNTIF($D$141:$AA$141,$AD$170)*$AB$20","v":0},{"$f":"COUNTIF($D$141:$AA$141,$AE$170)*$AB$20","v":0},{"$f":"COUNTIF($D$141:$AA$141,$AF$170)*$AB$20","v":0},{"$f":"COUNTIF($D$141:$AA$141,$AG$170)*$AB$20","v":0},{"$f":"COUNTIF($D$141:$AA$141,$AH$170)*$AB$20","v":0},{"$f":"COUNTIF($D$141:$AA$141,$AI$170)*$AB$20","v":0},{"$f":"COUNTIF($D$141:$AA$141,$AJ$170)*$AB$20","v":0},{"$f":"COUNTIF($D$141:$AA$141,$AK$170)*$AB$20","v":0},{"$f":"COUNTIF($D$141:$AA$141,$AL$170)*$AB$20","v":0},{"$f":"COUNTIF($D$141:$AA$141,$AM$170)*$AB$20","v":0},{"$f":"COUNTIF($D$141:$AA$141,$AN$170)*$AB$20","v":0},{"$f":"COUNTIF($D$141:$AA$141,$AO$170)*$AB$20","v":0},{"$f":"COUNTIF($D$141:$AA$141,$AP$170)*$AB$20","v":0},{"$f":"COUNTIF($D$141:$AA$141,$AQ$170)*$AB$20","v":0},{"$f":"COUNTIF($D$141:$AA$141,$AR$170)*$AB$20","v":0},{"$f":"COUNTIF($D$141:$AA$141,$AS$170)*$AB$20","v":0},12,null,{"$f":"SUMPRODUCT($D$179:$AS$179,$D$184:$AS$184)","v":0},0,"",0,"","",0,"","",0,"",null,"",0,"","",0,"","",0,""]
[null,null,1,{"$f":"COUNTIF($D$142:$AA$142,$D$170)*$AB$21","v":0},{"$f":"COUNTIF($D$142:$AA$142,$E$170)*$AB$21","v":0},{"$f":"COUNTIF($D$142:$AA$142,$F$170)*$AB$21","v":0},{"$f":"COUNTIF($D$142:$AA$142,$G$170)*$AB$21","v":0},{"$f":"COUNTIF($D$142:$AA$142,$H$170)*$AB$21","v":0},{"$f":"COUNTIF($D$142:$AA$142,$I$170)*$AB$21","v":0},{"$f":"COUNTIF($D$142:$AA$142,$J$170)*$AB$21","v":0},{"$f":"COUNTIF($D$142:$AA$142,$K$170)*$AB$21","v":0},{"$f":"COUNTIF($D$142:$AA$142,$L$170)*$AB$21","v":0},{"$f":"COUNTIF($D$142:$AA$142,$M$170)*$AB$21","v":0},{"$f":"COUNTIF($D$142:$AA$142,$N$170)*$AB$21","v":0},{"$f":"COUNTIF($D$142:$AA$142,$O$170)*$AB$21","v":0},{"$f":"COUNTIF($D$142:$AA$142,$P$170)*$AB$21","v":0},{"$f":"COUNTIF($D$142:$AA$142,$Q$170)*$AB$21","v":0},{"$f":"COUNTIF($D$142:$AA$142,$R$170)*$AB$21","v":0},{"$f":"COUNTIF($D$142:$AA$142,$S$170)*$AB$21","v":0},{"$f":"COUNTIF($D$142:$AA$142,$T$170)*$AB$21","v":0},{"$f":"COUNTIF($D$142:$AA$142,$U$170)*$AB$21","v":0},{"$f":"COUNTIF($D$142:$AA$142,$V$170)*$AB$21","v":0},{"$f":"COUNTIF($D$142:$AA$142,$W$170)*$AB$21","v":0},{"$f":"COUNTIF($D$142:$AA$142,$X$170)*$AB$21","v":0},{"$f":"COUNTIF($D$142:$AA$142,$Y$170)*$AB$21","v":0},{"$f":"COUNTIF($D$142:$AA$142,$Z$170)*$AB$21","v":0},{"$f":"COUNTIF($D$142:$AA$142,$AA$170)*$AB$21","v":0},{"$f":"COUNTIF($D$142:$AA$142,$AB$170)*$AB$21","v":0},{"$f":"COUNTIF($D$142:$AA$142,$AC$170)*$AB$21","v":0},{"$f":"COUNTIF($D$142:$AA$142,$AD$170)*$AB$21","v":0},{"$f":"COUNTIF($D$142:$AA$142,$AE$170)*$AB$21","v":0},{"$f":"COUNTIF($D$142:$AA$142,$AF$170)*$AB$21","v":0},{"$f":"COUNTIF($D$142:$AA$142,$AG$170)*$AB$21","v":0},{"$f":"COUNTIF($D$142:$AA$142,$AH$170)*$AB$21","v":0},{"$f":"COUNTIF($D$142:$AA$142,$AI$170)*$AB$21","v":0},{"$f":"COUNTIF($D$142:$AA$142,$AJ$170)*$AB$21","v":0},{"$f":"COUNTIF($D$142:$AA$142,$AK$170)*$AB$21","v":0},{"$f":"COUNTIF($D$142:$AA$142,$AL$170)*$AB$21","v":0},{"$f":"COUNTIF($D$142:$AA$142,$AM$170)*$AB$21","v":0},{"$f":"COUNTIF($D$142:$AA$142,$AN$170)*$AB$21","v":0},{"$f":"COUNTIF($D$142:$AA$142,$AO$170)*$AB$21","v":0},{"$f":"COUNTIF($D$142:$AA$142,$AP$170)*$AB$21","v":0},{"$f":"COUNTIF($D$142:$AA$142,$AQ$170)*$AB$21","v":0},{"$f":"COUNTIF($D$142:$AA$142,$AR$170)*$AB$21","v":0},{"$f":"COUNTIF($D$142:$AA$142,$AS$170)*$AB$21","v":0},1,null,{"$f":"SUMPRODUCT($D$180:$AS$180,$D$184:$AS$184)","v":0},0,"",0,"","",0,"","",0,"",null,"",0,"","",0,"","",0,""]
[null,null,2,{"$f":"COUNTIF($D$143:$AA$143,$D$170)*$AB$22","v":0},{"$f":"COUNTIF($D$143:$AA$143,$E$170)*$AB$22","v":0},{"$f":"COUNTIF($D$143:$AA$143,$F$170)*$AB$22","v":0},{"$f":"COUNTIF($D$143:$AA$143,$G$170)*$AB$22","v":0},{"$f":"COUNTIF($D$143:$AA$143,$H$170)*$AB$22","v":0},{"$f":"COUNTIF($D$143:$AA$143,$I$170)*$AB$22","v":0},{"$f":"COUNTIF($D$143:$AA$143,$J$170)*$AB$22","v":0},{"$f":"COUNTIF($D$143:$AA$143,$K$170)*$AB$22","v":0},{"$f":"COUNTIF($D$143:$AA$143,$L$170)*$AB$22","v":0},{"$f":"COUNTIF($D$143:$AA$143,$M$170)*$AB$22","v":0},{"$f":"COUNTIF($D$143:$AA$143,$N$170)*$AB$22","v":0},{"$f":"COUNTIF($D$143:$AA$143,$O$170)*$AB$22","v":0},{"$f":"COUNTIF($D$143:$AA$143,$P$170)*$AB$22","v":0},{"$f":"COUNTIF($D$143:$AA$143,$Q$170)*$AB$22","v":0},{"$f":"COUNTIF($D$143:$AA$143,$R$170)*$AB$22","v":0},{"$f":"COUNTIF($D$143:$AA$143,$S$170)*$AB$22","v":0},{"$f":"COUNTIF($D$143:$AA$143,$T$170)*$AB$22","v":0},{"$f":"COUNTIF($D$143:$AA$143,$U$170)*$AB$22","v":0},{"$f":"COUNTIF($D$143:$AA$143,$V$170)*$AB$22","v":0},{"$f":"COUNTIF($D$143:$AA$143,$W$170)*$AB$22","v":0},{"$f":"COUNTIF($D$143:$AA$143,$X$170)*$AB$22","v":0},{"$f":"COUNTIF($D$143:$AA$143,$Y$170)*$AB$22","v":0},{"$f":"COUNTIF($D$143:$AA$143,$Z$170)*$AB$22","v":0},{"$f":"COUNTIF($D$143:$AA$143,$AA$170)*$AB$22","v":0},{"$f":"COUNTIF($D$143:$AA$143,$AB$170)*$AB$22","v":0},{"$f":"COUNTIF($D$143:$AA$143,$AC$170)*$AB$22","v":0},{"$f":"COUNTIF($D$143:$AA$143,$AD$170)*$AB$22","v":0},{"$f":"COUNTIF($D$143:$AA$143,$AE$170)*$AB$22","v":0},{"$f":"COUNTIF($D$143:$AA$143,$AF$170)*$AB$22","v":0},{"$f":"COUNTIF($D$143:$AA$143,$AG$170)*$AB$22","v":0},{"$f":"COUNTIF($D$143:$AA$143,$AH$170)*$AB$22","v":0},{"$f":"COUNTIF($D$143:$AA$143,$AI$170)*$AB$22","v":0},{"$f":"COUNTIF($D$143:$AA$143,$AJ$170)*$AB$22","v":0},{"$f":"COUNTIF($D$143:$AA$143,$AK$170)*$AB$22","v":0},{"$f":"COUNTIF($D$143:$AA$143,$AL$170)*$AB$22","v":0},{"$f":"COUNTIF($D$143:$AA$143,$AM$170)*$AB$22","v":0},{"$f":"COUNTIF($D$143:$AA$143,$AN$170)*$AB$22","v":0},{"$f":"COUNTIF($D$143:$AA$143,$AO$170)*$AB$22","v":0},{"$f":"COUNTIF($D$143:$AA$143,$AP$170)*$AB$22","v":0},{"$f":"COUNTIF($D$143:$AA$143,$AQ$170)*$AB$22","v":0},{"$f":"COUNTIF($D$143:$AA$143,$AR$170)*$AB$22","v":0},{"$f":"COUNTIF($D$143:$AA$143,$AS$170)*$AB$22","v":0},2,null,{"$f":"SUMPRODUCT($D$181:$AS$181,$D$184:$AS$184)","v":0},0,"",0,"","",0,"","",0,{"$f":"IFERROR(BD181+BE181,\"\")","v":""},null,"",0,"","",0,"","",0,""]
[null,null,3,{"$f":"COUNTIF($D$144:$AA$144,$D$170)*$AB$23","v":0},{"$f":"COUNTIF($D$144:$AA$144,$E$170)*$AB$23","v":0},{"$f":"COUNTIF($D$144:$AA$144,$F$170)*$AB$23","v":0},{"$f":"COUNTIF($D$144:$AA$144,$G$170)*$AB$23","v":0},{"$f":"COUNTIF($D$144:$AA$144,$H$170)*$AB$23","v":0},{"$f":"COUNTIF($D$144:$AA$144,$I$170)*$AB$23","v":0},{"$f":"COUNTIF($D$144:$AA$144,$J$170)*$AB$23","v":0},{"$f":"COUNTIF($D$144:$AA$144,$K$170)*$AB$23","v":0},{"$f":"COUNTIF($D$144:$AA$144,$L$170)*$AB$23","v":0},{"$f":"COUNTIF($D$144:$AA$144,$M$170)*$AB$23","v":0},{"$f":"COUNTIF($D$144:$AA$144,$N$170)*$AB$23","v":0},{"$f":"COUNTIF($D$144:$AA$144,$O$170)*$AB$23","v":0},{"$f":"COUNTIF($D$144:$AA$144,$P$170)*$AB$23","v":0},{"$f":"COUNTIF($D$144:$AA$144,$Q$170)*$AB$23","v":0},{"$f":"COUNTIF($D$144:$AA$144,$R$170)*$AB$23","v":0},{"$f":"COUNTIF($D$144:$AA$144,$S$170)*$AB$23","v":0},{"$f":"COUNTIF($D$144:$AA$144,$T$170)*$AB$23","v":0},{"$f":"COUNTIF($D$144:$AA$144,$U$170)*$AB$23","v":0},{"$f":"COUNTIF($D$144:$AA$144,$V$170)*$AB$23","v":0},{"$f":"COUNTIF($D$144:$AA$144,$W$170)*$AB$23","v":0},{"$f":"COUNTIF($D$144:$AA$144,$X$170)*$AB$23","v":0},{"$f":"COUNTIF($D$144:$AA$144,$Y$170)*$AB$23","v":0},{"$f":"COUNTIF($D$144:$AA$144,$Z$170)*$AB$23","v":0},{"$f":"COUNTIF($D$144:$AA$144,$AA$170)*$AB$23","v":0},{"$f":"COUNTIF($D$144:$AA$144,$AB$170)*$AB$23","v":0},{"$f":"COUNTIF($D$144:$AA$144,$AC$170)*$AB$23","v":0},{"$f":"COUNTIF($D$144:$AA$144,$AD$170)*$AB$23","v":0},{"$f":"COUNTIF($D$144:$AA$144,$AE$170)*$AB$23","v":0},{"$f":"COUNTIF($D$144:$AA$144,$AF$170)*$AB$23","v":0},{"$f":"COUNTIF($D$144:$AA$144,$AG$170)*$AB$23","v":0},{"$f":"COUNTIF($D$144:$AA$144,$AH$170)*$AB$23","v":0},{"$f":"COUNTIF($D$144:$AA$144,$AI$170)*$AB$23","v":0},{"$f":"COUNTIF($D$144:$AA$144,$AJ$170)*$AB$23","v":0},{"$f":"COUNTIF($D$144:$AA$144,$AK$170)*$AB$23","v":0},{"$f":"COUNTIF($D$144:$AA$144,$AL$170)*$AB$23","v":0},{"$f":"COUNTIF($D$144:$AA$144,$AM$170)*$AB$23","v":0},{"$f":"COUNTIF($D$144:$AA$144,$AN$170)*$AB$23","v":0},{"$f":"COUNTIF($D$144:$AA$144,$AO$170)*$AB$23","v":0},{"$f":"COUNTIF($D$144:$AA$144,$AP$170)*$AB$23","v":0},{"$f":"COUNTIF($D$144:$AA$144,$AQ$170)*$AB$23","v":0},{"$f":"COUNTIF($D$144:$AA$144,$AR$170)*$AB$23","v":0},{"$f":"COUNTIF($D$144:$AA$144,$AS$170)*$AB$23","v":0},3,null,{"$f":"SUMPRODUCT($D$182:$AS$182,$D$184:$AS$184)","v":0},0,"",{"$f":"AW182*$AY$168","v":0},{"$f":"IFERROR(AX182+AY182,\"\")","v":""},"",{"$f":"AW182*$BB$168","v":0},{"$f":"IFERROR(BA182+BB182,\"\")","v":""},"",0,{"$f":"IFERROR(BD182+BE182,\"\")","v":""},null,"",0,{"$f":"IFERROR(BH182+BI182,\"\")","v":""},"",0,{"$f":"IFERROR(BK182+BL182,\"\")","v":""},"",0,{"$f":"IFERROR(BN182+BO182,\"\")","v":""}]
[null,"tw","加熱運転時間",{"$f":"SUM($D$171:$D$182)","v":0},{"$f":"SUM($E$171:$E$182)","v":0},{"$f":"SUM($F$171:$F$182)","v":0},{"$f":"SUM($G$171:$G$182)","v":0},{"$f":"SUM($H$171:$H$182)","v":0},{"$f":"SUM($I$171:$I$182)","v":0},{"$f":"SUM($J$171:$J$182)","v":0},{"$f":"SUM($K$171:$K$182)","v":0},{"$f":"SUM($L$171:$L$182)","v":0},{"$f":"SUM($M$171:$M$182)","v":0},{"$f":"SUM($N$171:$N$182)","v":0},{"$f":"SUM($O$171:$O$182)","v":0},{"$f":"SUM($P$171:$P$182)","v":0},{"$f":"SUM($Q$171:$Q$182)","v":0},{"$f":"SUM($R$171:$R$182)","v":0},{"$f":"SUM($S$171:$S$182)","v":0},{"$f":"SUM($T$171:$T$182)","v":0},{"$f":"SUM($U$171:$U$182)","v":0},{"$f":"SUM($V$171:$V$182)","v":0},{"$f":"SUM($W$171:$W$182)","v":0},{"$f":"SUM($X$171:$X$182)","v":0},{"$f":"SUM($Y$171:$Y$182)","v":0},{"$f":"SUM($Z$171:$Z$182)","v":0},{"$f":"SUM($AA$171:$AA$182)","v":0},{"$f":"SUM($AB$171:$AB$182)","v":0},{"$f":"SUM($AC$171:$AC$182)","v":0},{"$f":"SUM($AD$171:$AD$182)","v":0},{"$f":"SUM($AE$171:$AE$182)","v":0},{"$f":"SUM($AF$171:$AF$182)","v":0},{"$f":"SUM($AG$171:$AG$182)","v":0},{"$f":"SUM($AH$171:$AH$182)","v":0},{"$f":"SUM($AI$171:$AI$182)","v":0},{"$f":"SUM($AJ$171:$AJ$182)","v":0},{"$f":"SUM($AK$171:$AK$182)","v":0},{"$f":"SUM($AL$171:$AL$182)","v":0},{"$f":"SUM($AM$171:$AM$182)","v":0},{"$f":"SUM($AN$171:$AN$182)","v":0},{"$f":"SUM($AO$171:$AO$182)","v":0},{"$f":"SUM($AP$171:$AP$182)","v":0},{"$f":"SUM($AQ$171:$AQ$182)","v":0},{"$f":"SUM($AR$171:$AR$182)","v":0},{"$f":"SUM($AS$171:$AS$182)","v":0},"加熱運転時間",null,{"$f":"SUM($AV$171:$AV$182)","v":0},{"$f":"SUM(AW171:AW182)","v":0},{"$f":"SUM($AX$171:$AX$182)","v":0},{"$f":"SUM(AY171:AY182)","v":0},{"$f":"SUM(AZ171:AZ182)","v":0},{"$f":"SUM(BA171:BA182)","v":0},{"$f":"SUM(BB171:BB182)","v":0},{"$f":"SUM(BC171:BC182)","v":0},0,0,{"$f":"SUM(BF171:BF182)","v":0},null,{"$f":"SUM($BH$171:$BH$182)","v":0},{"$f":"SUM(BI171:BI182)","v":0},0,0,0,0,0,0,0]
[null,"εw","加熱時消費電力比",{"$f":"$D$185/$D$186","v":1},{"$f":"$E$185/$E$186","v":1},{"$f":"$F$185/$F$186","v":1},{"$f":"$G$185/$G$186","v":1},{"$f":"$H$185/$H$186","v":0.99999999999999989},{"$f":"$I$185/$I$186","v":0.9253731343283581},{"$f":"$J$185/$J$186","v":0.85074626865671632},{"$f":"$K$185/$K$186","v":0.77611940298507454},{"$f":"$L$185/$L$186","v":0.70149253731343275},{"$f":"$M$185/$M$186","v":0.62686567164179097},{"$f":"$N$185/$N$186","v":0.55223880597014918},{"$f":"$O$185/$O$186","v":0.47761194029850745},{"$f":"$P$185/$P$186","v":0.40298507462686567},{"$f":"$Q$185/$Q$186","v":0.32835820895522388},{"$f":"$R$185/$R$186","v":0.2537313432835821},{"$f":"$S$185/$S$186","v":0.17910447761194032},{"$f":"$T$185/$T$186","v":0.10447761194029853},{"$f":"$U$185/$U$186","v":2.985074626865674E-2},{"$f":"$V$185/$V$186","v":0},{"$f":"$W$185/$W$186","v":0},{"$f":"$X$185/$X$186","v":0},{"$f":"$Y$185/$Y$186","v":0},{"$f":"$Z$185/$Z$186","v":0},{"$f":"$AA$185/$AA$186","v":0},{"$f":"$AB$185/$AB$186","v":0},{"$f":"$AC$185/$AC$186","v":0},{"$f":"$AD$185/$AD$186","v":0},{"$f":"$AE$185/$AE$186","v":0},{"$f":"$AF$185/$AF$186","v":0},{"$f":"$AG$185/$AG$186","v":0},{"$f":"$AH$185/$AH$186","v":0},{"$f":"$AI$185/$AI$186","v":0},{"$f":"$AJ$185/$AJ$186","v":0},{"$f":"$AK$185/$AK$186","v":0},{"$f":"$AL$185/$AL$186","v":0},{"$f":"$AM$185/$AM$186","v":0},{"$f":"$AN$185/$AN$186","v":0},{"$f":"$AO$185/$AO$186","v":0},{"$f":"$AP$185/$AP$186","v":0},{"$f":"$AQ$185/$AQ$186","v":0},{"$f":"$AR$185/$AR$186","v":0},{"$f":"$AS$185/$AS$186","v":0},"加熱時消費電力比","εw"]
[null,"αw","加熱空調負荷率",{"$f":"IF((-1/13.4)*(D$170-11.4)<0,0,IF((-1/13.4)*(D$170-11.4)>1,1,(-1/13.4)*(D$170-11.4)))","v":1},{"$f":"IF((-1/13.4)*(E$170-11.4)<0,0,IF((-1/13.4)*(E$170-11.4)>1,1,(-1/13.4)*(E$170-11.4)))","v":1},1,1,0.99999999999999989,0.9253731343283581,0.85074626865671632,0.77611940298507454,0.70149253731343275,0.62686567164179097,0.55223880597014918,0.47761194029850745,0.40298507462686567,0.32835820895522388,0.2537313432835821,0.17910447761194032,0.10447761194029853,2.985074626865674E-2,0,0,0,0,0,0,0,0,0,0,0,0,0,0,0,0,0,0,0,0,0,0,0,0,"加熱空調負荷率","αw"]
[null,"βw","加熱COP比",1,1,1,1,1,1,1,1,1,1,1,1,1,1,1,1,1,1,1,1,1,1,1,1,1,1,1,1,1,1,1,1,1,1,1,1,1,1,1,1,1,1,"加熱COP比","βw"]
[null,null,"Σ",{"$f":"$D$183*$D$184","v":0},{"$f":"$E$183*$E$184","v":0},{"$f":"$F$183*$F$184","v":0},{"$f":"$G$183*$G$184","v":0},{"$f":"$H$183*$H$184","v":0},{"$f":"$I$183*$I$184","v":0},{"$f":"$J$183*$J$184","v":0},{"$f":"$K$183*$K$184","v":0},{"$f":"$L$183*$L$184","v":0},{"$f":"$M$183*$M$184","v":0},{"$f":"$N$183*$N$184","v":0},{"$f":"$O$183*$O$184","v":0},{"$f":"$P$183*$P$184","v":0},{"$f":"$Q$183*$Q$184","v":0},{"$f":"$R$183*$R$184","v":0},{"$f":"$S$183*$S$184","v":0},{"$f":"$T$183*$T$184","v":0},{"$f":"$U$183*$U$184","v":0},{"$f":"$V$183*$V$184","v":0},{"$f":"$W$183*$W$184","v":0},{"$f":"$X$183*$X$184","v":0},{"$f":"$Y$183*$Y$184","v":0},{"$f":"$Z$183*$Z$184","v":0},{"$f":"$AA$183*$AA$184","v":0},{"$f":"$AB$183*$AB$184","v":0},{"$f":"$AC$183*$AC$184","v":0},{"$f":"$AD$183*$AD$184","v":0},{"$f":"$AE$183*$AE$184","v":0},{"$f":"$AF$183*$AF$184","v":0},{"$f":"$AG$183*$AG$184","v":0},{"$f":"$AH$183*$AH$184","v":0},{"$f":"$AI$183*$AI$184","v":0},{"$f":"$AJ$183*$AJ$184","v":0},{"$f":"$AK$183*$AK$184","v":0},{"$f":"$AL$183*$AL$184","v":0},{"$f":"$AM$183*$AM$184","v":0},{"$f":"$AN$183*$AN$184","v":0},{"$f":"$AO$183*$AO$184","v":0},{"$f":"$AP$183*$AP$184","v":0},{"$f":"$AQ$183*$AQ$184","v":0},{"$f":"$AR$183*$AR$184","v":0},{"$f":"$AS$183*$AS$184","v":0},{"$f":"SUM($D187:$AS187)","v":0}]
[]
[null,null,"αc^0.6",{"$f":"D163^0.6","v":0},{"$f":"E163^0.6","v":0},{"$f":"F163^0.6","v":0},0,0,0,0,0,{"$f":"L163^0.6","v":0},0,0,0,0,0,0,0,0,0,0,0.19694512927085178,0.29851299512936197,0.3807307877431757,0.45246109203621188,0.51728185797178661,0.5770799623628855,0.63300052261123363,0.68580277290067215,0.7360219228178333,0.78405268168311582,0.83019641884114292,0.87468965915462249,0.91772223886856286,0.95944937873158653,1,1,1,1,1,1,1,1,1,"αc^0.6"]
[null,null,"Σ",{"$f":"D161*D189","v":0},{"$f":"E161*E189","v":0},0,0,0,0,0,0,0,0,0,0,0,0,0,0,0,0,0,0,0,0,0,0,0,0,0,0,0,0,0,0,0,0,0,0,0,0,0,0,0,0,{"$f":"SUM(D190:AS190)","v":0}]
[]
[null,null,"αw^0.6",{"$f":"D185^0.6","v":1},{"$f":"E185^0.6","v":1},1,1,0.99999999999999989,0.95453120808698377,0.90756979116617564,0.85892872014151067,0.8083767853845224,0.75562217166201961,0.70028714280094351,0.641867084667476,0.5796600592370128,0.51263555795397076,0.43916171378780794,0.35633941772827771,0.2578777916123835,0.12161107171602827,0,0,0,0,0,0,0,0,0,0,0,0,0,0,0,0,0,0,0,0,0,0,0,0,"αc^0.6"]
[null,null,"Σ",{"$f":"D183*D192","v":0},{"$f":"E183*E192","v":0},0,0,0,0,0,0,0,0,0,0,0,0,0,0,0,0,0,0,0,0,0,0,0,0,0,0,0,0,0,0,0,0,0,0,0,0,0,0,0,0,{"$f":"SUM(D193:AS193)","v":0}]

{"sheet":"寒冷地(γ既定値)","index":2,"n_rows":193,"n_cols":68,"rows_kept":193,"cut":false,"hidden":false,"merged":[[2,2,2,3],[3,2,3,3],[5,2,5,3],[6,2,6,3],[9,3,9,26],[24,3,25,4],[24,19,25,20],[27,3,37,3],[114,3,114,26],[130,3,130,26],[98,3,98,26],[57,3,57,4],[57,5,57,6],[57,7,57,8],[78,3,78,4],[78,5,78,6],[78,7,78,8],[41,3,51,3]]}
[]
[null,null,"水冷HPチラーの設置場所"]
[null,null,{"$f":"IF(必ずこのシートから始めてください!$L$8=\"\",\"\",必ずこのシートから始めてください!$L$8)","v":""},null,null,"手順1：空調を行う月、時間を下記の指定の色で塗る(指定の色以外で塗ると計算できません。)"]
[null,null,{"$f":"VLOOKUP($C$3,γ一覧表!$C$3:$E$50,2,FALSE)","v":{"$error":"#N/A"}},null,null,null,"冷却","青","【左から5列目、一番薄い色(アクセント1,白＋基本色80％)】"]
[null,null,null,null,null,null,"加熱","オレンジ","【左から6番目、一番薄い色(アクセント2,白＋基本色80％)】"]
[null,null,"使用するγ値",null,null,"手順2：各月の運転日数を入力する"]
[null,null,{"$f":"IFERROR(IF(VLOOKUP($C$3,γ一覧表!$C$3:$E$50,3,FALSE)<=1,\"---\",IFERROR(VLOOKUP($C$3,γ一覧表!$C$3:$E$50,3,FALSE),\"---\")),\"---\")","v":"---"},null,null,"手順3：Ctrl + Alt + F9を同時に押す",null,null,null,null,null,null,null,null,null,null,null,"●時刻別平均外気湿球温度表記載の数値は、選択された都道府県の県庁所在地等の月別、時刻別平均外気湿球温度"]
[null,null,null,null,null,"手順4：黄色のセルに値を入力する(緑は自動計算)",null,null,null,null,null,null,null,null,null,null,null,"●本データは気象庁発表の1992年4月1日から2022年3月31日までの30年の1時間データを整理したもの"]
[null,null,"時刻別平均外気湿球温度[℃]",null,null,null,null,null,null,null,null,null,null,null,null,null,null,"●2月はうるう日を含みます"]
[null,null,null,null,null,null,null,null,null,null,null,null,null,null,null,null,null,null,null,null,null,null,null,null,null,null,null,{"$f":"SUM($AB$11:$AB$23)","v":0},{"$f":"必ずこのシートから始めてください!M3","v":"Ver.1.0"}]
[null,null,"月",0,1,2,3,4,5,6,7,8,9,10,11,12,13,14,15,16,17,18,19,20,21,22,23,"運転日数","月"]
[null,null,4,{"$f":"IFERROR(INDIRECT($C$4&\"!B5\"),\"\")","v":""},{"$f":"IFERROR(INDIRECT($C$4&\"!C5\"),\"\")","v":""},{"$f":"IFERROR(INDIRECT($C$4&\"!D5\"),\"\")","v":""},{"$f":"IFERROR(INDIRECT($C$4&\"!E5\"),\"\")","v":""},{"$f":"IFERROR(INDIRECT($C$4&\"!F5\"),\"\")","v":""},{"$f":"IFERROR(INDIRECT($C$4&\"!G5\"),\"\")","v":""},{"$f":"IFERROR(INDIRECT($C$4&\"!H5\"),\"\")","v":""},{"$f":"IFERROR(INDIRECT($C$4&\"!I5\"),\"\")","v":""},{"$f":"IFERROR(INDIRECT($C$4&\"!J5\"),\"\")","v":""},{"$f":"IFERROR(INDIRECT($C$4&\"!K5\"),\"\")","v":""},{"$f":"IFERROR(INDIRECT($C$4&\"!L5\"),\"\")","v":""},{"$f":"IFERROR(INDIRECT($C$4&\"!M5\"),\"\")","v":""},{"$f":"IFERROR(INDIRECT($C$4&\"!N5\"),\"\")","v":""},{"$f":"IFERROR(INDIRECT($C$4&\"!O5\"),\"\")","v":""},{"$f":"IFERROR(INDIRECT($C$4&\"!P5\"),\"\")","v":""},{"$f":"IFERROR(INDIRECT($C$4&\"!Q5\"),\"\")","v":""},{"$f":"IFERROR(INDIRECT($C$4&\"!R5\"),\"\")","v":""},{"$f":"IFERROR(INDIRECT($C$4&\"!S5\"),\"\")","v":""},{"$f":"IFERROR(INDIRECT($C$4&\"!T5\"),\"\")","v":""},{"$f":"IFERROR(INDIRECT($C$4&\"!U5\"),\"\")","v":""},{"$f":"IFERROR(INDIRECT($C$4&\"!V5\"),\"\")","v":""},{"$f":"IFERROR(INDIRECT($C$4&\"!W5\"),\"\")","v":""},{"$f":"IFERROR(INDIRECT($C$4&\"!X5\"),\"\")","v":""},{"$f":"IFERROR(INDIRECT($C$4&\"!Y5\"),\"\")","v":""},null,4]
[null,null,5,{"$f":"IFERROR(INDIRECT($C$4&\"!B6\"),\"\")","v":""},{"$f":"IFERROR(INDIRECT($C$4&\"!C6\"),\"\")","v":""},{"$f":"IFERROR(INDIRECT($C$4&\"!D6\"),\"\")","v":""},{"$f":"IFERROR(INDIRECT($C$4&\"!E6\"),\"\")","v":""},{"$f":"IFERROR(INDIRECT($C$4&\"!F6\"),\"\")","v":""},{"$f":"IFERROR(INDIRECT($C$4&\"!G6\"),\"\")","v":""},{"$f":"IFERROR(INDIRECT($C$4&\"!H6\"),\"\")","v":""},{"$f":"IFERROR(INDIRECT($C$4&\"!I6\"),\"\")","v":""},{"$f":"IFERROR(INDIRECT($C$4&\"!J6\"),\"\")","v":""},{"$f":"IFERROR(INDIRECT($C$4&\"!K6\"),\"\")","v":""},{"$f":"IFERROR(INDIRECT($C$4&\"!L6\"),\"\")","v":""},{"$f":"IFERROR(INDIRECT($C$4&\"!M6\"),\"\")","v":""},{"$f":"IFERROR(INDIRECT($C$4&\"!N6\"),\"\")","v":""},{"$f":"IFERROR(INDIRECT($C$4&\"!O6\"),\"\")","v":""},{"$f":"IFERROR(INDIRECT($C$4&\"!P6\"),\"\")","v":""},{"$f":"IFERROR(INDIRECT($C$4&\"!Q6\"),\"\")","v":""},{"$f":"IFERROR(INDIRECT($C$4&\"!R6\"),\"\")","v":""},{"$f":"IFERROR(INDIRECT($C$4&\"!S6\"),\"\")","v":""},{"$f":"IFERROR(INDIRECT($C$4&\"!T6\"),\"\")","v":""},{"$f":"IFERROR(INDIRECT($C$4&\"!U6\"),\"\")","v":""},{"$f":"IFERROR(INDIRECT($C$4&\"!V6\"),\"\")","v":""},{"$f":"IFERROR(INDIRECT($C$4&\"!W6\"),\"\")","v":""},{"$f":"IFERROR(INDIRECT($C$4&\"!X6\"),\"\")","v":""},{"$f":"IFERROR(INDIRECT($C$4&\"!Y6\"),\"\")","v":""},null,5]
[null,null,6,{"$f":"IFERROR(INDIRECT($C$4&\"!B7\"),\"\")","v":""},{"$f":"IFERROR(INDIRECT($C$4&\"!C7\"),\"\")","v":""},{"$f":"IFERROR(INDIRECT($C$4&\"!D7\"),\"\")","v":""},{"$f":"IFERROR(INDIRECT($C$4&\"!E7\"),\"\")","v":""},{"$f":"IFERROR(INDIRECT($C$4&\"!F7\"),\"\")","v":""},{"$f":"IFERROR(INDIRECT($C$4&\"!G7\"),\"\")","v":""},{"$f":"IFERROR(INDIRECT($C$4&\"!H7\"),\"\")","v":""},{"$f":"IFERROR(INDIRECT($C$4&\"!I7\"),\"\")","v":""},{"$f":"IFERROR(INDIRECT($C$4&\"!J7\"),\"\")","v":""},{"$f":"IFERROR(INDIRECT($C$4&\"!K7\"),\"\")","v":""},{"$f":"IFERROR(INDIRECT($C$4&\"!L7\"),\"\")","v":""},{"$f":"IFERROR(INDIRECT($C$4&\"!M7\"),\"\")","v":""},{"$f":"IFERROR(INDIRECT($C$4&\"!N7\"),\"\")","v":""},{"$f":"IFERROR(INDIRECT($C$4&\"!O7\"),\"\")","v":""},{"$f":"IFERROR(INDIRECT($C$4&\"!P7\"),\"\")","v":""},{"$f":"IFERROR(INDIRECT($C$4&\"!Q7\"),\"\")","v":""},{"$f":"IFERROR(INDIRECT($C$4&\"!R7\"),\"\")","v":""},{"$f":"IFERROR(INDIRECT($C$4&\"!S7\"),\"\")","v":""},{"$f":"IFERROR(INDIRECT($C$4&\"!T7\"),\"\")","v":""},{"$f":"IFERROR(INDIRECT($C$4&\"!U7\"),\"\")","v":""},{"$f":"IFERROR(INDIRECT($C$4&\"!V7\"),\"\")","v":""},{"$f":"IFERROR(INDIRECT($C$4&\"!W7\"),\"\")","v":""},{"$f":"IFERROR(INDIRECT($C$4&\"!X7\"),\"\")","v":""},{"$f":"IFERROR(INDIRECT($C$4&\"!Y7\"),\"\")","v":""},null,6]
[null,null,7,{"$f":"IFERROR(INDIRECT($C$4&\"!B8\"),\"\")","v":""},{"$f":"IFERROR(INDIRECT($C$4&\"!C8\"),\"\")","v":""},{"$f":"IFERROR(INDIRECT($C$4&\"!D8\"),\"\")","v":""},{"$f":"IFERROR(INDIRECT($C$4&\"!E8\"),\"\")","v":""},{"$f":"IFERROR(INDIRECT($C$4&\"!F8\"),\"\")","v":""},{"$f":"IFERROR(INDIRECT($C$4&\"!G8\"),\"\")","v":""},{"$f":"IFERROR(INDIRECT($C$4&\"!H8\"),\"\")","v":""},{"$f":"IFERROR(INDIRECT($C$4&\"!I8\"),\"\")","v":""},{"$f":"IFERROR(INDIRECT($C$4&\"!J8\"),\"\")","v":""},{"$f":"IFERROR(INDIRECT($C$4&\"!K8\"),\"\")","v":""},{"$f":"IFERROR(INDIRECT($C$4&\"!L8\"),\"\")","v":""},{"$f":"IFERROR(INDIRECT($C$4&\"!M8\"),\"\")","v":""},{"$f":"IFERROR(INDIRECT($C$4&\"!N8\"),\"\")","v":""},{"$f":"IFERROR(INDIRECT($C$4&\"!O8\"),\"\")","v":""},{"$f":"IFERROR(INDIRECT($C$4&\"!P8\"),\"\")","v":""},{"$f":"IFERROR(INDIRECT($C$4&\"!Q8\"),\"\")","v":""},{"$f":"IFERROR(INDIRECT($C$4&\"!R8\"),\"\")","v":""},{"$f":"IFERROR(INDIRECT($C$4&\"!S8\"),\"\")","v":""},{"$f":"IFERROR(INDIRECT($C$4&\"!T8\"),\"\")","v":""},{"$f":"IFERROR(INDIRECT($C$4&\"!U8\"),\"\")","v":""},{"$f":"IFERROR(INDIRECT($C$4&\"!V8\"),\"\")","v":""},{"$f":"IFERROR(INDIRECT($C$4&\"!W8\"),\"\")","v":""},{"$f":"IFERROR(INDIRECT($C$4&\"!X8\"),\"\")","v":""},{"$f":"IFERROR(INDIRECT($C$4&\"!Y8\"),\"\")","v":""},null,7]
[null,null,8,{"$f":"IFERROR(INDIRECT($C$4&\"!B9\"),\"\")","v":""},{"$f":"IFERROR(INDIRECT($C$4&\"!C9\"),\"\")","v":""},{"$f":"IFERROR(INDIRECT($C$4&\"!D9\"),\"\")","v":""},{"$f":"IFERROR(INDIRECT($C$4&\"!E9\"),\"\")","v":""},{"$f":"IFERROR(INDIRECT($C$4&\"!F9\"),\"\")","v":""},{"$f":"IFERROR(INDIRECT($C$4&\"!G9\"),\"\")","v":""},{"$f":"IFERROR(INDIRECT($C$4&\"!H9\"),\"\")","v":""},{"$f":"IFERROR(INDIRECT($C$4&\"!I9\"),\"\")","v":""},{"$f":"IFERROR(INDIRECT($C$4&\"!J9\"),\"\")","v":""},{"$f":"IFERROR(INDIRECT($C$4&\"!K9\"),\"\")","v":""},{"$f":"IFERROR(INDIRECT($C$4&\"!L9\"),\"\")","v":""},{"$f":"IFERROR(INDIRECT($C$4&\"!M9\"),\"\")","v":""},{"$f":"IFERROR(INDIRECT($C$4&\"!N9\"),\"\")","v":""},{"$f":"IFERROR(INDIRECT($C$4&\"!O9\"),\"\")","v":""},{"$f":"IFERROR(INDIRECT($C$4&\"!P9\"),\"\")","v":""},{"$f":"IFERROR(INDIRECT($C$4&\"!Q9\"),\"\")","v":""},{"$f":"IFERROR(INDIRECT($C$4&\"!R9\"),\"\")","v":""},{"$f":"IFERROR(INDIRECT($C$4&\"!S9\"),\"\")","v":""},{"$f":"IFERROR(INDIRECT($C$4&\"!T9\"),\"\")","v":""},{"$f":"IFERROR(INDIRECT($C$4&\"!U9\"),\"\")","v":""},{"$f":"IFERROR(INDIRECT($C$4&\"!V9\"),\"\")","v":""},{"$f":"IFERROR(INDIRECT($C$4&\"!W9\"),\"\")","v":""},{"$f":"IFERROR(INDIRECT($C$4&\"!X9\"),\"\")","v":""},{"$f":"IFERROR(INDIRECT($C$4&\"!Y9\"),\"\")","v":""},null,8]
[null,null,9,{"$f":"IFERROR(INDIRECT($C$4&\"!B10\"),\"\")","v":""},{"$f":"IFERROR(INDIRECT($C$4&\"!C10\"),\"\")","v":""},{"$f":"IFERROR(INDIRECT($C$4&\"!D10\"),\"\")","v":""},{"$f":"IFERROR(INDIRECT($C$4&\"!E10\"),\"\")","v":""},{"$f":"IFERROR(INDIRECT($C$4&\"!F10\"),\"\")","v":""},{"$f":"IFERROR(INDIRECT($C$4&\"!G10\"),\"\")","v":""},{"$f":"IFERROR(INDIRECT($C$4&\"!H10\"),\"\")","v":""},{"$f":"IFERROR(INDIRECT($C$4&\"!I10\"),\"\")","v":""},{"$f":"IFERROR(INDIRECT($C$4&\"!J10\"),\"\")","v":""},{"$f":"IFERROR(INDIRECT($C$4&\"!K10\"),\"\")","v":""},{"$f":"IFERROR(INDIRECT($C$4&\"!L10\"),\"\")","v":""},{"$f":"IFERROR(INDIRECT($C$4&\"!M10\"),\"\")","v":""},{"$f":"IFERROR(INDIRECT($C$4&\"!N10\"),\"\")","v":""},{"$f":"IFERROR(INDIRECT($C$4&\"!O10\"),\"\")","v":""},{"$f":"IFERROR(INDIRECT($C$4&\"!P10\"),\"\")","v":""},{"$f":"IFERROR(INDIRECT($C$4&\"!Q10\"),\"\")","v":""},{"$f":"IFERROR(INDIRECT($C$4&\"!R10\"),\"\")","v":""},{"$f":"IFERROR(INDIRECT($C$4&\"!S10\"),\"\")","v":""},{"$f":"IFERROR(INDIRECT($C$4&\"!T10\"),\"\")","v":""},{"$f":"IFERROR(INDIRECT($C$4&\"!U10\"),\"\")","v":""},{"$f":"IFERROR(INDIRECT($C$4&\"!V10\"),\"\")","v":""},{"$f":"IFERROR(INDIRECT($C$4&\"!W10\"),\"\")","v":""},{"$f":"IFERROR(INDIRECT($C$4&\"!X10\"),\"\")","v":""},{"$f":"IFERROR(INDIRECT($C$4&\"!Y10\"),\"\")","v":""},null,9]
[null,null,10,{"$f":"IFERROR(INDIRECT($C$4&\"!B11\"),\"\")","v":""},{"$f":"IFERROR(INDIRECT($C$4&\"!C11\"),\"\")","v":""},{"$f":"IFERROR(INDIRECT($C$4&\"!D11\"),\"\")","v":""},{"$f":"IFERROR(INDIRECT($C$4&\"!E11\"),\"\")","v":""},{"$f":"IFERROR(INDIRECT($C$4&\"!F11\"),\"\")","v":""},{"$f":"IFERROR(INDIRECT($C$4&\"!G11\"),\"\")","v":""},{"$f":"IFERROR(INDIRECT($C$4&\"!H11\"),\"\")","v":""},{"$f":"IFERROR(INDIRECT($C$4&\"!I11\"),\"\")","v":""},{"$f":"IFERROR(INDIRECT($C$4&\"!J11\"),\"\")","v":""},{"$f":"IFERROR(INDIRECT($C$4&\"!K11\"),\"\")","v":""},{"$f":"IFERROR(INDIRECT($C$4&\"!L11\"),\"\")","v":""},{"$f":"IFERROR(INDIRECT($C$4&\"!M11\"),\"\")","v":""},{"$f":"IFERROR(INDIRECT($C$4&\"!N11\"),\"\")","v":""},{"$f":"IFERROR(INDIRECT($C$4&\"!O11\"),\"\")","v":""},{"$f":"IFERROR(INDIRECT($C$4&\"!P11\"),\"\")","v":""},{"$f":"IFERROR(INDIRECT($C$4&\"!Q11\"),\"\")","v":""},{"$f":"IFERROR(INDIRECT($C$4&\"!R11\"),\"\")","v":""},{"$f":"IFERROR(INDIRECT($C$4&\"!S11\"),\"\")","v":""},{"$f":"IFERROR(INDIRECT($C$4&\"!T11\"),\"\")","v":""},{"$f":"IFERROR(INDIRECT($C$4&\"!U11\"),\"\")","v":""},{"$f":"IFERROR(INDIRECT($C$4&\"!V11\"),\"\")","v":""},{"$f":"IFERROR(INDIRECT($C$4&\"!W11\"),\"\")","v":""},{"$f":"IFERROR(INDIRECT($C$4&\"!X11\"),\"\")","v":""},{"$f":"IFERROR(INDIRECT($C$4&\"!Y11\"),\"\")","v":""},null,10]
[null,null,11,{"$f":"IFERROR(INDIRECT($C$4&\"!B12\"),\"\")","v":""},{"$f":"IFERROR(INDIRECT($C$4&\"!C12\"),\"\")","v":""},{"$f":"IFERROR(INDIRECT($C$4&\"!D12\"),\"\")","v":""},{"$f":"IFERROR(INDIRECT($C$4&\"!E12\"),\"\")","v":""},{"$f":"IFERROR(INDIRECT($C$4&\"!F12\"),\"\")","v":""},{"$f":"IFERROR(INDIRECT($C$4&\"!G12\"),\"\")","v":""},{"$f":"IFERROR(INDIRECT($C$4&\"!H12\"),\"\")","v":""},{"$f":"IFERROR(INDIRECT($C$4&\"!I12\"),\"\")","v":""},{"$f":"IFERROR(INDIRECT($C$4&\"!J12\"),\"\")","v":""},{"$f":"IFERROR(INDIRECT($C$4&\"!K12\"),\"\")","v":""},{"$f":"IFERROR(INDIRECT($C$4&\"!L12\"),\"\")","v":""},{"$f":"IFERROR(INDIRECT($C$4&\"!M12\"),\"\")","v":""},{"$f":"IFERROR(INDIRECT($C$4&\"!N12\"),\"\")","v":""},{"$f":"IFERROR(INDIRECT($C$4&\"!O12\"),\"\")","v":""},{"$f":"IFERROR(INDIRECT($C$4&\"!P12\"),\"\")","v":""},{"$f":"IFERROR(INDIRECT($C$4&\"!Q12\"),\"\")","v":""},{"$f":"IFERROR(INDIRECT($C$4&\"!R12\"),\"\")","v":""},{"$f":"IFERROR(INDIRECT($C$4&\"!S12\"),\"\")","v":""},{"$f":"IFERROR(INDIRECT($C$4&\"!T12\"),\"\")","v":""},{"$f":"IFERROR(INDIRECT($C$4&\"!U12\"),\"\")","v":""},{"$f":"IFERROR(INDIRECT($C$4&\"!V12\"),\"\")","v":""},{"$f":"IFERROR(INDIRECT($C$4&\"!W12\"),\"\")","v":""},{"$f":"IFERROR(INDIRECT($C$4&\"!X12\"),\"\")","v":""},{"$f":"IFERROR(INDIRECT($C$4&\"!Y12\"),\"\")","v":""},null,11]
[null,null,12,{"$f":"IFERROR(INDIRECT($C$4&\"!B13\"),\"\")","v":""},{"$f":"IFERROR(INDIRECT($C$4&\"!C13\"),\"\")","v":""},{"$f":"IFERROR(INDIRECT($C$4&\"!D13\"),\"\")","v":""},{"$f":"IFERROR(INDIRECT($C$4&\"!E13\"),\"\")","v":""},{"$f":"IFERROR(INDIRECT($C$4&\"!F13\"),\"\")","v":""},{"$f":"IFERROR(INDIRECT($C$4&\"!G13\"),\"\")","v":""},{"$f":"IFERROR(INDIRECT($C$4&\"!H13\"),\"\")","v":""},{"$f":"IFERROR(INDIRECT($C$4&\"!I13\"),\"\")","v":""},{"$f":"IFERROR(INDIRECT($C$4&\"!J13\"),\"\")","v":""},{"$f":"IFERROR(INDIRECT($C$4&\"!K13\"),\"\")","v":""},{"$f":"IFERROR(INDIRECT($C$4&\"!L13\"),\"\")","v":""},{"$f":"IFERROR(INDIRECT($C$4&\"!M13\"),\"\")","v":""},{"$f":"IFERROR(INDIRECT($C$4&\"!N13\"),\"\")","v":""},{"$f":"IFERROR(INDIRECT($C$4&\"!O13\"),\"\")","v":""},{"$f":"IFERROR(INDIRECT($C$4&\"!P13\"),\"\")","v":""},{"$f":"IFERROR(INDIRECT($C$4&\"!Q13\"),\"\")","v":""},{"$f":"IFERROR(INDIRECT($C$4&\"!R13\"),\"\")","v":""},{"$f":"IFERROR(INDIRECT($C$4&\"!S13\"),\"\")","v":""},{"$f":"IFERROR(INDIRECT($C$4&\"!T13\"),\"\")","v":""},{"$f":"IFERROR(INDIRECT($C$4&\"!U13\"),\"\")","v":""},{"$f":"IFERROR(INDIRECT($C$4&\"!V13\"),\"\")","v":""},{"$f":"IFERROR(INDIRECT($C$4&\"!W13\"),\"\")","v":""},{"$f":"IFERROR(INDIRECT($C$4&\"!X13\"),\"\")","v":""},{"$f":"IFERROR(INDIRECT($C$4&\"!Y13\"),\"\")","v":""},null,12]
[null,null,1,{"$f":"IFERROR(INDIRECT($C$4&\"!B14\"),\"\")","v":""},{"$f":"IFERROR(INDIRECT($C$4&\"!C14\"),\"\")","v":""},{"$f":"IFERROR(INDIRECT($C$4&\"!D14\"),\"\")","v":""},{"$f":"IFERROR(INDIRECT($C$4&\"!E14\"),\"\")","v":""},{"$f":"IFERROR(INDIRECT($C$4&\"!F14\"),\"\")","v":""},{"$f":"IFERROR(INDIRECT($C$4&\"!G14\"),\"\")","v":""},{"$f":"IFERROR(INDIRECT($C$4&\"!H14\"),\"\")","v":""},{"$f":"IFERROR(INDIRECT($C$4&\"!I14\"),\"\")","v":""},{"$f":"IFERROR(INDIRECT($C$4&\"!J14\"),\"\")","v":""},{"$f":"IFERROR(INDIRECT($C$4&\"!K14\"),\"\")","v":""},{"$f":"IFERROR(INDIRECT($C$4&\"!L14\"),\"\")","v":""},{"$f":"IFERROR(INDIRECT($C$4&\"!M14\"),\"\")","v":""},{"$f":"IFERROR(INDIRECT($C$4&\"!N14\"),\"\")","v":""},{"$f":"IFERROR(INDIRECT($C$4&\"!O14\"),\"\")","v":""},{"$f":"IFERROR(INDIRECT($C$4&\"!P14\"),\"\")","v":""},{"$f":"IFERROR(INDIRECT($C$4&\"!Q14\"),\"\")","v":""},{"$f":"IFERROR(INDIRECT($C$4&\"!R14\"),\"\")","v":""},{"$f":"IFERROR(INDIRECT($C$4&\"!S14\"),\"\")","v":""},{"$f":"IFERROR(INDIRECT($C$4&\"!T14\"),\"\")","v":""},{"$f":"IFERROR(INDIRECT($C$4&\"!U14\"),\"\")","v":""},{"$f":"IFERROR(INDIRECT($C$4&\"!V14\"),\"\")","v":""},{"$f":"IFERROR(INDIRECT($C$4&\"!W14\"),\"\")","v":""},{"$f":"IFERROR(INDIRECT($C$4&\"!X14\"),\"\")","v":""},{"$f":"IFERROR(INDIRECT($C$4&\"!Y14\"),\"\")","v":""},null,1]
[null,null,2,{"$f":"IFERROR(INDIRECT($C$4&\"!B15\"),\"\")","v":""},{"$f":"IFERROR(INDIRECT($C$4&\"!C15\"),\"\")","v":""},{"$f":"IFERROR(INDIRECT($C$4&\"!D15\"),\"\")","v":""},{"$f":"IFERROR(INDIRECT($C$4&\"!E15\"),\"\")","v":""},{"$f":"IFERROR(INDIRECT($C$4&\"!F15\"),\"\")","v":""},{"$f":"IFERROR(INDIRECT($C$4&\"!G15\"),\"\")","v":""},{"$f":"IFERROR(INDIRECT($C$4&\"!H15\"),\"\")","v":""},{"$f":"IFERROR(INDIRECT($C$4&\"!I15\"),\"\")","v":""},{"$f":"IFERROR(INDIRECT($C$4&\"!J15\"),\"\")","v":""},{"$f":"IFERROR(INDIRECT($C$4&\"!K15\"),\"\")","v":""},{"$f":"IFERROR(INDIRECT($C$4&\"!L15\"),\"\")","v":""},{"$f":"IFERROR(INDIRECT($C$4&\"!M15\"),\"\")","v":""},{"$f":"IFERROR(INDIRECT($C$4&\"!N15\"),\"\")","v":""},{"$f":"IFERROR(INDIRECT($C$4&\"!O15\"),\"\")","v":""},{"$f":"IFERROR(INDIRECT($C$4&\"!P15\"),\"\")","v":""},{"$f":"IFERROR(INDIRECT($C$4&\"!Q15\"),\"\")","v":""},{"$f":"IFERROR(INDIRECT($C$4&\"!R15\"),\"\")","v":""},{"$f":"IFERROR(INDIRECT($C$4&\"!S15\"),\"\")","v":""},{"$f":"IFERROR(INDIRECT($C$4&\"!T15\"),\"\")","v":""},{"$f":"IFERROR(INDIRECT($C$4&\"!U15\"),\"\")","v":""},{"$f":"IFERROR(INDIRECT($C$4&\"!V15\"),\"\")","v":""},{"$f":"IFERROR(INDIRECT($C$4&\"!W15\"),\"\")","v":""},{"$f":"IFERROR(INDIRECT($C$4&\"!X15\"),\"\")","v":""},{"$f":"IFERROR(INDIRECT($C$4&\"!Y15\"),\"\")","v":""},null,2]
[null,null,3,{"$f":"IFERROR(INDIRECT($C$4&\"!B16\"),\"\")","v":""},{"$f":"IFERROR(INDIRECT($C$4&\"!C16\"),\"\")","v":""},{"$f":"IFERROR(INDIRECT($C$4&\"!D16\"),\"\")","v":""},{"$f":"IFERROR(INDIRECT($C$4&\"!E16\"),\"\")","v":""},{"$f":"IFERROR(INDIRECT($C$4&\"!F16\"),\"\")","v":""},{"$f":"IFERROR(INDIRECT($C$4&\"!G16\"),\"\")","v":""},{"$f":"IFERROR(INDIRECT($C$4&\"!H16\"),\"\")","v":""},{"$f":"IFERROR(INDIRECT($C$4&\"!I16\"),\"\")","v":""},{"$f":"IFERROR(INDIRECT($C$4&\"!J16\"),\"\")","v":""},{"$f":"IFERROR(INDIRECT($C$4&\"!K16\"),\"\")","v":""},{"$f":"IFERROR(INDIRECT($C$4&\"!L16\"),\"\")","v":""},{"$f":"IFERROR(INDIRECT($C$4&\"!M16\"),\"\")","v":""},{"$f":"IFERROR(INDIRECT($C$4&\"!N16\"),\"\")","v":""},{"$f":"IFERROR(INDIRECT($C$4&\"!O16\"),\"\")","v":""},{"$f":"IFERROR(INDIRECT($C$4&\"!P16\"),\"\")","v":""},{"$f":"IFERROR(INDIRECT($C$4&\"!Q16\"),\"\")","v":""},{"$f":"IFERROR(INDIRECT($C$4&\"!R16\"),\"\")","v":""},{"$f":"IFERROR(INDIRECT($C$4&\"!S16\"),\"\")","v":""},{"$f":"IFERROR(INDIRECT($C$4&\"!T16\"),\"\")","v":""},{"$f":"IFERROR(INDIRECT($C$4&\"!U16\"),\"\")","v":""},{"$f":"IFERROR(INDIRECT($C$4&\"!V16\"),\"\")","v":""},{"$f":"IFERROR(INDIRECT($C$4&\"!W16\"),\"\")","v":""},{"$f":"IFERROR(INDIRECT($C$4&\"!X16\"),\"\")","v":""},{"$f":"IFERROR(INDIRECT($C$4&\"!Y16\"),\"\")","v":""},null,3]
[]
[null,null,null,"定格条件\n【冷却】",null,"冷却水","入口温度","30℃","冷水","入口温度","12℃",null,"暖房設計外気温度",null,null,"Td",-5,"℃",null,"定格条件\n【加熱】",null,"熱源水","入口温度","15℃(不定)",null,"温水","入口温度","40℃"]
[null,null,null,null,null,null,"出口温度","35℃",null,"出口温度","7℃",null,"設計加熱能力",null,null,"Φwd",180,"kW",null,null,null,null,"出口温度","10℃(不定)",null,null,"出口温度","45℃"]
[]
[null,null,null,"設備導入前",null,null,null,null,null,null,null,null,null,null,null,null,"前1","前2","前3"]
[null,null,null,null,"定格冷却能力",null,null,null,"水冷HPチラーの仕様を入力",null,null,null,null,null,null,"Φco",150,null,null,"kW"]
[null,null,null,null,"定格冷却消費電力",null,null,null,"水冷HPチラーの仕様を入力",null,null,null,null,null,null,"Pco",30,null,null,"kW"]
[null,null,null,null,"定格冷却COP",null,null,null,"自動計算",null,null,null,null,null,null,"σco",{"$f":"IFERROR(Q$29/Q$30,\"\")","v":5},{"$f":"IFERROR(R$29/R$30,\"\")","v":""},{"$f":"IFERROR(S$29/S$30,\"\")","v":""},"σco＝Φco／Pco"]
[null,null,null,null,"定格加熱能力",null,null,null,"水冷HPチラーの仕様を入力",null,null,null,null,null,null,"Φwo",180,null,null,"kW"]
[null,null,null,null,"定格加熱消費電力",null,null,null,"水冷HPチラーの仕様を入力",null,null,null,null,null,null,"Pwo",34.299999999999997,null,null,"kW"]
[null,null,null,null,"定格加熱COP",null,null,null,"自動計算",null,null,null,null,null,null,"σwo",{"$f":"IFERROR(Q$32/Q$33,\"\")","v":5.2478134110787176},{"$f":"IFERROR(R$32/R$33,\"\")","v":""},{"$f":"IFERROR(S$32/S$33,\"\")","v":""},"σwo＝Φwo／Pwo"]
[null,null,null,null,"冷却塔ファンモータ定格出力",null,null,null,"水冷HPチラーの仕様を入力",null,null,null,null,null,null,"Pf",1.5,null,null,"kW"]
[null,null,null,null,"冷却水ポンプ定格出力",null,null,null,"水冷HPチラーの仕様を入力",null,null,null,null,null,null,"Pp1",3.7,null,null,"kW"]
[null,null,null,null,"冷温水ポンプ定格出力",null,null,null,"水冷HPチラーの仕様を入力",null,null,null,null,null,null,"Pp2",2.2000000000000002,null,null,"kW"]
[null,null,null,null,"暖房時熱源水ポンプ定格出力",null,null,null,"水冷HPチラーの仕様を入力",null,null,null,null,null,null,"Pps1",2.2000000000000002,null,null,"kW"]
[]
[]
[]
[null,null,null,"設備導入後",null,null,null,null,null,null,null,null,null,null,null,null,"後1","後2","後3"]
[null,null,null,null,"定格冷却能力",null,null,null,"水冷HPチラーの仕様を入力",null,null,null,null,null,null,"Φco",null,null,null,"kW"]
[null,null,null,null,"定格冷却消費電力",null,null,null,"水冷HPチラーの仕様を入力",null,null,null,null,null,null,"Pco",null,null,null,"kW"]
[null,null,null,null,"定格冷却COP",null,null,null,"自動計算",null,null,null,null,null,null,"σco",{"$f":"IFERROR(Q43/Q44,\"\")","v":""},{"$f":"IFERROR(R43/R44,\"\")","v":""},{"$f":"IFERROR(S43/S44,\"\")","v":""},"σco＝Φco／Pco"]
[null,null,null,null,"定格加熱能力",null,null,null,"水冷HPチラーの仕様を入力",null,null,null,null,null,null,"Φwo",null,null,null,"kW"]
[null,null,null,null,"定格加熱消費電力",null,null,null,"水冷HPチラーの仕様を入力",null,null,null,null,null,null,"Pwo",null,null,null,"kW"]
[null,null,null,null,"定格加熱COP",null,null,null,"自動計算",null,null,null,null,null,null,"σwo",{"$f":"IFERROR(Q$46/Q$47,\"\")","v":""},{"$f":"IFERROR(R$46/R$47,\"\")","v":""},{"$f":"IFERROR(S$46/S$47,\"\")","v":""},"σwo＝Φwo／Pwo"]
[null,null,null,null,"冷却塔ファンモータ定格出力",null,null,null,"水冷HPチラーの仕様を入力",null,null,null,null,null,null,"Pf",null,null,null,"kW"]
[null,null,null,null,"冷却水ポンプ定格出力",null,null,null,"水冷HPチラーの仕様を入力",null,null,null,null,null,null,"Pp1",null,null,null,"kW"]
[null,null,null,null,"冷温水ポンプ定格出力",null,null,null,"水冷HPチラーの仕様を入力",null,null,null,null,null,null,"Pp2",null,null,null,"kW"]
[null,null,null,null,"暖房時熱源水ポンプ定格出力",null,null,null,"水冷HPチラーの仕様を入力",null,null,null,null,null,null,"Pps1",null,null,null,"kW"]
[]
[]
[]
[null,null,"設備導入前年間電力使用量[kWh]"]
[null,null,null,"冷却(Ec)",null,"加熱(Ew)",null,"合計(Ecw)"]
[null,null,null,{"$f":"IFERROR($F$74+$M$74+$T$74,\"\")","v":0},null,{"$f":"IFERROR($I$74+$P$74+$W$74,\"\")","v":0},null,{"$f":"IFERROR($J$74+$Q$74+$X$74,\"\")","v":0}]
[]
[null,null,null,"前1",null,null,null,null,null,null,"前2",null,null,null,null,null,null,"前3"]
[null,null,"月    期間","主機(Ecc)","補機(Eaxc)","全体(Ec)","主機(Eww)","補機(Eaxw)","全体(Ew)","月合計","主機(Ecc)","補機(Eaxc)","全体(Ec)","主機(Eww)","補機(Eaxw)","全体(Ew)","月合計","主機(Ecc)","補機(Eaxc)","全体(Ec)","主機(Eww)","補機(Eaxw)","全体(Ew)","月合計"]
[null,null,4,{"$f":"IF($C$7=\"---\",\"\",IFERROR(AX149,\"\"))","v":""},{"$f":"IF($C$7=\"---\",\"\",IFERROR(AY149,\"\"))","v":""},"",{"$f":"IF($C$7=\"---\",\"\",IFERROR(AX171,\"\"))","v":""},{"$f":"IF($C$7=\"---\",\"\",IFERROR(AY171,\"\"))","v":""},{"$f":"IF($C$7=\"---\",\"\",IFERROR(AZ171,\"\"))","v":""},{"$f":"IFERROR(SUM(F62+I62),\"\")","v":""},{"$f":"IF($C$7=\"---\",\"\",IFERROR($BA149,\"\"))","v":""},{"$f":"IF($C$7=\"---\",\"\",IFERROR($BB149,\"\"))","v":""},{"$f":"IF($C$7=\"---\",\"\",IFERROR($BC149,\"\"))","v":""},{"$f":"IF($C$7=\"---\",\"\",IFERROR(BA171,\"\"))","v":""},{"$f":"IF($C$7=\"---\",\"\",IFERROR(BB171,\"\"))","v":""},{"$f":"IF($C$7=\"---\",\"\",IFERROR(BC171,\"\"))","v":""},{"$f":"IFERROR(SUM(M62+P62),\"\")","v":""},{"$f":"IF($C$7=\"---\",\"\",IFERROR($BD149,\"\"))","v":""},{"$f":"IF($C$7=\"---\",\"\",IFERROR($BE149,\"\"))","v":""},{"$f":"IF($C$7=\"---\",\"\",IFERROR($BF149,\"\"))","v":""},{"$f":"IF($C$7=\"---\",\"\",IFERROR(BD171,\"\"))","v":""},{"$f":"IF($C$7=\"---\",\"\",IFERROR(BE171,\"\"))","v":""},{"$f":"IF($C$7=\"---\",\"\",IFERROR(BF171,\"\"))","v":""},{"$f":"IFERROR(SUM(T62+W62),\"\")","v":""}]
[null,null,5,{"$f":"IF($C$7=\"---\",\"\",IFERROR($AX150,\"\"))","v":""},"","",{"$f":"IF($C$7=\"---\",\"\",IFERROR(AX172,\"\"))","v":""},"","",{"$f":"IFERROR(SUM(F63+I63),\"\")","v":""},{"$f":"IF($C$7=\"---\",\"\",IFERROR($BA150,\"\"))","v":""},{"$f":"IF($C$7=\"---\",\"\",IFERROR($BB150,\"\"))","v":""},{"$f":"IF($C$7=\"---\",\"\",IFERROR($BC150,\"\"))","v":""},{"$f":"IF($C$7=\"---\",\"\",IFERROR(BA172,\"\"))","v":""},"","",{"$f":"IFERROR(SUM(M63+P63),\"\")","v":""},{"$f":"IF($C$7=\"---\",\"\",IFERROR($BD150,\"\"))","v":""},{"$f":"IF($C$7=\"---\",\"\",IFERROR($BE150,\"\"))","v":""},{"$f":"IF($C$7=\"---\",\"\",IFERROR($BF150,\"\"))","v":""},{"$f":"IF($C$7=\"---\",\"\",IFERROR(BD172,\"\"))","v":""},"","",{"$f":"IFERROR(SUM(T63+W63),\"\")","v":""}]
[null,null,6,"","","","","","","","","","","","","","","","","","","","",""]
[null,null,7,"","","","","","","","","","","","","","","","","","","","",""]
[null,null,8,"","","","","","","","","","","","","","","","","","","","",""]
[null,null,9,"","","","","","","","","","","","","","","","","","","","",""]
[null,null,10,"","","","","","","","","","","","","","","","","","","","",""]
[null,null,11,"","","","","","","","","","","","","","","","","","","","",""]
[null,null,12,"","","","","","",{"$f":"IFERROR(SUM(F70+I70),\"\")","v":""},"","","","","","",{"$f":"IFERROR(SUM(M70+P70),\"\")","v":""},"","","","","","",{"$f":"IFERROR(SUM(T70+W70),\"\")","v":""}]
[null,null,1,"","","","","","","","","","","","","","","","","","","","",""]
[null,null,2,"","","","","","",{"$f":"IFERROR(SUM(F72+I72),\"\")","v":""},"","","","","","",{"$f":"IFERROR(SUM(M72+P72),\"\")","v":""},"","","","","","",""]
[null,null,3,"","","","","","",{"$f":"IFERROR(SUM(F73+I73),\"\")","v":""},"","","","","","","","","","","","","",""]
[null,null,"合計",{"$f":"IFERROR(SUM($D$62:$D$73),\"\")","v":0},{"$f":"IFERROR(SUM($E$62:$E$73),\"\")","v":0},{"$f":"IFERROR(SUM(F$62:F$73),\"\")","v":0},0,0,0,0,0,{"$f":"IFERROR(SUM(L$62:L$73),\"\")","v":0},0,0,0,0,0,0,0,{"$f":"IFERROR(SUM(T$62:T$73),\"\")","v":0},0,0,0,0]
[]
[]
[null,null,"設備導入後年間電力使用量[kWh]"]
[null,null,null,"冷却(Ec)",null,"加熱(Ew)",null,"合計(Ecw)"]
[null,null,null,{"$f":"IFERROR($F$95+$M$95+$T$95,\"\")","v":0},null,{"$f":"IFERROR($I$95+$P$95+$W$95,\"\")","v":0},null,{"$f":"IFERROR($J$95+$Q$95+$X$95,\"\")","v":0}]
[]
[null,null,null,"後1",null,null,null,null,null,null,"後2",null,null,null,null,null,null,"後3"]
[null,null,"月    期間","主機(Ecc)","補機(Eaxc)","全体(Ec)","主機(Eww)","補機(Eaxw)","全体(Ew)","月合計","主機(Ecc)","補機(Eaxc)","全体(Ec)","主機(Eww)","補機(Eaxw)","全体(Ew)","月合計","主機(Ecc)","補機(Eaxc)","全体(Ec)","主機(Eww)","補機(Eaxw)","全体(Ew)","月合計"]
[null,null,4,{"$f":"IF($C$7=\"---\",\"\",IFERROR($BH149,\"\"))","v":""},{"$f":"IF($C$7=\"---\",\"\",IFERROR($BI149,\"\"))","v":""},{"$f":"IF($C$7=\"---\",\"\",IFERROR($BJ149,\"\"))","v":""},{"$f":"IF($C$7=\"---\",\"\",IFERROR($BH171,\"\"))","v":""},{"$f":"IF($C$7=\"---\",\"\",IFERROR($BI171,\"\"))","v":""},{"$f":"IF($C$7=\"---\",\"\",IFERROR($BJ171,\"\"))","v":""},{"$f":"IFERROR(SUM(F83+I83),\"\")","v":""},{"$f":"IF($C$7=\"---\",\"\",IFERROR($BK149,\"\"))","v":""},{"$f":"IF($C$7=\"---\",\"\",IFERROR($BL149,\"\"))","v":""},{"$f":"IF($C$7=\"---\",\"\",IFERROR($BM149,\"\"))","v":""},{"$f":"IF($C$7=\"---\",\"\",IFERROR($BK171,\"\"))","v":""},{"$f":"IF($C$7=\"---\",\"\",IFERROR($BL171,\"\"))","v":""},{"$f":"IF($C$7=\"---\",\"\",IFERROR($BM171,\"\"))","v":""},{"$f":"IFERROR(SUM(M83+P83),\"\")","v":""},{"$f":"IF($C$7=\"---\",\"\",IFERROR($BN149,\"\"))","v":""},{"$f":"IF($C$7=\"---\",\"\",IFERROR($BO149,\"\"))","v":""},{"$f":"IF($C$7=\"---\",\"\",IFERROR($BP149,\"\"))","v":""},{"$f":"IF($C$7=\"---\",\"\",IFERROR($BN171,\"\"))","v":""},{"$f":"IF($C$7=\"---\",\"\",IFERROR($BO171,\"\"))","v":""},{"$f":"IF($C$7=\"---\",\"\",IFERROR($BP171,\"\"))","v":""},{"$f":"IFERROR(SUM(T83+W83),\"\")","v":""}]
[null,null,5,{"$f":"IF($C$7=\"---\",\"\",IFERROR($BH150,\"\"))","v":""},{"$f":"IF($C$7=\"---\",\"\",IFERROR($BI150,\"\"))","v":""},{"$f":"IF($C$7=\"---\",\"\",IFERROR($BJ150,\"\"))","v":""},{"$f":"IF($C$7=\"---\",\"\",IFERROR($BH172,\"\"))","v":""},{"$f":"IF($C$7=\"---\",\"\",IFERROR($BI172,\"\"))","v":""},{"$f":"IF($C$7=\"---\",\"\",IFERROR($BJ172,\"\"))","v":""},{"$f":"IFERROR(SUM(F84+I84),\"\")","v":""},{"$f":"IF($C$7=\"---\",\"\",IFERROR($BK150,\"\"))","v":""},{"$f":"IF($C$7=\"---\",\"\",IFERROR($BL150,\"\"))","v":""},{"$f":"IF($C$7=\"---\",\"\",IFERROR($BM150,\"\"))","v":""},{"$f":"IF($C$7=\"---\",\"\",IFERROR($BK172,\"\"))","v":""},{"$f":"IF($C$7=\"---\",\"\",IFERROR($BL172,\"\"))","v":""},{"$f":"IF($C$7=\"---\",\"\",IFERROR($BM172,\"\"))","v":""},{"$f":"IFERROR(SUM(M84+P84),\"\")","v":""},{"$f":"IF($C$7=\"---\",\"\",IFERROR($BN150,\"\"))","v":""},{"$f":"IF($C$7=\"---\",\"\",IFERROR($BO150,\"\"))","v":""},{"$f":"IF($C$7=\"---\",\"\",IFERROR($BP150,\"\"))","v":""},{"$f":"IF($C$7=\"---\",\"\",IFERROR($BN172,\"\"))","v":""},{"$f":"IF($C$7=\"---\",\"\",IFERROR($BO172,\"\"))","v":""},{"$f":"IF($C$7=\"---\",\"\",IFERROR($BP172,\"\"))","v":""},{"$f":"IFERROR(SUM(T84+W84),\"\")","v":""}]
[null,null,6,"","","","","","","","","","","","","","","","","","","","",""]
[null,null,7,"","","","","","","","","","","","","","","","","","","","",""]
[null,null,8,"","","","","","","","","","","","","","","","","","","","",""]
[null,null,9,"","","","","","","","","","","","","","","","","","","","",""]
[null,null,10,"","","","","","","","","","","","","","","","","","","","",""]
[null,null,11,"","","","","","","","","","","","","","","","","","","","",{"$f":"IFERROR(SUM(T90+W90),\"\")","v":""}]
[null,null,12,"","","","","","",{"$f":"IFERROR(SUM(F91+I91),\"\")","v":""},"","","","","","",{"$f":"IFERROR(SUM(M91+P91),\"\")","v":""},"","","","","","",{"$f":"IFERROR(SUM(T91+W91),\"\")","v":""}]
[null,null,1,"","","","","","","","","","","","","","","","","","","","",""]
[null,null,2,"","","","","","","","","","","","","","","","","","","","",""]
[null,null,3,"","","",{"$f":"IF($C$7=\"---\",\"\",IFERROR($BH182,\"\"))","v":""},{"$f":"IF($C$7=\"---\",\"\",IFERROR($BI182,\"\"))","v":""},{"$f":"IF($C$7=\"---\",\"\",IFERROR($BJ182,\"\"))","v":""},"","","","","","","","","","","","","","",""]
[null,null,"合計",{"$f":"IFERROR(SUM(D83:D94),\"\")","v":0},{"$f":"IFERROR(SUM(E83:E94),\"\")","v":0},0,0,0,0,0,0,0,0,0,0,0,0,0,0,0,0,0,0,0]
[]
[]
[null,null,"作業表1(青色のセルを「24」、オレンジ色のセルを「19」として抽出）"]
[null,null,null," 時刻"]
[null,null,"月",0,1,2,3,4,5,6,7,8,9,10,11,12,13,14,15,16,17,18,19,20,21,22,23,"月"]
[null,null,4,{"$f":"CELLCOLOR($D$12)","v":-4142},{"$f":"CELLCOLOR($E$12)","v":-4142},{"$f":"CELLCOLOR($F$12)","v":-4142},{"$f":"CELLCOLOR($G$12)","v":-4142},{"$f":"CELLCOLOR($H$12)","v":-4142},{"$f":"CELLCOLOR($I$12)","v":-4142},{"$f":"CELLCOLOR($J$12)","v":-4142},{"$f":"CELLCOLOR($K$12)","v":-4142},{"$f":"CELLCOLOR($L$12)","v":-4142},{"$f":"CELLCOLOR($M$12)","v":-4142},{"$f":"CELLCOLOR($N$12)","v":-4142},{"$f":"CELLCOLOR($O$12)","v":-4142},{"$f":"CELLCOLOR($P$12)","v":-4142},{"$f":"CELLCOLOR($Q$12)","v":-4142},{"$f":"CELLCOLOR($R$12)","v":-4142},{"$f":"CELLCOLOR($S$12)","v":-4142},{"$f":"CELLCOLOR($T$12)","v":-4142},{"$f":"CELLCOLOR($U$12)","v":-4142},{"$f":"CELLCOLOR($V$12)","v":-4142},{"$f":"CELLCOLOR($W$12)","v":-4142},{"$f":"CELLCOLOR($X$12)","v":-4142},{"$f":"CELLCOLOR($Y$12)","v":-4142},{"$f":"CELLCOLOR($Z$12)","v":-4142},{"$f":"CELLCOLOR($AA$12)","v":-4142},4]
[null,null,5,{"$f":"CELLCOLOR($D$13)","v":-4142},{"$f":"CELLCOLOR($E$13)","v":-4142},{"$f":"CELLCOLOR($F$13)","v":-4142},{"$f":"CELLCOLOR($G$13)","v":-4142},{"$f":"CELLCOLOR($H$13)","v":-4142},{"$f":"CELLCOLOR($I$13)","v":-4142},{"$f":"CELLCOLOR($J$13)","v":-4142},{"$f":"CELLCOLOR($K$13)","v":-4142},{"$f":"CELLCOLOR($L$13)","v":-4142},{"$f":"CELLCOLOR($M$13)","v":-4142},{"$f":"CELLCOLOR($N$13)","v":-4142},{"$f":"CELLCOLOR($O$13)","v":-4142},{"$f":"CELLCOLOR($P$13)","v":-4142},{"$f":"CELLCOLOR($Q$13)","v":-4142},{"$f":"CELLCOLOR($R$13)","v":-4142},{"$f":"CELLCOLOR($S$13)","v":-4142},{"$f":"CELLCOLOR($T$13)","v":-4142},{"$f":"CELLCOLOR($U$13)","v":-4142},{"$f":"CELLCOLOR($V$13)","v":-4142},{"$f":"CELLCOLOR($W$13)","v":-4142},{"$f":"CELLCOLOR($X$13)","v":-4142},{"$f":"CELLCOLOR($Y$13)","v":-4142},{"$f":"CELLCOLOR($Z$13)","v":-4142},{"$f":"CELLCOLOR($AA$13)","v":-4142},5]
[null,null,6,{"$f":"CELLCOLOR($D$14)","v":-4142},{"$f":"CELLCOLOR($E$14)","v":-4142},{"$f":"CELLCOLOR($F$14)","v":-4142},{"$f":"CELLCOLOR($G$14)","v":-4142},{"$f":"CELLCOLOR($H$14)","v":-4142},{"$f":"CELLCOLOR($I$14)","v":-4142},{"$f":"CELLCOLOR($J$14)","v":-4142},{"$f":"CELLCOLOR($K$14)","v":-4142},{"$f":"CELLCOLOR($L$14)","v":-4142},{"$f":"CELLCOLOR($M$14)","v":-4142},{"$f":"CELLCOLOR($N$14)","v":-4142},{"$f":"CELLCOLOR($O$14)","v":-4142},{"$f":"CELLCOLOR($P$14)","v":-4142},{"$f":"CELLCOLOR($Q$14)","v":-4142},{"$f":"CELLCOLOR($R$14)","v":-4142},{"$f":"CELLCOLOR($S$14)","v":-4142},{"$f":"CELLCOLOR($T$14)","v":-4142},{"$f":"CELLCOLOR($U$14)","v":-4142},{"$f":"CELLCOLOR($V$14)","v":-4142},{"$f":"CELLCOLOR($W$14)","v":-4142},{"$f":"CELLCOLOR($X$14)","v":-4142},{"$f":"CELLCOLOR($Y$14)","v":-4142},{"$f":"CELLCOLOR($Z$14)","v":-4142},{"$f":"CELLCOLOR($AA$14)","v":-4142},6]
[null,null,7,{"$f":"CELLCOLOR($D$15)","v":-4142},{"$f":"CELLCOLOR($E$15)","v":-4142},{"$f":"CELLCOLOR($F$15)","v":-4142},{"$f":"CELLCOLOR($G$15)","v":-4142},{"$f":"CELLCOLOR($H$15)","v":-4142},{"$f":"CELLCOLOR($I$15)","v":-4142},{"$f":"CELLCOLOR($J$15)","v":-4142},{"$f":"CELLCOLOR($K$15)","v":-4142},{"$f":"CELLCOLOR($L$15)","v":-4142},{"$f":"CELLCOLOR($M$15)","v":-4142},{"$f":"CELLCOLOR($N$15)","v":-4142},{"$f":"CELLCOLOR($O$15)","v":-4142},{"$f":"CELLCOLOR($P$15)","v":-4142},{"$f":"CELLCOLOR($Q$15)","v":-4142},{"$f":"CELLCOLOR($R$15)","v":-4142},{"$f":"CELLCOLOR($S$15)","v":-4142},{"$f":"CELLCOLOR($T$15)","v":-4142},{"$f":"CELLCOLOR($U$15)","v":-4142},{"$f":"CELLCOLOR($V$15)","v":-4142},{"$f":"CELLCOLOR($W$15)","v":-4142},{"$f":"CELLCOLOR($X$15)","v":-4142},{"$f":"CELLCOLOR($Y$15)","v":-4142},{"$f":"CELLCOLOR($Z$15)","v":-4142},{"$f":"CELLCOLOR($AA$15)","v":-4142},7]
[null,null,8,{"$f":"CELLCOLOR($D$16)","v":-4142},{"$f":"CELLCOLOR($E$16)","v":-4142},{"$f":"CELLCOLOR($F$16)","v":-4142},{"$f":"CELLCOLOR($G$16)","v":-4142},{"$f":"CELLCOLOR($H$16)","v":-4142},{"$f":"CELLCOLOR($I$16)","v":-4142},{"$f":"CELLCOLOR($J$16)","v":-4142},{"$f":"CELLCOLOR($K$16)","v":-4142},{"$f":"CELLCOLOR($L$16)","v":-4142},{"$f":"CELLCOLOR($M$16)","v":-4142},{"$f":"CELLCOLOR($N$16)","v":-4142},{"$f":"CELLCOLOR($O$16)","v":-4142},{"$f":"CELLCOLOR($P$16)","v":-4142},{"$f":"CELLCOLOR($Q$16)","v":-4142},{"$f":"CELLCOLOR($R$16)","v":-4142},{"$f":"CELLCOLOR($S$16)","v":-4142},{"$f":"CELLCOLOR($T$16)","v":-4142},{"$f":"CELLCOLOR($U$16)","v":-4142},{"$f":"CELLCOLOR($V$16)","v":-4142},{"$f":"CELLCOLOR($W$16)","v":-4142},{"$f":"CELLCOLOR($X$16)","v":-4142},{"$f":"CELLCOLOR($Y$16)","v":-4142},{"$f":"CELLCOLOR($Z$16)","v":-4142},{"$f":"CELLCOLOR($AA$16)","v":-4142},8]
[null,null,9,{"$f":"CELLCOLOR($D$17)","v":-4142},{"$f":"CELLCOLOR($E$17)","v":-4142},{"$f":"CELLCOLOR($F$17)","v":-4142},{"$f":"CELLCOLOR($G$17)","v":-4142},{"$f":"CELLCOLOR($H$17)","v":-4142},{"$f":"CELLCOLOR($I$17)","v":-4142},{"$f":"CELLCOLOR($J$17)","v":-4142},{"$f":"CELLCOLOR($K$17)","v":-4142},{"$f":"CELLCOLOR($L$17)","v":-4142},{"$f":"CELLCOLOR($M$17)","v":-4142},{"$f":"CELLCOLOR($N$17)","v":-4142},{"$f":"CELLCOLOR($O$17)","v":-4142},{"$f":"CELLCOLOR($P$17)","v":-4142},{"$f":"CELLCOLOR($Q$17)","v":-4142},{"$f":"CELLCOLOR($R$17)","v":-4142},{"$f":"CELLCOLOR($S$17)","v":-4142},{"$f":"CELLCOLOR($T$17)","v":-4142},{"$f":"CELLCOLOR($U$17)","v":-4142},{"$f":"CELLCOLOR($V$17)","v":-4142},{"$f":"CELLCOLOR($W$17)","v":-4142},{"$f":"CELLCOLOR($X$17)","v":-4142},{"$f":"CELLCOLOR($Y$17)","v":-4142},{"$f":"CELLCOLOR($Z$17)","v":-4142},{"$f":"CELLCOLOR($AA$17)","v":-4142},9]
[null,null,10,{"$f":"CELLCOLOR($D$18)","v":-4142},{"$f":"CELLCOLOR($E$18)","v":-4142},{"$f":"CELLCOLOR($F$18)","v":-4142},{"$f":"CELLCOLOR($G$18)","v":-4142},{"$f":"CELLCOLOR($H$18)","v":-4142},{"$f":"CELLCOLOR($I$18)","v":-4142},{"$f":"CELLCOLOR($J$18)","v":-4142},{"$f":"CELLCOLOR($K$18)","v":-4142},{"$f":"CELLCOLOR($L$18)","v":-4142},{"$f":"CELLCOLOR($M$18)","v":-4142},{"$f":"CELLCOLOR($N$18)","v":-4142},{"$f":"CELLCOLOR($O$18)","v":-4142},{"$f":"CELLCOLOR($P$18)","v":-4142},{"$f":"CELLCOLOR($Q$18)","v":-4142},{"$f":"CELLCOLOR($R$18)","v":-4142},{"$f":"CELLCOLOR($S$18)","v":-4142},{"$f":"CELLCOLOR($T$18)","v":-4142},{"$f":"CELLCOLOR($U$18)","v":-4142},{"$f":"CELLCOLOR($V$18)","v":-4142},{"$f":"CELLCOLOR($W$18)","v":-4142},{"$f":"CELLCOLOR($X$18)","v":-4142},{"$f":"CELLCOLOR($Y$18)","v":-4142},{"$f":"CELLCOLOR($Z$18)","v":-4142},{"$f":"CELLCOLOR($AA$18)","v":-4142},10]
[null,null,11,{"$f":"CELLCOLOR($D$19)","v":-4142},{"$f":"CELLCOLOR($E$19)","v":-4142},{"$f":"CELLCOLOR($F$19)","v":-4142},{"$f":"CELLCOLOR($G$19)","v":-4142},{"$f":"CELLCOLOR($H$19)","v":-4142},{"$f":"CELLCOLOR($I$19)","v":-4142},{"$f":"CELLCOLOR($J$19)","v":-4142},{"$f":"CELLCOLOR($K$19)","v":-4142},{"$f":"CELLCOLOR($L$19)","v":-4142},{"$f":"CELLCOLOR($M$19)","v":-4142},{"$f":"CELLCOLOR($N$19)","v":-4142},{"$f":"CELLCOLOR($O$19)","v":-4142},{"$f":"CELLCOLOR($P$19)","v":-4142},{"$f":"CELLCOLOR($Q$19)","v":-4142},{"$f":"CELLCOLOR($R$19)","v":-4142},{"$f":"CELLCOLOR($S$19)","v":-4142},{"$f":"CELLCOLOR($T$19)","v":-4142},{"$f":"CELLCOLOR($U$19)","v":-4142},{"$f":"CELLCOLOR($V$19)","v":-4142},{"$f":"CELLCOLOR($W$19)","v":-4142},{"$f":"CELLCOLOR($X$19)","v":-4142},{"$f":"CELLCOLOR($Y$19)","v":-4142},{"$f":"CELLCOLOR($Z$19)","v":-4142},{"$f":"CELLCOLOR($AA$19)","v":-4142},11]
[null,null,12,{"$f":"CELLCOLOR($D$20)","v":-4142},{"$f":"CELLCOLOR($E$20)","v":-4142},{"$f":"CELLCOLOR($F$20)","v":-4142},{"$f":"CELLCOLOR($G$20)","v":-4142},{"$f":"CELLCOLOR($H$20)","v":-4142},{"$f":"CELLCOLOR($I$20)","v":-4142},{"$f":"CELLCOLOR($J$20)","v":-4142},{"$f":"CELLCOLOR($K$20)","v":-4142},{"$f":"CELLCOLOR($L$20)","v":-4142},{"$f":"CELLCOLOR($M$20)","v":-4142},{"$f":"CELLCOLOR($N$20)","v":-4142},{"$f":"CELLCOLOR($O$20)","v":-4142},{"$f":"CELLCOLOR($P$20)","v":-4142},{"$f":"CELLCOLOR($Q$20)","v":-4142},{"$f":"CELLCOLOR($R$20)","v":-4142},{"$f":"CELLCOLOR($S$20)","v":-4142},{"$f":"CELLCOLOR($T$20)","v":-4142},{"$f":"CELLCOLOR($U$20)","v":-4142},{"$f":"CELLCOLOR($V$20)","v":-4142},{"$f":"CELLCOLOR($W$20)","v":-4142},{"$f":"CELLCOLOR($X$20)","v":-4142},{"$f":"CELLCOLOR($Y$20)","v":-4142},{"$f":"CELLCOLOR($Z$20)","v":-4142},{"$f":"CELLCOLOR($AA$20)","v":-4142},12]
[null,null,1,{"$f":"CELLCOLOR($D$21)","v":-4142},{"$f":"CELLCOLOR($E$21)","v":-4142},{"$f":"CELLCOLOR($F$21)","v":-4142},{"$f":"CELLCOLOR($G$21)","v":-4142},{"$f":"CELLCOLOR($H$21)","v":-4142},{"$f":"CELLCOLOR($I$21)","v":-4142},{"$f":"CELLCOLOR($J$21)","v":-4142},{"$f":"CELLCOLOR($K$21)","v":-4142},{"$f":"CELLCOLOR($L$21)","v":-4142},{"$f":"CELLCOLOR($M$21)","v":-4142},{"$f":"CELLCOLOR($N$21)","v":-4142},{"$f":"CELLCOLOR($O$21)","v":-4142},{"$f":"CELLCOLOR($P$21)","v":-4142},{"$f":"CELLCOLOR($Q$21)","v":-4142},{"$f":"CELLCOLOR($R$21)","v":-4142},{"$f":"CELLCOLOR($S$21)","v":-4142},{"$f":"CELLCOLOR($T$21)","v":-4142},{"$f":"CELLCOLOR($U$21)","v":-4142},{"$f":"CELLCOLOR($V$21)","v":-4142},{"$f":"CELLCOLOR($W$21)","v":-4142},{"$f":"CELLCOLOR($X$21)","v":-4142},{"$f":"CELLCOLOR($Y$21)","v":-4142},{"$f":"CELLCOLOR($Z$21)","v":-4142},{"$f":"CELLCOLOR($AA$21)","v":-4142},1]
[null,null,2,{"$f":"CELLCOLOR($D$22)","v":-4142},{"$f":"CELLCOLOR($E$22)","v":-4142},{"$f":"CELLCOLOR($F$22)","v":-4142},{"$f":"CELLCOLOR($G$22)","v":-4142},{"$f":"CELLCOLOR($H$22)","v":-4142},{"$f":"CELLCOLOR($I$22)","v":-4142},{"$f":"CELLCOLOR($J$22)","v":-4142},{"$f":"CELLCOLOR($K$22)","v":-4142},{"$f":"CELLCOLOR($L$22)","v":-4142},{"$f":"CELLCOLOR($M$22)","v":-4142},{"$f":"CELLCOLOR($N$22)","v":-4142},{"$f":"CELLCOLOR($O$22)","v":-4142},{"$f":"CELLCOLOR($P$22)","v":-4142},{"$f":"CELLCOLOR($Q$22)","v":-4142},{"$f":"CELLCOLOR($R$22)","v":-4142},{"$f":"CELLCOLOR($S$22)","v":-4142},{"$f":"CELLCOLOR($T$22)","v":-4142},{"$f":"CELLCOLOR($U$22)","v":-4142},{"$f":"CELLCOLOR($V$22)","v":-4142},{"$f":"CELLCOLOR($W$22)","v":-4142},{"$f":"CELLCOLOR($X$22)","v":-4142},{"$f":"CELLCOLOR($Y$22)","v":-4142},{"$f":"CELLCOLOR($Z$22)","v":-4142},{"$f":"CELLCOLOR($AA$22)","v":-4142},2]
[null,null,3,{"$f":"CELLCOLOR($D$23)","v":-4142},{"$f":"CELLCOLOR($E$23)","v":-4142},{"$f":"CELLCOLOR($F$23)","v":-4142},{"$f":"CELLCOLOR($G$23)","v":-4142},{"$f":"CELLCOLOR($H$23)","v":-4142},{"$f":"CELLCOLOR($I$23)","v":-4142},{"$f":"CELLCOLOR($J$23)","v":-4142},{"$f":"CELLCOLOR($K$23)","v":-4142},{"$f":"CELLCOLOR($L$23)","v":-4142},{"$f":"CELLCOLOR($M$23)","v":-4142},{"$f":"CELLCOLOR($N$23)","v":-4142},{"$f":"CELLCOLOR($O$23)","v":-4142},{"$f":"CELLCOLOR($P$23)","v":-4142},{"$f":"CELLCOLOR($Q$23)","v":-4142},{"$f":"CELLCOLOR($R$23)","v":-4142},{"$f":"CELLCOLOR($S$23)","v":-4142},{"$f":"CELLCOLOR($T$23)","v":-4142},{"$f":"CELLCOLOR($U$23)","v":-4142},{"$f":"CELLCOLOR($V$23)","v":-4142},{"$f":"CELLCOLOR($W$23)","v":-4142},{"$f":"CELLCOLOR($X$23)","v":-4142},{"$f":"CELLCOLOR($Y$23)","v":-4142},{"$f":"CELLCOLOR($Z$23)","v":-4142},{"$f":"CELLCOLOR($AA$23)","v":-4142},3]
[]
[null,null,"作業表2-1(冷却)●月▲時の平均外気湿球温度(四捨五入で表示）"]
[null,null,null," 時刻"]
[null,null,"月",0,1,2,3,4,5,6,7,8,9,10,11,12,13,14,15,16,17,18,19,20,21,22,23,"月"]
[null,null,4,{"$f":"IF($D$101=24,ROUND($D$12,0),\"\")&\"\"","v":""},{"$f":"IF($E$101=24,ROUND($E$12,0),\"\")&\"\"","v":""},{"$f":"IF($F$101=24,ROUND($F$12,0),\"\")&\"\"","v":""},{"$f":"IF($G$101=24,ROUND($G$12,0),\"\")&\"\"","v":""},{"$f":"IF($H$101=24,ROUND($H$12,0),\"\")&\"\"","v":""},{"$f":"IF($I$101=24,ROUND($I$12,0),\"\")&\"\"","v":""},{"$f":"IF($J$101=24,ROUND($J$12,0),\"\")&\"\"","v":""},{"$f":"IF($K$101=24,ROUND($K$12,0),\"\")&\"\"","v":""},{"$f":"IF($L$101=24,ROUND($L$12,0),\"\")&\"\"","v":""},{"$f":"IF($M$101=24,ROUND($M$12,0),\"\")&\"\"","v":""},{"$f":"IF($N$101=24,ROUND($N$12,0),\"\")&\"\"","v":""},{"$f":"IF($O$101=24,ROUND($O$12,0),\"\")&\"\"","v":""},{"$f":"IF($P$101=24,ROUND($P$12,0),\"\")&\"\"","v":""},{"$f":"IF($Q$101=24,ROUND($Q$12,0),\"\")&\"\"","v":""},{"$f":"IF($R$101=24,ROUND($R$12,0),\"\")&\"\"","v":""},{"$f":"IF($S$101=24,ROUND($S$12,0),\"\")&\"\"","v":""},{"$f":"IF($T$101=24,ROUND($T$12,0),\"\")&\"\"","v":""},{"$f":"IF($U$101=24,ROUND($U$12,0),\"\")&\"\"","v":""},{"$f":"IF($V$101=24,ROUND($V$12,0),\"\")&\"\"","v":""},{"$f":"IF($W$101=24,ROUND($W$12,0),\"\")&\"\"","v":""},{"$f":"IF($X$101=24,ROUND($X$12,0),\"\")&\"\"","v":""},{"$f":"IF($Y$101=24,ROUND($Y$12,0),\"\")&\"\"","v":""},{"$f":"IF($Z$101=24,ROUND($Z$12,0),\"\")&\"\"","v":""},{"$f":"IF($AA$101=24,ROUND($AA$12,0),\"\")&\"\"","v":""},4]
[null,null,5,{"$f":"IF($D$102=24,ROUND($D$13,0),\"\")&\"\"","v":""},{"$f":"IF($E$102=24,ROUND($E$13,0),\"\")&\"\"","v":""},{"$f":"IF($F$102=24,ROUND($F$13,0),\"\")&\"\"","v":""},{"$f":"IF($G$102=24,ROUND($G$13,0),\"\")&\"\"","v":""},{"$f":"IF($H$102=24,ROUND($H$13,0),\"\")&\"\"","v":""},{"$f":"IF($I$102=24,ROUND($I$13,0),\"\")&\"\"","v":""},{"$f":"IF($J$102=24,ROUND($J$13,0),\"\")&\"\"","v":""},{"$f":"IF($K$102=24,ROUND($K$13,0),\"\")&\"\"","v":""},{"$f":"IF($L$102=24,ROUND($L$13,0),\"\")&\"\"","v":""},{"$f":"IF($M$102=24,ROUND($M$13,0),\"\")&\"\"","v":""},{"$f":"IF($N$102=24,ROUND($N$13,0),\"\")&\"\"","v":""},{"$f":"IF($O$102=24,ROUND($O$13,0),\"\")&\"\"","v":""},{"$f":"IF($P$102=24,ROUND($P$13,0),\"\")&\"\"","v":""},{"$f":"IF($Q$102=24,ROUND($Q$13,0),\"\")&\"\"","v":""},{"$f":"IF($R$102=24,ROUND($R$13,0),\"\")&\"\"","v":""},{"$f":"IF($S$102=24,ROUND($S$13,0),\"\")&\"\"","v":""},{"$f":"IF($T$102=24,ROUND($T$13,0),\"\")&\"\"","v":""},{"$f":"IF($U$102=24,ROUND($U$13,0),\"\")&\"\"","v":""},{"$f":"IF($V$102=24,ROUND($V$13,0),\"\")&\"\"","v":""},{"$f":"IF($W$102=24,ROUND($W$13,0),\"\")&\"\"","v":""},{"$f":"IF($X$102=24,ROUND($X$13,0),\"\")&\"\"","v":""},{"$f":"IF($Y$102=24,ROUND($Y$13,0),\"\")&\"\"","v":""},{"$f":"IF($Z$102=24,ROUND($Z$13,0),\"\")&\"\"","v":""},{"$f":"IF($AA$102=24,ROUND($AA$13,0),\"\")&\"\"","v":""},5]
[null,null,6,{"$f":"IF($D$103=24,ROUND($D$14,0),\"\")&\"\"","v":""},{"$f":"IF($E$103=24,ROUND($E$14,0),\"\")&\"\"","v":""},{"$f":"IF($F$103=24,ROUND($F$14,0),\"\")&\"\"","v":""},{"$f":"IF($G$103=24,ROUND($G$14,0),\"\")&\"\"","v":""},{"$f":"IF($H$103=24,ROUND($H$14,0),\"\")&\"\"","v":""},{"$f":"IF($I$103=24,ROUND($I$14,0),\"\")&\"\"","v":""},{"$f":"IF($J$103=24,ROUND($J$14,0),\"\")&\"\"","v":""},{"$f":"IF($K$103=24,ROUND($K$14,0),\"\")&\"\"","v":""},{"$f":"IF($L$103=24,ROUND($L$14,0),\"\")&\"\"","v":""},{"$f":"IF($M$103=24,ROUND($M$14,0),\"\")&\"\"","v":""},{"$f":"IF($N$103=24,ROUND($N$14,0),\"\")&\"\"","v":""},{"$f":"IF($O$103=24,ROUND($O$14,0),\"\")&\"\"","v":""},{"$f":"IF($P$103=24,ROUND($P$14,0),\"\")&\"\"","v":""},{"$f":"IF($Q$103=24,ROUND($Q$14,0),\"\")&\"\"","v":""},{"$f":"IF($R$103=24,ROUND($R$14,0),\"\")&\"\"","v":""},{"$f":"IF($S$103=24,ROUND($S$14,0),\"\")&\"\"","v":""},{"$f":"IF($T$103=24,ROUND($T$14,0),\"\")&\"\"","v":""},{"$f":"IF($U$103=24,ROUND($U$14,0),\"\")&\"\"","v":""},{"$f":"IF($V$103=24,ROUND($V$14,0),\"\")&\"\"","v":""},{"$f":"IF($W$103=24,ROUND($W$14,0),\"\")&\"\"","v":""},{"$f":"IF($X$103=24,ROUND($X$14,0),\"\")&\"\"","v":""},{"$f":"IF($Y$103=24,ROUND($Y$14,0),\"\")&\"\"","v":""},{"$f":"IF($Z$103=24,ROUND($Z$14,0),\"\")&\"\"","v":""},{"$f":"IF($AA$103=24,ROUND($AA$14,0),\"\")&\"\"","v":""},6]
[null,null,7,{"$f":"IF($D$104=24,ROUND($D$15,0),\"\")&\"\"","v":""},{"$f":"IF($E$104=24,ROUND($E$15,0),\"\")&\"\"","v":""},{"$f":"IF($F$104=24,ROUND($F$15,0),\"\")&\"\"","v":""},{"$f":"IF($G$104=24,ROUND($G$15,0),\"\")&\"\"","v":""},{"$f":"IF($H$104=24,ROUND($H$15,0),\"\")&\"\"","v":""},{"$f":"IF($I$104=24,ROUND($I$15,0),\"\")&\"\"","v":""},{"$f":"IF($J$104=24,ROUND($J$15,0),\"\")&\"\"","v":""},{"$f":"IF($K$104=24,ROUND($K$15,0),\"\")&\"\"","v":""},{"$f":"IF($L$104=24,ROUND($L$15,0),\"\")&\"\"","v":""},{"$f":"IF($M$104=24,ROUND($M$15,0),\"\")&\"\"","v":""},{"$f":"IF($N$104=24,ROUND($N$15,0),\"\")&\"\"","v":""},{"$f":"IF($O$104=24,ROUND($O$15,0),\"\")&\"\"","v":""},{"$f":"IF($P$104=24,ROUND($P$15,0),\"\")&\"\"","v":""},{"$f":"IF($Q$104=24,ROUND($Q$15,0),\"\")&\"\"","v":""},{"$f":"IF($R$104=24,ROUND($R$15,0),\"\")&\"\"","v":""},{"$f":"IF($S$104=24,ROUND($S$15,0),\"\")&\"\"","v":""},{"$f":"IF($T$104=24,ROUND($T$15,0),\"\")&\"\"","v":""},{"$f":"IF($U$104=24,ROUND($U$15,0),\"\")&\"\"","v":""},{"$f":"IF($V$104=24,ROUND($V$15,0),\"\")&\"\"","v":""},{"$f":"IF($W$104=24,ROUND($W$15,0),\"\")&\"\"","v":""},{"$f":"IF($X$104=24,ROUND($X$15,0),\"\")&\"\"","v":""},{"$f":"IF($Y$104=24,ROUND($Y$15,0),\"\")&\"\"","v":""},{"$f":"IF($Z$104=24,ROUND($Z$15,0),\"\")&\"\"","v":""},{"$f":"IF($AA$104=24,ROUND($AA$15,0),\"\")&\"\"","v":""},7]
[null,null,8,{"$f":"IF($D$105=24,ROUND($D$16,0),\"\")&\"\"","v":""},{"$f":"IF($E$105=24,ROUND($E$16,0),\"\")&\"\"","v":""},{"$f":"IF($F$105=24,ROUND($F$16,0),\"\")&\"\"","v":""},{"$f":"IF($G$105=24,ROUND($G$16,0),\"\")&\"\"","v":""},{"$f":"IF($H$105=24,ROUND($H$16,0),\"\")&\"\"","v":""},{"$f":"IF($I$105=24,ROUND($I$16,0),\"\")&\"\"","v":""},{"$f":"IF($J$105=24,ROUND($J$16,0),\"\")&\"\"","v":""},{"$f":"IF($K$105=24,ROUND($K$16,0),\"\")&\"\"","v":""},{"$f":"IF($L$105=24,ROUND($L$16,0),\"\")&\"\"","v":""},{"$f":"IF($M$105=24,ROUND($M$16,0),\"\")&\"\"","v":""},{"$f":"IF($N$105=24,ROUND($N$16,0),\"\")&\"\"","v":""},{"$f":"IF($O$105=24,ROUND($O$16,0),\"\")&\"\"","v":""},{"$f":"IF($P$105=24,ROUND($P$16,0),\"\")&\"\"","v":""},{"$f":"IF($Q$105=24,ROUND($Q$16,0),\"\")&\"\"","v":""},{"$f":"IF($R$105=24,ROUND($R$16,0),\"\")&\"\"","v":""},{"$f":"IF($S$105=24,ROUND($S$16,0),\"\")&\"\"","v":""},{"$f":"IF($T$105=24,ROUND($T$16,0),\"\")&\"\"","v":""},{"$f":"IF($U$105=24,ROUND($U$16,0),\"\")&\"\"","v":""},{"$f":"IF($V$105=24,ROUND($V$16,0),\"\")&\"\"","v":""},{"$f":"IF($W$105=24,ROUND($W$16,0),\"\")&\"\"","v":""},{"$f":"IF($X$105=24,ROUND($X$16,0),\"\")&\"\"","v":""},{"$f":"IF($Y$105=24,ROUND($Y$16,0),\"\")&\"\"","v":""},{"$f":"IF($Z$105=24,ROUND($Z$16,0),\"\")&\"\"","v":""},{"$f":"IF($AA$105=24,ROUND($AA$16,0),\"\")&\"\"","v":""},8]
[null,null,9,{"$f":"IF($D$106=24,ROUND($D$17,0),\"\")&\"\"","v":""},{"$f":"IF($E$106=24,ROUND($E$17,0),\"\")&\"\"","v":""},{"$f":"IF($F$106=24,ROUND($F$17,0),\"\")&\"\"","v":""},{"$f":"IF($G$106=24,ROUND($G$17,0),\"\")&\"\"","v":""},{"$f":"IF($H$106=24,ROUND($H$17,0),\"\")&\"\"","v":""},{"$f":"IF($I$106=24,ROUND($I$17,0),\"\")&\"\"","v":""},{"$f":"IF($J$106=24,ROUND($J$17,0),\"\")&\"\"","v":""},{"$f":"IF($K$106=24,ROUND($K$17,0),\"\")&\"\"","v":""},{"$f":"IF($L$106=24,ROUND($L$17,0),\"\")&\"\"","v":""},{"$f":"IF($M$106=24,ROUND($M$17,0),\"\")&\"\"","v":""},{"$f":"IF($N$106=24,ROUND($N$17,0),\"\")&\"\"","v":""},{"$f":"IF($O$106=24,ROUND($O$17,0),\"\")&\"\"","v":""},{"$f":"IF($P$106=24,ROUND($P$17,0),\"\")&\"\"","v":""},{"$f":"IF($Q$106=24,ROUND($Q$17,0),\"\")&\"\"","v":""},{"$f":"IF($R$106=24,ROUND($R$17,0),\"\")&\"\"","v":""},{"$f":"IF($S$106=24,ROUND($S$17,0),\"\")&\"\"","v":""},{"$f":"IF($T$106=24,ROUND($T$17,0),\"\")&\"\"","v":""},{"$f":"IF($U$106=24,ROUND($U$17,0),\"\")&\"\"","v":""},{"$f":"IF($V$106=24,ROUND($V$17,0),\"\")&\"\"","v":""},{"$f":"IF($W$106=24,ROUND($W$17,0),\"\")&\"\"","v":""},{"$f":"IF($X$106=24,ROUND($X$17,0),\"\")&\"\"","v":""},{"$f":"IF($Y$106=24,ROUND($Y$17,0),\"\")&\"\"","v":""},{"$f":"IF($Z$106=24,ROUND($Z$17,0),\"\")&\"\"","v":""},{"$f":"IF($AA$106=24,ROUND($AA$17,0),\"\")&\"\"","v":""},9]
[null,null,10,{"$f":"IF($D$107=24,ROUND($D$18,0),\"\")&\"\"","v":""},{"$f":"IF($E$107=24,ROUND($E$18,0),\"\")&\"\"","v":""},{"$f":"IF($F$107=24,ROUND($F$18,0),\"\")&\"\"","v":""},{"$f":"IF($G$107=24,ROUND($G$18,0),\"\")&\"\"","v":""},{"$f":"IF($H$107=24,ROUND($H$18,0),\"\")&\"\"","v":""},{"$f":"IF($I$107=24,ROUND($I$18,0),\"\")&\"\"","v":""},{"$f":"IF($J$107=24,ROUND($J$18,0),\"\")&\"\"","v":""},{"$f":"IF($K$107=24,ROUND($K$18,0),\"\")&\"\"","v":""},{"$f":"IF($L$107=24,ROUND($L$18,0),\"\")&\"\"","v":""},{"$f":"IF($M$107=24,ROUND($M$18,0),\"\")&\"\"","v":""},{"$f":"IF($N$107=24,ROUND($N$18,0),\"\")&\"\"","v":""},{"$f":"IF($O$107=24,ROUND($O$18,0),\"\")&\"\"","v":""},{"$f":"IF($P$107=24,ROUND($P$18,0),\"\")&\"\"","v":""},{"$f":"IF($Q$107=24,ROUND($Q$18,0),\"\")&\"\"","v":""},{"$f":"IF($R$107=24,ROUND($R$18,0),\"\")&\"\"","v":""},{"$f":"IF($S$107=24,ROUND($S$18,0),\"\")&\"\"","v":""},{"$f":"IF($T$107=24,ROUND($T$18,0),\"\")&\"\"","v":""},{"$f":"IF($U$107=24,ROUND($U$18,0),\"\")&\"\"","v":""},{"$f":"IF($V$107=24,ROUND($V$18,0),\"\")&\"\"","v":""},{"$f":"IF($W$107=24,ROUND($W$18,0),\"\")&\"\"","v":""},{"$f":"IF($X$107=24,ROUND($X$18,0),\"\")&\"\"","v":""},{"$f":"IF($Y$107=24,ROUND($Y$18,0),\"\")&\"\"","v":""},{"$f":"IF($Z$107=24,ROUND($Z$18,0),\"\")&\"\"","v":""},{"$f":"IF($AA$107=24,ROUND($AA$18,0),\"\")&\"\"","v":""},10]
[null,null,11,{"$f":"IF($D$108=24,ROUND($D$19,0),\"\")&\"\"","v":""},{"$f":"IF($E$108=24,ROUND($E$19,0),\"\")&\"\"","v":""},{"$f":"IF($F$108=24,ROUND($F$19,0),\"\")&\"\"","v":""},{"$f":"IF($G$108=24,ROUND($G$19,0),\"\")&\"\"","v":""},{"$f":"IF($H$108=24,ROUND($H$19,0),\"\")&\"\"","v":""},{"$f":"IF($I$108=24,ROUND($I$19,0),\"\")&\"\"","v":""},{"$f":"IF($J$108=24,ROUND($J$19,0),\"\")&\"\"","v":""},{"$f":"IF($K$108=24,ROUND($K$19,0),\"\")&\"\"","v":""},{"$f":"IF($L$108=24,ROUND($L$19,0),\"\")&\"\"","v":""},{"$f":"IF($M$108=24,ROUND($M$19,0),\"\")&\"\"","v":""},{"$f":"IF($N$108=24,ROUND($N$19,0),\"\")&\"\"","v":""},{"$f":"IF($O$108=24,ROUND($O$19,0),\"\")&\"\"","v":""},{"$f":"IF($P$108=24,ROUND($P$19,0),\"\")&\"\"","v":""},{"$f":"IF($Q$108=24,ROUND($Q$19,0),\"\")&\"\"","v":""},{"$f":"IF($R$108=24,ROUND($R$19,0),\"\")&\"\"","v":""},{"$f":"IF($S$108=24,ROUND($S$19,0),\"\")&\"\"","v":""},{"$f":"IF($T$108=24,ROUND($T$19,0),\"\")&\"\"","v":""},{"$f":"IF($U$108=24,ROUND($U$19,0),\"\")&\"\"","v":""},{"$f":"IF($V$108=24,ROUND($V$19,0),\"\")&\"\"","v":""},{"$f":"IF($W$108=24,ROUND($W$19,0),\"\")&\"\"","v":""},{"$f":"IF($X$108=24,ROUND($X$19,0),\"\")&\"\"","v":""},{"$f":"IF($Y$108=24,ROUND($Y$19,0),\"\")&\"\"","v":""},{"$f":"IF($Z$108=24,ROUND($Z$19,0),\"\")&\"\"","v":""},{"$f":"IF($AA$108=24,ROUND($AA$19,0),\"\")&\"\"","v":""},11]
[null,null,12,{"$f":"IF($D$109=24,ROUND($D$20,0),\"\")&\"\"","v":""},{"$f":"IF($E$109=24,ROUND($E$20,0),\"\")&\"\"","v":""},{"$f":"IF($F$109=24,ROUND($F$20,0),\"\")&\"\"","v":""},{"$f":"IF($G$109=24,ROUND($G$20,0),\"\")&\"\"","v":""},{"$f":"IF($H$109=24,ROUND($H$20,0),\"\")&\"\"","v":""},{"$f":"IF($I$109=24,ROUND($I$20,0),\"\")&\"\"","v":""},{"$f":"IF($J$109=24,ROUND($J$20,0),\"\")&\"\"","v":""},{"$f":"IF($K$109=24,ROUND($K$20,0),\"\")&\"\"","v":""},{"$f":"IF($L$109=24,ROUND($L$20,0),\"\")&\"\"","v":""},{"$f":"IF($M$109=24,ROUND($M$20,0),\"\")&\"\"","v":""},{"$f":"IF($N$109=24,ROUND($N$20,0),\"\")&\"\"","v":""},{"$f":"IF($O$109=24,ROUND($O$20,0),\"\")&\"\"","v":""},{"$f":"IF($P$109=24,ROUND($P$20,0),\"\")&\"\"","v":""},{"$f":"IF($Q$109=24,ROUND($Q$20,0),\"\")&\"\"","v":""},{"$f":"IF($R$109=24,ROUND($R$20,0),\"\")&\"\"","v":""},{"$f":"IF($S$109=24,ROUND($S$20,0),\"\")&\"\"","v":""},{"$f":"IF($T$109=24,ROUND($T$20,0),\"\")&\"\"","v":""},{"$f":"IF($U$109=24,ROUND($U$20,0),\"\")&\"\"","v":""},{"$f":"IF($V$109=24,ROUND($V$20,0),\"\")&\"\"","v":""},{"$f":"IF($W$109=24,ROUND($W$20,0),\"\")&\"\"","v":""},{"$f":"IF($X$109=24,ROUND($X$20,0),\"\")&\"\"","v":""},{"$f":"IF($Y$109=24,ROUND($Y$20,0),\"\")&\"\"","v":""},{"$f":"IF($Z$109=24,ROUND($Z$20,0),\"\")&\"\"","v":""},{"$f":"IF($AA$109=24,ROUND($AA$20,0),\"\")&\"\"","v":""},12]
[null,null,1,{"$f":"IF($D$110=24,ROUND($D$21,0),\"\")&\"\"","v":""},{"$f":"IF($E$110=24,ROUND($E$21,0),\"\")&\"\"","v":""},{"$f":"IF($F$110=24,ROUND($F$21,0),\"\")&\"\"","v":""},{"$f":"IF($G$110=24,ROUND($G$21,0),\"\")&\"\"","v":""},{"$f":"IF($H$110=24,ROUND($H$21,0),\"\")&\"\"","v":""},{"$f":"IF($I$110=24,ROUND($I$21,0),\"\")&\"\"","v":""},{"$f":"IF($J$110=24,ROUND($J$21,0),\"\")&\"\"","v":""},{"$f":"IF($K$110=24,ROUND($K$21,0),\"\")&\"\"","v":""},{"$f":"IF($L$110=24,ROUND($L$21,0),\"\")&\"\"","v":""},{"$f":"IF($M$110=24,ROUND($M$21,0),\"\")&\"\"","v":""},{"$f":"IF($N$110=24,ROUND($N$21,0),\"\")&\"\"","v":""},{"$f":"IF($O$110=24,ROUND($O$21,0),\"\")&\"\"","v":""},{"$f":"IF($P$110=24,ROUND($P$21,0),\"\")&\"\"","v":""},{"$f":"IF($Q$110=24,ROUND($Q$21,0),\"\")&\"\"","v":""},{"$f":"IF($R$110=24,ROUND($R$21,0),\"\")&\"\"","v":""},{"$f":"IF($S$110=24,ROUND($S$21,0),\"\")&\"\"","v":""},{"$f":"IF($T$110=24,ROUND($T$21,0),\"\")&\"\"","v":""},{"$f":"IF($U$110=24,ROUND($U$21,0),\"\")&\"\"","v":""},{"$f":"IF($V$110=24,ROUND($V$21,0),\"\")&\"\"","v":""},{"$f":"IF($W$110=24,ROUND($W$21,0),\"\")&\"\"","v":""},{"$f":"IF($X$110=24,ROUND($X$21,0),\"\")&\"\"","v":""},{"$f":"IF($Y$110=24,ROUND($Y$21,0),\"\")&\"\"","v":""},{"$f":"IF($Z$110=24,ROUND($Z$21,0),\"\")&\"\"","v":""},{"$f":"IF($AA$110=24,ROUND($AA$21,0),\"\")&\"\"","v":""},1]
[null,null,2,{"$f":"IF($D$111=24,ROUND($D$22,0),\"\")&\"\"","v":""},{"$f":"IF($E$111=24,ROUND($E$22,0),\"\")&\"\"","v":""},{"$f":"IF($F$111=24,ROUND($F$22,0),\"\")&\"\"","v":""},{"$f":"IF($G$111=24,ROUND($G$22,0),\"\")&\"\"","v":""},{"$f":"IF($H$111=24,ROUND($H$22,0),\"\")&\"\"","v":""},{"$f":"IF($I$111=24,ROUND($I$22,0),\"\")&\"\"","v":""},{"$f":"IF($J$111=24,ROUND($J$22,0),\"\")&\"\"","v":""},{"$f":"IF($K$111=24,ROUND($K$22,0),\"\")&\"\"","v":""},{"$f":"IF($L$111=24,ROUND($L$22,0),\"\")&\"\"","v":""},{"$f":"IF($M$111=24,ROUND($M$22,0),\"\")&\"\"","v":""},{"$f":"IF($N$111=24,ROUND($N$22,0),\"\")&\"\"","v":""},{"$f":"IF($O$111=24,ROUND($O$22,0),\"\")&\"\"","v":""},{"$f":"IF($P$111=24,ROUND($P$22,0),\"\")&\"\"","v":""},{"$f":"IF($Q$111=24,ROUND($Q$22,0),\"\")&\"\"","v":""},{"$f":"IF($R$111=24,ROUND($R$22,0),\"\")&\"\"","v":""},{"$f":"IF($S$111=24,ROUND($S$22,0),\"\")&\"\"","v":""},{"$f":"IF($T$111=24,ROUND($T$22,0),\"\")&\"\"","v":""},{"$f":"IF($U$111=24,ROUND($U$22,0),\"\")&\"\"","v":""},{"$f":"IF($V$111=24,ROUND($V$22,0),\"\")&\"\"","v":""},{"$f":"IF($W$111=24,ROUND($W$22,0),\"\")&\"\"","v":""},{"$f":"IF($X$111=24,ROUND($X$22,0),\"\")&\"\"","v":""},{"$f":"IF($Y$111=24,ROUND($Y$22,0),\"\")&\"\"","v":""},{"$f":"IF($Z$111=24,ROUND($Z$22,0),\"\")&\"\"","v":""},{"$f":"IF($AA$111=24,ROUND($AA$22,0),\"\")&\"\"","v":""},2]
[null,null,3,{"$f":"IF($D$112=24,ROUND($D$23,0),\"\")&\"\"","v":""},{"$f":"IF($E$112=24,ROUND($E$23,0),\"\")&\"\"","v":""},{"$f":"IF($F$112=24,ROUND($F$23,0),\"\")&\"\"","v":""},{"$f":"IF($G$112=24,ROUND($G$23,0),\"\")&\"\"","v":""},{"$f":"IF($H$112=24,ROUND($H$23,0),\"\")&\"\"","v":""},{"$f":"IF($I$112=24,ROUND($I$23,0),\"\")&\"\"","v":""},{"$f":"IF($J$112=24,ROUND($J$23,0),\"\")&\"\"","v":""},{"$f":"IF($K$112=24,ROUND($K$23,0),\"\")&\"\"","v":""},{"$f":"IF($L$112=24,ROUND($L$23,0),\"\")&\"\"","v":""},{"$f":"IF($M$112=24,ROUND($M$23,0),\"\")&\"\"","v":""},{"$f":"IF($N$112=24,ROUND($N$23,0),\"\")&\"\"","v":""},{"$f":"IF($O$112=24,ROUND($O$23,0),\"\")&\"\"","v":""},{"$f":"IF($P$112=24,ROUND($P$23,0),\"\")&\"\"","v":""},{"$f":"IF($Q$112=24,ROUND($Q$23,0),\"\")&\"\"","v":""},{"$f":"IF($R$112=24,ROUND($R$23,0),\"\")&\"\"","v":""},{"$f":"IF($S$112=24,ROUND($S$23,0),\"\")&\"\"","v":""},{"$f":"IF($T$112=24,ROUND($T$23,0),\"\")&\"\"","v":""},{"$f":"IF($U$112=24,ROUND($U$23,0),\"\")&\"\"","v":""},{"$f":"IF($V$112=24,ROUND($V$23,0),\"\")&\"\"","v":""},{"$f":"IF($W$112=24,ROUND($W$23,0),\"\")&\"\"","v":""},{"$f":"IF($X$112=24,ROUND($X$23,0),\"\")&\"\"","v":""},{"$f":"IF($Y$112=24,ROUND($Y$23,0),\"\")&\"\"","v":""},{"$f":"IF($Z$112=24,ROUND($Z$23,0),\"\")&\"\"","v":""},{"$f":"IF($AA$112=24,ROUND($AA$23,0),\"\")&\"\"","v":""},3]
[]
[null,null,"作業表2-2(加熱)●月▲時の平均外気湿球温度(四捨五入で表示）"]
[null,null,null," 時刻"]
[null,null,"月",0,1,2,3,4,5,6,7,8,9,10,11,12,13,14,15,16,17,18,19,20,21,22,23,"月"]
[null,null,4,{"$f":"IF($D$101=19,ROUND($D$12,0),\"\")&\"\"","v":""},{"$f":"IF($E$101=19,ROUND($E$12,0),\"\")&\"\"","v":""},{"$f":"IF($F$101=19,ROUND($F$12,0),\"\")&\"\"","v":""},{"$f":"IF($G$101=19,ROUND($G$12,0),\"\")&\"\"","v":""},{"$f":"IF($H$101=19,ROUND($H$12,0),\"\")&\"\"","v":""},{"$f":"IF($I$101=19,ROUND($I$12,0),\"\")&\"\"","v":""},{"$f":"IF($J$101=19,ROUND($J$12,0),\"\")&\"\"","v":""},{"$f":"IF($K$101=19,ROUND($K$12,0),\"\")&\"\"","v":""},{"$f":"IF($L$101=19,ROUND($L$12,0),\"\")&\"\"","v":""},{"$f":"IF($M$101=19,ROUND($M$12,0),\"\")&\"\"","v":""},{"$f":"IF($N$101=19,ROUND($N$12,0),\"\")&\"\"","v":""},{"$f":"IF($O$101=19,ROUND($O$12,0),\"\")&\"\"","v":""},{"$f":"IF($P$101=19,ROUND($P$12,0),\"\")&\"\"","v":""},{"$f":"IF($Q$101=19,ROUND($Q$12,0),\"\")&\"\"","v":""},{"$f":"IF($R$101=19,ROUND($R$12,0),\"\")&\"\"","v":""},{"$f":"IF($S$101=19,ROUND($S$12,0),\"\")&\"\"","v":""},{"$f":"IF($T$101=19,ROUND($T$12,0),\"\")&\"\"","v":""},{"$f":"IF($U$101=19,ROUND($U$12,0),\"\")&\"\"","v":""},{"$f":"IF($V$101=19,ROUND($V$12,0),\"\")&\"\"","v":""},{"$f":"IF($W$101=19,ROUND($W$12,0),\"\")&\"\"","v":""},{"$f":"IF($X$101=19,ROUND($X$12,0),\"\")&\"\"","v":""},{"$f":"IF($Y$101=19,ROUND($Y$12,0),\"\")&\"\"","v":""},{"$f":"IF($Z$101=19,ROUND($Z$12,0),\"\")&\"\"","v":""},{"$f":"IF($AA$101=19,ROUND($AA$12,0),\"\")&\"\"","v":""},4]
[null,null,5,{"$f":"IF($D$102=19,ROUND($D$13,0),\"\")&\"\"","v":""},{"$f":"IF($E$102=19,ROUND($E$13,0),\"\")&\"\"","v":""},{"$f":"IF($F$102=19,ROUND($F$13,0),\"\")&\"\"","v":""},{"$f":"IF($G$102=19,ROUND($G$13,0),\"\")&\"\"","v":""},{"$f":"IF($H$102=19,ROUND($H$13,0),\"\")&\"\"","v":""},{"$f":"IF($I$102=19,ROUND($I$13,0),\"\")&\"\"","v":""},{"$f":"IF($J$102=19,ROUND($J$13,0),\"\")&\"\"","v":""},{"$f":"IF($K$102=19,ROUND($K$13,0),\"\")&\"\"","v":""},{"$f":"IF($L$102=19,ROUND($L$13,0),\"\")&\"\"","v":""},{"$f":"IF($M$102=19,ROUND($M$13,0),\"\")&\"\"","v":""},{"$f":"IF($N$102=19,ROUND($N$13,0),\"\")&\"\"","v":""},{"$f":"IF($O$102=19,ROUND($O$13,0),\"\")&\"\"","v":""},{"$f":"IF($P$102=19,ROUND($P$13,0),\"\")&\"\"","v":""},{"$f":"IF($Q$102=19,ROUND($Q$13,0),\"\")&\"\"","v":""},{"$f":"IF($R$102=19,ROUND($R$13,0),\"\")&\"\"","v":""},{"$f":"IF($S$102=19,ROUND($S$13,0),\"\")&\"\"","v":""},{"$f":"IF($T$102=19,ROUND($T$13,0),\"\")&\"\"","v":""},{"$f":"IF($U$102=19,ROUND($U$13,0),\"\")&\"\"","v":""},{"$f":"IF($V$102=19,ROUND($V$13,0),\"\")&\"\"","v":""},{"$f":"IF($W$102=19,ROUND($W$13,0),\"\")&\"\"","v":""},{"$f":"IF($X$102=19,ROUND($X$13,0),\"\")&\"\"","v":""},{"$f":"IF($Y$102=19,ROUND($Y$13,0),\"\")&\"\"","v":""},{"$f":"IF($Z$102=19,ROUND($Z$13,0),\"\")&\"\"","v":""},{"$f":"IF($AA$102=19,ROUND($AA$13,0),\"\")&\"\"","v":""},5]
[null,null,6,{"$f":"IF($D$103=19,ROUND($D$14,0),\"\")&\"\"","v":""},{"$f":"IF($E$103=19,ROUND($E$14,0),\"\")&\"\"","v":""},{"$f":"IF($F$103=19,ROUND($F$14,0),\"\")&\"\"","v":""},{"$f":"IF($G$103=19,ROUND($G$14,0),\"\")&\"\"","v":""},{"$f":"IF($H$103=19,ROUND($H$14,0),\"\")&\"\"","v":""},{"$f":"IF($I$103=19,ROUND($I$14,0),\"\")&\"\"","v":""},{"$f":"IF($J$103=19,ROUND($J$14,0),\"\")&\"\"","v":""},{"$f":"IF($K$103=19,ROUND($K$14,0),\"\")&\"\"","v":""},{"$f":"IF($L$103=19,ROUND($L$14,0),\"\")&\"\"","v":""},{"$f":"IF($M$103=19,ROUND($M$14,0),\"\")&\"\"","v":""},{"$f":"IF($N$103=19,ROUND($N$14,0),\"\")&\"\"","v":""},{"$f":"IF($O$103=19,ROUND($O$14,0),\"\")&\"\"","v":""},{"$f":"IF($P$103=19,ROUND($P$14,0),\"\")&\"\"","v":""},{"$f":"IF($Q$103=19,ROUND($Q$14,0),\"\")&\"\"","v":""},{"$f":"IF($R$103=19,ROUND($R$14,0),\"\")&\"\"","v":""},{"$f":"IF($S$103=19,ROUND($S$14,0),\"\")&\"\"","v":""},{"$f":"IF($T$103=19,ROUND($T$14,0),\"\")&\"\"","v":""},{"$f":"IF($U$103=19,ROUND($U$14,0),\"\")&\"\"","v":""},{"$f":"IF($V$103=19,ROUND($V$14,0),\"\")&\"\"","v":""},{"$f":"IF($W$103=19,ROUND($W$14,0),\"\")&\"\"","v":""},{"$f":"IF($X$103=19,ROUND($X$14,0),\"\")&\"\"","v":""},{"$f":"IF($Y$103=19,ROUND($Y$14,0),\"\")&\"\"","v":""},{"$f":"IF($Z$103=19,ROUND($Z$14,0),\"\")&\"\"","v":""},{"$f":"IF($AA$103=19,ROUND($AA$14,0),\"\")&\"\"","v":""},6]
[null,null,7,{"$f":"IF($D$104=19,ROUND($D$15,0),\"\")&\"\"","v":""},{"$f":"IF($E$104=19,ROUND($E$15,0),\"\")&\"\"","v":""},{"$f":"IF($F$104=19,ROUND($F$15,0),\"\")&\"\"","v":""},{"$f":"IF($G$104=19,ROUND($G$15,0),\"\")&\"\"","v":""},{"$f":"IF($H$104=19,ROUND($H$15,0),\"\")&\"\"","v":""},{"$f":"IF($I$104=19,ROUND($I$15,0),\"\")&\"\"","v":""},{"$f":"IF($J$104=19,ROUND($J$15,0),\"\")&\"\"","v":""},{"$f":"IF($K$104=19,ROUND($K$15,0),\"\")&\"\"","v":""},{"$f":"IF($L$104=19,ROUND($L$15,0),\"\")&\"\"","v":""},{"$f":"IF($M$104=19,ROUND($M$15,0),\"\")&\"\"","v":""},{"$f":"IF($N$104=19,ROUND($N$15,0),\"\")&\"\"","v":""},{"$f":"IF($O$104=19,ROUND($O$15,0),\"\")&\"\"","v":""},{"$f":"IF($P$104=19,ROUND($P$15,0),\"\")&\"\"","v":""},{"$f":"IF($Q$104=19,ROUND($Q$15,0),\"\")&\"\"","v":""},{"$f":"IF($R$104=19,ROUND($R$15,0),\"\")&\"\"","v":""},{"$f":"IF($S$104=19,ROUND($S$15,0),\"\")&\"\"","v":""},{"$f":"IF($T$104=19,ROUND($T$15,0),\"\")&\"\"","v":""},{"$f":"IF($U$104=19,ROUND($U$15,0),\"\")&\"\"","v":""},{"$f":"IF($V$104=19,ROUND($V$15,0),\"\")&\"\"","v":""},{"$f":"IF($W$104=19,ROUND($W$15,0),\"\")&\"\"","v":""},{"$f":"IF($X$104=19,ROUND($X$15,0),\"\")&\"\"","v":""},{"$f":"IF($Y$104=19,ROUND($Y$15,0),\"\")&\"\"","v":""},{"$f":"IF($Z$104=19,ROUND($Z$15,0),\"\")&\"\"","v":""},{"$f":"IF($AA$104=19,ROUND($AA$15,0),\"\")&\"\"","v":""},7]
[null,null,8,{"$f":"IF($D$105=19,ROUND($D$16,0),\"\")&\"\"","v":""},{"$f":"IF($E$105=19,ROUND($E$16,0),\"\")&\"\"","v":""},{"$f":"IF($F$105=19,ROUND($F$16,0),\"\")&\"\"","v":""},{"$f":"IF($G$105=19,ROUND($G$16,0),\"\")&\"\"","v":""},{"$f":"IF($H$105=19,ROUND($H$16,0),\"\")&\"\"","v":""},{"$f":"IF($I$105=19,ROUND($I$16,0),\"\")&\"\"","v":""},{"$f":"IF($J$105=19,ROUND($J$16,0),\"\")&\"\"","v":""},{"$f":"IF($K$105=19,ROUND($K$16,0),\"\")&\"\"","v":""},{"$f":"IF($L$105=19,ROUND($L$16,0),\"\")&\"\"","v":""},{"$f":"IF($M$105=19,ROUND($M$16,0),\"\")&\"\"","v":""},{"$f":"IF($N$105=19,ROUND($N$16,0),\"\")&\"\"","v":""},{"$f":"IF($O$105=19,ROUND($O$16,0),\"\")&\"\"","v":""},{"$f":"IF($P$105=19,ROUND($P$16,0),\"\")&\"\"","v":""},{"$f":"IF($Q$105=19,ROUND($Q$16,0),\"\")&\"\"","v":""},{"$f":"IF($R$105=19,ROUND($R$16,0),\"\")&\"\"","v":""},{"$f":"IF($S$105=19,ROUND($S$16,0),\"\")&\"\"","v":""},{"$f":"IF($T$105=19,ROUND($T$16,0),\"\")&\"\"","v":""},{"$f":"IF($U$105=19,ROUND($U$16,0),\"\")&\"\"","v":""},{"$f":"IF($V$105=19,ROUND($V$16,0),\"\")&\"\"","v":""},{"$f":"IF($W$105=19,ROUND($W$16,0),\"\")&\"\"","v":""},{"$f":"IF($X$105=19,ROUND($X$16,0),\"\")&\"\"","v":""},{"$f":"IF($Y$105=19,ROUND($Y$16,0),\"\")&\"\"","v":""},{"$f":"IF($Z$105=19,ROUND($Z$16,0),\"\")&\"\"","v":""},{"$f":"IF($AA$105=19,ROUND($AA$16,0),\"\")&\"\"","v":""},8]
[null,null,9,{"$f":"IF($D$106=19,ROUND($D$17,0),\"\")&\"\"","v":""},{"$f":"IF($E$106=19,ROUND($E$17,0),\"\")&\"\"","v":""},{"$f":"IF($F$106=19,ROUND($F$17,0),\"\")&\"\"","v":""},{"$f":"IF($G$106=19,ROUND($G$17,0),\"\")&\"\"","v":""},{"$f":"IF($H$106=19,ROUND($H$17,0),\"\")&\"\"","v":""},{"$f":"IF($I$106=19,ROUND($I$17,0),\"\")&\"\"","v":""},{"$f":"IF($J$106=19,ROUND($J$17,0),\"\")&\"\"","v":""},{"$f":"IF($K$106=19,ROUND($K$17,0),\"\")&\"\"","v":""},{"$f":"IF($L$106=19,ROUND($L$17,0),\"\")&\"\"","v":""},{"$f":"IF($M$106=19,ROUND($M$17,0),\"\")&\"\"","v":""},{"$f":"IF($N$106=19,ROUND($N$17,0),\"\")&\"\"","v":""},{"$f":"IF($O$106=19,ROUND($O$17,0),\"\")&\"\"","v":""},{"$f":"IF($P$106=19,ROUND($P$17,0),\"\")&\"\"","v":""},{"$f":"IF($Q$106=19,ROUND($Q$17,0),\"\")&\"\"","v":""},{"$f":"IF($R$106=19,ROUND($R$17,0),\"\")&\"\"","v":""},{"$f":"IF($S$106=19,ROUND($S$17,0),\"\")&\"\"","v":""},{"$f":"IF($T$106=19,ROUND($T$17,0),\"\")&\"\"","v":""},{"$f":"IF($U$106=19,ROUND($U$17,0),\"\")&\"\"","v":""},{"$f":"IF($V$106=19,ROUND($V$17,0),\"\")&\"\"","v":""},{"$f":"IF($W$106=19,ROUND($W$17,0),\"\")&\"\"","v":""},{"$f":"IF($X$106=19,ROUND($X$17,0),\"\")&\"\"","v":""},{"$f":"IF($Y$106=19,ROUND($Y$17,0),\"\")&\"\"","v":""},{"$f":"IF($Z$106=19,ROUND($Z$17,0),\"\")&\"\"","v":""},{"$f":"IF($AA$106=19,ROUND($AA$17,0),\"\")&\"\"","v":""},9]
[null,null,10,{"$f":"IF($D$107=19,ROUND($D$18,0),\"\")&\"\"","v":""},{"$f":"IF($E$107=19,ROUND($E$18,0),\"\")&\"\"","v":""},{"$f":"IF($F$107=19,ROUND($F$18,0),\"\")&\"\"","v":""},{"$f":"IF($G$107=19,ROUND($G$18,0),\"\")&\"\"","v":""},{"$f":"IF($H$107=19,ROUND($H$18,0),\"\")&\"\"","v":""},{"$f":"IF($I$107=19,ROUND($I$18,0),\"\")&\"\"","v":""},{"$f":"IF($J$107=19,ROUND($J$18,0),\"\")&\"\"","v":""},{"$f":"IF($K$107=19,ROUND($K$18,0),\"\")&\"\"","v":""},{"$f":"IF($L$107=19,ROUND($L$18,0),\"\")&\"\"","v":""},{"$f":"IF($M$107=19,ROUND($M$18,0),\"\")&\"\"","v":""},{"$f":"IF($N$107=19,ROUND($N$18,0),\"\")&\"\"","v":""},{"$f":"IF($O$107=19,ROUND($O$18,0),\"\")&\"\"","v":""},{"$f":"IF($P$107=19,ROUND($P$18,0),\"\")&\"\"","v":""},{"$f":"IF($Q$107=19,ROUND($Q$18,0),\"\")&\"\"","v":""},{"$f":"IF($R$107=19,ROUND($R$18,0),\"\")&\"\"","v":""},{"$f":"IF($S$107=19,ROUND($S$18,0),\"\")&\"\"","v":""},{"$f":"IF($T$107=19,ROUND($T$18,0),\"\")&\"\"","v":""},{"$f":"IF($U$107=19,ROUND($U$18,0),\"\")&\"\"","v":""},{"$f":"IF($V$107=19,ROUND($V$18,0),\"\")&\"\"","v":""},{"$f":"IF($W$107=19,ROUND($W$18,0),\"\")&\"\"","v":""},{"$f":"IF($X$107=19,ROUND($X$18,0),\"\")&\"\"","v":""},{"$f":"IF($Y$107=19,ROUND($Y$18,0),\"\")&\"\"","v":""},{"$f":"IF($Z$107=19,ROUND($Z$18,0),\"\")&\"\"","v":""},{"$f":"IF($AA$107=19,ROUND($AA$18,0),\"\")&\"\"","v":""},10]
[null,null,11,{"$f":"IF($D$108=19,ROUND($D$19,0),\"\")&\"\"","v":""},{"$f":"IF($E$108=19,ROUND($E$19,0),\"\")&\"\"","v":""},{"$f":"IF($F$108=19,ROUND($F$19,0),\"\")&\"\"","v":""},{"$f":"IF($G$108=19,ROUND($G$19,0),\"\")&\"\"","v":""},{"$f":"IF($H$108=19,ROUND($H$19,0),\"\")&\"\"","v":""},{"$f":"IF($I$108=19,ROUND($I$19,0),\"\")&\"\"","v":""},{"$f":"IF($J$108=19,ROUND($J$19,0),\"\")&\"\"","v":""},{"$f":"IF($K$108=19,ROUND($K$19,0),\"\")&\"\"","v":""},{"$f":"IF($L$108=19,ROUND($L$19,0),\"\")&\"\"","v":""},{"$f":"IF($M$108=19,ROUND($M$19,0),\"\")&\"\"","v":""},{"$f":"IF($N$108=19,ROUND($N$19,0),\"\")&\"\"","v":""},{"$f":"IF($O$108=19,ROUND($O$19,0),\"\")&\"\"","v":""},{"$f":"IF($P$108=19,ROUND($P$19,0),\"\")&\"\"","v":""},{"$f":"IF($Q$108=19,ROUND($Q$19,0),\"\")&\"\"","v":""},{"$f":"IF($R$108=19,ROUND($R$19,0),\"\")&\"\"","v":""},{"$f":"IF($S$108=19,ROUND($S$19,0),\"\")&\"\"","v":""},{"$f":"IF($T$108=19,ROUND($T$19,0),\"\")&\"\"","v":""},{"$f":"IF($U$108=19,ROUND($U$19,0),\"\")&\"\"","v":""},{"$f":"IF($V$108=19,ROUND($V$19,0),\"\")&\"\"","v":""},{"$f":"IF($W$108=19,ROUND($W$19,0),\"\")&\"\"","v":""},{"$f":"IF($X$108=19,ROUND($X$19,0),\"\")&\"\"","v":""},{"$f":"IF($Y$108=19,ROUND($Y$19,0),\"\")&\"\"","v":""},{"$f":"IF($Z$108=19,ROUND($Z$19,0),\"\")&\"\"","v":""},{"$f":"IF($AA$108=19,ROUND($AA$19,0),\"\")&\"\"","v":""},11]
[null,null,12,{"$f":"IF($D$109=19,ROUND($D$20,0),\"\")&\"\"","v":""},{"$f":"IF($E$109=19,ROUND($E$20,0),\"\")&\"\"","v":""},{"$f":"IF($F$109=19,ROUND($F$20,0),\"\")&\"\"","v":""},{"$f":"IF($G$109=19,ROUND($G$20,0),\"\")&\"\"","v":""},{"$f":"IF($H$109=19,ROUND($H$20,0),\"\")&\"\"","v":""},{"$f":"IF($I$109=19,ROUND($I$20,0),\"\")&\"\"","v":""},{"$f":"IF($J$109=19,ROUND($J$20,0),\"\")&\"\"","v":""},{"$f":"IF($K$109=19,ROUND($K$20,0),\"\")&\"\"","v":""},{"$f":"IF($L$109=19,ROUND($L$20,0),\"\")&\"\"","v":""},{"$f":"IF($M$109=19,ROUND($M$20,0),\"\")&\"\"","v":""},{"$f":"IF($N$109=19,ROUND($N$20,0),\"\")&\"\"","v":""},{"$f":"IF($O$109=19,ROUND($O$20,0),\"\")&\"\"","v":""},{"$f":"IF($P$109=19,ROUND($P$20,0),\"\")&\"\"","v":""},{"$f":"IF($Q$109=19,ROUND($Q$20,0),\"\")&\"\"","v":""},{"$f":"IF($R$109=19,ROUND($R$20,0),\"\")&\"\"","v":""},{"$f":"IF($S$109=19,ROUND($S$20,0),\"\")&\"\"","v":""},{"$f":"IF($T$109=19,ROUND($T$20,0),\"\")&\"\"","v":""},{"$f":"IF($U$109=19,ROUND($U$20,0),\"\")&\"\"","v":""},{"$f":"IF($V$109=19,ROUND($V$20,0),\"\")&\"\"","v":""},{"$f":"IF($W$109=19,ROUND($W$20,0),\"\")&\"\"","v":""},{"$f":"IF($X$109=19,ROUND($X$20,0),\"\")&\"\"","v":""},{"$f":"IF($Y$109=19,ROUND($Y$20,0),\"\")&\"\"","v":""},{"$f":"IF($Z$109=19,ROUND($Z$20,0),\"\")&\"\"","v":""},{"$f":"IF($AA$109=19,ROUND($AA$20,0),\"\")&\"\"","v":""},12]
[null,null,1,{"$f":"IF($D$110=19,ROUND($D$21,0),\"\")&\"\"","v":""},{"$f":"IF($E$110=19,ROUND($E$21,0),\"\")&\"\"","v":""},{"$f":"IF($F$110=19,ROUND($F$21,0),\"\")&\"\"","v":""},{"$f":"IF($G$110=19,ROUND($G$21,0),\"\")&\"\"","v":""},{"$f":"IF($H$110=19,ROUND($H$21,0),\"\")&\"\"","v":""},{"$f":"IF($I$110=19,ROUND($I$21,0),\"\")&\"\"","v":""},{"$f":"IF($J$110=19,ROUND($J$21,0),\"\")&\"\"","v":""},{"$f":"IF($K$110=19,ROUND($K$21,0),\"\")&\"\"","v":""},{"$f":"IF($L$110=19,ROUND($L$21,0),\"\")&\"\"","v":""},{"$f":"IF($M$110=19,ROUND($M$21,0),\"\")&\"\"","v":""},{"$f":"IF($N$110=19,ROUND($N$21,0),\"\")&\"\"","v":""},{"$f":"IF($O$110=19,ROUND($O$21,0),\"\")&\"\"","v":""},{"$f":"IF($P$110=19,ROUND($P$21,0),\"\")&\"\"","v":""},{"$f":"IF($Q$110=19,ROUND($Q$21,0),\"\")&\"\"","v":""},{"$f":"IF($R$110=19,ROUND($R$21,0),\"\")&\"\"","v":""},{"$f":"IF($S$110=19,ROUND($S$21,0),\"\")&\"\"","v":""},{"$f":"IF($T$110=19,ROUND($T$21,0),\"\")&\"\"","v":""},{"$f":"IF($U$110=19,ROUND($U$21,0),\"\")&\"\"","v":""},{"$f":"IF($V$110=19,ROUND($V$21,0),\"\")&\"\"","v":""},{"$f":"IF($W$110=19,ROUND($W$21,0),\"\")&\"\"","v":""},{"$f":"IF($X$110=19,ROUND($X$21,0),\"\")&\"\"","v":""},{"$f":"IF($Y$110=19,ROUND($Y$21,0),\"\")&\"\"","v":""},{"$f":"IF($Z$110=19,ROUND($Z$21,0),\"\")&\"\"","v":""},{"$f":"IF($AA$110=19,ROUND($AA$21,0),\"\")&\"\"","v":""},1]
[null,null,2,{"$f":"IF($D$111=19,ROUND($D$22,0),\"\")&\"\"","v":""},{"$f":"IF($E$111=19,ROUND($E$22,0),\"\")&\"\"","v":""},{"$f":"IF($F$111=19,ROUND($F$22,0),\"\")&\"\"","v":""},{"$f":"IF($G$111=19,ROUND($G$22,0),\"\")&\"\"","v":""},{"$f":"IF($H$111=19,ROUND($H$22,0),\"\")&\"\"","v":""},{"$f":"IF($I$111=19,ROUND($I$22,0),\"\")&\"\"","v":""},{"$f":"IF($J$111=19,ROUND($J$22,0),\"\")&\"\"","v":""},{"$f":"IF($K$111=19,ROUND($K$22,0),\"\")&\"\"","v":""},{"$f":"IF($L$111=19,ROUND($L$22,0),\"\")&\"\"","v":""},{"$f":"IF($M$111=19,ROUND($M$22,0),\"\")&\"\"","v":""},{"$f":"IF($N$111=19,ROUND($N$22,0),\"\")&\"\"","v":""},{"$f":"IF($O$111=19,ROUND($O$22,0),\"\")&\"\"","v":""},{"$f":"IF($P$111=19,ROUND($P$22,0),\"\")&\"\"","v":""},{"$f":"IF($Q$111=19,ROUND($Q$22,0),\"\")&\"\"","v":""},{"$f":"IF($R$111=19,ROUND($R$22,0),\"\")&\"\"","v":""},{"$f":"IF($S$111=19,ROUND($S$22,0),\"\")&\"\"","v":""},{"$f":"IF($T$111=19,ROUND($T$22,0),\"\")&\"\"","v":""},{"$f":"IF($U$111=19,ROUND($U$22,0),\"\")&\"\"","v":""},{"$f":"IF($V$111=19,ROUND($V$22,0),\"\")&\"\"","v":""},{"$f":"IF($W$111=19,ROUND($W$22,0),\"\")&\"\"","v":""},{"$f":"IF($X$111=19,ROUND($X$22,0),\"\")&\"\"","v":""},{"$f":"IF($Y$111=19,ROUND($Y$22,0),\"\")&\"\"","v":""},{"$f":"IF($Z$111=19,ROUND($Z$22,0),\"\")&\"\"","v":""},{"$f":"IF($AA$111=19,ROUND($AA$22,0),\"\")&\"\"","v":""},2]
[null,null,3,{"$f":"IF($D$112=19,ROUND($D$23,0),\"\")&\"\"","v":""},{"$f":"IF($E$112=19,ROUND($E$23,0),\"\")&\"\"","v":""},{"$f":"IF($F$112=19,ROUND($F$23,0),\"\")&\"\"","v":""},{"$f":"IF($G$112=19,ROUND($G$23,0),\"\")&\"\"","v":""},{"$f":"IF($H$112=19,ROUND($H$23,0),\"\")&\"\"","v":""},{"$f":"IF($I$112=19,ROUND($I$23,0),\"\")&\"\"","v":""},{"$f":"IF($J$112=19,ROUND($J$23,0),\"\")&\"\"","v":""},{"$f":"IF($K$112=19,ROUND($K$23,0),\"\")&\"\"","v":""},{"$f":"IF($L$112=19,ROUND($L$23,0),\"\")&\"\"","v":""},{"$f":"IF($M$112=19,ROUND($M$23,0),\"\")&\"\"","v":""},{"$f":"IF($N$112=19,ROUND($N$23,0),\"\")&\"\"","v":""},{"$f":"IF($O$112=19,ROUND($O$23,0),\"\")&\"\"","v":""},{"$f":"IF($P$112=19,ROUND($P$23,0),\"\")&\"\"","v":""},{"$f":"IF($Q$112=19,ROUND($Q$23,0),\"\")&\"\"","v":""},{"$f":"IF($R$112=19,ROUND($R$23,0),\"\")&\"\"","v":""},{"$f":"IF($S$112=19,ROUND($S$23,0),\"\")&\"\"","v":""},{"$f":"IF($T$112=19,ROUND($T$23,0),\"\")&\"\"","v":""},{"$f":"IF($U$112=19,ROUND($U$23,0),\"\")&\"\"","v":""},{"$f":"IF($V$112=19,ROUND($V$23,0),\"\")&\"\"","v":""},{"$f":"IF($W$112=19,ROUND($W$23,0),\"\")&\"\"","v":""},{"$f":"IF($X$112=19,ROUND($X$23,0),\"\")&\"\"","v":""},{"$f":"IF($Y$112=19,ROUND($Y$23,0),\"\")&\"\"","v":""},{"$f":"IF($Z$112=19,ROUND($Z$23,0),\"\")&\"\"","v":""},{"$f":"IF($AA$112=19,ROUND($AA$23,0),\"\")&\"\"","v":""},3]
[]
[null,null,"冷却期間中　外気湿球温度(Tw)が発生する時間[hour]",null,null,null,null,null,null,null,null,null,null,null,null,null,null,null,null,null,null,null,null,null,null,null,null,null,null,null,null,null,null,null,null,null,null,null,null,null,null,null,null,null,null,null,null,null,null,null,{"$f":"Q35+Q36+Q37","v":7.4},null,null,{"$f":"R35+R36+R37","v":0},null,null,{"$f":"S35+S36+S37","v":0},null,null,null,{"$f":"Q49+Q50+Q51","v":0},null,null,{"$f":"R49+R50+R51","v":0},null,null,{"$f":"S49+S50+S51","v":0}]
[null,null,null,"外気湿球温度(Tw)",null,null,null,null,null,null,null,null,null,null,null,null,null,null,null,null,null,null,null,null,null,null,null,null,null,null,null,null,null,null,null,null,null,null,null,null,null,null,null,null,null,null,null,null,null,"前1",null,null,"前2",null,null,"前3",null,null,null,"後1",null,null,"後2",null,null,"後3"]
[null,null,"月",-6,-5,-4,-3,-2,-1,0,1,2,3,4,5,6,7,8,9,10,11,12,13,14,15,16,17,18,19,20,21,22,23,24,25,26,27,28,29,30,31,32,33,34,35,"月",null,"EccのΣ","EaxcのΣ","Ecc","Eaxc","Ec","Ecc","Eaxc","Ec","Ecc","Eaxc","Ec",null,"Ecc","Eaxc","Ec","Ecc","Eaxc","Ec","Ecc","Eaxc","Ec"]
[null,null,4,{"$f":"COUNTIF($D$117:$AA$117,$D$148)*$AB$12","v":0},{"$f":"COUNTIF($D$117:$AA$117,$E$148)*$AB$12","v":0},{"$f":"COUNTIF($D$117:$AA$117,$F$148)*$AB$12","v":0},{"$f":"COUNTIF($D$117:$AA$117,$G$148)*$AB$12","v":0},{"$f":"COUNTIF($D$117:$AA$117,$H$148)*$AB$12","v":0},{"$f":"COUNTIF($D$117:$AA$117,$I$148)*$AB$12","v":0},{"$f":"COUNTIF($D$117:$AA$117,$J$148)*$AB$12","v":0},{"$f":"COUNTIF($D$117:$AA$117,$K$148)*$AB$12","v":0},{"$f":"COUNTIF($D$117:$AA$117,$L$148)*$AB$12","v":0},{"$f":"COUNTIF($D$117:$AA$117,$M$148)*$AB$12","v":0},{"$f":"COUNTIF($D$117:$AA$117,$N$148)*$AB$12","v":0},{"$f":"COUNTIF($D$117:$AA$117,$O$148)*$AB$12","v":0},{"$f":"COUNTIF($D$117:$AA$117,$P$148)*$AB$12","v":0},{"$f":"COUNTIF($D$117:$AA$117,$Q$148)*$AB$12","v":0},{"$f":"COUNTIF($D$117:$AA$117,$R$148)*$AB$12","v":0},{"$f":"COUNTIF($D$117:$AA$117,$S$148)*$AB$12","v":0},{"$f":"COUNTIF($D$117:$AA$117,$T$148)*$AB$12","v":0},{"$f":"COUNTIF($D$117:$AA$117,$U$148)*$AB$12","v":0},{"$f":"COUNTIF($D$117:$AA$117,$V$148)*$AB$12","v":0},{"$f":"COUNTIF($D$117:$AA$117,$W$148)*$AB$12","v":0},{"$f":"COUNTIF($D$117:$AA$117,$X$148)*$AB$12","v":0},{"$f":"COUNTIF($D$117:$AA$117,$Y$148)*$AB$12","v":0},{"$f":"COUNTIF($D$117:$AA$117,$Z$148)*$AB$12","v":0},{"$f":"COUNTIF($D$117:$AA$117,$AA$148)*$AB$12","v":0},{"$f":"COUNTIF($D$117:$AA$117,$AB$148)*$AB$12","v":0},{"$f":"COUNTIF($D$117:$AA$117,$AC$148)*$AB$12","v":0},{"$f":"COUNTIF($D$117:$AA$117,$AD$148)*$AB$12","v":0},{"$f":"COUNTIF($D$117:$AA$117,$AE$148)*$AB$12","v":0},{"$f":"COUNTIF($D$117:$AA$117,$AF$148)*$AB$12","v":0},{"$f":"COUNTIF($D$117:$AA$117,$AG$148)*$AB$12","v":0},{"$f":"COUNTIF($D$117:$AA$117,$AH$148)*$AB$12","v":0},{"$f":"COUNTIF($D$117:$AA$117,$AI$148)*$AB$12","v":0},{"$f":"COUNTIF($D$117:$AA$117,$AJ$148)*$AB$12","v":0},{"$f":"COUNTIF($D$117:$AA$117,$AK$148)*$AB$12","v":0},{"$f":"COUNTIF($D$117:$AA$117,$AL$148)*$AB$12","v":0},{"$f":"COUNTIF($D$117:$AA$117,$AM$148)*$AB$12","v":0},{"$f":"COUNTIF($D$117:$AA$117,$AN$148)*$AB$12","v":0},{"$f":"COUNTIF($D$117:$AA$117,$AO$148)*$AB$12","v":0},{"$f":"COUNTIF($D$117:$AA$117,$AP$148)*$AB$12","v":0},{"$f":"COUNTIF($D$117:$AA$117,$AQ$148)*$AB$12","v":0},{"$f":"COUNTIF($D$117:$AA$117,$AR$148)*$AB$12","v":0},{"$f":"COUNTIF($D$117:$AA$117,$AS$148)*$AB$12","v":0},4,null,{"$f":"SUMPRODUCT($D$149:$AS$149,$D$162:$AS$162)","v":0},{"$f":"SUMPRODUCT($D149:$AS149,$D$189:$AS$189)","v":0},{"$f":"$Q$26/($C$7*$Q$31)*$AV149","v":{"$error":"#VALUE!"}},{"$f":"AW149*$AY$146","v":0},{"$f":"IFERROR(AX149+AY149,\"\")","v":""},{"$f":"$Q$26/($C$7*$R$31)*$AV149","v":{"$error":"#VALUE!"}},{"$f":"AW149*$BB$146","v":0},{"$f":"IFERROR(BA149+BB149,\"\")","v":""},{"$f":"$Q$26/($C$7*$S$31)*$AV149","v":{"$error":"#VALUE!"}},{"$f":"AW149*$BE$146","v":0},{"$f":"IFERROR(BD149+BE149,\"\")","v":""},null,{"$f":"$Q$26/($C$7*$Q$45)*$AV149","v":{"$error":"#VALUE!"}},{"$f":"AW149*$BI$146","v":0},{"$f":"IFERROR(BH149+BI149,\"\")","v":""},{"$f":"$Q$26/($C$7*$R$45)*$AV149","v":{"$error":"#VALUE!"}},{"$f":"AW149*$BL$146","v":0},{"$f":"IFERROR(BK149+BL149,\"\")","v":""},{"$f":"$Q$26/($C$7*$S$45)*$AV149","v":{"$error":"#VALUE!"}},{"$f":"AW149*$BO$146","v":0},{"$f":"IFERROR(BN149+BO149,\"\")","v":""}]
[null,null,5,{"$f":"COUNTIF($D$118:$AA$118,$D$148)*$AB$13","v":0},{"$f":"COUNTIF($D$118:$AA$118,$E$148)*$AB$13","v":0},{"$f":"COUNTIF($D$118:$AA$118,$F$148)*$AB$13","v":0},{"$f":"COUNTIF($D$118:$AA$118,$G$148)*$AB$13","v":0},{"$f":"COUNTIF($D$118:$AA$118,$H$148)*$AB$13","v":0},{"$f":"COUNTIF($D$118:$AA$118,$I$148)*$AB$13","v":0},{"$f":"COUNTIF($D$118:$AA$118,$J$148)*$AB$13","v":0},{"$f":"COUNTIF($D$118:$AA$118,$K$148)*$AB$13","v":0},{"$f":"COUNTIF($D$118:$AA$118,$L$148)*$AB$13","v":0},{"$f":"COUNTIF($D$118:$AA$118,$M$148)*$AB$13","v":0},{"$f":"COUNTIF($D$118:$AA$118,$N$148)*$AB$13","v":0},{"$f":"COUNTIF($D$118:$AA$118,$O$148)*$AB$13","v":0},{"$f":"COUNTIF($D$118:$AA$118,$P$148)*$AB$13","v":0},{"$f":"COUNTIF($D$118:$AA$118,$Q$148)*$AB$13","v":0},{"$f":"COUNTIF($D$118:$AA$118,$R$148)*$AB$13","v":0},{"$f":"COUNTIF($D$118:$AA$118,$S$148)*$AB$13","v":0},{"$f":"COUNTIF($D$118:$AA$118,$T$148)*$AB$13","v":0},{"$f":"COUNTIF($D$118:$AA$118,$U$148)*$AB$13","v":0},{"$f":"COUNTIF($D$118:$AA$118,$V$148)*$AB$13","v":0},{"$f":"COUNTIF($D$118:$AA$118,$W$148)*$AB$13","v":0},{"$f":"COUNTIF($D$118:$AA$118,$X$148)*$AB$13","v":0},{"$f":"COUNTIF($D$118:$AA$118,$Y$148)*$AB$13","v":0},{"$f":"COUNTIF($D$118:$AA$118,$Z$148)*$AB$13","v":0},{"$f":"COUNTIF($D$118:$AA$118,$AA$148)*$AB$13","v":0},{"$f":"COUNTIF($D$118:$AA$118,$AB$148)*$AB$13","v":0},{"$f":"COUNTIF($D$118:$AA$118,$AC$148)*$AB$13","v":0},{"$f":"COUNTIF($D$118:$AA$118,$AD$148)*$AB$13","v":0},{"$f":"COUNTIF($D$118:$AA$118,$AE$148)*$AB$13","v":0},{"$f":"COUNTIF($D$118:$AA$118,$AF$148)*$AB$13","v":0},{"$f":"COUNTIF($D$118:$AA$118,$AG$148)*$AB$13","v":0},{"$f":"COUNTIF($D$118:$AA$118,$AH$148)*$AB$13","v":0},{"$f":"COUNTIF($D$118:$AA$118,$AI$148)*$AB$13","v":0},{"$f":"COUNTIF($D$118:$AA$118,$AJ$148)*$AB$13","v":0},{"$f":"COUNTIF($D$118:$AA$118,$AK$148)*$AB$13","v":0},{"$f":"COUNTIF($D$118:$AA$118,$AL$148)*$AB$13","v":0},{"$f":"COUNTIF($D$118:$AA$118,$AM$148)*$AB$13","v":0},{"$f":"COUNTIF($D$118:$AA$118,$AN$148)*$AB$13","v":0},{"$f":"COUNTIF($D$118:$AA$118,$AO$148)*$AB$13","v":0},{"$f":"COUNTIF($D$118:$AA$118,$AP$148)*$AB$13","v":0},{"$f":"COUNTIF($D$118:$AA$118,$AQ$148)*$AB$13","v":0},{"$f":"COUNTIF($D$118:$AA$118,$AR$148)*$AB$13","v":0},{"$f":"COUNTIF($D$118:$AA$118,$AS$148)*$AB$13","v":0},5,null,{"$f":"SUMPRODUCT($D$150:$AS$150,$D$162:$AS$162)","v":0},{"$f":"SUMPRODUCT($D150:$AS150,$D$189:$AS$189)","v":0},{"$f":"$Q$26/($C$7*$Q$31)*$AV150","v":{"$error":"#VALUE!"}},{"$f":"AW150*$AY$146","v":0},{"$f":"IFERROR(AX150+AY150,\"\")","v":""},{"$f":"$Q$26/($C$7*$R$31)*$AV150","v":{"$error":"#VALUE!"}},{"$f":"AW150*$BB$146","v":0},{"$f":"IFERROR(BA150+BB150,\"\")","v":""},{"$f":"$Q$26/($C$7*$S$31)*$AV150","v":{"$error":"#VALUE!"}},{"$f":"AW150*$BE$146","v":0},{"$f":"IFERROR(BD150+BE150,\"\")","v":""},null,{"$f":"$Q$26/($C$7*$Q$45)*$AV150","v":{"$error":"#VALUE!"}},{"$f":"AW150*$BI$146","v":0},{"$f":"IFERROR(BH150+BI150,\"\")","v":""},{"$f":"$Q$26/($C$7*$R$45)*$AV150","v":{"$error":"#VALUE!"}},{"$f":"AW150*$BL$146","v":0},{"$f":"IFERROR(BK150+BL150,\"\")","v":""},{"$f":"$Q$26/($C$7*$S$45)*$AV150","v":{"$error":"#VALUE!"}},{"$f":"AW150*$BO$146","v":0},{"$f":"IFERROR(BN150+BO150,\"\")","v":""}]
[null,null,6,{"$f":"COUNTIF($D$119:$AA$119,$D$148)*$AB$14","v":0},{"$f":"COUNTIF($D$119:$AA$119,$E$148)*$AB$14","v":0},{"$f":"COUNTIF($D$119:$AA$119,$F$148)*$AB$14","v":0},{"$f":"COUNTIF($D$119:$AA$119,$G$148)*$AB$14","v":0},{"$f":"COUNTIF($D$119:$AA$119,$H$148)*$AB$14","v":0},{"$f":"COUNTIF($D$119:$AA$119,$I$148)*$AB$14","v":0},{"$f":"COUNTIF($D$119:$AA$119,$J$148)*$AB$14","v":0},{"$f":"COUNTIF($D$119:$AA$119,$K$148)*$AB$14","v":0},{"$f":"COUNTIF($D$119:$AA$119,$L$148)*$AB$14","v":0},{"$f":"COUNTIF($D$119:$AA$119,$M$148)*$AB$14","v":0},{"$f":"COUNTIF($D$119:$AA$119,$N$148)*$AB$14","v":0},{"$f":"COUNTIF($D$119:$AA$119,$O$148)*$AB$14","v":0},{"$f":"COUNTIF($D$119:$AA$119,$P$148)*$AB$14","v":0},{"$f":"COUNTIF($D$119:$AA$119,$Q$148)*$AB$14","v":0},{"$f":"COUNTIF($D$119:$AA$119,$R$148)*$AB$14","v":0},{"$f":"COUNTIF($D$119:$AA$119,$S$148)*$AB$14","v":0},{"$f":"COUNTIF($D$119:$AA$119,$T$148)*$AB$14","v":0},{"$f":"COUNTIF($D$119:$AA$119,$U$148)*$AB$14","v":0},{"$f":"COUNTIF($D$119:$AA$119,$V$148)*$AB$14","v":0},{"$f":"COUNTIF($D$119:$AA$119,$W$148)*$AB$14","v":0},{"$f":"COUNTIF($D$119:$AA$119,$X$148)*$AB$14","v":0},{"$f":"COUNTIF($D$119:$AA$119,$Y$148)*$AB$14","v":0},{"$f":"COUNTIF($D$119:$AA$119,$Z$148)*$AB$14","v":0},{"$f":"COUNTIF($D$119:$AA$119,$AA$148)*$AB$14","v":0},{"$f":"COUNTIF($D$119:$AA$119,$AB$148)*$AB$14","v":0},{"$f":"COUNTIF($D$119:$AA$119,$AC$148)*$AB$14","v":0},{"$f":"COUNTIF($D$119:$AA$119,$AD$148)*$AB$14","v":0},{"$f":"COUNTIF($D$119:$AA$119,$AE$148)*$AB$14","v":0},{"$f":"COUNTIF($D$119:$AA$119,$AF$148)*$AB$14","v":0},{"$f":"COUNTIF($D$119:$AA$119,$AG$148)*$AB$14","v":0},{"$f":"COUNTIF($D$119:$AA$119,$AH$148)*$AB$14","v":0},{"$f":"COUNTIF($D$119:$AA$119,$AI$148)*$AB$14","v":0},{"$f":"COUNTIF($D$119:$AA$119,$AJ$148)*$AB$14","v":0},{"$f":"COUNTIF($D$119:$AA$119,$AK$148)*$AB$14","v":0},{"$f":"COUNTIF($D$119:$AA$119,$AL$148)*$AB$14","v":0},{"$f":"COUNTIF($D$119:$AA$119,$AM$148)*$AB$14","v":0},{"$f":"COUNTIF($D$119:$AA$119,$AN$148)*$AB$14","v":0},{"$f":"COUNTIF($D$119:$AA$119,$AO$148)*$AB$14","v":0},{"$f":"COUNTIF($D$119:$AA$119,$AP$148)*$AB$14","v":0},{"$f":"COUNTIF($D$119:$AA$119,$AQ$148)*$AB$14","v":0},{"$f":"COUNTIF($D$119:$AA$119,$AR$148)*$AB$14","v":0},{"$f":"COUNTIF($D$119:$AA$119,$AS$148)*$AB$14","v":0},6,null,{"$f":"SUMPRODUCT($D$151:$AS$151,$D$162:$AS$162)","v":0},0,{"$f":"$Q$26/($C$7*$Q$31)*$AV151","v":{"$error":"#VALUE!"}},0,"",{"$error":"#VALUE!"},0,"",{"$error":"#VALUE!"},0,{"$f":"IFERROR(BD151+BE151,\"\")","v":""},null,{"$error":"#VALUE!"},0,"",{"$error":"#VALUE!"},0,"",{"$error":"#VALUE!"},0,{"$f":"IFERROR(BN151+BO151,\"\")","v":""}]
[null,null,7,{"$f":"COUNTIF($D$120:$AA$120,$D$148)*$AB$15","v":0},{"$f":"COUNTIF($D$120:$AA$120,$E$148)*$AB$15","v":0},{"$f":"COUNTIF($D$120:$AA$120,$F$148)*$AB$15","v":0},{"$f":"COUNTIF($D$120:$AA$120,$G$148)*$AB$15","v":0},{"$f":"COUNTIF($D$120:$AA$120,$H$148)*$AB$15","v":0},{"$f":"COUNTIF($D$120:$AA$120,$I$148)*$AB$15","v":0},{"$f":"COUNTIF($D$120:$AA$120,$J$148)*$AB$15","v":0},{"$f":"COUNTIF($D$120:$AA$120,$K$148)*$AB$15","v":0},{"$f":"COUNTIF($D$120:$AA$120,$L$148)*$AB$15","v":0},{"$f":"COUNTIF($D$120:$AA$120,$M$148)*$AB$15","v":0},{"$f":"COUNTIF($D$120:$AA$120,$N$148)*$AB$15","v":0},{"$f":"COUNTIF($D$120:$AA$120,$O$148)*$AB$15","v":0},{"$f":"COUNTIF($D$120:$AA$120,$P$148)*$AB$15","v":0},{"$f":"COUNTIF($D$120:$AA$120,$Q$148)*$AB$15","v":0},{"$f":"COUNTIF($D$120:$AA$120,$R$148)*$AB$15","v":0},{"$f":"COUNTIF($D$120:$AA$120,$S$148)*$AB$15","v":0},{"$f":"COUNTIF($D$120:$AA$120,$T$148)*$AB$15","v":0},{"$f":"COUNTIF($D$120:$AA$120,$U$148)*$AB$15","v":0},{"$f":"COUNTIF($D$120:$AA$120,$V$148)*$AB$15","v":0},{"$f":"COUNTIF($D$120:$AA$120,$W$148)*$AB$15","v":0},{"$f":"COUNTIF($D$120:$AA$120,$X$148)*$AB$15","v":0},{"$f":"COUNTIF($D$120:$AA$120,$Y$148)*$AB$15","v":0},{"$f":"COUNTIF($D$120:$AA$120,$Z$148)*$AB$15","v":0},{"$f":"COUNTIF($D$120:$AA$120,$AA$148)*$AB$15","v":0},{"$f":"COUNTIF($D$120:$AA$120,$AB$148)*$AB$15","v":0},{"$f":"COUNTIF($D$120:$AA$120,$AC$148)*$AB$15","v":0},{"$f":"COUNTIF($D$120:$AA$120,$AD$148)*$AB$15","v":0},{"$f":"COUNTIF($D$120:$AA$120,$AE$148)*$AB$15","v":0},{"$f":"COUNTIF($D$120:$AA$120,$AF$148)*$AB$15","v":0},{"$f":"COUNTIF($D$120:$AA$120,$AG$148)*$AB$15","v":0},{"$f":"COUNTIF($D$120:$AA$120,$AH$148)*$AB$15","v":0},{"$f":"COUNTIF($D$120:$AA$120,$AI$148)*$AB$15","v":0},{"$f":"COUNTIF($D$120:$AA$120,$AJ$148)*$AB$15","v":0},{"$f":"COUNTIF($D$120:$AA$120,$AK$148)*$AB$15","v":0},{"$f":"COUNTIF($D$120:$AA$120,$AL$148)*$AB$15","v":0},{"$f":"COUNTIF($D$120:$AA$120,$AM$148)*$AB$15","v":0},{"$f":"COUNTIF($D$120:$AA$120,$AN$148)*$AB$15","v":0},{"$f":"COUNTIF($D$120:$AA$120,$AO$148)*$AB$15","v":0},{"$f":"COUNTIF($D$120:$AA$120,$AP$148)*$AB$15","v":0},{"$f":"COUNTIF($D$120:$AA$120,$AQ$148)*$AB$15","v":0},{"$f":"COUNTIF($D$120:$AA$120,$AR$148)*$AB$15","v":0},{"$f":"COUNTIF($D$120:$AA$120,$AS$148)*$AB$15","v":0},7,null,{"$f":"SUMPRODUCT($D$152:$AS$152,$D$162:$AS$162)","v":0},0,{"$error":"#VALUE!"},0,"",{"$error":"#VALUE!"},0,"",{"$error":"#VALUE!"},0,"",null,{"$error":"#VALUE!"},0,"",{"$error":"#VALUE!"},0,"",{"$error":"#VALUE!"},0,""]
[null,null,8,{"$f":"COUNTIF($D$121:$AA$121,$D$148)*$AB$16","v":0},{"$f":"COUNTIF($D$121:$AA$121,$E$148)*$AB$16","v":0},{"$f":"COUNTIF($D$121:$AA$121,$F$148)*$AB$16","v":0},{"$f":"COUNTIF($D$121:$AA$121,$G$148)*$AB$16","v":0},{"$f":"COUNTIF($D$121:$AA$121,$H$148)*$AB$16","v":0},{"$f":"COUNTIF($D$121:$AA$121,$I$148)*$AB$16","v":0},{"$f":"COUNTIF($D$121:$AA$121,$J$148)*$AB$16","v":0},{"$f":"COUNTIF($D$121:$AA$121,$K$148)*$AB$16","v":0},{"$f":"COUNTIF($D$121:$AA$121,$L$148)*$AB$16","v":0},{"$f":"COUNTIF($D$121:$AA$121,$M$148)*$AB$16","v":0},{"$f":"COUNTIF($D$121:$AA$121,$N$148)*$AB$16","v":0},{"$f":"COUNTIF($D$121:$AA$121,$O$148)*$AB$16","v":0},{"$f":"COUNTIF($D$121:$AA$121,$P$148)*$AB$16","v":0},{"$f":"COUNTIF($D$121:$AA$121,$Q$148)*$AB$16","v":0},{"$f":"COUNTIF($D$121:$AA$121,$R$148)*$AB$16","v":0},{"$f":"COUNTIF($D$121:$AA$121,$S$148)*$AB$16","v":0},{"$f":"COUNTIF($D$121:$AA$121,$T$148)*$AB$16","v":0},{"$f":"COUNTIF($D$121:$AA$121,$U$148)*$AB$16","v":0},{"$f":"COUNTIF($D$121:$AA$121,$V$148)*$AB$16","v":0},{"$f":"COUNTIF($D$121:$AA$121,$W$148)*$AB$16","v":0},{"$f":"COUNTIF($D$121:$AA$121,$X$148)*$AB$16","v":0},{"$f":"COUNTIF($D$121:$AA$121,$Y$148)*$AB$16","v":0},{"$f":"COUNTIF($D$121:$AA$121,$Z$148)*$AB$16","v":0},{"$f":"COUNTIF($D$121:$AA$121,$AA$148)*$AB$16","v":0},{"$f":"COUNTIF($D$121:$AA$121,$AB$148)*$AB$16","v":0},{"$f":"COUNTIF($D$121:$AA$121,$AC$148)*$AB$16","v":0},{"$f":"COUNTIF($D$121:$AA$121,$AD$148)*$AB$16","v":0},{"$f":"COUNTIF($D$121:$AA$121,$AE$148)*$AB$16","v":0},{"$f":"COUNTIF($D$121:$AA$121,$AF$148)*$AB$16","v":0},{"$f":"COUNTIF($D$121:$AA$121,$AG$148)*$AB$16","v":0},{"$f":"COUNTIF($D$121:$AA$121,$AH$148)*$AB$16","v":0},{"$f":"COUNTIF($D$121:$AA$121,$AI$148)*$AB$16","v":0},{"$f":"COUNTIF($D$121:$AA$121,$AJ$148)*$AB$16","v":0},{"$f":"COUNTIF($D$121:$AA$121,$AK$148)*$AB$16","v":0},{"$f":"COUNTIF($D$121:$AA$121,$AL$148)*$AB$16","v":0},{"$f":"COUNTIF($D$121:$AA$121,$AM$148)*$AB$16","v":0},{"$f":"COUNTIF($D$121:$AA$121,$AN$148)*$AB$16","v":0},{"$f":"COUNTIF($D$121:$AA$121,$AO$148)*$AB$16","v":0},{"$f":"COUNTIF($D$121:$AA$121,$AP$148)*$AB$16","v":0},{"$f":"COUNTIF($D$121:$AA$121,$AQ$148)*$AB$16","v":0},{"$f":"COUNTIF($D$121:$AA$121,$AR$148)*$AB$16","v":0},{"$f":"COUNTIF($D$121:$AA$121,$AS$148)*$AB$16","v":0},8,null,{"$f":"SUMPRODUCT($D$153:$AS$153,$D$162:$AS$162)","v":0},{"$f":"SUMPRODUCT($D153:$AS153,$D$189:$AS$189)","v":0},{"$error":"#VALUE!"},0,"",{"$error":"#VALUE!"},0,"",{"$error":"#VALUE!"},0,"",null,{"$error":"#VALUE!"},0,"",{"$error":"#VALUE!"},0,"",{"$error":"#VALUE!"},{"$f":"AW153*$BO$146","v":0},""]
[null,null,9,{"$f":"COUNTIF($D$122:$AA$122,$D$148)*$AB$17","v":0},{"$f":"COUNTIF($D$122:$AA$122,$E$148)*$AB$17","v":0},{"$f":"COUNTIF($D$122:$AA$122,$F$148)*$AB$17","v":0},{"$f":"COUNTIF($D$122:$AA$122,$G$148)*$AB$17","v":0},{"$f":"COUNTIF($D$122:$AA$122,$H$148)*$AB$17","v":0},{"$f":"COUNTIF($D$122:$AA$122,$I$148)*$AB$17","v":0},{"$f":"COUNTIF($D$122:$AA$122,$J$148)*$AB$17","v":0},{"$f":"COUNTIF($D$122:$AA$122,$K$148)*$AB$17","v":0},{"$f":"COUNTIF($D$122:$AA$122,$L$148)*$AB$17","v":0},{"$f":"COUNTIF($D$122:$AA$122,$M$148)*$AB$17","v":0},{"$f":"COUNTIF($D$122:$AA$122,$N$148)*$AB$17","v":0},{"$f":"COUNTIF($D$122:$AA$122,$O$148)*$AB$17","v":0},{"$f":"COUNTIF($D$122:$AA$122,$P$148)*$AB$17","v":0},{"$f":"COUNTIF($D$122:$AA$122,$Q$148)*$AB$17","v":0},{"$f":"COUNTIF($D$122:$AA$122,$R$148)*$AB$17","v":0},{"$f":"COUNTIF($D$122:$AA$122,$S$148)*$AB$17","v":0},{"$f":"COUNTIF($D$122:$AA$122,$T$148)*$AB$17","v":0},{"$f":"COUNTIF($D$122:$AA$122,$U$148)*$AB$17","v":0},{"$f":"COUNTIF($D$122:$AA$122,$V$148)*$AB$17","v":0},{"$f":"COUNTIF($D$122:$AA$122,$W$148)*$AB$17","v":0},{"$f":"COUNTIF($D$122:$AA$122,$X$148)*$AB$17","v":0},{"$f":"COUNTIF($D$122:$AA$122,$Y$148)*$AB$17","v":0},{"$f":"COUNTIF($D$122:$AA$122,$Z$148)*$AB$17","v":0},{"$f":"COUNTIF($D$122:$AA$122,$AA$148)*$AB$17","v":0},{"$f":"COUNTIF($D$122:$AA$122,$AB$148)*$AB$17","v":0},{"$f":"COUNTIF($D$122:$AA$122,$AC$148)*$AB$17","v":0},{"$f":"COUNTIF($D$122:$AA$122,$AD$148)*$AB$17","v":0},{"$f":"COUNTIF($D$122:$AA$122,$AE$148)*$AB$17","v":0},{"$f":"COUNTIF($D$122:$AA$122,$AF$148)*$AB$17","v":0},{"$f":"COUNTIF($D$122:$AA$122,$AG$148)*$AB$17","v":0},{"$f":"COUNTIF($D$122:$AA$122,$AH$148)*$AB$17","v":0},{"$f":"COUNTIF($D$122:$AA$122,$AI$148)*$AB$17","v":0},{"$f":"COUNTIF($D$122:$AA$122,$AJ$148)*$AB$17","v":0},{"$f":"COUNTIF($D$122:$AA$122,$AK$148)*$AB$17","v":0},{"$f":"COUNTIF($D$122:$AA$122,$AL$148)*$AB$17","v":0},{"$f":"COUNTIF($D$122:$AA$122,$AM$148)*$AB$17","v":0},{"$f":"COUNTIF($D$122:$AA$122,$AN$148)*$AB$17","v":0},{"$f":"COUNTIF($D$122:$AA$122,$AO$148)*$AB$17","v":0},{"$f":"COUNTIF($D$122:$AA$122,$AP$148)*$AB$17","v":0},{"$f":"COUNTIF($D$122:$AA$122,$AQ$148)*$AB$17","v":0},{"$f":"COUNTIF($D$122:$AA$122,$AR$148)*$AB$17","v":0},{"$f":"COUNTIF($D$122:$AA$122,$AS$148)*$AB$17","v":0},9,null,{"$f":"SUMPRODUCT($D$154:$AS$154,$D$162:$AS$162)","v":0},0,{"$f":"$Q$26/($C$7*$Q$31)*$AV154","v":{"$error":"#VALUE!"}},{"$f":"AW154*$AY$146","v":0},"",{"$error":"#VALUE!"},0,{"$f":"IFERROR(BA154+BB154,\"\")","v":""},{"$error":"#VALUE!"},0,"",null,{"$error":"#VALUE!"},0,{"$f":"IFERROR(BH154+BI154,\"\")","v":""},{"$error":"#VALUE!"},0,"",{"$error":"#VALUE!"},0,""]
[null,null,10,{"$f":"COUNTIF($D$123:$AA$123,$D$148)*$AB$18","v":0},{"$f":"COUNTIF($D$123:$AA$123,$E$148)*$AB$18","v":0},{"$f":"COUNTIF($D$123:$AA$123,$F$148)*$AB$18","v":0},{"$f":"COUNTIF($D$123:$AA$123,$G$148)*$AB$18","v":0},{"$f":"COUNTIF($D$123:$AA$123,$H$148)*$AB$18","v":0},{"$f":"COUNTIF($D$123:$AA$123,$I$148)*$AB$18","v":0},{"$f":"COUNTIF($D$123:$AA$123,$J$148)*$AB$18","v":0},{"$f":"COUNTIF($D$123:$AA$123,$K$148)*$AB$18","v":0},{"$f":"COUNTIF($D$123:$AA$123,$L$148)*$AB$18","v":0},{"$f":"COUNTIF($D$123:$AA$123,$M$148)*$AB$18","v":0},{"$f":"COUNTIF($D$123:$AA$123,$N$148)*$AB$18","v":0},{"$f":"COUNTIF($D$123:$AA$123,$O$148)*$AB$18","v":0},{"$f":"COUNTIF($D$123:$AA$123,$P$148)*$AB$18","v":0},{"$f":"COUNTIF($D$123:$AA$123,$Q$148)*$AB$18","v":0},{"$f":"COUNTIF($D$123:$AA$123,$R$148)*$AB$18","v":0},{"$f":"COUNTIF($D$123:$AA$123,$S$148)*$AB$18","v":0},{"$f":"COUNTIF($D$123:$AA$123,$T$148)*$AB$18","v":0},{"$f":"COUNTIF($D$123:$AA$123,$U$148)*$AB$18","v":0},{"$f":"COUNTIF($D$123:$AA$123,$V$148)*$AB$18","v":0},{"$f":"COUNTIF($D$123:$AA$123,$W$148)*$AB$18","v":0},{"$f":"COUNTIF($D$123:$AA$123,$X$148)*$AB$18","v":0},{"$f":"COUNTIF($D$123:$AA$123,$Y$148)*$AB$18","v":0},{"$f":"COUNTIF($D$123:$AA$123,$Z$148)*$AB$18","v":0},{"$f":"COUNTIF($D$123:$AA$123,$AA$148)*$AB$18","v":0},{"$f":"COUNTIF($D$123:$AA$123,$AB$148)*$AB$18","v":0},{"$f":"COUNTIF($D$123:$AA$123,$AC$148)*$AB$18","v":0},{"$f":"COUNTIF($D$123:$AA$123,$AD$148)*$AB$18","v":0},{"$f":"COUNTIF($D$123:$AA$123,$AE$148)*$AB$18","v":0},{"$f":"COUNTIF($D$123:$AA$123,$AF$148)*$AB$18","v":0},{"$f":"COUNTIF($D$123:$AA$123,$AG$148)*$AB$18","v":0},{"$f":"COUNTIF($D$123:$AA$123,$AH$148)*$AB$18","v":0},{"$f":"COUNTIF($D$123:$AA$123,$AI$148)*$AB$18","v":0},{"$f":"COUNTIF($D$123:$AA$123,$AJ$148)*$AB$18","v":0},{"$f":"COUNTIF($D$123:$AA$123,$AK$148)*$AB$18","v":0},{"$f":"COUNTIF($D$123:$AA$123,$AL$148)*$AB$18","v":0},{"$f":"COUNTIF($D$123:$AA$123,$AM$148)*$AB$18","v":0},{"$f":"COUNTIF($D$123:$AA$123,$AN$148)*$AB$18","v":0},{"$f":"COUNTIF($D$123:$AA$123,$AO$148)*$AB$18","v":0},{"$f":"COUNTIF($D$123:$AA$123,$AP$148)*$AB$18","v":0},{"$f":"COUNTIF($D$123:$AA$123,$AQ$148)*$AB$18","v":0},{"$f":"COUNTIF($D$123:$AA$123,$AR$148)*$AB$18","v":0},{"$f":"COUNTIF($D$123:$AA$123,$AS$148)*$AB$18","v":0},10,null,{"$f":"SUMPRODUCT($D$155:$AS$155,$D$162:$AS$162)","v":0},0,{"$error":"#VALUE!"},0,"",{"$error":"#VALUE!"},0,"",{"$error":"#VALUE!"},0,"",null,{"$error":"#VALUE!"},0,"",{"$error":"#VALUE!"},0,"",{"$error":"#VALUE!"},0,""]
[null,null,11,{"$f":"COUNTIF($D$124:$AA$124,$D$148)*$AB$19","v":0},{"$f":"COUNTIF($D$124:$AA$124,$E$148)*$AB$19","v":0},{"$f":"COUNTIF($D$124:$AA$124,$F$148)*$AB$19","v":0},{"$f":"COUNTIF($D$124:$AA$124,$G$148)*$AB$19","v":0},{"$f":"COUNTIF($D$124:$AA$124,$H$148)*$AB$19","v":0},{"$f":"COUNTIF($D$124:$AA$124,$I$148)*$AB$19","v":0},{"$f":"COUNTIF($D$124:$AA$124,$J$148)*$AB$19","v":0},{"$f":"COUNTIF($D$124:$AA$124,$K$148)*$AB$19","v":0},{"$f":"COUNTIF($D$124:$AA$124,$L$148)*$AB$19","v":0},{"$f":"COUNTIF($D$124:$AA$124,$M$148)*$AB$19","v":0},{"$f":"COUNTIF($D$124:$AA$124,$N$148)*$AB$19","v":0},{"$f":"COUNTIF($D$124:$AA$124,$O$148)*$AB$19","v":0},{"$f":"COUNTIF($D$124:$AA$124,$P$148)*$AB$19","v":0},{"$f":"COUNTIF($D$124:$AA$124,$Q$148)*$AB$19","v":0},{"$f":"COUNTIF($D$124:$AA$124,$R$148)*$AB$19","v":0},{"$f":"COUNTIF($D$124:$AA$124,$S$148)*$AB$19","v":0},{"$f":"COUNTIF($D$124:$AA$124,$T$148)*$AB$19","v":0},{"$f":"COUNTIF($D$124:$AA$124,$U$148)*$AB$19","v":0},{"$f":"COUNTIF($D$124:$AA$124,$V$148)*$AB$19","v":0},{"$f":"COUNTIF($D$124:$AA$124,$W$148)*$AB$19","v":0},{"$f":"COUNTIF($D$124:$AA$124,$X$148)*$AB$19","v":0},{"$f":"COUNTIF($D$124:$AA$124,$Y$148)*$AB$19","v":0},{"$f":"COUNTIF($D$124:$AA$124,$Z$148)*$AB$19","v":0},{"$f":"COUNTIF($D$124:$AA$124,$AA$148)*$AB$19","v":0},{"$f":"COUNTIF($D$124:$AA$124,$AB$148)*$AB$19","v":0},{"$f":"COUNTIF($D$124:$AA$124,$AC$148)*$AB$19","v":0},{"$f":"COUNTIF($D$124:$AA$124,$AD$148)*$AB$19","v":0},{"$f":"COUNTIF($D$124:$AA$124,$AE$148)*$AB$19","v":0},{"$f":"COUNTIF($D$124:$AA$124,$AF$148)*$AB$19","v":0},{"$f":"COUNTIF($D$124:$AA$124,$AG$148)*$AB$19","v":0},{"$f":"COUNTIF($D$124:$AA$124,$AH$148)*$AB$19","v":0},{"$f":"COUNTIF($D$124:$AA$124,$AI$148)*$AB$19","v":0},{"$f":"COUNTIF($D$124:$AA$124,$AJ$148)*$AB$19","v":0},{"$f":"COUNTIF($D$124:$AA$124,$AK$148)*$AB$19","v":0},{"$f":"COUNTIF($D$124:$AA$124,$AL$148)*$AB$19","v":0},{"$f":"COUNTIF($D$124:$AA$124,$AM$148)*$AB$19","v":0},{"$f":"COUNTIF($D$124:$AA$124,$AN$148)*$AB$19","v":0},{"$f":"COUNTIF($D$124:$AA$124,$AO$148)*$AB$19","v":0},{"$f":"COUNTIF($D$124:$AA$124,$AP$148)*$AB$19","v":0},{"$f":"COUNTIF($D$124:$AA$124,$AQ$148)*$AB$19","v":0},{"$f":"COUNTIF($D$124:$AA$124,$AR$148)*$AB$19","v":0},{"$f":"COUNTIF($D$124:$AA$124,$AS$148)*$AB$19","v":0},11,null,{"$f":"SUMPRODUCT($D$156:$AS$156,$D$162:$AS$162)","v":0},0,{"$error":"#VALUE!"},0,"",{"$error":"#VALUE!"},0,{"$f":"IFERROR(BA156+BB156,\"\")","v":""},{"$error":"#VALUE!"},0,"",null,{"$error":"#VALUE!"},0,"",{"$error":"#VALUE!"},{"$f":"AW156*$BL$146","v":0},"",{"$error":"#VALUE!"},0,""]
[null,null,12,{"$f":"COUNTIF($D$125:$AA$125,$D$148)*$AB$20","v":0},{"$f":"COUNTIF($D$125:$AA$125,$E$148)*$AB$20","v":0},{"$f":"COUNTIF($D$125:$AA$125,$F$148)*$AB$20","v":0},{"$f":"COUNTIF($D$125:$AA$125,$G$148)*$AB$20","v":0},{"$f":"COUNTIF($D$125:$AA$125,$H$148)*$AB$20","v":0},{"$f":"COUNTIF($D$125:$AA$125,$I$148)*$AB$20","v":0},{"$f":"COUNTIF($D$125:$AA$125,$J$148)*$AB$20","v":0},{"$f":"COUNTIF($D$125:$AA$125,$K$148)*$AB$20","v":0},{"$f":"COUNTIF($D$125:$AA$125,$L$148)*$AB$20","v":0},{"$f":"COUNTIF($D$125:$AA$125,$M$148)*$AB$20","v":0},{"$f":"COUNTIF($D$125:$AA$125,$N$148)*$AB$20","v":0},{"$f":"COUNTIF($D$125:$AA$125,$O$148)*$AB$20","v":0},{"$f":"COUNTIF($D$125:$AA$125,$P$148)*$AB$20","v":0},{"$f":"COUNTIF($D$125:$AA$125,$Q$148)*$AB$20","v":0},{"$f":"COUNTIF($D$125:$AA$125,$R$148)*$AB$20","v":0},{"$f":"COUNTIF($D$125:$AA$125,$S$148)*$AB$20","v":0},{"$f":"COUNTIF($D$125:$AA$125,$T$148)*$AB$20","v":0},{"$f":"COUNTIF($D$125:$AA$125,$U$148)*$AB$20","v":0},{"$f":"COUNTIF($D$125:$AA$125,$V$148)*$AB$20","v":0},{"$f":"COUNTIF($D$125:$AA$125,$W$148)*$AB$20","v":0},{"$f":"COUNTIF($D$125:$AA$125,$X$148)*$AB$20","v":0},{"$f":"COUNTIF($D$125:$AA$125,$Y$148)*$AB$20","v":0},{"$f":"COUNTIF($D$125:$AA$125,$Z$148)*$AB$20","v":0},{"$f":"COUNTIF($D$125:$AA$125,$AA$148)*$AB$20","v":0},{"$f":"COUNTIF($D$125:$AA$125,$AB$148)*$AB$20","v":0},{"$f":"COUNTIF($D$125:$AA$125,$AC$148)*$AB$20","v":0},{"$f":"COUNTIF($D$125:$AA$125,$AD$148)*$AB$20","v":0},{"$f":"COUNTIF($D$125:$AA$125,$AE$148)*$AB$20","v":0},{"$f":"COUNTIF($D$125:$AA$125,$AF$148)*$AB$20","v":0},{"$f":"COUNTIF($D$125:$AA$125,$AG$148)*$AB$20","v":0},{"$f":"COUNTIF($D$125:$AA$125,$AH$148)*$AB$20","v":0},{"$f":"COUNTIF($D$125:$AA$125,$AI$148)*$AB$20","v":0},{"$f":"COUNTIF($D$125:$AA$125,$AJ$148)*$AB$20","v":0},{"$f":"COUNTIF($D$125:$AA$125,$AK$148)*$AB$20","v":0},{"$f":"COUNTIF($D$125:$AA$125,$AL$148)*$AB$20","v":0},{"$f":"COUNTIF($D$125:$AA$125,$AM$148)*$AB$20","v":0},{"$f":"COUNTIF($D$125:$AA$125,$AN$148)*$AB$20","v":0},{"$f":"COUNTIF($D$125:$AA$125,$AO$148)*$AB$20","v":0},{"$f":"COUNTIF($D$125:$AA$125,$AP$148)*$AB$20","v":0},{"$f":"COUNTIF($D$125:$AA$125,$AQ$148)*$AB$20","v":0},{"$f":"COUNTIF($D$125:$AA$125,$AR$148)*$AB$20","v":0},{"$f":"COUNTIF($D$125:$AA$125,$AS$148)*$AB$20","v":0},12,null,{"$f":"SUMPRODUCT($D$157:$AS$157,$D$162:$AS$162)","v":0},0,{"$error":"#VALUE!"},{"$f":"AW157*$AY$146","v":0},"",{"$error":"#VALUE!"},0,"",{"$error":"#VALUE!"},0,"",null,{"$error":"#VALUE!"},0,"",{"$error":"#VALUE!"},0,"",{"$error":"#VALUE!"},0,""]
[null,null,1,{"$f":"COUNTIF($D$126:$AA$126,$D$148)*$AB$21","v":0},{"$f":"COUNTIF($D$126:$AA$126,$E$148)*$AB$21","v":0},{"$f":"COUNTIF($D$126:$AA$126,$F$148)*$AB$21","v":0},{"$f":"COUNTIF($D$126:$AA$126,$G$148)*$AB$21","v":0},{"$f":"COUNTIF($D$126:$AA$126,$H$148)*$AB$21","v":0},{"$f":"COUNTIF($D$126:$AA$126,$I$148)*$AB$21","v":0},{"$f":"COUNTIF($D$126:$AA$126,$J$148)*$AB$21","v":0},{"$f":"COUNTIF($D$126:$AA$126,$K$148)*$AB$21","v":0},{"$f":"COUNTIF($D$126:$AA$126,$L$148)*$AB$21","v":0},{"$f":"COUNTIF($D$126:$AA$126,$M$148)*$AB$21","v":0},{"$f":"COUNTIF($D$126:$AA$126,$N$148)*$AB$21","v":0},{"$f":"COUNTIF($D$126:$AA$126,$O$148)*$AB$21","v":0},{"$f":"COUNTIF($D$126:$AA$126,$P$148)*$AB$21","v":0},{"$f":"COUNTIF($D$126:$AA$126,$Q$148)*$AB$21","v":0},{"$f":"COUNTIF($D$126:$AA$126,$R$148)*$AB$21","v":0},{"$f":"COUNTIF($D$126:$AA$126,$S$148)*$AB$21","v":0},{"$f":"COUNTIF($D$126:$AA$126,$T$148)*$AB$21","v":0},{"$f":"COUNTIF($D$126:$AA$126,$U$148)*$AB$21","v":0},{"$f":"COUNTIF($D$126:$AA$126,$V$148)*$AB$21","v":0},{"$f":"COUNTIF($D$126:$AA$126,$W$148)*$AB$21","v":0},{"$f":"COUNTIF($D$126:$AA$126,$X$148)*$AB$21","v":0},{"$f":"COUNTIF($D$126:$AA$126,$Y$148)*$AB$21","v":0},{"$f":"COUNTIF($D$126:$AA$126,$Z$148)*$AB$21","v":0},{"$f":"COUNTIF($D$126:$AA$126,$AA$148)*$AB$21","v":0},{"$f":"COUNTIF($D$126:$AA$126,$AB$148)*$AB$21","v":0},{"$f":"COUNTIF($D$126:$AA$126,$AC$148)*$AB$21","v":0},{"$f":"COUNTIF($D$126:$AA$126,$AD$148)*$AB$21","v":0},{"$f":"COUNTIF($D$126:$AA$126,$AE$148)*$AB$21","v":0},{"$f":"COUNTIF($D$126:$AA$126,$AF$148)*$AB$21","v":0},{"$f":"COUNTIF($D$126:$AA$126,$AG$148)*$AB$21","v":0},{"$f":"COUNTIF($D$126:$AA$126,$AH$148)*$AB$21","v":0},{"$f":"COUNTIF($D$126:$AA$126,$AI$148)*$AB$21","v":0},{"$f":"COUNTIF($D$126:$AA$126,$AJ$148)*$AB$21","v":0},{"$f":"COUNTIF($D$126:$AA$126,$AK$148)*$AB$21","v":0},{"$f":"COUNTIF($D$126:$AA$126,$AL$148)*$AB$21","v":0},{"$f":"COUNTIF($D$126:$AA$126,$AM$148)*$AB$21","v":0},{"$f":"COUNTIF($D$126:$AA$126,$AN$148)*$AB$21","v":0},{"$f":"COUNTIF($D$126:$AA$126,$AO$148)*$AB$21","v":0},{"$f":"COUNTIF($D$126:$AA$126,$AP$148)*$AB$21","v":0},{"$f":"COUNTIF($D$126:$AA$126,$AQ$148)*$AB$21","v":0},{"$f":"COUNTIF($D$126:$AA$126,$AR$148)*$AB$21","v":0},{"$f":"COUNTIF($D$126:$AA$126,$AS$148)*$AB$21","v":0},1,null,{"$f":"SUMPRODUCT($D$158:$AS$158,$D$162:$AS$162)","v":0},0,{"$error":"#VALUE!"},0,"",{"$error":"#VALUE!"},0,"",{"$error":"#VALUE!"},{"$f":"AW158*$BE$146","v":0},"",null,{"$error":"#VALUE!"},0,"",{"$error":"#VALUE!"},0,"",{"$error":"#VALUE!"},0,""]
[null,null,2,{"$f":"COUNTIF($D$127:$AA$127,$D$148)*$AB$22","v":0},{"$f":"COUNTIF($D$127:$AA$127,$E$148)*$AB$22","v":0},{"$f":"COUNTIF($D$127:$AA$127,$F$148)*$AB$22","v":0},{"$f":"COUNTIF($D$127:$AA$127,$G$148)*$AB$22","v":0},{"$f":"COUNTIF($D$127:$AA$127,$H$148)*$AB$22","v":0},{"$f":"COUNTIF($D$127:$AA$127,$I$148)*$AB$22","v":0},{"$f":"COUNTIF($D$127:$AA$127,$J$148)*$AB$22","v":0},{"$f":"COUNTIF($D$127:$AA$127,$K$148)*$AB$22","v":0},{"$f":"COUNTIF($D$127:$AA$127,$L$148)*$AB$22","v":0},{"$f":"COUNTIF($D$127:$AA$127,$M$148)*$AB$22","v":0},{"$f":"COUNTIF($D$127:$AA$127,$N$148)*$AB$22","v":0},{"$f":"COUNTIF($D$127:$AA$127,$O$148)*$AB$22","v":0},{"$f":"COUNTIF($D$127:$AA$127,$P$148)*$AB$22","v":0},{"$f":"COUNTIF($D$127:$AA$127,$Q$148)*$AB$22","v":0},{"$f":"COUNTIF($D$127:$AA$127,$R$148)*$AB$22","v":0},{"$f":"COUNTIF($D$127:$AA$127,$S$148)*$AB$22","v":0},{"$f":"COUNTIF($D$127:$AA$127,$T$148)*$AB$22","v":0},{"$f":"COUNTIF($D$127:$AA$127,$U$148)*$AB$22","v":0},{"$f":"COUNTIF($D$127:$AA$127,$V$148)*$AB$22","v":0},{"$f":"COUNTIF($D$127:$AA$127,$W$148)*$AB$22","v":0},{"$f":"COUNTIF($D$127:$AA$127,$X$148)*$AB$22","v":0},{"$f":"COUNTIF($D$127:$AA$127,$Y$148)*$AB$22","v":0},{"$f":"COUNTIF($D$127:$AA$127,$Z$148)*$AB$22","v":0},{"$f":"COUNTIF($D$127:$AA$127,$AA$148)*$AB$22","v":0},{"$f":"COUNTIF($D$127:$AA$127,$AB$148)*$AB$22","v":0},{"$f":"COUNTIF($D$127:$AA$127,$AC$148)*$AB$22","v":0},{"$f":"COUNTIF($D$127:$AA$127,$AD$148)*$AB$22","v":0},{"$f":"COUNTIF($D$127:$AA$127,$AE$148)*$AB$22","v":0},{"$f":"COUNTIF($D$127:$AA$127,$AF$148)*$AB$22","v":0},{"$f":"COUNTIF($D$127:$AA$127,$AG$148)*$AB$22","v":0},{"$f":"COUNTIF($D$127:$AA$127,$AH$148)*$AB$22","v":0},{"$f":"COUNTIF($D$127:$AA$127,$AI$148)*$AB$22","v":0},{"$f":"COUNTIF($D$127:$AA$127,$AJ$148)*$AB$22","v":0},{"$f":"COUNTIF($D$127:$AA$127,$AK$148)*$AB$22","v":0},{"$f":"COUNTIF($D$127:$AA$127,$AL$148)*$AB$22","v":0},{"$f":"COUNTIF($D$127:$AA$127,$AM$148)*$AB$22","v":0},{"$f":"COUNTIF($D$127:$AA$127,$AN$148)*$AB$22","v":0},{"$f":"COUNTIF($D$127:$AA$127,$AO$148)*$AB$22","v":0},{"$f":"COUNTIF($D$127:$AA$127,$AP$148)*$AB$22","v":0},{"$f":"COUNTIF($D$127:$AA$127,$AQ$148)*$AB$22","v":0},{"$f":"COUNTIF($D$127:$AA$127,$AR$148)*$AB$22","v":0},{"$f":"COUNTIF($D$127:$AA$127,$AS$148)*$AB$22","v":0},2,null,{"$f":"SUMPRODUCT($D$159:$AS$159,$D$162:$AS$162)","v":0},{"$f":"SUMPRODUCT($D159:$AS159,$D$189:$AS$189)","v":0},{"$error":"#VALUE!"},0,{"$f":"IFERROR(AX159+AY159,\"\")","v":""},{"$error":"#VALUE!"},{"$f":"AW159*$BB$146","v":0},"",{"$error":"#VALUE!"},0,"",null,{"$error":"#VALUE!"},0,"",{"$error":"#VALUE!"},0,"",{"$error":"#VALUE!"},0,""]
[null,null,3,{"$f":"COUNTIF($D$128:$AA$128,$D$148)*$AB$23","v":0},{"$f":"COUNTIF($D$128:$AA$128,$E$148)*$AB$23","v":0},{"$f":"COUNTIF($D$128:$AA$128,$F$148)*$AB$23","v":0},{"$f":"COUNTIF($D$128:$AA$128,$G$148)*$AB$23","v":0},{"$f":"COUNTIF($D$128:$AA$128,$H$148)*$AB$23","v":0},{"$f":"COUNTIF($D$128:$AA$128,$I$148)*$AB$23","v":0},{"$f":"COUNTIF($D$128:$AA$128,$J$148)*$AB$23","v":0},{"$f":"COUNTIF($D$128:$AA$128,$K$148)*$AB$23","v":0},{"$f":"COUNTIF($D$128:$AA$128,$L$148)*$AB$23","v":0},{"$f":"COUNTIF($D$128:$AA$128,$M$148)*$AB$23","v":0},{"$f":"COUNTIF($D$128:$AA$128,$N$148)*$AB$23","v":0},{"$f":"COUNTIF($D$128:$AA$128,$O$148)*$AB$23","v":0},{"$f":"COUNTIF($D$128:$AA$128,$P$148)*$AB$23","v":0},{"$f":"COUNTIF($D$128:$AA$128,$Q$148)*$AB$23","v":0},{"$f":"COUNTIF($D$128:$AA$128,$R$148)*$AB$23","v":0},{"$f":"COUNTIF($D$128:$AA$128,$S$148)*$AB$23","v":0},{"$f":"COUNTIF($D$128:$AA$128,$T$148)*$AB$23","v":0},{"$f":"COUNTIF($D$128:$AA$128,$U$148)*$AB$23","v":0},{"$f":"COUNTIF($D$128:$AA$128,$V$148)*$AB$23","v":0},{"$f":"COUNTIF($D$128:$AA$128,$W$148)*$AB$23","v":0},{"$f":"COUNTIF($D$128:$AA$128,$X$148)*$AB$23","v":0},{"$f":"COUNTIF($D$128:$AA$128,$Y$148)*$AB$23","v":0},{"$f":"COUNTIF($D$128:$AA$128,$Z$148)*$AB$23","v":0},{"$f":"COUNTIF($D$128:$AA$128,$AA$148)*$AB$23","v":0},{"$f":"COUNTIF($D$128:$AA$128,$AB$148)*$AB$23","v":0},{"$f":"COUNTIF($D$128:$AA$128,$AC$148)*$AB$23","v":0},{"$f":"COUNTIF($D$128:$AA$128,$AD$148)*$AB$23","v":0},{"$f":"COUNTIF($D$128:$AA$128,$AE$148)*$AB$23","v":0},{"$f":"COUNTIF($D$128:$AA$128,$AF$148)*$AB$23","v":0},{"$f":"COUNTIF($D$128:$AA$128,$AG$148)*$AB$23","v":0},{"$f":"COUNTIF($D$128:$AA$128,$AH$148)*$AB$23","v":0},{"$f":"COUNTIF($D$128:$AA$128,$AI$148)*$AB$23","v":0},{"$f":"COUNTIF($D$128:$AA$128,$AJ$148)*$AB$23","v":0},{"$f":"COUNTIF($D$128:$AA$128,$AK$148)*$AB$23","v":0},{"$f":"COUNTIF($D$128:$AA$128,$AL$148)*$AB$23","v":0},{"$f":"COUNTIF($D$128:$AA$128,$AM$148)*$AB$23","v":0},{"$f":"COUNTIF($D$128:$AA$128,$AN$148)*$AB$23","v":0},{"$f":"COUNTIF($D$128:$AA$128,$AO$148)*$AB$23","v":0},{"$f":"COUNTIF($D$128:$AA$128,$AP$148)*$AB$23","v":0},{"$f":"COUNTIF($D$128:$AA$128,$AQ$148)*$AB$23","v":0},{"$f":"COUNTIF($D$128:$AA$128,$AR$148)*$AB$23","v":0},{"$f":"COUNTIF($D$128:$AA$128,$AS$148)*$AB$23","v":0},3,null,{"$f":"SUMPRODUCT($D$160:$AS$160,$D$162:$AS$162)","v":0},0,{"$error":"#VALUE!"},{"$f":"AW160*$AY$146","v":0},{"$f":"IFERROR(AX160+AY160,\"\")","v":""},{"$error":"#VALUE!"},{"$f":"AW160*$BB$146","v":0},"",{"$error":"#VALUE!"},{"$f":"AW160*$BE$146","v":0},"",null,{"$error":"#VALUE!"},0,{"$f":"IFERROR(BH160+BI160,\"\")","v":""},{"$error":"#VALUE!"},0,{"$f":"IFERROR(BK160+BL160,\"\")","v":""},{"$error":"#VALUE!"},0,{"$f":"IFERROR(BN160+BO160,\"\")","v":""}]
[null,"tc","冷却運転時間",{"$f":"SUM($D$149:$D$160)","v":0},{"$f":"SUM($E$149:$E$160)","v":0},{"$f":"SUM($F$149:$F$160)","v":0},{"$f":"SUM($G$149:$G$160)","v":0},{"$f":"SUM($H$149:$H$160)","v":0},{"$f":"SUM($I$149:$I$160)","v":0},{"$f":"SUM($J$149:$J$160)","v":0},{"$f":"SUM($K$149:$K$160)","v":0},{"$f":"SUM($L$149:$L$160)","v":0},{"$f":"SUM($M$149:$M$160)","v":0},{"$f":"SUM($N$149:$N$160)","v":0},{"$f":"SUM($O$149:$O$160)","v":0},{"$f":"SUM($P$149:$P$160)","v":0},{"$f":"SUM($Q$149:$Q$160)","v":0},{"$f":"SUM($R$149:$R$160)","v":0},{"$f":"SUM($S$149:$S$160)","v":0},{"$f":"SUM($T$149:$T$160)","v":0},{"$f":"SUM($U$149:$U$160)","v":0},{"$f":"SUM($V$149:$V$160)","v":0},{"$f":"SUM($W$149:$W$160)","v":0},{"$f":"SUM($X$149:$X$160)","v":0},{"$f":"SUM($Y$149:$Y$160)","v":0},{"$f":"SUM($Z$149:$Z$160)","v":0},{"$f":"SUM($AA$149:$AA$160)","v":0},{"$f":"SUM($AB$149:$AB$160)","v":0},{"$f":"SUM($AC$149:$AC$160)","v":0},{"$f":"SUM($AD$149:$AD$160)","v":0},{"$f":"SUM($AE$149:$AE$160)","v":0},{"$f":"SUM($AF$149:$AF$160)","v":0},{"$f":"SUM($AG$149:$AG$160)","v":0},{"$f":"SUM($AH$149:$AH$160)","v":0},{"$f":"SUM($AI$149:$AI$160)","v":0},{"$f":"SUM($AJ$149:$AJ$160)","v":0},{"$f":"SUM($AK$149:$AK$160)","v":0},{"$f":"SUM($AL$149:$AL$160)","v":0},{"$f":"SUM($AM$149:$AM$160)","v":0},{"$f":"SUM($AN$149:$AN$160)","v":0},{"$f":"SUM($AO$149:$AO$160)","v":0},{"$f":"SUM($AP$149:$AP$160)","v":0},{"$f":"SUM($AQ$149:$AQ$160)","v":0},{"$f":"SUM($AR$149:$AR$160)","v":0},{"$f":"SUM($AS$149:$AS$160)","v":0},"冷却運転時間",null,{"$f":"SUM($AV$149:$AV$160)","v":0},{"$f":"SUM(AW149:AW160)","v":0},{"$f":"SUM($AX$149:$AX$160)","v":{"$error":"#VALUE!"}},{"$f":"SUM(AY149:AY160)","v":0},{"$f":"SUM(AZ149:AZ160)","v":0},{"$f":"SUM($BA$149:$BA$160)","v":{"$error":"#VALUE!"}},{"$f":"SUM(BB149:BB160)","v":0},{"$f":"SUM(BC149:BC160)","v":0},{"$f":"SUM($BD$149:$BD$160)","v":{"$error":"#VALUE!"}},{"$f":"SUM(BE149:BE160)","v":0},{"$f":"SUM(BF149:BF160)","v":0},null,{"$f":"SUM($BH$149:$BH$160)","v":{"$error":"#VALUE!"}},{"$f":"SUM(BI149:BI160)","v":0},{"$f":"SUM(BJ149:BJ160)","v":0},{"$f":"SUM($BK$149:$BK$160)","v":{"$error":"#VALUE!"}},{"$f":"SUM(BL149:BL160)","v":0},{"$f":"SUM(BM149:BM160)","v":0},{"$f":"SUM($BN$149:$BN$160)","v":{"$error":"#VALUE!"}},{"$f":"SUM(BO149:BO160)","v":0},{"$f":"SUM(BP149:BP160)","v":0}]
[null,"εc","冷却時消費電力比",{"$f":"$D$163/$D$165","v":0},{"$f":"$E$163/$E$165","v":0},{"$f":"$F$163/$F$165","v":0},{"$f":"$G$163/$G$165","v":0},{"$f":"$H$163/$H$165","v":0},{"$f":"$I$163/$I$165","v":0},{"$f":"$J$163/$J$165","v":0},{"$f":"$K$163/$K$165","v":0},{"$f":"$L$163/$L$165","v":0},{"$f":"$M$163/$M$165","v":0},{"$f":"$N$163/$N$165","v":0},{"$f":"$O$163/$O$165","v":0},{"$f":"$P$163/$P$165","v":0},{"$f":"$Q$163/$Q$165","v":0},{"$f":"$R$163/$R$165","v":0},{"$f":"$S$163/$S$165","v":0},{"$f":"$T$163/$T$165","v":0},{"$f":"$U$163/$U$165","v":0},{"$f":"$V$163/$V$165","v":0},{"$f":"$W$163/$W$165","v":4.4599016309824581E-2},{"$f":"$X$163/$X$165","v":9.1903398793550986E-2},{"$f":"$Y$163/$Y$165","v":0.14209951695258602},{"$f":"$Z$163/$Z$165","v":0.19538909863257339},{"$f":"$AA$163/$AA$165","v":0.251990726741256},{"$f":"$AB$163/$AB$165","v":0.31214150548095521},{"$f":"$AC$163/$AC$165","v":0.37609891805582574},{"$f":"$AD$163/$AD$165","v":0.44414290102417586},{"$f":"$AE$163/$AE$165","v":0.51657816419967317},{"$f":"$AF$163/$AF$165","v":0.59373678935643692},{"$f":"$AG$163/$AG$165","v":0.67598114607465876},{"$f":"$AH$163/$AH$165","v":0.76370716901084046},{"$f":"$AI$163/$AI$165","v":0.85734804785278917},{"$f":"$AJ$163/$AJ$165","v":0.95737838942038933},{"$f":"$AK$163/$AK$165","v":1.0643189210360509},{"$f":"$AL$163/$AL$165","v":1.1050704522195833},{"$f":"$AM$163/$AM$165","v":1.1481853527556083},{"$f":"$AN$163/$AN$165","v":1.1938480722314382},{"$f":"$AO$163/$AO$165","v":1.2422612095688699},{"$f":"$AP$163/$AP$165","v":1.2936476724691082},{"$f":"$AQ$163/$AQ$165","v":1.3482531385175869},{"$f":"$AR$163/$AR$165","v":1.4063488663253034},{"$f":"$AS$163/$AS$165","v":1.4682349138275319},"冷却時消費電力比","εc"]
[null,"αc","冷却空調負荷率",{"$f":"IF((1/15)*(D$148-27)+1<0,0,IF((1/15)*(D$148-27)+1>1,1,(1/15)*(D$148-27)+1))","v":0},{"$f":"IF((1/15)*(E$148-27)+1<0,0,IF((1/15)*(E$148-27)+1>1,1,(1/15)*(E$148-27)+1))","v":0},0,0,0,0,0,0,0,0,0,0,0,0,0,0,0,0,0,6.6666666666666652E-2,0.1333333333333333,0.19999999999999996,0.26666666666666672,0.33333333333333337,0.4,0.46666666666666667,0.53333333333333333,0.6,0.66666666666666674,0.73333333333333339,0.8,0.8666666666666667,0.93333333333333335,1,1,1,1,1,1,1,1,1,"冷却空調負荷率","αc"]
[null,"Tc1","冷却水入口温度",{"$f":"(18/15)*(D$148-27)+32","v":-7.6000000000000014},{"$f":"(18/15)*(E$148-27)+32","v":-6.3999999999999986},-5.1999999999999957,-4,-2.7999999999999972,-1.6000000000000014,-0.39999999999999858,0.80000000000000071,2,3.2000000000000028,4.4000000000000021,5.6000000000000014,6.8000000000000007,8,9.1999999999999993,10.400000000000002,11.600000000000001,12.8,14,15.2,16.399999999999999,17.600000000000001,18.8,20,21.200000000000003,22.4,23.6,24.8,26,27.2,28.4,29.6,30.8,32,33.200000000000003,34.4,35.6,36.799999999999997,38,39.200000000000003,40.4,41.6,"冷却水入口温度","Tc1"]
[null,"βc","冷却COP比",{"$f":"2.32/10000*D$164*D$164-4.4/100*D$164+2.11","v":2.45780032},{"$f":"2.32/10000*E$164*E$164-4.4/100*E$164+2.11","v":2.4011027199999999},2.3450732799999998,2.2897119999999997,2.2350188799999997,2.1809939200000001,2.1276371199999997,2.0749484799999998,2.0229279999999998,1.9715756799999997,1.9208915199999999,1.8708755199999998,1.8215276799999998,1.7728479999999998,1.72483648,1.6774931199999998,1.6308179199999997,1.5848108799999998,1.5394719999999997,1.4948012799999999,1.4507987199999999,1.4074643199999999,1.3647980799999997,1.3227999999999998,1.2814700799999996,1.2408083199999997,1.2008147199999997,1.1614892799999996,1.1228319999999998,1.0848428799999998,1.0475219199999999,1.0108691199999997,0.97488447999999961,0.93956799999999974,0.90491967999999945,0.87093951999999986,0.83762751999999963,0.80498367999999987,0.7730079999999997,0.74170047999999955,0.71106111999999966,0.68108991999999957,"冷却COP比","βc"]
[null,null,"Σ",{"$f":"$D$161*$D$162","v":0},{"$f":"$E$161*$E$162","v":0},{"$f":"$F$161*$F$162","v":0},{"$f":"$G$161*$G$162","v":0},{"$f":"$H$161*$H$162","v":0},{"$f":"$I$161*$I$162","v":0},{"$f":"$J$161*$J$162","v":0},{"$f":"$K$161*$K$162","v":0},{"$f":"$L$161*$L$162","v":0},{"$f":"$M$161*$M$162","v":0},{"$f":"$N$161*$N$162","v":0},{"$f":"$O$161*$O$162","v":0},{"$f":"$P$161*$P$162","v":0},{"$f":"$Q$161*$Q$162","v":0},{"$f":"$R$161*$R$162","v":0},{"$f":"$S$161*$S$162","v":0},{"$f":"$T$161*$T$162","v":0},{"$f":"$U$161*$U$162","v":0},{"$f":"$V$161*$V$162","v":0},{"$f":"$W$161*$W$162","v":0},{"$f":"$X$161*$X$162","v":0},{"$f":"$Y$161*$Y$162","v":0},{"$f":"$Z$161*$Z$162","v":0},{"$f":"$AA$161*$AA$162","v":0},{"$f":"$AB$161*$AB$162","v":0},{"$f":"$AC$161*$AC$162","v":0},{"$f":"$AD$161*$AD$162","v":0},{"$f":"$AE$161*$AE$162","v":0},{"$f":"$AF$161*$AF$162","v":0},{"$f":"$AG$161*$AG$162","v":0},{"$f":"$AH$161*$AH$162","v":0},{"$f":"$AI$161*$AI$162","v":0},{"$f":"$AJ$161*$AJ$162","v":0},{"$f":"$AK$161*$AK$162","v":0},{"$f":"$AL$161*$AL$162","v":0},{"$f":"$AM$161*$AM$162","v":0},{"$f":"$AN$161*$AN$162","v":0},{"$f":"$AO$161*$AO$162","v":0},{"$f":"$AP$161*$AP$162","v":0},{"$f":"$AQ$161*$AQ$162","v":0},{"$f":"$AR$161*$AR$162","v":0},{"$f":"$AS$161*$AS$162","v":0},{"$f":"SUM($D$166:$AS$166)","v":0}]
[]
[null,null,"加熱期間中　外気湿球温度(Tw)が発生する時間[hour]",null,null,null,null,null,null,null,null,null,null,null,null,null,null,null,null,null,null,null,null,null,null,null,null,null,null,null,null,null,null,null,null,null,null,null,null,null,null,null,null,null,null,null,null,null,null,null,{"$f":"Q37+Q38","v":4.4000000000000004},null,null,{"$f":"R37+R38","v":0},null,null,{"$f":"S37+S38","v":0},null,null,null,{"$f":"Q51+Q52","v":0},null,null,{"$f":"R51+R52","v":0},null,null,{"$f":"S51+S52","v":0}]
[null,null,null,"外気湿球温度(Tw)",null,null,null,null,null,null,null,null,null,null,null,null,null,null,null,null,null,null,null,null,null,null,null,null,null,null,null,null,null,null,null,null,null,null,null,null,null,null,null,null,null,null,null,null,null,"前1",null,null,"前2",null,null,"前3",null,null,null,"後1",null,null,"後2",null,null,"後3"]
[null,null,"月",-6,-5,-4,-3,-2,-1,0,1,2,3,4,5,6,7,8,9,10,11,12,13,14,15,16,17,18,19,20,21,22,23,24,25,26,27,28,29,30,31,32,33,34,35,"月",null,"EwwのΣ","EaxwのΣ","Eww","Eaxw","Ew","Eww","Eaxw","Ew","Eww","Eaxw","Ew",null,"Eww","Eaxw","Ew","Eww","Eaxw","Ew","Eww","Eaxw","Ew"]
[null,null,4,{"$f":"COUNTIF($D$133:$AA$133,$D$170)*$AB$12","v":0},{"$f":"COUNTIF($D$133:$AA$133,$E$170)*$AB$12","v":0},{"$f":"COUNTIF($D$133:$AA$133,$F$170)*$AB$12","v":0},{"$f":"COUNTIF($D$133:$AA$133,$G$170)*$AB$12","v":0},{"$f":"COUNTIF($D$133:$AA$133,$H$170)*$AB$12","v":0},{"$f":"COUNTIF($D$133:$AA$133,$I$170)*$AB$12","v":0},{"$f":"COUNTIF($D$133:$AA$133,$J$170)*$AB$12","v":0},{"$f":"COUNTIF($D$133:$AA$133,$K$170)*$AB$12","v":0},{"$f":"COUNTIF($D$133:$AA$133,$L$170)*$AB$12","v":0},{"$f":"COUNTIF($D$133:$AA$133,$M$170)*$AB$12","v":0},{"$f":"COUNTIF($D$133:$AA$133,$N$170)*$AB$12","v":0},{"$f":"COUNTIF($D$133:$AA$133,$O$170)*$AB$12","v":0},{"$f":"COUNTIF($D$133:$AA$133,$P$170)*$AB$12","v":0},{"$f":"COUNTIF($D$133:$AA$133,$Q$170)*$AB$12","v":0},{"$f":"COUNTIF($D$133:$AA$133,$R$170)*$AB$12","v":0},{"$f":"COUNTIF($D$133:$AA$133,$S$170)*$AB$12","v":0},{"$f":"COUNTIF($D$133:$AA$133,$T$170)*$AB$12","v":0},{"$f":"COUNTIF($D$133:$AA$133,$U$170)*$AB$12","v":0},{"$f":"COUNTIF($D$133:$AA$133,$V$170)*$AB$12","v":0},{"$f":"COUNTIF($D$133:$AA$133,$W$170)*$AB$12","v":0},{"$f":"COUNTIF($D$133:$AA$133,$X$170)*$AB$12","v":0},{"$f":"COUNTIF($D$133:$AA$133,$Y$170)*$AB$12","v":0},{"$f":"COUNTIF($D$133:$AA$133,$Z$170)*$AB$12","v":0},{"$f":"COUNTIF($D$133:$AA$133,$AA$170)*$AB$12","v":0},{"$f":"COUNTIF($D$133:$AA$133,$AB$170)*$AB$12","v":0},{"$f":"COUNTIF($D$133:$AA$133,$AC$170)*$AB$12","v":0},{"$f":"COUNTIF($D$133:$AA$133,$AD$170)*$AB$12","v":0},{"$f":"COUNTIF($D$133:$AA$133,$AE$170)*$AB$12","v":0},{"$f":"COUNTIF($D$133:$AA$133,$AF$170)*$AB$12","v":0},{"$f":"COUNTIF($D$133:$AA$133,$AG$170)*$AB$12","v":0},{"$f":"COUNTIF($D$133:$AA$133,$AH$170)*$AB$12","v":0},{"$f":"COUNTIF($D$133:$AA$133,$AI$170)*$AB$12","v":0},{"$f":"COUNTIF($D$133:$AA$133,$AJ$170)*$AB$12","v":0},{"$f":"COUNTIF($D$133:$AA$133,$AK$170)*$AB$12","v":0},{"$f":"COUNTIF($D$133:$AA$133,$AL$170)*$AB$12","v":0},{"$f":"COUNTIF($D$133:$AA$133,$AM$170)*$AB$12","v":0},{"$f":"COUNTIF($D$133:$AA$133,$AN$170)*$AB$12","v":0},{"$f":"COUNTIF($D$133:$AA$133,$AO$170)*$AB$12","v":0},{"$f":"COUNTIF($D$133:$AA$133,$AP$170)*$AB$12","v":0},{"$f":"COUNTIF($D$133:$AA$133,$AQ$170)*$AB$12","v":0},{"$f":"COUNTIF($D$133:$AA$133,$AR$170)*$AB$12","v":0},{"$f":"COUNTIF($D$133:$AA$133,$AS$170)*$AB$12","v":0},4,null,{"$f":"SUMPRODUCT($D$171:$AS$171,$D$184:$AS$184)","v":0},{"$f":"SUMPRODUCT($D171:$AS171,$D$192:$AS$192)","v":0},{"$f":"IFERROR($Q$26/$Q$34*$AV171,\"\")","v":0},{"$f":"AW171*$AY$168","v":0},{"$f":"IFERROR(AX171+AY171,\"\")","v":0},{"$f":"IFERROR($Q$26/$R$34*$AV171,\"\")","v":""},{"$f":"AW171*$BB$168","v":0},{"$f":"IFERROR(BA171+BB171,\"\")","v":""},{"$f":"IFERROR($Q$26/$S$34*$AV171,\"\")","v":""},{"$f":"AW171*$BE$168","v":0},{"$f":"IFERROR(BD171+BE171,\"\")","v":""},null,{"$f":"IFERROR($Q$26/$Q$48*$AV171,\"\")","v":""},{"$f":"AW171*$BI$168","v":0},{"$f":"IFERROR(BH171+BI171,\"\")","v":""},{"$f":"IFERROR($Q$26/$R$48*$AV171,\"\")","v":""},{"$f":"AW171*$BL$168","v":0},{"$f":"IFERROR(BK171+BL171,\"\")","v":""},{"$f":"IFERROR($Q$26/$S$48*$AV171,\"\")","v":""},{"$f":"AW171*$BO$168","v":0},{"$f":"IFERROR(BN171+BO171,\"\")","v":""}]
[null,null,5,{"$f":"COUNTIF($D$134:$AA$134,$D$170)*$AB$13","v":0},{"$f":"COUNTIF($D$134:$AA$134,$E$170)*$AB$13","v":0},{"$f":"COUNTIF($D$134:$AA$134,$F$170)*$AB$13","v":0},{"$f":"COUNTIF($D$134:$AA$134,$G$170)*$AB$13","v":0},{"$f":"COUNTIF($D$134:$AA$134,$H$170)*$AB$13","v":0},{"$f":"COUNTIF($D$134:$AA$134,$I$170)*$AB$13","v":0},{"$f":"COUNTIF($D$134:$AA$134,$J$170)*$AB$13","v":0},{"$f":"COUNTIF($D$134:$AA$134,$K$170)*$AB$13","v":0},{"$f":"COUNTIF($D$134:$AA$134,$L$170)*$AB$13","v":0},{"$f":"COUNTIF($D$134:$AA$134,$M$170)*$AB$13","v":0},{"$f":"COUNTIF($D$134:$AA$134,$N$170)*$AB$13","v":0},{"$f":"COUNTIF($D$134:$AA$134,$O$170)*$AB$13","v":0},{"$f":"COUNTIF($D$134:$AA$134,$P$170)*$AB$13","v":0},{"$f":"COUNTIF($D$134:$AA$134,$Q$170)*$AB$13","v":0},{"$f":"COUNTIF($D$134:$AA$134,$R$170)*$AB$13","v":0},{"$f":"COUNTIF($D$134:$AA$134,$S$170)*$AB$13","v":0},{"$f":"COUNTIF($D$134:$AA$134,$T$170)*$AB$13","v":0},{"$f":"COUNTIF($D$134:$AA$134,$U$170)*$AB$13","v":0},{"$f":"COUNTIF($D$134:$AA$134,$V$170)*$AB$13","v":0},{"$f":"COUNTIF($D$134:$AA$134,$W$170)*$AB$13","v":0},{"$f":"COUNTIF($D$134:$AA$134,$X$170)*$AB$13","v":0},{"$f":"COUNTIF($D$134:$AA$134,$Y$170)*$AB$13","v":0},{"$f":"COUNTIF($D$134:$AA$134,$Z$170)*$AB$13","v":0},{"$f":"COUNTIF($D$134:$AA$134,$AA$170)*$AB$13","v":0},{"$f":"COUNTIF($D$134:$AA$134,$AB$170)*$AB$13","v":0},{"$f":"COUNTIF($D$134:$AA$134,$AC$170)*$AB$13","v":0},{"$f":"COUNTIF($D$134:$AA$134,$AD$170)*$AB$13","v":0},{"$f":"COUNTIF($D$134:$AA$134,$AE$170)*$AB$13","v":0},{"$f":"COUNTIF($D$134:$AA$134,$AF$170)*$AB$13","v":0},{"$f":"COUNTIF($D$134:$AA$134,$AG$170)*$AB$13","v":0},{"$f":"COUNTIF($D$134:$AA$134,$AH$170)*$AB$13","v":0},{"$f":"COUNTIF($D$134:$AA$134,$AI$170)*$AB$13","v":0},{"$f":"COUNTIF($D$134:$AA$134,$AJ$170)*$AB$13","v":0},{"$f":"COUNTIF($D$134:$AA$134,$AK$170)*$AB$13","v":0},{"$f":"COUNTIF($D$134:$AA$134,$AL$170)*$AB$13","v":0},{"$f":"COUNTIF($D$134:$AA$134,$AM$170)*$AB$13","v":0},{"$f":"COUNTIF($D$134:$AA$134,$AN$170)*$AB$13","v":0},{"$f":"COUNTIF($D$134:$AA$134,$AO$170)*$AB$13","v":0},{"$f":"COUNTIF($D$134:$AA$134,$AP$170)*$AB$13","v":0},{"$f":"COUNTIF($D$134:$AA$134,$AQ$170)*$AB$13","v":0},{"$f":"COUNTIF($D$134:$AA$134,$AR$170)*$AB$13","v":0},{"$f":"COUNTIF($D$134:$AA$134,$AS$170)*$AB$13","v":0},5,null,{"$f":"SUMPRODUCT($D$172:$AS$172,$D$184:$AS$184)","v":0},{"$f":"SUMPRODUCT($D172:$AS172,$D$192:$AS$192)","v":0},{"$f":"IFERROR($Q$26/$Q$34*$AV172,\"\")","v":0},{"$f":"AW172*$AY$168","v":0},{"$f":"IFERROR(AX172+AY172,\"\")","v":0},{"$f":"IFERROR($Q$26/$R$34*$AV172,\"\")","v":""},{"$f":"AW172*$BB$168","v":0},{"$f":"IFERROR(BA172+BB172,\"\")","v":""},{"$f":"IFERROR($Q$26/$S$34*$AV172,\"\")","v":""},{"$f":"AW172*$BE$168","v":0},{"$f":"IFERROR(BD172+BE172,\"\")","v":""},null,{"$f":"IFERROR($Q$26/$Q$48*$AV172,\"\")","v":""},{"$f":"AW172*$BI$168","v":0},{"$f":"IFERROR(BH172+BI172,\"\")","v":""},{"$f":"IFERROR($Q$26/$R$48*$AV172,\"\")","v":""},{"$f":"AW172*$BL$168","v":0},{"$f":"IFERROR(BK172+BL172,\"\")","v":""},{"$f":"IFERROR($Q$26/$S$48*$AV172,\"\")","v":""},{"$f":"AW172*$BO$168","v":0},{"$f":"IFERROR(BN172+BO172,\"\")","v":""}]
[null,null,6,{"$f":"COUNTIF($D$135:$AA$135,$D$170)*$AB$14","v":0},{"$f":"COUNTIF($D$135:$AA$135,$E$170)*$AB$14","v":0},{"$f":"COUNTIF($D$135:$AA$135,$F$170)*$AB$14","v":0},{"$f":"COUNTIF($D$135:$AA$135,$G$170)*$AB$14","v":0},{"$f":"COUNTIF($D$135:$AA$135,$H$170)*$AB$14","v":0},{"$f":"COUNTIF($D$135:$AA$135,$I$170)*$AB$14","v":0},{"$f":"COUNTIF($D$135:$AA$135,$J$170)*$AB$14","v":0},{"$f":"COUNTIF($D$135:$AA$135,$K$170)*$AB$14","v":0},{"$f":"COUNTIF($D$135:$AA$135,$L$170)*$AB$14","v":0},{"$f":"COUNTIF($D$135:$AA$135,$M$170)*$AB$14","v":0},{"$f":"COUNTIF($D$135:$AA$135,$N$170)*$AB$14","v":0},{"$f":"COUNTIF($D$135:$AA$135,$O$170)*$AB$14","v":0},{"$f":"COUNTIF($D$135:$AA$135,$P$170)*$AB$14","v":0},{"$f":"COUNTIF($D$135:$AA$135,$Q$170)*$AB$14","v":0},{"$f":"COUNTIF($D$135:$AA$135,$R$170)*$AB$14","v":0},{"$f":"COUNTIF($D$135:$AA$135,$S$170)*$AB$14","v":0},{"$f":"COUNTIF($D$135:$AA$135,$T$170)*$AB$14","v":0},{"$f":"COUNTIF($D$135:$AA$135,$U$170)*$AB$14","v":0},{"$f":"COUNTIF($D$135:$AA$135,$V$170)*$AB$14","v":0},{"$f":"COUNTIF($D$135:$AA$135,$W$170)*$AB$14","v":0},{"$f":"COUNTIF($D$135:$AA$135,$X$170)*$AB$14","v":0},{"$f":"COUNTIF($D$135:$AA$135,$Y$170)*$AB$14","v":0},{"$f":"COUNTIF($D$135:$AA$135,$Z$170)*$AB$14","v":0},{"$f":"COUNTIF($D$135:$AA$135,$AA$170)*$AB$14","v":0},{"$f":"COUNTIF($D$135:$AA$135,$AB$170)*$AB$14","v":0},{"$f":"COUNTIF($D$135:$AA$135,$AC$170)*$AB$14","v":0},{"$f":"COUNTIF($D$135:$AA$135,$AD$170)*$AB$14","v":0},{"$f":"COUNTIF($D$135:$AA$135,$AE$170)*$AB$14","v":0},{"$f":"COUNTIF($D$135:$AA$135,$AF$170)*$AB$14","v":0},{"$f":"COUNTIF($D$135:$AA$135,$AG$170)*$AB$14","v":0},{"$f":"COUNTIF($D$135:$AA$135,$AH$170)*$AB$14","v":0},{"$f":"COUNTIF($D$135:$AA$135,$AI$170)*$AB$14","v":0},{"$f":"COUNTIF($D$135:$AA$135,$AJ$170)*$AB$14","v":0},{"$f":"COUNTIF($D$135:$AA$135,$AK$170)*$AB$14","v":0},{"$f":"COUNTIF($D$135:$AA$135,$AL$170)*$AB$14","v":0},{"$f":"COUNTIF($D$135:$AA$135,$AM$170)*$AB$14","v":0},{"$f":"COUNTIF($D$135:$AA$135,$AN$170)*$AB$14","v":0},{"$f":"COUNTIF($D$135:$AA$135,$AO$170)*$AB$14","v":0},{"$f":"COUNTIF($D$135:$AA$135,$AP$170)*$AB$14","v":0},{"$f":"COUNTIF($D$135:$AA$135,$AQ$170)*$AB$14","v":0},{"$f":"COUNTIF($D$135:$AA$135,$AR$170)*$AB$14","v":0},{"$f":"COUNTIF($D$135:$AA$135,$AS$170)*$AB$14","v":0},6,null,{"$f":"SUMPRODUCT($D$173:$AS$173,$D$184:$AS$184)","v":0},0,0,0,0,"",0,{"$f":"IFERROR(BA173+BB173,\"\")","v":""},"",0,"",null,"",0,"","",0,"","",{"$f":"AW173*$BO$168","v":0},""]
[null,null,7,{"$f":"COUNTIF($D$136:$AA$136,$D$170)*$AB$15","v":0},{"$f":"COUNTIF($D$136:$AA$136,$E$170)*$AB$15","v":0},{"$f":"COUNTIF($D$136:$AA$136,$F$170)*$AB$15","v":0},{"$f":"COUNTIF($D$136:$AA$136,$G$170)*$AB$15","v":0},{"$f":"COUNTIF($D$136:$AA$136,$H$170)*$AB$15","v":0},{"$f":"COUNTIF($D$136:$AA$136,$I$170)*$AB$15","v":0},{"$f":"COUNTIF($D$136:$AA$136,$J$170)*$AB$15","v":0},{"$f":"COUNTIF($D$136:$AA$136,$K$170)*$AB$15","v":0},{"$f":"COUNTIF($D$136:$AA$136,$L$170)*$AB$15","v":0},{"$f":"COUNTIF($D$136:$AA$136,$M$170)*$AB$15","v":0},{"$f":"COUNTIF($D$136:$AA$136,$N$170)*$AB$15","v":0},{"$f":"COUNTIF($D$136:$AA$136,$O$170)*$AB$15","v":0},{"$f":"COUNTIF($D$136:$AA$136,$P$170)*$AB$15","v":0},{"$f":"COUNTIF($D$136:$AA$136,$Q$170)*$AB$15","v":0},{"$f":"COUNTIF($D$136:$AA$136,$R$170)*$AB$15","v":0},{"$f":"COUNTIF($D$136:$AA$136,$S$170)*$AB$15","v":0},{"$f":"COUNTIF($D$136:$AA$136,$T$170)*$AB$15","v":0},{"$f":"COUNTIF($D$136:$AA$136,$U$170)*$AB$15","v":0},{"$f":"COUNTIF($D$136:$AA$136,$V$170)*$AB$15","v":0},{"$f":"COUNTIF($D$136:$AA$136,$W$170)*$AB$15","v":0},{"$f":"COUNTIF($D$136:$AA$136,$X$170)*$AB$15","v":0},{"$f":"COUNTIF($D$136:$AA$136,$Y$170)*$AB$15","v":0},{"$f":"COUNTIF($D$136:$AA$136,$Z$170)*$AB$15","v":0},{"$f":"COUNTIF($D$136:$AA$136,$AA$170)*$AB$15","v":0},{"$f":"COUNTIF($D$136:$AA$136,$AB$170)*$AB$15","v":0},{"$f":"COUNTIF($D$136:$AA$136,$AC$170)*$AB$15","v":0},{"$f":"COUNTIF($D$136:$AA$136,$AD$170)*$AB$15","v":0},{"$f":"COUNTIF($D$136:$AA$136,$AE$170)*$AB$15","v":0},{"$f":"COUNTIF($D$136:$AA$136,$AF$170)*$AB$15","v":0},{"$f":"COUNTIF($D$136:$AA$136,$AG$170)*$AB$15","v":0},{"$f":"COUNTIF($D$136:$AA$136,$AH$170)*$AB$15","v":0},{"$f":"COUNTIF($D$136:$AA$136,$AI$170)*$AB$15","v":0},{"$f":"COUNTIF($D$136:$AA$136,$AJ$170)*$AB$15","v":0},{"$f":"COUNTIF($D$136:$AA$136,$AK$170)*$AB$15","v":0},{"$f":"COUNTIF($D$136:$AA$136,$AL$170)*$AB$15","v":0},{"$f":"COUNTIF($D$136:$AA$136,$AM$170)*$AB$15","v":0},{"$f":"COUNTIF($D$136:$AA$136,$AN$170)*$AB$15","v":0},{"$f":"COUNTIF($D$136:$AA$136,$AO$170)*$AB$15","v":0},{"$f":"COUNTIF($D$136:$AA$136,$AP$170)*$AB$15","v":0},{"$f":"COUNTIF($D$136:$AA$136,$AQ$170)*$AB$15","v":0},{"$f":"COUNTIF($D$136:$AA$136,$AR$170)*$AB$15","v":0},{"$f":"COUNTIF($D$136:$AA$136,$AS$170)*$AB$15","v":0},7,null,{"$f":"SUMPRODUCT($D$174:$AS$174,$D$184:$AS$184)","v":0},0,0,0,0,"",0,"","",0,"",null,"",0,"","",0,"","",0,""]
[null,null,8,{"$f":"COUNTIF($D$137:$AA$137,$D$170)*$AB$16","v":0},{"$f":"COUNTIF($D$137:$AA$137,$E$170)*$AB$16","v":0},{"$f":"COUNTIF($D$137:$AA$137,$F$170)*$AB$16","v":0},{"$f":"COUNTIF($D$137:$AA$137,$G$170)*$AB$16","v":0},{"$f":"COUNTIF($D$137:$AA$137,$H$170)*$AB$16","v":0},{"$f":"COUNTIF($D$137:$AA$137,$I$170)*$AB$16","v":0},{"$f":"COUNTIF($D$137:$AA$137,$J$170)*$AB$16","v":0},{"$f":"COUNTIF($D$137:$AA$137,$K$170)*$AB$16","v":0},{"$f":"COUNTIF($D$137:$AA$137,$L$170)*$AB$16","v":0},{"$f":"COUNTIF($D$137:$AA$137,$M$170)*$AB$16","v":0},{"$f":"COUNTIF($D$137:$AA$137,$N$170)*$AB$16","v":0},{"$f":"COUNTIF($D$137:$AA$137,$O$170)*$AB$16","v":0},{"$f":"COUNTIF($D$137:$AA$137,$P$170)*$AB$16","v":0},{"$f":"COUNTIF($D$137:$AA$137,$Q$170)*$AB$16","v":0},{"$f":"COUNTIF($D$137:$AA$137,$R$170)*$AB$16","v":0},{"$f":"COUNTIF($D$137:$AA$137,$S$170)*$AB$16","v":0},{"$f":"COUNTIF($D$137:$AA$137,$T$170)*$AB$16","v":0},{"$f":"COUNTIF($D$137:$AA$137,$U$170)*$AB$16","v":0},{"$f":"COUNTIF($D$137:$AA$137,$V$170)*$AB$16","v":0},{"$f":"COUNTIF($D$137:$AA$137,$W$170)*$AB$16","v":0},{"$f":"COUNTIF($D$137:$AA$137,$X$170)*$AB$16","v":0},{"$f":"COUNTIF($D$137:$AA$137,$Y$170)*$AB$16","v":0},{"$f":"COUNTIF($D$137:$AA$137,$Z$170)*$AB$16","v":0},{"$f":"COUNTIF($D$137:$AA$137,$AA$170)*$AB$16","v":0},{"$f":"COUNTIF($D$137:$AA$137,$AB$170)*$AB$16","v":0},{"$f":"COUNTIF($D$137:$AA$137,$AC$170)*$AB$16","v":0},{"$f":"COUNTIF($D$137:$AA$137,$AD$170)*$AB$16","v":0},{"$f":"COUNTIF($D$137:$AA$137,$AE$170)*$AB$16","v":0},{"$f":"COUNTIF($D$137:$AA$137,$AF$170)*$AB$16","v":0},{"$f":"COUNTIF($D$137:$AA$137,$AG$170)*$AB$16","v":0},{"$f":"COUNTIF($D$137:$AA$137,$AH$170)*$AB$16","v":0},{"$f":"COUNTIF($D$137:$AA$137,$AI$170)*$AB$16","v":0},{"$f":"COUNTIF($D$137:$AA$137,$AJ$170)*$AB$16","v":0},{"$f":"COUNTIF($D$137:$AA$137,$AK$170)*$AB$16","v":0},{"$f":"COUNTIF($D$137:$AA$137,$AL$170)*$AB$16","v":0},{"$f":"COUNTIF($D$137:$AA$137,$AM$170)*$AB$16","v":0},{"$f":"COUNTIF($D$137:$AA$137,$AN$170)*$AB$16","v":0},{"$f":"COUNTIF($D$137:$AA$137,$AO$170)*$AB$16","v":0},{"$f":"COUNTIF($D$137:$AA$137,$AP$170)*$AB$16","v":0},{"$f":"COUNTIF($D$137:$AA$137,$AQ$170)*$AB$16","v":0},{"$f":"COUNTIF($D$137:$AA$137,$AR$170)*$AB$16","v":0},{"$f":"COUNTIF($D$137:$AA$137,$AS$170)*$AB$16","v":0},8,null,{"$f":"SUMPRODUCT($D$175:$AS$175,$D$184:$AS$184)","v":0},0,0,0,0,"",0,"","",0,{"$f":"IFERROR(BD175+BE175,\"\")","v":""},null,"",0,"","",0,"","",0,""]
[null,null,9,{"$f":"COUNTIF($D$138:$AA$138,$D$170)*$AB$17","v":0},{"$f":"COUNTIF($D$138:$AA$138,$E$170)*$AB$17","v":0},{"$f":"COUNTIF($D$138:$AA$138,$F$170)*$AB$17","v":0},{"$f":"COUNTIF($D$138:$AA$138,$G$170)*$AB$17","v":0},{"$f":"COUNTIF($D$138:$AA$138,$H$170)*$AB$17","v":0},{"$f":"COUNTIF($D$138:$AA$138,$I$170)*$AB$17","v":0},{"$f":"COUNTIF($D$138:$AA$138,$J$170)*$AB$17","v":0},{"$f":"COUNTIF($D$138:$AA$138,$K$170)*$AB$17","v":0},{"$f":"COUNTIF($D$138:$AA$138,$L$170)*$AB$17","v":0},{"$f":"COUNTIF($D$138:$AA$138,$M$170)*$AB$17","v":0},{"$f":"COUNTIF($D$138:$AA$138,$N$170)*$AB$17","v":0},{"$f":"COUNTIF($D$138:$AA$138,$O$170)*$AB$17","v":0},{"$f":"COUNTIF($D$138:$AA$138,$P$170)*$AB$17","v":0},{"$f":"COUNTIF($D$138:$AA$138,$Q$170)*$AB$17","v":0},{"$f":"COUNTIF($D$138:$AA$138,$R$170)*$AB$17","v":0},{"$f":"COUNTIF($D$138:$AA$138,$S$170)*$AB$17","v":0},{"$f":"COUNTIF($D$138:$AA$138,$T$170)*$AB$17","v":0},{"$f":"COUNTIF($D$138:$AA$138,$U$170)*$AB$17","v":0},{"$f":"COUNTIF($D$138:$AA$138,$V$170)*$AB$17","v":0},{"$f":"COUNTIF($D$138:$AA$138,$W$170)*$AB$17","v":0},{"$f":"COUNTIF($D$138:$AA$138,$X$170)*$AB$17","v":0},{"$f":"COUNTIF($D$138:$AA$138,$Y$170)*$AB$17","v":0},{"$f":"COUNTIF($D$138:$AA$138,$Z$170)*$AB$17","v":0},{"$f":"COUNTIF($D$138:$AA$138,$AA$170)*$AB$17","v":0},{"$f":"COUNTIF($D$138:$AA$138,$AB$170)*$AB$17","v":0},{"$f":"COUNTIF($D$138:$AA$138,$AC$170)*$AB$17","v":0},{"$f":"COUNTIF($D$138:$AA$138,$AD$170)*$AB$17","v":0},{"$f":"COUNTIF($D$138:$AA$138,$AE$170)*$AB$17","v":0},{"$f":"COUNTIF($D$138:$AA$138,$AF$170)*$AB$17","v":0},{"$f":"COUNTIF($D$138:$AA$138,$AG$170)*$AB$17","v":0},{"$f":"COUNTIF($D$138:$AA$138,$AH$170)*$AB$17","v":0},{"$f":"COUNTIF($D$138:$AA$138,$AI$170)*$AB$17","v":0},{"$f":"COUNTIF($D$138:$AA$138,$AJ$170)*$AB$17","v":0},{"$f":"COUNTIF($D$138:$AA$138,$AK$170)*$AB$17","v":0},{"$f":"COUNTIF($D$138:$AA$138,$AL$170)*$AB$17","v":0},{"$f":"COUNTIF($D$138:$AA$138,$AM$170)*$AB$17","v":0},{"$f":"COUNTIF($D$138:$AA$138,$AN$170)*$AB$17","v":0},{"$f":"COUNTIF($D$138:$AA$138,$AO$170)*$AB$17","v":0},{"$f":"COUNTIF($D$138:$AA$138,$AP$170)*$AB$17","v":0},{"$f":"COUNTIF($D$138:$AA$138,$AQ$170)*$AB$17","v":0},{"$f":"COUNTIF($D$138:$AA$138,$AR$170)*$AB$17","v":0},{"$f":"COUNTIF($D$138:$AA$138,$AS$170)*$AB$17","v":0},9,null,{"$f":"SUMPRODUCT($D$176:$AS$176,$D$184:$AS$184)","v":0},0,0,0,0,"",0,"","",0,"",null,"",0,"","",{"$f":"AW176*$BL$168","v":0},"","",0,""]
[null,null,10,{"$f":"COUNTIF($D$139:$AA$139,$D$170)*$AB$18","v":0},{"$f":"COUNTIF($D$139:$AA$139,$E$170)*$AB$18","v":0},{"$f":"COUNTIF($D$139:$AA$139,$F$170)*$AB$18","v":0},{"$f":"COUNTIF($D$139:$AA$139,$G$170)*$AB$18","v":0},{"$f":"COUNTIF($D$139:$AA$139,$H$170)*$AB$18","v":0},{"$f":"COUNTIF($D$139:$AA$139,$I$170)*$AB$18","v":0},{"$f":"COUNTIF($D$139:$AA$139,$J$170)*$AB$18","v":0},{"$f":"COUNTIF($D$139:$AA$139,$K$170)*$AB$18","v":0},{"$f":"COUNTIF($D$139:$AA$139,$L$170)*$AB$18","v":0},{"$f":"COUNTIF($D$139:$AA$139,$M$170)*$AB$18","v":0},{"$f":"COUNTIF($D$139:$AA$139,$N$170)*$AB$18","v":0},{"$f":"COUNTIF($D$139:$AA$139,$O$170)*$AB$18","v":0},{"$f":"COUNTIF($D$139:$AA$139,$P$170)*$AB$18","v":0},{"$f":"COUNTIF($D$139:$AA$139,$Q$170)*$AB$18","v":0},{"$f":"COUNTIF($D$139:$AA$139,$R$170)*$AB$18","v":0},{"$f":"COUNTIF($D$139:$AA$139,$S$170)*$AB$18","v":0},{"$f":"COUNTIF($D$139:$AA$139,$T$170)*$AB$18","v":0},{"$f":"COUNTIF($D$139:$AA$139,$U$170)*$AB$18","v":0},{"$f":"COUNTIF($D$139:$AA$139,$V$170)*$AB$18","v":0},{"$f":"COUNTIF($D$139:$AA$139,$W$170)*$AB$18","v":0},{"$f":"COUNTIF($D$139:$AA$139,$X$170)*$AB$18","v":0},{"$f":"COUNTIF($D$139:$AA$139,$Y$170)*$AB$18","v":0},{"$f":"COUNTIF($D$139:$AA$139,$Z$170)*$AB$18","v":0},{"$f":"COUNTIF($D$139:$AA$139,$AA$170)*$AB$18","v":0},{"$f":"COUNTIF($D$139:$AA$139,$AB$170)*$AB$18","v":0},{"$f":"COUNTIF($D$139:$AA$139,$AC$170)*$AB$18","v":0},{"$f":"COUNTIF($D$139:$AA$139,$AD$170)*$AB$18","v":0},{"$f":"COUNTIF($D$139:$AA$139,$AE$170)*$AB$18","v":0},{"$f":"COUNTIF($D$139:$AA$139,$AF$170)*$AB$18","v":0},{"$f":"COUNTIF($D$139:$AA$139,$AG$170)*$AB$18","v":0},{"$f":"COUNTIF($D$139:$AA$139,$AH$170)*$AB$18","v":0},{"$f":"COUNTIF($D$139:$AA$139,$AI$170)*$AB$18","v":0},{"$f":"COUNTIF($D$139:$AA$139,$AJ$170)*$AB$18","v":0},{"$f":"COUNTIF($D$139:$AA$139,$AK$170)*$AB$18","v":0},{"$f":"COUNTIF($D$139:$AA$139,$AL$170)*$AB$18","v":0},{"$f":"COUNTIF($D$139:$AA$139,$AM$170)*$AB$18","v":0},{"$f":"COUNTIF($D$139:$AA$139,$AN$170)*$AB$18","v":0},{"$f":"COUNTIF($D$139:$AA$139,$AO$170)*$AB$18","v":0},{"$f":"COUNTIF($D$139:$AA$139,$AP$170)*$AB$18","v":0},{"$f":"COUNTIF($D$139:$AA$139,$AQ$170)*$AB$18","v":0},{"$f":"COUNTIF($D$139:$AA$139,$AR$170)*$AB$18","v":0},{"$f":"COUNTIF($D$139:$AA$139,$AS$170)*$AB$18","v":0},10,null,{"$f":"SUMPRODUCT($D$177:$AS$177,$D$184:$AS$184)","v":0},0,0,0,0,"",{"$f":"AW177*$BB$168","v":0},"","",{"$f":"AW177*$BE$168","v":0},"",null,"",{"$f":"AW177*$BI$168","v":0},"","",0,"","",0,""]
[null,null,11,{"$f":"COUNTIF($D$140:$AA$140,$D$170)*$AB$19","v":0},{"$f":"COUNTIF($D$140:$AA$140,$E$170)*$AB$19","v":0},{"$f":"COUNTIF($D$140:$AA$140,$F$170)*$AB$19","v":0},{"$f":"COUNTIF($D$140:$AA$140,$G$170)*$AB$19","v":0},{"$f":"COUNTIF($D$140:$AA$140,$H$170)*$AB$19","v":0},{"$f":"COUNTIF($D$140:$AA$140,$I$170)*$AB$19","v":0},{"$f":"COUNTIF($D$140:$AA$140,$J$170)*$AB$19","v":0},{"$f":"COUNTIF($D$140:$AA$140,$K$170)*$AB$19","v":0},{"$f":"COUNTIF($D$140:$AA$140,$L$170)*$AB$19","v":0},{"$f":"COUNTIF($D$140:$AA$140,$M$170)*$AB$19","v":0},{"$f":"COUNTIF($D$140:$AA$140,$N$170)*$AB$19","v":0},{"$f":"COUNTIF($D$140:$AA$140,$O$170)*$AB$19","v":0},{"$f":"COUNTIF($D$140:$AA$140,$P$170)*$AB$19","v":0},{"$f":"COUNTIF($D$140:$AA$140,$Q$170)*$AB$19","v":0},{"$f":"COUNTIF($D$140:$AA$140,$R$170)*$AB$19","v":0},{"$f":"COUNTIF($D$140:$AA$140,$S$170)*$AB$19","v":0},{"$f":"COUNTIF($D$140:$AA$140,$T$170)*$AB$19","v":0},{"$f":"COUNTIF($D$140:$AA$140,$U$170)*$AB$19","v":0},{"$f":"COUNTIF($D$140:$AA$140,$V$170)*$AB$19","v":0},{"$f":"COUNTIF($D$140:$AA$140,$W$170)*$AB$19","v":0},{"$f":"COUNTIF($D$140:$AA$140,$X$170)*$AB$19","v":0},{"$f":"COUNTIF($D$140:$AA$140,$Y$170)*$AB$19","v":0},{"$f":"COUNTIF($D$140:$AA$140,$Z$170)*$AB$19","v":0},{"$f":"COUNTIF($D$140:$AA$140,$AA$170)*$AB$19","v":0},{"$f":"COUNTIF($D$140:$AA$140,$AB$170)*$AB$19","v":0},{"$f":"COUNTIF($D$140:$AA$140,$AC$170)*$AB$19","v":0},{"$f":"COUNTIF($D$140:$AA$140,$AD$170)*$AB$19","v":0},{"$f":"COUNTIF($D$140:$AA$140,$AE$170)*$AB$19","v":0},{"$f":"COUNTIF($D$140:$AA$140,$AF$170)*$AB$19","v":0},{"$f":"COUNTIF($D$140:$AA$140,$AG$170)*$AB$19","v":0},{"$f":"COUNTIF($D$140:$AA$140,$AH$170)*$AB$19","v":0},{"$f":"COUNTIF($D$140:$AA$140,$AI$170)*$AB$19","v":0},{"$f":"COUNTIF($D$140:$AA$140,$AJ$170)*$AB$19","v":0},{"$f":"COUNTIF($D$140:$AA$140,$AK$170)*$AB$19","v":0},{"$f":"COUNTIF($D$140:$AA$140,$AL$170)*$AB$19","v":0},{"$f":"COUNTIF($D$140:$AA$140,$AM$170)*$AB$19","v":0},{"$f":"COUNTIF($D$140:$AA$140,$AN$170)*$AB$19","v":0},{"$f":"COUNTIF($D$140:$AA$140,$AO$170)*$AB$19","v":0},{"$f":"COUNTIF($D$140:$AA$140,$AP$170)*$AB$19","v":0},{"$f":"COUNTIF($D$140:$AA$140,$AQ$170)*$AB$19","v":0},{"$f":"COUNTIF($D$140:$AA$140,$AR$170)*$AB$19","v":0},{"$f":"COUNTIF($D$140:$AA$140,$AS$170)*$AB$19","v":0},11,null,{"$f":"SUMPRODUCT($D$178:$AS$178,$D$184:$AS$184)","v":0},0,0,0,0,"",0,{"$f":"IFERROR(BA178+BB178,\"\")","v":""},"",0,"",null,"",0,{"$f":"IFERROR(BH178+BI178,\"\")","v":""},"",0,"","",0,""]
[null,null,12,{"$f":"COUNTIF($D$141:$AA$141,$D$170)*$AB$20","v":0},{"$f":"COUNTIF($D$141:$AA$141,$E$170)*$AB$20","v":0},{"$f":"COUNTIF($D$141:$AA$141,$F$170)*$AB$20","v":0},{"$f":"COUNTIF($D$141:$AA$141,$G$170)*$AB$20","v":0},{"$f":"COUNTIF($D$141:$AA$141,$H$170)*$AB$20","v":0},{"$f":"COUNTIF($D$141:$AA$141,$I$170)*$AB$20","v":0},{"$f":"COUNTIF($D$141:$AA$141,$J$170)*$AB$20","v":0},{"$f":"COUNTIF($D$141:$AA$141,$K$170)*$AB$20","v":0},{"$f":"COUNTIF($D$141:$AA$141,$L$170)*$AB$20","v":0},{"$f":"COUNTIF($D$141:$AA$141,$M$170)*$AB$20","v":0},{"$f":"COUNTIF($D$141:$AA$141,$N$170)*$AB$20","v":0},{"$f":"COUNTIF($D$141:$AA$141,$O$170)*$AB$20","v":0},{"$f":"COUNTIF($D$141:$AA$141,$P$170)*$AB$20","v":0},{"$f":"COUNTIF($D$141:$AA$141,$Q$170)*$AB$20","v":0},{"$f":"COUNTIF($D$141:$AA$141,$R$170)*$AB$20","v":0},{"$f":"COUNTIF($D$141:$AA$141,$S$170)*$AB$20","v":0},{"$f":"COUNTIF($D$141:$AA$141,$T$170)*$AB$20","v":0},{"$f":"COUNTIF($D$141:$AA$141,$U$170)*$AB$20","v":0},{"$f":"COUNTIF($D$141:$AA$141,$V$170)*$AB$20","v":0},{"$f":"COUNTIF($D$141:$AA$141,$W$170)*$AB$20","v":0},{"$f":"COUNTIF($D$141:$AA$141,$X$170)*$AB$20","v":0},{"$f":"COUNTIF($D$141:$AA$141,$Y$170)*$AB$20","v":0},{"$f":"COUNTIF($D$141:$AA$141,$Z$170)*$AB$20","v":0},{"$f":"COUNTIF($D$141:$AA$141,$AA$170)*$AB$20","v":0},{"$f":"COUNTIF($D$141:$AA$141,$AB$170)*$AB$20","v":0},{"$f":"COUNTIF($D$141:$AA$141,$AC$170)*$AB$20","v":0},{"$f":"COUNTIF($D$141:$AA$141,$AD$170)*$AB$20","v":0},{"$f":"COUNTIF($D$141:$AA$141,$AE$170)*$AB$20","v":0},{"$f":"COUNTIF($D$141:$AA$141,$AF$170)*$AB$20","v":0},{"$f":"COUNTIF($D$141:$AA$141,$AG$170)*$AB$20","v":0},{"$f":"COUNTIF($D$141:$AA$141,$AH$170)*$AB$20","v":0},{"$f":"COUNTIF($D$141:$AA$141,$AI$170)*$AB$20","v":0},{"$f":"COUNTIF($D$141:$AA$141,$AJ$170)*$AB$20","v":0},{"$f":"COUNTIF($D$141:$AA$141,$AK$170)*$AB$20","v":0},{"$f":"COUNTIF($D$141:$AA$141,$AL$170)*$AB$20","v":0},{"$f":"COUNTIF($D$141:$AA$141,$AM$170)*$AB$20","v":0},{"$f":"COUNTIF($D$141:$AA$141,$AN$170)*$AB$20","v":0},{"$f":"COUNTIF($D$141:$AA$141,$AO$170)*$AB$20","v":0},{"$f":"COUNTIF($D$141:$AA$141,$AP$170)*$AB$20","v":0},{"$f":"COUNTIF($D$141:$AA$141,$AQ$170)*$AB$20","v":0},{"$f":"COUNTIF($D$141:$AA$141,$AR$170)*$AB$20","v":0},{"$f":"COUNTIF($D$141:$AA$141,$AS$170)*$AB$20","v":0},12,null,{"$f":"SUMPRODUCT($D$179:$AS$179,$D$184:$AS$184)","v":0},0,0,0,{"$f":"IFERROR(AX179+AY179,\"\")","v":0},"",0,"","",0,"",null,"",0,"","",0,"","",0,""]
[null,null,1,{"$f":"COUNTIF($D$142:$AA$142,$D$170)*$AB$21","v":0},{"$f":"COUNTIF($D$142:$AA$142,$E$170)*$AB$21","v":0},{"$f":"COUNTIF($D$142:$AA$142,$F$170)*$AB$21","v":0},{"$f":"COUNTIF($D$142:$AA$142,$G$170)*$AB$21","v":0},{"$f":"COUNTIF($D$142:$AA$142,$H$170)*$AB$21","v":0},{"$f":"COUNTIF($D$142:$AA$142,$I$170)*$AB$21","v":0},{"$f":"COUNTIF($D$142:$AA$142,$J$170)*$AB$21","v":0},{"$f":"COUNTIF($D$142:$AA$142,$K$170)*$AB$21","v":0},{"$f":"COUNTIF($D$142:$AA$142,$L$170)*$AB$21","v":0},{"$f":"COUNTIF($D$142:$AA$142,$M$170)*$AB$21","v":0},{"$f":"COUNTIF($D$142:$AA$142,$N$170)*$AB$21","v":0},{"$f":"COUNTIF($D$142:$AA$142,$O$170)*$AB$21","v":0},{"$f":"COUNTIF($D$142:$AA$142,$P$170)*$AB$21","v":0},{"$f":"COUNTIF($D$142:$AA$142,$Q$170)*$AB$21","v":0},{"$f":"COUNTIF($D$142:$AA$142,$R$170)*$AB$21","v":0},{"$f":"COUNTIF($D$142:$AA$142,$S$170)*$AB$21","v":0},{"$f":"COUNTIF($D$142:$AA$142,$T$170)*$AB$21","v":0},{"$f":"COUNTIF($D$142:$AA$142,$U$170)*$AB$21","v":0},{"$f":"COUNTIF($D$142:$AA$142,$V$170)*$AB$21","v":0},{"$f":"COUNTIF($D$142:$AA$142,$W$170)*$AB$21","v":0},{"$f":"COUNTIF($D$142:$AA$142,$X$170)*$AB$21","v":0},{"$f":"COUNTIF($D$142:$AA$142,$Y$170)*$AB$21","v":0},{"$f":"COUNTIF($D$142:$AA$142,$Z$170)*$AB$21","v":0},{"$f":"COUNTIF($D$142:$AA$142,$AA$170)*$AB$21","v":0},{"$f":"COUNTIF($D$142:$AA$142,$AB$170)*$AB$21","v":0},{"$f":"COUNTIF($D$142:$AA$142,$AC$170)*$AB$21","v":0},{"$f":"COUNTIF($D$142:$AA$142,$AD$170)*$AB$21","v":0},{"$f":"COUNTIF($D$142:$AA$142,$AE$170)*$AB$21","v":0},{"$f":"COUNTIF($D$142:$AA$142,$AF$170)*$AB$21","v":0},{"$f":"COUNTIF($D$142:$AA$142,$AG$170)*$AB$21","v":0},{"$f":"COUNTIF($D$142:$AA$142,$AH$170)*$AB$21","v":0},{"$f":"COUNTIF($D$142:$AA$142,$AI$170)*$AB$21","v":0},{"$f":"COUNTIF($D$142:$AA$142,$AJ$170)*$AB$21","v":0},{"$f":"COUNTIF($D$142:$AA$142,$AK$170)*$AB$21","v":0},{"$f":"COUNTIF($D$142:$AA$142,$AL$170)*$AB$21","v":0},{"$f":"COUNTIF($D$142:$AA$142,$AM$170)*$AB$21","v":0},{"$f":"COUNTIF($D$142:$AA$142,$AN$170)*$AB$21","v":0},{"$f":"COUNTIF($D$142:$AA$142,$AO$170)*$AB$21","v":0},{"$f":"COUNTIF($D$142:$AA$142,$AP$170)*$AB$21","v":0},{"$f":"COUNTIF($D$142:$AA$142,$AQ$170)*$AB$21","v":0},{"$f":"COUNTIF($D$142:$AA$142,$AR$170)*$AB$21","v":0},{"$f":"COUNTIF($D$142:$AA$142,$AS$170)*$AB$21","v":0},1,null,{"$f":"SUMPRODUCT($D$180:$AS$180,$D$184:$AS$184)","v":0},0,0,{"$f":"AW180*$AY$168","v":0},0,"",0,"","",0,"",null,"",0,"","",0,"","",0,{"$f":"IFERROR(BN180+BO180,\"\")","v":""}]
[null,null,2,{"$f":"COUNTIF($D$143:$AA$143,$D$170)*$AB$22","v":0},{"$f":"COUNTIF($D$143:$AA$143,$E$170)*$AB$22","v":0},{"$f":"COUNTIF($D$143:$AA$143,$F$170)*$AB$22","v":0},{"$f":"COUNTIF($D$143:$AA$143,$G$170)*$AB$22","v":0},{"$f":"COUNTIF($D$143:$AA$143,$H$170)*$AB$22","v":0},{"$f":"COUNTIF($D$143:$AA$143,$I$170)*$AB$22","v":0},{"$f":"COUNTIF($D$143:$AA$143,$J$170)*$AB$22","v":0},{"$f":"COUNTIF($D$143:$AA$143,$K$170)*$AB$22","v":0},{"$f":"COUNTIF($D$143:$AA$143,$L$170)*$AB$22","v":0},{"$f":"COUNTIF($D$143:$AA$143,$M$170)*$AB$22","v":0},{"$f":"COUNTIF($D$143:$AA$143,$N$170)*$AB$22","v":0},{"$f":"COUNTIF($D$143:$AA$143,$O$170)*$AB$22","v":0},{"$f":"COUNTIF($D$143:$AA$143,$P$170)*$AB$22","v":0},{"$f":"COUNTIF($D$143:$AA$143,$Q$170)*$AB$22","v":0},{"$f":"COUNTIF($D$143:$AA$143,$R$170)*$AB$22","v":0},{"$f":"COUNTIF($D$143:$AA$143,$S$170)*$AB$22","v":0},{"$f":"COUNTIF($D$143:$AA$143,$T$170)*$AB$22","v":0},{"$f":"COUNTIF($D$143:$AA$143,$U$170)*$AB$22","v":0},{"$f":"COUNTIF($D$143:$AA$143,$V$170)*$AB$22","v":0},{"$f":"COUNTIF($D$143:$AA$143,$W$170)*$AB$22","v":0},{"$f":"COUNTIF($D$143:$AA$143,$X$170)*$AB$22","v":0},{"$f":"COUNTIF($D$143:$AA$143,$Y$170)*$AB$22","v":0},{"$f":"COUNTIF($D$143:$AA$143,$Z$170)*$AB$22","v":0},{"$f":"COUNTIF($D$143:$AA$143,$AA$170)*$AB$22","v":0},{"$f":"COUNTIF($D$143:$AA$143,$AB$170)*$AB$22","v":0},{"$f":"COUNTIF($D$143:$AA$143,$AC$170)*$AB$22","v":0},{"$f":"COUNTIF($D$143:$AA$143,$AD$170)*$AB$22","v":0},{"$f":"COUNTIF($D$143:$AA$143,$AE$170)*$AB$22","v":0},{"$f":"COUNTIF($D$143:$AA$143,$AF$170)*$AB$22","v":0},{"$f":"COUNTIF($D$143:$AA$143,$AG$170)*$AB$22","v":0},{"$f":"COUNTIF($D$143:$AA$143,$AH$170)*$AB$22","v":0},{"$f":"COUNTIF($D$143:$AA$143,$AI$170)*$AB$22","v":0},{"$f":"COUNTIF($D$143:$AA$143,$AJ$170)*$AB$22","v":0},{"$f":"COUNTIF($D$143:$AA$143,$AK$170)*$AB$22","v":0},{"$f":"COUNTIF($D$143:$AA$143,$AL$170)*$AB$22","v":0},{"$f":"COUNTIF($D$143:$AA$143,$AM$170)*$AB$22","v":0},{"$f":"COUNTIF($D$143:$AA$143,$AN$170)*$AB$22","v":0},{"$f":"COUNTIF($D$143:$AA$143,$AO$170)*$AB$22","v":0},{"$f":"COUNTIF($D$143:$AA$143,$AP$170)*$AB$22","v":0},{"$f":"COUNTIF($D$143:$AA$143,$AQ$170)*$AB$22","v":0},{"$f":"COUNTIF($D$143:$AA$143,$AR$170)*$AB$22","v":0},{"$f":"COUNTIF($D$143:$AA$143,$AS$170)*$AB$22","v":0},2,null,{"$f":"SUMPRODUCT($D$181:$AS$181,$D$184:$AS$184)","v":0},0,{"$f":"IFERROR($Q$26/$Q$34*$AV181,\"\")","v":0},0,0,"",0,"","",0,{"$f":"IFERROR(BD181+BE181,\"\")","v":""},null,"",0,"","",0,"","",0,""]
[null,null,3,{"$f":"COUNTIF($D$144:$AA$144,$D$170)*$AB$23","v":0},{"$f":"COUNTIF($D$144:$AA$144,$E$170)*$AB$23","v":0},{"$f":"COUNTIF($D$144:$AA$144,$F$170)*$AB$23","v":0},{"$f":"COUNTIF($D$144:$AA$144,$G$170)*$AB$23","v":0},{"$f":"COUNTIF($D$144:$AA$144,$H$170)*$AB$23","v":0},{"$f":"COUNTIF($D$144:$AA$144,$I$170)*$AB$23","v":0},{"$f":"COUNTIF($D$144:$AA$144,$J$170)*$AB$23","v":0},{"$f":"COUNTIF($D$144:$AA$144,$K$170)*$AB$23","v":0},{"$f":"COUNTIF($D$144:$AA$144,$L$170)*$AB$23","v":0},{"$f":"COUNTIF($D$144:$AA$144,$M$170)*$AB$23","v":0},{"$f":"COUNTIF($D$144:$AA$144,$N$170)*$AB$23","v":0},{"$f":"COUNTIF($D$144:$AA$144,$O$170)*$AB$23","v":0},{"$f":"COUNTIF($D$144:$AA$144,$P$170)*$AB$23","v":0},{"$f":"COUNTIF($D$144:$AA$144,$Q$170)*$AB$23","v":0},{"$f":"COUNTIF($D$144:$AA$144,$R$170)*$AB$23","v":0},{"$f":"COUNTIF($D$144:$AA$144,$S$170)*$AB$23","v":0},{"$f":"COUNTIF($D$144:$AA$144,$T$170)*$AB$23","v":0},{"$f":"COUNTIF($D$144:$AA$144,$U$170)*$AB$23","v":0},{"$f":"COUNTIF($D$144:$AA$144,$V$170)*$AB$23","v":0},{"$f":"COUNTIF($D$144:$AA$144,$W$170)*$AB$23","v":0},{"$f":"COUNTIF($D$144:$AA$144,$X$170)*$AB$23","v":0},{"$f":"COUNTIF($D$144:$AA$144,$Y$170)*$AB$23","v":0},{"$f":"COUNTIF($D$144:$AA$144,$Z$170)*$AB$23","v":0},{"$f":"COUNTIF($D$144:$AA$144,$AA$170)*$AB$23","v":0},{"$f":"COUNTIF($D$144:$AA$144,$AB$170)*$AB$23","v":0},{"$f":"COUNTIF($D$144:$AA$144,$AC$170)*$AB$23","v":0},{"$f":"COUNTIF($D$144:$AA$144,$AD$170)*$AB$23","v":0},{"$f":"COUNTIF($D$144:$AA$144,$AE$170)*$AB$23","v":0},{"$f":"COUNTIF($D$144:$AA$144,$AF$170)*$AB$23","v":0},{"$f":"COUNTIF($D$144:$AA$144,$AG$170)*$AB$23","v":0},{"$f":"COUNTIF($D$144:$AA$144,$AH$170)*$AB$23","v":0},{"$f":"COUNTIF($D$144:$AA$144,$AI$170)*$AB$23","v":0},{"$f":"COUNTIF($D$144:$AA$144,$AJ$170)*$AB$23","v":0},{"$f":"COUNTIF($D$144:$AA$144,$AK$170)*$AB$23","v":0},{"$f":"COUNTIF($D$144:$AA$144,$AL$170)*$AB$23","v":0},{"$f":"COUNTIF($D$144:$AA$144,$AM$170)*$AB$23","v":0},{"$f":"COUNTIF($D$144:$AA$144,$AN$170)*$AB$23","v":0},{"$f":"COUNTIF($D$144:$AA$144,$AO$170)*$AB$23","v":0},{"$f":"COUNTIF($D$144:$AA$144,$AP$170)*$AB$23","v":0},{"$f":"COUNTIF($D$144:$AA$144,$AQ$170)*$AB$23","v":0},{"$f":"COUNTIF($D$144:$AA$144,$AR$170)*$AB$23","v":0},{"$f":"COUNTIF($D$144:$AA$144,$AS$170)*$AB$23","v":0},3,null,{"$f":"SUMPRODUCT($D$182:$AS$182,$D$184:$AS$184)","v":0},0,0,{"$f":"AW182*$AY$168","v":0},{"$f":"IFERROR(AX182+AY182,\"\")","v":0},"",{"$f":"AW182*$BB$168","v":0},{"$f":"IFERROR(BA182+BB182,\"\")","v":""},"",0,{"$f":"IFERROR(BD182+BE182,\"\")","v":""},null,"",0,{"$f":"IFERROR(BH182+BI182,\"\")","v":""},"",0,{"$f":"IFERROR(BK182+BL182,\"\")","v":""},"",0,{"$f":"IFERROR(BN182+BO182,\"\")","v":""}]
[null,"tw","加熱運転時間",{"$f":"SUM($D$171:$D$182)","v":0},{"$f":"SUM($E$171:$E$182)","v":0},{"$f":"SUM($F$171:$F$182)","v":0},{"$f":"SUM($G$171:$G$182)","v":0},{"$f":"SUM($H$171:$H$182)","v":0},{"$f":"SUM($I$171:$I$182)","v":0},{"$f":"SUM($J$171:$J$182)","v":0},{"$f":"SUM($K$171:$K$182)","v":0},{"$f":"SUM($L$171:$L$182)","v":0},{"$f":"SUM($M$171:$M$182)","v":0},{"$f":"SUM($N$171:$N$182)","v":0},{"$f":"SUM($O$171:$O$182)","v":0},{"$f":"SUM($P$171:$P$182)","v":0},{"$f":"SUM($Q$171:$Q$182)","v":0},{"$f":"SUM($R$171:$R$182)","v":0},{"$f":"SUM($S$171:$S$182)","v":0},{"$f":"SUM($T$171:$T$182)","v":0},{"$f":"SUM($U$171:$U$182)","v":0},{"$f":"SUM($V$171:$V$182)","v":0},{"$f":"SUM($W$171:$W$182)","v":0},{"$f":"SUM($X$171:$X$182)","v":0},{"$f":"SUM($Y$171:$Y$182)","v":0},{"$f":"SUM($Z$171:$Z$182)","v":0},{"$f":"SUM($AA$171:$AA$182)","v":0},{"$f":"SUM($AB$171:$AB$182)","v":0},{"$f":"SUM($AC$171:$AC$182)","v":0},{"$f":"SUM($AD$171:$AD$182)","v":0},{"$f":"SUM($AE$171:$AE$182)","v":0},{"$f":"SUM($AF$171:$AF$182)","v":0},{"$f":"SUM($AG$171:$AG$182)","v":0},{"$f":"SUM($AH$171:$AH$182)","v":0},{"$f":"SUM($AI$171:$AI$182)","v":0},{"$f":"SUM($AJ$171:$AJ$182)","v":0},{"$f":"SUM($AK$171:$AK$182)","v":0},{"$f":"SUM($AL$171:$AL$182)","v":0},{"$f":"SUM($AM$171:$AM$182)","v":0},{"$f":"SUM($AN$171:$AN$182)","v":0},{"$f":"SUM($AO$171:$AO$182)","v":0},{"$f":"SUM($AP$171:$AP$182)","v":0},{"$f":"SUM($AQ$171:$AQ$182)","v":0},{"$f":"SUM($AR$171:$AR$182)","v":0},{"$f":"SUM($AS$171:$AS$182)","v":0},"加熱運転時間",null,{"$f":"SUM($AV$171:$AV$182)","v":0},{"$f":"SUM(AW171:AW182)","v":0},{"$f":"SUM($AX$171:$AX$182)","v":0},{"$f":"SUM(AY171:AY182)","v":0},{"$f":"SUM(AZ171:AZ182)","v":0},{"$f":"SUM(BA171:BA182)","v":0},{"$f":"SUM(BB171:BB182)","v":0},{"$f":"SUM(BC171:BC182)","v":0},0,0,{"$f":"SUM(BF171:BF182)","v":0},null,{"$f":"SUM($BH$171:$BH$182)","v":0},{"$f":"SUM(BI171:BI182)","v":0},0,0,0,0,0,0,0]
[null,"εw","加熱時消費電力比",{"$f":"$D$185/$D$186","v":0.96132596685082861},{"$f":"$E$185/$E$186","v":0.90607734806629825},{"$f":"$F$185/$F$186","v":0.85082872928176789},{"$f":"$G$185/$G$186","v":0.79558011049723754},{"$f":"$H$185/$H$186","v":0.74033149171270718},{"$f":"$I$185/$I$186","v":0.68508287292817682},{"$f":"$J$185/$J$186","v":0.62983425414364635},{"$f":"$K$185/$K$186","v":0.574585635359116},{"$f":"$L$185/$L$186","v":0.51933701657458564},{"$f":"$M$185/$M$186","v":0.46408839779005523},{"$f":"$N$185/$N$186","v":0.40883977900552487},{"$f":"$O$185/$O$186","v":0.35359116022099446},{"$f":"$P$185/$P$186","v":0.2983425414364641},{"$f":"$Q$185/$Q$186","v":0.24309392265193372},{"$f":"$R$185/$R$186","v":0.18784530386740333},{"$f":"$S$185/$S$186","v":0.13259668508287295},{"$f":"$T$185/$T$186","v":7.7348066298342552E-2},{"$f":"$U$185/$U$186","v":2.2099447513812175E-2},{"$f":"$V$185/$V$186","v":0},{"$f":"$W$185/$W$186","v":0},{"$f":"$X$185/$X$186","v":0},{"$f":"$Y$185/$Y$186","v":0},{"$f":"$Z$185/$Z$186","v":0},{"$f":"$AA$185/$AA$186","v":0},{"$f":"$AB$185/$AB$186","v":0},{"$f":"$AC$185/$AC$186","v":0},{"$f":"$AD$185/$AD$186","v":0},{"$f":"$AE$185/$AE$186","v":0},{"$f":"$AF$185/$AF$186","v":0},{"$f":"$AG$185/$AG$186","v":0},{"$f":"$AH$185/$AH$186","v":0},{"$f":"$AI$185/$AI$186","v":0},{"$f":"$AJ$185/$AJ$186","v":0},{"$f":"$AK$185/$AK$186","v":0},{"$f":"$AL$185/$AL$186","v":0},{"$f":"$AM$185/$AM$186","v":0},{"$f":"$AN$185/$AN$186","v":0},{"$f":"$AO$185/$AO$186","v":0},{"$f":"$AP$185/$AP$186","v":0},{"$f":"$AQ$185/$AQ$186","v":0},{"$f":"$AR$185/$AR$186","v":0},{"$f":"$AS$185/$AS$186","v":0},"加熱時消費電力比","εw"]
[null,"αw","加熱空調負荷率",{"$f":"IF((-1/18.1)*(D$170-11.4)<0,0,IF((-1/18.1)*(D$170-11.4)>1,1,(-1/18.1)*(D$170-11.4)))","v":0.96132596685082861},{"$f":"IF((-1/18.1)*(E$170-11.4)<0,0,IF((-1/18.1)*(E$170-11.4)>1,1,(-1/18.1)*(E$170-11.4)))","v":0.90607734806629825},0.85082872928176789,0.79558011049723754,0.74033149171270718,0.68508287292817682,0.62983425414364635,0.574585635359116,0.51933701657458564,0.46408839779005523,0.40883977900552487,0.35359116022099446,0.2983425414364641,0.24309392265193372,0.18784530386740333,0.13259668508287295,7.7348066298342552E-2,2.2099447513812175E-2,0,0,0,0,0,0,0,0,0,0,0,0,0,0,0,0,0,0,0,0,0,0,0,0,"加熱空調負荷率","αw"]
[null,"βw","加熱COP比",1,1,1,1,1,1,1,1,1,1,1,1,1,1,1,1,1,1,1,1,1,1,1,1,1,1,1,1,1,1,1,1,1,1,1,1,1,1,1,1,1,1,"加熱COP比","βw"]
[null,null,"Σ",{"$f":"D$183*D$184","v":0},{"$f":"E$183*E$184","v":0},0,0,0,0,0,0,0,0,0,0,0,0,0,0,0,0,0,0,0,0,0,0,0,0,0,0,0,0,0,0,0,0,0,0,0,0,0,0,0,0,{"$f":"SUM($D187:$AS187)","v":0}]
[]
[null,null,"αc^0.6",{"$f":"D163^0.6","v":0},{"$f":"E163^0.6","v":0},{"$f":"F163^0.6","v":0},0,0,0,0,0,{"$f":"L163^0.6","v":0},0,0,0,0,0,0,0,0,0,0,0.19694512927085178,0.29851299512936197,0.3807307877431757,0.45246109203621188,0.51728185797178661,0.5770799623628855,0.63300052261123363,0.68580277290067215,0.7360219228178333,0.78405268168311582,0.83019641884114292,0.87468965915462249,0.91772223886856286,0.95944937873158653,1,1,1,1,1,1,1,1,1,"αc^0.6"]
[null,null,"Σ",{"$f":"D161*D189","v":0},{"$f":"E161*E189","v":0},0,0,0,0,0,0,0,0,0,0,0,0,0,0,0,0,0,0,0,0,0,0,0,0,0,0,0,0,0,0,0,0,0,0,0,0,0,0,0,0,{"$f":"SUM(D190:AS190)","v":0}]
[]
[null,null,"αw^0.6",{"$f":"D185^0.6","v":0.97661278194534784},{"$f":"E185^0.6","v":0.94253864102537166},0.9076225711718916,0.87178692324100626,0.83494089690266893,0.7969771430017345,0.75776713543805463,0.71715471597041447,0.6749468382242495,0.63089985372702917,0.58469837509962719,0.53592107936456368,0.48398188975800577,0.42802039254228846,0.36667407519530559,0.29752235303982305,0.21531271462012308,0.10153805729187543,0,0,0,0,0,0,0,0,0,0,0,0,0,0,0,0,0,0,0,0,0,0,0,0,"αc^0.6"]
[null,null,"Σ",{"$f":"D183*D192","v":0},{"$f":"E183*E192","v":0},0,0,0,0,0,0,0,0,0,0,0,0,0,0,0,0,0,0,0,0,0,0,0,0,0,0,0,0,0,0,0,0,0,0,0,0,0,0,0,0,{"$f":"SUM(D193:AS193)","v":0}]

{"sheet":"温暖地(γ個別入力)","index":3,"n_rows":193,"n_cols":68,"rows_kept":193,"cut":false,"hidden":false,"merged":[[114,3,114,26],[130,3,130,26],[78,3,78,4],[78,5,78,6],[78,7,78,8],[96,24,96,25],[96,49,96,50],[98,3,98,26],[27,3,38,3],[41,3,52,3],[57,3,57,4],[57,5,57,6],[57,7,57,8],[75,49,76,50],[24,3,25,4],[24,19,25,20],[2,2,2,3],[3,2,3,3],[5,2,5,3],[6,2,6,3],[9,3,9,26]]}
[]
[null,null,"水冷HPチラーの設置場所"]
[null,null,{"$f":"IF(必ずこのシートから始めてください!$L$8=\"\",\"\",必ずこのシートから始めてください!$L$8)","v":""},null,null,"手順1：空調を行う月、時間を下記の指定の色で塗る(指定の色以外で塗ると計算できません。)"]
[null,null,{"$f":"VLOOKUP($C$3,γ一覧表!$C$3:$E$50,2,FALSE)","v":{"$error":"#N/A"}},null,null,null,"冷却","青","【左から5列目、一番薄い色(アクセント1,白＋基本色80％)】"]
[null,null,null,null,null,null,"加熱","オレンジ","【左から6番目、一番薄い色(アクセント2,白＋基本色80％)】"]
[null,null,"使用するγ値",null,null,"手順2：各月の運転日数を入力する"]
[null,null,{"$f":"IF(必ずこのシートから始めてください!$L$22=\"\",\"---\",IF(必ずこのシートから始めてください!L22>1,\"---\",必ずこのシートから始めてください!$L$22))","v":"---"},null,null,"手順3：Ctrl + Alt + F9を同時に押す",null,null,null,null,null,null,null,null,null,null,null,"●時刻別平均外気湿球温度表記載の数値は、選択された都道府県の県庁所在地等の月別、時刻別平均外気湿球温度"]
[null,null,null,null,null,"手順4：黄色のセルに値を入力する(緑は自動計算)",null,null,null,null,null,null,null,null,null,null,null,"●本データは気象庁発表の1992年4月1日から2022年3月31日までの30年の1時間データを整理したもの"]
[null,null,"時刻別平均外気湿球温度[℃]",null,null,null,null,null,null,null,null,null,null,null,null,null,null,"●2月はうるう日を含みます"]
[null,null,null,null,null,null,null,null,null,null,null,null,null,null,null,null,null,null,null,null,null,null,null,null,null,null,null,{"$f":"SUM($AB$11:$AB$23)","v":0},{"$f":"必ずこのシートから始めてください!M3","v":"Ver.1.0"}]
[null,null,"月",0,1,2,3,4,5,6,7,8,9,10,11,12,13,14,15,16,17,18,19,20,21,22,23,"運転日数","月"]
[null,null,4,{"$f":"IFERROR(INDIRECT($C$4&\"!B5\"),\"\")","v":""},{"$f":"IFERROR(INDIRECT($C$4&\"!C5\"),\"\")","v":""},{"$f":"IFERROR(INDIRECT($C$4&\"!D5\"),\"\")","v":""},{"$f":"IFERROR(INDIRECT($C$4&\"!E5\"),\"\")","v":""},{"$f":"IFERROR(INDIRECT($C$4&\"!F5\"),\"\")","v":""},{"$f":"IFERROR(INDIRECT($C$4&\"!G5\"),\"\")","v":""},{"$f":"IFERROR(INDIRECT($C$4&\"!H5\"),\"\")","v":""},{"$f":"IFERROR(INDIRECT($C$4&\"!I5\"),\"\")","v":""},{"$f":"IFERROR(INDIRECT($C$4&\"!J5\"),\"\")","v":""},{"$f":"IFERROR(INDIRECT($C$4&\"!K5\"),\"\")","v":""},{"$f":"IFERROR(INDIRECT($C$4&\"!L5\"),\"\")","v":""},{"$f":"IFERROR(INDIRECT($C$4&\"!M5\"),\"\")","v":""},{"$f":"IFERROR(INDIRECT($C$4&\"!N5\"),\"\")","v":""},{"$f":"IFERROR(INDIRECT($C$4&\"!O5\"),\"\")","v":""},{"$f":"IFERROR(INDIRECT($C$4&\"!P5\"),\"\")","v":""},{"$f":"IFERROR(INDIRECT($C$4&\"!Q5\"),\"\")","v":""},{"$f":"IFERROR(INDIRECT($C$4&\"!R5\"),\"\")","v":""},{"$f":"IFERROR(INDIRECT($C$4&\"!S5\"),\"\")","v":""},{"$f":"IFERROR(INDIRECT($C$4&\"!T5\"),\"\")","v":""},{"$f":"IFERROR(INDIRECT($C$4&\"!U5\"),\"\")","v":""},{"$f":"IFERROR(INDIRECT($C$4&\"!V5\"),\"\")","v":""},{"$f":"IFERROR(INDIRECT($C$4&\"!W5\"),\"\")","v":""},{"$f":"IFERROR(INDIRECT($C$4&\"!X5\"),\"\")","v":""},{"$f":"IFERROR(INDIRECT($C$4&\"!Y5\"),\"\")","v":""},null,4]
[null,null,5,{"$f":"IFERROR(INDIRECT($C$4&\"!B6\"),\"\")","v":""},{"$f":"IFERROR(INDIRECT($C$4&\"!C6\"),\"\")","v":""},{"$f":"IFERROR(INDIRECT($C$4&\"!D6\"),\"\")","v":""},{"$f":"IFERROR(INDIRECT($C$4&\"!E6\"),\"\")","v":""},{"$f":"IFERROR(INDIRECT($C$4&\"!F6\"),\"\")","v":""},{"$f":"IFERROR(INDIRECT($C$4&\"!G6\"),\"\")","v":""},{"$f":"IFERROR(INDIRECT($C$4&\"!H6\"),\"\")","v":""},{"$f":"IFERROR(INDIRECT($C$4&\"!I6\"),\"\")","v":""},{"$f":"IFERROR(INDIRECT($C$4&\"!J6\"),\"\")","v":""},{"$f":"IFERROR(INDIRECT($C$4&\"!K6\"),\"\")","v":""},{"$f":"IFERROR(INDIRECT($C$4&\"!L6\"),\"\")","v":""},{"$f":"IFERROR(INDIRECT($C$4&\"!M6\"),\"\")","v":""},{"$f":"IFERROR(INDIRECT($C$4&\"!N6\"),\"\")","v":""},{"$f":"IFERROR(INDIRECT($C$4&\"!O6\"),\"\")","v":""},{"$f":"IFERROR(INDIRECT($C$4&\"!P6\"),\"\")","v":""},{"$f":"IFERROR(INDIRECT($C$4&\"!Q6\"),\"\")","v":""},{"$f":"IFERROR(INDIRECT($C$4&\"!R6\"),\"\")","v":""},{"$f":"IFERROR(INDIRECT($C$4&\"!S6\"),\"\")","v":""},{"$f":"IFERROR(INDIRECT($C$4&\"!T6\"),\"\")","v":""},{"$f":"IFERROR(INDIRECT($C$4&\"!U6\"),\"\")","v":""},{"$f":"IFERROR(INDIRECT($C$4&\"!V6\"),\"\")","v":""},{"$f":"IFERROR(INDIRECT($C$4&\"!W6\"),\"\")","v":""},{"$f":"IFERROR(INDIRECT($C$4&\"!X6\"),\"\")","v":""},{"$f":"IFERROR(INDIRECT($C$4&\"!Y6\"),\"\")","v":""},null,5]
[null,null,6,{"$f":"IFERROR(INDIRECT($C$4&\"!B7\"),\"\")","v":""},{"$f":"IFERROR(INDIRECT($C$4&\"!C7\"),\"\")","v":""},{"$f":"IFERROR(INDIRECT($C$4&\"!D7\"),\"\")","v":""},{"$f":"IFERROR(INDIRECT($C$4&\"!E7\"),\"\")","v":""},{"$f":"IFERROR(INDIRECT($C$4&\"!F7\"),\"\")","v":""},{"$f":"IFERROR(INDIRECT($C$4&\"!G7\"),\"\")","v":""},{"$f":"IFERROR(INDIRECT($C$4&\"!H7\"),\"\")","v":""},{"$f":"IFERROR(INDIRECT($C$4&\"!I7\"),\"\")","v":""},{"$f":"IFERROR(INDIRECT($C$4&\"!J7\"),\"\")","v":""},{"$f":"IFERROR(INDIRECT($C$4&\"!K7\"),\"\")","v":""},{"$f":"IFERROR(INDIRECT($C$4&\"!L7\"),\"\")","v":""},{"$f":"IFERROR(INDIRECT($C$4&\"!M7\"),\"\")","v":""},{"$f":"IFERROR(INDIRECT($C$4&\"!N7\"),\"\")","v":""},{"$f":"IFERROR(INDIRECT($C$4&\"!O7\"),\"\")","v":""},{"$f":"IFERROR(INDIRECT($C$4&\"!P7\"),\"\")","v":""},{"$f":"IFERROR(INDIRECT($C$4&\"!Q7\"),\"\")","v":""},{"$f":"IFERROR(INDIRECT($C$4&\"!R7\"),\"\")","v":""},{"$f":"IFERROR(INDIRECT($C$4&\"!S7\"),\"\")","v":""},{"$f":"IFERROR(INDIRECT($C$4&\"!T7\"),\"\")","v":""},{"$f":"IFERROR(INDIRECT($C$4&\"!U7\"),\"\")","v":""},{"$f":"IFERROR(INDIRECT($C$4&\"!V7\"),\"\")","v":""},{"$f":"IFERROR(INDIRECT($C$4&\"!W7\"),\"\")","v":""},{"$f":"IFERROR(INDIRECT($C$4&\"!X7\"),\"\")","v":""},{"$f":"IFERROR(INDIRECT($C$4&\"!Y7\"),\"\")","v":""},null,6]
[null,null,7,{"$f":"IFERROR(INDIRECT($C$4&\"!B8\"),\"\")","v":""},{"$f":"IFERROR(INDIRECT($C$4&\"!C8\"),\"\")","v":""},{"$f":"IFERROR(INDIRECT($C$4&\"!D8\"),\"\")","v":""},{"$f":"IFERROR(INDIRECT($C$4&\"!E8\"),\"\")","v":""},{"$f":"IFERROR(INDIRECT($C$4&\"!F8\"),\"\")","v":""},{"$f":"IFERROR(INDIRECT($C$4&\"!G8\"),\"\")","v":""},{"$f":"IFERROR(INDIRECT($C$4&\"!H8\"),\"\")","v":""},{"$f":"IFERROR(INDIRECT($C$4&\"!I8\"),\"\")","v":""},{"$f":"IFERROR(INDIRECT($C$4&\"!J8\"),\"\")","v":""},{"$f":"IFERROR(INDIRECT($C$4&\"!K8\"),\"\")","v":""},{"$f":"IFERROR(INDIRECT($C$4&\"!L8\"),\"\")","v":""},{"$f":"IFERROR(INDIRECT($C$4&\"!M8\"),\"\")","v":""},{"$f":"IFERROR(INDIRECT($C$4&\"!N8\"),\"\")","v":""},{"$f":"IFERROR(INDIRECT($C$4&\"!O8\"),\"\")","v":""},{"$f":"IFERROR(INDIRECT($C$4&\"!P8\"),\"\")","v":""},{"$f":"IFERROR(INDIRECT($C$4&\"!Q8\"),\"\")","v":""},{"$f":"IFERROR(INDIRECT($C$4&\"!R8\"),\"\")","v":""},{"$f":"IFERROR(INDIRECT($C$4&\"!S8\"),\"\")","v":""},{"$f":"IFERROR(INDIRECT($C$4&\"!T8\"),\"\")","v":""},{"$f":"IFERROR(INDIRECT($C$4&\"!U8\"),\"\")","v":""},{"$f":"IFERROR(INDIRECT($C$4&\"!V8\"),\"\")","v":""},{"$f":"IFERROR(INDIRECT($C$4&\"!W8\"),\"\")","v":""},{"$f":"IFERROR(INDIRECT($C$4&\"!X8\"),\"\")","v":""},{"$f":"IFERROR(INDIRECT($C$4&\"!Y8\"),\"\")","v":""},null,7]
[null,null,8,{"$f":"IFERROR(INDIRECT($C$4&\"!B9\"),\"\")","v":""},{"$f":"IFERROR(INDIRECT($C$4&\"!C9\"),\"\")","v":""},{"$f":"IFERROR(INDIRECT($C$4&\"!D9\"),\"\")","v":""},{"$f":"IFERROR(INDIRECT($C$4&\"!E9\"),\"\")","v":""},{"$f":"IFERROR(INDIRECT($C$4&\"!F9\"),\"\")","v":""},{"$f":"IFERROR(INDIRECT($C$4&\"!G9\"),\"\")","v":""},{"$f":"IFERROR(INDIRECT($C$4&\"!H9\"),\"\")","v":""},{"$f":"IFERROR(INDIRECT($C$4&\"!I9\"),\"\")","v":""},{"$f":"IFERROR(INDIRECT($C$4&\"!J9\"),\"\")","v":""},{"$f":"IFERROR(INDIRECT($C$4&\"!K9\"),\"\")","v":""},{"$f":"IFERROR(INDIRECT($C$4&\"!L9\"),\"\")","v":""},{"$f":"IFERROR(INDIRECT($C$4&\"!M9\"),\"\")","v":""},{"$f":"IFERROR(INDIRECT($C$4&\"!N9\"),\"\")","v":""},{"$f":"IFERROR(INDIRECT($C$4&\"!O9\"),\"\")","v":""},{"$f":"IFERROR(INDIRECT($C$4&\"!P9\"),\"\")","v":""},{"$f":"IFERROR(INDIRECT($C$4&\"!Q9\"),\"\")","v":""},{"$f":"IFERROR(INDIRECT($C$4&\"!R9\"),\"\")","v":""},{"$f":"IFERROR(INDIRECT($C$4&\"!S9\"),\"\")","v":""},{"$f":"IFERROR(INDIRECT($C$4&\"!T9\"),\"\")","v":""},{"$f":"IFERROR(INDIRECT($C$4&\"!U9\"),\"\")","v":""},{"$f":"IFERROR(INDIRECT($C$4&\"!V9\"),\"\")","v":""},{"$f":"IFERROR(INDIRECT($C$4&\"!W9\"),\"\")","v":""},{"$f":"IFERROR(INDIRECT($C$4&\"!X9\"),\"\")","v":""},{"$f":"IFERROR(INDIRECT($C$4&\"!Y9\"),\"\")","v":""},null,8]
[null,null,9,{"$f":"IFERROR(INDIRECT($C$4&\"!B10\"),\"\")","v":""},{"$f":"IFERROR(INDIRECT($C$4&\"!C10\"),\"\")","v":""},{"$f":"IFERROR(INDIRECT($C$4&\"!D10\"),\"\")","v":""},{"$f":"IFERROR(INDIRECT($C$4&\"!E10\"),\"\")","v":""},{"$f":"IFERROR(INDIRECT($C$4&\"!F10\"),\"\")","v":""},{"$f":"IFERROR(INDIRECT($C$4&\"!G10\"),\"\")","v":""},{"$f":"IFERROR(INDIRECT($C$4&\"!H10\"),\"\")","v":""},{"$f":"IFERROR(INDIRECT($C$4&\"!I10\"),\"\")","v":""},{"$f":"IFERROR(INDIRECT($C$4&\"!J10\"),\"\")","v":""},{"$f":"IFERROR(INDIRECT($C$4&\"!K10\"),\"\")","v":""},{"$f":"IFERROR(INDIRECT($C$4&\"!L10\"),\"\")","v":""},{"$f":"IFERROR(INDIRECT($C$4&\"!M10\"),\"\")","v":""},{"$f":"IFERROR(INDIRECT($C$4&\"!N10\"),\"\")","v":""},{"$f":"IFERROR(INDIRECT($C$4&\"!O10\"),\"\")","v":""},{"$f":"IFERROR(INDIRECT($C$4&\"!P10\"),\"\")","v":""},{"$f":"IFERROR(INDIRECT($C$4&\"!Q10\"),\"\")","v":""},{"$f":"IFERROR(INDIRECT($C$4&\"!R10\"),\"\")","v":""},{"$f":"IFERROR(INDIRECT($C$4&\"!S10\"),\"\")","v":""},{"$f":"IFERROR(INDIRECT($C$4&\"!T10\"),\"\")","v":""},{"$f":"IFERROR(INDIRECT($C$4&\"!U10\"),\"\")","v":""},{"$f":"IFERROR(INDIRECT($C$4&\"!V10\"),\"\")","v":""},{"$f":"IFERROR(INDIRECT($C$4&\"!W10\"),\"\")","v":""},{"$f":"IFERROR(INDIRECT($C$4&\"!X10\"),\"\")","v":""},{"$f":"IFERROR(INDIRECT($C$4&\"!Y10\"),\"\")","v":""},null,9]
[null,null,10,{"$f":"IFERROR(INDIRECT($C$4&\"!B11\"),\"\")","v":""},{"$f":"IFERROR(INDIRECT($C$4&\"!C11\"),\"\")","v":""},{"$f":"IFERROR(INDIRECT($C$4&\"!D11\"),\"\")","v":""},{"$f":"IFERROR(INDIRECT($C$4&\"!E11\"),\"\")","v":""},{"$f":"IFERROR(INDIRECT($C$4&\"!F11\"),\"\")","v":""},{"$f":"IFERROR(INDIRECT($C$4&\"!G11\"),\"\")","v":""},{"$f":"IFERROR(INDIRECT($C$4&\"!H11\"),\"\")","v":""},{"$f":"IFERROR(INDIRECT($C$4&\"!I11\"),\"\")","v":""},{"$f":"IFERROR(INDIRECT($C$4&\"!J11\"),\"\")","v":""},{"$f":"IFERROR(INDIRECT($C$4&\"!K11\"),\"\")","v":""},{"$f":"IFERROR(INDIRECT($C$4&\"!L11\"),\"\")","v":""},{"$f":"IFERROR(INDIRECT($C$4&\"!M11\"),\"\")","v":""},{"$f":"IFERROR(INDIRECT($C$4&\"!N11\"),\"\")","v":""},{"$f":"IFERROR(INDIRECT($C$4&\"!O11\"),\"\")","v":""},{"$f":"IFERROR(INDIRECT($C$4&\"!P11\"),\"\")","v":""},{"$f":"IFERROR(INDIRECT($C$4&\"!Q11\"),\"\")","v":""},{"$f":"IFERROR(INDIRECT($C$4&\"!R11\"),\"\")","v":""},{"$f":"IFERROR(INDIRECT($C$4&\"!S11\"),\"\")","v":""},{"$f":"IFERROR(INDIRECT($C$4&\"!T11\"),\"\")","v":""},{"$f":"IFERROR(INDIRECT($C$4&\"!U11\"),\"\")","v":""},{"$f":"IFERROR(INDIRECT($C$4&\"!V11\"),\"\")","v":""},{"$f":"IFERROR(INDIRECT($C$4&\"!W11\"),\"\")","v":""},{"$f":"IFERROR(INDIRECT($C$4&\"!X11\"),\"\")","v":""},{"$f":"IFERROR(INDIRECT($C$4&\"!Y11\"),\"\")","v":""},null,10]
[null,null,11,{"$f":"IFERROR(INDIRECT($C$4&\"!B12\"),\"\")","v":""},{"$f":"IFERROR(INDIRECT($C$4&\"!C12\"),\"\")","v":""},{"$f":"IFERROR(INDIRECT($C$4&\"!D12\"),\"\")","v":""},{"$f":"IFERROR(INDIRECT($C$4&\"!E12\"),\"\")","v":""},{"$f":"IFERROR(INDIRECT($C$4&\"!F12\"),\"\")","v":""},{"$f":"IFERROR(INDIRECT($C$4&\"!G12\"),\"\")","v":""},{"$f":"IFERROR(INDIRECT($C$4&\"!H12\"),\"\")","v":""},{"$f":"IFERROR(INDIRECT($C$4&\"!I12\"),\"\")","v":""},{"$f":"IFERROR(INDIRECT($C$4&\"!J12\"),\"\")","v":""},{"$f":"IFERROR(INDIRECT($C$4&\"!K12\"),\"\")","v":""},{"$f":"IFERROR(INDIRECT($C$4&\"!L12\"),\"\")","v":""},{"$f":"IFERROR(INDIRECT($C$4&\"!M12\"),\"\")","v":""},{"$f":"IFERROR(INDIRECT($C$4&\"!N12\"),\"\")","v":""},{"$f":"IFERROR(INDIRECT($C$4&\"!O12\"),\"\")","v":""},{"$f":"IFERROR(INDIRECT($C$4&\"!P12\"),\"\")","v":""},{"$f":"IFERROR(INDIRECT($C$4&\"!Q12\"),\"\")","v":""},{"$f":"IFERROR(INDIRECT($C$4&\"!R12\"),\"\")","v":""},{"$f":"IFERROR(INDIRECT($C$4&\"!S12\"),\"\")","v":""},{"$f":"IFERROR(INDIRECT($C$4&\"!T12\"),\"\")","v":""},{"$f":"IFERROR(INDIRECT($C$4&\"!U12\"),\"\")","v":""},{"$f":"IFERROR(INDIRECT($C$4&\"!V12\"),\"\")","v":""},{"$f":"IFERROR(INDIRECT($C$4&\"!W12\"),\"\")","v":""},{"$f":"IFERROR(INDIRECT($C$4&\"!X12\"),\"\")","v":""},{"$f":"IFERROR(INDIRECT($C$4&\"!Y12\"),\"\")","v":""},null,11]
[null,null,12,{"$f":"IFERROR(INDIRECT($C$4&\"!B13\"),\"\")","v":""},{"$f":"IFERROR(INDIRECT($C$4&\"!C13\"),\"\")","v":""},{"$f":"IFERROR(INDIRECT($C$4&\"!D13\"),\"\")","v":""},{"$f":"IFERROR(INDIRECT($C$4&\"!E13\"),\"\")","v":""},{"$f":"IFERROR(INDIRECT($C$4&\"!F13\"),\"\")","v":""},{"$f":"IFERROR(INDIRECT($C$4&\"!G13\"),\"\")","v":""},{"$f":"IFERROR(INDIRECT($C$4&\"!H13\"),\"\")","v":""},{"$f":"IFERROR(INDIRECT($C$4&\"!I13\"),\"\")","v":""},{"$f":"IFERROR(INDIRECT($C$4&\"!J13\"),\"\")","v":""},{"$f":"IFERROR(INDIRECT($C$4&\"!K13\"),\"\")","v":""},{"$f":"IFERROR(INDIRECT($C$4&\"!L13\"),\"\")","v":""},{"$f":"IFERROR(INDIRECT($C$4&\"!M13\"),\"\")","v":""},{"$f":"IFERROR(INDIRECT($C$4&\"!N13\"),\"\")","v":""},{"$f":"IFERROR(INDIRECT($C$4&\"!O13\"),\"\")","v":""},{"$f":"IFERROR(INDIRECT($C$4&\"!P13\"),\"\")","v":""},{"$f":"IFERROR(INDIRECT($C$4&\"!Q13\"),\"\")","v":""},{"$f":"IFERROR(INDIRECT($C$4&\"!R13\"),\"\")","v":""},{"$f":"IFERROR(INDIRECT($C$4&\"!S13\"),\"\")","v":""},{"$f":"IFERROR(INDIRECT($C$4&\"!T13\"),\"\")","v":""},{"$f":"IFERROR(INDIRECT($C$4&\"!U13\"),\"\")","v":""},{"$f":"IFERROR(INDIRECT($C$4&\"!V13\"),\"\")","v":""},{"$f":"IFERROR(INDIRECT($C$4&\"!W13\"),\"\")","v":""},{"$f":"IFERROR(INDIRECT($C$4&\"!X13\"),\"\")","v":""},{"$f":"IFERROR(INDIRECT($C$4&\"!Y13\"),\"\")","v":""},null,12]
[null,null,1,{"$f":"IFERROR(INDIRECT($C$4&\"!B14\"),\"\")","v":""},{"$f":"IFERROR(INDIRECT($C$4&\"!C14\"),\"\")","v":""},{"$f":"IFERROR(INDIRECT($C$4&\"!D14\"),\"\")","v":""},{"$f":"IFERROR(INDIRECT($C$4&\"!E14\"),\"\")","v":""},{"$f":"IFERROR(INDIRECT($C$4&\"!F14\"),\"\")","v":""},{"$f":"IFERROR(INDIRECT($C$4&\"!G14\"),\"\")","v":""},{"$f":"IFERROR(INDIRECT($C$4&\"!H14\"),\"\")","v":""},{"$f":"IFERROR(INDIRECT($C$4&\"!I14\"),\"\")","v":""},{"$f":"IFERROR(INDIRECT($C$4&\"!J14\"),\"\")","v":""},{"$f":"IFERROR(INDIRECT($C$4&\"!K14\"),\"\")","v":""},{"$f":"IFERROR(INDIRECT($C$4&\"!L14\"),\"\")","v":""},{"$f":"IFERROR(INDIRECT($C$4&\"!M14\"),\"\")","v":""},{"$f":"IFERROR(INDIRECT($C$4&\"!N14\"),\"\")","v":""},{"$f":"IFERROR(INDIRECT($C$4&\"!O14\"),\"\")","v":""},{"$f":"IFERROR(INDIRECT($C$4&\"!P14\"),\"\")","v":""},{"$f":"IFERROR(INDIRECT($C$4&\"!Q14\"),\"\")","v":""},{"$f":"IFERROR(INDIRECT($C$4&\"!R14\"),\"\")","v":""},{"$f":"IFERROR(INDIRECT($C$4&\"!S14\"),\"\")","v":""},{"$f":"IFERROR(INDIRECT($C$4&\"!T14\"),\"\")","v":""},{"$f":"IFERROR(INDIRECT($C$4&\"!U14\"),\"\")","v":""},{"$f":"IFERROR(INDIRECT($C$4&\"!V14\"),\"\")","v":""},{"$f":"IFERROR(INDIRECT($C$4&\"!W14\"),\"\")","v":""},{"$f":"IFERROR(INDIRECT($C$4&\"!X14\"),\"\")","v":""},{"$f":"IFERROR(INDIRECT($C$4&\"!Y14\"),\"\")","v":""},null,1]
[null,null,2,{"$f":"IFERROR(INDIRECT($C$4&\"!B15\"),\"\")","v":""},{"$f":"IFERROR(INDIRECT($C$4&\"!C15\"),\"\")","v":""},{"$f":"IFERROR(INDIRECT($C$4&\"!D15\"),\"\")","v":""},{"$f":"IFERROR(INDIRECT($C$4&\"!E15\"),\"\")","v":""},{"$f":"IFERROR(INDIRECT($C$4&\"!F15\"),\"\")","v":""},{"$f":"IFERROR(INDIRECT($C$4&\"!G15\"),\"\")","v":""},{"$f":"IFERROR(INDIRECT($C$4&\"!H15\"),\"\")","v":""},{"$f":"IFERROR(INDIRECT($C$4&\"!I15\"),\"\")","v":""},{"$f":"IFERROR(INDIRECT($C$4&\"!J15\"),\"\")","v":""},{"$f":"IFERROR(INDIRECT($C$4&\"!K15\"),\"\")","v":""},{"$f":"IFERROR(INDIRECT($C$4&\"!L15\"),\"\")","v":""},{"$f":"IFERROR(INDIRECT($C$4&\"!M15\"),\"\")","v":""},{"$f":"IFERROR(INDIRECT($C$4&\"!N15\"),\"\")","v":""},{"$f":"IFERROR(INDIRECT($C$4&\"!O15\"),\"\")","v":""},{"$f":"IFERROR(INDIRECT($C$4&\"!P15\"),\"\")","v":""},{"$f":"IFERROR(INDIRECT($C$4&\"!Q15\"),\"\")","v":""},{"$f":"IFERROR(INDIRECT($C$4&\"!R15\"),\"\")","v":""},{"$f":"IFERROR(INDIRECT($C$4&\"!S15\"),\"\")","v":""},{"$f":"IFERROR(INDIRECT($C$4&\"!T15\"),\"\")","v":""},{"$f":"IFERROR(INDIRECT($C$4&\"!U15\"),\"\")","v":""},{"$f":"IFERROR(INDIRECT($C$4&\"!V15\"),\"\")","v":""},{"$f":"IFERROR(INDIRECT($C$4&\"!W15\"),\"\")","v":""},{"$f":"IFERROR(INDIRECT($C$4&\"!X15\"),\"\")","v":""},{"$f":"IFERROR(INDIRECT($C$4&\"!Y15\"),\"\")","v":""},null,2]
[null,null,3,{"$f":"IFERROR(INDIRECT($C$4&\"!B16\"),\"\")","v":""},{"$f":"IFERROR(INDIRECT($C$4&\"!C16\"),\"\")","v":""},{"$f":"IFERROR(INDIRECT($C$4&\"!D16\"),\"\")","v":""},{"$f":"IFERROR(INDIRECT($C$4&\"!E16\"),\"\")","v":""},{"$f":"IFERROR(INDIRECT($C$4&\"!F16\"),\"\")","v":""},{"$f":"IFERROR(INDIRECT($C$4&\"!G16\"),\"\")","v":""},{"$f":"IFERROR(INDIRECT($C$4&\"!H16\"),\"\")","v":""},{"$f":"IFERROR(INDIRECT($C$4&\"!I16\"),\"\")","v":""},{"$f":"IFERROR(INDIRECT($C$4&\"!J16\"),\"\")","v":""},{"$f":"IFERROR(INDIRECT($C$4&\"!K16\"),\"\")","v":""},{"$f":"IFERROR(INDIRECT($C$4&\"!L16\"),\"\")","v":""},{"$f":"IFERROR(INDIRECT($C$4&\"!M16\"),\"\")","v":""},{"$f":"IFERROR(INDIRECT($C$4&\"!N16\"),\"\")","v":""},{"$f":"IFERROR(INDIRECT($C$4&\"!O16\"),\"\")","v":""},{"$f":"IFERROR(INDIRECT($C$4&\"!P16\"),\"\")","v":""},{"$f":"IFERROR(INDIRECT($C$4&\"!Q16\"),\"\")","v":""},{"$f":"IFERROR(INDIRECT($C$4&\"!R16\"),\"\")","v":""},{"$f":"IFERROR(INDIRECT($C$4&\"!S16\"),\"\")","v":""},{"$f":"IFERROR(INDIRECT($C$4&\"!T16\"),\"\")","v":""},{"$f":"IFERROR(INDIRECT($C$4&\"!U16\"),\"\")","v":""},{"$f":"IFERROR(INDIRECT($C$4&\"!V16\"),\"\")","v":""},{"$f":"IFERROR(INDIRECT($C$4&\"!W16\"),\"\")","v":""},{"$f":"IFERROR(INDIRECT($C$4&\"!X16\"),\"\")","v":""},{"$f":"IFERROR(INDIRECT($C$4&\"!Y16\"),\"\")","v":""},null,3]
[]
[null,null,null,"定格条件\n【冷却】",null,"冷却水","入口温度","30℃","冷水","入口温度","12℃",null,null,null,null,null,null,null,null,"定格条件\n【加熱】",null,"熱源水","入口温度","15℃(不定)",null,"温水","入口温度","40℃"]
[null,null,null,null,null,null,"出口温度","35℃",null,"出口温度","7℃",null,null,null,null,null,null,null,null,null,null,null,"出口温度","10℃(不定)",null,null,"出口温度","45℃"]
[]
[null,null,null,"設備導入前",null,null,null,null,null,null,null,null,null,null,null,null,"前1","前2","前3"]
[null,null,null,null,"定格冷却能力",null,null,null,"水冷HPチラーの仕様を入力",null,null,null,null,null,null,"Φco",150,null,null,"kW"]
[null,null,null,null,"定格冷却消費電力",null,null,null,"水冷HPチラーの仕様を入力",null,null,null,null,null,null,"Pco",30,null,null,"kW"]
[null,null,null,null,"定格冷却COP",null,null,null,"自動計算",null,null,null,null,null,null,"σco",{"$f":"IFERROR(Q$29/Q$30,\"\")","v":5},{"$f":"IFERROR(R$29/R$30,\"\")","v":""},{"$f":"IFERROR(S$29/S$30,\"\")","v":""},"σco＝Φco／Pco"]
[null,null,null,null,"定格加熱能力",null,null,null,"水冷HPチラーの仕様を入力",null,null,null,null,null,null,"Φwo",180,null,null,"kW"]
[null,null,null,null,"定格加熱消費電力",null,null,null,"水冷HPチラーの仕様を入力",null,null,null,null,null,null,"Pwo",34.299999999999997,null,null,"kW"]
[null,null,null,null,"定格加熱COP",null,null,null,"自動計算",null,null,null,null,null,null,"σwo",{"$f":"IFERROR(Q$32/Q$33,\"\")","v":5.2478134110787176},{"$f":"IFERROR(R$32/R$33,\"\")","v":""},{"$f":"IFERROR(S$32/S$33,\"\")","v":""},"σwo＝Φwo／Pwo"]
[null,null,null,null,"冷却塔ファンモータ定格出力",null,null,null,"水冷HPチラーの仕様を入力",null,null,null,null,null,null,"Pf",1.5,null,null,"kW"]
[null,null,null,null,"冷却水ポンプ定格出力",null,null,null,"水冷HPチラーの仕様を入力",null,null,null,null,null,null,"Pp1",3.7,null,null,"kW"]
[null,null,null,null,"冷温水ポンプ定格出力",null,null,null,"水冷HPチラーの仕様を入力",null,null,null,null,null,null,"Pp2",2.2000000000000002,null,null,"kW"]
[null,null,null,null,"暖房時熱源水ポンプ定格出力",null,null,null,"水冷HPチラーの仕様を入力",null,null,null,null,null,null,"Pps1",2.2000000000000002,null,null,"kW"]
[null,null,null,null,"最大冷却負荷",null,null,null,null,null,null,null,null,null,null,"Qc",null,null,null,"kW"]
[null,null,null,null,null,null,null,null,null,null,null,null,null,null,null,null,{"$f":"IF($Q$39=\"\",0.8,IF($Q$39=0,0.8,IF($Q$29<$Q$39,1,$Q$39/$Q$29)))","v":0.8},{"$f":"IF($R$39=\"\",0.8,IF($R$39=0,0.8,IF($R$29<$R$39,1,$R$39/$R$29)))","v":0.8},{"$f":"IF($S$39=\"\",0.8,IF($S$39=0,0.8,IF($S$29<$S$39,1,$S$39/$S$29)))","v":0.8}]
[]
[null,null,null,"設備導入後",null,null,null,null,null,null,null,null,null,null,null,null,"後1","後2","後3"]
[null,null,null,null,"定格冷却能力",null,null,null,"水冷HPチラーの仕様を入力",null,null,null,null,null,null,"Φco",null,null,null,"kW"]
[null,null,null,null,"定格冷却消費電力",null,null,null,"水冷HPチラーの仕様を入力",null,null,null,null,null,null,"Pco",null,null,null,"kW"]
[null,null,null,null,"定格冷却COP",null,null,null,"自動計算",null,null,null,null,null,null,"σco",{"$f":"IFERROR(Q43/Q44,\"\")","v":""},{"$f":"IFERROR(R43/R44,\"\")","v":""},{"$f":"IFERROR(S43/S44,\"\")","v":""},"σco＝Φco／Pco"]
[null,null,null,null,"定格加熱能力",null,null,null,"水冷HPチラーの仕様を入力",null,null,null,null,null,null,"Φwo",null,null,null,"kW"]
[null,null,null,null,"定格加熱消費電力",null,null,null,"水冷HPチラーの仕様を入力",null,null,null,null,null,null,"Pwo",null,null,null,"kW"]
[null,null,null,null,"定格加熱COP",null,null,null,"自動計算",null,null,null,null,null,null,"σwo",{"$f":"IFERROR(Q46/Q47,\"\")","v":""},{"$f":"IFERROR(R46/R47,\"\")","v":""},{"$f":"IFERROR(S46/S47,\"\")","v":""},"σwo＝Φwo／Pwo"]
[null,null,null,null,"冷却塔ファンモータ定格出力",null,null,null,"水冷HPチラーの仕様を入力",null,null,null,null,null,null,"Pf",null,null,null,"kW"]
[null,null,null,null,"冷却水ポンプ定格出力",null,null,null,"水冷HPチラーの仕様を入力",null,null,null,null,null,null,"Pp1",null,null,null,"kW"]
[null,null,null,null,"冷温水ポンプ定格出力",null,null,null,"水冷HPチラーの仕様を入力",null,null,null,null,null,null,"Pp2",null,null,null,"kW"]
[null,null,null,null,"暖房時熱源水ポンプ定格出力",null,null,null,"水冷HPチラーの仕様を入力",null,null,null,null,null,null,"Pps1",null,null,null,"kW"]
[null,null,null,null,"最大冷却負荷",null,null,null,null,null,null,null,null,null,null,"Qc",null,null,null,"kW"]
[null,null,null,null,null,null,null,null,null,null,null,null,null,null,null,null,{"$f":"IF($Q$53=\"\",0.8,IF($Q$53=0,0.8,IF($Q$43<$Q$53,1,$Q$53/$Q$43)))","v":0.8},{"$f":"IF($R$53=\"\",0.8,IF($R$53=0,0.8,IF($R$43<$R$53,1,$R$53/$R$43)))","v":0.8},{"$f":"IF($S$53=\"\",0.8,IF($S$53=0,0.8,IF($S$43<$S$53,1,$S$53/$S$43)))","v":0.8}]
[]
[null,null,"設備導入前年間電力使用量[kWh]"]
[null,null,null,"冷却(Ec)",null,"加熱(Ew)",null,"合計(Ecw)"]
[null,null,null,{"$f":"IFERROR($F$74+$M$74+$T$74,\"\")","v":0},null,{"$f":"IFERROR($I$74+$P$74+$W$74,\"\")","v":0},null,{"$f":"IFERROR($J$74+$Q$74+$X$74,\"\")","v":0}]
[]
[null,null,null,"前1",null,null,null,null,null,null,"前2",null,null,null,null,null,null,"前3"]
[null,null,"月    期間","主機(Ecc)","補機(Eaxc)","全体(Ec)","主機(Eww)","補機(Eaxw)","全体(Ew)","月合計","主機(Ecc)","補機(Eaxc)","全体(Ec)","主機(Eww)","補機(Eaxw)","全体(Ew)","月合計","主機(Ecc)","補機(Eaxc)","全体(Ec)","主機(Eww)","補機(Eaxw)","全体(Ew)","月合計"]
[null,null,4,{"$f":"IF($C$7=\"---\",\"\",IFERROR(AX149,\"\"))","v":""},{"$f":"IF($C$7=\"---\",\"\",IFERROR(AY149,\"\"))","v":""},"",{"$f":"IF($C$7=\"---\",\"\",IFERROR(AX171,\"\"))","v":""},{"$f":"IF($C$7=\"---\",\"\",IFERROR(AY171,\"\"))","v":""},{"$f":"IF($C$7=\"---\",\"\",IFERROR(AZ171,\"\"))","v":""},{"$f":"IFERROR(SUM(F62+I62),\"\")","v":""},{"$f":"IF($C$7=\"---\",\"\",IFERROR($BA149,\"\"))","v":""},{"$f":"IF($C$7=\"---\",\"\",IFERROR($BB149,\"\"))","v":""},{"$f":"IF($C$7=\"---\",\"\",IFERROR($BC149,\"\"))","v":""},{"$f":"IF($C$7=\"---\",\"\",IFERROR(BA171,\"\"))","v":""},{"$f":"IF($C$7=\"---\",\"\",IFERROR(BB171,\"\"))","v":""},{"$f":"IF($C$7=\"---\",\"\",IFERROR(BC171,\"\"))","v":""},{"$f":"IFERROR(SUM(M62+P62),\"\")","v":""},{"$f":"IF($C$7=\"---\",\"\",IFERROR($BD149,\"\"))","v":""},{"$f":"IF($C$7=\"---\",\"\",IFERROR($BE149,\"\"))","v":""},{"$f":"IF($C$7=\"---\",\"\",IFERROR($BF149,\"\"))","v":""},{"$f":"IF($C$7=\"---\",\"\",IFERROR(BD171,\"\"))","v":""},{"$f":"IF($C$7=\"---\",\"\",IFERROR(BE171,\"\"))","v":""},{"$f":"IF($C$7=\"---\",\"\",IFERROR(BF171,\"\"))","v":""},{"$f":"IFERROR(SUM(T62+W62),\"\")","v":""}]
[null,null,5,{"$f":"IF($C$7=\"---\",\"\",IFERROR($AX150,\"\"))","v":""},"","",{"$f":"IF($C$7=\"---\",\"\",IFERROR(AX172,\"\"))","v":""},"","",{"$f":"IFERROR(SUM(F63+I63),\"\")","v":""},{"$f":"IF($C$7=\"---\",\"\",IFERROR($BA150,\"\"))","v":""},{"$f":"IF($C$7=\"---\",\"\",IFERROR($BB150,\"\"))","v":""},{"$f":"IF($C$7=\"---\",\"\",IFERROR($BC150,\"\"))","v":""},{"$f":"IF($C$7=\"---\",\"\",IFERROR(BA172,\"\"))","v":""},"","",{"$f":"IFERROR(SUM(M63+P63),\"\")","v":""},{"$f":"IF($C$7=\"---\",\"\",IFERROR($BD150,\"\"))","v":""},{"$f":"IF($C$7=\"---\",\"\",IFERROR($BE150,\"\"))","v":""},{"$f":"IF($C$7=\"---\",\"\",IFERROR($BF150,\"\"))","v":""},{"$f":"IF($C$7=\"---\",\"\",IFERROR(BD172,\"\"))","v":""},"","",{"$f":"IFERROR(SUM(T63+W63),\"\")","v":""}]
[null,null,6,"","","","","","","","","","","","","","","","","","","","",""]
[null,null,7,"","","","","","","","","","","","","","","","","","","","",""]
[null,null,8,"","","","","","","","","","","","","","","","","","","","",""]
[null,null,9,"","","","","","","","","","","","","","","","","","","","",""]
[null,null,10,"","","","","","","","","","","","","","","","","","","","",""]
[null,null,11,"","","","","","","","","","","","","","","","","","","","",""]
[null,null,12,"","","","","","",{"$f":"IFERROR(SUM(F70+I70),\"\")","v":""},"","","","","","",{"$f":"IFERROR(SUM(M70+P70),\"\")","v":""},"","","","","","",{"$f":"IFERROR(SUM(T70+W70),\"\")","v":""}]
[null,null,1,"","","","","","","","","","","","","","","","","","","","",""]
[null,null,2,"","","","","","",{"$f":"IFERROR(SUM(F72+I72),\"\")","v":""},"","","","","","",{"$f":"IFERROR(SUM(M72+P72),\"\")","v":""},"","","","","","",""]
[null,null,3,"","","","","","","","","","","","","","","","","","","","",""]
[null,null,"合計",{"$f":"IFERROR(SUM($D$62:$D$73),\"\")","v":0},{"$f":"IFERROR(SUM($E$62:$E$73),\"\")","v":0},{"$f":"IFERROR(SUM(F$62:F$73),\"\")","v":0},0,0,0,0,0,{"$f":"IFERROR(SUM(L$62:L$73),\"\")","v":0},0,0,0,0,0,0,0,{"$f":"IFERROR(SUM(T$62:T$73),\"\")","v":0},0,0,0,0]
[]
[]
[null,null,"設備導入後年間電力使用量[kWh]"]
[null,null,null,"冷却(Ec)",null,"加熱(Ew)",null,"合計(Ecw)"]
[null,null,null,{"$f":"IFERROR($F$95+$M$95+$T$95,\"\")","v":0},null,{"$f":"IFERROR($I$95+$P$95+$W$95,\"\")","v":0},null,{"$f":"IFERROR($J$95+$Q$95+$X$95,\"\")","v":0}]
[]
[null,null,null,"後1",null,null,null,null,null,null,"後2",null,null,null,null,null,null,"後3"]
[null,null,"月    期間","主機(Ecc)","補機(Eaxc)","全体(Ec)","主機(Eww)","補機(Eaxw)","全体(Ew)","月合計","主機(Ecc)","補機(Eaxc)","全体(Ec)","主機(Eww)","補機(Eaxw)","全体(Ew)","月合計","主機(Ecc)","補機(Eaxc)","全体(Ec)","主機(Eww)","補機(Eaxw)","全体(Ew)","月合計"]
[null,null,4,{"$f":"IF($C$7=\"---\",\"\",IFERROR($BH149,\"\"))","v":""},{"$f":"IF($C$7=\"---\",\"\",IFERROR($BI149,\"\"))","v":""},{"$f":"IF($C$7=\"---\",\"\",IFERROR($BJ149,\"\"))","v":""},{"$f":"IF($C$7=\"---\",\"\",IFERROR($BH171,\"\"))","v":""},{"$f":"IF($C$7=\"---\",\"\",IFERROR($BI171,\"\"))","v":""},{"$f":"IF($C$7=\"---\",\"\",IFERROR($BJ171,\"\"))","v":""},{"$f":"IFERROR(SUM(F83+I83),\"\")","v":""},{"$f":"IF($C$7=\"---\",\"\",IFERROR($BK149,\"\"))","v":""},{"$f":"IF($C$7=\"---\",\"\",IFERROR($BL149,\"\"))","v":""},{"$f":"IF($C$7=\"---\",\"\",IFERROR($BM149,\"\"))","v":""},{"$f":"IF($C$7=\"---\",\"\",IFERROR($BK171,\"\"))","v":""},{"$f":"IF($C$7=\"---\",\"\",IFERROR($BL171,\"\"))","v":""},{"$f":"IF($C$7=\"---\",\"\",IFERROR($BM171,\"\"))","v":""},{"$f":"IFERROR(SUM(M83+P83),\"\")","v":""},{"$f":"IF($C$7=\"---\",\"\",IFERROR($BN149,\"\"))","v":""},{"$f":"IF($C$7=\"---\",\"\",IFERROR($BO149,\"\"))","v":""},{"$f":"IF($C$7=\"---\",\"\",IFERROR($BP149,\"\"))","v":""},{"$f":"IF($C$7=\"---\",\"\",IFERROR($BN171,\"\"))","v":""},{"$f":"IF($C$7=\"---\",\"\",IFERROR($BO171,\"\"))","v":""},{"$f":"IF($C$7=\"---\",\"\",IFERROR($BP171,\"\"))","v":""},{"$f":"IFERROR(SUM(T83+W83),\"\")","v":""}]
[null,null,5,{"$f":"IF($C$7=\"---\",\"\",IFERROR($BH150,\"\"))","v":""},{"$f":"IF($C$7=\"---\",\"\",IFERROR($BI150,\"\"))","v":""},{"$f":"IF($C$7=\"---\",\"\",IFERROR($BJ150,\"\"))","v":""},{"$f":"IF($C$7=\"---\",\"\",IFERROR($BH172,\"\"))","v":""},{"$f":"IF($C$7=\"---\",\"\",IFERROR($BI172,\"\"))","v":""},{"$f":"IF($C$7=\"---\",\"\",IFERROR($BJ172,\"\"))","v":""},{"$f":"IFERROR(SUM(F84+I84),\"\")","v":""},{"$f":"IF($C$7=\"---\",\"\",IFERROR($BK150,\"\"))","v":""},{"$f":"IF($C$7=\"---\",\"\",IFERROR($BL150,\"\"))","v":""},{"$f":"IF($C$7=\"---\",\"\",IFERROR($BM150,\"\"))","v":""},{"$f":"IF($C$7=\"---\",\"\",IFERROR($BK172,\"\"))","v":""},{"$f":"IF($C$7=\"---\",\"\",IFERROR($BL172,\"\"))","v":""},{"$f":"IF($C$7=\"---\",\"\",IFERROR($BM172,\"\"))","v":""},{"$f":"IFERROR(SUM(M84+P84),\"\")","v":""},{"$f":"IF($C$7=\"---\",\"\",IFERROR($BN150,\"\"))","v":""},{"$f":"IF($C$7=\"---\",\"\",IFERROR($BO150,\"\"))","v":""},{"$f":"IF($C$7=\"---\",\"\",IFERROR($BP150,\"\"))","v":""},{"$f":"IF($C$7=\"---\",\"\",IFERROR($BN172,\"\"))","v":""},{"$f":"IF($C$7=\"---\",\"\",IFERROR($BO172,\"\"))","v":""},{"$f":"IF($C$7=\"---\",\"\",IFERROR($BP172,\"\"))","v":""},{"$f":"IFERROR(SUM(T84+W84),\"\")","v":""}]
[null,null,6,"","","","","","","","","","","","","","","","","","","","",""]
[null,null,7,"","","","","","","","","","","","","","","","","","","","",""]
[null,null,8,"","","","","","","","","","","","","","","","","","","","",""]
[null,null,9,"","","","","","","","","","","","","","","","","","","","",""]
[null,null,10,"","","","","","","","","","","","","","","","","","","","",""]
[null,null,11,"","","","","","","","","","","","","","","","","","","","",{"$f":"IFERROR(SUM(T90+W90),\"\")","v":""}]
[null,null,12,"","","","","","",{"$f":"IFERROR(SUM(F91+I91),\"\")","v":""},"","","","","","",{"$f":"IFERROR(SUM(M91+P91),\"\")","v":""},"","","","","","",{"$f":"IFERROR(SUM(T91+W91),\"\")","v":""}]
[null,null,1,"","","","","","","","","","","","","","","","","","","","",""]
[null,null,2,"","","","","","","","","","","","","","","","","","","","",""]
[null,null,3,"","","",{"$f":"IF($C$7=\"---\",\"\",IFERROR($BH182,\"\"))","v":""},{"$f":"IF($C$7=\"---\",\"\",IFERROR($BI182,\"\"))","v":""},{"$f":"IF($C$7=\"---\",\"\",IFERROR($BJ182,\"\"))","v":""},"","","","","","","","","","","","","","",""]
[null,null,"合計",{"$f":"IFERROR(SUM(D83:D94),\"\")","v":0},{"$f":"IFERROR(SUM(E83:E94),\"\")","v":0},0,0,0,0,0,0,0,0,0,0,0,0,0,0,0,0,0,0,0]
[]
[]
[null,null,"作業表1(青色のセルを「24」、オレンジ色のセルを「19」として抽出）"]
[null,null,null," 時刻"]
[null,null,"月",0,1,2,3,4,5,6,7,8,9,10,11,12,13,14,15,16,17,18,19,20,21,22,23,"月"]
[null,null,4,{"$f":"CELLCOLOR($D$12)","v":-4142},{"$f":"CELLCOLOR($E$12)","v":-4142},{"$f":"CELLCOLOR($F$12)","v":-4142},{"$f":"CELLCOLOR($G$12)","v":-4142},{"$f":"CELLCOLOR($H$12)","v":-4142},{"$f":"CELLCOLOR($I$12)","v":-4142},{"$f":"CELLCOLOR($J$12)","v":-4142},{"$f":"CELLCOLOR($K$12)","v":-4142},{"$f":"CELLCOLOR($L$12)","v":-4142},{"$f":"CELLCOLOR($M$12)","v":-4142},{"$f":"CELLCOLOR($N$12)","v":-4142},{"$f":"CELLCOLOR($O$12)","v":-4142},{"$f":"CELLCOLOR($P$12)","v":-4142},{"$f":"CELLCOLOR($Q$12)","v":-4142},{"$f":"CELLCOLOR($R$12)","v":-4142},{"$f":"CELLCOLOR($S$12)","v":-4142},{"$f":"CELLCOLOR($T$12)","v":-4142},{"$f":"CELLCOLOR($U$12)","v":-4142},{"$f":"CELLCOLOR($V$12)","v":-4142},{"$f":"CELLCOLOR($W$12)","v":-4142},{"$f":"CELLCOLOR($X$12)","v":-4142},{"$f":"CELLCOLOR($Y$12)","v":-4142},{"$f":"CELLCOLOR($Z$12)","v":-4142},{"$f":"CELLCOLOR($AA$12)","v":-4142},4]
[null,null,5,{"$f":"CELLCOLOR($D$13)","v":-4142},{"$f":"CELLCOLOR($E$13)","v":-4142},{"$f":"CELLCOLOR($F$13)","v":-4142},{"$f":"CELLCOLOR($G$13)","v":-4142},{"$f":"CELLCOLOR($H$13)","v":-4142},{"$f":"CELLCOLOR($I$13)","v":-4142},{"$f":"CELLCOLOR($J$13)","v":-4142},{"$f":"CELLCOLOR($K$13)","v":-4142},{"$f":"CELLCOLOR($L$13)","v":-4142},{"$f":"CELLCOLOR($M$13)","v":-4142},{"$f":"CELLCOLOR($N$13)","v":-4142},{"$f":"CELLCOLOR($O$13)","v":-4142},{"$f":"CELLCOLOR($P$13)","v":-4142},{"$f":"CELLCOLOR($Q$13)","v":-4142},{"$f":"CELLCOLOR($R$13)","v":-4142},{"$f":"CELLCOLOR($S$13)","v":-4142},{"$f":"CELLCOLOR($T$13)","v":-4142},{"$f":"CELLCOLOR($U$13)","v":-4142},{"$f":"CELLCOLOR($V$13)","v":-4142},{"$f":"CELLCOLOR($W$13)","v":-4142},{"$f":"CELLCOLOR($X$13)","v":-4142},{"$f":"CELLCOLOR($Y$13)","v":-4142},{"$f":"CELLCOLOR($Z$13)","v":-4142},{"$f":"CELLCOLOR($AA$13)","v":-4142},5]
[null,null,6,{"$f":"CELLCOLOR($D$14)","v":-4142},{"$f":"CELLCOLOR($E$14)","v":-4142},{"$f":"CELLCOLOR($F$14)","v":-4142},{"$f":"CELLCOLOR($G$14)","v":-4142},{"$f":"CELLCOLOR($H$14)","v":-4142},{"$f":"CELLCOLOR($I$14)","v":-4142},{"$f":"CELLCOLOR($J$14)","v":-4142},{"$f":"CELLCOLOR($K$14)","v":-4142},{"$f":"CELLCOLOR($L$14)","v":-4142},{"$f":"CELLCOLOR($M$14)","v":-4142},{"$f":"CELLCOLOR($N$14)","v":-4142},{"$f":"CELLCOLOR($O$14)","v":-4142},{"$f":"CELLCOLOR($P$14)","v":-4142},{"$f":"CELLCOLOR($Q$14)","v":-4142},{"$f":"CELLCOLOR($R$14)","v":-4142},{"$f":"CELLCOLOR($S$14)","v":-4142},{"$f":"CELLCOLOR($T$14)","v":-4142},{"$f":"CELLCOLOR($U$14)","v":-4142},{"$f":"CELLCOLOR($V$14)","v":-4142},{"$f":"CELLCOLOR($W$14)","v":-4142},{"$f":"CELLCOLOR($X$14)","v":-4142},{"$f":"CELLCOLOR($Y$14)","v":-4142},{"$f":"CELLCOLOR($Z$14)","v":-4142},{"$f":"CELLCOLOR($AA$14)","v":-4142},6]
[null,null,7,{"$f":"CELLCOLOR($D$15)","v":-4142},{"$f":"CELLCOLOR($E$15)","v":-4142},{"$f":"CELLCOLOR($F$15)","v":-4142},{"$f":"CELLCOLOR($G$15)","v":-4142},{"$f":"CELLCOLOR($H$15)","v":-4142},{"$f":"CELLCOLOR($I$15)","v":-4142},{"$f":"CELLCOLOR($J$15)","v":-4142},{"$f":"CELLCOLOR($K$15)","v":-4142},{"$f":"CELLCOLOR($L$15)","v":-4142},{"$f":"CELLCOLOR($M$15)","v":-4142},{"$f":"CELLCOLOR($N$15)","v":-4142},{"$f":"CELLCOLOR($O$15)","v":-4142},{"$f":"CELLCOLOR($P$15)","v":-4142},{"$f":"CELLCOLOR($Q$15)","v":-4142},{"$f":"CELLCOLOR($R$15)","v":-4142},{"$f":"CELLCOLOR($S$15)","v":-4142},{"$f":"CELLCOLOR($T$15)","v":-4142},{"$f":"CELLCOLOR($U$15)","v":-4142},{"$f":"CELLCOLOR($V$15)","v":-4142},{"$f":"CELLCOLOR($W$15)","v":-4142},{"$f":"CELLCOLOR($X$15)","v":-4142},{"$f":"CELLCOLOR($Y$15)","v":-4142},{"$f":"CELLCOLOR($Z$15)","v":-4142},{"$f":"CELLCOLOR($AA$15)","v":-4142},7]
[null,null,8,{"$f":"CELLCOLOR($D$16)","v":-4142},{"$f":"CELLCOLOR($E$16)","v":-4142},{"$f":"CELLCOLOR($F$16)","v":-4142},{"$f":"CELLCOLOR($G$16)","v":-4142},{"$f":"CELLCOLOR($H$16)","v":-4142},{"$f":"CELLCOLOR($I$16)","v":-4142},{"$f":"CELLCOLOR($J$16)","v":-4142},{"$f":"CELLCOLOR($K$16)","v":-4142},{"$f":"CELLCOLOR($L$16)","v":-4142},{"$f":"CELLCOLOR($M$16)","v":-4142},{"$f":"CELLCOLOR($N$16)","v":-4142},{"$f":"CELLCOLOR($O$16)","v":-4142},{"$f":"CELLCOLOR($P$16)","v":-4142},{"$f":"CELLCOLOR($Q$16)","v":-4142},{"$f":"CELLCOLOR($R$16)","v":-4142},{"$f":"CELLCOLOR($S$16)","v":-4142},{"$f":"CELLCOLOR($T$16)","v":-4142},{"$f":"CELLCOLOR($U$16)","v":-4142},{"$f":"CELLCOLOR($V$16)","v":-4142},{"$f":"CELLCOLOR($W$16)","v":-4142},{"$f":"CELLCOLOR($X$16)","v":-4142},{"$f":"CELLCOLOR($Y$16)","v":-4142},{"$f":"CELLCOLOR($Z$16)","v":-4142},{"$f":"CELLCOLOR($AA$16)","v":-4142},8]
[null,null,9,{"$f":"CELLCOLOR($D$17)","v":-4142},{"$f":"CELLCOLOR($E$17)","v":-4142},{"$f":"CELLCOLOR($F$17)","v":-4142},{"$f":"CELLCOLOR($G$17)","v":-4142},{"$f":"CELLCOLOR($H$17)","v":-4142},{"$f":"CELLCOLOR($I$17)","v":-4142},{"$f":"CELLCOLOR($J$17)","v":-4142},{"$f":"CELLCOLOR($K$17)","v":-4142},{"$f":"CELLCOLOR($L$17)","v":-4142},{"$f":"CELLCOLOR($M$17)","v":-4142},{"$f":"CELLCOLOR($N$17)","v":-4142},{"$f":"CELLCOLOR($O$17)","v":-4142},{"$f":"CELLCOLOR($P$17)","v":-4142},{"$f":"CELLCOLOR($Q$17)","v":-4142},{"$f":"CELLCOLOR($R$17)","v":-4142},{"$f":"CELLCOLOR($S$17)","v":-4142},{"$f":"CELLCOLOR($T$17)","v":-4142},{"$f":"CELLCOLOR($U$17)","v":-4142},{"$f":"CELLCOLOR($V$17)","v":-4142},{"$f":"CELLCOLOR($W$17)","v":-4142},{"$f":"CELLCOLOR($X$17)","v":-4142},{"$f":"CELLCOLOR($Y$17)","v":-4142},{"$f":"CELLCOLOR($Z$17)","v":-4142},{"$f":"CELLCOLOR($AA$17)","v":-4142},9]
[null,null,10,{"$f":"CELLCOLOR($D$18)","v":-4142},{"$f":"CELLCOLOR($E$18)","v":-4142},{"$f":"CELLCOLOR($F$18)","v":-4142},{"$f":"CELLCOLOR($G$18)","v":-4142},{"$f":"CELLCOLOR($H$18)","v":-4142},{"$f":"CELLCOLOR($I$18)","v":-4142},{"$f":"CELLCOLOR($J$18)","v":-4142},{"$f":"CELLCOLOR($K$18)","v":-4142},{"$f":"CELLCOLOR($L$18)","v":-4142},{"$f":"CELLCOLOR($M$18)","v":-4142},{"$f":"CELLCOLOR($N$18)","v":-4142},{"$f":"CELLCOLOR($O$18)","v":-4142},{"$f":"CELLCOLOR($P$18)","v":-4142},{"$f":"CELLCOLOR($Q$18)","v":-4142},{"$f":"CELLCOLOR($R$18)","v":-4142},{"$f":"CELLCOLOR($S$18)","v":-4142},{"$f":"CELLCOLOR($T$18)","v":-4142},{"$f":"CELLCOLOR($U$18)","v":-4142},{"$f":"CELLCOLOR($V$18)","v":-4142},{"$f":"CELLCOLOR($W$18)","v":-4142},{"$f":"CELLCOLOR($X$18)","v":-4142},{"$f":"CELLCOLOR($Y$18)","v":-4142},{"$f":"CELLCOLOR($Z$18)","v":-4142},{"$f":"CELLCOLOR($AA$18)","v":-4142},10]
[null,null,11,{"$f":"CELLCOLOR($D$19)","v":-4142},{"$f":"CELLCOLOR($E$19)","v":-4142},{"$f":"CELLCOLOR($F$19)","v":-4142},{"$f":"CELLCOLOR($G$19)","v":-4142},{"$f":"CELLCOLOR($H$19)","v":-4142},{"$f":"CELLCOLOR($I$19)","v":-4142},{"$f":"CELLCOLOR($J$19)","v":-4142},{"$f":"CELLCOLOR($K$19)","v":-4142},{"$f":"CELLCOLOR($L$19)","v":-4142},{"$f":"CELLCOLOR($M$19)","v":-4142},{"$f":"CELLCOLOR($N$19)","v":-4142},{"$f":"CELLCOLOR($O$19)","v":-4142},{"$f":"CELLCOLOR($P$19)","v":-4142},{"$f":"CELLCOLOR($Q$19)","v":-4142},{"$f":"CELLCOLOR($R$19)","v":-4142},{"$f":"CELLCOLOR($S$19)","v":-4142},{"$f":"CELLCOLOR($T$19)","v":-4142},{"$f":"CELLCOLOR($U$19)","v":-4142},{"$f":"CELLCOLOR($V$19)","v":-4142},{"$f":"CELLCOLOR($W$19)","v":-4142},{"$f":"CELLCOLOR($X$19)","v":-4142},{"$f":"CELLCOLOR($Y$19)","v":-4142},{"$f":"CELLCOLOR($Z$19)","v":-4142},{"$f":"CELLCOLOR($AA$19)","v":-4142},11]
[null,null,12,{"$f":"CELLCOLOR($D$20)","v":-4142},{"$f":"CELLCOLOR($E$20)","v":-4142},{"$f":"CELLCOLOR($F$20)","v":-4142},{"$f":"CELLCOLOR($G$20)","v":-4142},{"$f":"CELLCOLOR($H$20)","v":-4142},{"$f":"CELLCOLOR($I$20)","v":-4142},{"$f":"CELLCOLOR($J$20)","v":-4142},{"$f":"CELLCOLOR($K$20)","v":-4142},{"$f":"CELLCOLOR($L$20)","v":-4142},{"$f":"CELLCOLOR($M$20)","v":-4142},{"$f":"CELLCOLOR($N$20)","v":-4142},{"$f":"CELLCOLOR($O$20)","v":-4142},{"$f":"CELLCOLOR($P$20)","v":-4142},{"$f":"CELLCOLOR($Q$20)","v":-4142},{"$f":"CELLCOLOR($R$20)","v":-4142},{"$f":"CELLCOLOR($S$20)","v":-4142},{"$f":"CELLCOLOR($T$20)","v":-4142},{"$f":"CELLCOLOR($U$20)","v":-4142},{"$f":"CELLCOLOR($V$20)","v":-4142},{"$f":"CELLCOLOR($W$20)","v":-4142},{"$f":"CELLCOLOR($X$20)","v":-4142},{"$f":"CELLCOLOR($Y$20)","v":-4142},{"$f":"CELLCOLOR($Z$20)","v":-4142},{"$f":"CELLCOLOR($AA$20)","v":-4142},12]
[null,null,1,{"$f":"CELLCOLOR($D$21)","v":-4142},{"$f":"CELLCOLOR($E$21)","v":-4142},{"$f":"CELLCOLOR($F$21)","v":-4142},{"$f":"CELLCOLOR($G$21)","v":-4142},{"$f":"CELLCOLOR($H$21)","v":-4142},{"$f":"CELLCOLOR($I$21)","v":-4142},{"$f":"CELLCOLOR($J$21)","v":-4142},{"$f":"CELLCOLOR($K$21)","v":-4142},{"$f":"CELLCOLOR($L$21)","v":-4142},{"$f":"CELLCOLOR($M$21)","v":-4142},{"$f":"CELLCOLOR($N$21)","v":-4142},{"$f":"CELLCOLOR($O$21)","v":-4142},{"$f":"CELLCOLOR($P$21)","v":-4142},{"$f":"CELLCOLOR($Q$21)","v":-4142},{"$f":"CELLCOLOR($R$21)","v":-4142},{"$f":"CELLCOLOR($S$21)","v":-4142},{"$f":"CELLCOLOR($T$21)","v":-4142},{"$f":"CELLCOLOR($U$21)","v":-4142},{"$f":"CELLCOLOR($V$21)","v":-4142},{"$f":"CELLCOLOR($W$21)","v":-4142},{"$f":"CELLCOLOR($X$21)","v":-4142},{"$f":"CELLCOLOR($Y$21)","v":-4142},{"$f":"CELLCOLOR($Z$21)","v":-4142},{"$f":"CELLCOLOR($AA$21)","v":-4142},1]
[null,null,2,{"$f":"CELLCOLOR($D$22)","v":-4142},{"$f":"CELLCOLOR($E$22)","v":-4142},{"$f":"CELLCOLOR($F$22)","v":-4142},{"$f":"CELLCOLOR($G$22)","v":-4142},{"$f":"CELLCOLOR($H$22)","v":-4142},{"$f":"CELLCOLOR($I$22)","v":-4142},{"$f":"CELLCOLOR($J$22)","v":-4142},{"$f":"CELLCOLOR($K$22)","v":-4142},{"$f":"CELLCOLOR($L$22)","v":-4142},{"$f":"CELLCOLOR($M$22)","v":-4142},{"$f":"CELLCOLOR($N$22)","v":-4142},{"$f":"CELLCOLOR($O$22)","v":-4142},{"$f":"CELLCOLOR($P$22)","v":-4142},{"$f":"CELLCOLOR($Q$22)","v":-4142},{"$f":"CELLCOLOR($R$22)","v":-4142},{"$f":"CELLCOLOR($S$22)","v":-4142},{"$f":"CELLCOLOR($T$22)","v":-4142},{"$f":"CELLCOLOR($U$22)","v":-4142},{"$f":"CELLCOLOR($V$22)","v":-4142},{"$f":"CELLCOLOR($W$22)","v":-4142},{"$f":"CELLCOLOR($X$22)","v":-4142},{"$f":"CELLCOLOR($Y$22)","v":-4142},{"$f":"CELLCOLOR($Z$22)","v":-4142},{"$f":"CELLCOLOR($AA$22)","v":-4142},2]
[null,null,3,{"$f":"CELLCOLOR($D$23)","v":-4142},{"$f":"CELLCOLOR($E$23)","v":-4142},{"$f":"CELLCOLOR($F$23)","v":-4142},{"$f":"CELLCOLOR($G$23)","v":-4142},{"$f":"CELLCOLOR($H$23)","v":-4142},{"$f":"CELLCOLOR($I$23)","v":-4142},{"$f":"CELLCOLOR($J$23)","v":-4142},{"$f":"CELLCOLOR($K$23)","v":-4142},{"$f":"CELLCOLOR($L$23)","v":-4142},{"$f":"CELLCOLOR($M$23)","v":-4142},{"$f":"CELLCOLOR($N$23)","v":-4142},{"$f":"CELLCOLOR($O$23)","v":-4142},{"$f":"CELLCOLOR($P$23)","v":-4142},{"$f":"CELLCOLOR($Q$23)","v":-4142},{"$f":"CELLCOLOR($R$23)","v":-4142},{"$f":"CELLCOLOR($S$23)","v":-4142},{"$f":"CELLCOLOR($T$23)","v":-4142},{"$f":"CELLCOLOR($U$23)","v":-4142},{"$f":"CELLCOLOR($V$23)","v":-4142},{"$f":"CELLCOLOR($W$23)","v":-4142},{"$f":"CELLCOLOR($X$23)","v":-4142},{"$f":"CELLCOLOR($Y$23)","v":-4142},{"$f":"CELLCOLOR($Z$23)","v":-4142},{"$f":"CELLCOLOR($AA$23)","v":-4142},3]
[]
[null,null,"作業表2-1(冷却)●月▲時の平均外気湿球温度(四捨五入で表示）"]
[null,null,null," 時刻"]
[null,null,"月",0,1,2,3,4,5,6,7,8,9,10,11,12,13,14,15,16,17,18,19,20,21,22,23,"月"]
[null,null,4,{"$f":"IF($D$101=24,ROUND($D$12,0),\"\")&\"\"","v":""},{"$f":"IF($E$101=24,ROUND($E$12,0),\"\")&\"\"","v":""},{"$f":"IF($F$101=24,ROUND($F$12,0),\"\")&\"\"","v":""},{"$f":"IF($G$101=24,ROUND($G$12,0),\"\")&\"\"","v":""},{"$f":"IF($H$101=24,ROUND($H$12,0),\"\")&\"\"","v":""},{"$f":"IF($I$101=24,ROUND($I$12,0),\"\")&\"\"","v":""},{"$f":"IF($J$101=24,ROUND($J$12,0),\"\")&\"\"","v":""},{"$f":"IF($K$101=24,ROUND($K$12,0),\"\")&\"\"","v":""},{"$f":"IF($L$101=24,ROUND($L$12,0),\"\")&\"\"","v":""},{"$f":"IF($M$101=24,ROUND($M$12,0),\"\")&\"\"","v":""},{"$f":"IF($N$101=24,ROUND($N$12,0),\"\")&\"\"","v":""},{"$f":"IF($O$101=24,ROUND($O$12,0),\"\")&\"\"","v":""},{"$f":"IF($P$101=24,ROUND($P$12,0),\"\")&\"\"","v":""},{"$f":"IF($Q$101=24,ROUND($Q$12,0),\"\")&\"\"","v":""},{"$f":"IF($R$101=24,ROUND($R$12,0),\"\")&\"\"","v":""},{"$f":"IF($S$101=24,ROUND($S$12,0),\"\")&\"\"","v":""},{"$f":"IF($T$101=24,ROUND($T$12,0),\"\")&\"\"","v":""},{"$f":"IF($U$101=24,ROUND($U$12,0),\"\")&\"\"","v":""},{"$f":"IF($V$101=24,ROUND($V$12,0),\"\")&\"\"","v":""},{"$f":"IF($W$101=24,ROUND($W$12,0),\"\")&\"\"","v":""},{"$f":"IF($X$101=24,ROUND($X$12,0),\"\")&\"\"","v":""},{"$f":"IF($Y$101=24,ROUND($Y$12,0),\"\")&\"\"","v":""},{"$f":"IF($Z$101=24,ROUND($Z$12,0),\"\")&\"\"","v":""},{"$f":"IF($AA$101=24,ROUND($AA$12,0),\"\")&\"\"","v":""},4]
[null,null,5,{"$f":"IF($D$102=24,ROUND($D$13,0),\"\")&\"\"","v":""},{"$f":"IF($E$102=24,ROUND($E$13,0),\"\")&\"\"","v":""},{"$f":"IF($F$102=24,ROUND($F$13,0),\"\")&\"\"","v":""},{"$f":"IF($G$102=24,ROUND($G$13,0),\"\")&\"\"","v":""},{"$f":"IF($H$102=24,ROUND($H$13,0),\"\")&\"\"","v":""},{"$f":"IF($I$102=24,ROUND($I$13,0),\"\")&\"\"","v":""},{"$f":"IF($J$102=24,ROUND($J$13,0),\"\")&\"\"","v":""},{"$f":"IF($K$102=24,ROUND($K$13,0),\"\")&\"\"","v":""},{"$f":"IF($L$102=24,ROUND($L$13,0),\"\")&\"\"","v":""},{"$f":"IF($M$102=24,ROUND($M$13,0),\"\")&\"\"","v":""},{"$f":"IF($N$102=24,ROUND($N$13,0),\"\")&\"\"","v":""},{"$f":"IF($O$102=24,ROUND($O$13,0),\"\")&\"\"","v":""},{"$f":"IF($P$102=24,ROUND($P$13,0),\"\")&\"\"","v":""},{"$f":"IF($Q$102=24,ROUND($Q$13,0),\"\")&\"\"","v":""},{"$f":"IF($R$102=24,ROUND($R$13,0),\"\")&\"\"","v":""},{"$f":"IF($S$102=24,ROUND($S$13,0),\"\")&\"\"","v":""},{"$f":"IF($T$102=24,ROUND($T$13,0),\"\")&\"\"","v":""},{"$f":"IF($U$102=24,ROUND($U$13,0),\"\")&\"\"","v":""},{"$f":"IF($V$102=24,ROUND($V$13,0),\"\")&\"\"","v":""},{"$f":"IF($W$102=24,ROUND($W$13,0),\"\")&\"\"","v":""},{"$f":"IF($X$102=24,ROUND($X$13,0),\"\")&\"\"","v":""},{"$f":"IF($Y$102=24,ROUND($Y$13,0),\"\")&\"\"","v":""},{"$f":"IF($Z$102=24,ROUND($Z$13,0),\"\")&\"\"","v":""},{"$f":"IF($AA$102=24,ROUND($AA$13,0),\"\")&\"\"","v":""},5]
[null,null,6,{"$f":"IF($D$103=24,ROUND($D$14,0),\"\")&\"\"","v":""},{"$f":"IF($E$103=24,ROUND($E$14,0),\"\")&\"\"","v":""},{"$f":"IF($F$103=24,ROUND($F$14,0),\"\")&\"\"","v":""},{"$f":"IF($G$103=24,ROUND($G$14,0),\"\")&\"\"","v":""},{"$f":"IF($H$103=24,ROUND($H$14,0),\"\")&\"\"","v":""},{"$f":"IF($I$103=24,ROUND($I$14,0),\"\")&\"\"","v":""},{"$f":"IF($J$103=24,ROUND($J$14,0),\"\")&\"\"","v":""},{"$f":"IF($K$103=24,ROUND($K$14,0),\"\")&\"\"","v":""},{"$f":"IF($L$103=24,ROUND($L$14,0),\"\")&\"\"","v":""},{"$f":"IF($M$103=24,ROUND($M$14,0),\"\")&\"\"","v":""},{"$f":"IF($N$103=24,ROUND($N$14,0),\"\")&\"\"","v":""},{"$f":"IF($O$103=24,ROUND($O$14,0),\"\")&\"\"","v":""},{"$f":"IF($P$103=24,ROUND($P$14,0),\"\")&\"\"","v":""},{"$f":"IF($Q$103=24,ROUND($Q$14,0),\"\")&\"\"","v":""},{"$f":"IF($R$103=24,ROUND($R$14,0),\"\")&\"\"","v":""},{"$f":"IF($S$103=24,ROUND($S$14,0),\"\")&\"\"","v":""},{"$f":"IF($T$103=24,ROUND($T$14,0),\"\")&\"\"","v":""},{"$f":"IF($U$103=24,ROUND($U$14,0),\"\")&\"\"","v":""},{"$f":"IF($V$103=24,ROUND($V$14,0),\"\")&\"\"","v":""},{"$f":"IF($W$103=24,ROUND($W$14,0),\"\")&\"\"","v":""},{"$f":"IF($X$103=24,ROUND($X$14,0),\"\")&\"\"","v":""},{"$f":"IF($Y$103=24,ROUND($Y$14,0),\"\")&\"\"","v":""},{"$f":"IF($Z$103=24,ROUND($Z$14,0),\"\")&\"\"","v":""},{"$f":"IF($AA$103=24,ROUND($AA$14,0),\"\")&\"\"","v":""},6]
[null,null,7,{"$f":"IF($D$104=24,ROUND($D$15,0),\"\")&\"\"","v":""},{"$f":"IF($E$104=24,ROUND($E$15,0),\"\")&\"\"","v":""},{"$f":"IF($F$104=24,ROUND($F$15,0),\"\")&\"\"","v":""},{"$f":"IF($G$104=24,ROUND($G$15,0),\"\")&\"\"","v":""},{"$f":"IF($H$104=24,ROUND($H$15,0),\"\")&\"\"","v":""},{"$f":"IF($I$104=24,ROUND($I$15,0),\"\")&\"\"","v":""},{"$f":"IF($J$104=24,ROUND($J$15,0),\"\")&\"\"","v":""},{"$f":"IF($K$104=24,ROUND($K$15,0),\"\")&\"\"","v":""},{"$f":"IF($L$104=24,ROUND($L$15,0),\"\")&\"\"","v":""},{"$f":"IF($M$104=24,ROUND($M$15,0),\"\")&\"\"","v":""},{"$f":"IF($N$104=24,ROUND($N$15,0),\"\")&\"\"","v":""},{"$f":"IF($O$104=24,ROUND($O$15,0),\"\")&\"\"","v":""},{"$f":"IF($P$104=24,ROUND($P$15,0),\"\")&\"\"","v":""},{"$f":"IF($Q$104=24,ROUND($Q$15,0),\"\")&\"\"","v":""},{"$f":"IF($R$104=24,ROUND($R$15,0),\"\")&\"\"","v":""},{"$f":"IF($S$104=24,ROUND($S$15,0),\"\")&\"\"","v":""},{"$f":"IF($T$104=24,ROUND($T$15,0),\"\")&\"\"","v":""},{"$f":"IF($U$104=24,ROUND($U$15,0),\"\")&\"\"","v":""},{"$f":"IF($V$104=24,ROUND($V$15,0),\"\")&\"\"","v":""},{"$f":"IF($W$104=24,ROUND($W$15,0),\"\")&\"\"","v":""},{"$f":"IF($X$104=24,ROUND($X$15,0),\"\")&\"\"","v":""},{"$f":"IF($Y$104=24,ROUND($Y$15,0),\"\")&\"\"","v":""},{"$f":"IF($Z$104=24,ROUND($Z$15,0),\"\")&\"\"","v":""},{"$f":"IF($AA$104=24,ROUND($AA$15,0),\"\")&\"\"","v":""},7]
[null,null,8,{"$f":"IF($D$105=24,ROUND($D$16,0),\"\")&\"\"","v":""},{"$f":"IF($E$105=24,ROUND($E$16,0),\"\")&\"\"","v":""},{"$f":"IF($F$105=24,ROUND($F$16,0),\"\")&\"\"","v":""},{"$f":"IF($G$105=24,ROUND($G$16,0),\"\")&\"\"","v":""},{"$f":"IF($H$105=24,ROUND($H$16,0),\"\")&\"\"","v":""},{"$f":"IF($I$105=24,ROUND($I$16,0),\"\")&\"\"","v":""},{"$f":"IF($J$105=24,ROUND($J$16,0),\"\")&\"\"","v":""},{"$f":"IF($K$105=24,ROUND($K$16,0),\"\")&\"\"","v":""},{"$f":"IF($L$105=24,ROUND($L$16,0),\"\")&\"\"","v":""},{"$f":"IF($M$105=24,ROUND($M$16,0),\"\")&\"\"","v":""},{"$f":"IF($N$105=24,ROUND($N$16,0),\"\")&\"\"","v":""},{"$f":"IF($O$105=24,ROUND($O$16,0),\"\")&\"\"","v":""},{"$f":"IF($P$105=24,ROUND($P$16,0),\"\")&\"\"","v":""},{"$f":"IF($Q$105=24,ROUND($Q$16,0),\"\")&\"\"","v":""},{"$f":"IF($R$105=24,ROUND($R$16,0),\"\")&\"\"","v":""},{"$f":"IF($S$105=24,ROUND($S$16,0),\"\")&\"\"","v":""},{"$f":"IF($T$105=24,ROUND($T$16,0),\"\")&\"\"","v":""},{"$f":"IF($U$105=24,ROUND($U$16,0),\"\")&\"\"","v":""},{"$f":"IF($V$105=24,ROUND($V$16,0),\"\")&\"\"","v":""},{"$f":"IF($W$105=24,ROUND($W$16,0),\"\")&\"\"","v":""},{"$f":"IF($X$105=24,ROUND($X$16,0),\"\")&\"\"","v":""},{"$f":"IF($Y$105=24,ROUND($Y$16,0),\"\")&\"\"","v":""},{"$f":"IF($Z$105=24,ROUND($Z$16,0),\"\")&\"\"","v":""},{"$f":"IF($AA$105=24,ROUND($AA$16,0),\"\")&\"\"","v":""},8]
[null,null,9,{"$f":"IF($D$106=24,ROUND($D$17,0),\"\")&\"\"","v":""},{"$f":"IF($E$106=24,ROUND($E$17,0),\"\")&\"\"","v":""},{"$f":"IF($F$106=24,ROUND($F$17,0),\"\")&\"\"","v":""},{"$f":"IF($G$106=24,ROUND($G$17,0),\"\")&\"\"","v":""},{"$f":"IF($H$106=24,ROUND($H$17,0),\"\")&\"\"","v":""},{"$f":"IF($I$106=24,ROUND($I$17,0),\"\")&\"\"","v":""},{"$f":"IF($J$106=24,ROUND($J$17,0),\"\")&\"\"","v":""},{"$f":"IF($K$106=24,ROUND($K$17,0),\"\")&\"\"","v":""},{"$f":"IF($L$106=24,ROUND($L$17,0),\"\")&\"\"","v":""},{"$f":"IF($M$106=24,ROUND($M$17,0),\"\")&\"\"","v":""},{"$f":"IF($N$106=24,ROUND($N$17,0),\"\")&\"\"","v":""},{"$f":"IF($O$106=24,ROUND($O$17,0),\"\")&\"\"","v":""},{"$f":"IF($P$106=24,ROUND($P$17,0),\"\")&\"\"","v":""},{"$f":"IF($Q$106=24,ROUND($Q$17,0),\"\")&\"\"","v":""},{"$f":"IF($R$106=24,ROUND($R$17,0),\"\")&\"\"","v":""},{"$f":"IF($S$106=24,ROUND($S$17,0),\"\")&\"\"","v":""},{"$f":"IF($T$106=24,ROUND($T$17,0),\"\")&\"\"","v":""},{"$f":"IF($U$106=24,ROUND($U$17,0),\"\")&\"\"","v":""},{"$f":"IF($V$106=24,ROUND($V$17,0),\"\")&\"\"","v":""},{"$f":"IF($W$106=24,ROUND($W$17,0),\"\")&\"\"","v":""},{"$f":"IF($X$106=24,ROUND($X$17,0),\"\")&\"\"","v":""},{"$f":"IF($Y$106=24,ROUND($Y$17,0),\"\")&\"\"","v":""},{"$f":"IF($Z$106=24,ROUND($Z$17,0),\"\")&\"\"","v":""},{"$f":"IF($AA$106=24,ROUND($AA$17,0),\"\")&\"\"","v":""},9]
[null,null,10,{"$f":"IF($D$107=24,ROUND($D$18,0),\"\")&\"\"","v":""},{"$f":"IF($E$107=24,ROUND($E$18,0),\"\")&\"\"","v":""},{"$f":"IF($F$107=24,ROUND($F$18,0),\"\")&\"\"","v":""},{"$f":"IF($G$107=24,ROUND($G$18,0),\"\")&\"\"","v":""},{"$f":"IF($H$107=24,ROUND($H$18,0),\"\")&\"\"","v":""},{"$f":"IF($I$107=24,ROUND($I$18,0),\"\")&\"\"","v":""},{"$f":"IF($J$107=24,ROUND($J$18,0),\"\")&\"\"","v":""},{"$f":"IF($K$107=24,ROUND($K$18,0),\"\")&\"\"","v":""},{"$f":"IF($L$107=24,ROUND($L$18,0),\"\")&\"\"","v":""},{"$f":"IF($M$107=24,ROUND($M$18,0),\"\")&\"\"","v":""},{"$f":"IF($N$107=24,ROUND($N$18,0),\"\")&\"\"","v":""},{"$f":"IF($O$107=24,ROUND($O$18,0),\"\")&\"\"","v":""},{"$f":"IF($P$107=24,ROUND($P$18,0),\"\")&\"\"","v":""},{"$f":"IF($Q$107=24,ROUND($Q$18,0),\"\")&\"\"","v":""},{"$f":"IF($R$107=24,ROUND($R$18,0),\"\")&\"\"","v":""},{"$f":"IF($S$107=24,ROUND($S$18,0),\"\")&\"\"","v":""},{"$f":"IF($T$107=24,ROUND($T$18,0),\"\")&\"\"","v":""},{"$f":"IF($U$107=24,ROUND($U$18,0),\"\")&\"\"","v":""},{"$f":"IF($V$107=24,ROUND($V$18,0),\"\")&\"\"","v":""},{"$f":"IF($W$107=24,ROUND($W$18,0),\"\")&\"\"","v":""},{"$f":"IF($X$107=24,ROUND($X$18,0),\"\")&\"\"","v":""},{"$f":"IF($Y$107=24,ROUND($Y$18,0),\"\")&\"\"","v":""},{"$f":"IF($Z$107=24,ROUND($Z$18,0),\"\")&\"\"","v":""},{"$f":"IF($AA$107=24,ROUND($AA$18,0),\"\")&\"\"","v":""},10]
[null,null,11,{"$f":"IF($D$108=24,ROUND($D$19,0),\"\")&\"\"","v":""},{"$f":"IF($E$108=24,ROUND($E$19,0),\"\")&\"\"","v":""},{"$f":"IF($F$108=24,ROUND($F$19,0),\"\")&\"\"","v":""},{"$f":"IF($G$108=24,ROUND($G$19,0),\"\")&\"\"","v":""},{"$f":"IF($H$108=24,ROUND($H$19,0),\"\")&\"\"","v":""},{"$f":"IF($I$108=24,ROUND($I$19,0),\"\")&\"\"","v":""},{"$f":"IF($J$108=24,ROUND($J$19,0),\"\")&\"\"","v":""},{"$f":"IF($K$108=24,ROUND($K$19,0),\"\")&\"\"","v":""},{"$f":"IF($L$108=24,ROUND($L$19,0),\"\")&\"\"","v":""},{"$f":"IF($M$108=24,ROUND($M$19,0),\"\")&\"\"","v":""},{"$f":"IF($N$108=24,ROUND($N$19,0),\"\")&\"\"","v":""},{"$f":"IF($O$108=24,ROUND($O$19,0),\"\")&\"\"","v":""},{"$f":"IF($P$108=24,ROUND($P$19,0),\"\")&\"\"","v":""},{"$f":"IF($Q$108=24,ROUND($Q$19,0),\"\")&\"\"","v":""},{"$f":"IF($R$108=24,ROUND($R$19,0),\"\")&\"\"","v":""},{"$f":"IF($S$108=24,ROUND($S$19,0),\"\")&\"\"","v":""},{"$f":"IF($T$108=24,ROUND($T$19,0),\"\")&\"\"","v":""},{"$f":"IF($U$108=24,ROUND($U$19,0),\"\")&\"\"","v":""},{"$f":"IF($V$108=24,ROUND($V$19,0),\"\")&\"\"","v":""},{"$f":"IF($W$108=24,ROUND($W$19,0),\"\")&\"\"","v":""},{"$f":"IF($X$108=24,ROUND($X$19,0),\"\")&\"\"","v":""},{"$f":"IF($Y$108=24,ROUND($Y$19,0),\"\")&\"\"","v":""},{"$f":"IF($Z$108=24,ROUND($Z$19,0),\"\")&\"\"","v":""},{"$f":"IF($AA$108=24,ROUND($AA$19,0),\"\")&\"\"","v":""},11]
[null,null,12,{"$f":"IF($D$109=24,ROUND($D$20,0),\"\")&\"\"","v":""},{"$f":"IF($E$109=24,ROUND($E$20,0),\"\")&\"\"","v":""},{"$f":"IF($F$109=24,ROUND($F$20,0),\"\")&\"\"","v":""},{"$f":"IF($G$109=24,ROUND($G$20,0),\"\")&\"\"","v":""},{"$f":"IF($H$109=24,ROUND($H$20,0),\"\")&\"\"","v":""},{"$f":"IF($I$109=24,ROUND($I$20,0),\"\")&\"\"","v":""},{"$f":"IF($J$109=24,ROUND($J$20,0),\"\")&\"\"","v":""},{"$f":"IF($K$109=24,ROUND($K$20,0),\"\")&\"\"","v":""},{"$f":"IF($L$109=24,ROUND($L$20,0),\"\")&\"\"","v":""},{"$f":"IF($M$109=24,ROUND($M$20,0),\"\")&\"\"","v":""},{"$f":"IF($N$109=24,ROUND($N$20,0),\"\")&\"\"","v":""},{"$f":"IF($O$109=24,ROUND($O$20,0),\"\")&\"\"","v":""},{"$f":"IF($P$109=24,ROUND($P$20,0),\"\")&\"\"","v":""},{"$f":"IF($Q$109=24,ROUND($Q$20,0),\"\")&\"\"","v":""},{"$f":"IF($R$109=24,ROUND($R$20,0),\"\")&\"\"","v":""},{"$f":"IF($S$109=24,ROUND($S$20,0),\"\")&\"\"","v":""},{"$f":"IF($T$109=24,ROUND($T$20,0),\"\")&\"\"","v":""},{"$f":"IF($U$109=24,ROUND($U$20,0),\"\")&\"\"","v":""},{"$f":"IF($V$109=24,ROUND($V$20,0),\"\")&\"\"","v":""},{"$f":"IF($W$109=24,ROUND($W$20,0),\"\")&\"\"","v":""},{"$f":"IF($X$109=24,ROUND($X$20,0),\"\")&\"\"","v":""},{"$f":"IF($Y$109=24,ROUND($Y$20,0),\"\")&\"\"","v":""},{"$f":"IF($Z$109=24,ROUND($Z$20,0),\"\")&\"\"","v":""},{"$f":"IF($AA$109=24,ROUND($AA$20,0),\"\")&\"\"","v":""},12]
[null,null,1,{"$f":"IF($D$110=24,ROUND($D$21,0),\"\")&\"\"","v":""},{"$f":"IF($E$110=24,ROUND($E$21,0),\"\")&\"\"","v":""},{"$f":"IF($F$110=24,ROUND($F$21,0),\"\")&\"\"","v":""},{"$f":"IF($G$110=24,ROUND($G$21,0),\"\")&\"\"","v":""},{"$f":"IF($H$110=24,ROUND($H$21,0),\"\")&\"\"","v":""},{"$f":"IF($I$110=24,ROUND($I$21,0),\"\")&\"\"","v":""},{"$f":"IF($J$110=24,ROUND($J$21,0),\"\")&\"\"","v":""},{"$f":"IF($K$110=24,ROUND($K$21,0),\"\")&\"\"","v":""},{"$f":"IF($L$110=24,ROUND($L$21,0),\"\")&\"\"","v":""},{"$f":"IF($M$110=24,ROUND($M$21,0),\"\")&\"\"","v":""},{"$f":"IF($N$110=24,ROUND($N$21,0),\"\")&\"\"","v":""},{"$f":"IF($O$110=24,ROUND($O$21,0),\"\")&\"\"","v":""},{"$f":"IF($P$110=24,ROUND($P$21,0),\"\")&\"\"","v":""},{"$f":"IF($Q$110=24,ROUND($Q$21,0),\"\")&\"\"","v":""},{"$f":"IF($R$110=24,ROUND($R$21,0),\"\")&\"\"","v":""},{"$f":"IF($S$110=24,ROUND($S$21,0),\"\")&\"\"","v":""},{"$f":"IF($T$110=24,ROUND($T$21,0),\"\")&\"\"","v":""},{"$f":"IF($U$110=24,ROUND($U$21,0),\"\")&\"\"","v":""},{"$f":"IF($V$110=24,ROUND($V$21,0),\"\")&\"\"","v":""},{"$f":"IF($W$110=24,ROUND($W$21,0),\"\")&\"\"","v":""},{"$f":"IF($X$110=24,ROUND($X$21,0),\"\")&\"\"","v":""},{"$f":"IF($Y$110=24,ROUND($Y$21,0),\"\")&\"\"","v":""},{"$f":"IF($Z$110=24,ROUND($Z$21,0),\"\")&\"\"","v":""},{"$f":"IF($AA$110=24,ROUND($AA$21,0),\"\")&\"\"","v":""},1]
[null,null,2,{"$f":"IF($D$111=24,ROUND($D$22,0),\"\")&\"\"","v":""},{"$f":"IF($E$111=24,ROUND($E$22,0),\"\")&\"\"","v":""},{"$f":"IF($F$111=24,ROUND($F$22,0),\"\")&\"\"","v":""},{"$f":"IF($G$111=24,ROUND($G$22,0),\"\")&\"\"","v":""},{"$f":"IF($H$111=24,ROUND($H$22,0),\"\")&\"\"","v":""},{"$f":"IF($I$111=24,ROUND($I$22,0),\"\")&\"\"","v":""},{"$f":"IF($J$111=24,ROUND($J$22,0),\"\")&\"\"","v":""},{"$f":"IF($K$111=24,ROUND($K$22,0),\"\")&\"\"","v":""},{"$f":"IF($L$111=24,ROUND($L$22,0),\"\")&\"\"","v":""},{"$f":"IF($M$111=24,ROUND($M$22,0),\"\")&\"\"","v":""},{"$f":"IF($N$111=24,ROUND($N$22,0),\"\")&\"\"","v":""},{"$f":"IF($O$111=24,ROUND($O$22,0),\"\")&\"\"","v":""},{"$f":"IF($P$111=24,ROUND($P$22,0),\"\")&\"\"","v":""},{"$f":"IF($Q$111=24,ROUND($Q$22,0),\"\")&\"\"","v":""},{"$f":"IF($R$111=24,ROUND($R$22,0),\"\")&\"\"","v":""},{"$f":"IF($S$111=24,ROUND($S$22,0),\"\")&\"\"","v":""},{"$f":"IF($T$111=24,ROUND($T$22,0),\"\")&\"\"","v":""},{"$f":"IF($U$111=24,ROUND($U$22,0),\"\")&\"\"","v":""},{"$f":"IF($V$111=24,ROUND($V$22,0),\"\")&\"\"","v":""},{"$f":"IF($W$111=24,ROUND($W$22,0),\"\")&\"\"","v":""},{"$f":"IF($X$111=24,ROUND($X$22,0),\"\")&\"\"","v":""},{"$f":"IF($Y$111=24,ROUND($Y$22,0),\"\")&\"\"","v":""},{"$f":"IF($Z$111=24,ROUND($Z$22,0),\"\")&\"\"","v":""},{"$f":"IF($AA$111=24,ROUND($AA$22,0),\"\")&\"\"","v":""},2]
[null,null,3,{"$f":"IF($D$112=24,ROUND($D$23,0),\"\")&\"\"","v":""},{"$f":"IF($E$112=24,ROUND($E$23,0),\"\")&\"\"","v":""},{"$f":"IF($F$112=24,ROUND($F$23,0),\"\")&\"\"","v":""},{"$f":"IF($G$112=24,ROUND($G$23,0),\"\")&\"\"","v":""},{"$f":"IF($H$112=24,ROUND($H$23,0),\"\")&\"\"","v":""},{"$f":"IF($I$112=24,ROUND($I$23,0),\"\")&\"\"","v":""},{"$f":"IF($J$112=24,ROUND($J$23,0),\"\")&\"\"","v":""},{"$f":"IF($K$112=24,ROUND($K$23,0),\"\")&\"\"","v":""},{"$f":"IF($L$112=24,ROUND($L$23,0),\"\")&\"\"","v":""},{"$f":"IF($M$112=24,ROUND($M$23,0),\"\")&\"\"","v":""},{"$f":"IF($N$112=24,ROUND($N$23,0),\"\")&\"\"","v":""},{"$f":"IF($O$112=24,ROUND($O$23,0),\"\")&\"\"","v":""},{"$f":"IF($P$112=24,ROUND($P$23,0),\"\")&\"\"","v":""},{"$f":"IF($Q$112=24,ROUND($Q$23,0),\"\")&\"\"","v":""},{"$f":"IF($R$112=24,ROUND($R$23,0),\"\")&\"\"","v":""},{"$f":"IF($S$112=24,ROUND($S$23,0),\"\")&\"\"","v":""},{"$f":"IF($T$112=24,ROUND($T$23,0),\"\")&\"\"","v":""},{"$f":"IF($U$112=24,ROUND($U$23,0),\"\")&\"\"","v":""},{"$f":"IF($V$112=24,ROUND($V$23,0),\"\")&\"\"","v":""},{"$f":"IF($W$112=24,ROUND($W$23,0),\"\")&\"\"","v":""},{"$f":"IF($X$112=24,ROUND($X$23,0),\"\")&\"\"","v":""},{"$f":"IF($Y$112=24,ROUND($Y$23,0),\"\")&\"\"","v":""},{"$f":"IF($Z$112=24,ROUND($Z$23,0),\"\")&\"\"","v":""},{"$f":"IF($AA$112=24,ROUND($AA$23,0),\"\")&\"\"","v":""},3]
[]
[null,null,"作業表2-2(加熱)●月▲時の平均外気湿球温度(四捨五入で表示）"]
[null,null,null," 時刻"]
[null,null,"月",0,1,2,3,4,5,6,7,8,9,10,11,12,13,14,15,16,17,18,19,20,21,22,23,"月"]
[null,null,4,{"$f":"IF($D$101=19,ROUND($D$12,0),\"\")&\"\"","v":""},{"$f":"IF($E$101=19,ROUND($E$12,0),\"\")&\"\"","v":""},{"$f":"IF($F$101=19,ROUND($F$12,0),\"\")&\"\"","v":""},{"$f":"IF($G$101=19,ROUND($G$12,0),\"\")&\"\"","v":""},{"$f":"IF($H$101=19,ROUND($H$12,0),\"\")&\"\"","v":""},{"$f":"IF($I$101=19,ROUND($I$12,0),\"\")&\"\"","v":""},{"$f":"IF($J$101=19,ROUND($J$12,0),\"\")&\"\"","v":""},{"$f":"IF($K$101=19,ROUND($K$12,0),\"\")&\"\"","v":""},{"$f":"IF($L$101=19,ROUND($L$12,0),\"\")&\"\"","v":""},{"$f":"IF($M$101=19,ROUND($M$12,0),\"\")&\"\"","v":""},{"$f":"IF($N$101=19,ROUND($N$12,0),\"\")&\"\"","v":""},{"$f":"IF($O$101=19,ROUND($O$12,0),\"\")&\"\"","v":""},{"$f":"IF($P$101=19,ROUND($P$12,0),\"\")&\"\"","v":""},{"$f":"IF($Q$101=19,ROUND($Q$12,0),\"\")&\"\"","v":""},{"$f":"IF($R$101=19,ROUND($R$12,0),\"\")&\"\"","v":""},{"$f":"IF($S$101=19,ROUND($S$12,0),\"\")&\"\"","v":""},{"$f":"IF($T$101=19,ROUND($T$12,0),\"\")&\"\"","v":""},{"$f":"IF($U$101=19,ROUND($U$12,0),\"\")&\"\"","v":""},{"$f":"IF($V$101=19,ROUND($V$12,0),\"\")&\"\"","v":""},{"$f":"IF($W$101=19,ROUND($W$12,0),\"\")&\"\"","v":""},{"$f":"IF($X$101=19,ROUND($X$12,0),\"\")&\"\"","v":""},{"$f":"IF($Y$101=19,ROUND($Y$12,0),\"\")&\"\"","v":""},{"$f":"IF($Z$101=19,ROUND($Z$12,0),\"\")&\"\"","v":""},{"$f":"IF($AA$101=19,ROUND($AA$12,0),\"\")&\"\"","v":""},4]
[null,null,5,{"$f":"IF($D$102=19,ROUND($D$13,0),\"\")&\"\"","v":""},{"$f":"IF($E$102=19,ROUND($E$13,0),\"\")&\"\"","v":""},{"$f":"IF($F$102=19,ROUND($F$13,0),\"\")&\"\"","v":""},{"$f":"IF($G$102=19,ROUND($G$13,0),\"\")&\"\"","v":""},{"$f":"IF($H$102=19,ROUND($H$13,0),\"\")&\"\"","v":""},{"$f":"IF($I$102=19,ROUND($I$13,0),\"\")&\"\"","v":""},{"$f":"IF($J$102=19,ROUND($J$13,0),\"\")&\"\"","v":""},{"$f":"IF($K$102=19,ROUND($K$13,0),\"\")&\"\"","v":""},{"$f":"IF($L$102=19,ROUND($L$13,0),\"\")&\"\"","v":""},{"$f":"IF($M$102=19,ROUND($M$13,0),\"\")&\"\"","v":""},{"$f":"IF($N$102=19,ROUND($N$13,0),\"\")&\"\"","v":""},{"$f":"IF($O$102=19,ROUND($O$13,0),\"\")&\"\"","v":""},{"$f":"IF($P$102=19,ROUND($P$13,0),\"\")&\"\"","v":""},{"$f":"IF($Q$102=19,ROUND($Q$13,0),\"\")&\"\"","v":""},{"$f":"IF($R$102=19,ROUND($R$13,0),\"\")&\"\"","v":""},{"$f":"IF($S$102=19,ROUND($S$13,0),\"\")&\"\"","v":""},{"$f":"IF($T$102=19,ROUND($T$13,0),\"\")&\"\"","v":""},{"$f":"IF($U$102=19,ROUND($U$13,0),\"\")&\"\"","v":""},{"$f":"IF($V$102=19,ROUND($V$13,0),\"\")&\"\"","v":""},{"$f":"IF($W$102=19,ROUND($W$13,0),\"\")&\"\"","v":""},{"$f":"IF($X$102=19,ROUND($X$13,0),\"\")&\"\"","v":""},{"$f":"IF($Y$102=19,ROUND($Y$13,0),\"\")&\"\"","v":""},{"$f":"IF($Z$102=19,ROUND($Z$13,0),\"\")&\"\"","v":""},{"$f":"IF($AA$102=19,ROUND($AA$13,0),\"\")&\"\"","v":""},5]
[null,null,6,{"$f":"IF($D$103=19,ROUND($D$14,0),\"\")&\"\"","v":""},{"$f":"IF($E$103=19,ROUND($E$14,0),\"\")&\"\"","v":""},{"$f":"IF($F$103=19,ROUND($F$14,0),\"\")&\"\"","v":""},{"$f":"IF($G$103=19,ROUND($G$14,0),\"\")&\"\"","v":""},{"$f":"IF($H$103=19,ROUND($H$14,0),\"\")&\"\"","v":""},{"$f":"IF($I$103=19,ROUND($I$14,0),\"\")&\"\"","v":""},{"$f":"IF($J$103=19,ROUND($J$14,0),\"\")&\"\"","v":""},{"$f":"IF($K$103=19,ROUND($K$14,0),\"\")&\"\"","v":""},{"$f":"IF($L$103=19,ROUND($L$14,0),\"\")&\"\"","v":""},{"$f":"IF($M$103=19,ROUND($M$14,0),\"\")&\"\"","v":""},{"$f":"IF($N$103=19,ROUND($N$14,0),\"\")&\"\"","v":""},{"$f":"IF($O$103=19,ROUND($O$14,0),\"\")&\"\"","v":""},{"$f":"IF($P$103=19,ROUND($P$14,0),\"\")&\"\"","v":""},{"$f":"IF($Q$103=19,ROUND($Q$14,0),\"\")&\"\"","v":""},{"$f":"IF($R$103=19,ROUND($R$14,0),\"\")&\"\"","v":""},{"$f":"IF($S$103=19,ROUND($S$14,0),\"\")&\"\"","v":""},{"$f":"IF($T$103=19,ROUND($T$14,0),\"\")&\"\"","v":""},{"$f":"IF($U$103=19,ROUND($U$14,0),\"\")&\"\"","v":""},{"$f":"IF($V$103=19,ROUND($V$14,0),\"\")&\"\"","v":""},{"$f":"IF($W$103=19,ROUND($W$14,0),\"\")&\"\"","v":""},{"$f":"IF($X$103=19,ROUND($X$14,0),\"\")&\"\"","v":""},{"$f":"IF($Y$103=19,ROUND($Y$14,0),\"\")&\"\"","v":""},{"$f":"IF($Z$103=19,ROUND($Z$14,0),\"\")&\"\"","v":""},{"$f":"IF($AA$103=19,ROUND($AA$14,0),\"\")&\"\"","v":""},6]
[null,null,7,{"$f":"IF($D$104=19,ROUND($D$15,0),\"\")&\"\"","v":""},{"$f":"IF($E$104=19,ROUND($E$15,0),\"\")&\"\"","v":""},{"$f":"IF($F$104=19,ROUND($F$15,0),\"\")&\"\"","v":""},{"$f":"IF($G$104=19,ROUND($G$15,0),\"\")&\"\"","v":""},{"$f":"IF($H$104=19,ROUND($H$15,0),\"\")&\"\"","v":""},{"$f":"IF($I$104=19,ROUND($I$15,0),\"\")&\"\"","v":""},{"$f":"IF($J$104=19,ROUND($J$15,0),\"\")&\"\"","v":""},{"$f":"IF($K$104=19,ROUND($K$15,0),\"\")&\"\"","v":""},{"$f":"IF($L$104=19,ROUND($L$15,0),\"\")&\"\"","v":""},{"$f":"IF($M$104=19,ROUND($M$15,0),\"\")&\"\"","v":""},{"$f":"IF($N$104=19,ROUND($N$15,0),\"\")&\"\"","v":""},{"$f":"IF($O$104=19,ROUND($O$15,0),\"\")&\"\"","v":""},{"$f":"IF($P$104=19,ROUND($P$15,0),\"\")&\"\"","v":""},{"$f":"IF($Q$104=19,ROUND($Q$15,0),\"\")&\"\"","v":""},{"$f":"IF($R$104=19,ROUND($R$15,0),\"\")&\"\"","v":""},{"$f":"IF($S$104=19,ROUND($S$15,0),\"\")&\"\"","v":""},{"$f":"IF($T$104=19,ROUND($T$15,0),\"\")&\"\"","v":""},{"$f":"IF($U$104=19,ROUND($U$15,0),\"\")&\"\"","v":""},{"$f":"IF($V$104=19,ROUND($V$15,0),\"\")&\"\"","v":""},{"$f":"IF($W$104=19,ROUND($W$15,0),\"\")&\"\"","v":""},{"$f":"IF($X$104=19,ROUND($X$15,0),\"\")&\"\"","v":""},{"$f":"IF($Y$104=19,ROUND($Y$15,0),\"\")&\"\"","v":""},{"$f":"IF($Z$104=19,ROUND($Z$15,0),\"\")&\"\"","v":""},{"$f":"IF($AA$104=19,ROUND($AA$15,0),\"\")&\"\"","v":""},7]
[null,null,8,{"$f":"IF($D$105=19,ROUND($D$16,0),\"\")&\"\"","v":""},{"$f":"IF($E$105=19,ROUND($E$16,0),\"\")&\"\"","v":""},{"$f":"IF($F$105=19,ROUND($F$16,0),\"\")&\"\"","v":""},{"$f":"IF($G$105=19,ROUND($G$16,0),\"\")&\"\"","v":""},{"$f":"IF($H$105=19,ROUND($H$16,0),\"\")&\"\"","v":""},{"$f":"IF($I$105=19,ROUND($I$16,0),\"\")&\"\"","v":""},{"$f":"IF($J$105=19,ROUND($J$16,0),\"\")&\"\"","v":""},{"$f":"IF($K$105=19,ROUND($K$16,0),\"\")&\"\"","v":""},{"$f":"IF($L$105=19,ROUND($L$16,0),\"\")&\"\"","v":""},{"$f":"IF($M$105=19,ROUND($M$16,0),\"\")&\"\"","v":""},{"$f":"IF($N$105=19,ROUND($N$16,0),\"\")&\"\"","v":""},{"$f":"IF($O$105=19,ROUND($O$16,0),\"\")&\"\"","v":""},{"$f":"IF($P$105=19,ROUND($P$16,0),\"\")&\"\"","v":""},{"$f":"IF($Q$105=19,ROUND($Q$16,0),\"\")&\"\"","v":""},{"$f":"IF($R$105=19,ROUND($R$16,0),\"\")&\"\"","v":""},{"$f":"IF($S$105=19,ROUND($S$16,0),\"\")&\"\"","v":""},{"$f":"IF($T$105=19,ROUND($T$16,0),\"\")&\"\"","v":""},{"$f":"IF($U$105=19,ROUND($U$16,0),\"\")&\"\"","v":""},{"$f":"IF($V$105=19,ROUND($V$16,0),\"\")&\"\"","v":""},{"$f":"IF($W$105=19,ROUND($W$16,0),\"\")&\"\"","v":""},{"$f":"IF($X$105=19,ROUND($X$16,0),\"\")&\"\"","v":""},{"$f":"IF($Y$105=19,ROUND($Y$16,0),\"\")&\"\"","v":""},{"$f":"IF($Z$105=19,ROUND($Z$16,0),\"\")&\"\"","v":""},{"$f":"IF($AA$105=19,ROUND($AA$16,0),\"\")&\"\"","v":""},8]
[null,null,9,{"$f":"IF($D$106=19,ROUND($D$17,0),\"\")&\"\"","v":""},{"$f":"IF($E$106=19,ROUND($E$17,0),\"\")&\"\"","v":""},{"$f":"IF($F$106=19,ROUND($F$17,0),\"\")&\"\"","v":""},{"$f":"IF($G$106=19,ROUND($G$17,0),\"\")&\"\"","v":""},{"$f":"IF($H$106=19,ROUND($H$17,0),\"\")&\"\"","v":""},{"$f":"IF($I$106=19,ROUND($I$17,0),\"\")&\"\"","v":""},{"$f":"IF($J$106=19,ROUND($J$17,0),\"\")&\"\"","v":""},{"$f":"IF($K$106=19,ROUND($K$17,0),\"\")&\"\"","v":""},{"$f":"IF($L$106=19,ROUND($L$17,0),\"\")&\"\"","v":""},{"$f":"IF($M$106=19,ROUND($M$17,0),\"\")&\"\"","v":""},{"$f":"IF($N$106=19,ROUND($N$17,0),\"\")&\"\"","v":""},{"$f":"IF($O$106=19,ROUND($O$17,0),\"\")&\"\"","v":""},{"$f":"IF($P$106=19,ROUND($P$17,0),\"\")&\"\"","v":""},{"$f":"IF($Q$106=19,ROUND($Q$17,0),\"\")&\"\"","v":""},{"$f":"IF($R$106=19,ROUND($R$17,0),\"\")&\"\"","v":""},{"$f":"IF($S$106=19,ROUND($S$17,0),\"\")&\"\"","v":""},{"$f":"IF($T$106=19,ROUND($T$17,0),\"\")&\"\"","v":""},{"$f":"IF($U$106=19,ROUND($U$17,0),\"\")&\"\"","v":""},{"$f":"IF($V$106=19,ROUND($V$17,0),\"\")&\"\"","v":""},{"$f":"IF($W$106=19,ROUND($W$17,0),\"\")&\"\"","v":""},{"$f":"IF($X$106=19,ROUND($X$17,0),\"\")&\"\"","v":""},{"$f":"IF($Y$106=19,ROUND($Y$17,0),\"\")&\"\"","v":""},{"$f":"IF($Z$106=19,ROUND($Z$17,0),\"\")&\"\"","v":""},{"$f":"IF($AA$106=19,ROUND($AA$17,0),\"\")&\"\"","v":""},9]
[null,null,10,{"$f":"IF($D$107=19,ROUND($D$18,0),\"\")&\"\"","v":""},{"$f":"IF($E$107=19,ROUND($E$18,0),\"\")&\"\"","v":""},{"$f":"IF($F$107=19,ROUND($F$18,0),\"\")&\"\"","v":""},{"$f":"IF($G$107=19,ROUND($G$18,0),\"\")&\"\"","v":""},{"$f":"IF($H$107=19,ROUND($H$18,0),\"\")&\"\"","v":""},{"$f":"IF($I$107=19,ROUND($I$18,0),\"\")&\"\"","v":""},{"$f":"IF($J$107=19,ROUND($J$18,0),\"\")&\"\"","v":""},{"$f":"IF($K$107=19,ROUND($K$18,0),\"\")&\"\"","v":""},{"$f":"IF($L$107=19,ROUND($L$18,0),\"\")&\"\"","v":""},{"$f":"IF($M$107=19,ROUND($M$18,0),\"\")&\"\"","v":""},{"$f":"IF($N$107=19,ROUND($N$18,0),\"\")&\"\"","v":""},{"$f":"IF($O$107=19,ROUND($O$18,0),\"\")&\"\"","v":""},{"$f":"IF($P$107=19,ROUND($P$18,0),\"\")&\"\"","v":""},{"$f":"IF($Q$107=19,ROUND($Q$18,0),\"\")&\"\"","v":""},{"$f":"IF($R$107=19,ROUND($R$18,0),\"\")&\"\"","v":""},{"$f":"IF($S$107=19,ROUND($S$18,0),\"\")&\"\"","v":""},{"$f":"IF($T$107=19,ROUND($T$18,0),\"\")&\"\"","v":""},{"$f":"IF($U$107=19,ROUND($U$18,0),\"\")&\"\"","v":""},{"$f":"IF($V$107=19,ROUND($V$18,0),\"\")&\"\"","v":""},{"$f":"IF($W$107=19,ROUND($W$18,0),\"\")&\"\"","v":""},{"$f":"IF($X$107=19,ROUND($X$18,0),\"\")&\"\"","v":""},{"$f":"IF($Y$107=19,ROUND($Y$18,0),\"\")&\"\"","v":""},{"$f":"IF($Z$107=19,ROUND($Z$18,0),\"\")&\"\"","v":""},{"$f":"IF($AA$107=19,ROUND($AA$18,0),\"\")&\"\"","v":""},10]
[null,null,11,{"$f":"IF($D$108=19,ROUND($D$19,0),\"\")&\"\"","v":""},{"$f":"IF($E$108=19,ROUND($E$19,0),\"\")&\"\"","v":""},{"$f":"IF($F$108=19,ROUND($F$19,0),\"\")&\"\"","v":""},{"$f":"IF($G$108=19,ROUND($G$19,0),\"\")&\"\"","v":""},{"$f":"IF($H$108=19,ROUND($H$19,0),\"\")&\"\"","v":""},{"$f":"IF($I$108=19,ROUND($I$19,0),\"\")&\"\"","v":""},{"$f":"IF($J$108=19,ROUND($J$19,0),\"\")&\"\"","v":""},{"$f":"IF($K$108=19,ROUND($K$19,0),\"\")&\"\"","v":""},{"$f":"IF($L$108=19,ROUND($L$19,0),\"\")&\"\"","v":""},{"$f":"IF($M$108=19,ROUND($M$19,0),\"\")&\"\"","v":""},{"$f":"IF($N$108=19,ROUND($N$19,0),\"\")&\"\"","v":""},{"$f":"IF($O$108=19,ROUND($O$19,0),\"\")&\"\"","v":""},{"$f":"IF($P$108=19,ROUND($P$19,0),\"\")&\"\"","v":""},{"$f":"IF($Q$108=19,ROUND($Q$19,0),\"\")&\"\"","v":""},{"$f":"IF($R$108=19,ROUND($R$19,0),\"\")&\"\"","v":""},{"$f":"IF($S$108=19,ROUND($S$19,0),\"\")&\"\"","v":""},{"$f":"IF($T$108=19,ROUND($T$19,0),\"\")&\"\"","v":""},{"$f":"IF($U$108=19,ROUND($U$19,0),\"\")&\"\"","v":""},{"$f":"IF($V$108=19,ROUND($V$19,0),\"\")&\"\"","v":""},{"$f":"IF($W$108=19,ROUND($W$19,0),\"\")&\"\"","v":""},{"$f":"IF($X$108=19,ROUND($X$19,0),\"\")&\"\"","v":""},{"$f":"IF($Y$108=19,ROUND($Y$19,0),\"\")&\"\"","v":""},{"$f":"IF($Z$108=19,ROUND($Z$19,0),\"\")&\"\"","v":""},{"$f":"IF($AA$108=19,ROUND($AA$19,0),\"\")&\"\"","v":""},11]
[null,null,12,{"$f":"IF($D$109=19,ROUND($D$20,0),\"\")&\"\"","v":""},{"$f":"IF($E$109=19,ROUND($E$20,0),\"\")&\"\"","v":""},{"$f":"IF($F$109=19,ROUND($F$20,0),\"\")&\"\"","v":""},{"$f":"IF($G$109=19,ROUND($G$20,0),\"\")&\"\"","v":""},{"$f":"IF($H$109=19,ROUND($H$20,0),\"\")&\"\"","v":""},{"$f":"IF($I$109=19,ROUND($I$20,0),\"\")&\"\"","v":""},{"$f":"IF($J$109=19,ROUND($J$20,0),\"\")&\"\"","v":""},{"$f":"IF($K$109=19,ROUND($K$20,0),\"\")&\"\"","v":""},{"$f":"IF($L$109=19,ROUND($L$20,0),\"\")&\"\"","v":""},{"$f":"IF($M$109=19,ROUND($M$20,0),\"\")&\"\"","v":""},{"$f":"IF($N$109=19,ROUND($N$20,0),\"\")&\"\"","v":""},{"$f":"IF($O$109=19,ROUND($O$20,0),\"\")&\"\"","v":""},{"$f":"IF($P$109=19,ROUND($P$20,0),\"\")&\"\"","v":""},{"$f":"IF($Q$109=19,ROUND($Q$20,0),\"\")&\"\"","v":""},{"$f":"IF($R$109=19,ROUND($R$20,0),\"\")&\"\"","v":""},{"$f":"IF($S$109=19,ROUND($S$20,0),\"\")&\"\"","v":""},{"$f":"IF($T$109=19,ROUND($T$20,0),\"\")&\"\"","v":""},{"$f":"IF($U$109=19,ROUND($U$20,0),\"\")&\"\"","v":""},{"$f":"IF($V$109=19,ROUND($V$20,0),\"\")&\"\"","v":""},{"$f":"IF($W$109=19,ROUND($W$20,0),\"\")&\"\"","v":""},{"$f":"IF($X$109=19,ROUND($X$20,0),\"\")&\"\"","v":""},{"$f":"IF($Y$109=19,ROUND($Y$20,0),\"\")&\"\"","v":""},{"$f":"IF($Z$109=19,ROUND($Z$20,0),\"\")&\"\"","v":""},{"$f":"IF($AA$109=19,ROUND($AA$20,0),\"\")&\"\"","v":""},12]
[null,null,1,{"$f":"IF($D$110=19,ROUND($D$21,0),\"\")&\"\"","v":""},{"$f":"IF($E$110=19,ROUND($E$21,0),\"\")&\"\"","v":""},{"$f":"IF($F$110=19,ROUND($F$21,0),\"\")&\"\"","v":""},{"$f":"IF($G$110=19,ROUND($G$21,0),\"\")&\"\"","v":""},{"$f":"IF($H$110=19,ROUND($H$21,0),\"\")&\"\"","v":""},{"$f":"IF($I$110=19,ROUND($I$21,0),\"\")&\"\"","v":""},{"$f":"IF($J$110=19,ROUND($J$21,0),\"\")&\"\"","v":""},{"$f":"IF($K$110=19,ROUND($K$21,0),\"\")&\"\"","v":""},{"$f":"IF($L$110=19,ROUND($L$21,0),\"\")&\"\"","v":""},{"$f":"IF($M$110=19,ROUND($M$21,0),\"\")&\"\"","v":""},{"$f":"IF($N$110=19,ROUND($N$21,0),\"\")&\"\"","v":""},{"$f":"IF($O$110=19,ROUND($O$21,0),\"\")&\"\"","v":""},{"$f":"IF($P$110=19,ROUND($P$21,0),\"\")&\"\"","v":""},{"$f":"IF($Q$110=19,ROUND($Q$21,0),\"\")&\"\"","v":""},{"$f":"IF($R$110=19,ROUND($R$21,0),\"\")&\"\"","v":""},{"$f":"IF($S$110=19,ROUND($S$21,0),\"\")&\"\"","v":""},{"$f":"IF($T$110=19,ROUND($T$21,0),\"\")&\"\"","v":""},{"$f":"IF($U$110=19,ROUND($U$21,0),\"\")&\"\"","v":""},{"$f":"IF($V$110=19,ROUND($V$21,0),\"\")&\"\"","v":""},{"$f":"IF($W$110=19,ROUND($W$21,0),\"\")&\"\"","v":""},{"$f":"IF($X$110=19,ROUND($X$21,0),\"\")&\"\"","v":""},{"$f":"IF($Y$110=19,ROUND($Y$21,0),\"\")&\"\"","v":""},{"$f":"IF($Z$110=19,ROUND($Z$21,0),\"\")&\"\"","v":""},{"$f":"IF($AA$110=19,ROUND($AA$21,0),\"\")&\"\"","v":""},1]
[null,null,2,{"$f":"IF($D$111=19,ROUND($D$22,0),\"\")&\"\"","v":""},{"$f":"IF($E$111=19,ROUND($E$22,0),\"\")&\"\"","v":""},{"$f":"IF($F$111=19,ROUND($F$22,0),\"\")&\"\"","v":""},{"$f":"IF($G$111=19,ROUND($G$22,0),\"\")&\"\"","v":""},{"$f":"IF($H$111=19,ROUND($H$22,0),\"\")&\"\"","v":""},{"$f":"IF($I$111=19,ROUND($I$22,0),\"\")&\"\"","v":""},{"$f":"IF($J$111=19,ROUND($J$22,0),\"\")&\"\"","v":""},{"$f":"IF($K$111=19,ROUND($K$22,0),\"\")&\"\"","v":""},{"$f":"IF($L$111=19,ROUND($L$22,0),\"\")&\"\"","v":""},{"$f":"IF($M$111=19,ROUND($M$22,0),\"\")&\"\"","v":""},{"$f":"IF($N$111=19,ROUND($N$22,0),\"\")&\"\"","v":""},{"$f":"IF($O$111=19,ROUND($O$22,0),\"\")&\"\"","v":""},{"$f":"IF($P$111=19,ROUND($P$22,0),\"\")&\"\"","v":""},{"$f":"IF($Q$111=19,ROUND($Q$22,0),\"\")&\"\"","v":""},{"$f":"IF($R$111=19,ROUND($R$22,0),\"\")&\"\"","v":""},{"$f":"IF($S$111=19,ROUND($S$22,0),\"\")&\"\"","v":""},{"$f":"IF($T$111=19,ROUND($T$22,0),\"\")&\"\"","v":""},{"$f":"IF($U$111=19,ROUND($U$22,0),\"\")&\"\"","v":""},{"$f":"IF($V$111=19,ROUND($V$22,0),\"\")&\"\"","v":""},{"$f":"IF($W$111=19,ROUND($W$22,0),\"\")&\"\"","v":""},{"$f":"IF($X$111=19,ROUND($X$22,0),\"\")&\"\"","v":""},{"$f":"IF($Y$111=19,ROUND($Y$22,0),\"\")&\"\"","v":""},{"$f":"IF($Z$111=19,ROUND($Z$22,0),\"\")&\"\"","v":""},{"$f":"IF($AA$111=19,ROUND($AA$22,0),\"\")&\"\"","v":""},2]
[null,null,3,{"$f":"IF($D$112=19,ROUND($D$23,0),\"\")&\"\"","v":""},{"$f":"IF($E$112=19,ROUND($E$23,0),\"\")&\"\"","v":""},{"$f":"IF($F$112=19,ROUND($F$23,0),\"\")&\"\"","v":""},{"$f":"IF($G$112=19,ROUND($G$23,0),\"\")&\"\"","v":""},{"$f":"IF($H$112=19,ROUND($H$23,0),\"\")&\"\"","v":""},{"$f":"IF($I$112=19,ROUND($I$23,0),\"\")&\"\"","v":""},{"$f":"IF($J$112=19,ROUND($J$23,0),\"\")&\"\"","v":""},{"$f":"IF($K$112=19,ROUND($K$23,0),\"\")&\"\"","v":""},{"$f":"IF($L$112=19,ROUND($L$23,0),\"\")&\"\"","v":""},{"$f":"IF($M$112=19,ROUND($M$23,0),\"\")&\"\"","v":""},{"$f":"IF($N$112=19,ROUND($N$23,0),\"\")&\"\"","v":""},{"$f":"IF($O$112=19,ROUND($O$23,0),\"\")&\"\"","v":""},{"$f":"IF($P$112=19,ROUND($P$23,0),\"\")&\"\"","v":""},{"$f":"IF($Q$112=19,ROUND($Q$23,0),\"\")&\"\"","v":""},{"$f":"IF($R$112=19,ROUND($R$23,0),\"\")&\"\"","v":""},{"$f":"IF($S$112=19,ROUND($S$23,0),\"\")&\"\"","v":""},{"$f":"IF($T$112=19,ROUND($T$23,0),\"\")&\"\"","v":""},{"$f":"IF($U$112=19,ROUND($U$23,0),\"\")&\"\"","v":""},{"$f":"IF($V$112=19,ROUND($V$23,0),\"\")&\"\"","v":""},{"$f":"IF($W$112=19,ROUND($W$23,0),\"\")&\"\"","v":""},{"$f":"IF($X$112=19,ROUND($X$23,0),\"\")&\"\"","v":""},{"$f":"IF($Y$112=19,ROUND($Y$23,0),\"\")&\"\"","v":""},{"$f":"IF($Z$112=19,ROUND($Z$23,0),\"\")&\"\"","v":""},{"$f":"IF($AA$112=19,ROUND($AA$23,0),\"\")&\"\"","v":""},3]
[]
[null,null,"冷却期間中　外気湿球温度(Tw)が発生する時間[hour]",null,null,null,null,null,null,null,null,null,null,null,null,null,null,null,null,null,null,null,null,null,null,null,null,null,null,null,null,null,null,null,null,null,null,null,null,null,null,null,null,null,null,null,null,null,null,null,{"$f":"Q35+Q36+Q37","v":7.4},null,null,{"$f":"R35+R36+R37","v":0},null,null,{"$f":"S35+S36+S37","v":0},null,null,null,{"$f":"Q49+Q50+Q51","v":0},null,null,{"$f":"R49+R50+R51","v":0},null,null,{"$f":"S49+S50+S51","v":0}]
[null,null,null,"外気湿球温度(Tw)",null,null,null,null,null,null,null,null,null,null,null,null,null,null,null,null,null,null,null,null,null,null,null,null,null,null,null,null,null,null,null,null,null,null,null,null,null,null,null,null,null,null,null,null,null,"前1",null,null,"前2",null,null,"前3",null,null,null,"後1",null,null,"後2",null,null,"後3"]
[null,null,"月",-6,-5,-4,-3,-2,-1,0,1,2,3,4,5,6,7,8,9,10,11,12,13,14,15,16,17,18,19,20,21,22,23,24,25,26,27,28,29,30,31,32,33,34,35,"月",null,"EccのΣ","EaxcのΣ","Ecc","Eaxc","Ec","Ecc","Eaxc","Ec","Ecc","Eaxc","Ec",null,"Ecc","Eaxc","Ec","Ecc","Eaxc","Ec","Ecc","Eaxc","Ec"]
[null,null,4,{"$f":"COUNTIF($D$117:$AA$117,$D$148)*$AB$12","v":0},{"$f":"COUNTIF($D$117:$AA$117,$E$148)*$AB$12","v":0},{"$f":"COUNTIF($D$117:$AA$117,$F$148)*$AB$12","v":0},{"$f":"COUNTIF($D$117:$AA$117,$G$148)*$AB$12","v":0},{"$f":"COUNTIF($D$117:$AA$117,$H$148)*$AB$12","v":0},{"$f":"COUNTIF($D$117:$AA$117,$I$148)*$AB$12","v":0},{"$f":"COUNTIF($D$117:$AA$117,$J$148)*$AB$12","v":0},{"$f":"COUNTIF($D$117:$AA$117,$K$148)*$AB$12","v":0},{"$f":"COUNTIF($D$117:$AA$117,$L$148)*$AB$12","v":0},{"$f":"COUNTIF($D$117:$AA$117,$M$148)*$AB$12","v":0},{"$f":"COUNTIF($D$117:$AA$117,$N$148)*$AB$12","v":0},{"$f":"COUNTIF($D$117:$AA$117,$O$148)*$AB$12","v":0},{"$f":"COUNTIF($D$117:$AA$117,$P$148)*$AB$12","v":0},{"$f":"COUNTIF($D$117:$AA$117,$Q$148)*$AB$12","v":0},{"$f":"COUNTIF($D$117:$AA$117,$R$148)*$AB$12","v":0},{"$f":"COUNTIF($D$117:$AA$117,$S$148)*$AB$12","v":0},{"$f":"COUNTIF($D$117:$AA$117,$T$148)*$AB$12","v":0},{"$f":"COUNTIF($D$117:$AA$117,$U$148)*$AB$12","v":0},{"$f":"COUNTIF($D$117:$AA$117,$V$148)*$AB$12","v":0},{"$f":"COUNTIF($D$117:$AA$117,$W$148)*$AB$12","v":0},{"$f":"COUNTIF($D$117:$AA$117,$X$148)*$AB$12","v":0},{"$f":"COUNTIF($D$117:$AA$117,$Y$148)*$AB$12","v":0},{"$f":"COUNTIF($D$117:$AA$117,$Z$148)*$AB$12","v":0},{"$f":"COUNTIF($D$117:$AA$117,$AA$148)*$AB$12","v":0},{"$f":"COUNTIF($D$117:$AA$117,$AB$148)*$AB$12","v":0},{"$f":"COUNTIF($D$117:$AA$117,$AC$148)*$AB$12","v":0},{"$f":"COUNTIF($D$117:$AA$117,$AD$148)*$AB$12","v":0},{"$f":"COUNTIF($D$117:$AA$117,$AE$148)*$AB$12","v":0},{"$f":"COUNTIF($D$117:$AA$117,$AF$148)*$AB$12","v":0},{"$f":"COUNTIF($D$117:$AA$117,$AG$148)*$AB$12","v":0},{"$f":"COUNTIF($D$117:$AA$117,$AH$148)*$AB$12","v":0},{"$f":"COUNTIF($D$117:$AA$117,$AI$148)*$AB$12","v":0},{"$f":"COUNTIF($D$117:$AA$117,$AJ$148)*$AB$12","v":0},{"$f":"COUNTIF($D$117:$AA$117,$AK$148)*$AB$12","v":0},{"$f":"COUNTIF($D$117:$AA$117,$AL$148)*$AB$12","v":0},{"$f":"COUNTIF($D$117:$AA$117,$AM$148)*$AB$12","v":0},{"$f":"COUNTIF($D$117:$AA$117,$AN$148)*$AB$12","v":0},{"$f":"COUNTIF($D$117:$AA$117,$AO$148)*$AB$12","v":0},{"$f":"COUNTIF($D$117:$AA$117,$AP$148)*$AB$12","v":0},{"$f":"COUNTIF($D$117:$AA$117,$AQ$148)*$AB$12","v":0},{"$f":"COUNTIF($D$117:$AA$117,$AR$148)*$AB$12","v":0},{"$f":"COUNTIF($D$117:$AA$117,$AS$148)*$AB$12","v":0},4,null,{"$f":"SUMPRODUCT($D$149:$AS$149,$D$162:$AS$162)","v":0},{"$f":"SUMPRODUCT($D149:$AS149,$D$189:$AS$189)","v":0},{"$f":"$Q$29/$Q$31*$AV149*$Q$40","v":0},{"$f":"AW149*$AY$146","v":0},{"$f":"IFERROR(AX149+AY149,\"\")","v":0},{"$f":"$R$29/$R$31*$AV149*$R$40","v":{"$error":"#VALUE!"}},{"$f":"AW149*$BB$146","v":0},{"$f":"IFERROR(BA149+BB149,\"\")","v":""},{"$f":"$S$29/$S$31*$AV149*$S$40","v":{"$error":"#VALUE!"}},{"$f":"AW149*$BE$146","v":0},{"$f":"IFERROR(BD149+BE149,\"\")","v":""},null,{"$f":"$Q$43/$Q$45*$AV149*$Q$54","v":{"$error":"#VALUE!"}},{"$f":"AW149*$BI$146","v":0},{"$f":"IFERROR(BH149+BI149,\"\")","v":""},{"$f":"$R$43/$R$45*$AV149*$R$54","v":{"$error":"#VALUE!"}},{"$f":"AW149*$BL$146","v":0},{"$f":"IFERROR(BK149+BL149,\"\")","v":""},{"$f":"$S$43/$S$45*$AV149*$S$54","v":{"$error":"#VALUE!"}},{"$f":"AW149*$BO$146","v":0},{"$f":"IFERROR(BN149+BO149,\"\")","v":""}]
[null,null,5,{"$f":"COUNTIF($D$118:$AA$118,$D$148)*$AB$13","v":0},{"$f":"COUNTIF($D$118:$AA$118,$E$148)*$AB$13","v":0},{"$f":"COUNTIF($D$118:$AA$118,$F$148)*$AB$13","v":0},{"$f":"COUNTIF($D$118:$AA$118,$G$148)*$AB$13","v":0},{"$f":"COUNTIF($D$118:$AA$118,$H$148)*$AB$13","v":0},{"$f":"COUNTIF($D$118:$AA$118,$I$148)*$AB$13","v":0},{"$f":"COUNTIF($D$118:$AA$118,$J$148)*$AB$13","v":0},{"$f":"COUNTIF($D$118:$AA$118,$K$148)*$AB$13","v":0},{"$f":"COUNTIF($D$118:$AA$118,$L$148)*$AB$13","v":0},{"$f":"COUNTIF($D$118:$AA$118,$M$148)*$AB$13","v":0},{"$f":"COUNTIF($D$118:$AA$118,$N$148)*$AB$13","v":0},{"$f":"COUNTIF($D$118:$AA$118,$O$148)*$AB$13","v":0},{"$f":"COUNTIF($D$118:$AA$118,$P$148)*$AB$13","v":0},{"$f":"COUNTIF($D$118:$AA$118,$Q$148)*$AB$13","v":0},{"$f":"COUNTIF($D$118:$AA$118,$R$148)*$AB$13","v":0},{"$f":"COUNTIF($D$118:$AA$118,$S$148)*$AB$13","v":0},{"$f":"COUNTIF($D$118:$AA$118,$T$148)*$AB$13","v":0},{"$f":"COUNTIF($D$118:$AA$118,$U$148)*$AB$13","v":0},{"$f":"COUNTIF($D$118:$AA$118,$V$148)*$AB$13","v":0},{"$f":"COUNTIF($D$118:$AA$118,$W$148)*$AB$13","v":0},{"$f":"COUNTIF($D$118:$AA$118,$X$148)*$AB$13","v":0},{"$f":"COUNTIF($D$118:$AA$118,$Y$148)*$AB$13","v":0},{"$f":"COUNTIF($D$118:$AA$118,$Z$148)*$AB$13","v":0},{"$f":"COUNTIF($D$118:$AA$118,$AA$148)*$AB$13","v":0},{"$f":"COUNTIF($D$118:$AA$118,$AB$148)*$AB$13","v":0},{"$f":"COUNTIF($D$118:$AA$118,$AC$148)*$AB$13","v":0},{"$f":"COUNTIF($D$118:$AA$118,$AD$148)*$AB$13","v":0},{"$f":"COUNTIF($D$118:$AA$118,$AE$148)*$AB$13","v":0},{"$f":"COUNTIF($D$118:$AA$118,$AF$148)*$AB$13","v":0},{"$f":"COUNTIF($D$118:$AA$118,$AG$148)*$AB$13","v":0},{"$f":"COUNTIF($D$118:$AA$118,$AH$148)*$AB$13","v":0},{"$f":"COUNTIF($D$118:$AA$118,$AI$148)*$AB$13","v":0},{"$f":"COUNTIF($D$118:$AA$118,$AJ$148)*$AB$13","v":0},{"$f":"COUNTIF($D$118:$AA$118,$AK$148)*$AB$13","v":0},{"$f":"COUNTIF($D$118:$AA$118,$AL$148)*$AB$13","v":0},{"$f":"COUNTIF($D$118:$AA$118,$AM$148)*$AB$13","v":0},{"$f":"COUNTIF($D$118:$AA$118,$AN$148)*$AB$13","v":0},{"$f":"COUNTIF($D$118:$AA$118,$AO$148)*$AB$13","v":0},{"$f":"COUNTIF($D$118:$AA$118,$AP$148)*$AB$13","v":0},{"$f":"COUNTIF($D$118:$AA$118,$AQ$148)*$AB$13","v":0},{"$f":"COUNTIF($D$118:$AA$118,$AR$148)*$AB$13","v":0},{"$f":"COUNTIF($D$118:$AA$118,$AS$148)*$AB$13","v":0},5,null,{"$f":"SUMPRODUCT($D$150:$AS$150,$D$162:$AS$162)","v":0},{"$f":"SUMPRODUCT($D150:$AS150,$D$189:$AS$189)","v":0},0,{"$f":"AW150*$AY$146","v":0},{"$f":"IFERROR(AX150+AY150,\"\")","v":0},{"$error":"#VALUE!"},{"$f":"AW150*$BB$146","v":0},{"$f":"IFERROR(BA150+BB150,\"\")","v":""},{"$error":"#VALUE!"},{"$f":"AW150*$BE$146","v":0},{"$f":"IFERROR(BD150+BE150,\"\")","v":""},null,{"$error":"#VALUE!"},{"$f":"AW150*$BI$146","v":0},{"$f":"IFERROR(BH150+BI150,\"\")","v":""},{"$error":"#VALUE!"},{"$f":"AW150*$BL$146","v":0},{"$f":"IFERROR(BK150+BL150,\"\")","v":""},{"$error":"#VALUE!"},{"$f":"AW150*$BO$146","v":0},{"$f":"IFERROR(BN150+BO150,\"\")","v":""}]
[null,null,6,{"$f":"COUNTIF($D$119:$AA$119,$D$148)*$AB$14","v":0},{"$f":"COUNTIF($D$119:$AA$119,$E$148)*$AB$14","v":0},{"$f":"COUNTIF($D$119:$AA$119,$F$148)*$AB$14","v":0},{"$f":"COUNTIF($D$119:$AA$119,$G$148)*$AB$14","v":0},{"$f":"COUNTIF($D$119:$AA$119,$H$148)*$AB$14","v":0},{"$f":"COUNTIF($D$119:$AA$119,$I$148)*$AB$14","v":0},{"$f":"COUNTIF($D$119:$AA$119,$J$148)*$AB$14","v":0},{"$f":"COUNTIF($D$119:$AA$119,$K$148)*$AB$14","v":0},{"$f":"COUNTIF($D$119:$AA$119,$L$148)*$AB$14","v":0},{"$f":"COUNTIF($D$119:$AA$119,$M$148)*$AB$14","v":0},{"$f":"COUNTIF($D$119:$AA$119,$N$148)*$AB$14","v":0},{"$f":"COUNTIF($D$119:$AA$119,$O$148)*$AB$14","v":0},{"$f":"COUNTIF($D$119:$AA$119,$P$148)*$AB$14","v":0},{"$f":"COUNTIF($D$119:$AA$119,$Q$148)*$AB$14","v":0},{"$f":"COUNTIF($D$119:$AA$119,$R$148)*$AB$14","v":0},{"$f":"COUNTIF($D$119:$AA$119,$S$148)*$AB$14","v":0},{"$f":"COUNTIF($D$119:$AA$119,$T$148)*$AB$14","v":0},{"$f":"COUNTIF($D$119:$AA$119,$U$148)*$AB$14","v":0},{"$f":"COUNTIF($D$119:$AA$119,$V$148)*$AB$14","v":0},{"$f":"COUNTIF($D$119:$AA$119,$W$148)*$AB$14","v":0},{"$f":"COUNTIF($D$119:$AA$119,$X$148)*$AB$14","v":0},{"$f":"COUNTIF($D$119:$AA$119,$Y$148)*$AB$14","v":0},{"$f":"COUNTIF($D$119:$AA$119,$Z$148)*$AB$14","v":0},{"$f":"COUNTIF($D$119:$AA$119,$AA$148)*$AB$14","v":0},{"$f":"COUNTIF($D$119:$AA$119,$AB$148)*$AB$14","v":0},{"$f":"COUNTIF($D$119:$AA$119,$AC$148)*$AB$14","v":0},{"$f":"COUNTIF($D$119:$AA$119,$AD$148)*$AB$14","v":0},{"$f":"COUNTIF($D$119:$AA$119,$AE$148)*$AB$14","v":0},{"$f":"COUNTIF($D$119:$AA$119,$AF$148)*$AB$14","v":0},{"$f":"COUNTIF($D$119:$AA$119,$AG$148)*$AB$14","v":0},{"$f":"COUNTIF($D$119:$AA$119,$AH$148)*$AB$14","v":0},{"$f":"COUNTIF($D$119:$AA$119,$AI$148)*$AB$14","v":0},{"$f":"COUNTIF($D$119:$AA$119,$AJ$148)*$AB$14","v":0},{"$f":"COUNTIF($D$119:$AA$119,$AK$148)*$AB$14","v":0},{"$f":"COUNTIF($D$119:$AA$119,$AL$148)*$AB$14","v":0},{"$f":"COUNTIF($D$119:$AA$119,$AM$148)*$AB$14","v":0},{"$f":"COUNTIF($D$119:$AA$119,$AN$148)*$AB$14","v":0},{"$f":"COUNTIF($D$119:$AA$119,$AO$148)*$AB$14","v":0},{"$f":"COUNTIF($D$119:$AA$119,$AP$148)*$AB$14","v":0},{"$f":"COUNTIF($D$119:$AA$119,$AQ$148)*$AB$14","v":0},{"$f":"COUNTIF($D$119:$AA$119,$AR$148)*$AB$14","v":0},{"$f":"COUNTIF($D$119:$AA$119,$AS$148)*$AB$14","v":0},6,null,{"$f":"SUMPRODUCT($D$151:$AS$151,$D$162:$AS$162)","v":0},0,0,0,0,{"$error":"#VALUE!"},0,"",{"$error":"#VALUE!"},0,"",null,{"$error":"#VALUE!"},0,"",{"$error":"#VALUE!"},0,"",{"$error":"#VALUE!"},0,""]
[null,null,7,{"$f":"COUNTIF($D$120:$AA$120,$D$148)*$AB$15","v":0},{"$f":"COUNTIF($D$120:$AA$120,$E$148)*$AB$15","v":0},{"$f":"COUNTIF($D$120:$AA$120,$F$148)*$AB$15","v":0},{"$f":"COUNTIF($D$120:$AA$120,$G$148)*$AB$15","v":0},{"$f":"COUNTIF($D$120:$AA$120,$H$148)*$AB$15","v":0},{"$f":"COUNTIF($D$120:$AA$120,$I$148)*$AB$15","v":0},{"$f":"COUNTIF($D$120:$AA$120,$J$148)*$AB$15","v":0},{"$f":"COUNTIF($D$120:$AA$120,$K$148)*$AB$15","v":0},{"$f":"COUNTIF($D$120:$AA$120,$L$148)*$AB$15","v":0},{"$f":"COUNTIF($D$120:$AA$120,$M$148)*$AB$15","v":0},{"$f":"COUNTIF($D$120:$AA$120,$N$148)*$AB$15","v":0},{"$f":"COUNTIF($D$120:$AA$120,$O$148)*$AB$15","v":0},{"$f":"COUNTIF($D$120:$AA$120,$P$148)*$AB$15","v":0},{"$f":"COUNTIF($D$120:$AA$120,$Q$148)*$AB$15","v":0},{"$f":"COUNTIF($D$120:$AA$120,$R$148)*$AB$15","v":0},{"$f":"COUNTIF($D$120:$AA$120,$S$148)*$AB$15","v":0},{"$f":"COUNTIF($D$120:$AA$120,$T$148)*$AB$15","v":0},{"$f":"COUNTIF($D$120:$AA$120,$U$148)*$AB$15","v":0},{"$f":"COUNTIF($D$120:$AA$120,$V$148)*$AB$15","v":0},{"$f":"COUNTIF($D$120:$AA$120,$W$148)*$AB$15","v":0},{"$f":"COUNTIF($D$120:$AA$120,$X$148)*$AB$15","v":0},{"$f":"COUNTIF($D$120:$AA$120,$Y$148)*$AB$15","v":0},{"$f":"COUNTIF($D$120:$AA$120,$Z$148)*$AB$15","v":0},{"$f":"COUNTIF($D$120:$AA$120,$AA$148)*$AB$15","v":0},{"$f":"COUNTIF($D$120:$AA$120,$AB$148)*$AB$15","v":0},{"$f":"COUNTIF($D$120:$AA$120,$AC$148)*$AB$15","v":0},{"$f":"COUNTIF($D$120:$AA$120,$AD$148)*$AB$15","v":0},{"$f":"COUNTIF($D$120:$AA$120,$AE$148)*$AB$15","v":0},{"$f":"COUNTIF($D$120:$AA$120,$AF$148)*$AB$15","v":0},{"$f":"COUNTIF($D$120:$AA$120,$AG$148)*$AB$15","v":0},{"$f":"COUNTIF($D$120:$AA$120,$AH$148)*$AB$15","v":0},{"$f":"COUNTIF($D$120:$AA$120,$AI$148)*$AB$15","v":0},{"$f":"COUNTIF($D$120:$AA$120,$AJ$148)*$AB$15","v":0},{"$f":"COUNTIF($D$120:$AA$120,$AK$148)*$AB$15","v":0},{"$f":"COUNTIF($D$120:$AA$120,$AL$148)*$AB$15","v":0},{"$f":"COUNTIF($D$120:$AA$120,$AM$148)*$AB$15","v":0},{"$f":"COUNTIF($D$120:$AA$120,$AN$148)*$AB$15","v":0},{"$f":"COUNTIF($D$120:$AA$120,$AO$148)*$AB$15","v":0},{"$f":"COUNTIF($D$120:$AA$120,$AP$148)*$AB$15","v":0},{"$f":"COUNTIF($D$120:$AA$120,$AQ$148)*$AB$15","v":0},{"$f":"COUNTIF($D$120:$AA$120,$AR$148)*$AB$15","v":0},{"$f":"COUNTIF($D$120:$AA$120,$AS$148)*$AB$15","v":0},7,null,{"$f":"SUMPRODUCT($D$152:$AS$152,$D$162:$AS$162)","v":0},0,0,0,0,{"$error":"#VALUE!"},0,"",{"$error":"#VALUE!"},0,"",null,{"$error":"#VALUE!"},0,"",{"$error":"#VALUE!"},0,"",{"$error":"#VALUE!"},0,""]
[null,null,8,{"$f":"COUNTIF($D$121:$AA$121,$D$148)*$AB$16","v":0},{"$f":"COUNTIF($D$121:$AA$121,$E$148)*$AB$16","v":0},{"$f":"COUNTIF($D$121:$AA$121,$F$148)*$AB$16","v":0},{"$f":"COUNTIF($D$121:$AA$121,$G$148)*$AB$16","v":0},{"$f":"COUNTIF($D$121:$AA$121,$H$148)*$AB$16","v":0},{"$f":"COUNTIF($D$121:$AA$121,$I$148)*$AB$16","v":0},{"$f":"COUNTIF($D$121:$AA$121,$J$148)*$AB$16","v":0},{"$f":"COUNTIF($D$121:$AA$121,$K$148)*$AB$16","v":0},{"$f":"COUNTIF($D$121:$AA$121,$L$148)*$AB$16","v":0},{"$f":"COUNTIF($D$121:$AA$121,$M$148)*$AB$16","v":0},{"$f":"COUNTIF($D$121:$AA$121,$N$148)*$AB$16","v":0},{"$f":"COUNTIF($D$121:$AA$121,$O$148)*$AB$16","v":0},{"$f":"COUNTIF($D$121:$AA$121,$P$148)*$AB$16","v":0},{"$f":"COUNTIF($D$121:$AA$121,$Q$148)*$AB$16","v":0},{"$f":"COUNTIF($D$121:$AA$121,$R$148)*$AB$16","v":0},{"$f":"COUNTIF($D$121:$AA$121,$S$148)*$AB$16","v":0},{"$f":"COUNTIF($D$121:$AA$121,$T$148)*$AB$16","v":0},{"$f":"COUNTIF($D$121:$AA$121,$U$148)*$AB$16","v":0},{"$f":"COUNTIF($D$121:$AA$121,$V$148)*$AB$16","v":0},{"$f":"COUNTIF($D$121:$AA$121,$W$148)*$AB$16","v":0},{"$f":"COUNTIF($D$121:$AA$121,$X$148)*$AB$16","v":0},{"$f":"COUNTIF($D$121:$AA$121,$Y$148)*$AB$16","v":0},{"$f":"COUNTIF($D$121:$AA$121,$Z$148)*$AB$16","v":0},{"$f":"COUNTIF($D$121:$AA$121,$AA$148)*$AB$16","v":0},{"$f":"COUNTIF($D$121:$AA$121,$AB$148)*$AB$16","v":0},{"$f":"COUNTIF($D$121:$AA$121,$AC$148)*$AB$16","v":0},{"$f":"COUNTIF($D$121:$AA$121,$AD$148)*$AB$16","v":0},{"$f":"COUNTIF($D$121:$AA$121,$AE$148)*$AB$16","v":0},{"$f":"COUNTIF($D$121:$AA$121,$AF$148)*$AB$16","v":0},{"$f":"COUNTIF($D$121:$AA$121,$AG$148)*$AB$16","v":0},{"$f":"COUNTIF($D$121:$AA$121,$AH$148)*$AB$16","v":0},{"$f":"COUNTIF($D$121:$AA$121,$AI$148)*$AB$16","v":0},{"$f":"COUNTIF($D$121:$AA$121,$AJ$148)*$AB$16","v":0},{"$f":"COUNTIF($D$121:$AA$121,$AK$148)*$AB$16","v":0},{"$f":"COUNTIF($D$121:$AA$121,$AL$148)*$AB$16","v":0},{"$f":"COUNTIF($D$121:$AA$121,$AM$148)*$AB$16","v":0},{"$f":"COUNTIF($D$121:$AA$121,$AN$148)*$AB$16","v":0},{"$f":"COUNTIF($D$121:$AA$121,$AO$148)*$AB$16","v":0},{"$f":"COUNTIF($D$121:$AA$121,$AP$148)*$AB$16","v":0},{"$f":"COUNTIF($D$121:$AA$121,$AQ$148)*$AB$16","v":0},{"$f":"COUNTIF($D$121:$AA$121,$AR$148)*$AB$16","v":0},{"$f":"COUNTIF($D$121:$AA$121,$AS$148)*$AB$16","v":0},8,null,{"$f":"SUMPRODUCT($D$153:$AS$153,$D$162:$AS$162)","v":0},0,0,0,0,{"$error":"#VALUE!"},0,"",{"$error":"#VALUE!"},0,"",null,{"$error":"#VALUE!"},0,"",{"$error":"#VALUE!"},0,"",{"$error":"#VALUE!"},0,""]
[null,null,9,{"$f":"COUNTIF($D$122:$AA$122,$D$148)*$AB$17","v":0},{"$f":"COUNTIF($D$122:$AA$122,$E$148)*$AB$17","v":0},{"$f":"COUNTIF($D$122:$AA$122,$F$148)*$AB$17","v":0},{"$f":"COUNTIF($D$122:$AA$122,$G$148)*$AB$17","v":0},{"$f":"COUNTIF($D$122:$AA$122,$H$148)*$AB$17","v":0},{"$f":"COUNTIF($D$122:$AA$122,$I$148)*$AB$17","v":0},{"$f":"COUNTIF($D$122:$AA$122,$J$148)*$AB$17","v":0},{"$f":"COUNTIF($D$122:$AA$122,$K$148)*$AB$17","v":0},{"$f":"COUNTIF($D$122:$AA$122,$L$148)*$AB$17","v":0},{"$f":"COUNTIF($D$122:$AA$122,$M$148)*$AB$17","v":0},{"$f":"COUNTIF($D$122:$AA$122,$N$148)*$AB$17","v":0},{"$f":"COUNTIF($D$122:$AA$122,$O$148)*$AB$17","v":0},{"$f":"COUNTIF($D$122:$AA$122,$P$148)*$AB$17","v":0},{"$f":"COUNTIF($D$122:$AA$122,$Q$148)*$AB$17","v":0},{"$f":"COUNTIF($D$122:$AA$122,$R$148)*$AB$17","v":0},{"$f":"COUNTIF($D$122:$AA$122,$S$148)*$AB$17","v":0},{"$f":"COUNTIF($D$122:$AA$122,$T$148)*$AB$17","v":0},{"$f":"COUNTIF($D$122:$AA$122,$U$148)*$AB$17","v":0},{"$f":"COUNTIF($D$122:$AA$122,$V$148)*$AB$17","v":0},{"$f":"COUNTIF($D$122:$AA$122,$W$148)*$AB$17","v":0},{"$f":"COUNTIF($D$122:$AA$122,$X$148)*$AB$17","v":0},{"$f":"COUNTIF($D$122:$AA$122,$Y$148)*$AB$17","v":0},{"$f":"COUNTIF($D$122:$AA$122,$Z$148)*$AB$17","v":0},{"$f":"COUNTIF($D$122:$AA$122,$AA$148)*$AB$17","v":0},{"$f":"COUNTIF($D$122:$AA$122,$AB$148)*$AB$17","v":0},{"$f":"COUNTIF($D$122:$AA$122,$AC$148)*$AB$17","v":0},{"$f":"COUNTIF($D$122:$AA$122,$AD$148)*$AB$17","v":0},{"$f":"COUNTIF($D$122:$AA$122,$AE$148)*$AB$17","v":0},{"$f":"COUNTIF($D$122:$AA$122,$AF$148)*$AB$17","v":0},{"$f":"COUNTIF($D$122:$AA$122,$AG$148)*$AB$17","v":0},{"$f":"COUNTIF($D$122:$AA$122,$AH$148)*$AB$17","v":0},{"$f":"COUNTIF($D$122:$AA$122,$AI$148)*$AB$17","v":0},{"$f":"COUNTIF($D$122:$AA$122,$AJ$148)*$AB$17","v":0},{"$f":"COUNTIF($D$122:$AA$122,$AK$148)*$AB$17","v":0},{"$f":"COUNTIF($D$122:$AA$122,$AL$148)*$AB$17","v":0},{"$f":"COUNTIF($D$122:$AA$122,$AM$148)*$AB$17","v":0},{"$f":"COUNTIF($D$122:$AA$122,$AN$148)*$AB$17","v":0},{"$f":"COUNTIF($D$122:$AA$122,$AO$148)*$AB$17","v":0},{"$f":"COUNTIF($D$122:$AA$122,$AP$148)*$AB$17","v":0},{"$f":"COUNTIF($D$122:$AA$122,$AQ$148)*$AB$17","v":0},{"$f":"COUNTIF($D$122:$AA$122,$AR$148)*$AB$17","v":0},{"$f":"COUNTIF($D$122:$AA$122,$AS$148)*$AB$17","v":0},9,null,{"$f":"SUMPRODUCT($D$154:$AS$154,$D$162:$AS$162)","v":0},0,0,{"$f":"AW154*$AY$146","v":0},0,{"$error":"#VALUE!"},0,{"$f":"IFERROR(BA154+BB154,\"\")","v":""},{"$error":"#VALUE!"},0,"",null,{"$error":"#VALUE!"},0,"",{"$error":"#VALUE!"},0,"",{"$error":"#VALUE!"},0,""]
[null,null,10,{"$f":"COUNTIF($D$123:$AA$123,$D$148)*$AB$18","v":0},{"$f":"COUNTIF($D$123:$AA$123,$E$148)*$AB$18","v":0},{"$f":"COUNTIF($D$123:$AA$123,$F$148)*$AB$18","v":0},{"$f":"COUNTIF($D$123:$AA$123,$G$148)*$AB$18","v":0},{"$f":"COUNTIF($D$123:$AA$123,$H$148)*$AB$18","v":0},{"$f":"COUNTIF($D$123:$AA$123,$I$148)*$AB$18","v":0},{"$f":"COUNTIF($D$123:$AA$123,$J$148)*$AB$18","v":0},{"$f":"COUNTIF($D$123:$AA$123,$K$148)*$AB$18","v":0},{"$f":"COUNTIF($D$123:$AA$123,$L$148)*$AB$18","v":0},{"$f":"COUNTIF($D$123:$AA$123,$M$148)*$AB$18","v":0},{"$f":"COUNTIF($D$123:$AA$123,$N$148)*$AB$18","v":0},{"$f":"COUNTIF($D$123:$AA$123,$O$148)*$AB$18","v":0},{"$f":"COUNTIF($D$123:$AA$123,$P$148)*$AB$18","v":0},{"$f":"COUNTIF($D$123:$AA$123,$Q$148)*$AB$18","v":0},{"$f":"COUNTIF($D$123:$AA$123,$R$148)*$AB$18","v":0},{"$f":"COUNTIF($D$123:$AA$123,$S$148)*$AB$18","v":0},{"$f":"COUNTIF($D$123:$AA$123,$T$148)*$AB$18","v":0},{"$f":"COUNTIF($D$123:$AA$123,$U$148)*$AB$18","v":0},{"$f":"COUNTIF($D$123:$AA$123,$V$148)*$AB$18","v":0},{"$f":"COUNTIF($D$123:$AA$123,$W$148)*$AB$18","v":0},{"$f":"COUNTIF($D$123:$AA$123,$X$148)*$AB$18","v":0},{"$f":"COUNTIF($D$123:$AA$123,$Y$148)*$AB$18","v":0},{"$f":"COUNTIF($D$123:$AA$123,$Z$148)*$AB$18","v":0},{"$f":"COUNTIF($D$123:$AA$123,$AA$148)*$AB$18","v":0},{"$f":"COUNTIF($D$123:$AA$123,$AB$148)*$AB$18","v":0},{"$f":"COUNTIF($D$123:$AA$123,$AC$148)*$AB$18","v":0},{"$f":"COUNTIF($D$123:$AA$123,$AD$148)*$AB$18","v":0},{"$f":"COUNTIF($D$123:$AA$123,$AE$148)*$AB$18","v":0},{"$f":"COUNTIF($D$123:$AA$123,$AF$148)*$AB$18","v":0},{"$f":"COUNTIF($D$123:$AA$123,$AG$148)*$AB$18","v":0},{"$f":"COUNTIF($D$123:$AA$123,$AH$148)*$AB$18","v":0},{"$f":"COUNTIF($D$123:$AA$123,$AI$148)*$AB$18","v":0},{"$f":"COUNTIF($D$123:$AA$123,$AJ$148)*$AB$18","v":0},{"$f":"COUNTIF($D$123:$AA$123,$AK$148)*$AB$18","v":0},{"$f":"COUNTIF($D$123:$AA$123,$AL$148)*$AB$18","v":0},{"$f":"COUNTIF($D$123:$AA$123,$AM$148)*$AB$18","v":0},{"$f":"COUNTIF($D$123:$AA$123,$AN$148)*$AB$18","v":0},{"$f":"COUNTIF($D$123:$AA$123,$AO$148)*$AB$18","v":0},{"$f":"COUNTIF($D$123:$AA$123,$AP$148)*$AB$18","v":0},{"$f":"COUNTIF($D$123:$AA$123,$AQ$148)*$AB$18","v":0},{"$f":"COUNTIF($D$123:$AA$123,$AR$148)*$AB$18","v":0},{"$f":"COUNTIF($D$123:$AA$123,$AS$148)*$AB$18","v":0},10,null,{"$f":"SUMPRODUCT($D$155:$AS$155,$D$162:$AS$162)","v":0},0,0,0,0,{"$error":"#VALUE!"},0,"",{"$error":"#VALUE!"},0,"",null,{"$error":"#VALUE!"},0,"",{"$error":"#VALUE!"},0,"",{"$error":"#VALUE!"},0,""]
[null,null,11,{"$f":"COUNTIF($D$124:$AA$124,$D$148)*$AB$19","v":0},{"$f":"COUNTIF($D$124:$AA$124,$E$148)*$AB$19","v":0},{"$f":"COUNTIF($D$124:$AA$124,$F$148)*$AB$19","v":0},{"$f":"COUNTIF($D$124:$AA$124,$G$148)*$AB$19","v":0},{"$f":"COUNTIF($D$124:$AA$124,$H$148)*$AB$19","v":0},{"$f":"COUNTIF($D$124:$AA$124,$I$148)*$AB$19","v":0},{"$f":"COUNTIF($D$124:$AA$124,$J$148)*$AB$19","v":0},{"$f":"COUNTIF($D$124:$AA$124,$K$148)*$AB$19","v":0},{"$f":"COUNTIF($D$124:$AA$124,$L$148)*$AB$19","v":0},{"$f":"COUNTIF($D$124:$AA$124,$M$148)*$AB$19","v":0},{"$f":"COUNTIF($D$124:$AA$124,$N$148)*$AB$19","v":0},{"$f":"COUNTIF($D$124:$AA$124,$O$148)*$AB$19","v":0},{"$f":"COUNTIF($D$124:$AA$124,$P$148)*$AB$19","v":0},{"$f":"COUNTIF($D$124:$AA$124,$Q$148)*$AB$19","v":0},{"$f":"COUNTIF($D$124:$AA$124,$R$148)*$AB$19","v":0},{"$f":"COUNTIF($D$124:$AA$124,$S$148)*$AB$19","v":0},{"$f":"COUNTIF($D$124:$AA$124,$T$148)*$AB$19","v":0},{"$f":"COUNTIF($D$124:$AA$124,$U$148)*$AB$19","v":0},{"$f":"COUNTIF($D$124:$AA$124,$V$148)*$AB$19","v":0},{"$f":"COUNTIF($D$124:$AA$124,$W$148)*$AB$19","v":0},{"$f":"COUNTIF($D$124:$AA$124,$X$148)*$AB$19","v":0},{"$f":"COUNTIF($D$124:$AA$124,$Y$148)*$AB$19","v":0},{"$f":"COUNTIF($D$124:$AA$124,$Z$148)*$AB$19","v":0},{"$f":"COUNTIF($D$124:$AA$124,$AA$148)*$AB$19","v":0},{"$f":"COUNTIF($D$124:$AA$124,$AB$148)*$AB$19","v":0},{"$f":"COUNTIF($D$124:$AA$124,$AC$148)*$AB$19","v":0},{"$f":"COUNTIF($D$124:$AA$124,$AD$148)*$AB$19","v":0},{"$f":"COUNTIF($D$124:$AA$124,$AE$148)*$AB$19","v":0},{"$f":"COUNTIF($D$124:$AA$124,$AF$148)*$AB$19","v":0},{"$f":"COUNTIF($D$124:$AA$124,$AG$148)*$AB$19","v":0},{"$f":"COUNTIF($D$124:$AA$124,$AH$148)*$AB$19","v":0},{"$f":"COUNTIF($D$124:$AA$124,$AI$148)*$AB$19","v":0},{"$f":"COUNTIF($D$124:$AA$124,$AJ$148)*$AB$19","v":0},{"$f":"COUNTIF($D$124:$AA$124,$AK$148)*$AB$19","v":0},{"$f":"COUNTIF($D$124:$AA$124,$AL$148)*$AB$19","v":0},{"$f":"COUNTIF($D$124:$AA$124,$AM$148)*$AB$19","v":0},{"$f":"COUNTIF($D$124:$AA$124,$AN$148)*$AB$19","v":0},{"$f":"COUNTIF($D$124:$AA$124,$AO$148)*$AB$19","v":0},{"$f":"COUNTIF($D$124:$AA$124,$AP$148)*$AB$19","v":0},{"$f":"COUNTIF($D$124:$AA$124,$AQ$148)*$AB$19","v":0},{"$f":"COUNTIF($D$124:$AA$124,$AR$148)*$AB$19","v":0},{"$f":"COUNTIF($D$124:$AA$124,$AS$148)*$AB$19","v":0},11,null,{"$f":"SUMPRODUCT($D$156:$AS$156,$D$162:$AS$162)","v":0},0,0,0,0,{"$error":"#VALUE!"},0,"",{"$error":"#VALUE!"},0,"",null,{"$error":"#VALUE!"},0,"",{"$error":"#VALUE!"},0,"",{"$error":"#VALUE!"},0,""]
[null,null,12,{"$f":"COUNTIF($D$125:$AA$125,$D$148)*$AB$20","v":0},{"$f":"COUNTIF($D$125:$AA$125,$E$148)*$AB$20","v":0},{"$f":"COUNTIF($D$125:$AA$125,$F$148)*$AB$20","v":0},{"$f":"COUNTIF($D$125:$AA$125,$G$148)*$AB$20","v":0},{"$f":"COUNTIF($D$125:$AA$125,$H$148)*$AB$20","v":0},{"$f":"COUNTIF($D$125:$AA$125,$I$148)*$AB$20","v":0},{"$f":"COUNTIF($D$125:$AA$125,$J$148)*$AB$20","v":0},{"$f":"COUNTIF($D$125:$AA$125,$K$148)*$AB$20","v":0},{"$f":"COUNTIF($D$125:$AA$125,$L$148)*$AB$20","v":0},{"$f":"COUNTIF($D$125:$AA$125,$M$148)*$AB$20","v":0},{"$f":"COUNTIF($D$125:$AA$125,$N$148)*$AB$20","v":0},{"$f":"COUNTIF($D$125:$AA$125,$O$148)*$AB$20","v":0},{"$f":"COUNTIF($D$125:$AA$125,$P$148)*$AB$20","v":0},{"$f":"COUNTIF($D$125:$AA$125,$Q$148)*$AB$20","v":0},{"$f":"COUNTIF($D$125:$AA$125,$R$148)*$AB$20","v":0},{"$f":"COUNTIF($D$125:$AA$125,$S$148)*$AB$20","v":0},{"$f":"COUNTIF($D$125:$AA$125,$T$148)*$AB$20","v":0},{"$f":"COUNTIF($D$125:$AA$125,$U$148)*$AB$20","v":0},{"$f":"COUNTIF($D$125:$AA$125,$V$148)*$AB$20","v":0},{"$f":"COUNTIF($D$125:$AA$125,$W$148)*$AB$20","v":0},{"$f":"COUNTIF($D$125:$AA$125,$X$148)*$AB$20","v":0},{"$f":"COUNTIF($D$125:$AA$125,$Y$148)*$AB$20","v":0},{"$f":"COUNTIF($D$125:$AA$125,$Z$148)*$AB$20","v":0},{"$f":"COUNTIF($D$125:$AA$125,$AA$148)*$AB$20","v":0},{"$f":"COUNTIF($D$125:$AA$125,$AB$148)*$AB$20","v":0},{"$f":"COUNTIF($D$125:$AA$125,$AC$148)*$AB$20","v":0},{"$f":"COUNTIF($D$125:$AA$125,$AD$148)*$AB$20","v":0},{"$f":"COUNTIF($D$125:$AA$125,$AE$148)*$AB$20","v":0},{"$f":"COUNTIF($D$125:$AA$125,$AF$148)*$AB$20","v":0},{"$f":"COUNTIF($D$125:$AA$125,$AG$148)*$AB$20","v":0},{"$f":"COUNTIF($D$125:$AA$125,$AH$148)*$AB$20","v":0},{"$f":"COUNTIF($D$125:$AA$125,$AI$148)*$AB$20","v":0},{"$f":"COUNTIF($D$125:$AA$125,$AJ$148)*$AB$20","v":0},{"$f":"COUNTIF($D$125:$AA$125,$AK$148)*$AB$20","v":0},{"$f":"COUNTIF($D$125:$AA$125,$AL$148)*$AB$20","v":0},{"$f":"COUNTIF($D$125:$AA$125,$AM$148)*$AB$20","v":0},{"$f":"COUNTIF($D$125:$AA$125,$AN$148)*$AB$20","v":0},{"$f":"COUNTIF($D$125:$AA$125,$AO$148)*$AB$20","v":0},{"$f":"COUNTIF($D$125:$AA$125,$AP$148)*$AB$20","v":0},{"$f":"COUNTIF($D$125:$AA$125,$AQ$148)*$AB$20","v":0},{"$f":"COUNTIF($D$125:$AA$125,$AR$148)*$AB$20","v":0},{"$f":"COUNTIF($D$125:$AA$125,$AS$148)*$AB$20","v":0},12,null,{"$f":"SUMPRODUCT($D$157:$AS$157,$D$162:$AS$162)","v":0},0,0,0,0,{"$error":"#VALUE!"},0,"",{"$error":"#VALUE!"},0,"",null,{"$error":"#VALUE!"},0,"",{"$error":"#VALUE!"},0,"",{"$error":"#VALUE!"},0,""]
[null,null,1,{"$f":"COUNTIF($D$126:$AA$126,$D$148)*$AB$21","v":0},{"$f":"COUNTIF($D$126:$AA$126,$E$148)*$AB$21","v":0},{"$f":"COUNTIF($D$126:$AA$126,$F$148)*$AB$21","v":0},{"$f":"COUNTIF($D$126:$AA$126,$G$148)*$AB$21","v":0},{"$f":"COUNTIF($D$126:$AA$126,$H$148)*$AB$21","v":0},{"$f":"COUNTIF($D$126:$AA$126,$I$148)*$AB$21","v":0},{"$f":"COUNTIF($D$126:$AA$126,$J$148)*$AB$21","v":0},{"$f":"COUNTIF($D$126:$AA$126,$K$148)*$AB$21","v":0},{"$f":"COUNTIF($D$126:$AA$126,$L$148)*$AB$21","v":0},{"$f":"COUNTIF($D$126:$AA$126,$M$148)*$AB$21","v":0},{"$f":"COUNTIF($D$126:$AA$126,$N$148)*$AB$21","v":0},{"$f":"COUNTIF($D$126:$AA$126,$O$148)*$AB$21","v":0},{"$f":"COUNTIF($D$126:$AA$126,$P$148)*$AB$21","v":0},{"$f":"COUNTIF($D$126:$AA$126,$Q$148)*$AB$21","v":0},{"$f":"COUNTIF($D$126:$AA$126,$R$148)*$AB$21","v":0},{"$f":"COUNTIF($D$126:$AA$126,$S$148)*$AB$21","v":0},{"$f":"COUNTIF($D$126:$AA$126,$T$148)*$AB$21","v":0},{"$f":"COUNTIF($D$126:$AA$126,$U$148)*$AB$21","v":0},{"$f":"COUNTIF($D$126:$AA$126,$V$148)*$AB$21","v":0},{"$f":"COUNTIF($D$126:$AA$126,$W$148)*$AB$21","v":0},{"$f":"COUNTIF($D$126:$AA$126,$X$148)*$AB$21","v":0},{"$f":"COUNTIF($D$126:$AA$126,$Y$148)*$AB$21","v":0},{"$f":"COUNTIF($D$126:$AA$126,$Z$148)*$AB$21","v":0},{"$f":"COUNTIF($D$126:$AA$126,$AA$148)*$AB$21","v":0},{"$f":"COUNTIF($D$126:$AA$126,$AB$148)*$AB$21","v":0},{"$f":"COUNTIF($D$126:$AA$126,$AC$148)*$AB$21","v":0},{"$f":"COUNTIF($D$126:$AA$126,$AD$148)*$AB$21","v":0},{"$f":"COUNTIF($D$126:$AA$126,$AE$148)*$AB$21","v":0},{"$f":"COUNTIF($D$126:$AA$126,$AF$148)*$AB$21","v":0},{"$f":"COUNTIF($D$126:$AA$126,$AG$148)*$AB$21","v":0},{"$f":"COUNTIF($D$126:$AA$126,$AH$148)*$AB$21","v":0},{"$f":"COUNTIF($D$126:$AA$126,$AI$148)*$AB$21","v":0},{"$f":"COUNTIF($D$126:$AA$126,$AJ$148)*$AB$21","v":0},{"$f":"COUNTIF($D$126:$AA$126,$AK$148)*$AB$21","v":0},{"$f":"COUNTIF($D$126:$AA$126,$AL$148)*$AB$21","v":0},{"$f":"COUNTIF($D$126:$AA$126,$AM$148)*$AB$21","v":0},{"$f":"COUNTIF($D$126:$AA$126,$AN$148)*$AB$21","v":0},{"$f":"COUNTIF($D$126:$AA$126,$AO$148)*$AB$21","v":0},{"$f":"COUNTIF($D$126:$AA$126,$AP$148)*$AB$21","v":0},{"$f":"COUNTIF($D$126:$AA$126,$AQ$148)*$AB$21","v":0},{"$f":"COUNTIF($D$126:$AA$126,$AR$148)*$AB$21","v":0},{"$f":"COUNTIF($D$126:$AA$126,$AS$148)*$AB$21","v":0},1,null,{"$f":"SUMPRODUCT($D$158:$AS$158,$D$162:$AS$162)","v":0},0,0,0,0,{"$error":"#VALUE!"},0,"",{"$error":"#VALUE!"},0,"",null,{"$error":"#VALUE!"},0,"",{"$error":"#VALUE!"},0,"",{"$error":"#VALUE!"},0,""]
[null,null,2,{"$f":"COUNTIF($D$127:$AA$127,$D$148)*$AB$22","v":0},{"$f":"COUNTIF($D$127:$AA$127,$E$148)*$AB$22","v":0},{"$f":"COUNTIF($D$127:$AA$127,$F$148)*$AB$22","v":0},{"$f":"COUNTIF($D$127:$AA$127,$G$148)*$AB$22","v":0},{"$f":"COUNTIF($D$127:$AA$127,$H$148)*$AB$22","v":0},{"$f":"COUNTIF($D$127:$AA$127,$I$148)*$AB$22","v":0},{"$f":"COUNTIF($D$127:$AA$127,$J$148)*$AB$22","v":0},{"$f":"COUNTIF($D$127:$AA$127,$K$148)*$AB$22","v":0},{"$f":"COUNTIF($D$127:$AA$127,$L$148)*$AB$22","v":0},{"$f":"COUNTIF($D$127:$AA$127,$M$148)*$AB$22","v":0},{"$f":"COUNTIF($D$127:$AA$127,$N$148)*$AB$22","v":0},{"$f":"COUNTIF($D$127:$AA$127,$O$148)*$AB$22","v":0},{"$f":"COUNTIF($D$127:$AA$127,$P$148)*$AB$22","v":0},{"$f":"COUNTIF($D$127:$AA$127,$Q$148)*$AB$22","v":0},{"$f":"COUNTIF($D$127:$AA$127,$R$148)*$AB$22","v":0},{"$f":"COUNTIF($D$127:$AA$127,$S$148)*$AB$22","v":0},{"$f":"COUNTIF($D$127:$AA$127,$T$148)*$AB$22","v":0},{"$f":"COUNTIF($D$127:$AA$127,$U$148)*$AB$22","v":0},{"$f":"COUNTIF($D$127:$AA$127,$V$148)*$AB$22","v":0},{"$f":"COUNTIF($D$127:$AA$127,$W$148)*$AB$22","v":0},{"$f":"COUNTIF($D$127:$AA$127,$X$148)*$AB$22","v":0},{"$f":"COUNTIF($D$127:$AA$127,$Y$148)*$AB$22","v":0},{"$f":"COUNTIF($D$127:$AA$127,$Z$148)*$AB$22","v":0},{"$f":"COUNTIF($D$127:$AA$127,$AA$148)*$AB$22","v":0},{"$f":"COUNTIF($D$127:$AA$127,$AB$148)*$AB$22","v":0},{"$f":"COUNTIF($D$127:$AA$127,$AC$148)*$AB$22","v":0},{"$f":"COUNTIF($D$127:$AA$127,$AD$148)*$AB$22","v":0},{"$f":"COUNTIF($D$127:$AA$127,$AE$148)*$AB$22","v":0},{"$f":"COUNTIF($D$127:$AA$127,$AF$148)*$AB$22","v":0},{"$f":"COUNTIF($D$127:$AA$127,$AG$148)*$AB$22","v":0},{"$f":"COUNTIF($D$127:$AA$127,$AH$148)*$AB$22","v":0},{"$f":"COUNTIF($D$127:$AA$127,$AI$148)*$AB$22","v":0},{"$f":"COUNTIF($D$127:$AA$127,$AJ$148)*$AB$22","v":0},{"$f":"COUNTIF($D$127:$AA$127,$AK$148)*$AB$22","v":0},{"$f":"COUNTIF($D$127:$AA$127,$AL$148)*$AB$22","v":0},{"$f":"COUNTIF($D$127:$AA$127,$AM$148)*$AB$22","v":0},{"$f":"COUNTIF($D$127:$AA$127,$AN$148)*$AB$22","v":0},{"$f":"COUNTIF($D$127:$AA$127,$AO$148)*$AB$22","v":0},{"$f":"COUNTIF($D$127:$AA$127,$AP$148)*$AB$22","v":0},{"$f":"COUNTIF($D$127:$AA$127,$AQ$148)*$AB$22","v":0},{"$f":"COUNTIF($D$127:$AA$127,$AR$148)*$AB$22","v":0},{"$f":"COUNTIF($D$127:$AA$127,$AS$148)*$AB$22","v":0},2,null,{"$f":"SUMPRODUCT($D$159:$AS$159,$D$162:$AS$162)","v":0},0,0,0,0,{"$error":"#VALUE!"},0,"",{"$error":"#VALUE!"},0,"",null,{"$error":"#VALUE!"},0,"",{"$error":"#VALUE!"},0,"",{"$error":"#VALUE!"},0,""]
[null,null,3,{"$f":"COUNTIF($D$128:$AA$128,$D$148)*$AB$23","v":0},{"$f":"COUNTIF($D$128:$AA$128,$E$148)*$AB$23","v":0},{"$f":"COUNTIF($D$128:$AA$128,$F$148)*$AB$23","v":0},{"$f":"COUNTIF($D$128:$AA$128,$G$148)*$AB$23","v":0},{"$f":"COUNTIF($D$128:$AA$128,$H$148)*$AB$23","v":0},{"$f":"COUNTIF($D$128:$AA$128,$I$148)*$AB$23","v":0},{"$f":"COUNTIF($D$128:$AA$128,$J$148)*$AB$23","v":0},{"$f":"COUNTIF($D$128:$AA$128,$K$148)*$AB$23","v":0},{"$f":"COUNTIF($D$128:$AA$128,$L$148)*$AB$23","v":0},{"$f":"COUNTIF($D$128:$AA$128,$M$148)*$AB$23","v":0},{"$f":"COUNTIF($D$128:$AA$128,$N$148)*$AB$23","v":0},{"$f":"COUNTIF($D$128:$AA$128,$O$148)*$AB$23","v":0},{"$f":"COUNTIF($D$128:$AA$128,$P$148)*$AB$23","v":0},{"$f":"COUNTIF($D$128:$AA$128,$Q$148)*$AB$23","v":0},{"$f":"COUNTIF($D$128:$AA$128,$R$148)*$AB$23","v":0},{"$f":"COUNTIF($D$128:$AA$128,$S$148)*$AB$23","v":0},{"$f":"COUNTIF($D$128:$AA$128,$T$148)*$AB$23","v":0},{"$f":"COUNTIF($D$128:$AA$128,$U$148)*$AB$23","v":0},{"$f":"COUNTIF($D$128:$AA$128,$V$148)*$AB$23","v":0},{"$f":"COUNTIF($D$128:$AA$128,$W$148)*$AB$23","v":0},{"$f":"COUNTIF($D$128:$AA$128,$X$148)*$AB$23","v":0},{"$f":"COUNTIF($D$128:$AA$128,$Y$148)*$AB$23","v":0},{"$f":"COUNTIF($D$128:$AA$128,$Z$148)*$AB$23","v":0},{"$f":"COUNTIF($D$128:$AA$128,$AA$148)*$AB$23","v":0},{"$f":"COUNTIF($D$128:$AA$128,$AB$148)*$AB$23","v":0},{"$f":"COUNTIF($D$128:$AA$128,$AC$148)*$AB$23","v":0},{"$f":"COUNTIF($D$128:$AA$128,$AD$148)*$AB$23","v":0},{"$f":"COUNTIF($D$128:$AA$128,$AE$148)*$AB$23","v":0},{"$f":"COUNTIF($D$128:$AA$128,$AF$148)*$AB$23","v":0},{"$f":"COUNTIF($D$128:$AA$128,$AG$148)*$AB$23","v":0},{"$f":"COUNTIF($D$128:$AA$128,$AH$148)*$AB$23","v":0},{"$f":"COUNTIF($D$128:$AA$128,$AI$148)*$AB$23","v":0},{"$f":"COUNTIF($D$128:$AA$128,$AJ$148)*$AB$23","v":0},{"$f":"COUNTIF($D$128:$AA$128,$AK$148)*$AB$23","v":0},{"$f":"COUNTIF($D$128:$AA$128,$AL$148)*$AB$23","v":0},{"$f":"COUNTIF($D$128:$AA$128,$AM$148)*$AB$23","v":0},{"$f":"COUNTIF($D$128:$AA$128,$AN$148)*$AB$23","v":0},{"$f":"COUNTIF($D$128:$AA$128,$AO$148)*$AB$23","v":0},{"$f":"COUNTIF($D$128:$AA$128,$AP$148)*$AB$23","v":0},{"$f":"COUNTIF($D$128:$AA$128,$AQ$148)*$AB$23","v":0},{"$f":"COUNTIF($D$128:$AA$128,$AR$148)*$AB$23","v":0},{"$f":"COUNTIF($D$128:$AA$128,$AS$148)*$AB$23","v":0},3,null,{"$f":"SUMPRODUCT($D$160:$AS$160,$D$162:$AS$162)","v":0},0,0,{"$f":"AW160*$AY$146","v":0},{"$f":"IFERROR(AX160+AY160,\"\")","v":0},{"$error":"#VALUE!"},{"$f":"AW160*$BB$146","v":0},"",{"$error":"#VALUE!"},{"$f":"AW160*$BE$146","v":0},"",null,{"$error":"#VALUE!"},0,{"$f":"IFERROR(BH160+BI160,\"\")","v":""},{"$error":"#VALUE!"},0,{"$f":"IFERROR(BK160+BL160,\"\")","v":""},{"$error":"#VALUE!"},0,{"$f":"IFERROR(BN160+BO160,\"\")","v":""}]
[null,"tc","冷却運転時間",{"$f":"SUM($D$149:$D$160)","v":0},{"$f":"SUM($E$149:$E$160)","v":0},{"$f":"SUM($F$149:$F$160)","v":0},{"$f":"SUM($G$149:$G$160)","v":0},{"$f":"SUM($H$149:$H$160)","v":0},{"$f":"SUM($I$149:$I$160)","v":0},{"$f":"SUM($J$149:$J$160)","v":0},{"$f":"SUM($K$149:$K$160)","v":0},{"$f":"SUM($L$149:$L$160)","v":0},{"$f":"SUM($M$149:$M$160)","v":0},{"$f":"SUM($N$149:$N$160)","v":0},{"$f":"SUM($O$149:$O$160)","v":0},{"$f":"SUM($P$149:$P$160)","v":0},{"$f":"SUM($Q$149:$Q$160)","v":0},{"$f":"SUM($R$149:$R$160)","v":0},{"$f":"SUM($S$149:$S$160)","v":0},{"$f":"SUM($T$149:$T$160)","v":0},{"$f":"SUM($U$149:$U$160)","v":0},{"$f":"SUM($V$149:$V$160)","v":0},{"$f":"SUM($W$149:$W$160)","v":0},{"$f":"SUM($X$149:$X$160)","v":0},{"$f":"SUM($Y$149:$Y$160)","v":0},{"$f":"SUM($Z$149:$Z$160)","v":0},{"$f":"SUM($AA$149:$AA$160)","v":0},{"$f":"SUM($AB$149:$AB$160)","v":0},{"$f":"SUM($AC$149:$AC$160)","v":0},{"$f":"SUM($AD$149:$AD$160)","v":0},{"$f":"SUM($AE$149:$AE$160)","v":0},{"$f":"SUM($AF$149:$AF$160)","v":0},{"$f":"SUM($AG$149:$AG$160)","v":0},{"$f":"SUM($AH$149:$AH$160)","v":0},{"$f":"SUM($AI$149:$AI$160)","v":0},{"$f":"SUM($AJ$149:$AJ$160)","v":0},{"$f":"SUM($AK$149:$AK$160)","v":0},{"$f":"SUM($AL$149:$AL$160)","v":0},{"$f":"SUM($AM$149:$AM$160)","v":0},{"$f":"SUM($AN$149:$AN$160)","v":0},{"$f":"SUM($AO$149:$AO$160)","v":0},{"$f":"SUM($AP$149:$AP$160)","v":0},{"$f":"SUM($AQ$149:$AQ$160)","v":0},{"$f":"SUM($AR$149:$AR$160)","v":0},{"$f":"SUM($AS$149:$AS$160)","v":0},"冷却運転時間",null,{"$f":"SUM($AV$149:$AV$160)","v":0},{"$f":"SUM(AW149:AW160)","v":0},{"$f":"SUM($AX$149:$AX$160)","v":0},{"$f":"SUM(AY149:AY160)","v":0},{"$f":"SUM(AZ149:AZ160)","v":0},{"$f":"SUM($BA$149:$BA$160)","v":{"$error":"#VALUE!"}},{"$f":"SUM(BB149:BB160)","v":0},{"$f":"SUM(BC149:BC160)","v":0},{"$f":"SUM($BD$149:$BD$160)","v":{"$error":"#VALUE!"}},{"$f":"SUM(BE149:BE160)","v":0},{"$f":"SUM(BF149:BF160)","v":0},null,{"$f":"SUM($BH$149:$BH$160)","v":{"$error":"#VALUE!"}},{"$f":"SUM(BI149:BI160)","v":0},{"$f":"SUM(BJ149:BJ160)","v":0},{"$f":"SUM($BK$149:$BK$160)","v":{"$error":"#VALUE!"}},{"$f":"SUM(BL149:BL160)","v":0},{"$f":"SUM(BM149:BM160)","v":0},{"$f":"SUM($BN$149:$BN$160)","v":{"$error":"#VALUE!"}},{"$f":"SUM(BO149:BO160)","v":0},{"$f":"SUM(BP149:BP160)","v":0}]
[null,"εc","冷却時消費電力比",{"$f":"$D$163/$D$165","v":0},{"$f":"$E$163/$E$165","v":0},{"$f":"$F$163/$F$165","v":0},{"$f":"$G$163/$G$165","v":0},{"$f":"$H$163/$H$165","v":0},{"$f":"$I$163/$I$165","v":0},{"$f":"$J$163/$J$165","v":0},{"$f":"$K$163/$K$165","v":0},{"$f":"$L$163/$L$165","v":0},{"$f":"$M$163/$M$165","v":0},{"$f":"$N$163/$N$165","v":0},{"$f":"$O$163/$O$165","v":0},{"$f":"$P$163/$P$165","v":0},{"$f":"$Q$163/$Q$165","v":0},{"$f":"$R$163/$R$165","v":0},{"$f":"$S$163/$S$165","v":0},{"$f":"$T$163/$T$165","v":0},{"$f":"$U$163/$U$165","v":0},{"$f":"$V$163/$V$165","v":0},{"$f":"$W$163/$W$165","v":4.4599016309824581E-2},{"$f":"$X$163/$X$165","v":9.1903398793550986E-2},{"$f":"$Y$163/$Y$165","v":0.14209951695258602},{"$f":"$Z$163/$Z$165","v":0.19538909863257339},{"$f":"$AA$163/$AA$165","v":0.251990726741256},{"$f":"$AB$163/$AB$165","v":0.31214150548095521},{"$f":"$AC$163/$AC$165","v":0.37609891805582574},{"$f":"$AD$163/$AD$165","v":0.44414290102417586},{"$f":"$AE$163/$AE$165","v":0.51657816419967317},{"$f":"$AF$163/$AF$165","v":0.59373678935643692},{"$f":"$AG$163/$AG$165","v":0.67598114607465876},{"$f":"$AH$163/$AH$165","v":0.76370716901084046},{"$f":"$AI$163/$AI$165","v":0.85734804785278917},{"$f":"$AJ$163/$AJ$165","v":0.95737838942038933},{"$f":"$AK$163/$AK$165","v":1.0643189210360509},{"$f":"$AL$163/$AL$165","v":1.1050704522195833},{"$f":"$AM$163/$AM$165","v":1.1481853527556083},{"$f":"$AN$163/$AN$165","v":1.1938480722314382},{"$f":"$AO$163/$AO$165","v":1.2422612095688699},{"$f":"$AP$163/$AP$165","v":1.2936476724691082},{"$f":"$AQ$163/$AQ$165","v":1.3482531385175869},{"$f":"$AR$163/$AR$165","v":1.4063488663253034},{"$f":"$AS$163/$AS$165","v":1.4682349138275319},"冷却時消費電力比","εc"]
[null,"αc","冷却空調負荷率",{"$f":"IF((1/15)*(D$148-27)+1<0,0,IF((1/15)*(D$148-27)+1>1,1,(1/15)*(D$148-27)+1))","v":0},{"$f":"IF((1/15)*(E$148-27)+1<0,0,IF((1/15)*(E$148-27)+1>1,1,(1/15)*(E$148-27)+1))","v":0},0,0,0,0,0,0,0,0,0,0,0,0,0,0,0,0,0,6.6666666666666652E-2,0.1333333333333333,0.19999999999999996,0.26666666666666672,0.33333333333333337,0.4,0.46666666666666667,0.53333333333333333,0.6,0.66666666666666674,0.73333333333333339,0.8,0.8666666666666667,0.93333333333333335,1,1,1,1,1,1,1,1,1,"冷却空調負荷率","αc"]
[null,"Tc1","冷却水入口(冷却塔出口)温度",{"$f":"(18/15)*(D$148-27)+32","v":-7.6000000000000014},{"$f":"(18/15)*(E$148-27)+32","v":-6.3999999999999986},-5.1999999999999957,-4,-2.7999999999999972,-1.6000000000000014,-0.39999999999999858,0.80000000000000071,2,3.2000000000000028,4.4000000000000021,5.6000000000000014,6.8000000000000007,8,9.1999999999999993,10.400000000000002,11.600000000000001,12.8,14,15.2,16.399999999999999,17.600000000000001,18.8,20,21.200000000000003,22.4,23.6,24.8,26,27.2,28.4,29.6,30.8,32,33.200000000000003,34.4,35.6,36.799999999999997,38,39.200000000000003,40.4,41.6,"冷却水入口(冷却塔出口)温度","Tc1"]
[null,"βc","冷却COP比",{"$f":"2.32/10000*D$164*D$164-4.4/100*D$164+2.11","v":2.45780032},{"$f":"2.32/10000*E$164*E$164-4.4/100*E$164+2.11","v":2.4011027199999999},2.3450732799999998,2.2897119999999997,2.2350188799999997,2.1809939200000001,2.1276371199999997,2.0749484799999998,2.0229279999999998,1.9715756799999997,1.9208915199999999,1.8708755199999998,1.8215276799999998,1.7728479999999998,1.72483648,1.6774931199999998,1.6308179199999997,1.5848108799999998,1.5394719999999997,1.4948012799999999,1.4507987199999999,1.4074643199999999,1.3647980799999997,1.3227999999999998,1.2814700799999996,1.2408083199999997,1.2008147199999997,1.1614892799999996,1.1228319999999998,1.0848428799999998,1.0475219199999999,1.0108691199999997,0.97488447999999961,0.93956799999999974,0.90491967999999945,0.87093951999999986,0.83762751999999963,0.80498367999999987,0.7730079999999997,0.74170047999999955,0.71106111999999966,0.68108991999999957,"冷却COP比","βc"]
[null,null,"Σ",{"$f":"$D$161*$D$162","v":0},{"$f":"$E$161*$E$162","v":0},{"$f":"$F$161*$F$162","v":0},{"$f":"$G$161*$G$162","v":0},{"$f":"$H$161*$H$162","v":0},{"$f":"$I$161*$I$162","v":0},{"$f":"$J$161*$J$162","v":0},{"$f":"$K$161*$K$162","v":0},{"$f":"$L$161*$L$162","v":0},{"$f":"$M$161*$M$162","v":0},{"$f":"$N$161*$N$162","v":0},{"$f":"$O$161*$O$162","v":0},{"$f":"$P$161*$P$162","v":0},{"$f":"$Q$161*$Q$162","v":0},{"$f":"$R$161*$R$162","v":0},{"$f":"$S$161*$S$162","v":0},{"$f":"$T$161*$T$162","v":0},{"$f":"$U$161*$U$162","v":0},{"$f":"$V$161*$V$162","v":0},{"$f":"$W$161*$W$162","v":0},{"$f":"$X$161*$X$162","v":0},{"$f":"$Y$161*$Y$162","v":0},{"$f":"$Z$161*$Z$162","v":0},{"$f":"$AA$161*$AA$162","v":0},{"$f":"$AB$161*$AB$162","v":0},{"$f":"$AC$161*$AC$162","v":0},{"$f":"$AD$161*$AD$162","v":0},{"$f":"$AE$161*$AE$162","v":0},{"$f":"$AF$161*$AF$162","v":0},{"$f":"$AG$161*$AG$162","v":0},{"$f":"$AH$161*$AH$162","v":0},{"$f":"$AI$161*$AI$162","v":0},{"$f":"$AJ$161*$AJ$162","v":0},{"$f":"$AK$161*$AK$162","v":0},{"$f":"$AL$161*$AL$162","v":0},{"$f":"$AM$161*$AM$162","v":0},{"$f":"$AN$161*$AN$162","v":0},{"$f":"$AO$161*$AO$162","v":0},{"$f":"$AP$161*$AP$162","v":0},{"$f":"$AQ$161*$AQ$162","v":0},{"$f":"$AR$161*$AR$162","v":0},{"$f":"$AS$161*$AS$162","v":0},{"$f":"SUM($D$166:$AS$166)","v":0}]
[]
[null,null,"加熱期間中　外気湿球温度(Tw)が発生する時間[hour]",null,null,null,null,null,null,null,null,null,null,null,null,null,null,null,null,null,null,null,null,null,null,null,null,null,null,null,null,null,null,null,null,null,null,null,null,null,null,null,null,null,null,null,null,null,null,null,{"$f":"Q37+Q38","v":4.4000000000000004},null,null,{"$f":"R37+R38","v":0},null,null,{"$f":"S37+S38","v":0},null,null,null,{"$f":"Q51+Q52","v":0},null,null,{"$f":"R51+R52","v":0},null,null,{"$f":"S51+S52","v":0}]
[null,null,null,"外気湿球温度(Tw)",null,null,null,null,null,null,null,null,null,null,null,null,null,null,null,null,null,null,null,null,null,null,null,null,null,null,null,null,null,null,null,null,null,null,null,null,null,null,null,null,null,null,null,null,null,"前1",null,null,"前2",null,null,"前3",null,null,null,"後1",null,null,"後2",null,null,"後3"]
[null,null,"月",-6,-5,-4,-3,-2,-1,0,1,2,3,4,5,6,7,8,9,10,11,12,13,14,15,16,17,18,19,20,21,22,23,24,25,26,27,28,29,30,31,32,33,34,35,"月",null,"EwwのΣ","EaxwのΣ","Eww","Eaxw","Ew","Eww","Eaxw","Ew","Eww","Eaxw","Ew",null,"Eww","Eaxw","Ew","Eww","Eaxw","Ew","Eww","Eaxw","Ew"]
[null,null,4,{"$f":"COUNTIF($D$133:$AA$133,$D$170)*$AB$12","v":0},{"$f":"COUNTIF($D$133:$AA$133,$E$170)*$AB$12","v":0},{"$f":"COUNTIF($D$133:$AA$133,$F$170)*$AB$12","v":0},{"$f":"COUNTIF($D$133:$AA$133,$G$170)*$AB$12","v":0},{"$f":"COUNTIF($D$133:$AA$133,$H$170)*$AB$12","v":0},{"$f":"COUNTIF($D$133:$AA$133,$I$170)*$AB$12","v":0},{"$f":"COUNTIF($D$133:$AA$133,$J$170)*$AB$12","v":0},{"$f":"COUNTIF($D$133:$AA$133,$K$170)*$AB$12","v":0},{"$f":"COUNTIF($D$133:$AA$133,$L$170)*$AB$12","v":0},{"$f":"COUNTIF($D$133:$AA$133,$M$170)*$AB$12","v":0},{"$f":"COUNTIF($D$133:$AA$133,$N$170)*$AB$12","v":0},{"$f":"COUNTIF($D$133:$AA$133,$O$170)*$AB$12","v":0},{"$f":"COUNTIF($D$133:$AA$133,$P$170)*$AB$12","v":0},{"$f":"COUNTIF($D$133:$AA$133,$Q$170)*$AB$12","v":0},{"$f":"COUNTIF($D$133:$AA$133,$R$170)*$AB$12","v":0},{"$f":"COUNTIF($D$133:$AA$133,$S$170)*$AB$12","v":0},{"$f":"COUNTIF($D$133:$AA$133,$T$170)*$AB$12","v":0},{"$f":"COUNTIF($D$133:$AA$133,$U$170)*$AB$12","v":0},{"$f":"COUNTIF($D$133:$AA$133,$V$170)*$AB$12","v":0},{"$f":"COUNTIF($D$133:$AA$133,$W$170)*$AB$12","v":0},{"$f":"COUNTIF($D$133:$AA$133,$X$170)*$AB$12","v":0},{"$f":"COUNTIF($D$133:$AA$133,$Y$170)*$AB$12","v":0},{"$f":"COUNTIF($D$133:$AA$133,$Z$170)*$AB$12","v":0},{"$f":"COUNTIF($D$133:$AA$133,$AA$170)*$AB$12","v":0},{"$f":"COUNTIF($D$133:$AA$133,$AB$170)*$AB$12","v":0},{"$f":"COUNTIF($D$133:$AA$133,$AC$170)*$AB$12","v":0},{"$f":"COUNTIF($D$133:$AA$133,$AD$170)*$AB$12","v":0},{"$f":"COUNTIF($D$133:$AA$133,$AE$170)*$AB$12","v":0},{"$f":"COUNTIF($D$133:$AA$133,$AF$170)*$AB$12","v":0},{"$f":"COUNTIF($D$133:$AA$133,$AG$170)*$AB$12","v":0},{"$f":"COUNTIF($D$133:$AA$133,$AH$170)*$AB$12","v":0},{"$f":"COUNTIF($D$133:$AA$133,$AI$170)*$AB$12","v":0},{"$f":"COUNTIF($D$133:$AA$133,$AJ$170)*$AB$12","v":0},{"$f":"COUNTIF($D$133:$AA$133,$AK$170)*$AB$12","v":0},{"$f":"COUNTIF($D$133:$AA$133,$AL$170)*$AB$12","v":0},{"$f":"COUNTIF($D$133:$AA$133,$AM$170)*$AB$12","v":0},{"$f":"COUNTIF($D$133:$AA$133,$AN$170)*$AB$12","v":0},{"$f":"COUNTIF($D$133:$AA$133,$AO$170)*$AB$12","v":0},{"$f":"COUNTIF($D$133:$AA$133,$AP$170)*$AB$12","v":0},{"$f":"COUNTIF($D$133:$AA$133,$AQ$170)*$AB$12","v":0},{"$f":"COUNTIF($D$133:$AA$133,$AR$170)*$AB$12","v":0},{"$f":"COUNTIF($D$133:$AA$133,$AS$170)*$AB$12","v":0},4,null,{"$f":"SUMPRODUCT($D$171:$AS$171,$D$184:$AS$184)","v":0},{"$f":"SUMPRODUCT($D171:$AS171,$D$192:$AS$192)","v":0},{"$f":"IFERROR(($Q$29*$C$7)/$Q$34*$AV171*$Q$40,\"\")","v":""},{"$f":"AW171*$AY$168","v":0},{"$f":"IFERROR(AX171+AY171,\"\")","v":""},{"$f":"IFERROR(($R$29*$C$7)/$R$34*$AV171*$R$40,\"\")","v":""},{"$f":"AW171*$BB$168","v":0},{"$f":"IFERROR(BA171+BB171,\"\")","v":""},{"$f":"IFERROR(($S$29*$C$7)/$S$34*$AV171*$S$40,\"\")","v":""},{"$f":"AW171*$BE$168","v":0},{"$f":"IFERROR(BD171+BE171,\"\")","v":""},null,{"$f":"IFERROR(($Q$43*$C$7)/$Q$48*$AV171*$Q$54,\"\")","v":""},{"$f":"AW171*$BI$168","v":0},{"$f":"IFERROR(BH171+BI171,\"\")","v":""},{"$f":"IFERROR(($R$43*$C$7)/$R$48*$AV171*$R$54,\"\")","v":""},{"$f":"AW171*$BL$168","v":0},{"$f":"IFERROR(BK171+BL171,\"\")","v":""},{"$f":"IFERROR(($S$43*$C$7)/$S$48*$AV171*$S$54,\"\")","v":""},{"$f":"AW171*$BO$168","v":0},{"$f":"IFERROR(BN171+BO171,\"\")","v":""}]
[null,null,5,{"$f":"COUNTIF($D$134:$AA$134,$D$170)*$AB$13","v":0},{"$f":"COUNTIF($D$134:$AA$134,$E$170)*$AB$13","v":0},{"$f":"COUNTIF($D$134:$AA$134,$F$170)*$AB$13","v":0},{"$f":"COUNTIF($D$134:$AA$134,$G$170)*$AB$13","v":0},{"$f":"COUNTIF($D$134:$AA$134,$H$170)*$AB$13","v":0},{"$f":"COUNTIF($D$134:$AA$134,$I$170)*$AB$13","v":0},{"$f":"COUNTIF($D$134:$AA$134,$J$170)*$AB$13","v":0},{"$f":"COUNTIF($D$134:$AA$134,$K$170)*$AB$13","v":0},{"$f":"COUNTIF($D$134:$AA$134,$L$170)*$AB$13","v":0},{"$f":"COUNTIF($D$134:$AA$134,$M$170)*$AB$13","v":0},{"$f":"COUNTIF($D$134:$AA$134,$N$170)*$AB$13","v":0},{"$f":"COUNTIF($D$134:$AA$134,$O$170)*$AB$13","v":0},{"$f":"COUNTIF($D$134:$AA$134,$P$170)*$AB$13","v":0},{"$f":"COUNTIF($D$134:$AA$134,$Q$170)*$AB$13","v":0},{"$f":"COUNTIF($D$134:$AA$134,$R$170)*$AB$13","v":0},{"$f":"COUNTIF($D$134:$AA$134,$S$170)*$AB$13","v":0},{"$f":"COUNTIF($D$134:$AA$134,$T$170)*$AB$13","v":0},{"$f":"COUNTIF($D$134:$AA$134,$U$170)*$AB$13","v":0},{"$f":"COUNTIF($D$134:$AA$134,$V$170)*$AB$13","v":0},{"$f":"COUNTIF($D$134:$AA$134,$W$170)*$AB$13","v":0},{"$f":"COUNTIF($D$134:$AA$134,$X$170)*$AB$13","v":0},{"$f":"COUNTIF($D$134:$AA$134,$Y$170)*$AB$13","v":0},{"$f":"COUNTIF($D$134:$AA$134,$Z$170)*$AB$13","v":0},{"$f":"COUNTIF($D$134:$AA$134,$AA$170)*$AB$13","v":0},{"$f":"COUNTIF($D$134:$AA$134,$AB$170)*$AB$13","v":0},{"$f":"COUNTIF($D$134:$AA$134,$AC$170)*$AB$13","v":0},{"$f":"COUNTIF($D$134:$AA$134,$AD$170)*$AB$13","v":0},{"$f":"COUNTIF($D$134:$AA$134,$AE$170)*$AB$13","v":0},{"$f":"COUNTIF($D$134:$AA$134,$AF$170)*$AB$13","v":0},{"$f":"COUNTIF($D$134:$AA$134,$AG$170)*$AB$13","v":0},{"$f":"COUNTIF($D$134:$AA$134,$AH$170)*$AB$13","v":0},{"$f":"COUNTIF($D$134:$AA$134,$AI$170)*$AB$13","v":0},{"$f":"COUNTIF($D$134:$AA$134,$AJ$170)*$AB$13","v":0},{"$f":"COUNTIF($D$134:$AA$134,$AK$170)*$AB$13","v":0},{"$f":"COUNTIF($D$134:$AA$134,$AL$170)*$AB$13","v":0},{"$f":"COUNTIF($D$134:$AA$134,$AM$170)*$AB$13","v":0},{"$f":"COUNTIF($D$134:$AA$134,$AN$170)*$AB$13","v":0},{"$f":"COUNTIF($D$134:$AA$134,$AO$170)*$AB$13","v":0},{"$f":"COUNTIF($D$134:$AA$134,$AP$170)*$AB$13","v":0},{"$f":"COUNTIF($D$134:$AA$134,$AQ$170)*$AB$13","v":0},{"$f":"COUNTIF($D$134:$AA$134,$AR$170)*$AB$13","v":0},{"$f":"COUNTIF($D$134:$AA$134,$AS$170)*$AB$13","v":0},5,null,{"$f":"SUMPRODUCT($D$172:$AS$172,$D$184:$AS$184)","v":0},{"$f":"SUMPRODUCT($D172:$AS172,$D$192:$AS$192)","v":0},"",{"$f":"AW172*$AY$168","v":0},{"$f":"IFERROR(AX172+AY172,\"\")","v":""},"",{"$f":"AW172*$BB$168","v":0},{"$f":"IFERROR(BA172+BB172,\"\")","v":""},"",{"$f":"AW172*$BE$168","v":0},{"$f":"IFERROR(BD172+BE172,\"\")","v":""},null,"",{"$f":"AW172*$BI$168","v":0},{"$f":"IFERROR(BH172+BI172,\"\")","v":""},"",{"$f":"AW172*$BL$168","v":0},{"$f":"IFERROR(BK172+BL172,\"\")","v":""},"",{"$f":"AW172*$BO$168","v":0},{"$f":"IFERROR(BN172+BO172,\"\")","v":""}]
[null,null,6,{"$f":"COUNTIF($D$135:$AA$135,$D$170)*$AB$14","v":0},{"$f":"COUNTIF($D$135:$AA$135,$E$170)*$AB$14","v":0},{"$f":"COUNTIF($D$135:$AA$135,$F$170)*$AB$14","v":0},{"$f":"COUNTIF($D$135:$AA$135,$G$170)*$AB$14","v":0},{"$f":"COUNTIF($D$135:$AA$135,$H$170)*$AB$14","v":0},{"$f":"COUNTIF($D$135:$AA$135,$I$170)*$AB$14","v":0},{"$f":"COUNTIF($D$135:$AA$135,$J$170)*$AB$14","v":0},{"$f":"COUNTIF($D$135:$AA$135,$K$170)*$AB$14","v":0},{"$f":"COUNTIF($D$135:$AA$135,$L$170)*$AB$14","v":0},{"$f":"COUNTIF($D$135:$AA$135,$M$170)*$AB$14","v":0},{"$f":"COUNTIF($D$135:$AA$135,$N$170)*$AB$14","v":0},{"$f":"COUNTIF($D$135:$AA$135,$O$170)*$AB$14","v":0},{"$f":"COUNTIF($D$135:$AA$135,$P$170)*$AB$14","v":0},{"$f":"COUNTIF($D$135:$AA$135,$Q$170)*$AB$14","v":0},{"$f":"COUNTIF($D$135:$AA$135,$R$170)*$AB$14","v":0},{"$f":"COUNTIF($D$135:$AA$135,$S$170)*$AB$14","v":0},{"$f":"COUNTIF($D$135:$AA$135,$T$170)*$AB$14","v":0},{"$f":"COUNTIF($D$135:$AA$135,$U$170)*$AB$14","v":0},{"$f":"COUNTIF($D$135:$AA$135,$V$170)*$AB$14","v":0},{"$f":"COUNTIF($D$135:$AA$135,$W$170)*$AB$14","v":0},{"$f":"COUNTIF($D$135:$AA$135,$X$170)*$AB$14","v":0},{"$f":"COUNTIF($D$135:$AA$135,$Y$170)*$AB$14","v":0},{"$f":"COUNTIF($D$135:$AA$135,$Z$170)*$AB$14","v":0},{"$f":"COUNTIF($D$135:$AA$135,$AA$170)*$AB$14","v":0},{"$f":"COUNTIF($D$135:$AA$135,$AB$170)*$AB$14","v":0},{"$f":"COUNTIF($D$135:$AA$135,$AC$170)*$AB$14","v":0},{"$f":"COUNTIF($D$135:$AA$135,$AD$170)*$AB$14","v":0},{"$f":"COUNTIF($D$135:$AA$135,$AE$170)*$AB$14","v":0},{"$f":"COUNTIF($D$135:$AA$135,$AF$170)*$AB$14","v":0},{"$f":"COUNTIF($D$135:$AA$135,$AG$170)*$AB$14","v":0},{"$f":"COUNTIF($D$135:$AA$135,$AH$170)*$AB$14","v":0},{"$f":"COUNTIF($D$135:$AA$135,$AI$170)*$AB$14","v":0},{"$f":"COUNTIF($D$135:$AA$135,$AJ$170)*$AB$14","v":0},{"$f":"COUNTIF($D$135:$AA$135,$AK$170)*$AB$14","v":0},{"$f":"COUNTIF($D$135:$AA$135,$AL$170)*$AB$14","v":0},{"$f":"COUNTIF($D$135:$AA$135,$AM$170)*$AB$14","v":0},{"$f":"COUNTIF($D$135:$AA$135,$AN$170)*$AB$14","v":0},{"$f":"COUNTIF($D$135:$AA$135,$AO$170)*$AB$14","v":0},{"$f":"COUNTIF($D$135:$AA$135,$AP$170)*$AB$14","v":0},{"$f":"COUNTIF($D$135:$AA$135,$AQ$170)*$AB$14","v":0},{"$f":"COUNTIF($D$135:$AA$135,$AR$170)*$AB$14","v":0},{"$f":"COUNTIF($D$135:$AA$135,$AS$170)*$AB$14","v":0},6,null,{"$f":"SUMPRODUCT($D$173:$AS$173,$D$184:$AS$184)","v":0},0,"",0,"","",0,{"$f":"IFERROR(BA173+BB173,\"\")","v":""},"",0,"",null,"",0,"","",0,"","",0,""]
[null,null,7,{"$f":"COUNTIF($D$136:$AA$136,$D$170)*$AB$15","v":0},{"$f":"COUNTIF($D$136:$AA$136,$E$170)*$AB$15","v":0},{"$f":"COUNTIF($D$136:$AA$136,$F$170)*$AB$15","v":0},{"$f":"COUNTIF($D$136:$AA$136,$G$170)*$AB$15","v":0},{"$f":"COUNTIF($D$136:$AA$136,$H$170)*$AB$15","v":0},{"$f":"COUNTIF($D$136:$AA$136,$I$170)*$AB$15","v":0},{"$f":"COUNTIF($D$136:$AA$136,$J$170)*$AB$15","v":0},{"$f":"COUNTIF($D$136:$AA$136,$K$170)*$AB$15","v":0},{"$f":"COUNTIF($D$136:$AA$136,$L$170)*$AB$15","v":0},{"$f":"COUNTIF($D$136:$AA$136,$M$170)*$AB$15","v":0},{"$f":"COUNTIF($D$136:$AA$136,$N$170)*$AB$15","v":0},{"$f":"COUNTIF($D$136:$AA$136,$O$170)*$AB$15","v":0},{"$f":"COUNTIF($D$136:$AA$136,$P$170)*$AB$15","v":0},{"$f":"COUNTIF($D$136:$AA$136,$Q$170)*$AB$15","v":0},{"$f":"COUNTIF($D$136:$AA$136,$R$170)*$AB$15","v":0},{"$f":"COUNTIF($D$136:$AA$136,$S$170)*$AB$15","v":0},{"$f":"COUNTIF($D$136:$AA$136,$T$170)*$AB$15","v":0},{"$f":"COUNTIF($D$136:$AA$136,$U$170)*$AB$15","v":0},{"$f":"COUNTIF($D$136:$AA$136,$V$170)*$AB$15","v":0},{"$f":"COUNTIF($D$136:$AA$136,$W$170)*$AB$15","v":0},{"$f":"COUNTIF($D$136:$AA$136,$X$170)*$AB$15","v":0},{"$f":"COUNTIF($D$136:$AA$136,$Y$170)*$AB$15","v":0},{"$f":"COUNTIF($D$136:$AA$136,$Z$170)*$AB$15","v":0},{"$f":"COUNTIF($D$136:$AA$136,$AA$170)*$AB$15","v":0},{"$f":"COUNTIF($D$136:$AA$136,$AB$170)*$AB$15","v":0},{"$f":"COUNTIF($D$136:$AA$136,$AC$170)*$AB$15","v":0},{"$f":"COUNTIF($D$136:$AA$136,$AD$170)*$AB$15","v":0},{"$f":"COUNTIF($D$136:$AA$136,$AE$170)*$AB$15","v":0},{"$f":"COUNTIF($D$136:$AA$136,$AF$170)*$AB$15","v":0},{"$f":"COUNTIF($D$136:$AA$136,$AG$170)*$AB$15","v":0},{"$f":"COUNTIF($D$136:$AA$136,$AH$170)*$AB$15","v":0},{"$f":"COUNTIF($D$136:$AA$136,$AI$170)*$AB$15","v":0},{"$f":"COUNTIF($D$136:$AA$136,$AJ$170)*$AB$15","v":0},{"$f":"COUNTIF($D$136:$AA$136,$AK$170)*$AB$15","v":0},{"$f":"COUNTIF($D$136:$AA$136,$AL$170)*$AB$15","v":0},{"$f":"COUNTIF($D$136:$AA$136,$AM$170)*$AB$15","v":0},{"$f":"COUNTIF($D$136:$AA$136,$AN$170)*$AB$15","v":0},{"$f":"COUNTIF($D$136:$AA$136,$AO$170)*$AB$15","v":0},{"$f":"COUNTIF($D$136:$AA$136,$AP$170)*$AB$15","v":0},{"$f":"COUNTIF($D$136:$AA$136,$AQ$170)*$AB$15","v":0},{"$f":"COUNTIF($D$136:$AA$136,$AR$170)*$AB$15","v":0},{"$f":"COUNTIF($D$136:$AA$136,$AS$170)*$AB$15","v":0},7,null,{"$f":"SUMPRODUCT($D$174:$AS$174,$D$184:$AS$184)","v":0},0,"",0,"","",0,"","",0,"",null,"",0,"","",0,"","",0,""]
[null,null,8,{"$f":"COUNTIF($D$137:$AA$137,$D$170)*$AB$16","v":0},{"$f":"COUNTIF($D$137:$AA$137,$E$170)*$AB$16","v":0},{"$f":"COUNTIF($D$137:$AA$137,$F$170)*$AB$16","v":0},{"$f":"COUNTIF($D$137:$AA$137,$G$170)*$AB$16","v":0},{"$f":"COUNTIF($D$137:$AA$137,$H$170)*$AB$16","v":0},{"$f":"COUNTIF($D$137:$AA$137,$I$170)*$AB$16","v":0},{"$f":"COUNTIF($D$137:$AA$137,$J$170)*$AB$16","v":0},{"$f":"COUNTIF($D$137:$AA$137,$K$170)*$AB$16","v":0},{"$f":"COUNTIF($D$137:$AA$137,$L$170)*$AB$16","v":0},{"$f":"COUNTIF($D$137:$AA$137,$M$170)*$AB$16","v":0},{"$f":"COUNTIF($D$137:$AA$137,$N$170)*$AB$16","v":0},{"$f":"COUNTIF($D$137:$AA$137,$O$170)*$AB$16","v":0},{"$f":"COUNTIF($D$137:$AA$137,$P$170)*$AB$16","v":0},{"$f":"COUNTIF($D$137:$AA$137,$Q$170)*$AB$16","v":0},{"$f":"COUNTIF($D$137:$AA$137,$R$170)*$AB$16","v":0},{"$f":"COUNTIF($D$137:$AA$137,$S$170)*$AB$16","v":0},{"$f":"COUNTIF($D$137:$AA$137,$T$170)*$AB$16","v":0},{"$f":"COUNTIF($D$137:$AA$137,$U$170)*$AB$16","v":0},{"$f":"COUNTIF($D$137:$AA$137,$V$170)*$AB$16","v":0},{"$f":"COUNTIF($D$137:$AA$137,$W$170)*$AB$16","v":0},{"$f":"COUNTIF($D$137:$AA$137,$X$170)*$AB$16","v":0},{"$f":"COUNTIF($D$137:$AA$137,$Y$170)*$AB$16","v":0},{"$f":"COUNTIF($D$137:$AA$137,$Z$170)*$AB$16","v":0},{"$f":"COUNTIF($D$137:$AA$137,$AA$170)*$AB$16","v":0},{"$f":"COUNTIF($D$137:$AA$137,$AB$170)*$AB$16","v":0},{"$f":"COUNTIF($D$137:$AA$137,$AC$170)*$AB$16","v":0},{"$f":"COUNTIF($D$137:$AA$137,$AD$170)*$AB$16","v":0},{"$f":"COUNTIF($D$137:$AA$137,$AE$170)*$AB$16","v":0},{"$f":"COUNTIF($D$137:$AA$137,$AF$170)*$AB$16","v":0},{"$f":"COUNTIF($D$137:$AA$137,$AG$170)*$AB$16","v":0},{"$f":"COUNTIF($D$137:$AA$137,$AH$170)*$AB$16","v":0},{"$f":"COUNTIF($D$137:$AA$137,$AI$170)*$AB$16","v":0},{"$f":"COUNTIF($D$137:$AA$137,$AJ$170)*$AB$16","v":0},{"$f":"COUNTIF($D$137:$AA$137,$AK$170)*$AB$16","v":0},{"$f":"COUNTIF($D$137:$AA$137,$AL$170)*$AB$16","v":0},{"$f":"COUNTIF($D$137:$AA$137,$AM$170)*$AB$16","v":0},{"$f":"COUNTIF($D$137:$AA$137,$AN$170)*$AB$16","v":0},{"$f":"COUNTIF($D$137:$AA$137,$AO$170)*$AB$16","v":0},{"$f":"COUNTIF($D$137:$AA$137,$AP$170)*$AB$16","v":0},{"$f":"COUNTIF($D$137:$AA$137,$AQ$170)*$AB$16","v":0},{"$f":"COUNTIF($D$137:$AA$137,$AR$170)*$AB$16","v":0},{"$f":"COUNTIF($D$137:$AA$137,$AS$170)*$AB$16","v":0},8,null,{"$f":"SUMPRODUCT($D$175:$AS$175,$D$184:$AS$184)","v":0},0,"",0,"","",0,"","",0,"",null,"",0,"","",0,"","",0,""]
[null,null,9,{"$f":"COUNTIF($D$138:$AA$138,$D$170)*$AB$17","v":0},{"$f":"COUNTIF($D$138:$AA$138,$E$170)*$AB$17","v":0},{"$f":"COUNTIF($D$138:$AA$138,$F$170)*$AB$17","v":0},{"$f":"COUNTIF($D$138:$AA$138,$G$170)*$AB$17","v":0},{"$f":"COUNTIF($D$138:$AA$138,$H$170)*$AB$17","v":0},{"$f":"COUNTIF($D$138:$AA$138,$I$170)*$AB$17","v":0},{"$f":"COUNTIF($D$138:$AA$138,$J$170)*$AB$17","v":0},{"$f":"COUNTIF($D$138:$AA$138,$K$170)*$AB$17","v":0},{"$f":"COUNTIF($D$138:$AA$138,$L$170)*$AB$17","v":0},{"$f":"COUNTIF($D$138:$AA$138,$M$170)*$AB$17","v":0},{"$f":"COUNTIF($D$138:$AA$138,$N$170)*$AB$17","v":0},{"$f":"COUNTIF($D$138:$AA$138,$O$170)*$AB$17","v":0},{"$f":"COUNTIF($D$138:$AA$138,$P$170)*$AB$17","v":0},{"$f":"COUNTIF($D$138:$AA$138,$Q$170)*$AB$17","v":0},{"$f":"COUNTIF($D$138:$AA$138,$R$170)*$AB$17","v":0},{"$f":"COUNTIF($D$138:$AA$138,$S$170)*$AB$17","v":0},{"$f":"COUNTIF($D$138:$AA$138,$T$170)*$AB$17","v":0},{"$f":"COUNTIF($D$138:$AA$138,$U$170)*$AB$17","v":0},{"$f":"COUNTIF($D$138:$AA$138,$V$170)*$AB$17","v":0},{"$f":"COUNTIF($D$138:$AA$138,$W$170)*$AB$17","v":0},{"$f":"COUNTIF($D$138:$AA$138,$X$170)*$AB$17","v":0},{"$f":"COUNTIF($D$138:$AA$138,$Y$170)*$AB$17","v":0},{"$f":"COUNTIF($D$138:$AA$138,$Z$170)*$AB$17","v":0},{"$f":"COUNTIF($D$138:$AA$138,$AA$170)*$AB$17","v":0},{"$f":"COUNTIF($D$138:$AA$138,$AB$170)*$AB$17","v":0},{"$f":"COUNTIF($D$138:$AA$138,$AC$170)*$AB$17","v":0},{"$f":"COUNTIF($D$138:$AA$138,$AD$170)*$AB$17","v":0},{"$f":"COUNTIF($D$138:$AA$138,$AE$170)*$AB$17","v":0},{"$f":"COUNTIF($D$138:$AA$138,$AF$170)*$AB$17","v":0},{"$f":"COUNTIF($D$138:$AA$138,$AG$170)*$AB$17","v":0},{"$f":"COUNTIF($D$138:$AA$138,$AH$170)*$AB$17","v":0},{"$f":"COUNTIF($D$138:$AA$138,$AI$170)*$AB$17","v":0},{"$f":"COUNTIF($D$138:$AA$138,$AJ$170)*$AB$17","v":0},{"$f":"COUNTIF($D$138:$AA$138,$AK$170)*$AB$17","v":0},{"$f":"COUNTIF($D$138:$AA$138,$AL$170)*$AB$17","v":0},{"$f":"COUNTIF($D$138:$AA$138,$AM$170)*$AB$17","v":0},{"$f":"COUNTIF($D$138:$AA$138,$AN$170)*$AB$17","v":0},{"$f":"COUNTIF($D$138:$AA$138,$AO$170)*$AB$17","v":0},{"$f":"COUNTIF($D$138:$AA$138,$AP$170)*$AB$17","v":0},{"$f":"COUNTIF($D$138:$AA$138,$AQ$170)*$AB$17","v":0},{"$f":"COUNTIF($D$138:$AA$138,$AR$170)*$AB$17","v":0},{"$f":"COUNTIF($D$138:$AA$138,$AS$170)*$AB$17","v":0},9,null,{"$f":"SUMPRODUCT($D$176:$AS$176,$D$184:$AS$184)","v":0},0,"",0,"","",0,"","",0,"",null,"",0,"","",0,"","",0,""]
[null,null,10,{"$f":"COUNTIF($D$139:$AA$139,$D$170)*$AB$18","v":0},{"$f":"COUNTIF($D$139:$AA$139,$E$170)*$AB$18","v":0},{"$f":"COUNTIF($D$139:$AA$139,$F$170)*$AB$18","v":0},{"$f":"COUNTIF($D$139:$AA$139,$G$170)*$AB$18","v":0},{"$f":"COUNTIF($D$139:$AA$139,$H$170)*$AB$18","v":0},{"$f":"COUNTIF($D$139:$AA$139,$I$170)*$AB$18","v":0},{"$f":"COUNTIF($D$139:$AA$139,$J$170)*$AB$18","v":0},{"$f":"COUNTIF($D$139:$AA$139,$K$170)*$AB$18","v":0},{"$f":"COUNTIF($D$139:$AA$139,$L$170)*$AB$18","v":0},{"$f":"COUNTIF($D$139:$AA$139,$M$170)*$AB$18","v":0},{"$f":"COUNTIF($D$139:$AA$139,$N$170)*$AB$18","v":0},{"$f":"COUNTIF($D$139:$AA$139,$O$170)*$AB$18","v":0},{"$f":"COUNTIF($D$139:$AA$139,$P$170)*$AB$18","v":0},{"$f":"COUNTIF($D$139:$AA$139,$Q$170)*$AB$18","v":0},{"$f":"COUNTIF($D$139:$AA$139,$R$170)*$AB$18","v":0},{"$f":"COUNTIF($D$139:$AA$139,$S$170)*$AB$18","v":0},{"$f":"COUNTIF($D$139:$AA$139,$T$170)*$AB$18","v":0},{"$f":"COUNTIF($D$139:$AA$139,$U$170)*$AB$18","v":0},{"$f":"COUNTIF($D$139:$AA$139,$V$170)*$AB$18","v":0},{"$f":"COUNTIF($D$139:$AA$139,$W$170)*$AB$18","v":0},{"$f":"COUNTIF($D$139:$AA$139,$X$170)*$AB$18","v":0},{"$f":"COUNTIF($D$139:$AA$139,$Y$170)*$AB$18","v":0},{"$f":"COUNTIF($D$139:$AA$139,$Z$170)*$AB$18","v":0},{"$f":"COUNTIF($D$139:$AA$139,$AA$170)*$AB$18","v":0},{"$f":"COUNTIF($D$139:$AA$139,$AB$170)*$AB$18","v":0},{"$f":"COUNTIF($D$139:$AA$139,$AC$170)*$AB$18","v":0},{"$f":"COUNTIF($D$139:$AA$139,$AD$170)*$AB$18","v":0},{"$f":"COUNTIF($D$139:$AA$139,$AE$170)*$AB$18","v":0},{"$f":"COUNTIF($D$139:$AA$139,$AF$170)*$AB$18","v":0},{"$f":"COUNTIF($D$139:$AA$139,$AG$170)*$AB$18","v":0},{"$f":"COUNTIF($D$139:$AA$139,$AH$170)*$AB$18","v":0},{"$f":"COUNTIF($D$139:$AA$139,$AI$170)*$AB$18","v":0},{"$f":"COUNTIF($D$139:$AA$139,$AJ$170)*$AB$18","v":0},{"$f":"COUNTIF($D$139:$AA$139,$AK$170)*$AB$18","v":0},{"$f":"COUNTIF($D$139:$AA$139,$AL$170)*$AB$18","v":0},{"$f":"COUNTIF($D$139:$AA$139,$AM$170)*$AB$18","v":0},{"$f":"COUNTIF($D$139:$AA$139,$AN$170)*$AB$18","v":0},{"$f":"COUNTIF($D$139:$AA$139,$AO$170)*$AB$18","v":0},{"$f":"COUNTIF($D$139:$AA$139,$AP$170)*$AB$18","v":0},{"$f":"COUNTIF($D$139:$AA$139,$AQ$170)*$AB$18","v":0},{"$f":"COUNTIF($D$139:$AA$139,$AR$170)*$AB$18","v":0},{"$f":"COUNTIF($D$139:$AA$139,$AS$170)*$AB$18","v":0},10,null,{"$f":"SUMPRODUCT($D$177:$AS$177,$D$184:$AS$184)","v":0},0,"",0,"","",0,"","",0,"",null,"",0,"","",0,"","",0,""]
[null,null,11,{"$f":"COUNTIF($D$140:$AA$140,$D$170)*$AB$19","v":0},{"$f":"COUNTIF($D$140:$AA$140,$E$170)*$AB$19","v":0},{"$f":"COUNTIF($D$140:$AA$140,$F$170)*$AB$19","v":0},{"$f":"COUNTIF($D$140:$AA$140,$G$170)*$AB$19","v":0},{"$f":"COUNTIF($D$140:$AA$140,$H$170)*$AB$19","v":0},{"$f":"COUNTIF($D$140:$AA$140,$I$170)*$AB$19","v":0},{"$f":"COUNTIF($D$140:$AA$140,$J$170)*$AB$19","v":0},{"$f":"COUNTIF($D$140:$AA$140,$K$170)*$AB$19","v":0},{"$f":"COUNTIF($D$140:$AA$140,$L$170)*$AB$19","v":0},{"$f":"COUNTIF($D$140:$AA$140,$M$170)*$AB$19","v":0},{"$f":"COUNTIF($D$140:$AA$140,$N$170)*$AB$19","v":0},{"$f":"COUNTIF($D$140:$AA$140,$O$170)*$AB$19","v":0},{"$f":"COUNTIF($D$140:$AA$140,$P$170)*$AB$19","v":0},{"$f":"COUNTIF($D$140:$AA$140,$Q$170)*$AB$19","v":0},{"$f":"COUNTIF($D$140:$AA$140,$R$170)*$AB$19","v":0},{"$f":"COUNTIF($D$140:$AA$140,$S$170)*$AB$19","v":0},{"$f":"COUNTIF($D$140:$AA$140,$T$170)*$AB$19","v":0},{"$f":"COUNTIF($D$140:$AA$140,$U$170)*$AB$19","v":0},{"$f":"COUNTIF($D$140:$AA$140,$V$170)*$AB$19","v":0},{"$f":"COUNTIF($D$140:$AA$140,$W$170)*$AB$19","v":0},{"$f":"COUNTIF($D$140:$AA$140,$X$170)*$AB$19","v":0},{"$f":"COUNTIF($D$140:$AA$140,$Y$170)*$AB$19","v":0},{"$f":"COUNTIF($D$140:$AA$140,$Z$170)*$AB$19","v":0},{"$f":"COUNTIF($D$140:$AA$140,$AA$170)*$AB$19","v":0},{"$f":"COUNTIF($D$140:$AA$140,$AB$170)*$AB$19","v":0},{"$f":"COUNTIF($D$140:$AA$140,$AC$170)*$AB$19","v":0},{"$f":"COUNTIF($D$140:$AA$140,$AD$170)*$AB$19","v":0},{"$f":"COUNTIF($D$140:$AA$140,$AE$170)*$AB$19","v":0},{"$f":"COUNTIF($D$140:$AA$140,$AF$170)*$AB$19","v":0},{"$f":"COUNTIF($D$140:$AA$140,$AG$170)*$AB$19","v":0},{"$f":"COUNTIF($D$140:$AA$140,$AH$170)*$AB$19","v":0},{"$f":"COUNTIF($D$140:$AA$140,$AI$170)*$AB$19","v":0},{"$f":"COUNTIF($D$140:$AA$140,$AJ$170)*$AB$19","v":0},{"$f":"COUNTIF($D$140:$AA$140,$AK$170)*$AB$19","v":0},{"$f":"COUNTIF($D$140:$AA$140,$AL$170)*$AB$19","v":0},{"$f":"COUNTIF($D$140:$AA$140,$AM$170)*$AB$19","v":0},{"$f":"COUNTIF($D$140:$AA$140,$AN$170)*$AB$19","v":0},{"$f":"COUNTIF($D$140:$AA$140,$AO$170)*$AB$19","v":0},{"$f":"COUNTIF($D$140:$AA$140,$AP$170)*$AB$19","v":0},{"$f":"COUNTIF($D$140:$AA$140,$AQ$170)*$AB$19","v":0},{"$f":"COUNTIF($D$140:$AA$140,$AR$170)*$AB$19","v":0},{"$f":"COUNTIF($D$140:$AA$140,$AS$170)*$AB$19","v":0},11,null,{"$f":"SUMPRODUCT($D$178:$AS$178,$D$184:$AS$184)","v":0},0,"",0,"","",0,"","",0,"",null,"",0,"","",0,"","",0,""]
[null,null,12,{"$f":"COUNTIF($D$141:$AA$141,$D$170)*$AB$20","v":0},{"$f":"COUNTIF($D$141:$AA$141,$E$170)*$AB$20","v":0},{"$f":"COUNTIF($D$141:$AA$141,$F$170)*$AB$20","v":0},{"$f":"COUNTIF($D$141:$AA$141,$G$170)*$AB$20","v":0},{"$f":"COUNTIF($D$141:$AA$141,$H$170)*$AB$20","v":0},{"$f":"COUNTIF($D$141:$AA$141,$I$170)*$AB$20","v":0},{"$f":"COUNTIF($D$141:$AA$141,$J$170)*$AB$20","v":0},{"$f":"COUNTIF($D$141:$AA$141,$K$170)*$AB$20","v":0},{"$f":"COUNTIF($D$141:$AA$141,$L$170)*$AB$20","v":0},{"$f":"COUNTIF($D$141:$AA$141,$M$170)*$AB$20","v":0},{"$f":"COUNTIF($D$141:$AA$141,$N$170)*$AB$20","v":0},{"$f":"COUNTIF($D$141:$AA$141,$O$170)*$AB$20","v":0},{"$f":"COUNTIF($D$141:$AA$141,$P$170)*$AB$20","v":0},{"$f":"COUNTIF($D$141:$AA$141,$Q$170)*$AB$20","v":0},{"$f":"COUNTIF($D$141:$AA$141,$R$170)*$AB$20","v":0},{"$f":"COUNTIF($D$141:$AA$141,$S$170)*$AB$20","v":0},{"$f":"COUNTIF($D$141:$AA$141,$T$170)*$AB$20","v":0},{"$f":"COUNTIF($D$141:$AA$141,$U$170)*$AB$20","v":0},{"$f":"COUNTIF($D$141:$AA$141,$V$170)*$AB$20","v":0},{"$f":"COUNTIF($D$141:$AA$141,$W$170)*$AB$20","v":0},{"$f":"COUNTIF($D$141:$AA$141,$X$170)*$AB$20","v":0},{"$f":"COUNTIF($D$141:$AA$141,$Y$170)*$AB$20","v":0},{"$f":"COUNTIF($D$141:$AA$141,$Z$170)*$AB$20","v":0},{"$f":"COUNTIF($D$141:$AA$141,$AA$170)*$AB$20","v":0},{"$f":"COUNTIF($D$141:$AA$141,$AB$170)*$AB$20","v":0},{"$f":"COUNTIF($D$141:$AA$141,$AC$170)*$AB$20","v":0},{"$f":"COUNTIF($D$141:$AA$141,$AD$170)*$AB$20","v":0},{"$f":"COUNTIF($D$141:$AA$141,$AE$170)*$AB$20","v":0},{"$f":"COUNTIF($D$141:$AA$141,$AF$170)*$AB$20","v":0},{"$f":"COUNTIF($D$141:$AA$141,$AG$170)*$AB$20","v":0},{"$f":"COUNTIF($D$141:$AA$141,$AH$170)*$AB$20","v":0},{"$f":"COUNTIF($D$141:$AA$141,$AI$170)*$AB$20","v":0},{"$f":"COUNTIF($D$141:$AA$141,$AJ$170)*$AB$20","v":0},{"$f":"COUNTIF($D$141:$AA$141,$AK$170)*$AB$20","v":0},{"$f":"COUNTIF($D$141:$AA$141,$AL$170)*$AB$20","v":0},{"$f":"COUNTIF($D$141:$AA$141,$AM$170)*$AB$20","v":0},{"$f":"COUNTIF($D$141:$AA$141,$AN$170)*$AB$20","v":0},{"$f":"COUNTIF($D$141:$AA$141,$AO$170)*$AB$20","v":0},{"$f":"COUNTIF($D$141:$AA$141,$AP$170)*$AB$20","v":0},{"$f":"COUNTIF($D$141:$AA$141,$AQ$170)*$AB$20","v":0},{"$f":"COUNTIF($D$141:$AA$141,$AR$170)*$AB$20","v":0},{"$f":"COUNTIF($D$141:$AA$141,$AS$170)*$AB$20","v":0},12,null,{"$f":"SUMPRODUCT($D$179:$AS$179,$D$184:$AS$184)","v":0},0,"",0,"","",0,"","",0,"",null,"",0,"","",0,"","",0,""]
[null,null,1,{"$f":"COUNTIF($D$142:$AA$142,$D$170)*$AB$21","v":0},{"$f":"COUNTIF($D$142:$AA$142,$E$170)*$AB$21","v":0},{"$f":"COUNTIF($D$142:$AA$142,$F$170)*$AB$21","v":0},{"$f":"COUNTIF($D$142:$AA$142,$G$170)*$AB$21","v":0},{"$f":"COUNTIF($D$142:$AA$142,$H$170)*$AB$21","v":0},{"$f":"COUNTIF($D$142:$AA$142,$I$170)*$AB$21","v":0},{"$f":"COUNTIF($D$142:$AA$142,$J$170)*$AB$21","v":0},{"$f":"COUNTIF($D$142:$AA$142,$K$170)*$AB$21","v":0},{"$f":"COUNTIF($D$142:$AA$142,$L$170)*$AB$21","v":0},{"$f":"COUNTIF($D$142:$AA$142,$M$170)*$AB$21","v":0},{"$f":"COUNTIF($D$142:$AA$142,$N$170)*$AB$21","v":0},{"$f":"COUNTIF($D$142:$AA$142,$O$170)*$AB$21","v":0},{"$f":"COUNTIF($D$142:$AA$142,$P$170)*$AB$21","v":0},{"$f":"COUNTIF($D$142:$AA$142,$Q$170)*$AB$21","v":0},{"$f":"COUNTIF($D$142:$AA$142,$R$170)*$AB$21","v":0},{"$f":"COUNTIF($D$142:$AA$142,$S$170)*$AB$21","v":0},{"$f":"COUNTIF($D$142:$AA$142,$T$170)*$AB$21","v":0},{"$f":"COUNTIF($D$142:$AA$142,$U$170)*$AB$21","v":0},{"$f":"COUNTIF($D$142:$AA$142,$V$170)*$AB$21","v":0},{"$f":"COUNTIF($D$142:$AA$142,$W$170)*$AB$21","v":0},{"$f":"COUNTIF($D$142:$AA$142,$X$170)*$AB$21","v":0},{"$f":"COUNTIF($D$142:$AA$142,$Y$170)*$AB$21","v":0},{"$f":"COUNTIF($D$142:$AA$142,$Z$170)*$AB$21","v":0},{"$f":"COUNTIF($D$142:$AA$142,$AA$170)*$AB$21","v":0},{"$f":"COUNTIF($D$142:$AA$142,$AB$170)*$AB$21","v":0},{"$f":"COUNTIF($D$142:$AA$142,$AC$170)*$AB$21","v":0},{"$f":"COUNTIF($D$142:$AA$142,$AD$170)*$AB$21","v":0},{"$f":"COUNTIF($D$142:$AA$142,$AE$170)*$AB$21","v":0},{"$f":"COUNTIF($D$142:$AA$142,$AF$170)*$AB$21","v":0},{"$f":"COUNTIF($D$142:$AA$142,$AG$170)*$AB$21","v":0},{"$f":"COUNTIF($D$142:$AA$142,$AH$170)*$AB$21","v":0},{"$f":"COUNTIF($D$142:$AA$142,$AI$170)*$AB$21","v":0},{"$f":"COUNTIF($D$142:$AA$142,$AJ$170)*$AB$21","v":0},{"$f":"COUNTIF($D$142:$AA$142,$AK$170)*$AB$21","v":0},{"$f":"COUNTIF($D$142:$AA$142,$AL$170)*$AB$21","v":0},{"$f":"COUNTIF($D$142:$AA$142,$AM$170)*$AB$21","v":0},{"$f":"COUNTIF($D$142:$AA$142,$AN$170)*$AB$21","v":0},{"$f":"COUNTIF($D$142:$AA$142,$AO$170)*$AB$21","v":0},{"$f":"COUNTIF($D$142:$AA$142,$AP$170)*$AB$21","v":0},{"$f":"COUNTIF($D$142:$AA$142,$AQ$170)*$AB$21","v":0},{"$f":"COUNTIF($D$142:$AA$142,$AR$170)*$AB$21","v":0},{"$f":"COUNTIF($D$142:$AA$142,$AS$170)*$AB$21","v":0},1,null,{"$f":"SUMPRODUCT($D$180:$AS$180,$D$184:$AS$184)","v":0},0,"",0,"","",0,"","",0,"",null,"",0,"","",0,"","",0,""]
[null,null,2,{"$f":"COUNTIF($D$143:$AA$143,$D$170)*$AB$22","v":0},{"$f":"COUNTIF($D$143:$AA$143,$E$170)*$AB$22","v":0},{"$f":"COUNTIF($D$143:$AA$143,$F$170)*$AB$22","v":0},{"$f":"COUNTIF($D$143:$AA$143,$G$170)*$AB$22","v":0},{"$f":"COUNTIF($D$143:$AA$143,$H$170)*$AB$22","v":0},{"$f":"COUNTIF($D$143:$AA$143,$I$170)*$AB$22","v":0},{"$f":"COUNTIF($D$143:$AA$143,$J$170)*$AB$22","v":0},{"$f":"COUNTIF($D$143:$AA$143,$K$170)*$AB$22","v":0},{"$f":"COUNTIF($D$143:$AA$143,$L$170)*$AB$22","v":0},{"$f":"COUNTIF($D$143:$AA$143,$M$170)*$AB$22","v":0},{"$f":"COUNTIF($D$143:$AA$143,$N$170)*$AB$22","v":0},{"$f":"COUNTIF($D$143:$AA$143,$O$170)*$AB$22","v":0},{"$f":"COUNTIF($D$143:$AA$143,$P$170)*$AB$22","v":0},{"$f":"COUNTIF($D$143:$AA$143,$Q$170)*$AB$22","v":0},{"$f":"COUNTIF($D$143:$AA$143,$R$170)*$AB$22","v":0},{"$f":"COUNTIF($D$143:$AA$143,$S$170)*$AB$22","v":0},{"$f":"COUNTIF($D$143:$AA$143,$T$170)*$AB$22","v":0},{"$f":"COUNTIF($D$143:$AA$143,$U$170)*$AB$22","v":0},{"$f":"COUNTIF($D$143:$AA$143,$V$170)*$AB$22","v":0},{"$f":"COUNTIF($D$143:$AA$143,$W$170)*$AB$22","v":0},{"$f":"COUNTIF($D$143:$AA$143,$X$170)*$AB$22","v":0},{"$f":"COUNTIF($D$143:$AA$143,$Y$170)*$AB$22","v":0},{"$f":"COUNTIF($D$143:$AA$143,$Z$170)*$AB$22","v":0},{"$f":"COUNTIF($D$143:$AA$143,$AA$170)*$AB$22","v":0},{"$f":"COUNTIF($D$143:$AA$143,$AB$170)*$AB$22","v":0},{"$f":"COUNTIF($D$143:$AA$143,$AC$170)*$AB$22","v":0},{"$f":"COUNTIF($D$143:$AA$143,$AD$170)*$AB$22","v":0},{"$f":"COUNTIF($D$143:$AA$143,$AE$170)*$AB$22","v":0},{"$f":"COUNTIF($D$143:$AA$143,$AF$170)*$AB$22","v":0},{"$f":"COUNTIF($D$143:$AA$143,$AG$170)*$AB$22","v":0},{"$f":"COUNTIF($D$143:$AA$143,$AH$170)*$AB$22","v":0},{"$f":"COUNTIF($D$143:$AA$143,$AI$170)*$AB$22","v":0},{"$f":"COUNTIF($D$143:$AA$143,$AJ$170)*$AB$22","v":0},{"$f":"COUNTIF($D$143:$AA$143,$AK$170)*$AB$22","v":0},{"$f":"COUNTIF($D$143:$AA$143,$AL$170)*$AB$22","v":0},{"$f":"COUNTIF($D$143:$AA$143,$AM$170)*$AB$22","v":0},{"$f":"COUNTIF($D$143:$AA$143,$AN$170)*$AB$22","v":0},{"$f":"COUNTIF($D$143:$AA$143,$AO$170)*$AB$22","v":0},{"$f":"COUNTIF($D$143:$AA$143,$AP$170)*$AB$22","v":0},{"$f":"COUNTIF($D$143:$AA$143,$AQ$170)*$AB$22","v":0},{"$f":"COUNTIF($D$143:$AA$143,$AR$170)*$AB$22","v":0},{"$f":"COUNTIF($D$143:$AA$143,$AS$170)*$AB$22","v":0},2,null,{"$f":"SUMPRODUCT($D$181:$AS$181,$D$184:$AS$184)","v":0},0,"",0,"","",0,"","",0,{"$f":"IFERROR(BD181+BE181,\"\")","v":""},null,"",0,"","",0,"","",0,""]
[null,null,3,{"$f":"COUNTIF($D$144:$AA$144,$D$170)*$AB$23","v":0},{"$f":"COUNTIF($D$144:$AA$144,$E$170)*$AB$23","v":0},{"$f":"COUNTIF($D$144:$AA$144,$F$170)*$AB$23","v":0},{"$f":"COUNTIF($D$144:$AA$144,$G$170)*$AB$23","v":0},{"$f":"COUNTIF($D$144:$AA$144,$H$170)*$AB$23","v":0},{"$f":"COUNTIF($D$144:$AA$144,$I$170)*$AB$23","v":0},{"$f":"COUNTIF($D$144:$AA$144,$J$170)*$AB$23","v":0},{"$f":"COUNTIF($D$144:$AA$144,$K$170)*$AB$23","v":0},{"$f":"COUNTIF($D$144:$AA$144,$L$170)*$AB$23","v":0},{"$f":"COUNTIF($D$144:$AA$144,$M$170)*$AB$23","v":0},{"$f":"COUNTIF($D$144:$AA$144,$N$170)*$AB$23","v":0},{"$f":"COUNTIF($D$144:$AA$144,$O$170)*$AB$23","v":0},{"$f":"COUNTIF($D$144:$AA$144,$P$170)*$AB$23","v":0},{"$f":"COUNTIF($D$144:$AA$144,$Q$170)*$AB$23","v":0},{"$f":"COUNTIF($D$144:$AA$144,$R$170)*$AB$23","v":0},{"$f":"COUNTIF($D$144:$AA$144,$S$170)*$AB$23","v":0},{"$f":"COUNTIF($D$144:$AA$144,$T$170)*$AB$23","v":0},{"$f":"COUNTIF($D$144:$AA$144,$U$170)*$AB$23","v":0},{"$f":"COUNTIF($D$144:$AA$144,$V$170)*$AB$23","v":0},{"$f":"COUNTIF($D$144:$AA$144,$W$170)*$AB$23","v":0},{"$f":"COUNTIF($D$144:$AA$144,$X$170)*$AB$23","v":0},{"$f":"COUNTIF($D$144:$AA$144,$Y$170)*$AB$23","v":0},{"$f":"COUNTIF($D$144:$AA$144,$Z$170)*$AB$23","v":0},{"$f":"COUNTIF($D$144:$AA$144,$AA$170)*$AB$23","v":0},{"$f":"COUNTIF($D$144:$AA$144,$AB$170)*$AB$23","v":0},{"$f":"COUNTIF($D$144:$AA$144,$AC$170)*$AB$23","v":0},{"$f":"COUNTIF($D$144:$AA$144,$AD$170)*$AB$23","v":0},{"$f":"COUNTIF($D$144:$AA$144,$AE$170)*$AB$23","v":0},{"$f":"COUNTIF($D$144:$AA$144,$AF$170)*$AB$23","v":0},{"$f":"COUNTIF($D$144:$AA$144,$AG$170)*$AB$23","v":0},{"$f":"COUNTIF($D$144:$AA$144,$AH$170)*$AB$23","v":0},{"$f":"COUNTIF($D$144:$AA$144,$AI$170)*$AB$23","v":0},{"$f":"COUNTIF($D$144:$AA$144,$AJ$170)*$AB$23","v":0},{"$f":"COUNTIF($D$144:$AA$144,$AK$170)*$AB$23","v":0},{"$f":"COUNTIF($D$144:$AA$144,$AL$170)*$AB$23","v":0},{"$f":"COUNTIF($D$144:$AA$144,$AM$170)*$AB$23","v":0},{"$f":"COUNTIF($D$144:$AA$144,$AN$170)*$AB$23","v":0},{"$f":"COUNTIF($D$144:$AA$144,$AO$170)*$AB$23","v":0},{"$f":"COUNTIF($D$144:$AA$144,$AP$170)*$AB$23","v":0},{"$f":"COUNTIF($D$144:$AA$144,$AQ$170)*$AB$23","v":0},{"$f":"COUNTIF($D$144:$AA$144,$AR$170)*$AB$23","v":0},{"$f":"COUNTIF($D$144:$AA$144,$AS$170)*$AB$23","v":0},3,null,{"$f":"SUMPRODUCT($D$182:$AS$182,$D$184:$AS$184)","v":0},0,"",{"$f":"AW182*$AY$168","v":0},{"$f":"IFERROR(AX182+AY182,\"\")","v":""},"",{"$f":"AW182*$BB$168","v":0},{"$f":"IFERROR(BA182+BB182,\"\")","v":""},"",0,{"$f":"IFERROR(BD182+BE182,\"\")","v":""},null,"",0,{"$f":"IFERROR(BH182+BI182,\"\")","v":""},"",0,{"$f":"IFERROR(BK182+BL182,\"\")","v":""},"",0,{"$f":"IFERROR(BN182+BO182,\"\")","v":""}]
[null,"tw","加熱運転時間",{"$f":"SUM($D$171:$D$182)","v":0},{"$f":"SUM($E$171:$E$182)","v":0},{"$f":"SUM($F$171:$F$182)","v":0},{"$f":"SUM($G$171:$G$182)","v":0},{"$f":"SUM($H$171:$H$182)","v":0},{"$f":"SUM($I$171:$I$182)","v":0},{"$f":"SUM($J$171:$J$182)","v":0},{"$f":"SUM($K$171:$K$182)","v":0},{"$f":"SUM($L$171:$L$182)","v":0},{"$f":"SUM($M$171:$M$182)","v":0},{"$f":"SUM($N$171:$N$182)","v":0},{"$f":"SUM($O$171:$O$182)","v":0},{"$f":"SUM($P$171:$P$182)","v":0},{"$f":"SUM($Q$171:$Q$182)","v":0},{"$f":"SUM($R$171:$R$182)","v":0},{"$f":"SUM($S$171:$S$182)","v":0},{"$f":"SUM($T$171:$T$182)","v":0},{"$f":"SUM($U$171:$U$182)","v":0},{"$f":"SUM($V$171:$V$182)","v":0},{"$f":"SUM($W$171:$W$182)","v":0},{"$f":"SUM($X$171:$X$182)","v":0},{"$f":"SUM($Y$171:$Y$182)","v":0},{"$f":"SUM($Z$171:$Z$182)","v":0},{"$f":"SUM($AA$171:$AA$182)","v":0},{"$f":"SUM($AB$171:$AB$182)","v":0},{"$f":"SUM($AC$171:$AC$182)","v":0},{"$f":"SUM($AD$171:$AD$182)","v":0},{"$f":"SUM($AE$171:$AE$182)","v":0},{"$f":"SUM($AF$171:$AF$182)","v":0},{"$f":"SUM($AG$171:$AG$182)","v":0},{"$f":"SUM($AH$171:$AH$182)","v":0},{"$f":"SUM($AI$171:$AI$182)","v":0},{"$f":"SUM($AJ$171:$AJ$182)","v":0},{"$f":"SUM($AK$171:$AK$182)","v":0},{"$f":"SUM($AL$171:$AL$182)","v":0},{"$f":"SUM($AM$171:$AM$182)","v":0},{"$f":"SUM($AN$171:$AN$182)","v":0},{"$f":"SUM($AO$171:$AO$182)","v":0},{"$f":"SUM($AP$171:$AP$182)","v":0},{"$f":"SUM($AQ$171:$AQ$182)","v":0},{"$f":"SUM($AR$171:$AR$182)","v":0},{"$f":"SUM($AS$171:$AS$182)","v":0},"加熱運転時間",null,{"$f":"SUM($AV$171:$AV$182)","v":0},{"$f":"SUM(AW171:AW182)","v":0},{"$f":"SUM($AX$171:$AX$182)","v":0},{"$f":"SUM(AY171:AY182)","v":0},{"$f":"SUM(AZ171:AZ182)","v":0},{"$f":"SUM(BA171:BA182)","v":0},{"$f":"SUM(BB171:BB182)","v":0},{"$f":"SUM(BC171:BC182)","v":0},0,0,{"$f":"SUM(BF171:BF182)","v":0},null,{"$f":"SUM($BH$171:$BH$182)","v":0},{"$f":"SUM(BI171:BI182)","v":0},0,0,0,0,0,0,0]
[null,"εw","加熱時消費電力比",{"$f":"$D$185/$D$186","v":1},{"$f":"$E$185/$E$186","v":1},{"$f":"$F$185/$F$186","v":1},{"$f":"$G$185/$G$186","v":1},{"$f":"$H$185/$H$186","v":0.99999999999999989},{"$f":"$I$185/$I$186","v":0.9253731343283581},{"$f":"$J$185/$J$186","v":0.85074626865671632},{"$f":"$K$185/$K$186","v":0.77611940298507454},{"$f":"$L$185/$L$186","v":0.70149253731343275},{"$f":"$M$185/$M$186","v":0.62686567164179097},{"$f":"$N$185/$N$186","v":0.55223880597014918},{"$f":"$O$185/$O$186","v":0.47761194029850745},{"$f":"$P$185/$P$186","v":0.40298507462686567},{"$f":"$Q$185/$Q$186","v":0.32835820895522388},{"$f":"$R$185/$R$186","v":0.2537313432835821},{"$f":"$S$185/$S$186","v":0.17910447761194032},{"$f":"$T$185/$T$186","v":0.10447761194029853},{"$f":"$U$185/$U$186","v":2.985074626865674E-2},{"$f":"$V$185/$V$186","v":0},{"$f":"$W$185/$W$186","v":0},{"$f":"$X$185/$X$186","v":0},{"$f":"$Y$185/$Y$186","v":0},{"$f":"$Z$185/$Z$186","v":0},{"$f":"$AA$185/$AA$186","v":0},{"$f":"$AB$185/$AB$186","v":0},{"$f":"$AC$185/$AC$186","v":0},{"$f":"$AD$185/$AD$186","v":0},{"$f":"$AE$185/$AE$186","v":0},{"$f":"$AF$185/$AF$186","v":0},{"$f":"$AG$185/$AG$186","v":0},{"$f":"$AH$185/$AH$186","v":0},{"$f":"$AI$185/$AI$186","v":0},{"$f":"$AJ$185/$AJ$186","v":0},{"$f":"$AK$185/$AK$186","v":0},{"$f":"$AL$185/$AL$186","v":0},{"$f":"$AM$185/$AM$186","v":0},{"$f":"$AN$185/$AN$186","v":0},{"$f":"$AO$185/$AO$186","v":0},{"$f":"$AP$185/$AP$186","v":0},{"$f":"$AQ$185/$AQ$186","v":0},{"$f":"$AR$185/$AR$186","v":0},{"$f":"$AS$185/$AS$186","v":0},"加熱時消費電力比","εw"]
[null,"αw","加熱空調負荷率",{"$f":"IF((-1/13.4)*(D$170-11.4)<0,0,IF((-1/13.4)*(D$170-11.4)>1,1,(-1/13.4)*(D$170-11.4)))","v":1},{"$f":"IF((-1/13.4)*(E$170-11.4)<0,0,IF((-1/13.4)*(E$170-11.4)>1,1,(-1/13.4)*(E$170-11.4)))","v":1},1,1,0.99999999999999989,0.9253731343283581,0.85074626865671632,0.77611940298507454,0.70149253731343275,0.62686567164179097,0.55223880597014918,0.47761194029850745,0.40298507462686567,0.32835820895522388,0.2537313432835821,0.17910447761194032,0.10447761194029853,2.985074626865674E-2,0,0,0,0,0,0,0,0,0,0,0,0,0,0,0,0,0,0,0,0,0,0,0,0,"加熱空調負荷率","αw"]
[null,"βw","加熱COP比",1,1,1,1,1,1,1,1,1,1,1,1,1,1,1,1,1,1,1,1,1,1,1,1,1,1,1,1,1,1,1,1,1,1,1,1,1,1,1,1,1,1,"加熱COP比","βw"]
[null,null,"Σ",{"$f":"$D$183*$D$184","v":0},{"$f":"$E$183*$E$184","v":0},{"$f":"$F$183*$F$184","v":0},{"$f":"$G$183*$G$184","v":0},{"$f":"$H$183*$H$184","v":0},{"$f":"$I$183*$I$184","v":0},{"$f":"$J$183*$J$184","v":0},{"$f":"$K$183*$K$184","v":0},{"$f":"$L$183*$L$184","v":0},{"$f":"$M$183*$M$184","v":0},{"$f":"$N$183*$N$184","v":0},{"$f":"$O$183*$O$184","v":0},{"$f":"$P$183*$P$184","v":0},{"$f":"$Q$183*$Q$184","v":0},{"$f":"$R$183*$R$184","v":0},{"$f":"$S$183*$S$184","v":0},{"$f":"$T$183*$T$184","v":0},{"$f":"$U$183*$U$184","v":0},{"$f":"$V$183*$V$184","v":0},{"$f":"$W$183*$W$184","v":0},{"$f":"$X$183*$X$184","v":0},{"$f":"$Y$183*$Y$184","v":0},{"$f":"$Z$183*$Z$184","v":0},{"$f":"$AA$183*$AA$184","v":0},{"$f":"$AB$183*$AB$184","v":0},{"$f":"$AC$183*$AC$184","v":0},{"$f":"$AD$183*$AD$184","v":0},{"$f":"$AE$183*$AE$184","v":0},{"$f":"$AF$183*$AF$184","v":0},{"$f":"$AG$183*$AG$184","v":0},{"$f":"$AH$183*$AH$184","v":0},{"$f":"$AI$183*$AI$184","v":0},{"$f":"$AJ$183*$AJ$184","v":0},{"$f":"$AK$183*$AK$184","v":0},{"$f":"$AL$183*$AL$184","v":0},{"$f":"$AM$183*$AM$184","v":0},{"$f":"$AN$183*$AN$184","v":0},{"$f":"$AO$183*$AO$184","v":0},{"$f":"$AP$183*$AP$184","v":0},{"$f":"$AQ$183*$AQ$184","v":0},{"$f":"$AR$183*$AR$184","v":0},{"$f":"$AS$183*$AS$184","v":0},{"$f":"SUM($D187:$AS187)","v":0}]
[]
[null,null,"αc^0.6",{"$f":"D163^0.6","v":0},{"$f":"E163^0.6","v":0},{"$f":"F163^0.6","v":0},0,0,0,0,0,{"$f":"L163^0.6","v":0},0,0,0,0,0,0,0,0,0,0,0.19694512927085178,0.29851299512936197,0.3807307877431757,0.45246109203621188,0.51728185797178661,0.5770799623628855,0.63300052261123363,0.68580277290067215,0.7360219228178333,0.78405268168311582,0.83019641884114292,0.87468965915462249,0.91772223886856286,0.95944937873158653,1,1,1,1,1,1,1,1,1,"αc^0.6"]
[null,null,"Σ",{"$f":"D161*D189","v":0},{"$f":"E161*E189","v":0},0,0,0,0,0,0,0,0,0,0,0,0,0,0,0,0,0,0,0,0,0,0,0,0,0,0,0,0,0,0,0,0,0,0,0,0,0,0,0,0,{"$f":"SUM(D190:AS190)","v":0}]
[]
[null,null,"αw^0.6",{"$f":"D185^0.6","v":1},{"$f":"E185^0.6","v":1},1,1,0.99999999999999989,0.95453120808698377,0.90756979116617564,0.85892872014151067,0.8083767853845224,0.75562217166201961,0.70028714280094351,0.641867084667476,0.5796600592370128,0.51263555795397076,0.43916171378780794,0.35633941772827771,0.2578777916123835,0.12161107171602827,0,0,0,0,0,0,0,0,0,0,0,0,0,0,0,0,0,0,0,0,0,0,0,0,"αc^0.6"]
[null,null,"Σ",{"$f":"D183*D192","v":0},{"$f":"E183*E192","v":0},0,0,0,0,0,0,0,0,0,0,0,0,0,0,0,0,0,0,0,0,0,0,0,0,0,0,0,0,0,0,0,0,0,0,0,0,0,0,0,0,{"$f":"SUM(D193:AS193)","v":0}]

{"sheet":"寒冷地(γ個別入力)","index":4,"n_rows":193,"n_cols":68,"rows_kept":193,"cut":false,"hidden":false,"merged":[[98,3,98,26],[114,3,114,26],[130,3,130,26],[27,3,37,3],[41,3,51,3],[57,3,57,4],[57,5,57,6],[57,7,57,8],[78,3,78,4],[78,5,78,6],[78,7,78,8],[24,3,25,4],[24,19,25,20],[2,2,2,3],[3,2,3,3],[5,2,5,3],[6,2,6,3],[9,3,9,26]]}
[]
[null,null,"水冷HPチラーの設置場所"]
[null,null,{"$f":"IF(必ずこのシートから始めてください!$L$8=\"\",\"\",必ずこのシートから始めてください!$L$8)","v":""},null,null,"手順1：空調を行う月、時間を下記の指定の色で塗る(指定の色以外で塗ると計算できません。)"]
[null,null,{"$f":"VLOOKUP($C$3,γ一覧表!$C$3:$E$50,2,FALSE)","v":{"$error":"#N/A"}},null,null,null,"冷却","青","【左から5列目、一番薄い色(アクセント1,白＋基本色80％)】"]
[null,null,null,null,null,null,"加熱","オレンジ","【左から6番目、一番薄い色(アクセント2,白＋基本色80％)】"]
[null,null,"使用するγ値",null,null,"手順2：各月の運転日数を入力する"]
[null,null,{"$f":"IF(必ずこのシートから始めてください!$L$22=\"\",\"---\",IF(必ずこのシートから始めてください!$L$22<=1,\"---\",必ずこのシートから始めてください!$L$22))","v":"---"},null,null,"手順3：Ctrl + Alt + F9を同時に押す",null,null,null,null,null,null,null,null,null,null,null,"●時刻別平均外気湿球温度表記載の数値は、選択された都道府県の県庁所在地等の月別、時刻別平均外気湿球温度"]
[null,null,null,null,null,"手順4：黄色のセルに値を入力する(緑は自動計算)",null,null,null,null,null,null,null,null,null,null,null,"●本データは気象庁発表の1992年4月1日から2022年3月31日までの30年の1時間データを整理したもの"]
[null,null,"時刻別平均外気湿球温度[℃]",null,null,null,null,null,null,null,null,null,null,null,null,null,null,"●2月はうるう日を含みます"]
[null,null,null,null,null,null,null,null,null,null,null,null,null,null,null,null,null,null,null,null,null,null,null,null,null,null,null,{"$f":"SUM($AB$11:$AB$23)","v":0},{"$f":"必ずこのシートから始めてください!M3","v":"Ver.1.0"}]
[null,null,"月",0,1,2,3,4,5,6,7,8,9,10,11,12,13,14,15,16,17,18,19,20,21,22,23,"運転日数","月"]
[null,null,4,{"$f":"IFERROR(INDIRECT($C$4&\"!B5\"),\"\")","v":""},{"$f":"IFERROR(INDIRECT($C$4&\"!C5\"),\"\")","v":""},{"$f":"IFERROR(INDIRECT($C$4&\"!D5\"),\"\")","v":""},{"$f":"IFERROR(INDIRECT($C$4&\"!E5\"),\"\")","v":""},{"$f":"IFERROR(INDIRECT($C$4&\"!F5\"),\"\")","v":""},{"$f":"IFERROR(INDIRECT($C$4&\"!G5\"),\"\")","v":""},{"$f":"IFERROR(INDIRECT($C$4&\"!H5\"),\"\")","v":""},{"$f":"IFERROR(INDIRECT($C$4&\"!I5\"),\"\")","v":""},{"$f":"IFERROR(INDIRECT($C$4&\"!J5\"),\"\")","v":""},{"$f":"IFERROR(INDIRECT($C$4&\"!K5\"),\"\")","v":""},{"$f":"IFERROR(INDIRECT($C$4&\"!L5\"),\"\")","v":""},{"$f":"IFERROR(INDIRECT($C$4&\"!M5\"),\"\")","v":""},{"$f":"IFERROR(INDIRECT($C$4&\"!N5\"),\"\")","v":""},{"$f":"IFERROR(INDIRECT($C$4&\"!O5\"),\"\")","v":""},{"$f":"IFERROR(INDIRECT($C$4&\"!P5\"),\"\")","v":""},{"$f":"IFERROR(INDIRECT($C$4&\"!Q5\"),\"\")","v":""},{"$f":"IFERROR(INDIRECT($C$4&\"!R5\"),\"\")","v":""},{"$f":"IFERROR(INDIRECT($C$4&\"!S5\"),\"\")","v":""},{"$f":"IFERROR(INDIRECT($C$4&\"!T5\"),\"\")","v":""},{"$f":"IFERROR(INDIRECT($C$4&\"!U5\"),\"\")","v":""},{"$f":"IFERROR(INDIRECT($C$4&\"!V5\"),\"\")","v":""},{"$f":"IFERROR(INDIRECT($C$4&\"!W5\"),\"\")","v":""},{"$f":"IFERROR(INDIRECT($C$4&\"!X5\"),\"\")","v":""},{"$f":"IFERROR(INDIRECT($C$4&\"!Y5\"),\"\")","v":""},null,4]
[null,null,5,{"$f":"IFERROR(INDIRECT($C$4&\"!B6\"),\"\")","v":""},{"$f":"IFERROR(INDIRECT($C$4&\"!C6\"),\"\")","v":""},{"$f":"IFERROR(INDIRECT($C$4&\"!D6\"),\"\")","v":""},{"$f":"IFERROR(INDIRECT($C$4&\"!E6\"),\"\")","v":""},{"$f":"IFERROR(INDIRECT($C$4&\"!F6\"),\"\")","v":""},{"$f":"IFERROR(INDIRECT($C$4&\"!G6\"),\"\")","v":""},{"$f":"IFERROR(INDIRECT($C$4&\"!H6\"),\"\")","v":""},{"$f":"IFERROR(INDIRECT($C$4&\"!I6\"),\"\")","v":""},{"$f":"IFERROR(INDIRECT($C$4&\"!J6\"),\"\")","v":""},{"$f":"IFERROR(INDIRECT($C$4&\"!K6\"),\"\")","v":""},{"$f":"IFERROR(INDIRECT($C$4&\"!L6\"),\"\")","v":""},{"$f":"IFERROR(INDIRECT($C$4&\"!M6\"),\"\")","v":""},{"$f":"IFERROR(INDIRECT($C$4&\"!N6\"),\"\")","v":""},{"$f":"IFERROR(INDIRECT($C$4&\"!O6\"),\"\")","v":""},{"$f":"IFERROR(INDIRECT($C$4&\"!P6\"),\"\")","v":""},{"$f":"IFERROR(INDIRECT($C$4&\"!Q6\"),\"\")","v":""},{"$f":"IFERROR(INDIRECT($C$4&\"!R6\"),\"\")","v":""},{"$f":"IFERROR(INDIRECT($C$4&\"!S6\"),\"\")","v":""},{"$f":"IFERROR(INDIRECT($C$4&\"!T6\"),\"\")","v":""},{"$f":"IFERROR(INDIRECT($C$4&\"!U6\"),\"\")","v":""},{"$f":"IFERROR(INDIRECT($C$4&\"!V6\"),\"\")","v":""},{"$f":"IFERROR(INDIRECT($C$4&\"!W6\"),\"\")","v":""},{"$f":"IFERROR(INDIRECT($C$4&\"!X6\"),\"\")","v":""},{"$f":"IFERROR(INDIRECT($C$4&\"!Y6\"),\"\")","v":""},null,5]
[null,null,6,{"$f":"IFERROR(INDIRECT($C$4&\"!B7\"),\"\")","v":""},{"$f":"IFERROR(INDIRECT($C$4&\"!C7\"),\"\")","v":""},{"$f":"IFERROR(INDIRECT($C$4&\"!D7\"),\"\")","v":""},{"$f":"IFERROR(INDIRECT($C$4&\"!E7\"),\"\")","v":""},{"$f":"IFERROR(INDIRECT($C$4&\"!F7\"),\"\")","v":""},{"$f":"IFERROR(INDIRECT($C$4&\"!G7\"),\"\")","v":""},{"$f":"IFERROR(INDIRECT($C$4&\"!H7\"),\"\")","v":""},{"$f":"IFERROR(INDIRECT($C$4&\"!I7\"),\"\")","v":""},{"$f":"IFERROR(INDIRECT($C$4&\"!J7\"),\"\")","v":""},{"$f":"IFERROR(INDIRECT($C$4&\"!K7\"),\"\")","v":""},{"$f":"IFERROR(INDIRECT($C$4&\"!L7\"),\"\")","v":""},{"$f":"IFERROR(INDIRECT($C$4&\"!M7\"),\"\")","v":""},{"$f":"IFERROR(INDIRECT($C$4&\"!N7\"),\"\")","v":""},{"$f":"IFERROR(INDIRECT($C$4&\"!O7\"),\"\")","v":""},{"$f":"IFERROR(INDIRECT($C$4&\"!P7\"),\"\")","v":""},{"$f":"IFERROR(INDIRECT($C$4&\"!Q7\"),\"\")","v":""},{"$f":"IFERROR(INDIRECT($C$4&\"!R7\"),\"\")","v":""},{"$f":"IFERROR(INDIRECT($C$4&\"!S7\"),\"\")","v":""},{"$f":"IFERROR(INDIRECT($C$4&\"!T7\"),\"\")","v":""},{"$f":"IFERROR(INDIRECT($C$4&\"!U7\"),\"\")","v":""},{"$f":"IFERROR(INDIRECT($C$4&\"!V7\"),\"\")","v":""},{"$f":"IFERROR(INDIRECT($C$4&\"!W7\"),\"\")","v":""},{"$f":"IFERROR(INDIRECT($C$4&\"!X7\"),\"\")","v":""},{"$f":"IFERROR(INDIRECT($C$4&\"!Y7\"),\"\")","v":""},null,6]
[null,null,7,{"$f":"IFERROR(INDIRECT($C$4&\"!B8\"),\"\")","v":""},{"$f":"IFERROR(INDIRECT($C$4&\"!C8\"),\"\")","v":""},{"$f":"IFERROR(INDIRECT($C$4&\"!D8\"),\"\")","v":""},{"$f":"IFERROR(INDIRECT($C$4&\"!E8\"),\"\")","v":""},{"$f":"IFERROR(INDIRECT($C$4&\"!F8\"),\"\")","v":""},{"$f":"IFERROR(INDIRECT($C$4&\"!G8\"),\"\")","v":""},{"$f":"IFERROR(INDIRECT($C$4&\"!H8\"),\"\")","v":""},{"$f":"IFERROR(INDIRECT($C$4&\"!I8\"),\"\")","v":""},{"$f":"IFERROR(INDIRECT($C$4&\"!J8\"),\"\")","v":""},{"$f":"IFERROR(INDIRECT($C$4&\"!K8\"),\"\")","v":""},{"$f":"IFERROR(INDIRECT($C$4&\"!L8\"),\"\")","v":""},{"$f":"IFERROR(INDIRECT($C$4&\"!M8\"),\"\")","v":""},{"$f":"IFERROR(INDIRECT($C$4&\"!N8\"),\"\")","v":""},{"$f":"IFERROR(INDIRECT($C$4&\"!O8\"),\"\")","v":""},{"$f":"IFERROR(INDIRECT($C$4&\"!P8\"),\"\")","v":""},{"$f":"IFERROR(INDIRECT($C$4&\"!Q8\"),\"\")","v":""},{"$f":"IFERROR(INDIRECT($C$4&\"!R8\"),\"\")","v":""},{"$f":"IFERROR(INDIRECT($C$4&\"!S8\"),\"\")","v":""},{"$f":"IFERROR(INDIRECT($C$4&\"!T8\"),\"\")","v":""},{"$f":"IFERROR(INDIRECT($C$4&\"!U8\"),\"\")","v":""},{"$f":"IFERROR(INDIRECT($C$4&\"!V8\"),\"\")","v":""},{"$f":"IFERROR(INDIRECT($C$4&\"!W8\"),\"\")","v":""},{"$f":"IFERROR(INDIRECT($C$4&\"!X8\"),\"\")","v":""},{"$f":"IFERROR(INDIRECT($C$4&\"!Y8\"),\"\")","v":""},null,7]
[null,null,8,{"$f":"IFERROR(INDIRECT($C$4&\"!B9\"),\"\")","v":""},{"$f":"IFERROR(INDIRECT($C$4&\"!C9\"),\"\")","v":""},{"$f":"IFERROR(INDIRECT($C$4&\"!D9\"),\"\")","v":""},{"$f":"IFERROR(INDIRECT($C$4&\"!E9\"),\"\")","v":""},{"$f":"IFERROR(INDIRECT($C$4&\"!F9\"),\"\")","v":""},{"$f":"IFERROR(INDIRECT($C$4&\"!G9\"),\"\")","v":""},{"$f":"IFERROR(INDIRECT($C$4&\"!H9\"),\"\")","v":""},{"$f":"IFERROR(INDIRECT($C$4&\"!I9\"),\"\")","v":""},{"$f":"IFERROR(INDIRECT($C$4&\"!J9\"),\"\")","v":""},{"$f":"IFERROR(INDIRECT($C$4&\"!K9\"),\"\")","v":""},{"$f":"IFERROR(INDIRECT($C$4&\"!L9\"),\"\")","v":""},{"$f":"IFERROR(INDIRECT($C$4&\"!M9\"),\"\")","v":""},{"$f":"IFERROR(INDIRECT($C$4&\"!N9\"),\"\")","v":""},{"$f":"IFERROR(INDIRECT($C$4&\"!O9\"),\"\")","v":""},{"$f":"IFERROR(INDIRECT($C$4&\"!P9\"),\"\")","v":""},{"$f":"IFERROR(INDIRECT($C$4&\"!Q9\"),\"\")","v":""},{"$f":"IFERROR(INDIRECT($C$4&\"!R9\"),\"\")","v":""},{"$f":"IFERROR(INDIRECT($C$4&\"!S9\"),\"\")","v":""},{"$f":"IFERROR(INDIRECT($C$4&\"!T9\"),\"\")","v":""},{"$f":"IFERROR(INDIRECT($C$4&\"!U9\"),\"\")","v":""},{"$f":"IFERROR(INDIRECT($C$4&\"!V9\"),\"\")","v":""},{"$f":"IFERROR(INDIRECT($C$4&\"!W9\"),\"\")","v":""},{"$f":"IFERROR(INDIRECT($C$4&\"!X9\"),\"\")","v":""},{"$f":"IFERROR(INDIRECT($C$4&\"!Y9\"),\"\")","v":""},null,8]
[null,null,9,{"$f":"IFERROR(INDIRECT($C$4&\"!B10\"),\"\")","v":""},{"$f":"IFERROR(INDIRECT($C$4&\"!C10\"),\"\")","v":""},{"$f":"IFERROR(INDIRECT($C$4&\"!D10\"),\"\")","v":""},{"$f":"IFERROR(INDIRECT($C$4&\"!E10\"),\"\")","v":""},{"$f":"IFERROR(INDIRECT($C$4&\"!F10\"),\"\")","v":""},{"$f":"IFERROR(INDIRECT($C$4&\"!G10\"),\"\")","v":""},{"$f":"IFERROR(INDIRECT($C$4&\"!H10\"),\"\")","v":""},{"$f":"IFERROR(INDIRECT($C$4&\"!I10\"),\"\")","v":""},{"$f":"IFERROR(INDIRECT($C$4&\"!J10\"),\"\")","v":""},{"$f":"IFERROR(INDIRECT($C$4&\"!K10\"),\"\")","v":""},{"$f":"IFERROR(INDIRECT($C$4&\"!L10\"),\"\")","v":""},{"$f":"IFERROR(INDIRECT($C$4&\"!M10\"),\"\")","v":""},{"$f":"IFERROR(INDIRECT($C$4&\"!N10\"),\"\")","v":""},{"$f":"IFERROR(INDIRECT($C$4&\"!O10\"),\"\")","v":""},{"$f":"IFERROR(INDIRECT($C$4&\"!P10\"),\"\")","v":""},{"$f":"IFERROR(INDIRECT($C$4&\"!Q10\"),\"\")","v":""},{"$f":"IFERROR(INDIRECT($C$4&\"!R10\"),\"\")","v":""},{"$f":"IFERROR(INDIRECT($C$4&\"!S10\"),\"\")","v":""},{"$f":"IFERROR(INDIRECT($C$4&\"!T10\"),\"\")","v":""},{"$f":"IFERROR(INDIRECT($C$4&\"!U10\"),\"\")","v":""},{"$f":"IFERROR(INDIRECT($C$4&\"!V10\"),\"\")","v":""},{"$f":"IFERROR(INDIRECT($C$4&\"!W10\"),\"\")","v":""},{"$f":"IFERROR(INDIRECT($C$4&\"!X10\"),\"\")","v":""},{"$f":"IFERROR(INDIRECT($C$4&\"!Y10\"),\"\")","v":""},null,9]
[null,null,10,{"$f":"IFERROR(INDIRECT($C$4&\"!B11\"),\"\")","v":""},{"$f":"IFERROR(INDIRECT($C$4&\"!C11\"),\"\")","v":""},{"$f":"IFERROR(INDIRECT($C$4&\"!D11\"),\"\")","v":""},{"$f":"IFERROR(INDIRECT($C$4&\"!E11\"),\"\")","v":""},{"$f":"IFERROR(INDIRECT($C$4&\"!F11\"),\"\")","v":""},{"$f":"IFERROR(INDIRECT($C$4&\"!G11\"),\"\")","v":""},{"$f":"IFERROR(INDIRECT($C$4&\"!H11\"),\"\")","v":""},{"$f":"IFERROR(INDIRECT($C$4&\"!I11\"),\"\")","v":""},{"$f":"IFERROR(INDIRECT($C$4&\"!J11\"),\"\")","v":""},{"$f":"IFERROR(INDIRECT($C$4&\"!K11\"),\"\")","v":""},{"$f":"IFERROR(INDIRECT($C$4&\"!L11\"),\"\")","v":""},{"$f":"IFERROR(INDIRECT($C$4&\"!M11\"),\"\")","v":""},{"$f":"IFERROR(INDIRECT($C$4&\"!N11\"),\"\")","v":""},{"$f":"IFERROR(INDIRECT($C$4&\"!O11\"),\"\")","v":""},{"$f":"IFERROR(INDIRECT($C$4&\"!P11\"),\"\")","v":""},{"$f":"IFERROR(INDIRECT($C$4&\"!Q11\"),\"\")","v":""},{"$f":"IFERROR(INDIRECT($C$4&\"!R11\"),\"\")","v":""},{"$f":"IFERROR(INDIRECT($C$4&\"!S11\"),\"\")","v":""},{"$f":"IFERROR(INDIRECT($C$4&\"!T11\"),\"\")","v":""},{"$f":"IFERROR(INDIRECT($C$4&\"!U11\"),\"\")","v":""},{"$f":"IFERROR(INDIRECT($C$4&\"!V11\"),\"\")","v":""},{"$f":"IFERROR(INDIRECT($C$4&\"!W11\"),\"\")","v":""},{"$f":"IFERROR(INDIRECT($C$4&\"!X11\"),\"\")","v":""},{"$f":"IFERROR(INDIRECT($C$4&\"!Y11\"),\"\")","v":""},null,10]
[null,null,11,{"$f":"IFERROR(INDIRECT($C$4&\"!B12\"),\"\")","v":""},{"$f":"IFERROR(INDIRECT($C$4&\"!C12\"),\"\")","v":""},{"$f":"IFERROR(INDIRECT($C$4&\"!D12\"),\"\")","v":""},{"$f":"IFERROR(INDIRECT($C$4&\"!E12\"),\"\")","v":""},{"$f":"IFERROR(INDIRECT($C$4&\"!F12\"),\"\")","v":""},{"$f":"IFERROR(INDIRECT($C$4&\"!G12\"),\"\")","v":""},{"$f":"IFERROR(INDIRECT($C$4&\"!H12\"),\"\")","v":""},{"$f":"IFERROR(INDIRECT($C$4&\"!I12\"),\"\")","v":""},{"$f":"IFERROR(INDIRECT($C$4&\"!J12\"),\"\")","v":""},{"$f":"IFERROR(INDIRECT($C$4&\"!K12\"),\"\")","v":""},{"$f":"IFERROR(INDIRECT($C$4&\"!L12\"),\"\")","v":""},{"$f":"IFERROR(INDIRECT($C$4&\"!M12\"),\"\")","v":""},{"$f":"IFERROR(INDIRECT($C$4&\"!N12\"),\"\")","v":""},{"$f":"IFERROR(INDIRECT($C$4&\"!O12\"),\"\")","v":""},{"$f":"IFERROR(INDIRECT($C$4&\"!P12\"),\"\")","v":""},{"$f":"IFERROR(INDIRECT($C$4&\"!Q12\"),\"\")","v":""},{"$f":"IFERROR(INDIRECT($C$4&\"!R12\"),\"\")","v":""},{"$f":"IFERROR(INDIRECT($C$4&\"!S12\"),\"\")","v":""},{"$f":"IFERROR(INDIRECT($C$4&\"!T12\"),\"\")","v":""},{"$f":"IFERROR(INDIRECT($C$4&\"!U12\"),\"\")","v":""},{"$f":"IFERROR(INDIRECT($C$4&\"!V12\"),\"\")","v":""},{"$f":"IFERROR(INDIRECT($C$4&\"!W12\"),\"\")","v":""},{"$f":"IFERROR(INDIRECT($C$4&\"!X12\"),\"\")","v":""},{"$f":"IFERROR(INDIRECT($C$4&\"!Y12\"),\"\")","v":""},null,11]
[null,null,12,{"$f":"IFERROR(INDIRECT($C$4&\"!B13\"),\"\")","v":""},{"$f":"IFERROR(INDIRECT($C$4&\"!C13\"),\"\")","v":""},{"$f":"IFERROR(INDIRECT($C$4&\"!D13\"),\"\")","v":""},{"$f":"IFERROR(INDIRECT($C$4&\"!E13\"),\"\")","v":""},{"$f":"IFERROR(INDIRECT($C$4&\"!F13\"),\"\")","v":""},{"$f":"IFERROR(INDIRECT($C$4&\"!G13\"),\"\")","v":""},{"$f":"IFERROR(INDIRECT($C$4&\"!H13\"),\"\")","v":""},{"$f":"IFERROR(INDIRECT($C$4&\"!I13\"),\"\")","v":""},{"$f":"IFERROR(INDIRECT($C$4&\"!J13\"),\"\")","v":""},{"$f":"IFERROR(INDIRECT($C$4&\"!K13\"),\"\")","v":""},{"$f":"IFERROR(INDIRECT($C$4&\"!L13\"),\"\")","v":""},{"$f":"IFERROR(INDIRECT($C$4&\"!M13\"),\"\")","v":""},{"$f":"IFERROR(INDIRECT($C$4&\"!N13\"),\"\")","v":""},{"$f":"IFERROR(INDIRECT($C$4&\"!O13\"),\"\")","v":""},{"$f":"IFERROR(INDIRECT($C$4&\"!P13\"),\"\")","v":""},{"$f":"IFERROR(INDIRECT($C$4&\"!Q13\"),\"\")","v":""},{"$f":"IFERROR(INDIRECT($C$4&\"!R13\"),\"\")","v":""},{"$f":"IFERROR(INDIRECT($C$4&\"!S13\"),\"\")","v":""},{"$f":"IFERROR(INDIRECT($C$4&\"!T13\"),\"\")","v":""},{"$f":"IFERROR(INDIRECT($C$4&\"!U13\"),\"\")","v":""},{"$f":"IFERROR(INDIRECT($C$4&\"!V13\"),\"\")","v":""},{"$f":"IFERROR(INDIRECT($C$4&\"!W13\"),\"\")","v":""},{"$f":"IFERROR(INDIRECT($C$4&\"!X13\"),\"\")","v":""},{"$f":"IFERROR(INDIRECT($C$4&\"!Y13\"),\"\")","v":""},null,12]
[null,null,1,{"$f":"IFERROR(INDIRECT($C$4&\"!B14\"),\"\")","v":""},{"$f":"IFERROR(INDIRECT($C$4&\"!C14\"),\"\")","v":""},{"$f":"IFERROR(INDIRECT($C$4&\"!D14\"),\"\")","v":""},{"$f":"IFERROR(INDIRECT($C$4&\"!E14\"),\"\")","v":""},{"$f":"IFERROR(INDIRECT($C$4&\"!F14\"),\"\")","v":""},{"$f":"IFERROR(INDIRECT($C$4&\"!G14\"),\"\")","v":""},{"$f":"IFERROR(INDIRECT($C$4&\"!H14\"),\"\")","v":""},{"$f":"IFERROR(INDIRECT($C$4&\"!I14\"),\"\")","v":""},{"$f":"IFERROR(INDIRECT($C$4&\"!J14\"),\"\")","v":""},{"$f":"IFERROR(INDIRECT($C$4&\"!K14\"),\"\")","v":""},{"$f":"IFERROR(INDIRECT($C$4&\"!L14\"),\"\")","v":""},{"$f":"IFERROR(INDIRECT($C$4&\"!M14\"),\"\")","v":""},{"$f":"IFERROR(INDIRECT($C$4&\"!N14\"),\"\")","v":""},{"$f":"IFERROR(INDIRECT($C$4&\"!O14\"),\"\")","v":""},{"$f":"IFERROR(INDIRECT($C$4&\"!P14\"),\"\")","v":""},{"$f":"IFERROR(INDIRECT($C$4&\"!Q14\"),\"\")","v":""},{"$f":"IFERROR(INDIRECT($C$4&\"!R14\"),\"\")","v":""},{"$f":"IFERROR(INDIRECT($C$4&\"!S14\"),\"\")","v":""},{"$f":"IFERROR(INDIRECT($C$4&\"!T14\"),\"\")","v":""},{"$f":"IFERROR(INDIRECT($C$4&\"!U14\"),\"\")","v":""},{"$f":"IFERROR(INDIRECT($C$4&\"!V14\"),\"\")","v":""},{"$f":"IFERROR(INDIRECT($C$4&\"!W14\"),\"\")","v":""},{"$f":"IFERROR(INDIRECT($C$4&\"!X14\"),\"\")","v":""},{"$f":"IFERROR(INDIRECT($C$4&\"!Y14\"),\"\")","v":""},null,1]
[null,null,2,{"$f":"IFERROR(INDIRECT($C$4&\"!B15\"),\"\")","v":""},{"$f":"IFERROR(INDIRECT($C$4&\"!C15\"),\"\")","v":""},{"$f":"IFERROR(INDIRECT($C$4&\"!D15\"),\"\")","v":""},{"$f":"IFERROR(INDIRECT($C$4&\"!E15\"),\"\")","v":""},{"$f":"IFERROR(INDIRECT($C$4&\"!F15\"),\"\")","v":""},{"$f":"IFERROR(INDIRECT($C$4&\"!G15\"),\"\")","v":""},{"$f":"IFERROR(INDIRECT($C$4&\"!H15\"),\"\")","v":""},{"$f":"IFERROR(INDIRECT($C$4&\"!I15\"),\"\")","v":""},{"$f":"IFERROR(INDIRECT($C$4&\"!J15\"),\"\")","v":""},{"$f":"IFERROR(INDIRECT($C$4&\"!K15\"),\"\")","v":""},{"$f":"IFERROR(INDIRECT($C$4&\"!L15\"),\"\")","v":""},{"$f":"IFERROR(INDIRECT($C$4&\"!M15\"),\"\")","v":""},{"$f":"IFERROR(INDIRECT($C$4&\"!N15\"),\"\")","v":""},{"$f":"IFERROR(INDIRECT($C$4&\"!O15\"),\"\")","v":""},{"$f":"IFERROR(INDIRECT($C$4&\"!P15\"),\"\")","v":""},{"$f":"IFERROR(INDIRECT($C$4&\"!Q15\"),\"\")","v":""},{"$f":"IFERROR(INDIRECT($C$4&\"!R15\"),\"\")","v":""},{"$f":"IFERROR(INDIRECT($C$4&\"!S15\"),\"\")","v":""},{"$f":"IFERROR(INDIRECT($C$4&\"!T15\"),\"\")","v":""},{"$f":"IFERROR(INDIRECT($C$4&\"!U15\"),\"\")","v":""},{"$f":"IFERROR(INDIRECT($C$4&\"!V15\"),\"\")","v":""},{"$f":"IFERROR(INDIRECT($C$4&\"!W15\"),\"\")","v":""},{"$f":"IFERROR(INDIRECT($C$4&\"!X15\"),\"\")","v":""},{"$f":"IFERROR(INDIRECT($C$4&\"!Y15\"),\"\")","v":""},null,2]
[null,null,3,{"$f":"IFERROR(INDIRECT($C$4&\"!B16\"),\"\")","v":""},{"$f":"IFERROR(INDIRECT($C$4&\"!C16\"),\"\")","v":""},{"$f":"IFERROR(INDIRECT($C$4&\"!D16\"),\"\")","v":""},{"$f":"IFERROR(INDIRECT($C$4&\"!E16\"),\"\")","v":""},{"$f":"IFERROR(INDIRECT($C$4&\"!F16\"),\"\")","v":""},{"$f":"IFERROR(INDIRECT($C$4&\"!G16\"),\"\")","v":""},{"$f":"IFERROR(INDIRECT($C$4&\"!H16\"),\"\")","v":""},{"$f":"IFERROR(INDIRECT($C$4&\"!I16\"),\"\")","v":""},{"$f":"IFERROR(INDIRECT($C$4&\"!J16\"),\"\")","v":""},{"$f":"IFERROR(INDIRECT($C$4&\"!K16\"),\"\")","v":""},{"$f":"IFERROR(INDIRECT($C$4&\"!L16\"),\"\")","v":""},{"$f":"IFERROR(INDIRECT($C$4&\"!M16\"),\"\")","v":""},{"$f":"IFERROR(INDIRECT($C$4&\"!N16\"),\"\")","v":""},{"$f":"IFERROR(INDIRECT($C$4&\"!O16\"),\"\")","v":""},{"$f":"IFERROR(INDIRECT($C$4&\"!P16\"),\"\")","v":""},{"$f":"IFERROR(INDIRECT($C$4&\"!Q16\"),\"\")","v":""},{"$f":"IFERROR(INDIRECT($C$4&\"!R16\"),\"\")","v":""},{"$f":"IFERROR(INDIRECT($C$4&\"!S16\"),\"\")","v":""},{"$f":"IFERROR(INDIRECT($C$4&\"!T16\"),\"\")","v":""},{"$f":"IFERROR(INDIRECT($C$4&\"!U16\"),\"\")","v":""},{"$f":"IFERROR(INDIRECT($C$4&\"!V16\"),\"\")","v":""},{"$f":"IFERROR(INDIRECT($C$4&\"!W16\"),\"\")","v":""},{"$f":"IFERROR(INDIRECT($C$4&\"!X16\"),\"\")","v":""},{"$f":"IFERROR(INDIRECT($C$4&\"!Y16\"),\"\")","v":""},null,3]
[]
[null,null,null,"定格条件\n【冷却】",null,"冷却水","入口温度","30℃","冷水","入口温度","12℃",null,"暖房設計外気温度",null,null,"Td",-5,"℃",null,"定格条件\n【加熱】",null,"熱源水","入口温度","15℃(不定)",null,"温水","入口温度","40℃"]
[null,null,null,null,null,null,"出口温度","35℃",null,"出口温度","7℃",null,"設計加熱能力",null,null,"Φwd",180,"kW",null,null,null,null,"出口温度","10℃(不定)",null,null,"出口温度","45℃"]
[]
[null,null,null,"設備導入前",null,null,null,null,null,null,null,null,null,null,null,null,"前1","前2","前3"]
[null,null,null,null,"定格冷却能力",null,null,null,"水冷HPチラーの仕様を入力",null,null,null,null,null,null,"Φco",150,null,null,"kW"]
[null,null,null,null,"定格冷却消費電力",null,null,null,"水冷HPチラーの仕様を入力",null,null,null,null,null,null,"Pco",30,null,null,"kW"]
[null,null,null,null,"定格冷却COP",null,null,null,"自動計算",null,null,null,null,null,null,"σco",{"$f":"IFERROR(Q$29/Q$30,\"\")","v":5},{"$f":"IFERROR(R$29/R$30,\"\")","v":""},{"$f":"IFERROR(S$29/S$30,\"\")","v":""},"σco＝Φco／Pco"]
[null,null,null,null,"定格加熱能力",null,null,null,"水冷HPチラーの仕様を入力",null,null,null,null,null,null,"Φwo",180,null,null,"kW"]
[null,null,null,null,"定格加熱消費電力",null,null,null,"水冷HPチラーの仕様を入力",null,null,null,null,null,null,"Pwo",34.299999999999997,null,null,"kW"]
[null,null,null,null,"定格加熱COP",null,null,null,"自動計算",null,null,null,null,null,null,"σwo",{"$f":"IFERROR(Q$32/Q$33,\"\")","v":5.2478134110787176},{"$f":"IFERROR(R$32/R$33,\"\")","v":""},{"$f":"IFERROR(S$32/S$33,\"\")","v":""},"σwo＝Φwo／Pwo"]
[null,null,null,null,"冷却塔ファンモータ定格出力",null,null,null,"水冷HPチラーの仕様を入力",null,null,null,null,null,null,"Pf",1.5,null,null,"kW"]
[null,null,null,null,"冷却水ポンプ定格出力",null,null,null,"水冷HPチラーの仕様を入力",null,null,null,null,null,null,"Pp1",3.7,null,null,"kW"]
[null,null,null,null,"冷温水ポンプ定格出力",null,null,null,"水冷HPチラーの仕様を入力",null,null,null,null,null,null,"Pp2",2.2000000000000002,null,null,"kW"]
[null,null,null,null,"暖房時熱源水ポンプ定格出力",null,null,null,"水冷HPチラーの仕様を入力",null,null,null,null,null,null,"Pps1",2.2000000000000002,null,null,"kW"]
[]
[]
[]
[null,null,null,"設備導入後",null,null,null,null,null,null,null,null,null,null,null,null,"後1","後2","後3"]
[null,null,null,null,"定格冷却能力",null,null,null,"水冷HPチラーの仕様を入力",null,null,null,null,null,null,"Φco",null,null,null,"kW"]
[null,null,null,null,"定格冷却消費電力",null,null,null,"水冷HPチラーの仕様を入力",null,null,null,null,null,null,"Pco",null,null,null,"kW"]
[null,null,null,null,"定格冷却COP",null,null,null,"自動計算",null,null,null,null,null,null,"σco",{"$f":"IFERROR(Q43/Q44,\"\")","v":""},{"$f":"IFERROR(R43/R44,\"\")","v":""},{"$f":"IFERROR(S43/S44,\"\")","v":""},"σco＝Φco／Pco"]
[null,null,null,null,"定格加熱能力",null,null,null,"水冷HPチラーの仕様を入力",null,null,null,null,null,null,"Φwo",null,null,null,"kW"]
[null,null,null,null,"定格加熱消費電力",null,null,null,"水冷HPチラーの仕様を入力",null,null,null,null,null,null,"Pwo",null,null,null,"kW"]
[null,null,null,null,"定格加熱COP",null,null,null,"自動計算",null,null,null,null,null,null,"σwo",{"$f":"IFERROR(Q$46/Q$47,\"\")","v":""},{"$f":"IFERROR(R$46/R$47,\"\")","v":""},{"$f":"IFERROR(S$46/S$47,\"\")","v":""},"σwo＝Φwo／Pwo"]
[null,null,null,null,"冷却塔ファンモータ定格出力",null,null,null,"水冷HPチラーの仕様を入力",null,null,null,null,null,null,"Pf",null,null,null,"kW"]
[null,null,null,null,"冷却水ポンプ定格出力",null,null,null,"水冷HPチラーの仕様を入力",null,null,null,null,null,null,"Pp1",null,null,null,"kW"]
[null,null,null,null,"冷温水ポンプ定格出力",null,null,null,"水冷HPチラーの仕様を入力",null,null,null,null,null,null,"Pp2",null,null,null,"kW"]
[null,null,null,null,"暖房時熱源水ポンプ定格出力",null,null,null,"水冷HPチラーの仕様を入力",null,null,null,null,null,null,"Pps1",null,null,null,"kW"]
[]
[]
[]
[null,null,"設備導入前年間電力使用量[kWh]"]
[null,null,null,"冷却(Ec)",null,"加熱(Ew)",null,"合計(Ecw)"]
[null,null,null,{"$f":"IFERROR($F$74+$M$74+$T$74,\"\")","v":0},null,{"$f":"IFERROR($I$74+$P$74+$W$74,\"\")","v":0},null,{"$f":"IFERROR($J$74+$Q$74+$X$74,\"\")","v":0}]
[]
[null,null,null,"前1",null,null,null,null,null,null,"前2",null,null,null,null,null,null,"前3"]
[null,null,"月    期間","主機(Ecc)","補機(Eaxc)","全体(Ec)","主機(Eww)","補機(Eaxw)","全体(Ew)","月合計","主機(Ecc)","補機(Eaxc)","全体(Ec)","主機(Eww)","補機(Eaxw)","全体(Ew)","月合計","主機(Ecc)","補機(Eaxc)","全体(Ec)","主機(Eww)","補機(Eaxw)","全体(Ew)","月合計"]
[null,null,4,{"$f":"IF($C$7=\"---\",\"\",IFERROR(AX149,\"\"))","v":""},{"$f":"IF($C$7=\"---\",\"\",IFERROR(AY149,\"\"))","v":""},"",{"$f":"IF($C$7=\"---\",\"\",IFERROR(AX171,\"\"))","v":""},{"$f":"IF($C$7=\"---\",\"\",IFERROR(AY171,\"\"))","v":""},{"$f":"IF($C$7=\"---\",\"\",IFERROR(AZ171,\"\"))","v":""},{"$f":"IFERROR(SUM(F62+I62),\"\")","v":""},{"$f":"IF($C$7=\"---\",\"\",IFERROR($BA149,\"\"))","v":""},{"$f":"IF($C$7=\"---\",\"\",IFERROR($BB149,\"\"))","v":""},{"$f":"IF($C$7=\"---\",\"\",IFERROR($BC149,\"\"))","v":""},{"$f":"IF($C$7=\"---\",\"\",IFERROR(BA171,\"\"))","v":""},{"$f":"IF($C$7=\"---\",\"\",IFERROR(BB171,\"\"))","v":""},{"$f":"IF($C$7=\"---\",\"\",IFERROR(BC171,\"\"))","v":""},{"$f":"IFERROR(SUM(M62+P62),\"\")","v":""},{"$f":"IF($C$7=\"---\",\"\",IFERROR($BD149,\"\"))","v":""},{"$f":"IF($C$7=\"---\",\"\",IFERROR($BE149,\"\"))","v":""},{"$f":"IF($C$7=\"---\",\"\",IFERROR($BF149,\"\"))","v":""},{"$f":"IF($C$7=\"---\",\"\",IFERROR(BD171,\"\"))","v":""},{"$f":"IF($C$7=\"---\",\"\",IFERROR(BE171,\"\"))","v":""},{"$f":"IF($C$7=\"---\",\"\",IFERROR(BF171,\"\"))","v":""},{"$f":"IFERROR(SUM(T62+W62),\"\")","v":""}]
[null,null,5,{"$f":"IF($C$7=\"---\",\"\",IFERROR($AX150,\"\"))","v":""},"","",{"$f":"IF($C$7=\"---\",\"\",IFERROR(AX172,\"\"))","v":""},"","",{"$f":"IFERROR(SUM(F63+I63),\"\")","v":""},{"$f":"IF($C$7=\"---\",\"\",IFERROR($BA150,\"\"))","v":""},{"$f":"IF($C$7=\"---\",\"\",IFERROR($BB150,\"\"))","v":""},{"$f":"IF($C$7=\"---\",\"\",IFERROR($BC150,\"\"))","v":""},{"$f":"IF($C$7=\"---\",\"\",IFERROR(BA172,\"\"))","v":""},"","",{"$f":"IFERROR(SUM(M63+P63),\"\")","v":""},{"$f":"IF($C$7=\"---\",\"\",IFERROR($BD150,\"\"))","v":""},{"$f":"IF($C$7=\"---\",\"\",IFERROR($BE150,\"\"))","v":""},{"$f":"IF($C$7=\"---\",\"\",IFERROR($BF150,\"\"))","v":""},{"$f":"IF($C$7=\"---\",\"\",IFERROR(BD172,\"\"))","v":""},"","",{"$f":"IFERROR(SUM(T63+W63),\"\")","v":""}]
[null,null,6,"","","","","","","","","","","","","","","","","","","","",""]
[null,null,7,"","","","","","","","","","","","","","","","","","","","",""]
[null,null,8,"","","","","","","","","","","","","","","","","","","","",""]
[null,null,9,"","","","","","","","","","","","","","","","","","","","",""]
[null,null,10,"","","","","","","","","","","","","","","","","","","","",""]
[null,null,11,"","","","","","","","","","","","","","","","","","","","",""]
[null,null,12,"","","","","","",{"$f":"IFERROR(SUM(F70+I70),\"\")","v":""},"","","","","","",{"$f":"IFERROR(SUM(M70+P70),\"\")","v":""},"","","","","","",{"$f":"IFERROR(SUM(T70+W70),\"\")","v":""}]
[null,null,1,"","","","","","","","","","","","","","","","","","","","",""]
[null,null,2,"","","","","","",{"$f":"IFERROR(SUM(F72+I72),\"\")","v":""},"","","","","","",{"$f":"IFERROR(SUM(M72+P72),\"\")","v":""},"","","","","","",""]
[null,null,3,"","","","","","",{"$f":"IFERROR(SUM(F73+I73),\"\")","v":""},"","","","","","","","","","","","","",""]
[null,null,"合計",{"$f":"IFERROR(SUM($D$62:$D$73),\"\")","v":0},{"$f":"IFERROR(SUM($E$62:$E$73),\"\")","v":0},{"$f":"IFERROR(SUM(F$62:F$73),\"\")","v":0},0,0,0,0,0,{"$f":"IFERROR(SUM(L$62:L$73),\"\")","v":0},0,0,0,0,0,0,0,{"$f":"IFERROR(SUM(T$62:T$73),\"\")","v":0},0,0,0,0]
[]
[]
[null,null,"設備導入後年間電力使用量[kWh]"]
[null,null,null,"冷却(Ec)",null,"加熱(Ew)",null,"合計(Ecw)"]
[null,null,null,{"$f":"IFERROR($F$95+$M$95+$T$95,\"\")","v":0},null,{"$f":"IFERROR($I$95+$P$95+$W$95,\"\")","v":0},null,{"$f":"IFERROR($J$95+$Q$95+$X$95,\"\")","v":0}]
[]
[null,null,null,"後1",null,null,null,null,null,null,"後2",null,null,null,null,null,null,"後3"]
[null,null,"月    期間","主機(Ecc)","補機(Eaxc)","全体(Ec)","主機(Eww)","補機(Eaxw)","全体(Ew)","月合計","主機(Ecc)","補機(Eaxc)","全体(Ec)","主機(Eww)","補機(Eaxw)","全体(Ew)","月合計","主機(Ecc)","補機(Eaxc)","全体(Ec)","主機(Eww)","補機(Eaxw)","全体(Ew)","月合計"]
[null,null,4,{"$f":"IF($C$7=\"---\",\"\",IFERROR($BH149,\"\"))","v":""},{"$f":"IF($C$7=\"---\",\"\",IFERROR($BI149,\"\"))","v":""},{"$f":"IF($C$7=\"---\",\"\",IFERROR($BJ149,\"\"))","v":""},{"$f":"IF($C$7=\"---\",\"\",IFERROR($BH171,\"\"))","v":""},{"$f":"IF($C$7=\"---\",\"\",IFERROR($BI171,\"\"))","v":""},{"$f":"IF($C$7=\"---\",\"\",IFERROR($BJ171,\"\"))","v":""},{"$f":"IFERROR(SUM(F83+I83),\"\")","v":""},{"$f":"IF($C$7=\"---\",\"\",IFERROR($BK149,\"\"))","v":""},{"$f":"IF($C$7=\"---\",\"\",IFERROR($BL149,\"\"))","v":""},{"$f":"IF($C$7=\"---\",\"\",IFERROR($BM149,\"\"))","v":""},{"$f":"IF($C$7=\"---\",\"\",IFERROR($BK171,\"\"))","v":""},{"$f":"IF($C$7=\"---\",\"\",IFERROR($BL171,\"\"))","v":""},{"$f":"IF($C$7=\"---\",\"\",IFERROR($BM171,\"\"))","v":""},{"$f":"IFERROR(SUM(M83+P83),\"\")","v":""},{"$f":"IF($C$7=\"---\",\"\",IFERROR($BN149,\"\"))","v":""},{"$f":"IF($C$7=\"---\",\"\",IFERROR($BO149,\"\"))","v":""},{"$f":"IF($C$7=\"---\",\"\",IFERROR($BP149,\"\"))","v":""},{"$f":"IF($C$7=\"---\",\"\",IFERROR($BN171,\"\"))","v":""},{"$f":"IF($C$7=\"---\",\"\",IFERROR($BO171,\"\"))","v":""},{"$f":"IF($C$7=\"---\",\"\",IFERROR($BP171,\"\"))","v":""},{"$f":"IFERROR(SUM(T83+W83),\"\")","v":""}]
[null,null,5,{"$f":"IF($C$7=\"---\",\"\",IFERROR($BH150,\"\"))","v":""},{"$f":"IF($C$7=\"---\",\"\",IFERROR($BI150,\"\"))","v":""},{"$f":"IF($C$7=\"---\",\"\",IFERROR($BJ150,\"\"))","v":""},{"$f":"IF($C$7=\"---\",\"\",IFERROR($BH172,\"\"))","v":""},{"$f":"IF($C$7=\"---\",\"\",IFERROR($BI172,\"\"))","v":""},{"$f":"IF($C$7=\"---\",\"\",IFERROR($BJ172,\"\"))","v":""},{"$f":"IFERROR(SUM(F84+I84),\"\")","v":""},{"$f":"IF($C$7=\"---\",\"\",IFERROR($BK150,\"\"))","v":""},{"$f":"IF($C$7=\"---\",\"\",IFERROR($BL150,\"\"))","v":""},{"$f":"IF($C$7=\"---\",\"\",IFERROR($BM150,\"\"))","v":""},{"$f":"IF($C$7=\"---\",\"\",IFERROR($BK172,\"\"))","v":""},{"$f":"IF($C$7=\"---\",\"\",IFERROR($BL172,\"\"))","v":""},{"$f":"IF($C$7=\"---\",\"\",IFERROR($BM172,\"\"))","v":""},{"$f":"IFERROR(SUM(M84+P84),\"\")","v":""},{"$f":"IF($C$7=\"---\",\"\",IFERROR($BN150,\"\"))","v":""},{"$f":"IF($C$7=\"---\",\"\",IFERROR($BO150,\"\"))","v":""},{"$f":"IF($C$7=\"---\",\"\",IFERROR($BP150,\"\"))","v":""},{"$f":"IF($C$7=\"---\",\"\",IFERROR($BN172,\"\"))","v":""},{"$f":"IF($C$7=\"---\",\"\",IFERROR($BO172,\"\"))","v":""},{"$f":"IF($C$7=\"---\",\"\",IFERROR($BP172,\"\"))","v":""},{"$f":"IFERROR(SUM(T84+W84),\"\")","v":""}]
[null,null,6,"","","","","","","","","","","","","","","","","","","","",""]
[null,null,7,"","","","","","","","","","","","","","","","","","","","",""]
[null,null,8,"","","","","","","","","","","","","","","","","","","","",""]
[null,null,9,"","","","","","","","","","","","","","","","","","","","",""]
[null,null,10,"","","","","","","","","","","","","","","","","","","","",""]
[null,null,11,"","","","","","","","","","","","","","","","","","","","",{"$f":"IFERROR(SUM(T90+W90),\"\")","v":""}]
[null,null,12,"","","","","","",{"$f":"IFERROR(SUM(F91+I91),\"\")","v":""},"","","","","","",{"$f":"IFERROR(SUM(M91+P91),\"\")","v":""},"","","","","","",{"$f":"IFERROR(SUM(T91+W91),\"\")","v":""}]
[null,null,1,"","","","","","","","","","","","","","","","","","","","",""]
[null,null,2,"","","","","","","","","","","","","","","","","","","","",""]
[null,null,3,"","","",{"$f":"IF($C$7=\"---\",\"\",IFERROR($BH182,\"\"))","v":""},{"$f":"IF($C$7=\"---\",\"\",IFERROR($BI182,\"\"))","v":""},{"$f":"IF($C$7=\"---\",\"\",IFERROR($BJ182,\"\"))","v":""},"","","","","","","","","","","","","","",""]
[null,null,"合計",{"$f":"IFERROR(SUM(D83:D94),\"\")","v":0},{"$f":"IFERROR(SUM(E83:E94),\"\")","v":0},0,0,0,0,0,0,0,0,0,0,0,0,0,0,0,0,0,0,0]
[]
[]
[null,null,"作業表1(青色のセルを「24」、オレンジ色のセルを「19」として抽出）"]
[null,null,null," 時刻"]
[null,null,"月",0,1,2,3,4,5,6,7,8,9,10,11,12,13,14,15,16,17,18,19,20,21,22,23,"月"]
[null,null,4,{"$f":"CELLCOLOR($D$12)","v":-4142},{"$f":"CELLCOLOR($E$12)","v":-4142},{"$f":"CELLCOLOR($F$12)","v":-4142},{"$f":"CELLCOLOR($G$12)","v":-4142},{"$f":"CELLCOLOR($H$12)","v":-4142},{"$f":"CELLCOLOR($I$12)","v":-4142},{"$f":"CELLCOLOR($J$12)","v":-4142},{"$f":"CELLCOLOR($K$12)","v":-4142},{"$f":"CELLCOLOR($L$12)","v":-4142},{"$f":"CELLCOLOR($M$12)","v":-4142},{"$f":"CELLCOLOR($N$12)","v":-4142},{"$f":"CELLCOLOR($O$12)","v":-4142},{"$f":"CELLCOLOR($P$12)","v":-4142},{"$f":"CELLCOLOR($Q$12)","v":-4142},{"$f":"CELLCOLOR($R$12)","v":-4142},{"$f":"CELLCOLOR($S$12)","v":-4142},{"$f":"CELLCOLOR($T$12)","v":-4142},{"$f":"CELLCOLOR($U$12)","v":-4142},{"$f":"CELLCOLOR($V$12)","v":-4142},{"$f":"CELLCOLOR($W$12)","v":-4142},{"$f":"CELLCOLOR($X$12)","v":-4142},{"$f":"CELLCOLOR($Y$12)","v":-4142},{"$f":"CELLCOLOR($Z$12)","v":-4142},{"$f":"CELLCOLOR($AA$12)","v":-4142},4]
[null,null,5,{"$f":"CELLCOLOR($D$13)","v":-4142},{"$f":"CELLCOLOR($E$13)","v":-4142},{"$f":"CELLCOLOR($F$13)","v":-4142},{"$f":"CELLCOLOR($G$13)","v":-4142},{"$f":"CELLCOLOR($H$13)","v":-4142},{"$f":"CELLCOLOR($I$13)","v":-4142},{"$f":"CELLCOLOR($J$13)","v":-4142},{"$f":"CELLCOLOR($K$13)","v":-4142},{"$f":"CELLCOLOR($L$13)","v":-4142},{"$f":"CELLCOLOR($M$13)","v":-4142},{"$f":"CELLCOLOR($N$13)","v":-4142},{"$f":"CELLCOLOR($O$13)","v":-4142},{"$f":"CELLCOLOR($P$13)","v":-4142},{"$f":"CELLCOLOR($Q$13)","v":-4142},{"$f":"CELLCOLOR($R$13)","v":-4142},{"$f":"CELLCOLOR($S$13)","v":-4142},{"$f":"CELLCOLOR($T$13)","v":-4142},{"$f":"CELLCOLOR($U$13)","v":-4142},{"$f":"CELLCOLOR($V$13)","v":-4142},{"$f":"CELLCOLOR($W$13)","v":-4142},{"$f":"CELLCOLOR($X$13)","v":-4142},{"$f":"CELLCOLOR($Y$13)","v":-4142},{"$f":"CELLCOLOR($Z$13)","v":-4142},{"$f":"CELLCOLOR($AA$13)","v":-4142},5]
[null,null,6,{"$f":"CELLCOLOR($D$14)","v":-4142},{"$f":"CELLCOLOR($E$14)","v":-4142},{"$f":"CELLCOLOR($F$14)","v":-4142},{"$f":"CELLCOLOR($G$14)","v":-4142},{"$f":"CELLCOLOR($H$14)","v":-4142},{"$f":"CELLCOLOR($I$14)","v":-4142},{"$f":"CELLCOLOR($J$14)","v":-4142},{"$f":"CELLCOLOR($K$14)","v":-4142},{"$f":"CELLCOLOR($L$14)","v":-4142},{"$f":"CELLCOLOR($M$14)","v":-4142},{"$f":"CELLCOLOR($N$14)","v":-4142},{"$f":"CELLCOLOR($O$14)","v":-4142},{"$f":"CELLCOLOR($P$14)","v":-4142},{"$f":"CELLCOLOR($Q$14)","v":-4142},{"$f":"CELLCOLOR($R$14)","v":-4142},{"$f":"CELLCOLOR($S$14)","v":-4142},{"$f":"CELLCOLOR($T$14)","v":-4142},{"$f":"CELLCOLOR($U$14)","v":-4142},{"$f":"CELLCOLOR($V$14)","v":-4142},{"$f":"CELLCOLOR($W$14)","v":-4142},{"$f":"CELLCOLOR($X$14)","v":-4142},{"$f":"CELLCOLOR($Y$14)","v":-4142},{"$f":"CELLCOLOR($Z$14)","v":-4142},{"$f":"CELLCOLOR($AA$14)","v":-4142},6]
[null,null,7,{"$f":"CELLCOLOR($D$15)","v":-4142},{"$f":"CELLCOLOR($E$15)","v":-4142},{"$f":"CELLCOLOR($F$15)","v":-4142},{"$f":"CELLCOLOR($G$15)","v":-4142},{"$f":"CELLCOLOR($H$15)","v":-4142},{"$f":"CELLCOLOR($I$15)","v":-4142},{"$f":"CELLCOLOR($J$15)","v":-4142},{"$f":"CELLCOLOR($K$15)","v":-4142},{"$f":"CELLCOLOR($L$15)","v":-4142},{"$f":"CELLCOLOR($M$15)","v":-4142},{"$f":"CELLCOLOR($N$15)","v":-4142},{"$f":"CELLCOLOR($O$15)","v":-4142},{"$f":"CELLCOLOR($P$15)","v":-4142},{"$f":"CELLCOLOR($Q$15)","v":-4142},{"$f":"CELLCOLOR($R$15)","v":-4142},{"$f":"CELLCOLOR($S$15)","v":-4142},{"$f":"CELLCOLOR($T$15)","v":-4142},{"$f":"CELLCOLOR($U$15)","v":-4142},{"$f":"CELLCOLOR($V$15)","v":-4142},{"$f":"CELLCOLOR($W$15)","v":-4142},{"$f":"CELLCOLOR($X$15)","v":-4142},{"$f":"CELLCOLOR($Y$15)","v":-4142},{"$f":"CELLCOLOR($Z$15)","v":-4142},{"$f":"CELLCOLOR($AA$15)","v":-4142},7]
[null,null,8,{"$f":"CELLCOLOR($D$16)","v":-4142},{"$f":"CELLCOLOR($E$16)","v":-4142},{"$f":"CELLCOLOR($F$16)","v":-4142},{"$f":"CELLCOLOR($G$16)","v":-4142},{"$f":"CELLCOLOR($H$16)","v":-4142},{"$f":"CELLCOLOR($I$16)","v":-4142},{"$f":"CELLCOLOR($J$16)","v":-4142},{"$f":"CELLCOLOR($K$16)","v":-4142},{"$f":"CELLCOLOR($L$16)","v":-4142},{"$f":"CELLCOLOR($M$16)","v":-4142},{"$f":"CELLCOLOR($N$16)","v":-4142},{"$f":"CELLCOLOR($O$16)","v":-4142},{"$f":"CELLCOLOR($P$16)","v":-4142},{"$f":"CELLCOLOR($Q$16)","v":-4142},{"$f":"CELLCOLOR($R$16)","v":-4142},{"$f":"CELLCOLOR($S$16)","v":-4142},{"$f":"CELLCOLOR($T$16)","v":-4142},{"$f":"CELLCOLOR($U$16)","v":-4142},{"$f":"CELLCOLOR($V$16)","v":-4142},{"$f":"CELLCOLOR($W$16)","v":-4142},{"$f":"CELLCOLOR($X$16)","v":-4142},{"$f":"CELLCOLOR($Y$16)","v":-4142},{"$f":"CELLCOLOR($Z$16)","v":-4142},{"$f":"CELLCOLOR($AA$16)","v":-4142},8]
[null,null,9,{"$f":"CELLCOLOR($D$17)","v":-4142},{"$f":"CELLCOLOR($E$17)","v":-4142},{"$f":"CELLCOLOR($F$17)","v":-4142},{"$f":"CELLCOLOR($G$17)","v":-4142},{"$f":"CELLCOLOR($H$17)","v":-4142},{"$f":"CELLCOLOR($I$17)","v":-4142},{"$f":"CELLCOLOR($J$17)","v":-4142},{"$f":"CELLCOLOR($K$17)","v":-4142},{"$f":"CELLCOLOR($L$17)","v":-4142},{"$f":"CELLCOLOR($M$17)","v":-4142},{"$f":"CELLCOLOR($N$17)","v":-4142},{"$f":"CELLCOLOR($O$17)","v":-4142},{"$f":"CELLCOLOR($P$17)","v":-4142},{"$f":"CELLCOLOR($Q$17)","v":-4142},{"$f":"CELLCOLOR($R$17)","v":-4142},{"$f":"CELLCOLOR($S$17)","v":-4142},{"$f":"CELLCOLOR($T$17)","v":-4142},{"$f":"CELLCOLOR($U$17)","v":-4142},{"$f":"CELLCOLOR($V$17)","v":-4142},{"$f":"CELLCOLOR($W$17)","v":-4142},{"$f":"CELLCOLOR($X$17)","v":-4142},{"$f":"CELLCOLOR($Y$17)","v":-4142},{"$f":"CELLCOLOR($Z$17)","v":-4142},{"$f":"CELLCOLOR($AA$17)","v":-4142},9]
[null,null,10,{"$f":"CELLCOLOR($D$18)","v":-4142},{"$f":"CELLCOLOR($E$18)","v":-4142},{"$f":"CELLCOLOR($F$18)","v":-4142},{"$f":"CELLCOLOR($G$18)","v":-4142},{"$f":"CELLCOLOR($H$18)","v":-4142},{"$f":"CELLCOLOR($I$18)","v":-4142},{"$f":"CELLCOLOR($J$18)","v":-4142},{"$f":"CELLCOLOR($K$18)","v":-4142},{"$f":"CELLCOLOR($L$18)","v":-4142},{"$f":"CELLCOLOR($M$18)","v":-4142},{"$f":"CELLCOLOR($N$18)","v":-4142},{"$f":"CELLCOLOR($O$18)","v":-4142},{"$f":"CELLCOLOR($P$18)","v":-4142},{"$f":"CELLCOLOR($Q$18)","v":-4142},{"$f":"CELLCOLOR($R$18)","v":-4142},{"$f":"CELLCOLOR($S$18)","v":-4142},{"$f":"CELLCOLOR($T$18)","v":-4142},{"$f":"CELLCOLOR($U$18)","v":-4142},{"$f":"CELLCOLOR($V$18)","v":-4142},{"$f":"CELLCOLOR($W$18)","v":-4142},{"$f":"CELLCOLOR($X$18)","v":-4142},{"$f":"CELLCOLOR($Y$18)","v":-4142},{"$f":"CELLCOLOR($Z$18)","v":-4142},{"$f":"CELLCOLOR($AA$18)","v":-4142},10]
[null,null,11,{"$f":"CELLCOLOR($D$19)","v":-4142},{"$f":"CELLCOLOR($E$19)","v":-4142},{"$f":"CELLCOLOR($F$19)","v":-4142},{"$f":"CELLCOLOR($G$19)","v":-4142},{"$f":"CELLCOLOR($H$19)","v":-4142},{"$f":"CELLCOLOR($I$19)","v":-4142},{"$f":"CELLCOLOR($J$19)","v":-4142},{"$f":"CELLCOLOR($K$19)","v":-4142},{"$f":"CELLCOLOR($L$19)","v":-4142},{"$f":"CELLCOLOR($M$19)","v":-4142},{"$f":"CELLCOLOR($N$19)","v":-4142},{"$f":"CELLCOLOR($O$19)","v":-4142},{"$f":"CELLCOLOR($P$19)","v":-4142},{"$f":"CELLCOLOR($Q$19)","v":-4142},{"$f":"CELLCOLOR($R$19)","v":-4142},{"$f":"CELLCOLOR($S$19)","v":-4142},{"$f":"CELLCOLOR($T$19)","v":-4142},{"$f":"CELLCOLOR($U$19)","v":-4142},{"$f":"CELLCOLOR($V$19)","v":-4142},{"$f":"CELLCOLOR($W$19)","v":-4142},{"$f":"CELLCOLOR($X$19)","v":-4142},{"$f":"CELLCOLOR($Y$19)","v":-4142},{"$f":"CELLCOLOR($Z$19)","v":-4142},{"$f":"CELLCOLOR($AA$19)","v":-4142},11]
[null,null,12,{"$f":"CELLCOLOR($D$20)","v":-4142},{"$f":"CELLCOLOR($E$20)","v":-4142},{"$f":"CELLCOLOR($F$20)","v":-4142},{"$f":"CELLCOLOR($G$20)","v":-4142},{"$f":"CELLCOLOR($H$20)","v":-4142},{"$f":"CELLCOLOR($I$20)","v":-4142},{"$f":"CELLCOLOR($J$20)","v":-4142},{"$f":"CELLCOLOR($K$20)","v":-4142},{"$f":"CELLCOLOR($L$20)","v":-4142},{"$f":"CELLCOLOR($M$20)","v":-4142},{"$f":"CELLCOLOR($N$20)","v":-4142},{"$f":"CELLCOLOR($O$20)","v":-4142},{"$f":"CELLCOLOR($P$20)","v":-4142},{"$f":"CELLCOLOR($Q$20)","v":-4142},{"$f":"CELLCOLOR($R$20)","v":-4142},{"$f":"CELLCOLOR($S$20)","v":-4142},{"$f":"CELLCOLOR($T$20)","v":-4142},{"$f":"CELLCOLOR($U$20)","v":-4142},{"$f":"CELLCOLOR($V$20)","v":-4142},{"$f":"CELLCOLOR($W$20)","v":-4142},{"$f":"CELLCOLOR($X$20)","v":-4142},{"$f":"CELLCOLOR($Y$20)","v":-4142},{"$f":"CELLCOLOR($Z$20)","v":-4142},{"$f":"CELLCOLOR($AA$20)","v":-4142},12]
[null,null,1,{"$f":"CELLCOLOR($D$21)","v":-4142},{"$f":"CELLCOLOR($E$21)","v":-4142},{"$f":"CELLCOLOR($F$21)","v":-4142},{"$f":"CELLCOLOR($G$21)","v":-4142},{"$f":"CELLCOLOR($H$21)","v":-4142},{"$f":"CELLCOLOR($I$21)","v":-4142},{"$f":"CELLCOLOR($J$21)","v":-4142},{"$f":"CELLCOLOR($K$21)","v":-4142},{"$f":"CELLCOLOR($L$21)","v":-4142},{"$f":"CELLCOLOR($M$21)","v":-4142},{"$f":"CELLCOLOR($N$21)","v":-4142},{"$f":"CELLCOLOR($O$21)","v":-4142},{"$f":"CELLCOLOR($P$21)","v":-4142},{"$f":"CELLCOLOR($Q$21)","v":-4142},{"$f":"CELLCOLOR($R$21)","v":-4142},{"$f":"CELLCOLOR($S$21)","v":-4142},{"$f":"CELLCOLOR($T$21)","v":-4142},{"$f":"CELLCOLOR($U$21)","v":-4142},{"$f":"CELLCOLOR($V$21)","v":-4142},{"$f":"CELLCOLOR($W$21)","v":-4142},{"$f":"CELLCOLOR($X$21)","v":-4142},{"$f":"CELLCOLOR($Y$21)","v":-4142},{"$f":"CELLCOLOR($Z$21)","v":-4142},{"$f":"CELLCOLOR($AA$21)","v":-4142},1]
[null,null,2,{"$f":"CELLCOLOR($D$22)","v":-4142},{"$f":"CELLCOLOR($E$22)","v":-4142},{"$f":"CELLCOLOR($F$22)","v":-4142},{"$f":"CELLCOLOR($G$22)","v":-4142},{"$f":"CELLCOLOR($H$22)","v":-4142},{"$f":"CELLCOLOR($I$22)","v":-4142},{"$f":"CELLCOLOR($J$22)","v":-4142},{"$f":"CELLCOLOR($K$22)","v":-4142},{"$f":"CELLCOLOR($L$22)","v":-4142},{"$f":"CELLCOLOR($M$22)","v":-4142},{"$f":"CELLCOLOR($N$22)","v":-4142},{"$f":"CELLCOLOR($O$22)","v":-4142},{"$f":"CELLCOLOR($P$22)","v":-4142},{"$f":"CELLCOLOR($Q$22)","v":-4142},{"$f":"CELLCOLOR($R$22)","v":-4142},{"$f":"CELLCOLOR($S$22)","v":-4142},{"$f":"CELLCOLOR($T$22)","v":-4142},{"$f":"CELLCOLOR($U$22)","v":-4142},{"$f":"CELLCOLOR($V$22)","v":-4142},{"$f":"CELLCOLOR($W$22)","v":-4142},{"$f":"CELLCOLOR($X$22)","v":-4142},{"$f":"CELLCOLOR($Y$22)","v":-4142},{"$f":"CELLCOLOR($Z$22)","v":-4142},{"$f":"CELLCOLOR($AA$22)","v":-4142},2]
[null,null,3,{"$f":"CELLCOLOR($D$23)","v":-4142},{"$f":"CELLCOLOR($E$23)","v":-4142},{"$f":"CELLCOLOR($F$23)","v":-4142},{"$f":"CELLCOLOR($G$23)","v":-4142},{"$f":"CELLCOLOR($H$23)","v":-4142},{"$f":"CELLCOLOR($I$23)","v":-4142},{"$f":"CELLCOLOR($J$23)","v":-4142},{"$f":"CELLCOLOR($K$23)","v":-4142},{"$f":"CELLCOLOR($L$23)","v":-4142},{"$f":"CELLCOLOR($M$23)","v":-4142},{"$f":"CELLCOLOR($N$23)","v":-4142},{"$f":"CELLCOLOR($O$23)","v":-4142},{"$f":"CELLCOLOR($P$23)","v":-4142},{"$f":"CELLCOLOR($Q$23)","v":-4142},{"$f":"CELLCOLOR($R$23)","v":-4142},{"$f":"CELLCOLOR($S$23)","v":-4142},{"$f":"CELLCOLOR($T$23)","v":-4142},{"$f":"CELLCOLOR($U$23)","v":-4142},{"$f":"CELLCOLOR($V$23)","v":-4142},{"$f":"CELLCOLOR($W$23)","v":-4142},{"$f":"CELLCOLOR($X$23)","v":-4142},{"$f":"CELLCOLOR($Y$23)","v":-4142},{"$f":"CELLCOLOR($Z$23)","v":-4142},{"$f":"CELLCOLOR($AA$23)","v":-4142},3]
[]
[null,null,"作業表2-1(冷却)●月▲時の平均外気湿球温度(四捨五入で表示）"]
[null,null,null," 時刻"]
[null,null,"月",0,1,2,3,4,5,6,7,8,9,10,11,12,13,14,15,16,17,18,19,20,21,22,23,"月"]
[null,null,4,{"$f":"IF($D$101=24,ROUND($D$12,0),\"\")&\"\"","v":""},{"$f":"IF($E$101=24,ROUND($E$12,0),\"\")&\"\"","v":""},{"$f":"IF($F$101=24,ROUND($F$12,0),\"\")&\"\"","v":""},{"$f":"IF($G$101=24,ROUND($G$12,0),\"\")&\"\"","v":""},{"$f":"IF($H$101=24,ROUND($H$12,0),\"\")&\"\"","v":""},{"$f":"IF($I$101=24,ROUND($I$12,0),\"\")&\"\"","v":""},{"$f":"IF($J$101=24,ROUND($J$12,0),\"\")&\"\"","v":""},{"$f":"IF($K$101=24,ROUND($K$12,0),\"\")&\"\"","v":""},{"$f":"IF($L$101=24,ROUND($L$12,0),\"\")&\"\"","v":""},{"$f":"IF($M$101=24,ROUND($M$12,0),\"\")&\"\"","v":""},{"$f":"IF($N$101=24,ROUND($N$12,0),\"\")&\"\"","v":""},{"$f":"IF($O$101=24,ROUND($O$12,0),\"\")&\"\"","v":""},{"$f":"IF($P$101=24,ROUND($P$12,0),\"\")&\"\"","v":""},{"$f":"IF($Q$101=24,ROUND($Q$12,0),\"\")&\"\"","v":""},{"$f":"IF($R$101=24,ROUND($R$12,0),\"\")&\"\"","v":""},{"$f":"IF($S$101=24,ROUND($S$12,0),\"\")&\"\"","v":""},{"$f":"IF($T$101=24,ROUND($T$12,0),\"\")&\"\"","v":""},{"$f":"IF($U$101=24,ROUND($U$12,0),\"\")&\"\"","v":""},{"$f":"IF($V$101=24,ROUND($V$12,0),\"\")&\"\"","v":""},{"$f":"IF($W$101=24,ROUND($W$12,0),\"\")&\"\"","v":""},{"$f":"IF($X$101=24,ROUND($X$12,0),\"\")&\"\"","v":""},{"$f":"IF($Y$101=24,ROUND($Y$12,0),\"\")&\"\"","v":""},{"$f":"IF($Z$101=24,ROUND($Z$12,0),\"\")&\"\"","v":""},{"$f":"IF($AA$101=24,ROUND($AA$12,0),\"\")&\"\"","v":""},4]
[null,null,5,{"$f":"IF($D$102=24,ROUND($D$13,0),\"\")&\"\"","v":""},{"$f":"IF($E$102=24,ROUND($E$13,0),\"\")&\"\"","v":""},{"$f":"IF($F$102=24,ROUND($F$13,0),\"\")&\"\"","v":""},{"$f":"IF($G$102=24,ROUND($G$13,0),\"\")&\"\"","v":""},{"$f":"IF($H$102=24,ROUND($H$13,0),\"\")&\"\"","v":""},{"$f":"IF($I$102=24,ROUND($I$13,0),\"\")&\"\"","v":""},{"$f":"IF($J$102=24,ROUND($J$13,0),\"\")&\"\"","v":""},{"$f":"IF($K$102=24,ROUND($K$13,0),\"\")&\"\"","v":""},{"$f":"IF($L$102=24,ROUND($L$13,0),\"\")&\"\"","v":""},{"$f":"IF($M$102=24,ROUND($M$13,0),\"\")&\"\"","v":""},{"$f":"IF($N$102=24,ROUND($N$13,0),\"\")&\"\"","v":""},{"$f":"IF($O$102=24,ROUND($O$13,0),\"\")&\"\"","v":""},{"$f":"IF($P$102=24,ROUND($P$13,0),\"\")&\"\"","v":""},{"$f":"IF($Q$102=24,ROUND($Q$13,0),\"\")&\"\"","v":""},{"$f":"IF($R$102=24,ROUND($R$13,0),\"\")&\"\"","v":""},{"$f":"IF($S$102=24,ROUND($S$13,0),\"\")&\"\"","v":""},{"$f":"IF($T$102=24,ROUND($T$13,0),\"\")&\"\"","v":""},{"$f":"IF($U$102=24,ROUND($U$13,0),\"\")&\"\"","v":""},{"$f":"IF($V$102=24,ROUND($V$13,0),\"\")&\"\"","v":""},{"$f":"IF($W$102=24,ROUND($W$13,0),\"\")&\"\"","v":""},{"$f":"IF($X$102=24,ROUND($X$13,0),\"\")&\"\"","v":""},{"$f":"IF($Y$102=24,ROUND($Y$13,0),\"\")&\"\"","v":""},{"$f":"IF($Z$102=24,ROUND($Z$13,0),\"\")&\"\"","v":""},{"$f":"IF($AA$102=24,ROUND($AA$13,0),\"\")&\"\"","v":""},5]
[null,null,6,{"$f":"IF($D$103=24,ROUND($D$14,0),\"\")&\"\"","v":""},{"$f":"IF($E$103=24,ROUND($E$14,0),\"\")&\"\"","v":""},{"$f":"IF($F$103=24,ROUND($F$14,0),\"\")&\"\"","v":""},{"$f":"IF($G$103=24,ROUND($G$14,0),\"\")&\"\"","v":""},{"$f":"IF($H$103=24,ROUND($H$14,0),\"\")&\"\"","v":""},{"$f":"IF($I$103=24,ROUND($I$14,0),\"\")&\"\"","v":""},{"$f":"IF($J$103=24,ROUND($J$14,0),\"\")&\"\"","v":""},{"$f":"IF($K$103=24,ROUND($K$14,0),\"\")&\"\"","v":""},{"$f":"IF($L$103=24,ROUND($L$14,0),\"\")&\"\"","v":""},{"$f":"IF($M$103=24,ROUND($M$14,0),\"\")&\"\"","v":""},{"$f":"IF($N$103=24,ROUND($N$14,0),\"\")&\"\"","v":""},{"$f":"IF($O$103=24,ROUND($O$14,0),\"\")&\"\"","v":""},{"$f":"IF($P$103=24,ROUND($P$14,0),\"\")&\"\"","v":""},{"$f":"IF($Q$103=24,ROUND($Q$14,0),\"\")&\"\"","v":""},{"$f":"IF($R$103=24,ROUND($R$14,0),\"\")&\"\"","v":""},{"$f":"IF($S$103=24,ROUND($S$14,0),\"\")&\"\"","v":""},{"$f":"IF($T$103=24,ROUND($T$14,0),\"\")&\"\"","v":""},{"$f":"IF($U$103=24,ROUND($U$14,0),\"\")&\"\"","v":""},{"$f":"IF($V$103=24,ROUND($V$14,0),\"\")&\"\"","v":""},{"$f":"IF($W$103=24,ROUND($W$14,0),\"\")&\"\"","v":""},{"$f":"IF($X$103=24,ROUND($X$14,0),\"\")&\"\"","v":""},{"$f":"IF($Y$103=24,ROUND($Y$14,0),\"\")&\"\"","v":""},{"$f":"IF($Z$103=24,ROUND($Z$14,0),\"\")&\"\"","v":""},{"$f":"IF($AA$103=24,ROUND($AA$14,0),\"\")&\"\"","v":""},6]
[null,null,7,{"$f":"IF($D$104=24,ROUND($D$15,0),\"\")&\"\"","v":""},{"$f":"IF($E$104=24,ROUND($E$15,0),\"\")&\"\"","v":""},{"$f":"IF($F$104=24,ROUND($F$15,0),\"\")&\"\"","v":""},{"$f":"IF($G$104=24,ROUND($G$15,0),\"\")&\"\"","v":""},{"$f":"IF($H$104=24,ROUND($H$15,0),\"\")&\"\"","v":""},{"$f":"IF($I$104=24,ROUND($I$15,0),\"\")&\"\"","v":""},{"$f":"IF($J$104=24,ROUND($J$15,0),\"\")&\"\"","v":""},{"$f":"IF($K$104=24,ROUND($K$15,0),\"\")&\"\"","v":""},{"$f":"IF($L$104=24,ROUND($L$15,0),\"\")&\"\"","v":""},{"$f":"IF($M$104=24,ROUND($M$15,0),\"\")&\"\"","v":""},{"$f":"IF($N$104=24,ROUND($N$15,0),\"\")&\"\"","v":""},{"$f":"IF($O$104=24,ROUND($O$15,0),\"\")&\"\"","v":""},{"$f":"IF($P$104=24,ROUND($P$15,0),\"\")&\"\"","v":""},{"$f":"IF($Q$104=24,ROUND($Q$15,0),\"\")&\"\"","v":""},{"$f":"IF($R$104=24,ROUND($R$15,0),\"\")&\"\"","v":""},{"$f":"IF($S$104=24,ROUND($S$15,0),\"\")&\"\"","v":""},{"$f":"IF($T$104=24,ROUND($T$15,0),\"\")&\"\"","v":""},{"$f":"IF($U$104=24,ROUND($U$15,0),\"\")&\"\"","v":""},{"$f":"IF($V$104=24,ROUND($V$15,0),\"\")&\"\"","v":""},{"$f":"IF($W$104=24,ROUND($W$15,0),\"\")&\"\"","v":""},{"$f":"IF($X$104=24,ROUND($X$15,0),\"\")&\"\"","v":""},{"$f":"IF($Y$104=24,ROUND($Y$15,0),\"\")&\"\"","v":""},{"$f":"IF($Z$104=24,ROUND($Z$15,0),\"\")&\"\"","v":""},{"$f":"IF($AA$104=24,ROUND($AA$15,0),\"\")&\"\"","v":""},7]
[null,null,8,{"$f":"IF($D$105=24,ROUND($D$16,0),\"\")&\"\"","v":""},{"$f":"IF($E$105=24,ROUND($E$16,0),\"\")&\"\"","v":""},{"$f":"IF($F$105=24,ROUND($F$16,0),\"\")&\"\"","v":""},{"$f":"IF($G$105=24,ROUND($G$16,0),\"\")&\"\"","v":""},{"$f":"IF($H$105=24,ROUND($H$16,0),\"\")&\"\"","v":""},{"$f":"IF($I$105=24,ROUND($I$16,0),\"\")&\"\"","v":""},{"$f":"IF($J$105=24,ROUND($J$16,0),\"\")&\"\"","v":""},{"$f":"IF($K$105=24,ROUND($K$16,0),\"\")&\"\"","v":""},{"$f":"IF($L$105=24,ROUND($L$16,0),\"\")&\"\"","v":""},{"$f":"IF($M$105=24,ROUND($M$16,0),\"\")&\"\"","v":""},{"$f":"IF($N$105=24,ROUND($N$16,0),\"\")&\"\"","v":""},{"$f":"IF($O$105=24,ROUND($O$16,0),\"\")&\"\"","v":""},{"$f":"IF($P$105=24,ROUND($P$16,0),\"\")&\"\"","v":""},{"$f":"IF($Q$105=24,ROUND($Q$16,0),\"\")&\"\"","v":""},{"$f":"IF($R$105=24,ROUND($R$16,0),\"\")&\"\"","v":""},{"$f":"IF($S$105=24,ROUND($S$16,0),\"\")&\"\"","v":""},{"$f":"IF($T$105=24,ROUND($T$16,0),\"\")&\"\"","v":""},{"$f":"IF($U$105=24,ROUND($U$16,0),\"\")&\"\"","v":""},{"$f":"IF($V$105=24,ROUND($V$16,0),\"\")&\"\"","v":""},{"$f":"IF($W$105=24,ROUND($W$16,0),\"\")&\"\"","v":""},{"$f":"IF($X$105=24,ROUND($X$16,0),\"\")&\"\"","v":""},{"$f":"IF($Y$105=24,ROUND($Y$16,0),\"\")&\"\"","v":""},{"$f":"IF($Z$105=24,ROUND($Z$16,0),\"\")&\"\"","v":""},{"$f":"IF($AA$105=24,ROUND($AA$16,0),\"\")&\"\"","v":""},8]
[null,null,9,{"$f":"IF($D$106=24,ROUND($D$17,0),\"\")&\"\"","v":""},{"$f":"IF($E$106=24,ROUND($E$17,0),\"\")&\"\"","v":""},{"$f":"IF($F$106=24,ROUND($F$17,0),\"\")&\"\"","v":""},{"$f":"IF($G$106=24,ROUND($G$17,0),\"\")&\"\"","v":""},{"$f":"IF($H$106=24,ROUND($H$17,0),\"\")&\"\"","v":""},{"$f":"IF($I$106=24,ROUND($I$17,0),\"\")&\"\"","v":""},{"$f":"IF($J$106=24,ROUND($J$17,0),\"\")&\"\"","v":""},{"$f":"IF($K$106=24,ROUND($K$17,0),\"\")&\"\"","v":""},{"$f":"IF($L$106=24,ROUND($L$17,0),\"\")&\"\"","v":""},{"$f":"IF($M$106=24,ROUND($M$17,0),\"\")&\"\"","v":""},{"$f":"IF($N$106=24,ROUND($N$17,0),\"\")&\"\"","v":""},{"$f":"IF($O$106=24,ROUND($O$17,0),\"\")&\"\"","v":""},{"$f":"IF($P$106=24,ROUND($P$17,0),\"\")&\"\"","v":""},{"$f":"IF($Q$106=24,ROUND($Q$17,0),\"\")&\"\"","v":""},{"$f":"IF($R$106=24,ROUND($R$17,0),\"\")&\"\"","v":""},{"$f":"IF($S$106=24,ROUND($S$17,0),\"\")&\"\"","v":""},{"$f":"IF($T$106=24,ROUND($T$17,0),\"\")&\"\"","v":""},{"$f":"IF($U$106=24,ROUND($U$17,0),\"\")&\"\"","v":""},{"$f":"IF($V$106=24,ROUND($V$17,0),\"\")&\"\"","v":""},{"$f":"IF($W$106=24,ROUND($W$17,0),\"\")&\"\"","v":""},{"$f":"IF($X$106=24,ROUND($X$17,0),\"\")&\"\"","v":""},{"$f":"IF($Y$106=24,ROUND($Y$17,0),\"\")&\"\"","v":""},{"$f":"IF($Z$106=24,ROUND($Z$17,0),\"\")&\"\"","v":""},{"$f":"IF($AA$106=24,ROUND($AA$17,0),\"\")&\"\"","v":""},9]
[null,null,10,{"$f":"IF($D$107=24,ROUND($D$18,0),\"\")&\"\"","v":""},{"$f":"IF($E$107=24,ROUND($E$18,0),\"\")&\"\"","v":""},{"$f":"IF($F$107=24,ROUND($F$18,0),\"\")&\"\"","v":""},{"$f":"IF($G$107=24,ROUND($G$18,0),\"\")&\"\"","v":""},{"$f":"IF($H$107=24,ROUND($H$18,0),\"\")&\"\"","v":""},{"$f":"IF($I$107=24,ROUND($I$18,0),\"\")&\"\"","v":""},{"$f":"IF($J$107=24,ROUND($J$18,0),\"\")&\"\"","v":""},{"$f":"IF($K$107=24,ROUND($K$18,0),\"\")&\"\"","v":""},{"$f":"IF($L$107=24,ROUND($L$18,0),\"\")&\"\"","v":""},{"$f":"IF($M$107=24,ROUND($M$18,0),\"\")&\"\"","v":""},{"$f":"IF($N$107=24,ROUND($N$18,0),\"\")&\"\"","v":""},{"$f":"IF($O$107=24,ROUND($O$18,0),\"\")&\"\"","v":""},{"$f":"IF($P$107=24,ROUND($P$18,0),\"\")&\"\"","v":""},{"$f":"IF($Q$107=24,ROUND($Q$18,0),\"\")&\"\"","v":""},{"$f":"IF($R$107=24,ROUND($R$18,0),\"\")&\"\"","v":""},{"$f":"IF($S$107=24,ROUND($S$18,0),\"\")&\"\"","v":""},{"$f":"IF($T$107=24,ROUND($T$18,0),\"\")&\"\"","v":""},{"$f":"IF($U$107=24,ROUND($U$18,0),\"\")&\"\"","v":""},{"$f":"IF($V$107=24,ROUND($V$18,0),\"\")&\"\"","v":""},{"$f":"IF($W$107=24,ROUND($W$18,0),\"\")&\"\"","v":""},{"$f":"IF($X$107=24,ROUND($X$18,0),\"\")&\"\"","v":""},{"$f":"IF($Y$107=24,ROUND($Y$18,0),\"\")&\"\"","v":""},{"$f":"IF($Z$107=24,ROUND($Z$18,0),\"\")&\"\"","v":""},{"$f":"IF($AA$107=24,ROUND($AA$18,0),\"\")&\"\"","v":""},10]
[null,null,11,{"$f":"IF($D$108=24,ROUND($D$19,0),\"\")&\"\"","v":""},{"$f":"IF($E$108=24,ROUND($E$19,0),\"\")&\"\"","v":""},{"$f":"IF($F$108=24,ROUND($F$19,0),\"\")&\"\"","v":""},{"$f":"IF($G$108=24,ROUND($G$19,0),\"\")&\"\"","v":""},{"$f":"IF($H$108=24,ROUND($H$19,0),\"\")&\"\"","v":""},{"$f":"IF($I$108=24,ROUND($I$19,0),\"\")&\"\"","v":""},{"$f":"IF($J$108=24,ROUND($J$19,0),\"\")&\"\"","v":""},{"$f":"IF($K$108=24,ROUND($K$19,0),\"\")&\"\"","v":""},{"$f":"IF($L$108=24,ROUND($L$19,0),\"\")&\"\"","v":""},{"$f":"IF($M$108=24,ROUND($M$19,0),\"\")&\"\"","v":""},{"$f":"IF($N$108=24,ROUND($N$19,0),\"\")&\"\"","v":""},{"$f":"IF($O$108=24,ROUND($O$19,0),\"\")&\"\"","v":""},{"$f":"IF($P$108=24,ROUND($P$19,0),\"\")&\"\"","v":""},{"$f":"IF($Q$108=24,ROUND($Q$19,0),\"\")&\"\"","v":""},{"$f":"IF($R$108=24,ROUND($R$19,0),\"\")&\"\"","v":""},{"$f":"IF($S$108=24,ROUND($S$19,0),\"\")&\"\"","v":""},{"$f":"IF($T$108=24,ROUND($T$19,0),\"\")&\"\"","v":""},{"$f":"IF($U$108=24,ROUND($U$19,0),\"\")&\"\"","v":""},{"$f":"IF($V$108=24,ROUND($V$19,0),\"\")&\"\"","v":""},{"$f":"IF($W$108=24,ROUND($W$19,0),\"\")&\"\"","v":""},{"$f":"IF($X$108=24,ROUND($X$19,0),\"\")&\"\"","v":""},{"$f":"IF($Y$108=24,ROUND($Y$19,0),\"\")&\"\"","v":""},{"$f":"IF($Z$108=24,ROUND($Z$19,0),\"\")&\"\"","v":""},{"$f":"IF($AA$108=24,ROUND($AA$19,0),\"\")&\"\"","v":""},11]
[null,null,12,{"$f":"IF($D$109=24,ROUND($D$20,0),\"\")&\"\"","v":""},{"$f":"IF($E$109=24,ROUND($E$20,0),\"\")&\"\"","v":""},{"$f":"IF($F$109=24,ROUND($F$20,0),\"\")&\"\"","v":""},{"$f":"IF($G$109=24,ROUND($G$20,0),\"\")&\"\"","v":""},{"$f":"IF($H$109=24,ROUND($H$20,0),\"\")&\"\"","v":""},{"$f":"IF($I$109=24,ROUND($I$20,0),\"\")&\"\"","v":""},{"$f":"IF($J$109=24,ROUND($J$20,0),\"\")&\"\"","v":""},{"$f":"IF($K$109=24,ROUND($K$20,0),\"\")&\"\"","v":""},{"$f":"IF($L$109=24,ROUND($L$20,0),\"\")&\"\"","v":""},{"$f":"IF($M$109=24,ROUND($M$20,0),\"\")&\"\"","v":""},{"$f":"IF($N$109=24,ROUND($N$20,0),\"\")&\"\"","v":""},{"$f":"IF($O$109=24,ROUND($O$20,0),\"\")&\"\"","v":""},{"$f":"IF($P$109=24,ROUND($P$20,0),\"\")&\"\"","v":""},{"$f":"IF($Q$109=24,ROUND($Q$20,0),\"\")&\"\"","v":""},{"$f":"IF($R$109=24,ROUND($R$20,0),\"\")&\"\"","v":""},{"$f":"IF($S$109=24,ROUND($S$20,0),\"\")&\"\"","v":""},{"$f":"IF($T$109=24,ROUND($T$20,0),\"\")&\"\"","v":""},{"$f":"IF($U$109=24,ROUND($U$20,0),\"\")&\"\"","v":""},{"$f":"IF($V$109=24,ROUND($V$20,0),\"\")&\"\"","v":""},{"$f":"IF($W$109=24,ROUND($W$20,0),\"\")&\"\"","v":""},{"$f":"IF($X$109=24,ROUND($X$20,0),\"\")&\"\"","v":""},{"$f":"IF($Y$109=24,ROUND($Y$20,0),\"\")&\"\"","v":""},{"$f":"IF($Z$109=24,ROUND($Z$20,0),\"\")&\"\"","v":""},{"$f":"IF($AA$109=24,ROUND($AA$20,0),\"\")&\"\"","v":""},12]
[null,null,1,{"$f":"IF($D$110=24,ROUND($D$21,0),\"\")&\"\"","v":""},{"$f":"IF($E$110=24,ROUND($E$21,0),\"\")&\"\"","v":""},{"$f":"IF($F$110=24,ROUND($F$21,0),\"\")&\"\"","v":""},{"$f":"IF($G$110=24,ROUND($G$21,0),\"\")&\"\"","v":""},{"$f":"IF($H$110=24,ROUND($H$21,0),\"\")&\"\"","v":""},{"$f":"IF($I$110=24,ROUND($I$21,0),\"\")&\"\"","v":""},{"$f":"IF($J$110=24,ROUND($J$21,0),\"\")&\"\"","v":""},{"$f":"IF($K$110=24,ROUND($K$21,0),\"\")&\"\"","v":""},{"$f":"IF($L$110=24,ROUND($L$21,0),\"\")&\"\"","v":""},{"$f":"IF($M$110=24,ROUND($M$21,0),\"\")&\"\"","v":""},{"$f":"IF($N$110=24,ROUND($N$21,0),\"\")&\"\"","v":""},{"$f":"IF($O$110=24,ROUND($O$21,0),\"\")&\"\"","v":""},{"$f":"IF($P$110=24,ROUND($P$21,0),\"\")&\"\"","v":""},{"$f":"IF($Q$110=24,ROUND($Q$21,0),\"\")&\"\"","v":""},{"$f":"IF($R$110=24,ROUND($R$21,0),\"\")&\"\"","v":""},{"$f":"IF($S$110=24,ROUND($S$21,0),\"\")&\"\"","v":""},{"$f":"IF($T$110=24,ROUND($T$21,0),\"\")&\"\"","v":""},{"$f":"IF($U$110=24,ROUND($U$21,0),\"\")&\"\"","v":""},{"$f":"IF($V$110=24,ROUND($V$21,0),\"\")&\"\"","v":""},{"$f":"IF($W$110=24,ROUND($W$21,0),\"\")&\"\"","v":""},{"$f":"IF($X$110=24,ROUND($X$21,0),\"\")&\"\"","v":""},{"$f":"IF($Y$110=24,ROUND($Y$21,0),\"\")&\"\"","v":""},{"$f":"IF($Z$110=24,ROUND($Z$21,0),\"\")&\"\"","v":""},{"$f":"IF($AA$110=24,ROUND($AA$21,0),\"\")&\"\"","v":""},1]
[null,null,2,{"$f":"IF($D$111=24,ROUND($D$22,0),\"\")&\"\"","v":""},{"$f":"IF($E$111=24,ROUND($E$22,0),\"\")&\"\"","v":""},{"$f":"IF($F$111=24,ROUND($F$22,0),\"\")&\"\"","v":""},{"$f":"IF($G$111=24,ROUND($G$22,0),\"\")&\"\"","v":""},{"$f":"IF($H$111=24,ROUND($H$22,0),\"\")&\"\"","v":""},{"$f":"IF($I$111=24,ROUND($I$22,0),\"\")&\"\"","v":""},{"$f":"IF($J$111=24,ROUND($J$22,0),\"\")&\"\"","v":""},{"$f":"IF($K$111=24,ROUND($K$22,0),\"\")&\"\"","v":""},{"$f":"IF($L$111=24,ROUND($L$22,0),\"\")&\"\"","v":""},{"$f":"IF($M$111=24,ROUND($M$22,0),\"\")&\"\"","v":""},{"$f":"IF($N$111=24,ROUND($N$22,0),\"\")&\"\"","v":""},{"$f":"IF($O$111=24,ROUND($O$22,0),\"\")&\"\"","v":""},{"$f":"IF($P$111=24,ROUND($P$22,0),\"\")&\"\"","v":""},{"$f":"IF($Q$111=24,ROUND($Q$22,0),\"\")&\"\"","v":""},{"$f":"IF($R$111=24,ROUND($R$22,0),\"\")&\"\"","v":""},{"$f":"IF($S$111=24,ROUND($S$22,0),\"\")&\"\"","v":""},{"$f":"IF($T$111=24,ROUND($T$22,0),\"\")&\"\"","v":""},{"$f":"IF($U$111=24,ROUND($U$22,0),\"\")&\"\"","v":""},{"$f":"IF($V$111=24,ROUND($V$22,0),\"\")&\"\"","v":""},{"$f":"IF($W$111=24,ROUND($W$22,0),\"\")&\"\"","v":""},{"$f":"IF($X$111=24,ROUND($X$22,0),\"\")&\"\"","v":""},{"$f":"IF($Y$111=24,ROUND($Y$22,0),\"\")&\"\"","v":""},{"$f":"IF($Z$111=24,ROUND($Z$22,0),\"\")&\"\"","v":""},{"$f":"IF($AA$111=24,ROUND($AA$22,0),\"\")&\"\"","v":""},2]
[null,null,3,{"$f":"IF($D$112=24,ROUND($D$23,0),\"\")&\"\"","v":""},{"$f":"IF($E$112=24,ROUND($E$23,0),\"\")&\"\"","v":""},{"$f":"IF($F$112=24,ROUND($F$23,0),\"\")&\"\"","v":""},{"$f":"IF($G$112=24,ROUND($G$23,0),\"\")&\"\"","v":""},{"$f":"IF($H$112=24,ROUND($H$23,0),\"\")&\"\"","v":""},{"$f":"IF($I$112=24,ROUND($I$23,0),\"\")&\"\"","v":""},{"$f":"IF($J$112=24,ROUND($J$23,0),\"\")&\"\"","v":""},{"$f":"IF($K$112=24,ROUND($K$23,0),\"\")&\"\"","v":""},{"$f":"IF($L$112=24,ROUND($L$23,0),\"\")&\"\"","v":""},{"$f":"IF($M$112=24,ROUND($M$23,0),\"\")&\"\"","v":""},{"$f":"IF($N$112=24,ROUND($N$23,0),\"\")&\"\"","v":""},{"$f":"IF($O$112=24,ROUND($O$23,0),\"\")&\"\"","v":""},{"$f":"IF($P$112=24,ROUND($P$23,0),\"\")&\"\"","v":""},{"$f":"IF($Q$112=24,ROUND($Q$23,0),\"\")&\"\"","v":""},{"$f":"IF($R$112=24,ROUND($R$23,0),\"\")&\"\"","v":""},{"$f":"IF($S$112=24,ROUND($S$23,0),\"\")&\"\"","v":""},{"$f":"IF($T$112=24,ROUND($T$23,0),\"\")&\"\"","v":""},{"$f":"IF($U$112=24,ROUND($U$23,0),\"\")&\"\"","v":""},{"$f":"IF($V$112=24,ROUND($V$23,0),\"\")&\"\"","v":""},{"$f":"IF($W$112=24,ROUND($W$23,0),\"\")&\"\"","v":""},{"$f":"IF($X$112=24,ROUND($X$23,0),\"\")&\"\"","v":""},{"$f":"IF($Y$112=24,ROUND($Y$23,0),\"\")&\"\"","v":""},{"$f":"IF($Z$112=24,ROUND($Z$23,0),\"\")&\"\"","v":""},{"$f":"IF($AA$112=24,ROUND($AA$23,0),\"\")&\"\"","v":""},3]
[]
[null,null,"作業表2-2(加熱)●月▲時の平均外気湿球温度(四捨五入で表示）"]
[null,null,null," 時刻"]
[null,null,"月",0,1,2,3,4,5,6,7,8,9,10,11,12,13,14,15,16,17,18,19,20,21,22,23,"月"]
[null,null,4,{"$f":"IF($D$101=19,ROUND($D$12,0),\"\")&\"\"","v":""},{"$f":"IF($E$101=19,ROUND($E$12,0),\"\")&\"\"","v":""},{"$f":"IF($F$101=19,ROUND($F$12,0),\"\")&\"\"","v":""},{"$f":"IF($G$101=19,ROUND($G$12,0),\"\")&\"\"","v":""},{"$f":"IF($H$101=19,ROUND($H$12,0),\"\")&\"\"","v":""},{"$f":"IF($I$101=19,ROUND($I$12,0),\"\")&\"\"","v":""},{"$f":"IF($J$101=19,ROUND($J$12,0),\"\")&\"\"","v":""},{"$f":"IF($K$101=19,ROUND($K$12,0),\"\")&\"\"","v":""},{"$f":"IF($L$101=19,ROUND($L$12,0),\"\")&\"\"","v":""},{"$f":"IF($M$101=19,ROUND($M$12,0),\"\")&\"\"","v":""},{"$f":"IF($N$101=19,ROUND($N$12,0),\"\")&\"\"","v":""},{"$f":"IF($O$101=19,ROUND($O$12,0),\"\")&\"\"","v":""},{"$f":"IF($P$101=19,ROUND($P$12,0),\"\")&\"\"","v":""},{"$f":"IF($Q$101=19,ROUND($Q$12,0),\"\")&\"\"","v":""},{"$f":"IF($R$101=19,ROUND($R$12,0),\"\")&\"\"","v":""},{"$f":"IF($S$101=19,ROUND($S$12,0),\"\")&\"\"","v":""},{"$f":"IF($T$101=19,ROUND($T$12,0),\"\")&\"\"","v":""},{"$f":"IF($U$101=19,ROUND($U$12,0),\"\")&\"\"","v":""},{"$f":"IF($V$101=19,ROUND($V$12,0),\"\")&\"\"","v":""},{"$f":"IF($W$101=19,ROUND($W$12,0),\"\")&\"\"","v":""},{"$f":"IF($X$101=19,ROUND($X$12,0),\"\")&\"\"","v":""},{"$f":"IF($Y$101=19,ROUND($Y$12,0),\"\")&\"\"","v":""},{"$f":"IF($Z$101=19,ROUND($Z$12,0),\"\")&\"\"","v":""},{"$f":"IF($AA$101=19,ROUND($AA$12,0),\"\")&\"\"","v":""},4]
[null,null,5,{"$f":"IF($D$102=19,ROUND($D$13,0),\"\")&\"\"","v":""},{"$f":"IF($E$102=19,ROUND($E$13,0),\"\")&\"\"","v":""},{"$f":"IF($F$102=19,ROUND($F$13,0),\"\")&\"\"","v":""},{"$f":"IF($G$102=19,ROUND($G$13,0),\"\")&\"\"","v":""},{"$f":"IF($H$102=19,ROUND($H$13,0),\"\")&\"\"","v":""},{"$f":"IF($I$102=19,ROUND($I$13,0),\"\")&\"\"","v":""},{"$f":"IF($J$102=19,ROUND($J$13,0),\"\")&\"\"","v":""},{"$f":"IF($K$102=19,ROUND($K$13,0),\"\")&\"\"","v":""},{"$f":"IF($L$102=19,ROUND($L$13,0),\"\")&\"\"","v":""},{"$f":"IF($M$102=19,ROUND($M$13,0),\"\")&\"\"","v":""},{"$f":"IF($N$102=19,ROUND($N$13,0),\"\")&\"\"","v":""},{"$f":"IF($O$102=19,ROUND($O$13,0),\"\")&\"\"","v":""},{"$f":"IF($P$102=19,ROUND($P$13,0),\"\")&\"\"","v":""},{"$f":"IF($Q$102=19,ROUND($Q$13,0),\"\")&\"\"","v":""},{"$f":"IF($R$102=19,ROUND($R$13,0),\"\")&\"\"","v":""},{"$f":"IF($S$102=19,ROUND($S$13,0),\"\")&\"\"","v":""},{"$f":"IF($T$102=19,ROUND($T$13,0),\"\")&\"\"","v":""},{"$f":"IF($U$102=19,ROUND($U$13,0),\"\")&\"\"","v":""},{"$f":"IF($V$102=19,ROUND($V$13,0),\"\")&\"\"","v":""},{"$f":"IF($W$102=19,ROUND($W$13,0),\"\")&\"\"","v":""},{"$f":"IF($X$102=19,ROUND($X$13,0),\"\")&\"\"","v":""},{"$f":"IF($Y$102=19,ROUND($Y$13,0),\"\")&\"\"","v":""},{"$f":"IF($Z$102=19,ROUND($Z$13,0),\"\")&\"\"","v":""},{"$f":"IF($AA$102=19,ROUND($AA$13,0),\"\")&\"\"","v":""},5]
[null,null,6,{"$f":"IF($D$103=19,ROUND($D$14,0),\"\")&\"\"","v":""},{"$f":"IF($E$103=19,ROUND($E$14,0),\"\")&\"\"","v":""},{"$f":"IF($F$103=19,ROUND($F$14,0),\"\")&\"\"","v":""},{"$f":"IF($G$103=19,ROUND($G$14,0),\"\")&\"\"","v":""},{"$f":"IF($H$103=19,ROUND($H$14,0),\"\")&\"\"","v":""},{"$f":"IF($I$103=19,ROUND($I$14,0),\"\")&\"\"","v":""},{"$f":"IF($J$103=19,ROUND($J$14,0),\"\")&\"\"","v":""},{"$f":"IF($K$103=19,ROUND($K$14,0),\"\")&\"\"","v":""},{"$f":"IF($L$103=19,ROUND($L$14,0),\"\")&\"\"","v":""},{"$f":"IF($M$103=19,ROUND($M$14,0),\"\")&\"\"","v":""},{"$f":"IF($N$103=19,ROUND($N$14,0),\"\")&\"\"","v":""},{"$f":"IF($O$103=19,ROUND($O$14,0),\"\")&\"\"","v":""},{"$f":"IF($P$103=19,ROUND($P$14,0),\"\")&\"\"","v":""},{"$f":"IF($Q$103=19,ROUND($Q$14,0),\"\")&\"\"","v":""},{"$f":"IF($R$103=19,ROUND($R$14,0),\"\")&\"\"","v":""},{"$f":"IF($S$103=19,ROUND($S$14,0),\"\")&\"\"","v":""},{"$f":"IF($T$103=19,ROUND($T$14,0),\"\")&\"\"","v":""},{"$f":"IF($U$103=19,ROUND($U$14,0),\"\")&\"\"","v":""},{"$f":"IF($V$103=19,ROUND($V$14,0),\"\")&\"\"","v":""},{"$f":"IF($W$103=19,ROUND($W$14,0),\"\")&\"\"","v":""},{"$f":"IF($X$103=19,ROUND($X$14,0),\"\")&\"\"","v":""},{"$f":"IF($Y$103=19,ROUND($Y$14,0),\"\")&\"\"","v":""},{"$f":"IF($Z$103=19,ROUND($Z$14,0),\"\")&\"\"","v":""},{"$f":"IF($AA$103=19,ROUND($AA$14,0),\"\")&\"\"","v":""},6]
[null,null,7,{"$f":"IF($D$104=19,ROUND($D$15,0),\"\")&\"\"","v":""},{"$f":"IF($E$104=19,ROUND($E$15,0),\"\")&\"\"","v":""},{"$f":"IF($F$104=19,ROUND($F$15,0),\"\")&\"\"","v":""},{"$f":"IF($G$104=19,ROUND($G$15,0),\"\")&\"\"","v":""},{"$f":"IF($H$104=19,ROUND($H$15,0),\"\")&\"\"","v":""},{"$f":"IF($I$104=19,ROUND($I$15,0),\"\")&\"\"","v":""},{"$f":"IF($J$104=19,ROUND($J$15,0),\"\")&\"\"","v":""},{"$f":"IF($K$104=19,ROUND($K$15,0),\"\")&\"\"","v":""},{"$f":"IF($L$104=19,ROUND($L$15,0),\"\")&\"\"","v":""},{"$f":"IF($M$104=19,ROUND($M$15,0),\"\")&\"\"","v":""},{"$f":"IF($N$104=19,ROUND($N$15,0),\"\")&\"\"","v":""},{"$f":"IF($O$104=19,ROUND($O$15,0),\"\")&\"\"","v":""},{"$f":"IF($P$104=19,ROUND($P$15,0),\"\")&\"\"","v":""},{"$f":"IF($Q$104=19,ROUND($Q$15,0),\"\")&\"\"","v":""},{"$f":"IF($R$104=19,ROUND($R$15,0),\"\")&\"\"","v":""},{"$f":"IF($S$104=19,ROUND($S$15,0),\"\")&\"\"","v":""},{"$f":"IF($T$104=19,ROUND($T$15,0),\"\")&\"\"","v":""},{"$f":"IF($U$104=19,ROUND($U$15,0),\"\")&\"\"","v":""},{"$f":"IF($V$104=19,ROUND($V$15,0),\"\")&\"\"","v":""},{"$f":"IF($W$104=19,ROUND($W$15,0),\"\")&\"\"","v":""},{"$f":"IF($X$104=19,ROUND($X$15,0),\"\")&\"\"","v":""},{"$f":"IF($Y$104=19,ROUND($Y$15,0),\"\")&\"\"","v":""},{"$f":"IF($Z$104=19,ROUND($Z$15,0),\"\")&\"\"","v":""},{"$f":"IF($AA$104=19,ROUND($AA$15,0),\"\")&\"\"","v":""},7]
[null,null,8,{"$f":"IF($D$105=19,ROUND($D$16,0),\"\")&\"\"","v":""},{"$f":"IF($E$105=19,ROUND($E$16,0),\"\")&\"\"","v":""},{"$f":"IF($F$105=19,ROUND($F$16,0),\"\")&\"\"","v":""},{"$f":"IF($G$105=19,ROUND($G$16,0),\"\")&\"\"","v":""},{"$f":"IF($H$105=19,ROUND($H$16,0),\"\")&\"\"","v":""},{"$f":"IF($I$105=19,ROUND($I$16,0),\"\")&\"\"","v":""},{"$f":"IF($J$105=19,ROUND($J$16,0),\"\")&\"\"","v":""},{"$f":"IF($K$105=19,ROUND($K$16,0),\"\")&\"\"","v":""},{"$f":"IF($L$105=19,ROUND($L$16,0),\"\")&\"\"","v":""},{"$f":"IF($M$105=19,ROUND($M$16,0),\"\")&\"\"","v":""},{"$f":"IF($N$105=19,ROUND($N$16,0),\"\")&\"\"","v":""},{"$f":"IF($O$105=19,ROUND($O$16,0),\"\")&\"\"","v":""},{"$f":"IF($P$105=19,ROUND($P$16,0),\"\")&\"\"","v":""},{"$f":"IF($Q$105=19,ROUND($Q$16,0),\"\")&\"\"","v":""},{"$f":"IF($R$105=19,ROUND($R$16,0),\"\")&\"\"","v":""},{"$f":"IF($S$105=19,ROUND($S$16,0),\"\")&\"\"","v":""},{"$f":"IF($T$105=19,ROUND($T$16,0),\"\")&\"\"","v":""},{"$f":"IF($U$105=19,ROUND($U$16,0),\"\")&\"\"","v":""},{"$f":"IF($V$105=19,ROUND($V$16,0),\"\")&\"\"","v":""},{"$f":"IF($W$105=19,ROUND($W$16,0),\"\")&\"\"","v":""},{"$f":"IF($X$105=19,ROUND($X$16,0),\"\")&\"\"","v":""},{"$f":"IF($Y$105=19,ROUND($Y$16,0),\"\")&\"\"","v":""},{"$f":"IF($Z$105=19,ROUND($Z$16,0),\"\")&\"\"","v":""},{"$f":"IF($AA$105=19,ROUND($AA$16,0),\"\")&\"\"","v":""},8]
[null,null,9,{"$f":"IF($D$106=19,ROUND($D$17,0),\"\")&\"\"","v":""},{"$f":"IF($E$106=19,ROUND($E$17,0),\"\")&\"\"","v":""},{"$f":"IF($F$106=19,ROUND($F$17,0),\"\")&\"\"","v":""},{"$f":"IF($G$106=19,ROUND($G$17,0),\"\")&\"\"","v":""},{"$f":"IF($H$106=19,ROUND($H$17,0),\"\")&\"\"","v":""},{"$f":"IF($I$106=19,ROUND($I$17,0),\"\")&\"\"","v":""},{"$f":"IF($J$106=19,ROUND($J$17,0),\"\")&\"\"","v":""},{"$f":"IF($K$106=19,ROUND($K$17,0),\"\")&\"\"","v":""},{"$f":"IF($L$106=19,ROUND($L$17,0),\"\")&\"\"","v":""},{"$f":"IF($M$106=19,ROUND($M$17,0),\"\")&\"\"","v":""},{"$f":"IF($N$106=19,ROUND($N$17,0),\"\")&\"\"","v":""},{"$f":"IF($O$106=19,ROUND($O$17,0),\"\")&\"\"","v":""},{"$f":"IF($P$106=19,ROUND($P$17,0),\"\")&\"\"","v":""},{"$f":"IF($Q$106=19,ROUND($Q$17,0),\"\")&\"\"","v":""},{"$f":"IF($R$106=19,ROUND($R$17,0),\"\")&\"\"","v":""},{"$f":"IF($S$106=19,ROUND($S$17,0),\"\")&\"\"","v":""},{"$f":"IF($T$106=19,ROUND($T$17,0),\"\")&\"\"","v":""},{"$f":"IF($U$106=19,ROUND($U$17,0),\"\")&\"\"","v":""},{"$f":"IF($V$106=19,ROUND($V$17,0),\"\")&\"\"","v":""},{"$f":"IF($W$106=19,ROUND($W$17,0),\"\")&\"\"","v":""},{"$f":"IF($X$106=19,ROUND($X$17,0),\"\")&\"\"","v":""},{"$f":"IF($Y$106=19,ROUND($Y$17,0),\"\")&\"\"","v":""},{"$f":"IF($Z$106=19,ROUND($Z$17,0),\"\")&\"\"","v":""},{"$f":"IF($AA$106=19,ROUND($AA$17,0),\"\")&\"\"","v":""},9]
[null,null,10,{"$f":"IF($D$107=19,ROUND($D$18,0),\"\")&\"\"","v":""},{"$f":"IF($E$107=19,ROUND($E$18,0),\"\")&\"\"","v":""},{"$f":"IF($F$107=19,ROUND($F$18,0),\"\")&\"\"","v":""},{"$f":"IF($G$107=19,ROUND($G$18,0),\"\")&\"\"","v":""},{"$f":"IF($H$107=19,ROUND($H$18,0),\"\")&\"\"","v":""},{"$f":"IF($I$107=19,ROUND($I$18,0),\"\")&\"\"","v":""},{"$f":"IF($J$107=19,ROUND($J$18,0),\"\")&\"\"","v":""},{"$f":"IF($K$107=19,ROUND($K$18,0),\"\")&\"\"","v":""},{"$f":"IF($L$107=19,ROUND($L$18,0),\"\")&\"\"","v":""},{"$f":"IF($M$107=19,ROUND($M$18,0),\"\")&\"\"","v":""},{"$f":"IF($N$107=19,ROUND($N$18,0),\"\")&\"\"","v":""},{"$f":"IF($O$107=19,ROUND($O$18,0),\"\")&\"\"","v":""},{"$f":"IF($P$107=19,ROUND($P$18,0),\"\")&\"\"","v":""},{"$f":"IF($Q$107=19,ROUND($Q$18,0),\"\")&\"\"","v":""},{"$f":"IF($R$107=19,ROUND($R$18,0),\"\")&\"\"","v":""},{"$f":"IF($S$107=19,ROUND($S$18,0),\"\")&\"\"","v":""},{"$f":"IF($T$107=19,ROUND($T$18,0),\"\")&\"\"","v":""},{"$f":"IF($U$107=19,ROUND($U$18,0),\"\")&\"\"","v":""},{"$f":"IF($V$107=19,ROUND($V$18,0),\"\")&\"\"","v":""},{"$f":"IF($W$107=19,ROUND($W$18,0),\"\")&\"\"","v":""},{"$f":"IF($X$107=19,ROUND($X$18,0),\"\")&\"\"","v":""},{"$f":"IF($Y$107=19,ROUND($Y$18,0),\"\")&\"\"","v":""},{"$f":"IF($Z$107=19,ROUND($Z$18,0),\"\")&\"\"","v":""},{"$f":"IF($AA$107=19,ROUND($AA$18,0),\"\")&\"\"","v":""},10]
[null,null,11,{"$f":"IF($D$108=19,ROUND($D$19,0),\"\")&\"\"","v":""},{"$f":"IF($E$108=19,ROUND($E$19,0),\"\")&\"\"","v":""},{"$f":"IF($F$108=19,ROUND($F$19,0),\"\")&\"\"","v":""},{"$f":"IF($G$108=19,ROUND($G$19,0),\"\")&\"\"","v":""},{"$f":"IF($H$108=19,ROUND($H$19,0),\"\")&\"\"","v":""},{"$f":"IF($I$108=19,ROUND($I$19,0),\"\")&\"\"","v":""},{"$f":"IF($J$108=19,ROUND($J$19,0),\"\")&\"\"","v":""},{"$f":"IF($K$108=19,ROUND($K$19,0),\"\")&\"\"","v":""},{"$f":"IF($L$108=19,ROUND($L$19,0),\"\")&\"\"","v":""},{"$f":"IF($M$108=19,ROUND($M$19,0),\"\")&\"\"","v":""},{"$f":"IF($N$108=19,ROUND($N$19,0),\"\")&\"\"","v":""},{"$f":"IF($O$108=19,ROUND($O$19,0),\"\")&\"\"","v":""},{"$f":"IF($P$108=19,ROUND($P$19,0),\"\")&\"\"","v":""},{"$f":"IF($Q$108=19,ROUND($Q$19,0),\"\")&\"\"","v":""},{"$f":"IF($R$108=19,ROUND($R$19,0),\"\")&\"\"","v":""},{"$f":"IF($S$108=19,ROUND($S$19,0),\"\")&\"\"","v":""},{"$f":"IF($T$108=19,ROUND($T$19,0),\"\")&\"\"","v":""},{"$f":"IF($U$108=19,ROUND($U$19,0),\"\")&\"\"","v":""},{"$f":"IF($V$108=19,ROUND($V$19,0),\"\")&\"\"","v":""},{"$f":"IF($W$108=19,ROUND($W$19,0),\"\")&\"\"","v":""},{"$f":"IF($X$108=19,ROUND($X$19,0),\"\")&\"\"","v":""},{"$f":"IF($Y$108=19,ROUND($Y$19,0),\"\")&\"\"","v":""},{"$f":"IF($Z$108=19,ROUND($Z$19,0),\"\")&\"\"","v":""},{"$f":"IF($AA$108=19,ROUND($AA$19,0),\"\")&\"\"","v":""},11]
[null,null,12,{"$f":"IF($D$109=19,ROUND($D$20,0),\"\")&\"\"","v":""},{"$f":"IF($E$109=19,ROUND($E$20,0),\"\")&\"\"","v":""},{"$f":"IF($F$109=19,ROUND($F$20,0),\"\")&\"\"","v":""},{"$f":"IF($G$109=19,ROUND($G$20,0),\"\")&\"\"","v":""},{"$f":"IF($H$109=19,ROUND($H$20,0),\"\")&\"\"","v":""},{"$f":"IF($I$109=19,ROUND($I$20,0),\"\")&\"\"","v":""},{"$f":"IF($J$109=19,ROUND($J$20,0),\"\")&\"\"","v":""},{"$f":"IF($K$109=19,ROUND($K$20,0),\"\")&\"\"","v":""},{"$f":"IF($L$109=19,ROUND($L$20,0),\"\")&\"\"","v":""},{"$f":"IF($M$109=19,ROUND($M$20,0),\"\")&\"\"","v":""},{"$f":"IF($N$109=19,ROUND($N$20,0),\"\")&\"\"","v":""},{"$f":"IF($O$109=19,ROUND($O$20,0),\"\")&\"\"","v":""},{"$f":"IF($P$109=19,ROUND($P$20,0),\"\")&\"\"","v":""},{"$f":"IF($Q$109=19,ROUND($Q$20,0),\"\")&\"\"","v":""},{"$f":"IF($R$109=19,ROUND($R$20,0),\"\")&\"\"","v":""},{"$f":"IF($S$109=19,ROUND($S$20,0),\"\")&\"\"","v":""},{"$f":"IF($T$109=19,ROUND($T$20,0),\"\")&\"\"","v":""},{"$f":"IF($U$109=19,ROUND($U$20,0),\"\")&\"\"","v":""},{"$f":"IF($V$109=19,ROUND($V$20,0),\"\")&\"\"","v":""},{"$f":"IF($W$109=19,ROUND($W$20,0),\"\")&\"\"","v":""},{"$f":"IF($X$109=19,ROUND($X$20,0),\"\")&\"\"","v":""},{"$f":"IF($Y$109=19,ROUND($Y$20,0),\"\")&\"\"","v":""},{"$f":"IF($Z$109=19,ROUND($Z$20,0),\"\")&\"\"","v":""},{"$f":"IF($AA$109=19,ROUND($AA$20,0),\"\")&\"\"","v":""},12]
[null,null,1,{"$f":"IF($D$110=19,ROUND($D$21,0),\"\")&\"\"","v":""},{"$f":"IF($E$110=19,ROUND($E$21,0),\"\")&\"\"","v":""},{"$f":"IF($F$110=19,ROUND($F$21,0),\"\")&\"\"","v":""},{"$f":"IF($G$110=19,ROUND($G$21,0),\"\")&\"\"","v":""},{"$f":"IF($H$110=19,ROUND($H$21,0),\"\")&\"\"","v":""},{"$f":"IF($I$110=19,ROUND($I$21,0),\"\")&\"\"","v":""},{"$f":"IF($J$110=19,ROUND($J$21,0),\"\")&\"\"","v":""},{"$f":"IF($K$110=19,ROUND($K$21,0),\"\")&\"\"","v":""},{"$f":"IF($L$110=19,ROUND($L$21,0),\"\")&\"\"","v":""},{"$f":"IF($M$110=19,ROUND($M$21,0),\"\")&\"\"","v":""},{"$f":"IF($N$110=19,ROUND($N$21,0),\"\")&\"\"","v":""},{"$f":"IF($O$110=19,ROUND($O$21,0),\"\")&\"\"","v":""},{"$f":"IF($P$110=19,ROUND($P$21,0),\"\")&\"\"","v":""},{"$f":"IF($Q$110=19,ROUND($Q$21,0),\"\")&\"\"","v":""},{"$f":"IF($R$110=19,ROUND($R$21,0),\"\")&\"\"","v":""},{"$f":"IF($S$110=19,ROUND($S$21,0),\"\")&\"\"","v":""},{"$f":"IF($T$110=19,ROUND($T$21,0),\"\")&\"\"","v":""},{"$f":"IF($U$110=19,ROUND($U$21,0),\"\")&\"\"","v":""},{"$f":"IF($V$110=19,ROUND($V$21,0),\"\")&\"\"","v":""},{"$f":"IF($W$110=19,ROUND($W$21,0),\"\")&\"\"","v":""},{"$f":"IF($X$110=19,ROUND($X$21,0),\"\")&\"\"","v":""},{"$f":"IF($Y$110=19,ROUND($Y$21,0),\"\")&\"\"","v":""},{"$f":"IF($Z$110=19,ROUND($Z$21,0),\"\")&\"\"","v":""},{"$f":"IF($AA$110=19,ROUND($AA$21,0),\"\")&\"\"","v":""},1]
[null,null,2,{"$f":"IF($D$111=19,ROUND($D$22,0),\"\")&\"\"","v":""},{"$f":"IF($E$111=19,ROUND($E$22,0),\"\")&\"\"","v":""},{"$f":"IF($F$111=19,ROUND($F$22,0),\"\")&\"\"","v":""},{"$f":"IF($G$111=19,ROUND($G$22,0),\"\")&\"\"","v":""},{"$f":"IF($H$111=19,ROUND($H$22,0),\"\")&\"\"","v":""},{"$f":"IF($I$111=19,ROUND($I$22,0),\"\")&\"\"","v":""},{"$f":"IF($J$111=19,ROUND($J$22,0),\"\")&\"\"","v":""},{"$f":"IF($K$111=19,ROUND($K$22,0),\"\")&\"\"","v":""},{"$f":"IF($L$111=19,ROUND($L$22,0),\"\")&\"\"","v":""},{"$f":"IF($M$111=19,ROUND($M$22,0),\"\")&\"\"","v":""},{"$f":"IF($N$111=19,ROUND($N$22,0),\"\")&\"\"","v":""},{"$f":"IF($O$111=19,ROUND($O$22,0),\"\")&\"\"","v":""},{"$f":"IF($P$111=19,ROUND($P$22,0),\"\")&\"\"","v":""},{"$f":"IF($Q$111=19,ROUND($Q$22,0),\"\")&\"\"","v":""},{"$f":"IF($R$111=19,ROUND($R$22,0),\"\")&\"\"","v":""},{"$f":"IF($S$111=19,ROUND($S$22,0),\"\")&\"\"","v":""},{"$f":"IF($T$111=19,ROUND($T$22,0),\"\")&\"\"","v":""},{"$f":"IF($U$111=19,ROUND($U$22,0),\"\")&\"\"","v":""},{"$f":"IF($V$111=19,ROUND($V$22,0),\"\")&\"\"","v":""},{"$f":"IF($W$111=19,ROUND($W$22,0),\"\")&\"\"","v":""},{"$f":"IF($X$111=19,ROUND($X$22,0),\"\")&\"\"","v":""},{"$f":"IF($Y$111=19,ROUND($Y$22,0),\"\")&\"\"","v":""},{"$f":"IF($Z$111=19,ROUND($Z$22,0),\"\")&\"\"","v":""},{"$f":"IF($AA$111=19,ROUND($AA$22,0),\"\")&\"\"","v":""},2]
[null,null,3,{"$f":"IF($D$112=19,ROUND($D$23,0),\"\")&\"\"","v":""},{"$f":"IF($E$112=19,ROUND($E$23,0),\"\")&\"\"","v":""},{"$f":"IF($F$112=19,ROUND($F$23,0),\"\")&\"\"","v":""},{"$f":"IF($G$112=19,ROUND($G$23,0),\"\")&\"\"","v":""},{"$f":"IF($H$112=19,ROUND($H$23,0),\"\")&\"\"","v":""},{"$f":"IF($I$112=19,ROUND($I$23,0),\"\")&\"\"","v":""},{"$f":"IF($J$112=19,ROUND($J$23,0),\"\")&\"\"","v":""},{"$f":"IF($K$112=19,ROUND($K$23,0),\"\")&\"\"","v":""},{"$f":"IF($L$112=19,ROUND($L$23,0),\"\")&\"\"","v":""},{"$f":"IF($M$112=19,ROUND($M$23,0),\"\")&\"\"","v":""},{"$f":"IF($N$112=19,ROUND($N$23,0),\"\")&\"\"","v":""},{"$f":"IF($O$112=19,ROUND($O$23,0),\"\")&\"\"","v":""},{"$f":"IF($P$112=19,ROUND($P$23,0),\"\")&\"\"","v":""},{"$f":"IF($Q$112=19,ROUND($Q$23,0),\"\")&\"\"","v":""},{"$f":"IF($R$112=19,ROUND($R$23,0),\"\")&\"\"","v":""},{"$f":"IF($S$112=19,ROUND($S$23,0),\"\")&\"\"","v":""},{"$f":"IF($T$112=19,ROUND($T$23,0),\"\")&\"\"","v":""},{"$f":"IF($U$112=19,ROUND($U$23,0),\"\")&\"\"","v":""},{"$f":"IF($V$112=19,ROUND($V$23,0),\"\")&\"\"","v":""},{"$f":"IF($W$112=19,ROUND($W$23,0),\"\")&\"\"","v":""},{"$f":"IF($X$112=19,ROUND($X$23,0),\"\")&\"\"","v":""},{"$f":"IF($Y$112=19,ROUND($Y$23,0),\"\")&\"\"","v":""},{"$f":"IF($Z$112=19,ROUND($Z$23,0),\"\")&\"\"","v":""},{"$f":"IF($AA$112=19,ROUND($AA$23,0),\"\")&\"\"","v":""},3]
[]
[null,null,"冷却期間中　外気湿球温度(Tw)が発生する時間[hour]",null,null,null,null,null,null,null,null,null,null,null,null,null,null,null,null,null,null,null,null,null,null,null,null,null,null,null,null,null,null,null,null,null,null,null,null,null,null,null,null,null,null,null,null,null,null,null,{"$f":"Q35+Q36+Q37","v":7.4},null,null,{"$f":"R35+R36+R37","v":0},null,null,{"$f":"S35+S36+S37","v":0},null,null,null,{"$f":"Q49+Q50+Q51","v":0},null,null,{"$f":"R49+R50+R51","v":0},null,null,{"$f":"S49+S50+S51","v":0}]
[null,null,null,"外気湿球温度(Tw)",null,null,null,null,null,null,null,null,null,null,null,null,null,null,null,null,null,null,null,null,null,null,null,null,null,null,null,null,null,null,null,null,null,null,null,null,null,null,null,null,null,null,null,null,null,"前1",null,null,"前2",null,null,"前3",null,null,null,"後1",null,null,"後2",null,null,"後3"]
[null,null,"月",-6,-5,-4,-3,-2,-1,0,1,2,3,4,5,6,7,8,9,10,11,12,13,14,15,16,17,18,19,20,21,22,23,24,25,26,27,28,29,30,31,32,33,34,35,"月",null,"EccのΣ","EaxcのΣ","Ecc","Eaxc","Ec","Ecc","Eaxc","Ec","Ecc","Eaxc","Ec",null,"Ecc","Eaxc","Ec","Ecc","Eaxc","Ec","Ecc","Eaxc","Ec"]
[null,null,4,{"$f":"COUNTIF($D$117:$AA$117,$D$148)*$AB$12","v":0},{"$f":"COUNTIF($D$117:$AA$117,$E$148)*$AB$12","v":0},{"$f":"COUNTIF($D$117:$AA$117,$F$148)*$AB$12","v":0},{"$f":"COUNTIF($D$117:$AA$117,$G$148)*$AB$12","v":0},{"$f":"COUNTIF($D$117:$AA$117,$H$148)*$AB$12","v":0},{"$f":"COUNTIF($D$117:$AA$117,$I$148)*$AB$12","v":0},{"$f":"COUNTIF($D$117:$AA$117,$J$148)*$AB$12","v":0},{"$f":"COUNTIF($D$117:$AA$117,$K$148)*$AB$12","v":0},{"$f":"COUNTIF($D$117:$AA$117,$L$148)*$AB$12","v":0},{"$f":"COUNTIF($D$117:$AA$117,$M$148)*$AB$12","v":0},{"$f":"COUNTIF($D$117:$AA$117,$N$148)*$AB$12","v":0},{"$f":"COUNTIF($D$117:$AA$117,$O$148)*$AB$12","v":0},{"$f":"COUNTIF($D$117:$AA$117,$P$148)*$AB$12","v":0},{"$f":"COUNTIF($D$117:$AA$117,$Q$148)*$AB$12","v":0},{"$f":"COUNTIF($D$117:$AA$117,$R$148)*$AB$12","v":0},{"$f":"COUNTIF($D$117:$AA$117,$S$148)*$AB$12","v":0},{"$f":"COUNTIF($D$117:$AA$117,$T$148)*$AB$12","v":0},{"$f":"COUNTIF($D$117:$AA$117,$U$148)*$AB$12","v":0},{"$f":"COUNTIF($D$117:$AA$117,$V$148)*$AB$12","v":0},{"$f":"COUNTIF($D$117:$AA$117,$W$148)*$AB$12","v":0},{"$f":"COUNTIF($D$117:$AA$117,$X$148)*$AB$12","v":0},{"$f":"COUNTIF($D$117:$AA$117,$Y$148)*$AB$12","v":0},{"$f":"COUNTIF($D$117:$AA$117,$Z$148)*$AB$12","v":0},{"$f":"COUNTIF($D$117:$AA$117,$AA$148)*$AB$12","v":0},{"$f":"COUNTIF($D$117:$AA$117,$AB$148)*$AB$12","v":0},{"$f":"COUNTIF($D$117:$AA$117,$AC$148)*$AB$12","v":0},{"$f":"COUNTIF($D$117:$AA$117,$AD$148)*$AB$12","v":0},{"$f":"COUNTIF($D$117:$AA$117,$AE$148)*$AB$12","v":0},{"$f":"COUNTIF($D$117:$AA$117,$AF$148)*$AB$12","v":0},{"$f":"COUNTIF($D$117:$AA$117,$AG$148)*$AB$12","v":0},{"$f":"COUNTIF($D$117:$AA$117,$AH$148)*$AB$12","v":0},{"$f":"COUNTIF($D$117:$AA$117,$AI$148)*$AB$12","v":0},{"$f":"COUNTIF($D$117:$AA$117,$AJ$148)*$AB$12","v":0},{"$f":"COUNTIF($D$117:$AA$117,$AK$148)*$AB$12","v":0},{"$f":"COUNTIF($D$117:$AA$117,$AL$148)*$AB$12","v":0},{"$f":"COUNTIF($D$117:$AA$117,$AM$148)*$AB$12","v":0},{"$f":"COUNTIF($D$117:$AA$117,$AN$148)*$AB$12","v":0},{"$f":"COUNTIF($D$117:$AA$117,$AO$148)*$AB$12","v":0},{"$f":"COUNTIF($D$117:$AA$117,$AP$148)*$AB$12","v":0},{"$f":"COUNTIF($D$117:$AA$117,$AQ$148)*$AB$12","v":0},{"$f":"COUNTIF($D$117:$AA$117,$AR$148)*$AB$12","v":0},{"$f":"COUNTIF($D$117:$AA$117,$AS$148)*$AB$12","v":0},4,null,{"$f":"SUMPRODUCT($D$149:$AS$149,$D$162:$AS$162)","v":0},{"$f":"SUMPRODUCT($D149:$AS149,$D$189:$AS$189)","v":0},{"$f":"$Q$26/($C$7*$Q$31)*$AV149","v":{"$error":"#VALUE!"}},{"$f":"AW149*$AY$146","v":0},{"$f":"IFERROR(AX149+AY149,\"\")","v":""},{"$f":"$Q$26/($C$7*$R$31)*$AV149","v":{"$error":"#VALUE!"}},{"$f":"AW149*$BB$146","v":0},{"$f":"IFERROR(BA149+BB149,\"\")","v":""},{"$f":"$Q$26/($C$7*$S$31)*$AV149","v":{"$error":"#VALUE!"}},{"$f":"AW149*$BE$146","v":0},{"$f":"IFERROR(BD149+BE149,\"\")","v":""},null,{"$f":"$Q$26/($C$7*$Q$45)*$AV149","v":{"$error":"#VALUE!"}},{"$f":"AW149*$BI$146","v":0},{"$f":"IFERROR(BH149+BI149,\"\")","v":""},{"$f":"$Q$26/($C$7*$R$45)*$AV149","v":{"$error":"#VALUE!"}},{"$f":"AW149*$BL$146","v":0},{"$f":"IFERROR(BK149+BL149,\"\")","v":""},{"$f":"$Q$26/($C$7*$S$45)*$AV149","v":{"$error":"#VALUE!"}},{"$f":"AW149*$BO$146","v":0},{"$f":"IFERROR(BN149+BO149,\"\")","v":""}]
[null,null,5,{"$f":"COUNTIF($D$118:$AA$118,$D$148)*$AB$13","v":0},{"$f":"COUNTIF($D$118:$AA$118,$E$148)*$AB$13","v":0},{"$f":"COUNTIF($D$118:$AA$118,$F$148)*$AB$13","v":0},{"$f":"COUNTIF($D$118:$AA$118,$G$148)*$AB$13","v":0},{"$f":"COUNTIF($D$118:$AA$118,$H$148)*$AB$13","v":0},{"$f":"COUNTIF($D$118:$AA$118,$I$148)*$AB$13","v":0},{"$f":"COUNTIF($D$118:$AA$118,$J$148)*$AB$13","v":0},{"$f":"COUNTIF($D$118:$AA$118,$K$148)*$AB$13","v":0},{"$f":"COUNTIF($D$118:$AA$118,$L$148)*$AB$13","v":0},{"$f":"COUNTIF($D$118:$AA$118,$M$148)*$AB$13","v":0},{"$f":"COUNTIF($D$118:$AA$118,$N$148)*$AB$13","v":0},{"$f":"COUNTIF($D$118:$AA$118,$O$148)*$AB$13","v":0},{"$f":"COUNTIF($D$118:$AA$118,$P$148)*$AB$13","v":0},{"$f":"COUNTIF($D$118:$AA$118,$Q$148)*$AB$13","v":0},{"$f":"COUNTIF($D$118:$AA$118,$R$148)*$AB$13","v":0},{"$f":"COUNTIF($D$118:$AA$118,$S$148)*$AB$13","v":0},{"$f":"COUNTIF($D$118:$AA$118,$T$148)*$AB$13","v":0},{"$f":"COUNTIF($D$118:$AA$118,$U$148)*$AB$13","v":0},{"$f":"COUNTIF($D$118:$AA$118,$V$148)*$AB$13","v":0},{"$f":"COUNTIF($D$118:$AA$118,$W$148)*$AB$13","v":0},{"$f":"COUNTIF($D$118:$AA$118,$X$148)*$AB$13","v":0},{"$f":"COUNTIF($D$118:$AA$118,$Y$148)*$AB$13","v":0},{"$f":"COUNTIF($D$118:$AA$118,$Z$148)*$AB$13","v":0},{"$f":"COUNTIF($D$118:$AA$118,$AA$148)*$AB$13","v":0},{"$f":"COUNTIF($D$118:$AA$118,$AB$148)*$AB$13","v":0},{"$f":"COUNTIF($D$118:$AA$118,$AC$148)*$AB$13","v":0},{"$f":"COUNTIF($D$118:$AA$118,$AD$148)*$AB$13","v":0},{"$f":"COUNTIF($D$118:$AA$118,$AE$148)*$AB$13","v":0},{"$f":"COUNTIF($D$118:$AA$118,$AF$148)*$AB$13","v":0},{"$f":"COUNTIF($D$118:$AA$118,$AG$148)*$AB$13","v":0},{"$f":"COUNTIF($D$118:$AA$118,$AH$148)*$AB$13","v":0},{"$f":"COUNTIF($D$118:$AA$118,$AI$148)*$AB$13","v":0},{"$f":"COUNTIF($D$118:$AA$118,$AJ$148)*$AB$13","v":0},{"$f":"COUNTIF($D$118:$AA$118,$AK$148)*$AB$13","v":0},{"$f":"COUNTIF($D$118:$AA$118,$AL$148)*$AB$13","v":0},{"$f":"COUNTIF($D$118:$AA$118,$AM$148)*$AB$13","v":0},{"$f":"COUNTIF($D$118:$AA$118,$AN$148)*$AB$13","v":0},{"$f":"COUNTIF($D$118:$AA$118,$AO$148)*$AB$13","v":0},{"$f":"COUNTIF($D$118:$AA$118,$AP$148)*$AB$13","v":0},{"$f":"COUNTIF($D$118:$AA$118,$AQ$148)*$AB$13","v":0},{"$f":"COUNTIF($D$118:$AA$118,$AR$148)*$AB$13","v":0},{"$f":"COUNTIF($D$118:$AA$118,$AS$148)*$AB$13","v":0},5,null,{"$f":"SUMPRODUCT($D$150:$AS$150,$D$162:$AS$162)","v":0},{"$f":"SUMPRODUCT($D150:$AS150,$D$189:$AS$189)","v":0},{"$f":"$Q$26/($C$7*$Q$31)*$AV150","v":{"$error":"#VALUE!"}},{"$f":"AW150*$AY$146","v":0},{"$f":"IFERROR(AX150+AY150,\"\")","v":""},{"$f":"$Q$26/($C$7*$R$31)*$AV150","v":{"$error":"#VALUE!"}},{"$f":"AW150*$BB$146","v":0},{"$f":"IFERROR(BA150+BB150,\"\")","v":""},{"$f":"$Q$26/($C$7*$S$31)*$AV150","v":{"$error":"#VALUE!"}},{"$f":"AW150*$BE$146","v":0},{"$f":"IFERROR(BD150+BE150,\"\")","v":""},null,{"$f":"$Q$26/($C$7*$Q$45)*$AV150","v":{"$error":"#VALUE!"}},{"$f":"AW150*$BI$146","v":0},{"$f":"IFERROR(BH150+BI150,\"\")","v":""},{"$f":"$Q$26/($C$7*$R$45)*$AV150","v":{"$error":"#VALUE!"}},{"$f":"AW150*$BL$146","v":0},{"$f":"IFERROR(BK150+BL150,\"\")","v":""},{"$f":"$Q$26/($C$7*$S$45)*$AV150","v":{"$error":"#VALUE!"}},{"$f":"AW150*$BO$146","v":0},{"$f":"IFERROR(BN150+BO150,\"\")","v":""}]
[null,null,6,{"$f":"COUNTIF($D$119:$AA$119,$D$148)*$AB$14","v":0},{"$f":"COUNTIF($D$119:$AA$119,$E$148)*$AB$14","v":0},{"$f":"COUNTIF($D$119:$AA$119,$F$148)*$AB$14","v":0},{"$f":"COUNTIF($D$119:$AA$119,$G$148)*$AB$14","v":0},{"$f":"COUNTIF($D$119:$AA$119,$H$148)*$AB$14","v":0},{"$f":"COUNTIF($D$119:$AA$119,$I$148)*$AB$14","v":0},{"$f":"COUNTIF($D$119:$AA$119,$J$148)*$AB$14","v":0},{"$f":"COUNTIF($D$119:$AA$119,$K$148)*$AB$14","v":0},{"$f":"COUNTIF($D$119:$AA$119,$L$148)*$AB$14","v":0},{"$f":"COUNTIF($D$119:$AA$119,$M$148)*$AB$14","v":0},{"$f":"COUNTIF($D$119:$AA$119,$N$148)*$AB$14","v":0},{"$f":"COUNTIF($D$119:$AA$119,$O$148)*$AB$14","v":0},{"$f":"COUNTIF($D$119:$AA$119,$P$148)*$AB$14","v":0},{"$f":"COUNTIF($D$119:$AA$119,$Q$148)*$AB$14","v":0},{"$f":"COUNTIF($D$119:$AA$119,$R$148)*$AB$14","v":0},{"$f":"COUNTIF($D$119:$AA$119,$S$148)*$AB$14","v":0},{"$f":"COUNTIF($D$119:$AA$119,$T$148)*$AB$14","v":0},{"$f":"COUNTIF($D$119:$AA$119,$U$148)*$AB$14","v":0},{"$f":"COUNTIF($D$119:$AA$119,$V$148)*$AB$14","v":0},{"$f":"COUNTIF($D$119:$AA$119,$W$148)*$AB$14","v":0},{"$f":"COUNTIF($D$119:$AA$119,$X$148)*$AB$14","v":0},{"$f":"COUNTIF($D$119:$AA$119,$Y$148)*$AB$14","v":0},{"$f":"COUNTIF($D$119:$AA$119,$Z$148)*$AB$14","v":0},{"$f":"COUNTIF($D$119:$AA$119,$AA$148)*$AB$14","v":0},{"$f":"COUNTIF($D$119:$AA$119,$AB$148)*$AB$14","v":0},{"$f":"COUNTIF($D$119:$AA$119,$AC$148)*$AB$14","v":0},{"$f":"COUNTIF($D$119:$AA$119,$AD$148)*$AB$14","v":0},{"$f":"COUNTIF($D$119:$AA$119,$AE$148)*$AB$14","v":0},{"$f":"COUNTIF($D$119:$AA$119,$AF$148)*$AB$14","v":0},{"$f":"COUNTIF($D$119:$AA$119,$AG$148)*$AB$14","v":0},{"$f":"COUNTIF($D$119:$AA$119,$AH$148)*$AB$14","v":0},{"$f":"COUNTIF($D$119:$AA$119,$AI$148)*$AB$14","v":0},{"$f":"COUNTIF($D$119:$AA$119,$AJ$148)*$AB$14","v":0},{"$f":"COUNTIF($D$119:$AA$119,$AK$148)*$AB$14","v":0},{"$f":"COUNTIF($D$119:$AA$119,$AL$148)*$AB$14","v":0},{"$f":"COUNTIF($D$119:$AA$119,$AM$148)*$AB$14","v":0},{"$f":"COUNTIF($D$119:$AA$119,$AN$148)*$AB$14","v":0},{"$f":"COUNTIF($D$119:$AA$119,$AO$148)*$AB$14","v":0},{"$f":"COUNTIF($D$119:$AA$119,$AP$148)*$AB$14","v":0},{"$f":"COUNTIF($D$119:$AA$119,$AQ$148)*$AB$14","v":0},{"$f":"COUNTIF($D$119:$AA$119,$AR$148)*$AB$14","v":0},{"$f":"COUNTIF($D$119:$AA$119,$AS$148)*$AB$14","v":0},6,null,{"$f":"SUMPRODUCT($D$151:$AS$151,$D$162:$AS$162)","v":0},0,{"$f":"$Q$26/($C$7*$Q$31)*$AV151","v":{"$error":"#VALUE!"}},0,"",{"$error":"#VALUE!"},0,"",{"$error":"#VALUE!"},0,{"$f":"IFERROR(BD151+BE151,\"\")","v":""},null,{"$error":"#VALUE!"},0,"",{"$error":"#VALUE!"},0,"",{"$error":"#VALUE!"},0,{"$f":"IFERROR(BN151+BO151,\"\")","v":""}]
[null,null,7,{"$f":"COUNTIF($D$120:$AA$120,$D$148)*$AB$15","v":0},{"$f":"COUNTIF($D$120:$AA$120,$E$148)*$AB$15","v":0},{"$f":"COUNTIF($D$120:$AA$120,$F$148)*$AB$15","v":0},{"$f":"COUNTIF($D$120:$AA$120,$G$148)*$AB$15","v":0},{"$f":"COUNTIF($D$120:$AA$120,$H$148)*$AB$15","v":0},{"$f":"COUNTIF($D$120:$AA$120,$I$148)*$AB$15","v":0},{"$f":"COUNTIF($D$120:$AA$120,$J$148)*$AB$15","v":0},{"$f":"COUNTIF($D$120:$AA$120,$K$148)*$AB$15","v":0},{"$f":"COUNTIF($D$120:$AA$120,$L$148)*$AB$15","v":0},{"$f":"COUNTIF($D$120:$AA$120,$M$148)*$AB$15","v":0},{"$f":"COUNTIF($D$120:$AA$120,$N$148)*$AB$15","v":0},{"$f":"COUNTIF($D$120:$AA$120,$O$148)*$AB$15","v":0},{"$f":"COUNTIF($D$120:$AA$120,$P$148)*$AB$15","v":0},{"$f":"COUNTIF($D$120:$AA$120,$Q$148)*$AB$15","v":0},{"$f":"COUNTIF($D$120:$AA$120,$R$148)*$AB$15","v":0},{"$f":"COUNTIF($D$120:$AA$120,$S$148)*$AB$15","v":0},{"$f":"COUNTIF($D$120:$AA$120,$T$148)*$AB$15","v":0},{"$f":"COUNTIF($D$120:$AA$120,$U$148)*$AB$15","v":0},{"$f":"COUNTIF($D$120:$AA$120,$V$148)*$AB$15","v":0},{"$f":"COUNTIF($D$120:$AA$120,$W$148)*$AB$15","v":0},{"$f":"COUNTIF($D$120:$AA$120,$X$148)*$AB$15","v":0},{"$f":"COUNTIF($D$120:$AA$120,$Y$148)*$AB$15","v":0},{"$f":"COUNTIF($D$120:$AA$120,$Z$148)*$AB$15","v":0},{"$f":"COUNTIF($D$120:$AA$120,$AA$148)*$AB$15","v":0},{"$f":"COUNTIF($D$120:$AA$120,$AB$148)*$AB$15","v":0},{"$f":"COUNTIF($D$120:$AA$120,$AC$148)*$AB$15","v":0},{"$f":"COUNTIF($D$120:$AA$120,$AD$148)*$AB$15","v":0},{"$f":"COUNTIF($D$120:$AA$120,$AE$148)*$AB$15","v":0},{"$f":"COUNTIF($D$120:$AA$120,$AF$148)*$AB$15","v":0},{"$f":"COUNTIF($D$120:$AA$120,$AG$148)*$AB$15","v":0},{"$f":"COUNTIF($D$120:$AA$120,$AH$148)*$AB$15","v":0},{"$f":"COUNTIF($D$120:$AA$120,$AI$148)*$AB$15","v":0},{"$f":"COUNTIF($D$120:$AA$120,$AJ$148)*$AB$15","v":0},{"$f":"COUNTIF($D$120:$AA$120,$AK$148)*$AB$15","v":0},{"$f":"COUNTIF($D$120:$AA$120,$AL$148)*$AB$15","v":0},{"$f":"COUNTIF($D$120:$AA$120,$AM$148)*$AB$15","v":0},{"$f":"COUNTIF($D$120:$AA$120,$AN$148)*$AB$15","v":0},{"$f":"COUNTIF($D$120:$AA$120,$AO$148)*$AB$15","v":0},{"$f":"COUNTIF($D$120:$AA$120,$AP$148)*$AB$15","v":0},{"$f":"COUNTIF($D$120:$AA$120,$AQ$148)*$AB$15","v":0},{"$f":"COUNTIF($D$120:$AA$120,$AR$148)*$AB$15","v":0},{"$f":"COUNTIF($D$120:$AA$120,$AS$148)*$AB$15","v":0},7,null,{"$f":"SUMPRODUCT($D$152:$AS$152,$D$162:$AS$162)","v":0},0,{"$error":"#VALUE!"},0,"",{"$error":"#VALUE!"},0,"",{"$error":"#VALUE!"},0,"",null,{"$error":"#VALUE!"},0,"",{"$error":"#VALUE!"},0,"",{"$error":"#VALUE!"},0,""]
[null,null,8,{"$f":"COUNTIF($D$121:$AA$121,$D$148)*$AB$16","v":0},{"$f":"COUNTIF($D$121:$AA$121,$E$148)*$AB$16","v":0},{"$f":"COUNTIF($D$121:$AA$121,$F$148)*$AB$16","v":0},{"$f":"COUNTIF($D$121:$AA$121,$G$148)*$AB$16","v":0},{"$f":"COUNTIF($D$121:$AA$121,$H$148)*$AB$16","v":0},{"$f":"COUNTIF($D$121:$AA$121,$I$148)*$AB$16","v":0},{"$f":"COUNTIF($D$121:$AA$121,$J$148)*$AB$16","v":0},{"$f":"COUNTIF($D$121:$AA$121,$K$148)*$AB$16","v":0},{"$f":"COUNTIF($D$121:$AA$121,$L$148)*$AB$16","v":0},{"$f":"COUNTIF($D$121:$AA$121,$M$148)*$AB$16","v":0},{"$f":"COUNTIF($D$121:$AA$121,$N$148)*$AB$16","v":0},{"$f":"COUNTIF($D$121:$AA$121,$O$148)*$AB$16","v":0},{"$f":"COUNTIF($D$121:$AA$121,$P$148)*$AB$16","v":0},{"$f":"COUNTIF($D$121:$AA$121,$Q$148)*$AB$16","v":0},{"$f":"COUNTIF($D$121:$AA$121,$R$148)*$AB$16","v":0},{"$f":"COUNTIF($D$121:$AA$121,$S$148)*$AB$16","v":0},{"$f":"COUNTIF($D$121:$AA$121,$T$148)*$AB$16","v":0},{"$f":"COUNTIF($D$121:$AA$121,$U$148)*$AB$16","v":0},{"$f":"COUNTIF($D$121:$AA$121,$V$148)*$AB$16","v":0},{"$f":"COUNTIF($D$121:$AA$121,$W$148)*$AB$16","v":0},{"$f":"COUNTIF($D$121:$AA$121,$X$148)*$AB$16","v":0},{"$f":"COUNTIF($D$121:$AA$121,$Y$148)*$AB$16","v":0},{"$f":"COUNTIF($D$121:$AA$121,$Z$148)*$AB$16","v":0},{"$f":"COUNTIF($D$121:$AA$121,$AA$148)*$AB$16","v":0},{"$f":"COUNTIF($D$121:$AA$121,$AB$148)*$AB$16","v":0},{"$f":"COUNTIF($D$121:$AA$121,$AC$148)*$AB$16","v":0},{"$f":"COUNTIF($D$121:$AA$121,$AD$148)*$AB$16","v":0},{"$f":"COUNTIF($D$121:$AA$121,$AE$148)*$AB$16","v":0},{"$f":"COUNTIF($D$121:$AA$121,$AF$148)*$AB$16","v":0},{"$f":"COUNTIF($D$121:$AA$121,$AG$148)*$AB$16","v":0},{"$f":"COUNTIF($D$121:$AA$121,$AH$148)*$AB$16","v":0},{"$f":"COUNTIF($D$121:$AA$121,$AI$148)*$AB$16","v":0},{"$f":"COUNTIF($D$121:$AA$121,$AJ$148)*$AB$16","v":0},{"$f":"COUNTIF($D$121:$AA$121,$AK$148)*$AB$16","v":0},{"$f":"COUNTIF($D$121:$AA$121,$AL$148)*$AB$16","v":0},{"$f":"COUNTIF($D$121:$AA$121,$AM$148)*$AB$16","v":0},{"$f":"COUNTIF($D$121:$AA$121,$AN$148)*$AB$16","v":0},{"$f":"COUNTIF($D$121:$AA$121,$AO$148)*$AB$16","v":0},{"$f":"COUNTIF($D$121:$AA$121,$AP$148)*$AB$16","v":0},{"$f":"COUNTIF($D$121:$AA$121,$AQ$148)*$AB$16","v":0},{"$f":"COUNTIF($D$121:$AA$121,$AR$148)*$AB$16","v":0},{"$f":"COUNTIF($D$121:$AA$121,$AS$148)*$AB$16","v":0},8,null,{"$f":"SUMPRODUCT($D$153:$AS$153,$D$162:$AS$162)","v":0},{"$f":"SUMPRODUCT($D153:$AS153,$D$189:$AS$189)","v":0},{"$error":"#VALUE!"},0,"",{"$error":"#VALUE!"},0,"",{"$error":"#VALUE!"},0,"",null,{"$error":"#VALUE!"},0,"",{"$error":"#VALUE!"},0,"",{"$error":"#VALUE!"},{"$f":"AW153*$BO$146","v":0},""]
[null,null,9,{"$f":"COUNTIF($D$122:$AA$122,$D$148)*$AB$17","v":0},{"$f":"COUNTIF($D$122:$AA$122,$E$148)*$AB$17","v":0},{"$f":"COUNTIF($D$122:$AA$122,$F$148)*$AB$17","v":0},{"$f":"COUNTIF($D$122:$AA$122,$G$148)*$AB$17","v":0},{"$f":"COUNTIF($D$122:$AA$122,$H$148)*$AB$17","v":0},{"$f":"COUNTIF($D$122:$AA$122,$I$148)*$AB$17","v":0},{"$f":"COUNTIF($D$122:$AA$122,$J$148)*$AB$17","v":0},{"$f":"COUNTIF($D$122:$AA$122,$K$148)*$AB$17","v":0},{"$f":"COUNTIF($D$122:$AA$122,$L$148)*$AB$17","v":0},{"$f":"COUNTIF($D$122:$AA$122,$M$148)*$AB$17","v":0},{"$f":"COUNTIF($D$122:$AA$122,$N$148)*$AB$17","v":0},{"$f":"COUNTIF($D$122:$AA$122,$O$148)*$AB$17","v":0},{"$f":"COUNTIF($D$122:$AA$122,$P$148)*$AB$17","v":0},{"$f":"COUNTIF($D$122:$AA$122,$Q$148)*$AB$17","v":0},{"$f":"COUNTIF($D$122:$AA$122,$R$148)*$AB$17","v":0},{"$f":"COUNTIF($D$122:$AA$122,$S$148)*$AB$17","v":0},{"$f":"COUNTIF($D$122:$AA$122,$T$148)*$AB$17","v":0},{"$f":"COUNTIF($D$122:$AA$122,$U$148)*$AB$17","v":0},{"$f":"COUNTIF($D$122:$AA$122,$V$148)*$AB$17","v":0},{"$f":"COUNTIF($D$122:$AA$122,$W$148)*$AB$17","v":0},{"$f":"COUNTIF($D$122:$AA$122,$X$148)*$AB$17","v":0},{"$f":"COUNTIF($D$122:$AA$122,$Y$148)*$AB$17","v":0},{"$f":"COUNTIF($D$122:$AA$122,$Z$148)*$AB$17","v":0},{"$f":"COUNTIF($D$122:$AA$122,$AA$148)*$AB$17","v":0},{"$f":"COUNTIF($D$122:$AA$122,$AB$148)*$AB$17","v":0},{"$f":"COUNTIF($D$122:$AA$122,$AC$148)*$AB$17","v":0},{"$f":"COUNTIF($D$122:$AA$122,$AD$148)*$AB$17","v":0},{"$f":"COUNTIF($D$122:$AA$122,$AE$148)*$AB$17","v":0},{"$f":"COUNTIF($D$122:$AA$122,$AF$148)*$AB$17","v":0},{"$f":"COUNTIF($D$122:$AA$122,$AG$148)*$AB$17","v":0},{"$f":"COUNTIF($D$122:$AA$122,$AH$148)*$AB$17","v":0},{"$f":"COUNTIF($D$122:$AA$122,$AI$148)*$AB$17","v":0},{"$f":"COUNTIF($D$122:$AA$122,$AJ$148)*$AB$17","v":0},{"$f":"COUNTIF($D$122:$AA$122,$AK$148)*$AB$17","v":0},{"$f":"COUNTIF($D$122:$AA$122,$AL$148)*$AB$17","v":0},{"$f":"COUNTIF($D$122:$AA$122,$AM$148)*$AB$17","v":0},{"$f":"COUNTIF($D$122:$AA$122,$AN$148)*$AB$17","v":0},{"$f":"COUNTIF($D$122:$AA$122,$AO$148)*$AB$17","v":0},{"$f":"COUNTIF($D$122:$AA$122,$AP$148)*$AB$17","v":0},{"$f":"COUNTIF($D$122:$AA$122,$AQ$148)*$AB$17","v":0},{"$f":"COUNTIF($D$122:$AA$122,$AR$148)*$AB$17","v":0},{"$f":"COUNTIF($D$122:$AA$122,$AS$148)*$AB$17","v":0},9,null,{"$f":"SUMPRODUCT($D$154:$AS$154,$D$162:$AS$162)","v":0},0,{"$f":"$Q$26/($C$7*$Q$31)*$AV154","v":{"$error":"#VALUE!"}},{"$f":"AW154*$AY$146","v":0},"",{"$error":"#VALUE!"},0,{"$f":"IFERROR(BA154+BB154,\"\")","v":""},{"$error":"#VALUE!"},0,"",null,{"$error":"#VALUE!"},0,{"$f":"IFERROR(BH154+BI154,\"\")","v":""},{"$error":"#VALUE!"},0,"",{"$error":"#VALUE!"},0,""]
[null,null,10,{"$f":"COUNTIF($D$123:$AA$123,$D$148)*$AB$18","v":0},{"$f":"COUNTIF($D$123:$AA$123,$E$148)*$AB$18","v":0},{"$f":"COUNTIF($D$123:$AA$123,$F$148)*$AB$18","v":0},{"$f":"COUNTIF($D$123:$AA$123,$G$148)*$AB$18","v":0},{"$f":"COUNTIF($D$123:$AA$123,$H$148)*$AB$18","v":0},{"$f":"COUNTIF($D$123:$AA$123,$I$148)*$AB$18","v":0},{"$f":"COUNTIF($D$123:$AA$123,$J$148)*$AB$18","v":0},{"$f":"COUNTIF($D$123:$AA$123,$K$148)*$AB$18","v":0},{"$f":"COUNTIF($D$123:$AA$123,$L$148)*$AB$18","v":0},{"$f":"COUNTIF($D$123:$AA$123,$M$148)*$AB$18","v":0},{"$f":"COUNTIF($D$123:$AA$123,$N$148)*$AB$18","v":0},{"$f":"COUNTIF($D$123:$AA$123,$O$148)*$AB$18","v":0},{"$f":"COUNTIF($D$123:$AA$123,$P$148)*$AB$18","v":0},{"$f":"COUNTIF($D$123:$AA$123,$Q$148)*$AB$18","v":0},{"$f":"COUNTIF($D$123:$AA$123,$R$148)*$AB$18","v":0},{"$f":"COUNTIF($D$123:$AA$123,$S$148)*$AB$18","v":0},{"$f":"COUNTIF($D$123:$AA$123,$T$148)*$AB$18","v":0},{"$f":"COUNTIF($D$123:$AA$123,$U$148)*$AB$18","v":0},{"$f":"COUNTIF($D$123:$AA$123,$V$148)*$AB$18","v":0},{"$f":"COUNTIF($D$123:$AA$123,$W$148)*$AB$18","v":0},{"$f":"COUNTIF($D$123:$AA$123,$X$148)*$AB$18","v":0},{"$f":"COUNTIF($D$123:$AA$123,$Y$148)*$AB$18","v":0},{"$f":"COUNTIF($D$123:$AA$123,$Z$148)*$AB$18","v":0},{"$f":"COUNTIF($D$123:$AA$123,$AA$148)*$AB$18","v":0},{"$f":"COUNTIF($D$123:$AA$123,$AB$148)*$AB$18","v":0},{"$f":"COUNTIF($D$123:$AA$123,$AC$148)*$AB$18","v":0},{"$f":"COUNTIF($D$123:$AA$123,$AD$148)*$AB$18","v":0},{"$f":"COUNTIF($D$123:$AA$123,$AE$148)*$AB$18","v":0},{"$f":"COUNTIF($D$123:$AA$123,$AF$148)*$AB$18","v":0},{"$f":"COUNTIF($D$123:$AA$123,$AG$148)*$AB$18","v":0},{"$f":"COUNTIF($D$123:$AA$123,$AH$148)*$AB$18","v":0},{"$f":"COUNTIF($D$123:$AA$123,$AI$148)*$AB$18","v":0},{"$f":"COUNTIF($D$123:$AA$123,$AJ$148)*$AB$18","v":0},{"$f":"COUNTIF($D$123:$AA$123,$AK$148)*$AB$18","v":0},{"$f":"COUNTIF($D$123:$AA$123,$AL$148)*$AB$18","v":0},{"$f":"COUNTIF($D$123:$AA$123,$AM$148)*$AB$18","v":0},{"$f":"COUNTIF($D$123:$AA$123,$AN$148)*$AB$18","v":0},{"$f":"COUNTIF($D$123:$AA$123,$AO$148)*$AB$18","v":0},{"$f":"COUNTIF($D$123:$AA$123,$AP$148)*$AB$18","v":0},{"$f":"COUNTIF($D$123:$AA$123,$AQ$148)*$AB$18","v":0},{"$f":"COUNTIF($D$123:$AA$123,$AR$148)*$AB$18","v":0},{"$f":"COUNTIF($D$123:$AA$123,$AS$148)*$AB$18","v":0},10,null,{"$f":"SUMPRODUCT($D$155:$AS$155,$D$162:$AS$162)","v":0},0,{"$error":"#VALUE!"},0,"",{"$error":"#VALUE!"},0,"",{"$error":"#VALUE!"},0,"",null,{"$error":"#VALUE!"},0,"",{"$error":"#VALUE!"},0,"",{"$error":"#VALUE!"},0,""]
[null,null,11,{"$f":"COUNTIF($D$124:$AA$124,$D$148)*$AB$19","v":0},{"$f":"COUNTIF($D$124:$AA$124,$E$148)*$AB$19","v":0},{"$f":"COUNTIF($D$124:$AA$124,$F$148)*$AB$19","v":0},{"$f":"COUNTIF($D$124:$AA$124,$G$148)*$AB$19","v":0},{"$f":"COUNTIF($D$124:$AA$124,$H$148)*$AB$19","v":0},{"$f":"COUNTIF($D$124:$AA$124,$I$148)*$AB$19","v":0},{"$f":"COUNTIF($D$124:$AA$124,$J$148)*$AB$19","v":0},{"$f":"COUNTIF($D$124:$AA$124,$K$148)*$AB$19","v":0},{"$f":"COUNTIF($D$124:$AA$124,$L$148)*$AB$19","v":0},{"$f":"COUNTIF($D$124:$AA$124,$M$148)*$AB$19","v":0},{"$f":"COUNTIF($D$124:$AA$124,$N$148)*$AB$19","v":0},{"$f":"COUNTIF($D$124:$AA$124,$O$148)*$AB$19","v":0},{"$f":"COUNTIF($D$124:$AA$124,$P$148)*$AB$19","v":0},{"$f":"COUNTIF($D$124:$AA$124,$Q$148)*$AB$19","v":0},{"$f":"COUNTIF($D$124:$AA$124,$R$148)*$AB$19","v":0},{"$f":"COUNTIF($D$124:$AA$124,$S$148)*$AB$19","v":0},{"$f":"COUNTIF($D$124:$AA$124,$T$148)*$AB$19","v":0},{"$f":"COUNTIF($D$124:$AA$124,$U$148)*$AB$19","v":0},{"$f":"COUNTIF($D$124:$AA$124,$V$148)*$AB$19","v":0},{"$f":"COUNTIF($D$124:$AA$124,$W$148)*$AB$19","v":0},{"$f":"COUNTIF($D$124:$AA$124,$X$148)*$AB$19","v":0},{"$f":"COUNTIF($D$124:$AA$124,$Y$148)*$AB$19","v":0},{"$f":"COUNTIF($D$124:$AA$124,$Z$148)*$AB$19","v":0},{"$f":"COUNTIF($D$124:$AA$124,$AA$148)*$AB$19","v":0},{"$f":"COUNTIF($D$124:$AA$124,$AB$148)*$AB$19","v":0},{"$f":"COUNTIF($D$124:$AA$124,$AC$148)*$AB$19","v":0},{"$f":"COUNTIF($D$124:$AA$124,$AD$148)*$AB$19","v":0},{"$f":"COUNTIF($D$124:$AA$124,$AE$148)*$AB$19","v":0},{"$f":"COUNTIF($D$124:$AA$124,$AF$148)*$AB$19","v":0},{"$f":"COUNTIF($D$124:$AA$124,$AG$148)*$AB$19","v":0},{"$f":"COUNTIF($D$124:$AA$124,$AH$148)*$AB$19","v":0},{"$f":"COUNTIF($D$124:$AA$124,$AI$148)*$AB$19","v":0},{"$f":"COUNTIF($D$124:$AA$124,$AJ$148)*$AB$19","v":0},{"$f":"COUNTIF($D$124:$AA$124,$AK$148)*$AB$19","v":0},{"$f":"COUNTIF($D$124:$AA$124,$AL$148)*$AB$19","v":0},{"$f":"COUNTIF($D$124:$AA$124,$AM$148)*$AB$19","v":0},{"$f":"COUNTIF($D$124:$AA$124,$AN$148)*$AB$19","v":0},{"$f":"COUNTIF($D$124:$AA$124,$AO$148)*$AB$19","v":0},{"$f":"COUNTIF($D$124:$AA$124,$AP$148)*$AB$19","v":0},{"$f":"COUNTIF($D$124:$AA$124,$AQ$148)*$AB$19","v":0},{"$f":"COUNTIF($D$124:$AA$124,$AR$148)*$AB$19","v":0},{"$f":"COUNTIF($D$124:$AA$124,$AS$148)*$AB$19","v":0},11,null,{"$f":"SUMPRODUCT($D$156:$AS$156,$D$162:$AS$162)","v":0},0,{"$error":"#VALUE!"},0,"",{"$error":"#VALUE!"},0,{"$f":"IFERROR(BA156+BB156,\"\")","v":""},{"$error":"#VALUE!"},0,"",null,{"$error":"#VALUE!"},0,"",{"$error":"#VALUE!"},{"$f":"AW156*$BL$146","v":0},"",{"$error":"#VALUE!"},0,""]
[null,null,12,{"$f":"COUNTIF($D$125:$AA$125,$D$148)*$AB$20","v":0},{"$f":"COUNTIF($D$125:$AA$125,$E$148)*$AB$20","v":0},{"$f":"COUNTIF($D$125:$AA$125,$F$148)*$AB$20","v":0},{"$f":"COUNTIF($D$125:$AA$125,$G$148)*$AB$20","v":0},{"$f":"COUNTIF($D$125:$AA$125,$H$148)*$AB$20","v":0},{"$f":"COUNTIF($D$125:$AA$125,$I$148)*$AB$20","v":0},{"$f":"COUNTIF($D$125:$AA$125,$J$148)*$AB$20","v":0},{"$f":"COUNTIF($D$125:$AA$125,$K$148)*$AB$20","v":0},{"$f":"COUNTIF($D$125:$AA$125,$L$148)*$AB$20","v":0},{"$f":"COUNTIF($D$125:$AA$125,$M$148)*$AB$20","v":0},{"$f":"COUNTIF($D$125:$AA$125,$N$148)*$AB$20","v":0},{"$f":"COUNTIF($D$125:$AA$125,$O$148)*$AB$20","v":0},{"$f":"COUNTIF($D$125:$AA$125,$P$148)*$AB$20","v":0},{"$f":"COUNTIF($D$125:$AA$125,$Q$148)*$AB$20","v":0},{"$f":"COUNTIF($D$125:$AA$125,$R$148)*$AB$20","v":0},{"$f":"COUNTIF($D$125:$AA$125,$S$148)*$AB$20","v":0},{"$f":"COUNTIF($D$125:$AA$125,$T$148)*$AB$20","v":0},{"$f":"COUNTIF($D$125:$AA$125,$U$148)*$AB$20","v":0},{"$f":"COUNTIF($D$125:$AA$125,$V$148)*$AB$20","v":0},{"$f":"COUNTIF($D$125:$AA$125,$W$148)*$AB$20","v":0},{"$f":"COUNTIF($D$125:$AA$125,$X$148)*$AB$20","v":0},{"$f":"COUNTIF($D$125:$AA$125,$Y$148)*$AB$20","v":0},{"$f":"COUNTIF($D$125:$AA$125,$Z$148)*$AB$20","v":0},{"$f":"COUNTIF($D$125:$AA$125,$AA$148)*$AB$20","v":0},{"$f":"COUNTIF($D$125:$AA$125,$AB$148)*$AB$20","v":0},{"$f":"COUNTIF($D$125:$AA$125,$AC$148)*$AB$20","v":0},{"$f":"COUNTIF($D$125:$AA$125,$AD$148)*$AB$20","v":0},{"$f":"COUNTIF($D$125:$AA$125,$AE$148)*$AB$20","v":0},{"$f":"COUNTIF($D$125:$AA$125,$AF$148)*$AB$20","v":0},{"$f":"COUNTIF($D$125:$AA$125,$AG$148)*$AB$20","v":0},{"$f":"COUNTIF($D$125:$AA$125,$AH$148)*$AB$20","v":0},{"$f":"COUNTIF($D$125:$AA$125,$AI$148)*$AB$20","v":0},{"$f":"COUNTIF($D$125:$AA$125,$AJ$148)*$AB$20","v":0},{"$f":"COUNTIF($D$125:$AA$125,$AK$148)*$AB$20","v":0},{"$f":"COUNTIF($D$125:$AA$125,$AL$148)*$AB$20","v":0},{"$f":"COUNTIF($D$125:$AA$125,$AM$148)*$AB$20","v":0},{"$f":"COUNTIF($D$125:$AA$125,$AN$148)*$AB$20","v":0},{"$f":"COUNTIF($D$125:$AA$125,$AO$148)*$AB$20","v":0},{"$f":"COUNTIF($D$125:$AA$125,$AP$148)*$AB$20","v":0},{"$f":"COUNTIF($D$125:$AA$125,$AQ$148)*$AB$20","v":0},{"$f":"COUNTIF($D$125:$AA$125,$AR$148)*$AB$20","v":0},{"$f":"COUNTIF($D$125:$AA$125,$AS$148)*$AB$20","v":0},12,null,{"$f":"SUMPRODUCT($D$157:$AS$157,$D$162:$AS$162)","v":0},0,{"$error":"#VALUE!"},{"$f":"AW157*$AY$146","v":0},"",{"$error":"#VALUE!"},0,"",{"$error":"#VALUE!"},0,"",null,{"$error":"#VALUE!"},0,"",{"$error":"#VALUE!"},0,"",{"$error":"#VALUE!"},0,""]
[null,null,1,{"$f":"COUNTIF($D$126:$AA$126,$D$148)*$AB$21","v":0},{"$f":"COUNTIF($D$126:$AA$126,$E$148)*$AB$21","v":0},{"$f":"COUNTIF($D$126:$AA$126,$F$148)*$AB$21","v":0},{"$f":"COUNTIF($D$126:$AA$126,$G$148)*$AB$21","v":0},{"$f":"COUNTIF($D$126:$AA$126,$H$148)*$AB$21","v":0},{"$f":"COUNTIF($D$126:$AA$126,$I$148)*$AB$21","v":0},{"$f":"COUNTIF($D$126:$AA$126,$J$148)*$AB$21","v":0},{"$f":"COUNTIF($D$126:$AA$126,$K$148)*$AB$21","v":0},{"$f":"COUNTIF($D$126:$AA$126,$L$148)*$AB$21","v":0},{"$f":"COUNTIF($D$126:$AA$126,$M$148)*$AB$21","v":0},{"$f":"COUNTIF($D$126:$AA$126,$N$148)*$AB$21","v":0},{"$f":"COUNTIF($D$126:$AA$126,$O$148)*$AB$21","v":0},{"$f":"COUNTIF($D$126:$AA$126,$P$148)*$AB$21","v":0},{"$f":"COUNTIF($D$126:$AA$126,$Q$148)*$AB$21","v":0},{"$f":"COUNTIF($D$126:$AA$126,$R$148)*$AB$21","v":0},{"$f":"COUNTIF($D$126:$AA$126,$S$148)*$AB$21","v":0},{"$f":"COUNTIF($D$126:$AA$126,$T$148)*$AB$21","v":0},{"$f":"COUNTIF($D$126:$AA$126,$U$148)*$AB$21","v":0},{"$f":"COUNTIF($D$126:$AA$126,$V$148)*$AB$21","v":0},{"$f":"COUNTIF($D$126:$AA$126,$W$148)*$AB$21","v":0},{"$f":"COUNTIF($D$126:$AA$126,$X$148)*$AB$21","v":0},{"$f":"COUNTIF($D$126:$AA$126,$Y$148)*$AB$21","v":0},{"$f":"COUNTIF($D$126:$AA$126,$Z$148)*$AB$21","v":0},{"$f":"COUNTIF($D$126:$AA$126,$AA$148)*$AB$21","v":0},{"$f":"COUNTIF($D$126:$AA$126,$AB$148)*$AB$21","v":0},{"$f":"COUNTIF($D$126:$AA$126,$AC$148)*$AB$21","v":0},{"$f":"COUNTIF($D$126:$AA$126,$AD$148)*$AB$21","v":0},{"$f":"COUNTIF($D$126:$AA$126,$AE$148)*$AB$21","v":0},{"$f":"COUNTIF($D$126:$AA$126,$AF$148)*$AB$21","v":0},{"$f":"COUNTIF($D$126:$AA$126,$AG$148)*$AB$21","v":0},{"$f":"COUNTIF($D$126:$AA$126,$AH$148)*$AB$21","v":0},{"$f":"COUNTIF($D$126:$AA$126,$AI$148)*$AB$21","v":0},{"$f":"COUNTIF($D$126:$AA$126,$AJ$148)*$AB$21","v":0},{"$f":"COUNTIF($D$126:$AA$126,$AK$148)*$AB$21","v":0},{"$f":"COUNTIF($D$126:$AA$126,$AL$148)*$AB$21","v":0},{"$f":"COUNTIF($D$126:$AA$126,$AM$148)*$AB$21","v":0},{"$f":"COUNTIF($D$126:$AA$126,$AN$148)*$AB$21","v":0},{"$f":"COUNTIF($D$126:$AA$126,$AO$148)*$AB$21","v":0},{"$f":"COUNTIF($D$126:$AA$126,$AP$148)*$AB$21","v":0},{"$f":"COUNTIF($D$126:$AA$126,$AQ$148)*$AB$21","v":0},{"$f":"COUNTIF($D$126:$AA$126,$AR$148)*$AB$21","v":0},{"$f":"COUNTIF($D$126:$AA$126,$AS$148)*$AB$21","v":0},1,null,{"$f":"SUMPRODUCT($D$158:$AS$158,$D$162:$AS$162)","v":0},0,{"$error":"#VALUE!"},0,"",{"$error":"#VALUE!"},0,"",{"$error":"#VALUE!"},{"$f":"AW158*$BE$146","v":0},"",null,{"$error":"#VALUE!"},0,"",{"$error":"#VALUE!"},0,"",{"$error":"#VALUE!"},0,""]
[null,null,2,{"$f":"COUNTIF($D$127:$AA$127,$D$148)*$AB$22","v":0},{"$f":"COUNTIF($D$127:$AA$127,$E$148)*$AB$22","v":0},{"$f":"COUNTIF($D$127:$AA$127,$F$148)*$AB$22","v":0},{"$f":"COUNTIF($D$127:$AA$127,$G$148)*$AB$22","v":0},{"$f":"COUNTIF($D$127:$AA$127,$H$148)*$AB$22","v":0},{"$f":"COUNTIF($D$127:$AA$127,$I$148)*$AB$22","v":0},{"$f":"COUNTIF($D$127:$AA$127,$J$148)*$AB$22","v":0},{"$f":"COUNTIF($D$127:$AA$127,$K$148)*$AB$22","v":0},{"$f":"COUNTIF($D$127:$AA$127,$L$148)*$AB$22","v":0},{"$f":"COUNTIF($D$127:$AA$127,$M$148)*$AB$22","v":0},{"$f":"COUNTIF($D$127:$AA$127,$N$148)*$AB$22","v":0},{"$f":"COUNTIF($D$127:$AA$127,$O$148)*$AB$22","v":0},{"$f":"COUNTIF($D$127:$AA$127,$P$148)*$AB$22","v":0},{"$f":"COUNTIF($D$127:$AA$127,$Q$148)*$AB$22","v":0},{"$f":"COUNTIF($D$127:$AA$127,$R$148)*$AB$22","v":0},{"$f":"COUNTIF($D$127:$AA$127,$S$148)*$AB$22","v":0},{"$f":"COUNTIF($D$127:$AA$127,$T$148)*$AB$22","v":0},{"$f":"COUNTIF($D$127:$AA$127,$U$148)*$AB$22","v":0},{"$f":"COUNTIF($D$127:$AA$127,$V$148)*$AB$22","v":0},{"$f":"COUNTIF($D$127:$AA$127,$W$148)*$AB$22","v":0},{"$f":"COUNTIF($D$127:$AA$127,$X$148)*$AB$22","v":0},{"$f":"COUNTIF($D$127:$AA$127,$Y$148)*$AB$22","v":0},{"$f":"COUNTIF($D$127:$AA$127,$Z$148)*$AB$22","v":0},{"$f":"COUNTIF($D$127:$AA$127,$AA$148)*$AB$22","v":0},{"$f":"COUNTIF($D$127:$AA$127,$AB$148)*$AB$22","v":0},{"$f":"COUNTIF($D$127:$AA$127,$AC$148)*$AB$22","v":0},{"$f":"COUNTIF($D$127:$AA$127,$AD$148)*$AB$22","v":0},{"$f":"COUNTIF($D$127:$AA$127,$AE$148)*$AB$22","v":0},{"$f":"COUNTIF($D$127:$AA$127,$AF$148)*$AB$22","v":0},{"$f":"COUNTIF($D$127:$AA$127,$AG$148)*$AB$22","v":0},{"$f":"COUNTIF($D$127:$AA$127,$AH$148)*$AB$22","v":0},{"$f":"COUNTIF($D$127:$AA$127,$AI$148)*$AB$22","v":0},{"$f":"COUNTIF($D$127:$AA$127,$AJ$148)*$AB$22","v":0},{"$f":"COUNTIF($D$127:$AA$127,$AK$148)*$AB$22","v":0},{"$f":"COUNTIF($D$127:$AA$127,$AL$148)*$AB$22","v":0},{"$f":"COUNTIF($D$127:$AA$127,$AM$148)*$AB$22","v":0},{"$f":"COUNTIF($D$127:$AA$127,$AN$148)*$AB$22","v":0},{"$f":"COUNTIF($D$127:$AA$127,$AO$148)*$AB$22","v":0},{"$f":"COUNTIF($D$127:$AA$127,$AP$148)*$AB$22","v":0},{"$f":"COUNTIF($D$127:$AA$127,$AQ$148)*$AB$22","v":0},{"$f":"COUNTIF($D$127:$AA$127,$AR$148)*$AB$22","v":0},{"$f":"COUNTIF($D$127:$AA$127,$AS$148)*$AB$22","v":0},2,null,{"$f":"SUMPRODUCT($D$159:$AS$159,$D$162:$AS$162)","v":0},{"$f":"SUMPRODUCT($D159:$AS159,$D$189:$AS$189)","v":0},{"$error":"#VALUE!"},0,{"$f":"IFERROR(AX159+AY159,\"\")","v":""},{"$error":"#VALUE!"},{"$f":"AW159*$BB$146","v":0},"",{"$error":"#VALUE!"},0,"",null,{"$error":"#VALUE!"},0,"",{"$error":"#VALUE!"},0,"",{"$error":"#VALUE!"},0,""]
[null,null,3,{"$f":"COUNTIF($D$128:$AA$128,$D$148)*$AB$23","v":0},{"$f":"COUNTIF($D$128:$AA$128,$E$148)*$AB$23","v":0},{"$f":"COUNTIF($D$128:$AA$128,$F$148)*$AB$23","v":0},{"$f":"COUNTIF($D$128:$AA$128,$G$148)*$AB$23","v":0},{"$f":"COUNTIF($D$128:$AA$128,$H$148)*$AB$23","v":0},{"$f":"COUNTIF($D$128:$AA$128,$I$148)*$AB$23","v":0},{"$f":"COUNTIF($D$128:$AA$128,$J$148)*$AB$23","v":0},{"$f":"COUNTIF($D$128:$AA$128,$K$148)*$AB$23","v":0},{"$f":"COUNTIF($D$128:$AA$128,$L$148)*$AB$23","v":0},{"$f":"COUNTIF($D$128:$AA$128,$M$148)*$AB$23","v":0},{"$f":"COUNTIF($D$128:$AA$128,$N$148)*$AB$23","v":0},{"$f":"COUNTIF($D$128:$AA$128,$O$148)*$AB$23","v":0},{"$f":"COUNTIF($D$128:$AA$128,$P$148)*$AB$23","v":0},{"$f":"COUNTIF($D$128:$AA$128,$Q$148)*$AB$23","v":0},{"$f":"COUNTIF($D$128:$AA$128,$R$148)*$AB$23","v":0},{"$f":"COUNTIF($D$128:$AA$128,$S$148)*$AB$23","v":0},{"$f":"COUNTIF($D$128:$AA$128,$T$148)*$AB$23","v":0},{"$f":"COUNTIF($D$128:$AA$128,$U$148)*$AB$23","v":0},{"$f":"COUNTIF($D$128:$AA$128,$V$148)*$AB$23","v":0},{"$f":"COUNTIF($D$128:$AA$128,$W$148)*$AB$23","v":0},{"$f":"COUNTIF($D$128:$AA$128,$X$148)*$AB$23","v":0},{"$f":"COUNTIF($D$128:$AA$128,$Y$148)*$AB$23","v":0},{"$f":"COUNTIF($D$128:$AA$128,$Z$148)*$AB$23","v":0},{"$f":"COUNTIF($D$128:$AA$128,$AA$148)*$AB$23","v":0},{"$f":"COUNTIF($D$128:$AA$128,$AB$148)*$AB$23","v":0},{"$f":"COUNTIF($D$128:$AA$128,$AC$148)*$AB$23","v":0},{"$f":"COUNTIF($D$128:$AA$128,$AD$148)*$AB$23","v":0},{"$f":"COUNTIF($D$128:$AA$128,$AE$148)*$AB$23","v":0},{"$f":"COUNTIF($D$128:$AA$128,$AF$148)*$AB$23","v":0},{"$f":"COUNTIF($D$128:$AA$128,$AG$148)*$AB$23","v":0},{"$f":"COUNTIF($D$128:$AA$128,$AH$148)*$AB$23","v":0},{"$f":"COUNTIF($D$128:$AA$128,$AI$148)*$AB$23","v":0},{"$f":"COUNTIF($D$128:$AA$128,$AJ$148)*$AB$23","v":0},{"$f":"COUNTIF($D$128:$AA$128,$AK$148)*$AB$23","v":0},{"$f":"COUNTIF($D$128:$AA$128,$AL$148)*$AB$23","v":0},{"$f":"COUNTIF($D$128:$AA$128,$AM$148)*$AB$23","v":0},{"$f":"COUNTIF($D$128:$AA$128,$AN$148)*$AB$23","v":0},{"$f":"COUNTIF($D$128:$AA$128,$AO$148)*$AB$23","v":0},{"$f":"COUNTIF($D$128:$AA$128,$AP$148)*$AB$23","v":0},{"$f":"COUNTIF($D$128:$AA$128,$AQ$148)*$AB$23","v":0},{"$f":"COUNTIF($D$128:$AA$128,$AR$148)*$AB$23","v":0},{"$f":"COUNTIF($D$128:$AA$128,$AS$148)*$AB$23","v":0},3,null,{"$f":"SUMPRODUCT($D$160:$AS$160,$D$162:$AS$162)","v":0},0,{"$error":"#VALUE!"},{"$f":"AW160*$AY$146","v":0},{"$f":"IFERROR(AX160+AY160,\"\")","v":""},{"$error":"#VALUE!"},{"$f":"AW160*$BB$146","v":0},"",{"$error":"#VALUE!"},{"$f":"AW160*$BE$146","v":0},"",null,{"$error":"#VALUE!"},0,{"$f":"IFERROR(BH160+BI160,\"\")","v":""},{"$error":"#VALUE!"},0,{"$f":"IFERROR(BK160+BL160,\"\")","v":""},{"$error":"#VALUE!"},0,{"$f":"IFERROR(BN160+BO160,\"\")","v":""}]
[null,"tc","冷却運転時間",{"$f":"SUM($D$149:$D$160)","v":0},{"$f":"SUM($E$149:$E$160)","v":0},{"$f":"SUM($F$149:$F$160)","v":0},{"$f":"SUM($G$149:$G$160)","v":0},{"$f":"SUM($H$149:$H$160)","v":0},{"$f":"SUM($I$149:$I$160)","v":0},{"$f":"SUM($J$149:$J$160)","v":0},{"$f":"SUM($K$149:$K$160)","v":0},{"$f":"SUM($L$149:$L$160)","v":0},{"$f":"SUM($M$149:$M$160)","v":0},{"$f":"SUM($N$149:$N$160)","v":0},{"$f":"SUM($O$149:$O$160)","v":0},{"$f":"SUM($P$149:$P$160)","v":0},{"$f":"SUM($Q$149:$Q$160)","v":0},{"$f":"SUM($R$149:$R$160)","v":0},{"$f":"SUM($S$149:$S$160)","v":0},{"$f":"SUM($T$149:$T$160)","v":0},{"$f":"SUM($U$149:$U$160)","v":0},{"$f":"SUM($V$149:$V$160)","v":0},{"$f":"SUM($W$149:$W$160)","v":0},{"$f":"SUM($X$149:$X$160)","v":0},{"$f":"SUM($Y$149:$Y$160)","v":0},{"$f":"SUM($Z$149:$Z$160)","v":0},{"$f":"SUM($AA$149:$AA$160)","v":0},{"$f":"SUM($AB$149:$AB$160)","v":0},{"$f":"SUM($AC$149:$AC$160)","v":0},{"$f":"SUM($AD$149:$AD$160)","v":0},{"$f":"SUM($AE$149:$AE$160)","v":0},{"$f":"SUM($AF$149:$AF$160)","v":0},{"$f":"SUM($AG$149:$AG$160)","v":0},{"$f":"SUM($AH$149:$AH$160)","v":0},{"$f":"SUM($AI$149:$AI$160)","v":0},{"$f":"SUM($AJ$149:$AJ$160)","v":0},{"$f":"SUM($AK$149:$AK$160)","v":0},{"$f":"SUM($AL$149:$AL$160)","v":0},{"$f":"SUM($AM$149:$AM$160)","v":0},{"$f":"SUM($AN$149:$AN$160)","v":0},{"$f":"SUM($AO$149:$AO$160)","v":0},{"$f":"SUM($AP$149:$AP$160)","v":0},{"$f":"SUM($AQ$149:$AQ$160)","v":0},{"$f":"SUM($AR$149:$AR$160)","v":0},{"$f":"SUM($AS$149:$AS$160)","v":0},"冷却運転時間",null,{"$f":"SUM($AV$149:$AV$160)","v":0},{"$f":"SUM(AW149:AW160)","v":0},{"$f":"SUM($AX$149:$AX$160)","v":{"$error":"#VALUE!"}},{"$f":"SUM(AY149:AY160)","v":0},{"$f":"SUM(AZ149:AZ160)","v":0},{"$f":"SUM($BA$149:$BA$160)","v":{"$error":"#VALUE!"}},{"$f":"SUM(BB149:BB160)","v":0},{"$f":"SUM(BC149:BC160)","v":0},{"$f":"SUM($BD$149:$BD$160)","v":{"$error":"#VALUE!"}},{"$f":"SUM(BE149:BE160)","v":0},{"$f":"SUM(BF149:BF160)","v":0},null,{"$f":"SUM($BH$149:$BH$160)","v":{"$error":"#VALUE!"}},{"$f":"SUM(BI149:BI160)","v":0},{"$f":"SUM(BJ149:BJ160)","v":0},{"$f":"SUM($BK$149:$BK$160)","v":{"$error":"#VALUE!"}},{"$f":"SUM(BL149:BL160)","v":0},{"$f":"SUM(BM149:BM160)","v":0},{"$f":"SUM($BN$149:$BN$160)","v":{"$error":"#VALUE!"}},{"$f":"SUM(BO149:BO160)","v":0},{"$f":"SUM(BP149:BP160)","v":0}]
[null,"εc","冷却時消費電力比",{"$f":"$D$163/$D$165","v":0},{"$f":"$E$163/$E$165","v":0},{"$f":"$F$163/$F$165","v":0},{"$f":"$G$163/$G$165","v":0},{"$f":"$H$163/$H$165","v":0},{"$f":"$I$163/$I$165","v":0},{"$f":"$J$163/$J$165","v":0},{"$f":"$K$163/$K$165","v":0},{"$f":"$L$163/$L$165","v":0},{"$f":"$M$163/$M$165","v":0},{"$f":"$N$163/$N$165","v":0},{"$f":"$O$163/$O$165","v":0},{"$f":"$P$163/$P$165","v":0},{"$f":"$Q$163/$Q$165","v":0},{"$f":"$R$163/$R$165","v":0},{"$f":"$S$163/$S$165","v":0},{"$f":"$T$163/$T$165","v":0},{"$f":"$U$163/$U$165","v":0},{"$f":"$V$163/$V$165","v":0},{"$f":"$W$163/$W$165","v":4.4599016309824581E-2},{"$f":"$X$163/$X$165","v":9.1903398793550986E-2},{"$f":"$Y$163/$Y$165","v":0.14209951695258602},{"$f":"$Z$163/$Z$165","v":0.19538909863257339},{"$f":"$AA$163/$AA$165","v":0.251990726741256},{"$f":"$AB$163/$AB$165","v":0.31214150548095521},{"$f":"$AC$163/$AC$165","v":0.37609891805582574},{"$f":"$AD$163/$AD$165","v":0.44414290102417586},{"$f":"$AE$163/$AE$165","v":0.51657816419967317},{"$f":"$AF$163/$AF$165","v":0.59373678935643692},{"$f":"$AG$163/$AG$165","v":0.67598114607465876},{"$f":"$AH$163/$AH$165","v":0.76370716901084046},{"$f":"$AI$163/$AI$165","v":0.85734804785278917},{"$f":"$AJ$163/$AJ$165","v":0.95737838942038933},{"$f":"$AK$163/$AK$165","v":1.0643189210360509},{"$f":"$AL$163/$AL$165","v":1.1050704522195833},{"$f":"$AM$163/$AM$165","v":1.1481853527556083},{"$f":"$AN$163/$AN$165","v":1.1938480722314382},{"$f":"$AO$163/$AO$165","v":1.2422612095688699},{"$f":"$AP$163/$AP$165","v":1.2936476724691082},{"$f":"$AQ$163/$AQ$165","v":1.3482531385175869},{"$f":"$AR$163/$AR$165","v":1.4063488663253034},{"$f":"$AS$163/$AS$165","v":1.4682349138275319},"冷却時消費電力比","εc"]
[null,"αc","冷却空調負荷率",{"$f":"IF((1/15)*(D$148-27)+1<0,0,IF((1/15)*(D$148-27)+1>1,1,(1/15)*(D$148-27)+1))","v":0},{"$f":"IF((1/15)*(E$148-27)+1<0,0,IF((1/15)*(E$148-27)+1>1,1,(1/15)*(E$148-27)+1))","v":0},0,0,0,0,0,0,0,0,0,0,0,0,0,0,0,0,0,6.6666666666666652E-2,0.1333333333333333,0.19999999999999996,0.26666666666666672,0.33333333333333337,0.4,0.46666666666666667,0.53333333333333333,0.6,0.66666666666666674,0.73333333333333339,0.8,0.8666666666666667,0.93333333333333335,1,1,1,1,1,1,1,1,1,"冷却空調負荷率","αc"]
[null,"Tc1","冷却水入口温度",{"$f":"(18/15)*(D$148-27)+32","v":-7.6000000000000014},{"$f":"(18/15)*(E$148-27)+32","v":-6.3999999999999986},-5.1999999999999957,-4,-2.7999999999999972,-1.6000000000000014,-0.39999999999999858,0.80000000000000071,2,3.2000000000000028,4.4000000000000021,5.6000000000000014,6.8000000000000007,8,9.1999999999999993,10.400000000000002,11.600000000000001,12.8,14,15.2,16.399999999999999,17.600000000000001,18.8,20,21.200000000000003,22.4,23.6,24.8,26,27.2,28.4,29.6,30.8,32,33.200000000000003,34.4,35.6,36.799999999999997,38,39.200000000000003,40.4,41.6,"冷却水入口温度","Tc1"]
[null,"βc","冷却COP比",{"$f":"2.32/10000*D$164*D$164-4.4/100*D$164+2.11","v":2.45780032},{"$f":"2.32/10000*E$164*E$164-4.4/100*E$164+2.11","v":2.4011027199999999},2.3450732799999998,2.2897119999999997,2.2350188799999997,2.1809939200000001,2.1276371199999997,2.0749484799999998,2.0229279999999998,1.9715756799999997,1.9208915199999999,1.8708755199999998,1.8215276799999998,1.7728479999999998,1.72483648,1.6774931199999998,1.6308179199999997,1.5848108799999998,1.5394719999999997,1.4948012799999999,1.4507987199999999,1.4074643199999999,1.3647980799999997,1.3227999999999998,1.2814700799999996,1.2408083199999997,1.2008147199999997,1.1614892799999996,1.1228319999999998,1.0848428799999998,1.0475219199999999,1.0108691199999997,0.97488447999999961,0.93956799999999974,0.90491967999999945,0.87093951999999986,0.83762751999999963,0.80498367999999987,0.7730079999999997,0.74170047999999955,0.71106111999999966,0.68108991999999957,"冷却COP比","βc"]
[null,null,"Σ",{"$f":"$D$161*$D$162","v":0},{"$f":"$E$161*$E$162","v":0},{"$f":"$F$161*$F$162","v":0},{"$f":"$G$161*$G$162","v":0},{"$f":"$H$161*$H$162","v":0},{"$f":"$I$161*$I$162","v":0},{"$f":"$J$161*$J$162","v":0},{"$f":"$K$161*$K$162","v":0},{"$f":"$L$161*$L$162","v":0},{"$f":"$M$161*$M$162","v":0},{"$f":"$N$161*$N$162","v":0},{"$f":"$O$161*$O$162","v":0},{"$f":"$P$161*$P$162","v":0},{"$f":"$Q$161*$Q$162","v":0},{"$f":"$R$161*$R$162","v":0},{"$f":"$S$161*$S$162","v":0},{"$f":"$T$161*$T$162","v":0},{"$f":"$U$161*$U$162","v":0},{"$f":"$V$161*$V$162","v":0},{"$f":"$W$161*$W$162","v":0},{"$f":"$X$161*$X$162","v":0},{"$f":"$Y$161*$Y$162","v":0},{"$f":"$Z$161*$Z$162","v":0},{"$f":"$AA$161*$AA$162","v":0},{"$f":"$AB$161*$AB$162","v":0},{"$f":"$AC$161*$AC$162","v":0},{"$f":"$AD$161*$AD$162","v":0},{"$f":"$AE$161*$AE$162","v":0},{"$f":"$AF$161*$AF$162","v":0},{"$f":"$AG$161*$AG$162","v":0},{"$f":"$AH$161*$AH$162","v":0},{"$f":"$AI$161*$AI$162","v":0},{"$f":"$AJ$161*$AJ$162","v":0},{"$f":"$AK$161*$AK$162","v":0},{"$f":"$AL$161*$AL$162","v":0},{"$f":"$AM$161*$AM$162","v":0},{"$f":"$AN$161*$AN$162","v":0},{"$f":"$AO$161*$AO$162","v":0},{"$f":"$AP$161*$AP$162","v":0},{"$f":"$AQ$161*$AQ$162","v":0},{"$f":"$AR$161*$AR$162","v":0},{"$f":"$AS$161*$AS$162","v":0},{"$f":"SUM($D$166:$AS$166)","v":0}]
[]
[null,null,"加熱期間中　外気湿球温度(Tw)が発生する時間[hour]",null,null,null,null,null,null,null,null,null,null,null,null,null,null,null,null,null,null,null,null,null,null,null,null,null,null,null,null,null,null,null,null,null,null,null,null,null,null,null,null,null,null,null,null,null,null,null,{"$f":"Q37+Q38","v":4.4000000000000004},null,null,{"$f":"R37+R38","v":0},null,null,{"$f":"S37+S38","v":0},null,null,null,{"$f":"Q51+Q52","v":0},null,null,{"$f":"R51+R52","v":0},null,null,{"$f":"S51+S52","v":0}]
[null,null,null,"外気湿球温度(Tw)",null,null,null,null,null,null,null,null,null,null,null,null,null,null,null,null,null,null,null,null,null,null,null,null,null,null,null,null,null,null,null,null,null,null,null,null,null,null,null,null,null,null,null,null,null,"前1",null,null,"前2",null,null,"前3",null,null,null,"後1",null,null,"後2",null,null,"後3"]
[null,null,"月",-6,-5,-4,-3,-2,-1,0,1,2,3,4,5,6,7,8,9,10,11,12,13,14,15,16,17,18,19,20,21,22,23,24,25,26,27,28,29,30,31,32,33,34,35,"月",null,"EwwのΣ","EaxwのΣ","Eww","Eaxw","Ew","Eww","Eaxw","Ew","Eww","Eaxw","Ew",null,"Eww","Eaxw","Ew","Eww","Eaxw","Ew","Eww","Eaxw","Ew"]
[null,null,4,{"$f":"COUNTIF($D$133:$AA$133,$D$170)*$AB$12","v":0},{"$f":"COUNTIF($D$133:$AA$133,$E$170)*$AB$12","v":0},{"$f":"COUNTIF($D$133:$AA$133,$F$170)*$AB$12","v":0},{"$f":"COUNTIF($D$133:$AA$133,$G$170)*$AB$12","v":0},{"$f":"COUNTIF($D$133:$AA$133,$H$170)*$AB$12","v":0},{"$f":"COUNTIF($D$133:$AA$133,$I$170)*$AB$12","v":0},{"$f":"COUNTIF($D$133:$AA$133,$J$170)*$AB$12","v":0},{"$f":"COUNTIF($D$133:$AA$133,$K$170)*$AB$12","v":0},{"$f":"COUNTIF($D$133:$AA$133,$L$170)*$AB$12","v":0},{"$f":"COUNTIF($D$133:$AA$133,$M$170)*$AB$12","v":0},{"$f":"COUNTIF($D$133:$AA$133,$N$170)*$AB$12","v":0},{"$f":"COUNTIF($D$133:$AA$133,$O$170)*$AB$12","v":0},{"$f":"COUNTIF($D$133:$AA$133,$P$170)*$AB$12","v":0},{"$f":"COUNTIF($D$133:$AA$133,$Q$170)*$AB$12","v":0},{"$f":"COUNTIF($D$133:$AA$133,$R$170)*$AB$12","v":0},{"$f":"COUNTIF($D$133:$AA$133,$S$170)*$AB$12","v":0},{"$f":"COUNTIF($D$133:$AA$133,$T$170)*$AB$12","v":0},{"$f":"COUNTIF($D$133:$AA$133,$U$170)*$AB$12","v":0},{"$f":"COUNTIF($D$133:$AA$133,$V$170)*$AB$12","v":0},{"$f":"COUNTIF($D$133:$AA$133,$W$170)*$AB$12","v":0},{"$f":"COUNTIF($D$133:$AA$133,$X$170)*$AB$12","v":0},{"$f":"COUNTIF($D$133:$AA$133,$Y$170)*$AB$12","v":0},{"$f":"COUNTIF($D$133:$AA$133,$Z$170)*$AB$12","v":0},{"$f":"COUNTIF($D$133:$AA$133,$AA$170)*$AB$12","v":0},{"$f":"COUNTIF($D$133:$AA$133,$AB$170)*$AB$12","v":0},{"$f":"COUNTIF($D$133:$AA$133,$AC$170)*$AB$12","v":0},{"$f":"COUNTIF($D$133:$AA$133,$AD$170)*$AB$12","v":0},{"$f":"COUNTIF($D$133:$AA$133,$AE$170)*$AB$12","v":0},{"$f":"COUNTIF($D$133:$AA$133,$AF$170)*$AB$12","v":0},{"$f":"COUNTIF($D$133:$AA$133,$AG$170)*$AB$12","v":0},{"$f":"COUNTIF($D$133:$AA$133,$AH$170)*$AB$12","v":0},{"$f":"COUNTIF($D$133:$AA$133,$AI$170)*$AB$12","v":0},{"$f":"COUNTIF($D$133:$AA$133,$AJ$170)*$AB$12","v":0},{"$f":"COUNTIF($D$133:$AA$133,$AK$170)*$AB$12","v":0},{"$f":"COUNTIF($D$133:$AA$133,$AL$170)*$AB$12","v":0},{"$f":"COUNTIF($D$133:$AA$133,$AM$170)*$AB$12","v":0},{"$f":"COUNTIF($D$133:$AA$133,$AN$170)*$AB$12","v":0},{"$f":"COUNTIF($D$133:$AA$133,$AO$170)*$AB$12","v":0},{"$f":"COUNTIF($D$133:$AA$133,$AP$170)*$AB$12","v":0},{"$f":"COUNTIF($D$133:$AA$133,$AQ$170)*$AB$12","v":0},{"$f":"COUNTIF($D$133:$AA$133,$AR$170)*$AB$12","v":0},{"$f":"COUNTIF($D$133:$AA$133,$AS$170)*$AB$12","v":0},4,null,{"$f":"SUMPRODUCT($D$171:$AS$171,$D$184:$AS$184)","v":0},{"$f":"SUMPRODUCT($D171:$AS171,$D$192:$AS$192)","v":0},{"$f":"IFERROR($Q$26/$Q$34*$AV171,\"\")","v":0},{"$f":"AW171*$AY$168","v":0},{"$f":"IFERROR(AX171+AY171,\"\")","v":0},{"$f":"IFERROR($Q$26/$R$34*$AV171,\"\")","v":""},{"$f":"AW171*$BB$168","v":0},{"$f":"IFERROR(BA171+BB171,\"\")","v":""},{"$f":"IFERROR($Q$26/$S$34*$AV171,\"\")","v":""},{"$f":"AW171*$BE$168","v":0},{"$f":"IFERROR(BD171+BE171,\"\")","v":""},null,{"$f":"IFERROR($Q$26/$Q$48*$AV171,\"\")","v":""},{"$f":"AW171*$BI$168","v":0},{"$f":"IFERROR(BH171+BI171,\"\")","v":""},{"$f":"IFERROR($Q$26/$R$48*$AV171,\"\")","v":""},{"$f":"AW171*$BL$168","v":0},{"$f":"IFERROR(BK171+BL171,\"\")","v":""},{"$f":"IFERROR($Q$26/$S$48*$AV171,\"\")","v":""},{"$f":"AW171*$BO$168","v":0},{"$f":"IFERROR(BN171+BO171,\"\")","v":""}]
[null,null,5,{"$f":"COUNTIF($D$134:$AA$134,$D$170)*$AB$13","v":0},{"$f":"COUNTIF($D$134:$AA$134,$E$170)*$AB$13","v":0},{"$f":"COUNTIF($D$134:$AA$134,$F$170)*$AB$13","v":0},{"$f":"COUNTIF($D$134:$AA$134,$G$170)*$AB$13","v":0},{"$f":"COUNTIF($D$134:$AA$134,$H$170)*$AB$13","v":0},{"$f":"COUNTIF($D$134:$AA$134,$I$170)*$AB$13","v":0},{"$f":"COUNTIF($D$134:$AA$134,$J$170)*$AB$13","v":0},{"$f":"COUNTIF($D$134:$AA$134,$K$170)*$AB$13","v":0},{"$f":"COUNTIF($D$134:$AA$134,$L$170)*$AB$13","v":0},{"$f":"COUNTIF($D$134:$AA$134,$M$170)*$AB$13","v":0},{"$f":"COUNTIF($D$134:$AA$134,$N$170)*$AB$13","v":0},{"$f":"COUNTIF($D$134:$AA$134,$O$170)*$AB$13","v":0},{"$f":"COUNTIF($D$134:$AA$134,$P$170)*$AB$13","v":0},{"$f":"COUNTIF($D$134:$AA$134,$Q$170)*$AB$13","v":0},{"$f":"COUNTIF($D$134:$AA$134,$R$170)*$AB$13","v":0},{"$f":"COUNTIF($D$134:$AA$134,$S$170)*$AB$13","v":0},{"$f":"COUNTIF($D$134:$AA$134,$T$170)*$AB$13","v":0},{"$f":"COUNTIF($D$134:$AA$134,$U$170)*$AB$13","v":0},{"$f":"COUNTIF($D$134:$AA$134,$V$170)*$AB$13","v":0},{"$f":"COUNTIF($D$134:$AA$134,$W$170)*$AB$13","v":0},{"$f":"COUNTIF($D$134:$AA$134,$X$170)*$AB$13","v":0},{"$f":"COUNTIF($D$134:$AA$134,$Y$170)*$AB$13","v":0},{"$f":"COUNTIF($D$134:$AA$134,$Z$170)*$AB$13","v":0},{"$f":"COUNTIF($D$134:$AA$134,$AA$170)*$AB$13","v":0},{"$f":"COUNTIF($D$134:$AA$134,$AB$170)*$AB$13","v":0},{"$f":"COUNTIF($D$134:$AA$134,$AC$170)*$AB$13","v":0},{"$f":"COUNTIF($D$134:$AA$134,$AD$170)*$AB$13","v":0},{"$f":"COUNTIF($D$134:$AA$134,$AE$170)*$AB$13","v":0},{"$f":"COUNTIF($D$134:$AA$134,$AF$170)*$AB$13","v":0},{"$f":"COUNTIF($D$134:$AA$134,$AG$170)*$AB$13","v":0},{"$f":"COUNTIF($D$134:$AA$134,$AH$170)*$AB$13","v":0},{"$f":"COUNTIF($D$134:$AA$134,$AI$170)*$AB$13","v":0},{"$f":"COUNTIF($D$134:$AA$134,$AJ$170)*$AB$13","v":0},{"$f":"COUNTIF($D$134:$AA$134,$AK$170)*$AB$13","v":0},{"$f":"COUNTIF($D$134:$AA$134,$AL$170)*$AB$13","v":0},{"$f":"COUNTIF($D$134:$AA$134,$AM$170)*$AB$13","v":0},{"$f":"COUNTIF($D$134:$AA$134,$AN$170)*$AB$13","v":0},{"$f":"COUNTIF($D$134:$AA$134,$AO$170)*$AB$13","v":0},{"$f":"COUNTIF($D$134:$AA$134,$AP$170)*$AB$13","v":0},{"$f":"COUNTIF($D$134:$AA$134,$AQ$170)*$AB$13","v":0},{"$f":"COUNTIF($D$134:$AA$134,$AR$170)*$AB$13","v":0},{"$f":"COUNTIF($D$134:$AA$134,$AS$170)*$AB$13","v":0},5,null,{"$f":"SUMPRODUCT($D$172:$AS$172,$D$184:$AS$184)","v":0},{"$f":"SUMPRODUCT($D172:$AS172,$D$192:$AS$192)","v":0},{"$f":"IFERROR($Q$26/$Q$34*$AV172,\"\")","v":0},{"$f":"AW172*$AY$168","v":0},{"$f":"IFERROR(AX172+AY172,\"\")","v":0},{"$f":"IFERROR($Q$26/$R$34*$AV172,\"\")","v":""},{"$f":"AW172*$BB$168","v":0},{"$f":"IFERROR(BA172+BB172,\"\")","v":""},{"$f":"IFERROR($Q$26/$S$34*$AV172,\"\")","v":""},{"$f":"AW172*$BE$168","v":0},{"$f":"IFERROR(BD172+BE172,\"\")","v":""},null,{"$f":"IFERROR($Q$26/$Q$48*$AV172,\"\")","v":""},{"$f":"AW172*$BI$168","v":0},{"$f":"IFERROR(BH172+BI172,\"\")","v":""},{"$f":"IFERROR($Q$26/$R$48*$AV172,\"\")","v":""},{"$f":"AW172*$BL$168","v":0},{"$f":"IFERROR(BK172+BL172,\"\")","v":""},{"$f":"IFERROR($Q$26/$S$48*$AV172,\"\")","v":""},{"$f":"AW172*$BO$168","v":0},{"$f":"IFERROR(BN172+BO172,\"\")","v":""}]
[null,null,6,{"$f":"COUNTIF($D$135:$AA$135,$D$170)*$AB$14","v":0},{"$f":"COUNTIF($D$135:$AA$135,$E$170)*$AB$14","v":0},{"$f":"COUNTIF($D$135:$AA$135,$F$170)*$AB$14","v":0},{"$f":"COUNTIF($D$135:$AA$135,$G$170)*$AB$14","v":0},{"$f":"COUNTIF($D$135:$AA$135,$H$170)*$AB$14","v":0},{"$f":"COUNTIF($D$135:$AA$135,$I$170)*$AB$14","v":0},{"$f":"COUNTIF($D$135:$AA$135,$J$170)*$AB$14","v":0},{"$f":"COUNTIF($D$135:$AA$135,$K$170)*$AB$14","v":0},{"$f":"COUNTIF($D$135:$AA$135,$L$170)*$AB$14","v":0},{"$f":"COUNTIF($D$135:$AA$135,$M$170)*$AB$14","v":0},{"$f":"COUNTIF($D$135:$AA$135,$N$170)*$AB$14","v":0},{"$f":"COUNTIF($D$135:$AA$135,$O$170)*$AB$14","v":0},{"$f":"COUNTIF($D$135:$AA$135,$P$170)*$AB$14","v":0},{"$f":"COUNTIF($D$135:$AA$135,$Q$170)*$AB$14","v":0},{"$f":"COUNTIF($D$135:$AA$135,$R$170)*$AB$14","v":0},{"$f":"COUNTIF($D$135:$AA$135,$S$170)*$AB$14","v":0},{"$f":"COUNTIF($D$135:$AA$135,$T$170)*$AB$14","v":0},{"$f":"COUNTIF($D$135:$AA$135,$U$170)*$AB$14","v":0},{"$f":"COUNTIF($D$135:$AA$135,$V$170)*$AB$14","v":0},{"$f":"COUNTIF($D$135:$AA$135,$W$170)*$AB$14","v":0},{"$f":"COUNTIF($D$135:$AA$135,$X$170)*$AB$14","v":0},{"$f":"COUNTIF($D$135:$AA$135,$Y$170)*$AB$14","v":0},{"$f":"COUNTIF($D$135:$AA$135,$Z$170)*$AB$14","v":0},{"$f":"COUNTIF($D$135:$AA$135,$AA$170)*$AB$14","v":0},{"$f":"COUNTIF($D$135:$AA$135,$AB$170)*$AB$14","v":0},{"$f":"COUNTIF($D$135:$AA$135,$AC$170)*$AB$14","v":0},{"$f":"COUNTIF($D$135:$AA$135,$AD$170)*$AB$14","v":0},{"$f":"COUNTIF($D$135:$AA$135,$AE$170)*$AB$14","v":0},{"$f":"COUNTIF($D$135:$AA$135,$AF$170)*$AB$14","v":0},{"$f":"COUNTIF($D$135:$AA$135,$AG$170)*$AB$14","v":0},{"$f":"COUNTIF($D$135:$AA$135,$AH$170)*$AB$14","v":0},{"$f":"COUNTIF($D$135:$AA$135,$AI$170)*$AB$14","v":0},{"$f":"COUNTIF($D$135:$AA$135,$AJ$170)*$AB$14","v":0},{"$f":"COUNTIF($D$135:$AA$135,$AK$170)*$AB$14","v":0},{"$f":"COUNTIF($D$135:$AA$135,$AL$170)*$AB$14","v":0},{"$f":"COUNTIF($D$135:$AA$135,$AM$170)*$AB$14","v":0},{"$f":"COUNTIF($D$135:$AA$135,$AN$170)*$AB$14","v":0},{"$f":"COUNTIF($D$135:$AA$135,$AO$170)*$AB$14","v":0},{"$f":"COUNTIF($D$135:$AA$135,$AP$170)*$AB$14","v":0},{"$f":"COUNTIF($D$135:$AA$135,$AQ$170)*$AB$14","v":0},{"$f":"COUNTIF($D$135:$AA$135,$AR$170)*$AB$14","v":0},{"$f":"COUNTIF($D$135:$AA$135,$AS$170)*$AB$14","v":0},6,null,{"$f":"SUMPRODUCT($D$173:$AS$173,$D$184:$AS$184)","v":0},0,0,0,0,"",0,{"$f":"IFERROR(BA173+BB173,\"\")","v":""},"",0,"",null,"",0,"","",0,"","",{"$f":"AW173*$BO$168","v":0},""]
[null,null,7,{"$f":"COUNTIF($D$136:$AA$136,$D$170)*$AB$15","v":0},{"$f":"COUNTIF($D$136:$AA$136,$E$170)*$AB$15","v":0},{"$f":"COUNTIF($D$136:$AA$136,$F$170)*$AB$15","v":0},{"$f":"COUNTIF($D$136:$AA$136,$G$170)*$AB$15","v":0},{"$f":"COUNTIF($D$136:$AA$136,$H$170)*$AB$15","v":0},{"$f":"COUNTIF($D$136:$AA$136,$I$170)*$AB$15","v":0},{"$f":"COUNTIF($D$136:$AA$136,$J$170)*$AB$15","v":0},{"$f":"COUNTIF($D$136:$AA$136,$K$170)*$AB$15","v":0},{"$f":"COUNTIF($D$136:$AA$136,$L$170)*$AB$15","v":0},{"$f":"COUNTIF($D$136:$AA$136,$M$170)*$AB$15","v":0},{"$f":"COUNTIF($D$136:$AA$136,$N$170)*$AB$15","v":0},{"$f":"COUNTIF($D$136:$AA$136,$O$170)*$AB$15","v":0},{"$f":"COUNTIF($D$136:$AA$136,$P$170)*$AB$15","v":0},{"$f":"COUNTIF($D$136:$AA$136,$Q$170)*$AB$15","v":0},{"$f":"COUNTIF($D$136:$AA$136,$R$170)*$AB$15","v":0},{"$f":"COUNTIF($D$136:$AA$136,$S$170)*$AB$15","v":0},{"$f":"COUNTIF($D$136:$AA$136,$T$170)*$AB$15","v":0},{"$f":"COUNTIF($D$136:$AA$136,$U$170)*$AB$15","v":0},{"$f":"COUNTIF($D$136:$AA$136,$V$170)*$AB$15","v":0},{"$f":"COUNTIF($D$136:$AA$136,$W$170)*$AB$15","v":0},{"$f":"COUNTIF($D$136:$AA$136,$X$170)*$AB$15","v":0},{"$f":"COUNTIF($D$136:$AA$136,$Y$170)*$AB$15","v":0},{"$f":"COUNTIF($D$136:$AA$136,$Z$170)*$AB$15","v":0},{"$f":"COUNTIF($D$136:$AA$136,$AA$170)*$AB$15","v":0},{"$f":"COUNTIF($D$136:$AA$136,$AB$170)*$AB$15","v":0},{"$f":"COUNTIF($D$136:$AA$136,$AC$170)*$AB$15","v":0},{"$f":"COUNTIF($D$136:$AA$136,$AD$170)*$AB$15","v":0},{"$f":"COUNTIF($D$136:$AA$136,$AE$170)*$AB$15","v":0},{"$f":"COUNTIF($D$136:$AA$136,$AF$170)*$AB$15","v":0},{"$f":"COUNTIF($D$136:$AA$136,$AG$170)*$AB$15","v":0},{"$f":"COUNTIF($D$136:$AA$136,$AH$170)*$AB$15","v":0},{"$f":"COUNTIF($D$136:$AA$136,$AI$170)*$AB$15","v":0},{"$f":"COUNTIF($D$136:$AA$136,$AJ$170)*$AB$15","v":0},{"$f":"COUNTIF($D$136:$AA$136,$AK$170)*$AB$15","v":0},{"$f":"COUNTIF($D$136:$AA$136,$AL$170)*$AB$15","v":0},{"$f":"COUNTIF($D$136:$AA$136,$AM$170)*$AB$15","v":0},{"$f":"COUNTIF($D$136:$AA$136,$AN$170)*$AB$15","v":0},{"$f":"COUNTIF($D$136:$AA$136,$AO$170)*$AB$15","v":0},{"$f":"COUNTIF($D$136:$AA$136,$AP$170)*$AB$15","v":0},{"$f":"COUNTIF($D$136:$AA$136,$AQ$170)*$AB$15","v":0},{"$f":"COUNTIF($D$136:$AA$136,$AR$170)*$AB$15","v":0},{"$f":"COUNTIF($D$136:$AA$136,$AS$170)*$AB$15","v":0},7,null,{"$f":"SUMPRODUCT($D$174:$AS$174,$D$184:$AS$184)","v":0},0,0,0,0,"",0,"","",0,"",null,"",0,"","",0,"","",0,""]
[null,null,8,{"$f":"COUNTIF($D$137:$AA$137,$D$170)*$AB$16","v":0},{"$f":"COUNTIF($D$137:$AA$137,$E$170)*$AB$16","v":0},{"$f":"COUNTIF($D$137:$AA$137,$F$170)*$AB$16","v":0},{"$f":"COUNTIF($D$137:$AA$137,$G$170)*$AB$16","v":0},{"$f":"COUNTIF($D$137:$AA$137,$H$170)*$AB$16","v":0},{"$f":"COUNTIF($D$137:$AA$137,$I$170)*$AB$16","v":0},{"$f":"COUNTIF($D$137:$AA$137,$J$170)*$AB$16","v":0},{"$f":"COUNTIF($D$137:$AA$137,$K$170)*$AB$16","v":0},{"$f":"COUNTIF($D$137:$AA$137,$L$170)*$AB$16","v":0},{"$f":"COUNTIF($D$137:$AA$137,$M$170)*$AB$16","v":0},{"$f":"COUNTIF($D$137:$AA$137,$N$170)*$AB$16","v":0},{"$f":"COUNTIF($D$137:$AA$137,$O$170)*$AB$16","v":0},{"$f":"COUNTIF($D$137:$AA$137,$P$170)*$AB$16","v":0},{"$f":"COUNTIF($D$137:$AA$137,$Q$170)*$AB$16","v":0},{"$f":"COUNTIF($D$137:$AA$137,$R$170)*$AB$16","v":0},{"$f":"COUNTIF($D$137:$AA$137,$S$170)*$AB$16","v":0},{"$f":"COUNTIF($D$137:$AA$137,$T$170)*$AB$16","v":0},{"$f":"COUNTIF($D$137:$AA$137,$U$170)*$AB$16","v":0},{"$f":"COUNTIF($D$137:$AA$137,$V$170)*$AB$16","v":0},{"$f":"COUNTIF($D$137:$AA$137,$W$170)*$AB$16","v":0},{"$f":"COUNTIF($D$137:$AA$137,$X$170)*$AB$16","v":0},{"$f":"COUNTIF($D$137:$AA$137,$Y$170)*$AB$16","v":0},{"$f":"COUNTIF($D$137:$AA$137,$Z$170)*$AB$16","v":0},{"$f":"COUNTIF($D$137:$AA$137,$AA$170)*$AB$16","v":0},{"$f":"COUNTIF($D$137:$AA$137,$AB$170)*$AB$16","v":0},{"$f":"COUNTIF($D$137:$AA$137,$AC$170)*$AB$16","v":0},{"$f":"COUNTIF($D$137:$AA$137,$AD$170)*$AB$16","v":0},{"$f":"COUNTIF($D$137:$AA$137,$AE$170)*$AB$16","v":0},{"$f":"COUNTIF($D$137:$AA$137,$AF$170)*$AB$16","v":0},{"$f":"COUNTIF($D$137:$AA$137,$AG$170)*$AB$16","v":0},{"$f":"COUNTIF($D$137:$AA$137,$AH$170)*$AB$16","v":0},{"$f":"COUNTIF($D$137:$AA$137,$AI$170)*$AB$16","v":0},{"$f":"COUNTIF($D$137:$AA$137,$AJ$170)*$AB$16","v":0},{"$f":"COUNTIF($D$137:$AA$137,$AK$170)*$AB$16","v":0},{"$f":"COUNTIF($D$137:$AA$137,$AL$170)*$AB$16","v":0},{"$f":"COUNTIF($D$137:$AA$137,$AM$170)*$AB$16","v":0},{"$f":"COUNTIF($D$137:$AA$137,$AN$170)*$AB$16","v":0},{"$f":"COUNTIF($D$137:$AA$137,$AO$170)*$AB$16","v":0},{"$f":"COUNTIF($D$137:$AA$137,$AP$170)*$AB$16","v":0},{"$f":"COUNTIF($D$137:$AA$137,$AQ$170)*$AB$16","v":0},{"$f":"COUNTIF($D$137:$AA$137,$AR$170)*$AB$16","v":0},{"$f":"COUNTIF($D$137:$AA$137,$AS$170)*$AB$16","v":0},8,null,{"$f":"SUMPRODUCT($D$175:$AS$175,$D$184:$AS$184)","v":0},0,0,0,0,"",0,"","",0,{"$f":"IFERROR(BD175+BE175,\"\")","v":""},null,"",0,"","",0,"","",0,""]
[null,null,9,{"$f":"COUNTIF($D$138:$AA$138,$D$170)*$AB$17","v":0},{"$f":"COUNTIF($D$138:$AA$138,$E$170)*$AB$17","v":0},{"$f":"COUNTIF($D$138:$AA$138,$F$170)*$AB$17","v":0},{"$f":"COUNTIF($D$138:$AA$138,$G$170)*$AB$17","v":0},{"$f":"COUNTIF($D$138:$AA$138,$H$170)*$AB$17","v":0},{"$f":"COUNTIF($D$138:$AA$138,$I$170)*$AB$17","v":0},{"$f":"COUNTIF($D$138:$AA$138,$J$170)*$AB$17","v":0},{"$f":"COUNTIF($D$138:$AA$138,$K$170)*$AB$17","v":0},{"$f":"COUNTIF($D$138:$AA$138,$L$170)*$AB$17","v":0},{"$f":"COUNTIF($D$138:$AA$138,$M$170)*$AB$17","v":0},{"$f":"COUNTIF($D$138:$AA$138,$N$170)*$AB$17","v":0},{"$f":"COUNTIF($D$138:$AA$138,$O$170)*$AB$17","v":0},{"$f":"COUNTIF($D$138:$AA$138,$P$170)*$AB$17","v":0},{"$f":"COUNTIF($D$138:$AA$138,$Q$170)*$AB$17","v":0},{"$f":"COUNTIF($D$138:$AA$138,$R$170)*$AB$17","v":0},{"$f":"COUNTIF($D$138:$AA$138,$S$170)*$AB$17","v":0},{"$f":"COUNTIF($D$138:$AA$138,$T$170)*$AB$17","v":0},{"$f":"COUNTIF($D$138:$AA$138,$U$170)*$AB$17","v":0},{"$f":"COUNTIF($D$138:$AA$138,$V$170)*$AB$17","v":0},{"$f":"COUNTIF($D$138:$AA$138,$W$170)*$AB$17","v":0},{"$f":"COUNTIF($D$138:$AA$138,$X$170)*$AB$17","v":0},{"$f":"COUNTIF($D$138:$AA$138,$Y$170)*$AB$17","v":0},{"$f":"COUNTIF($D$138:$AA$138,$Z$170)*$AB$17","v":0},{"$f":"COUNTIF($D$138:$AA$138,$AA$170)*$AB$17","v":0},{"$f":"COUNTIF($D$138:$AA$138,$AB$170)*$AB$17","v":0},{"$f":"COUNTIF($D$138:$AA$138,$AC$170)*$AB$17","v":0},{"$f":"COUNTIF($D$138:$AA$138,$AD$170)*$AB$17","v":0},{"$f":"COUNTIF($D$138:$AA$138,$AE$170)*$AB$17","v":0},{"$f":"COUNTIF($D$138:$AA$138,$AF$170)*$AB$17","v":0},{"$f":"COUNTIF($D$138:$AA$138,$AG$170)*$AB$17","v":0},{"$f":"COUNTIF($D$138:$AA$138,$AH$170)*$AB$17","v":0},{"$f":"COUNTIF($D$138:$AA$138,$AI$170)*$AB$17","v":0},{"$f":"COUNTIF($D$138:$AA$138,$AJ$170)*$AB$17","v":0},{"$f":"COUNTIF($D$138:$AA$138,$AK$170)*$AB$17","v":0},{"$f":"COUNTIF($D$138:$AA$138,$AL$170)*$AB$17","v":0},{"$f":"COUNTIF($D$138:$AA$138,$AM$170)*$AB$17","v":0},{"$f":"COUNTIF($D$138:$AA$138,$AN$170)*$AB$17","v":0},{"$f":"COUNTIF($D$138:$AA$138,$AO$170)*$AB$17","v":0},{"$f":"COUNTIF($D$138:$AA$138,$AP$170)*$AB$17","v":0},{"$f":"COUNTIF($D$138:$AA$138,$AQ$170)*$AB$17","v":0},{"$f":"COUNTIF($D$138:$AA$138,$AR$170)*$AB$17","v":0},{"$f":"COUNTIF($D$138:$AA$138,$AS$170)*$AB$17","v":0},9,null,{"$f":"SUMPRODUCT($D$176:$AS$176,$D$184:$AS$184)","v":0},0,0,0,0,"",0,"","",0,"",null,"",0,"","",{"$f":"AW176*$BL$168","v":0},"","",0,""]
[null,null,10,{"$f":"COUNTIF($D$139:$AA$139,$D$170)*$AB$18","v":0},{"$f":"COUNTIF($D$139:$AA$139,$E$170)*$AB$18","v":0},{"$f":"COUNTIF($D$139:$AA$139,$F$170)*$AB$18","v":0},{"$f":"COUNTIF($D$139:$AA$139,$G$170)*$AB$18","v":0},{"$f":"COUNTIF($D$139:$AA$139,$H$170)*$AB$18","v":0},{"$f":"COUNTIF($D$139:$AA$139,$I$170)*$AB$18","v":0},{"$f":"COUNTIF($D$139:$AA$139,$J$170)*$AB$18","v":0},{"$f":"COUNTIF($D$139:$AA$139,$K$170)*$AB$18","v":0},{"$f":"COUNTIF($D$139:$AA$139,$L$170)*$AB$18","v":0},{"$f":"COUNTIF($D$139:$AA$139,$M$170)*$AB$18","v":0},{"$f":"COUNTIF($D$139:$AA$139,$N$170)*$AB$18","v":0},{"$f":"COUNTIF($D$139:$AA$139,$O$170)*$AB$18","v":0},{"$f":"COUNTIF($D$139:$AA$139,$P$170)*$AB$18","v":0},{"$f":"COUNTIF($D$139:$AA$139,$Q$170)*$AB$18","v":0},{"$f":"COUNTIF($D$139:$AA$139,$R$170)*$AB$18","v":0},{"$f":"COUNTIF($D$139:$AA$139,$S$170)*$AB$18","v":0},{"$f":"COUNTIF($D$139:$AA$139,$T$170)*$AB$18","v":0},{"$f":"COUNTIF($D$139:$AA$139,$U$170)*$AB$18","v":0},{"$f":"COUNTIF($D$139:$AA$139,$V$170)*$AB$18","v":0},{"$f":"COUNTIF($D$139:$AA$139,$W$170)*$AB$18","v":0},{"$f":"COUNTIF($D$139:$AA$139,$X$170)*$AB$18","v":0},{"$f":"COUNTIF($D$139:$AA$139,$Y$170)*$AB$18","v":0},{"$f":"COUNTIF($D$139:$AA$139,$Z$170)*$AB$18","v":0},{"$f":"COUNTIF($D$139:$AA$139,$AA$170)*$AB$18","v":0},{"$f":"COUNTIF($D$139:$AA$139,$AB$170)*$AB$18","v":0},{"$f":"COUNTIF($D$139:$AA$139,$AC$170)*$AB$18","v":0},{"$f":"COUNTIF($D$139:$AA$139,$AD$170)*$AB$18","v":0},{"$f":"COUNTIF($D$139:$AA$139,$AE$170)*$AB$18","v":0},{"$f":"COUNTIF($D$139:$AA$139,$AF$170)*$AB$18","v":0},{"$f":"COUNTIF($D$139:$AA$139,$AG$170)*$AB$18","v":0},{"$f":"COUNTIF($D$139:$AA$139,$AH$170)*$AB$18","v":0},{"$f":"COUNTIF($D$139:$AA$139,$AI$170)*$AB$18","v":0},{"$f":"COUNTIF($D$139:$AA$139,$AJ$170)*$AB$18","v":0},{"$f":"COUNTIF($D$139:$AA$139,$AK$170)*$AB$18","v":0},{"$f":"COUNTIF($D$139:$AA$139,$AL$170)*$AB$18","v":0},{"$f":"COUNTIF($D$139:$AA$139,$AM$170)*$AB$18","v":0},{"$f":"COUNTIF($D$139:$AA$139,$AN$170)*$AB$18","v":0},{"$f":"COUNTIF($D$139:$AA$139,$AO$170)*$AB$18","v":0},{"$f":"COUNTIF($D$139:$AA$139,$AP$170)*$AB$18","v":0},{"$f":"COUNTIF($D$139:$AA$139,$AQ$170)*$AB$18","v":0},{"$f":"COUNTIF($D$139:$AA$139,$AR$170)*$AB$18","v":0},{"$f":"COUNTIF($D$139:$AA$139,$AS$170)*$AB$18","v":0},10,null,{"$f":"SUMPRODUCT($D$177:$AS$177,$D$184:$AS$184)","v":0},0,0,0,0,"",{"$f":"AW177*$BB$168","v":0},"","",{"$f":"AW177*$BE$168","v":0},"",null,"",{"$f":"AW177*$BI$168","v":0},"","",0,"","",0,""]
[null,null,11,{"$f":"COUNTIF($D$140:$AA$140,$D$170)*$AB$19","v":0},{"$f":"COUNTIF($D$140:$AA$140,$E$170)*$AB$19","v":0},{"$f":"COUNTIF($D$140:$AA$140,$F$170)*$AB$19","v":0},{"$f":"COUNTIF($D$140:$AA$140,$G$170)*$AB$19","v":0},{"$f":"COUNTIF($D$140:$AA$140,$H$170)*$AB$19","v":0},{"$f":"COUNTIF($D$140:$AA$140,$I$170)*$AB$19","v":0},{"$f":"COUNTIF($D$140:$AA$140,$J$170)*$AB$19","v":0},{"$f":"COUNTIF($D$140:$AA$140,$K$170)*$AB$19","v":0},{"$f":"COUNTIF($D$140:$AA$140,$L$170)*$AB$19","v":0},{"$f":"COUNTIF($D$140:$AA$140,$M$170)*$AB$19","v":0},{"$f":"COUNTIF($D$140:$AA$140,$N$170)*$AB$19","v":0},{"$f":"COUNTIF($D$140:$AA$140,$O$170)*$AB$19","v":0},{"$f":"COUNTIF($D$140:$AA$140,$P$170)*$AB$19","v":0},{"$f":"COUNTIF($D$140:$AA$140,$Q$170)*$AB$19","v":0},{"$f":"COUNTIF($D$140:$AA$140,$R$170)*$AB$19","v":0},{"$f":"COUNTIF($D$140:$AA$140,$S$170)*$AB$19","v":0},{"$f":"COUNTIF($D$140:$AA$140,$T$170)*$AB$19","v":0},{"$f":"COUNTIF($D$140:$AA$140,$U$170)*$AB$19","v":0},{"$f":"COUNTIF($D$140:$AA$140,$V$170)*$AB$19","v":0},{"$f":"COUNTIF($D$140:$AA$140,$W$170)*$AB$19","v":0},{"$f":"COUNTIF($D$140:$AA$140,$X$170)*$AB$19","v":0},{"$f":"COUNTIF($D$140:$AA$140,$Y$170)*$AB$19","v":0},{"$f":"COUNTIF($D$140:$AA$140,$Z$170)*$AB$19","v":0},{"$f":"COUNTIF($D$140:$AA$140,$AA$170)*$AB$19","v":0},{"$f":"COUNTIF($D$140:$AA$140,$AB$170)*$AB$19","v":0},{"$f":"COUNTIF($D$140:$AA$140,$AC$170)*$AB$19","v":0},{"$f":"COUNTIF($D$140:$AA$140,$AD$170)*$AB$19","v":0},{"$f":"COUNTIF($D$140:$AA$140,$AE$170)*$AB$19","v":0},{"$f":"COUNTIF($D$140:$AA$140,$AF$170)*$AB$19","v":0},{"$f":"COUNTIF($D$140:$AA$140,$AG$170)*$AB$19","v":0},{"$f":"COUNTIF($D$140:$AA$140,$AH$170)*$AB$19","v":0},{"$f":"COUNTIF($D$140:$AA$140,$AI$170)*$AB$19","v":0},{"$f":"COUNTIF($D$140:$AA$140,$AJ$170)*$AB$19","v":0},{"$f":"COUNTIF($D$140:$AA$140,$AK$170)*$AB$19","v":0},{"$f":"COUNTIF($D$140:$AA$140,$AL$170)*$AB$19","v":0},{"$f":"COUNTIF($D$140:$AA$140,$AM$170)*$AB$19","v":0},{"$f":"COUNTIF($D$140:$AA$140,$AN$170)*$AB$19","v":0},{"$f":"COUNTIF($D$140:$AA$140,$AO$170)*$AB$19","v":0},{"$f":"COUNTIF($D$140:$AA$140,$AP$170)*$AB$19","v":0},{"$f":"COUNTIF($D$140:$AA$140,$AQ$170)*$AB$19","v":0},{"$f":"COUNTIF($D$140:$AA$140,$AR$170)*$AB$19","v":0},{"$f":"COUNTIF($D$140:$AA$140,$AS$170)*$AB$19","v":0},11,null,{"$f":"SUMPRODUCT($D$178:$AS$178,$D$184:$AS$184)","v":0},0,0,0,0,"",0,{"$f":"IFERROR(BA178+BB178,\"\")","v":""},"",0,"",null,"",0,{"$f":"IFERROR(BH178+BI178,\"\")","v":""},"",0,"","",0,""]
[null,null,12,{"$f":"COUNTIF($D$141:$AA$141,$D$170)*$AB$20","v":0},{"$f":"COUNTIF($D$141:$AA$141,$E$170)*$AB$20","v":0},{"$f":"COUNTIF($D$141:$AA$141,$F$170)*$AB$20","v":0},{"$f":"COUNTIF($D$141:$AA$141,$G$170)*$AB$20","v":0},{"$f":"COUNTIF($D$141:$AA$141,$H$170)*$AB$20","v":0},{"$f":"COUNTIF($D$141:$AA$141,$I$170)*$AB$20","v":0},{"$f":"COUNTIF($D$141:$AA$141,$J$170)*$AB$20","v":0},{"$f":"COUNTIF($D$141:$AA$141,$K$170)*$AB$20","v":0},{"$f":"COUNTIF($D$141:$AA$141,$L$170)*$AB$20","v":0},{"$f":"COUNTIF($D$141:$AA$141,$M$170)*$AB$20","v":0},{"$f":"COUNTIF($D$141:$AA$141,$N$170)*$AB$20","v":0},{"$f":"COUNTIF($D$141:$AA$141,$O$170)*$AB$20","v":0},{"$f":"COUNTIF($D$141:$AA$141,$P$170)*$AB$20","v":0},{"$f":"COUNTIF($D$141:$AA$141,$Q$170)*$AB$20","v":0},{"$f":"COUNTIF($D$141:$AA$141,$R$170)*$AB$20","v":0},{"$f":"COUNTIF($D$141:$AA$141,$S$170)*$AB$20","v":0},{"$f":"COUNTIF($D$141:$AA$141,$T$170)*$AB$20","v":0},{"$f":"COUNTIF($D$141:$AA$141,$U$170)*$AB$20","v":0},{"$f":"COUNTIF($D$141:$AA$141,$V$170)*$AB$20","v":0},{"$f":"COUNTIF($D$141:$AA$141,$W$170)*$AB$20","v":0},{"$f":"COUNTIF($D$141:$AA$141,$X$170)*$AB$20","v":0},{"$f":"COUNTIF($D$141:$AA$141,$Y$170)*$AB$20","v":0},{"$f":"COUNTIF($D$141:$AA$141,$Z$170)*$AB$20","v":0},{"$f":"COUNTIF($D$141:$AA$141,$AA$170)*$AB$20","v":0},{"$f":"COUNTIF($D$141:$AA$141,$AB$170)*$AB$20","v":0},{"$f":"COUNTIF($D$141:$AA$141,$AC$170)*$AB$20","v":0},{"$f":"COUNTIF($D$141:$AA$141,$AD$170)*$AB$20","v":0},{"$f":"COUNTIF($D$141:$AA$141,$AE$170)*$AB$20","v":0},{"$f":"COUNTIF($D$141:$AA$141,$AF$170)*$AB$20","v":0},{"$f":"COUNTIF($D$141:$AA$141,$AG$170)*$AB$20","v":0},{"$f":"COUNTIF($D$141:$AA$141,$AH$170)*$AB$20","v":0},{"$f":"COUNTIF($D$141:$AA$141,$AI$170)*$AB$20","v":0},{"$f":"COUNTIF($D$141:$AA$141,$AJ$170)*$AB$20","v":0},{"$f":"COUNTIF($D$141:$AA$141,$AK$170)*$AB$20","v":0},{"$f":"COUNTIF($D$141:$AA$141,$AL$170)*$AB$20","v":0},{"$f":"COUNTIF($D$141:$AA$141,$AM$170)*$AB$20","v":0},{"$f":"COUNTIF($D$141:$AA$141,$AN$170)*$AB$20","v":0},{"$f":"COUNTIF($D$141:$AA$141,$AO$170)*$AB$20","v":0},{"$f":"COUNTIF($D$141:$AA$141,$AP$170)*$AB$20","v":0},{"$f":"COUNTIF($D$141:$AA$141,$AQ$170)*$AB$20","v":0},{"$f":"COUNTIF($D$141:$AA$141,$AR$170)*$AB$20","v":0},{"$f":"COUNTIF($D$141:$AA$141,$AS$170)*$AB$20","v":0},12,null,{"$f":"SUMPRODUCT($D$179:$AS$179,$D$184:$AS$184)","v":0},0,0,0,{"$f":"IFERROR(AX179+AY179,\"\")","v":0},"",0,"","",0,"",null,"",0,"","",0,"","",0,""]
[null,null,1,{"$f":"COUNTIF($D$142:$AA$142,$D$170)*$AB$21","v":0},{"$f":"COUNTIF($D$142:$AA$142,$E$170)*$AB$21","v":0},{"$f":"COUNTIF($D$142:$AA$142,$F$170)*$AB$21","v":0},{"$f":"COUNTIF($D$142:$AA$142,$G$170)*$AB$21","v":0},{"$f":"COUNTIF($D$142:$AA$142,$H$170)*$AB$21","v":0},{"$f":"COUNTIF($D$142:$AA$142,$I$170)*$AB$21","v":0},{"$f":"COUNTIF($D$142:$AA$142,$J$170)*$AB$21","v":0},{"$f":"COUNTIF($D$142:$AA$142,$K$170)*$AB$21","v":0},{"$f":"COUNTIF($D$142:$AA$142,$L$170)*$AB$21","v":0},{"$f":"COUNTIF($D$142:$AA$142,$M$170)*$AB$21","v":0},{"$f":"COUNTIF($D$142:$AA$142,$N$170)*$AB$21","v":0},{"$f":"COUNTIF($D$142:$AA$142,$O$170)*$AB$21","v":0},{"$f":"COUNTIF($D$142:$AA$142,$P$170)*$AB$21","v":0},{"$f":"COUNTIF($D$142:$AA$142,$Q$170)*$AB$21","v":0},{"$f":"COUNTIF($D$142:$AA$142,$R$170)*$AB$21","v":0},{"$f":"COUNTIF($D$142:$AA$142,$S$170)*$AB$21","v":0},{"$f":"COUNTIF($D$142:$AA$142,$T$170)*$AB$21","v":0},{"$f":"COUNTIF($D$142:$AA$142,$U$170)*$AB$21","v":0},{"$f":"COUNTIF($D$142:$AA$142,$V$170)*$AB$21","v":0},{"$f":"COUNTIF($D$142:$AA$142,$W$170)*$AB$21","v":0},{"$f":"COUNTIF($D$142:$AA$142,$X$170)*$AB$21","v":0},{"$f":"COUNTIF($D$142:$AA$142,$Y$170)*$AB$21","v":0},{"$f":"COUNTIF($D$142:$AA$142,$Z$170)*$AB$21","v":0},{"$f":"COUNTIF($D$142:$AA$142,$AA$170)*$AB$21","v":0},{"$f":"COUNTIF($D$142:$AA$142,$AB$170)*$AB$21","v":0},{"$f":"COUNTIF($D$142:$AA$142,$AC$170)*$AB$21","v":0},{"$f":"COUNTIF($D$142:$AA$142,$AD$170)*$AB$21","v":0},{"$f":"COUNTIF($D$142:$AA$142,$AE$170)*$AB$21","v":0},{"$f":"COUNTIF($D$142:$AA$142,$AF$170)*$AB$21","v":0},{"$f":"COUNTIF($D$142:$AA$142,$AG$170)*$AB$21","v":0},{"$f":"COUNTIF($D$142:$AA$142,$AH$170)*$AB$21","v":0},{"$f":"COUNTIF($D$142:$AA$142,$AI$170)*$AB$21","v":0},{"$f":"COUNTIF($D$142:$AA$142,$AJ$170)*$AB$21","v":0},{"$f":"COUNTIF($D$142:$AA$142,$AK$170)*$AB$21","v":0},{"$f":"COUNTIF($D$142:$AA$142,$AL$170)*$AB$21","v":0},{"$f":"COUNTIF($D$142:$AA$142,$AM$170)*$AB$21","v":0},{"$f":"COUNTIF($D$142:$AA$142,$AN$170)*$AB$21","v":0},{"$f":"COUNTIF($D$142:$AA$142,$AO$170)*$AB$21","v":0},{"$f":"COUNTIF($D$142:$AA$142,$AP$170)*$AB$21","v":0},{"$f":"COUNTIF($D$142:$AA$142,$AQ$170)*$AB$21","v":0},{"$f":"COUNTIF($D$142:$AA$142,$AR$170)*$AB$21","v":0},{"$f":"COUNTIF($D$142:$AA$142,$AS$170)*$AB$21","v":0},1,null,{"$f":"SUMPRODUCT($D$180:$AS$180,$D$184:$AS$184)","v":0},0,0,{"$f":"AW180*$AY$168","v":0},0,"",0,"","",0,"",null,"",0,"","",0,"","",0,{"$f":"IFERROR(BN180+BO180,\"\")","v":""}]
[null,null,2,{"$f":"COUNTIF($D$143:$AA$143,$D$170)*$AB$22","v":0},{"$f":"COUNTIF($D$143:$AA$143,$E$170)*$AB$22","v":0},{"$f":"COUNTIF($D$143:$AA$143,$F$170)*$AB$22","v":0},{"$f":"COUNTIF($D$143:$AA$143,$G$170)*$AB$22","v":0},{"$f":"COUNTIF($D$143:$AA$143,$H$170)*$AB$22","v":0},{"$f":"COUNTIF($D$143:$AA$143,$I$170)*$AB$22","v":0},{"$f":"COUNTIF($D$143:$AA$143,$J$170)*$AB$22","v":0},{"$f":"COUNTIF($D$143:$AA$143,$K$170)*$AB$22","v":0},{"$f":"COUNTIF($D$143:$AA$143,$L$170)*$AB$22","v":0},{"$f":"COUNTIF($D$143:$AA$143,$M$170)*$AB$22","v":0},{"$f":"COUNTIF($D$143:$AA$143,$N$170)*$AB$22","v":0},{"$f":"COUNTIF($D$143:$AA$143,$O$170)*$AB$22","v":0},{"$f":"COUNTIF($D$143:$AA$143,$P$170)*$AB$22","v":0},{"$f":"COUNTIF($D$143:$AA$143,$Q$170)*$AB$22","v":0},{"$f":"COUNTIF($D$143:$AA$143,$R$170)*$AB$22","v":0},{"$f":"COUNTIF($D$143:$AA$143,$S$170)*$AB$22","v":0},{"$f":"COUNTIF($D$143:$AA$143,$T$170)*$AB$22","v":0},{"$f":"COUNTIF($D$143:$AA$143,$U$170)*$AB$22","v":0},{"$f":"COUNTIF($D$143:$AA$143,$V$170)*$AB$22","v":0},{"$f":"COUNTIF($D$143:$AA$143,$W$170)*$AB$22","v":0},{"$f":"COUNTIF($D$143:$AA$143,$X$170)*$AB$22","v":0},{"$f":"COUNTIF($D$143:$AA$143,$Y$170)*$AB$22","v":0},{"$f":"COUNTIF($D$143:$AA$143,$Z$170)*$AB$22","v":0},{"$f":"COUNTIF($D$143:$AA$143,$AA$170)*$AB$22","v":0},{"$f":"COUNTIF($D$143:$AA$143,$AB$170)*$AB$22","v":0},{"$f":"COUNTIF($D$143:$AA$143,$AC$170)*$AB$22","v":0},{"$f":"COUNTIF($D$143:$AA$143,$AD$170)*$AB$22","v":0},{"$f":"COUNTIF($D$143:$AA$143,$AE$170)*$AB$22","v":0},{"$f":"COUNTIF($D$143:$AA$143,$AF$170)*$AB$22","v":0},{"$f":"COUNTIF($D$143:$AA$143,$AG$170)*$AB$22","v":0},{"$f":"COUNTIF($D$143:$AA$143,$AH$170)*$AB$22","v":0},{"$f":"COUNTIF($D$143:$AA$143,$AI$170)*$AB$22","v":0},{"$f":"COUNTIF($D$143:$AA$143,$AJ$170)*$AB$22","v":0},{"$f":"COUNTIF($D$143:$AA$143,$AK$170)*$AB$22","v":0},{"$f":"COUNTIF($D$143:$AA$143,$AL$170)*$AB$22","v":0},{"$f":"COUNTIF($D$143:$AA$143,$AM$170)*$AB$22","v":0},{"$f":"COUNTIF($D$143:$AA$143,$AN$170)*$AB$22","v":0},{"$f":"COUNTIF($D$143:$AA$143,$AO$170)*$AB$22","v":0},{"$f":"COUNTIF($D$143:$AA$143,$AP$170)*$AB$22","v":0},{"$f":"COUNTIF($D$143:$AA$143,$AQ$170)*$AB$22","v":0},{"$f":"COUNTIF($D$143:$AA$143,$AR$170)*$AB$22","v":0},{"$f":"COUNTIF($D$143:$AA$143,$AS$170)*$AB$22","v":0},2,null,{"$f":"SUMPRODUCT($D$181:$AS$181,$D$184:$AS$184)","v":0},0,{"$f":"IFERROR($Q$26/$Q$34*$AV181,\"\")","v":0},0,0,"",0,"","",0,{"$f":"IFERROR(BD181+BE181,\"\")","v":""},null,"",0,"","",0,"","",0,""]
[null,null,3,{"$f":"COUNTIF($D$144:$AA$144,$D$170)*$AB$23","v":0},{"$f":"COUNTIF($D$144:$AA$144,$E$170)*$AB$23","v":0},{"$f":"COUNTIF($D$144:$AA$144,$F$170)*$AB$23","v":0},{"$f":"COUNTIF($D$144:$AA$144,$G$170)*$AB$23","v":0},{"$f":"COUNTIF($D$144:$AA$144,$H$170)*$AB$23","v":0},{"$f":"COUNTIF($D$144:$AA$144,$I$170)*$AB$23","v":0},{"$f":"COUNTIF($D$144:$AA$144,$J$170)*$AB$23","v":0},{"$f":"COUNTIF($D$144:$AA$144,$K$170)*$AB$23","v":0},{"$f":"COUNTIF($D$144:$AA$144,$L$170)*$AB$23","v":0},{"$f":"COUNTIF($D$144:$AA$144,$M$170)*$AB$23","v":0},{"$f":"COUNTIF($D$144:$AA$144,$N$170)*$AB$23","v":0},{"$f":"COUNTIF($D$144:$AA$144,$O$170)*$AB$23","v":0},{"$f":"COUNTIF($D$144:$AA$144,$P$170)*$AB$23","v":0},{"$f":"COUNTIF($D$144:$AA$144,$Q$170)*$AB$23","v":0},{"$f":"COUNTIF($D$144:$AA$144,$R$170)*$AB$23","v":0},{"$f":"COUNTIF($D$144:$AA$144,$S$170)*$AB$23","v":0},{"$f":"COUNTIF($D$144:$AA$144,$T$170)*$AB$23","v":0},{"$f":"COUNTIF($D$144:$AA$144,$U$170)*$AB$23","v":0},{"$f":"COUNTIF($D$144:$AA$144,$V$170)*$AB$23","v":0},{"$f":"COUNTIF($D$144:$AA$144,$W$170)*$AB$23","v":0},{"$f":"COUNTIF($D$144:$AA$144,$X$170)*$AB$23","v":0},{"$f":"COUNTIF($D$144:$AA$144,$Y$170)*$AB$23","v":0},{"$f":"COUNTIF($D$144:$AA$144,$Z$170)*$AB$23","v":0},{"$f":"COUNTIF($D$144:$AA$144,$AA$170)*$AB$23","v":0},{"$f":"COUNTIF($D$144:$AA$144,$AB$170)*$AB$23","v":0},{"$f":"COUNTIF($D$144:$AA$144,$AC$170)*$AB$23","v":0},{"$f":"COUNTIF($D$144:$AA$144,$AD$170)*$AB$23","v":0},{"$f":"COUNTIF($D$144:$AA$144,$AE$170)*$AB$23","v":0},{"$f":"COUNTIF($D$144:$AA$144,$AF$170)*$AB$23","v":0},{"$f":"COUNTIF($D$144:$AA$144,$AG$170)*$AB$23","v":0},{"$f":"COUNTIF($D$144:$AA$144,$AH$170)*$AB$23","v":0},{"$f":"COUNTIF($D$144:$AA$144,$AI$170)*$AB$23","v":0},{"$f":"COUNTIF($D$144:$AA$144,$AJ$170)*$AB$23","v":0},{"$f":"COUNTIF($D$144:$AA$144,$AK$170)*$AB$23","v":0},{"$f":"COUNTIF($D$144:$AA$144,$AL$170)*$AB$23","v":0},{"$f":"COUNTIF($D$144:$AA$144,$AM$170)*$AB$23","v":0},{"$f":"COUNTIF($D$144:$AA$144,$AN$170)*$AB$23","v":0},{"$f":"COUNTIF($D$144:$AA$144,$AO$170)*$AB$23","v":0},{"$f":"COUNTIF($D$144:$AA$144,$AP$170)*$AB$23","v":0},{"$f":"COUNTIF($D$144:$AA$144,$AQ$170)*$AB$23","v":0},{"$f":"COUNTIF($D$144:$AA$144,$AR$170)*$AB$23","v":0},{"$f":"COUNTIF($D$144:$AA$144,$AS$170)*$AB$23","v":0},3,null,{"$f":"SUMPRODUCT($D$182:$AS$182,$D$184:$AS$184)","v":0},0,0,{"$f":"AW182*$AY$168","v":0},{"$f":"IFERROR(AX182+AY182,\"\")","v":0},"",{"$f":"AW182*$BB$168","v":0},{"$f":"IFERROR(BA182+BB182,\"\")","v":""},"",0,{"$f":"IFERROR(BD182+BE182,\"\")","v":""},null,"",0,{"$f":"IFERROR(BH182+BI182,\"\")","v":""},"",0,{"$f":"IFERROR(BK182+BL182,\"\")","v":""},"",0,{"$f":"IFERROR(BN182+BO182,\"\")","v":""}]
[null,"tw","加熱運転時間",{"$f":"SUM($D$171:$D$182)","v":0},{"$f":"SUM($E$171:$E$182)","v":0},{"$f":"SUM($F$171:$F$182)","v":0},{"$f":"SUM($G$171:$G$182)","v":0},{"$f":"SUM($H$171:$H$182)","v":0},{"$f":"SUM($I$171:$I$182)","v":0},{"$f":"SUM($J$171:$J$182)","v":0},{"$f":"SUM($K$171:$K$182)","v":0},{"$f":"SUM($L$171:$L$182)","v":0},{"$f":"SUM($M$171:$M$182)","v":0},{"$f":"SUM($N$171:$N$182)","v":0},{"$f":"SUM($O$171:$O$182)","v":0},{"$f":"SUM($P$171:$P$182)","v":0},{"$f":"SUM($Q$171:$Q$182)","v":0},{"$f":"SUM($R$171:$R$182)","v":0},{"$f":"SUM($S$171:$S$182)","v":0},{"$f":"SUM($T$171:$T$182)","v":0},{"$f":"SUM($U$171:$U$182)","v":0},{"$f":"SUM($V$171:$V$182)","v":0},{"$f":"SUM($W$171:$W$182)","v":0},{"$f":"SUM($X$171:$X$182)","v":0},{"$f":"SUM($Y$171:$Y$182)","v":0},{"$f":"SUM($Z$171:$Z$182)","v":0},{"$f":"SUM($AA$171:$AA$182)","v":0},{"$f":"SUM($AB$171:$AB$182)","v":0},{"$f":"SUM($AC$171:$AC$182)","v":0},{"$f":"SUM($AD$171:$AD$182)","v":0},{"$f":"SUM($AE$171:$AE$182)","v":0},{"$f":"SUM($AF$171:$AF$182)","v":0},{"$f":"SUM($AG$171:$AG$182)","v":0},{"$f":"SUM($AH$171:$AH$182)","v":0},{"$f":"SUM($AI$171:$AI$182)","v":0},{"$f":"SUM($AJ$171:$AJ$182)","v":0},{"$f":"SUM($AK$171:$AK$182)","v":0},{"$f":"SUM($AL$171:$AL$182)","v":0},{"$f":"SUM($AM$171:$AM$182)","v":0},{"$f":"SUM($AN$171:$AN$182)","v":0},{"$f":"SUM($AO$171:$AO$182)","v":0},{"$f":"SUM($AP$171:$AP$182)","v":0},{"$f":"SUM($AQ$171:$AQ$182)","v":0},{"$f":"SUM($AR$171:$AR$182)","v":0},{"$f":"SUM($AS$171:$AS$182)","v":0},"加熱運転時間",null,{"$f":"SUM($AV$171:$AV$182)","v":0},{"$f":"SUM(AW171:AW182)","v":0},{"$f":"SUM($AX$171:$AX$182)","v":0},{"$f":"SUM(AY171:AY182)","v":0},{"$f":"SUM(AZ171:AZ182)","v":0},{"$f":"SUM(BA171:BA182)","v":0},{"$f":"SUM(BB171:BB182)","v":0},{"$f":"SUM(BC171:BC182)","v":0},0,0,{"$f":"SUM(BF171:BF182)","v":0},null,{"$f":"SUM($BH$171:$BH$182)","v":0},{"$f":"SUM(BI171:BI182)","v":0},0,0,0,0,0,0,0]
[null,"εw","加熱時消費電力比",{"$f":"$D$185/$D$186","v":0.96132596685082861},{"$f":"$E$185/$E$186","v":0.90607734806629825},{"$f":"$F$185/$F$186","v":0.85082872928176789},{"$f":"$G$185/$G$186","v":0.79558011049723754},{"$f":"$H$185/$H$186","v":0.74033149171270718},{"$f":"$I$185/$I$186","v":0.68508287292817682},{"$f":"$J$185/$J$186","v":0.62983425414364635},{"$f":"$K$185/$K$186","v":0.574585635359116},{"$f":"$L$185/$L$186","v":0.51933701657458564},{"$f":"$M$185/$M$186","v":0.46408839779005523},{"$f":"$N$185/$N$186","v":0.40883977900552487},{"$f":"$O$185/$O$186","v":0.35359116022099446},{"$f":"$P$185/$P$186","v":0.2983425414364641},{"$f":"$Q$185/$Q$186","v":0.24309392265193372},{"$f":"$R$185/$R$186","v":0.18784530386740333},{"$f":"$S$185/$S$186","v":0.13259668508287295},{"$f":"$T$185/$T$186","v":7.7348066298342552E-2},{"$f":"$U$185/$U$186","v":2.2099447513812175E-2},{"$f":"$V$185/$V$186","v":0},{"$f":"$W$185/$W$186","v":0},{"$f":"$X$185/$X$186","v":0},{"$f":"$Y$185/$Y$186","v":0},{"$f":"$Z$185/$Z$186","v":0},{"$f":"$AA$185/$AA$186","v":0},{"$f":"$AB$185/$AB$186","v":0},{"$f":"$AC$185/$AC$186","v":0},{"$f":"$AD$185/$AD$186","v":0},{"$f":"$AE$185/$AE$186","v":0},{"$f":"$AF$185/$AF$186","v":0},{"$f":"$AG$185/$AG$186","v":0},{"$f":"$AH$185/$AH$186","v":0},{"$f":"$AI$185/$AI$186","v":0},{"$f":"$AJ$185/$AJ$186","v":0},{"$f":"$AK$185/$AK$186","v":0},{"$f":"$AL$185/$AL$186","v":0},{"$f":"$AM$185/$AM$186","v":0},{"$f":"$AN$185/$AN$186","v":0},{"$f":"$AO$185/$AO$186","v":0},{"$f":"$AP$185/$AP$186","v":0},{"$f":"$AQ$185/$AQ$186","v":0},{"$f":"$AR$185/$AR$186","v":0},{"$f":"$AS$185/$AS$186","v":0},"加熱時消費電力比","εw"]
[null,"αw","加熱空調負荷率",{"$f":"IF((-1/18.1)*(D$170-11.4)<0,0,IF((-1/18.1)*(D$170-11.4)>1,1,(-1/18.1)*(D$170-11.4)))","v":0.96132596685082861},{"$f":"IF((-1/18.1)*(E$170-11.4)<0,0,IF((-1/18.1)*(E$170-11.4)>1,1,(-1/18.1)*(E$170-11.4)))","v":0.90607734806629825},0.85082872928176789,0.79558011049723754,0.74033149171270718,0.68508287292817682,0.62983425414364635,0.574585635359116,0.51933701657458564,0.46408839779005523,0.40883977900552487,0.35359116022099446,0.2983425414364641,0.24309392265193372,0.18784530386740333,0.13259668508287295,7.7348066298342552E-2,2.2099447513812175E-2,0,0,0,0,0,0,0,0,0,0,0,0,0,0,0,0,0,0,0,0,0,0,0,0,"加熱空調負荷率","αw"]
[null,"βw","加熱COP比",1,1,1,1,1,1,1,1,1,1,1,1,1,1,1,1,1,1,1,1,1,1,1,1,1,1,1,1,1,1,1,1,1,1,1,1,1,1,1,1,1,1,"加熱COP比","βw"]
[null,null,"Σ",{"$f":"D$183*D$184","v":0},{"$f":"E$183*E$184","v":0},0,0,0,0,0,0,0,0,0,0,0,0,0,0,0,0,0,0,0,0,0,0,0,0,0,0,0,0,0,0,0,0,0,0,0,0,0,0,0,0,{"$f":"SUM($D187:$AS187)","v":0}]
[]
[null,null,"αc^0.6",{"$f":"D163^0.6","v":0},{"$f":"E163^0.6","v":0},{"$f":"F163^0.6","v":0},0,0,0,0,0,{"$f":"L163^0.6","v":0},0,0,0,0,0,0,0,0,0,0,0.19694512927085178,0.29851299512936197,0.3807307877431757,0.45246109203621188,0.51728185797178661,0.5770799623628855,0.63300052261123363,0.68580277290067215,0.7360219228178333,0.78405268168311582,0.83019641884114292,0.87468965915462249,0.91772223886856286,0.95944937873158653,1,1,1,1,1,1,1,1,1,"αc^0.6"]
[null,null,"Σ",{"$f":"D161*D189","v":0},{"$f":"E161*E189","v":0},0,0,0,0,0,0,0,0,0,0,0,0,0,0,0,0,0,0,0,0,0,0,0,0,0,0,0,0,0,0,0,0,0,0,0,0,0,0,0,0,{"$f":"SUM(D190:AS190)","v":0}]
[]
[null,null,"αw^0.6",{"$f":"D185^0.6","v":0.97661278194534784},{"$f":"E185^0.6","v":0.94253864102537166},0.9076225711718916,0.87178692324100626,0.83494089690266893,0.7969771430017345,0.75776713543805463,0.71715471597041447,0.6749468382242495,0.63089985372702917,0.58469837509962719,0.53592107936456368,0.48398188975800577,0.42802039254228846,0.36667407519530559,0.29752235303982305,0.21531271462012308,0.10153805729187543,0,0,0,0,0,0,0,0,0,0,0,0,0,0,0,0,0,0,0,0,0,0,0,0,"αc^0.6"]
[null,null,"Σ",{"$f":"D183*D192","v":0},{"$f":"E183*E192","v":0},0,0,0,0,0,0,0,0,0,0,0,0,0,0,0,0,0,0,0,0,0,0,0,0,0,0,0,0,0,0,0,0,0,0,0,0,0,0,0,0,{"$f":"SUM(D193:AS193)","v":0}]

{"sheet":"γ一覧表","index":5,"n_rows":104,"n_cols":10,"rows_kept":104,"cut":false,"hidden":true,"merged":[[1,7,1,9],[1,1,1,5]]}
[]
[null,"都道府県",null,null,null,null,null,"個別対応用"]
[null,null,"都道府県名","県庁所在都市等名","γ","シート名",null,null,"γ","シート名"]
[null,1,"北海道","札幌",2,"寒冷地(γ既定値)",null,1,0,"温暖地(γ個別入力)"]
[null,2,"青森","青森",1.5,"寒冷地(γ既定値)",null,2,0.1,"温暖地(γ個別入力)"]
[null,3,"岩手","盛岡",1.5,"寒冷地(γ既定値)",null,3,0.2,"温暖地(γ個別入力)"]
[null,4,"宮城","仙台",1,"温暖地(γ既定値)",null,4,0.3,"温暖地(γ個別入力)"]
[null,5,"秋田","秋田",1.5,"寒冷地(γ既定値)",null,5,0.4,"温暖地(γ個別入力)"]
[null,6,"山形","山形",1,"温暖地(γ既定値)",null,6,0.5,"温暖地(γ個別入力)"]
[null,7,"福島","福島",1,"温暖地(γ既定値)",null,7,0.6,"温暖地(γ個別入力)"]
[null,8,"茨城","水戸",0.8,"温暖地(γ既定値)",null,8,0.7,"温暖地(γ個別入力)"]
[null,9,"栃木","宇都宮",1,"温暖地(γ既定値)",null,9,0.8,"温暖地(γ個別入力)"]
[null,10,"群馬","前橋",0.6,"温暖地(γ既定値)",null,10,0.9,"温暖地(γ個別入力)"]
[null,11,"埼玉","熊谷",0.6,"温暖地(γ既定値)",null,11,1,"温暖地(γ個別入力)"]
[null,12,"千葉","千葉",0.6,"温暖地(γ既定値)",null,12,1.1000000000000001,"寒冷地(γ個別入力)"]
[null,13,"東京","東京",0.6,"温暖地(γ既定値)",null,13,1.2,"寒冷地(γ個別入力)"]
[null,14,"神奈川","横浜",0.6,"温暖地(γ既定値)",null,14,1.3,"寒冷地(γ個別入力)"]
[null,15,"新潟","新潟",1,"温暖地(γ既定値)",null,15,1.4,"寒冷地(γ個別入力)"]
[null,16,"富山","富山",0.8,"温暖地(γ既定値)",null,16,1.5,"寒冷地(γ個別入力)"]
[null,17,"石川","金沢",0.6,"温暖地(γ既定値)",null,17,1.6,"寒冷地(γ個別入力)"]
[null,18,"福井","福井",0.6,"温暖地(γ既定値)",null,18,1.7,"寒冷地(γ個別入力)"]
[null,19,"山梨","甲府",0.6,"温暖地(γ既定値)",null,19,1.8,"寒冷地(γ個別入力)"]
[null,20,"長野","長野",1,"温暖地(γ既定値)",null,20,1.9,"寒冷地(γ個別入力)"]
[null,21,"岐阜","岐阜",0.6,"温暖地(γ既定値)",null,21,2,"寒冷地(γ個別入力)"]
[null,22,"静岡","静岡",0.6,"温暖地(γ既定値)",null,22,2.1,"寒冷地(γ個別入力)"]
[null,23,"愛知","名古屋",0.6,"温暖地(γ既定値)",null,23,2.2000000000000002,"寒冷地(γ個別入力)"]
[null,24,"三重","津",0.6,"温暖地(γ既定値)",null,24,2.2999999999999998,"寒冷地(γ個別入力)"]
[null,25,"滋賀","彦根",0.8,"温暖地(γ既定値)",null,25,2.4,"寒冷地(γ個別入力)"]
[null,26,"京都","京都",0.6,"温暖地(γ既定値)",null,26,2.5,"寒冷地(γ個別入力)"]
[null,27,"大阪","大阪",0.6,"温暖地(γ既定値)",null,27,2.6,"寒冷地(γ個別入力)"]
[null,28,"兵庫","神戸",0.6,"温暖地(γ既定値)",null,28,2.7,"寒冷地(γ個別入力)"]
[null,29,"奈良","奈良",0.6,"温暖地(γ既定値)",null,29,2.8,"寒冷地(γ個別入力)"]
[null,30,"和歌山","和歌山",0.6,"温暖地(γ既定値)",null,30,2.9,"寒冷地(γ個別入力)"]
[null,31,"鳥取","鳥取",0.6,"温暖地(γ既定値)",null,31,3,"寒冷地(γ個別入力)"]
[null,32,"島根","松江",0.6,"温暖地(γ既定値)",null,32,3.1,"寒冷地(γ個別入力)"]
[null,33,"岡山","岡山",0.6,"温暖地(γ既定値)",null,33,3.2,"寒冷地(γ個別入力)"]
[null,34,"広島","広島",0.6,"温暖地(γ既定値)",null,34,3.3,"寒冷地(γ個別入力)"]
[null,35,"山口","山口",0.6,"温暖地(γ既定値)",null,35,3.4,"寒冷地(γ個別入力)"]
[null,36,"徳島","徳島",0.6,"温暖地(γ既定値)",null,36,3.5,"寒冷地(γ個別入力)"]
[null,37,"香川","高松",0.6,"温暖地(γ既定値)",null,37,3.6,"寒冷地(γ個別入力)"]
[null,38,"愛媛","松山",0.6,"温暖地(γ既定値)",null,38,3.7,"寒冷地(γ個別入力)"]
[null,39,"高知","高知",0.6,"温暖地(γ既定値)",null,39,3.8,"寒冷地(γ個別入力)"]
[null,40,"福岡","福岡",0.6,"温暖地(γ既定値)",null,40,3.9,"寒冷地(γ個別入力)"]
[null,41,"佐賀","佐賀",0.6,"温暖地(γ既定値)",null,41,4,"寒冷地(γ個別入力)"]
[null,42,"長崎","長崎",0.6,"温暖地(γ既定値)",null,42,4.0999999999999996,"寒冷地(γ個別入力)"]
[null,43,"熊本","熊本",0.6,"温暖地(γ既定値)",null,43,4.2,"寒冷地(γ個別入力)"]
[null,44,"大分","大分",0.6,"温暖地(γ既定値)",null,44,4.3,"寒冷地(γ個別入力)"]
[null,45,"宮崎","宮崎",0.4,"温暖地(γ既定値)",null,45,4.4000000000000004,"寒冷地(γ個別入力)"]
[null,46,"鹿児島","鹿児島",0.4,"温暖地(γ既定値)",null,46,4.5,"寒冷地(γ個別入力)"]
[null,47,"沖縄","那覇",0,"温暖地(γ既定値)",null,47,4.5999999999999996,"寒冷地(γ個別入力)"]
[null,null,null,null,null,null,null,48,4.7,"寒冷地(γ個別入力)"]
[null,null,null,null,null,null,null,49,4.8,"寒冷地(γ個別入力)"]
[null,null,null,null,null,null,null,50,4.9000000000000004,"寒冷地(γ個別入力)"]
[null,null,null,null,null,null,null,51,5,"寒冷地(γ個別入力)"]
[null,null,null,null,null,null,null,52,5.0999999999999996,"寒冷地(γ個別入力)"]
[null,null,null,null,null,null,null,53,5.2,"寒冷地(γ個別入力)"]
[null,null,null,null,null,null,null,54,5.3,"寒冷地(γ個別入力)"]
[null,null,null,null,null,null,null,55,5.4,"寒冷地(γ個別入力)"]
[null,null,null,null,null,null,null,56,5.5,"寒冷地(γ個別入力)"]
[null,null,null,null,null,null,null,57,5.6,"寒冷地(γ個別入力)"]
[null,null,null,null,null,null,null,58,5.7,"寒冷地(γ個別入力)"]
[null,null,null,null,null,null,null,59,5.8,"寒冷地(γ個別入力)"]
[null,null,null,null,null,null,null,60,5.9,"寒冷地(γ個別入力)"]
[null,null,null,null,null,null,null,61,6,"寒冷地(γ個別入力)"]
[null,null,null,null,null,null,null,62,6.1,"寒冷地(γ個別入力)"]
[null,null,null,null,null,null,null,63,6.2,"寒冷地(γ個別入力)"]
[null,null,null,null,null,null,null,64,6.3,"寒冷地(γ個別入力)"]
[null,null,null,null,null,null,null,65,6.4,"寒冷地(γ個別入力)"]
[null,null,null,null,null,null,null,66,6.5,"寒冷地(γ個別入力)"]
[null,null,null,null,null,null,null,67,6.6,"寒冷地(γ個別入力)"]
[null,null,null,null,null,null,null,68,6.7,"寒冷地(γ個別入力)"]
[null,null,null,null,null,null,null,69,6.8000000000000096,"寒冷地(γ個別入力)"]
[null,null,null,null,null,null,null,70,6.9000000000000101,"寒冷地(γ個別入力)"]
[null,null,null,null,null,null,null,71,7.0000000000000098,"寒冷地(γ個別入力)"]
[null,null,null,null,null,null,null,72,7.1000000000000103,"寒冷地(γ個別入力)"]
[null,null,null,null,null,null,null,73,7.2000000000000099,"寒冷地(γ個別入力)"]
[null,null,null,null,null,null,null,74,7.3000000000000096,"寒冷地(γ個別入力)"]
[null,null,null,null,null,null,null,75,7.4000000000000101,"寒冷地(γ個別入力)"]
[null,null,null,null,null,null,null,76,7.5000000000000098,"寒冷地(γ個別入力)"]
[null,null,null,null,null,null,null,77,7.6000000000000103,"寒冷地(γ個別入力)"]
[null,null,null,null,null,null,null,78,7.7000000000000099,"寒冷地(γ個別入力)"]
[null,null,null,null,null,null,null,79,7.8000000000000096,"寒冷地(γ個別入力)"]
[null,null,null,null,null,null,null,80,7.9000000000000101,"寒冷地(γ個別入力)"]
[null,null,null,null,null,null,null,81,8.0000000000000107,"寒冷地(γ個別入力)"]
[null,null,null,null,null,null,null,82,8.1000000000000103,"寒冷地(γ個別入力)"]
[null,null,null,null,null,null,null,83,8.2000000000000099,"寒冷地(γ個別入力)"]
[null,null,null,null,null,null,null,84,8.3000000000000096,"寒冷地(γ個別入力)"]
[null,null,null,null,null,null,null,85,8.4000000000000092,"寒冷地(γ個別入力)"]
[null,null,null,null,null,null,null,86,8.5000000000000195,"寒冷地(γ個別入力)"]
[null,null,null,null,null,null,null,87,8.6000000000000192,"寒冷地(γ個別入力)"]
[null,null,null,null,null,null,null,88,8.7000000000000206,"寒冷地(γ個別入力)"]
[null,null,null,null,null,null,null,89,8.8000000000000203,"寒冷地(γ個別入力)"]
[null,null,null,null,null,null,null,90,8.9000000000000199,"寒冷地(γ個別入力)"]
[null,null,null,null,null,null,null,91,9.0000000000000195,"寒冷地(γ個別入力)"]
[null,null,null,null,null,null,null,92,9.1000000000000192,"寒冷地(γ個別入力)"]
[null,null,null,null,null,null,null,93,9.2000000000000206,"寒冷地(γ個別入力)"]
[null,null,null,null,null,null,null,94,9.3000000000000203,"寒冷地(γ個別入力)"]
[null,null,null,null,null,null,null,95,9.4000000000000199,"寒冷地(γ個別入力)"]
[null,null,null,null,null,null,null,96,9.5000000000000195,"寒冷地(γ個別入力)"]
[null,null,null,null,null,null,null,97,9.6000000000000192,"寒冷地(γ個別入力)"]
[null,null,null,null,null,null,null,98,9.7000000000000206,"寒冷地(γ個別入力)"]
[null,null,null,null,null,null,null,99,9.8000000000000203,"寒冷地(γ個別入力)"]
[null,null,null,null,null,null,null,100,9.9000000000000199,"寒冷地(γ個別入力)"]
[null,null,null,null,null,null,null,101,10,"寒冷地(γ個別入力)"]

{"sheet":"管理","index":6,"n_rows":43,"n_cols":10,"rows_kept":43,"cut":false,"hidden":true,"merged":[]}
[]
[null,"管理番号","起票日","起票者","区分","状態","内容","担当者","対応日","対応内容"]
[null,0,"2023-02-01","●●●","バグ／課題／要望","発生／完了／対応なし","発生状況等","■■■","2023-02-05"]
[null,1,"2025-01-23","hayakawa","Ver.1.0","完了","バージョン変更","hayakawa","2025-01-23","内容変更"]
[null,2]
[null,3]
[null,4]
[null,5]
[null,6]
[null,7]
[null,8]
[null,9]
[null,10]
[null,11]
[null,12]
[null,13]
[null,14]
[null,15]
[null,16]
[null,17]
[null,18]
[null,19]
[null,20]
[null,21]
[null,22]
[null,23]
[null,24]
[null,25]
[null,26]
[null,27]
[null,28]
[null,29]
[null,30]
[null,31]
[null,32]
[null,33]
[null,34]
[null,35]
[null,36]
[null,37]
[null,38]
[null,39]
[null,40]

{"sheet":"都道府県庁所在地等一覧表","index":7,"n_rows":50,"n_cols":5,"rows_kept":50,"cut":false,"hidden":true,"merged":[]}
[]
[null,"都道府県"]
[null,null,"都道府県名","data取得都市名","県庁所在都市名"]
[null,1,"北海道","札幌","札幌"]
[null,2,"青森","青森","青森"]
[null,3,"岩手","盛岡","盛岡"]
[null,4,"宮城","仙台","仙台"]
[null,5,"秋田","秋田","秋田"]
[null,6,"山形","山形","山形"]
[null,7,"福島","福島","福島"]
[null,8,"茨城","水戸","水戸"]
[null,9,"栃木","宇都宮","宇都宮"]
[null,10,"群馬","前橋","前橋"]
[null,11,"埼玉","熊谷","さいたま"]
[null,12,"千葉","千葉","千葉"]
[null,13,"東京","東京","東京"]
[null,14,"神奈川","横浜","横浜"]
[null,15,"新潟","新潟","新潟"]
[null,16,"富山","富山","富山"]
[null,17,"石川","金沢","金沢"]
[null,18,"福井","福井","福井"]
[null,19,"山梨","甲府","甲府"]
[null,20,"長野","長野","長野"]
[null,21,"岐阜","岐阜","岐阜"]
[null,22,"静岡","静岡","静岡"]
[null,23,"愛知","名古屋","名古屋"]
[null,24,"三重","津","津"]
[null,25,"滋賀","彦根","大津"]
[null,26,"京都","京都","京都"]
[null,27,"大阪","大阪","大阪"]
[null,28,"兵庫","神戸","神戸"]
[null,29,"奈良","奈良","奈良"]
[null,30,"和歌山","和歌山","和歌山"]
[null,31,"鳥取","鳥取","鳥取"]
[null,32,"島根","松江","松江"]
[null,33,"岡山","岡山","岡山"]
[null,34,"広島","広島","広島"]
[null,35,"山口","山口","山口"]
[null,36,"徳島","徳島","徳島"]
[null,37,"香川","高松","高松"]
[null,38,"愛媛","松山","松山"]
[null,39,"高知","高知","高知"]
[null,40,"福岡","福岡","福岡"]
[null,41,"佐賀","佐賀","佐賀"]
[null,42,"長崎","長崎","長崎"]
[null,43,"熊本","熊本","熊本"]
[null,44,"大分","大分","大分"]
[null,45,"宮崎","宮崎","宮崎"]
[null,46,"鹿児島","鹿児島","鹿児島"]
[null,47,"沖縄","那覇","那覇"]

{"sheet":"札幌","index":8,"n_rows":16,"n_cols":25,"rows_kept":16,"cut":false,"hidden":true,"merged":[]}
["気象データ"]
[{"$f":"RIGHT(CELL(\"filename\",A2),LEN(CELL(\"filename\",A2))-FIND(\"]\",CELL(\"filename\",A2)))","v":"札幌"}]
["時刻別平均外気湿球温度"]
["時刻",0,1,2,3,4,5,6,7,8,9,10,11,12,13,14,15,16,17,18,19,20,21,22,23]
["4月",3.1,2.9,2.8,2.6,2.5,2.4,2.6,3.1,3.9,4.5,4.9000000000000004,5.2,5.5,5.5,5.5,5.3,5.0999999999999996,4.8,4.5,4.3,4.0999999999999996,3.8,3.6,3.4]
["5月",8.4,8.1999999999999993,8.1,7.9,7.8,7.8,8.1999999999999993,8.8000000000000007,9.5,10,10.4,10.7,10.9,10.9,10.8,10.6,10.4,10.1,9.6999999999999993,9.5,9.3000000000000007,9.1,8.9,8.6999999999999993]
["6月",12.9,12.8,12.6,12.5,12.4,12.4,12.7,13.2,13.8,14.4,14.8,15.1,15.2,15.3,15.3,15.1,14.9,14.6,14.3,14,13.8,13.6,13.4,13.2]
["7月",17.3,17.100000000000001,17,16.899999999999999,16.8,16.8,17,17.5,18,18.5,18.8,19.100000000000001,19.3,19.3,19.3,19.2,19,18.8,18.5,18.2,18,17.899999999999999,17.7,17.600000000000001]
["8月",18.600000000000001,18.399999999999999,18.3,18.100000000000001,18,18,18.100000000000001,18.5,19,19.399999999999999,19.7,19.899999999999999,20.100000000000001,20.2,20.2,20.100000000000001,19.899999999999999,19.7,19.5,19.3,19.100000000000001,18.899999999999999,18.8,18.600000000000001]
["9月",14.6,14.5,14.3,14.1,14,13.9,13.9,14.4,15,15.6,15.9,16.100000000000001,16.3,16.3,16.3,16.2,16,15.8,15.6,15.4,15.2,15,14.8,14.6]
["10月",8.5,8.3000000000000007,8.1,8,7.8,7.7,7.6,7.9,8.6999999999999993,9.3000000000000007,9.8000000000000007,10.1,10.3,10.3,10.3,10.199999999999999,9.9,9.6,9.4,9.1999999999999993,9,8.8000000000000007,8.6,8.4]
["11月",2.5,2.4,2.2999999999999998,2.1,2.1,2,1.9,2,2.5,3,3.5,3.8,4,4,3.9,3.8,3.5,3.3,3.1,2.9,2.7,2.6,2.5,2.2999999999999998]
["12月",-3,-3.1,-3.2,-3.2,-3.3,-3.3,-3.4,-3.4,-3.2,-2.6,-2.2000000000000002,-1.8,-1.6,-1.6,-1.6,-1.8,-2,-2.2000000000000002,-2.4,-2.5,-2.6,-2.8,-2.9,-3]
["1月",-5.3,-5.4,-5.5,-5.6,-5.6,-5.7,-5.8,-5.8,-5.5,-4.9000000000000004,-4.4000000000000004,-4,-3.7,-3.6,-3.5,-3.7,-3.9,-4.0999999999999996,-4.3,-4.5,-4.7,-4.9000000000000004,-5,-5.2]
["2月",-4.8,-5,-5.0999999999999996,-5.3,-5.4,-5.5,-5.6,-5.6,-5.0999999999999996,-4.3,-3.8,-3.3,-3.1,-2.9,-2.9,-2.9,-3.2,-3.5,-3.7,-3.8,-4,-4.2,-4.3,-4.5]
["3月",-1.6,-1.7,-1.9,-2,-2.1,-2.2000000000000002,-2.2999999999999998,-2,-1.3,-0.7,-0.2,0.1,0.3,0.3,0.4,0.2,0.1,-0.2,-0.4,-0.6,-0.8,-1,-1.1000000000000001,-1.3]

{"sheet":"青森","index":9,"n_rows":16,"n_cols":25,"rows_kept":16,"cut":false,"hidden":true,"merged":[]}
["気象データ"]
[{"$f":"RIGHT(CELL(\"filename\",A2),LEN(CELL(\"filename\",A2))-FIND(\"]\",CELL(\"filename\",A2)))","v":"青森"}]
["時刻別平均外気湿球温度"]
["時刻",0,1,2,3,4,5,6,7,8,9,10,11,12,13,14,15,16,17,18,19,20,21,22,23]
["4月",3.1,2.9,2.8,2.7,2.5,2.4,2.6,3.2,3.9,4.5,5,5.3,5.5,5.6,5.5,5.4,5.2,4.8,4.5,4.3,4.0999999999999996,3.9,3.6,3.5]
["5月",8.4,8.1999999999999993,8.1,7.9,7.8,7.8,8.1999999999999993,8.8000000000000007,9.5,10,10.4,10.7,10.9,10.9,10.8,10.6,10.4,10.1,9.6999999999999993,9.5,9.3000000000000007,9.1,8.9,8.6999999999999993]
["6月",12.9,12.8,12.6,12.5,12.4,12.4,12.7,13.2,13.8,14.4,14.8,15.1,15.2,15.3,15.3,15.1,14.9,14.6,14.3,14,13.8,13.6,13.4,13.2]
["7月",17.3,17.100000000000001,17,16.899999999999999,16.8,16.8,17,17.5,18,18.5,18.8,19.100000000000001,19.3,19.3,19.3,19.2,19,18.8,18.5,18.2,18,17.899999999999999,17.7,17.600000000000001]
["8月",18.600000000000001,18.399999999999999,18.3,18.100000000000001,18,18,18.100000000000001,18.5,19,19.399999999999999,19.7,19.899999999999999,20.100000000000001,20.2,20.2,20.100000000000001,19.899999999999999,19.7,19.5,19.3,19.100000000000001,18.899999999999999,18.8,18.600000000000001]
["9月",14.6,14.5,14.3,14.1,14,13.9,13.9,14.4,15,15.6,15.9,16.100000000000001,16.3,16.3,16.3,16.2,16,15.8,15.6,15.4,15.2,15,14.8,14.6]
["10月",8.5,8.3000000000000007,8.1,8,7.8,7.7,7.6,7.9,8.6999999999999993,9.3000000000000007,9.8000000000000007,10.1,10.3,10.3,10.3,10.199999999999999,9.9,9.6,9.4,9.1999999999999993,9,8.8000000000000007,8.6,8.4]
["11月",2.5,2.4,2.2999999999999998,2.1,2.1,2,1.9,2,2.5,3,3.5,3.8,4,4,3.9,3.8,3.5,3.3,3.1,2.9,2.7,2.6,2.5,2.2999999999999998]
["12月",-3,-3.1,-3.2,-3.2,-3.3,-3.3,-3.4,-3.4,-3.2,-2.6,-2.2000000000000002,-1.8,-1.6,-1.6,-1.6,-1.8,-2,-2.2000000000000002,-2.4,-2.5,-2.6,-2.8,-2.9,-3]
["1月",-5.3,-5.4,-5.5,-5.6,-5.6,-5.7,-5.8,-5.8,-5.5,-4.9000000000000004,-4.4000000000000004,-4,-3.7,-3.6,-3.5,-3.7,-3.9,-4.0999999999999996,-4.3,-4.5,-4.7,-4.9000000000000004,-5,-5.2]
["2月",-4.8,-5,-5.0999999999999996,-5.3,-5.4,-5.5,-5.6,-5.6,-5.0999999999999996,-4.3,-3.8,-3.3,-3.1,-2.9,-2.9,-2.9,-3.2,-3.5,-3.7,-3.8,-4,-4.2,-4.3,-4.5]
["3月",-1.6,-1.7,-1.9,-2,-2.1,-2.2000000000000002,-2.2999999999999998,-2,-1.3,-0.7,-0.2,0.1,0.3,0.3,0.4,0.2,0.1,-0.2,-0.4,-0.6,-0.8,-1,-1.1000000000000001,-1.3]

{"sheet":"盛岡","index":10,"n_rows":16,"n_cols":25,"rows_kept":16,"cut":false,"hidden":true,"merged":[]}
["気象データ"]
[{"$f":"RIGHT(CELL(\"filename\",A2),LEN(CELL(\"filename\",A2))-FIND(\"]\",CELL(\"filename\",A2)))","v":"盛岡"}]
["時刻別平均外気湿球温度"]
["時刻",0,1,2,3,4,5,6,7,8,9,10,11,12,13,14,15,16,17,18,19,20,21,22,23]
["4月",4.2,3.9,3.7,3.5,3.3,3.1,3.3,4.2,5,5.8,6.4,6.9,7.2,7.4,7.5,7.4,7.2,6.9,6.4,6.1,5.7,5.3,5,4.7]
["5月",9.9,9.6,9.4,9.1,8.9,8.9,9.4,10.1,10.8,11.4,11.9,12.3,12.6,12.9,12.9,12.8,12.7,12.3,12,11.6,11.3,10.9,10.6,10.3]
["6月",14.6,14.4,14.2,14,13.8,13.9,14.3,14.8,15.4,15.9,16.3,16.7,16.899999999999999,17.100000000000001,17.2,17.2,17.100000000000001,16.8,16.600000000000001,16.2,15.9,15.6,15.3,15.1]
["7月",19,18.8,18.7,18.5,18.399999999999999,18.399999999999999,18.600000000000001,19,19.5,19.899999999999999,20.2,20.6,20.8,20.9,21,21.1,20.9,20.8,20.5,20.2,20,19.7,19.5,19.3]
["8月",20.2,20,19.8,19.7,19.600000000000001,19.5,19.600000000000001,20,20.5,21,21.3,21.6,21.8,21.9,22,21.9,21.8,21.7,21.4,21.1,20.9,20.7,20.5,20.3]
["9月",16.100000000000001,15.9,15.8,15.6,15.4,15.3,15.3,15.8,16.5,17.100000000000001,17.5,17.8,18,18.100000000000001,18.2,18.100000000000001,18,17.8,17.5,17.2,16.899999999999999,16.7,16.399999999999999,16.2]
["10月",9.6,9.4,9.1999999999999993,9,8.8000000000000007,8.6,8.5,8.9,9.8000000000000007,10.7,11.4,11.8,12.1,12.2,12.3,12.2,12,11.6,11.2,10.8,10.5,10.199999999999999,9.9,9.6999999999999993]
["11月",3.7,3.5,3.4,3.2,3,2.9,2.8,2.9,3.6,4.5,5.2,5.7,6.1,6.3,6.3,6.2,5.8,5.4,5,4.7,4.4000000000000004,4.0999999999999996,3.9,3.7]
["12月",-1.2,-1.3,-1.5,-1.5,-1.7,-1.8,-1.9,-1.9,-1.6,-0.8,-0.2,0.3,0.7,0.8,0.9,0.7,0.4,0,-0.2,-0.5,-0.7,-0.8,-1,-1.1000000000000001]
["1月",-3.8,-3.9,-4.0999999999999996,-4.2,-4.4000000000000004,-4.5,-4.5999999999999996,-4.7,-4.3,-3.4,-2.6,-2,-1.6,-1.4,-1.4,-1.5,-1.8,-2.2000000000000002,-2.5,-2.7,-3,-3.2,-3.4,-3.6]
["2月",-3.3,-3.5,-3.7,-3.9,-4,-4.2,-4.4000000000000004,-4.4000000000000004,-3.7,-2.7,-1.9,-1.3,-1,-0.7,-0.6,-0.7,-0.9,-1.3,-1.7,-2,-2.2999999999999998,-2.5,-2.7,-3]
["3月",-0.5,-0.7,-0.9,-1.1000000000000001,-1.2,-1.4,-1.5,-1.1000000000000001,-0.2,0.6,1.3,1.8,2.2000000000000002,2.4,2.5,2.4,2.1,1.8,1.3,1,0.7,0.4,0.1,-0.1]

{"sheet":"仙台","index":11,"n_rows":16,"n_cols":25,"rows_kept":16,"cut":false,"hidden":true,"merged":[]}
["気象データ"]
[{"$f":"RIGHT(CELL(\"filename\",A2),LEN(CELL(\"filename\",A2))-FIND(\"]\",CELL(\"filename\",A2)))","v":"仙台"}]
["時刻別平均外気湿球温度"]
["時刻",0,1,2,3,4,5,6,7,8,9,10,11,12,13,14,15,16,17,18,19,20,21,22,23]
["4月",6.3,6.1,5.9,5.6,5.5,5.3,5.5,6,6.7,7.4,7.9,8.3000000000000007,8.5,8.5,8.6,8.5,8.3000000000000007,8,7.7,7.5,7.3,7.2,6.9,6.7]
["5月",11.6,11.4,11.2,11,10.8,10.8,11.1,11.6,12.2,12.7,13.1,13.3,13.4,13.4,13.4,13.3,13.2,13,12.7,12.5,12.4,12.2,12.1,11.9]
["6月",16.100000000000001,15.9,15.8,15.6,15.5,15.5,15.7,16.100000000000001,16.5,16.8,17.2,17.399999999999999,17.5,17.5,17.399999999999999,17.3,17.2,17.100000000000001,16.899999999999999,16.7,16.600000000000001,16.600000000000001,16.5,16.399999999999999]
["7月",20.2,20.100000000000001,20,19.899999999999999,19.8,19.8,19.899999999999999,20.2,20.5,20.8,21.2,21.3,21.4,21.4,21.4,21.2,21.1,21,20.8,20.7,20.6,20.5,20.5,20.399999999999999]
["8月",21.6,21.5,21.3,21.2,21.1,21,21.1,21.3,21.7,22,22.4,22.6,22.7,22.7,22.5,22.6,22.4,22.3,22.1,22,22,21.9,21.8,21.7]
["9月",18.100000000000001,17.899999999999999,17.8,17.600000000000001,17.399999999999999,17.3,17.3,17.600000000000001,18.100000000000001,18.5,18.8,19,19.2,19.3,19.3,19.2,19.100000000000001,19,18.899999999999999,18.8,18.7,18.5,18.3,18.100000000000001]
["10月",12.2,12,11.8,11.6,11.5,11.3,11.2,11.5,12.1,12.7,13.2,13.6,13.8,13.9,13.9,13.8,13.6,13.4,13.2,13,12.9,12.6,12.4,12.2]
["11月",6.4,6.3,6.1,5.9,5.8,5.7,5.6,5.7,6.3,7,7.6,8,8.3000000000000007,8.5,8.5,8.4,8.1,7.8,7.6,7.4,7.1,6.9,6.7,6.4]
["12月",1.6,1.5,1.3,1.2,1.1000000000000001,1,0.9,0.9,1.3,2,2.6,3.1,3.4,3.5,3.5,3.4,3.1,2.8,2.6,2.4,2.2000000000000002,2,1.8,1.6]
["1月",-0.8,-0.9,-1.1000000000000001,-1.2,-1.3,-1.4,-1.5,-1.5,-1,-0.4,0.2,0.7,1,1.1000000000000001,1.1000000000000001,1,0.7,0.4,0.2,0,-0.2,-0.4,-0.5,-0.7]
["2月",-0.6,-0.8,-0.9,-1.1000000000000001,-1.2,-1.3,-1.4,-1.3,-0.7,0,0.7,1.1000000000000001,1.4,1.6,1.7,1.6,1.3,1,0.7,0.4,0.2,0,-0.1,-0.3]
["3月",1.9,1.7,1.5,1.3,1.1000000000000001,1,0.9,1.3,2,2.7,3.3,3.7,4,4.2,4.2,4.0999999999999996,4,3.6,3.3,3.1,2.9,2.6,2.4,2.2000000000000002]

{"sheet":"秋田","index":12,"n_rows":16,"n_cols":25,"rows_kept":16,"cut":false,"hidden":true,"merged":[]}
["気象データ"]
[{"$f":"RIGHT(CELL(\"filename\",A2),LEN(CELL(\"filename\",A2))-FIND(\"]\",CELL(\"filename\",A2)))","v":"秋田"}]
["時刻別平均外気湿球温度"]
["時刻",0,1,2,3,4,5,6,7,8,9,10,11,12,13,14,15,16,17,18,19,20,21,22,23]
["4月",5.7,5.5,5.3,5.0999999999999996,4.9000000000000004,4.8,4.9000000000000004,5.6,6.4,7.1,7.6,7.8,8,8.1,8.1,8,7.8,7.6,7.3,7.1,6.9,6.6,6.3,6.1]
["5月",11.2,10.9,10.7,10.6,10.4,10.4,10.7,11.3,12,12.5,12.8,13.1,13.2,13.2,13.2,13.1,13,12.8,12.6,12.4,12.2,12.1,11.8,11.6]
["6月",15.7,15.5,15.3,15.2,15,15,15.3,15.9,16.399999999999999,16.8,17.100000000000001,17.3,17.399999999999999,17.399999999999999,17.399999999999999,17.399999999999999,17.3,17.2,17,16.8,16.7,16.5,16.3,16.100000000000001]
["7月",20.2,20,19.8,19.7,19.600000000000001,19.600000000000001,19.8,20.2,20.6,20.9,21.2,21.4,21.5,21.5,21.5,21.5,21.5,21.4,21.2,21.1,20.9,20.8,20.7,20.5]
["8月",21.3,21.1,20.9,20.8,20.7,20.6,20.7,21.1,21.6,22,22.3,22.5,22.6,22.7,22.7,22.7,22.6,22.5,22.3,22.2,22.1,21.9,21.7,21.4]
["9月",17.2,16.899999999999999,16.8,16.600000000000001,16.5,16.399999999999999,16.399999999999999,16.8,17.399999999999999,18,18.399999999999999,18.600000000000001,18.8,18.8,18.8,18.8,18.7,18.5,18.3,18.100000000000001,17.899999999999999,17.7,17.399999999999999,17.2]
["10月",11,10.8,10.7,10.5,10.4,10.3,10.199999999999999,10.4,11.1,11.9,12.5,12.8,13,13,13,12.9,12.7,12.5,12.3,12.1,11.8,11.5,11.2,11]
["11月",5.6,5.4,5.3,5.2,5.0999999999999996,5,4.9000000000000004,5,5.4,6,6.6,7,7.2,7.4,7.3,7.2,7,6.7,6.5,6.3,6,5.8,5.6,5.5]
["12月",0.7,0.7,0.6,0.6,0.5,0.4,0.4,0.3,0.5,0.9,1.3,1.6,1.8,1.9,1.9,1.9,1.7,1.5,1.4,1.2,1,0.9,0.8,0.7]
["1月",-1.5,-1.6,-1.6,-1.7,-1.8,-1.8,-1.9,-1.9,-1.7,-1.4,-1,-0.7,-0.5,-0.4,-0.4,-0.5,-0.7,-0.8,-0.9,-1.1000000000000001,-1.2,-1.3,-1.4,-1.5]
["2月",-1.3,-1.4,-1.5,-1.6,-1.7,-1.7,-1.8,-1.8,-1.5,-1,-0.5,-0.2,0,0.2,0.2,0.1,0,-0.2,-0.4,-0.6,-0.7,-0.9,-1,-1.1000000000000001]
["3月",1.1000000000000001,1,0.8,0.7,0.6,0.5,0.5,0.7,1.3,2,2.5,2.9,3.1,3.2,3.2,3.1,3,2.7,2.5,2.2999999999999998,2,1.8,1.6,1.4]

{"sheet":"山形","index":13,"n_rows":16,"n_cols":25,"rows_kept":16,"cut":false,"hidden":true,"merged":[]}
["気象データ"]
[{"$f":"RIGHT(CELL(\"filename\",A2),LEN(CELL(\"filename\",A2))-FIND(\"]\",CELL(\"filename\",A2)))","v":"山形"}]
["時刻別平均外気湿球温度"]
["時刻",0,1,2,3,4,5,6,7,8,9,10,11,12,13,14,15,16,17,18,19,20,21,22,23]
["4月",5.3,5.0999999999999996,4.8,4.5999999999999996,4.4000000000000004,4.2,4.4000000000000004,5.0999999999999996,5.8,6.6,7.2,7.8,8.1,8.3000000000000007,8.4,8.4,8.1999999999999993,7.9,7.4,7,6.7,6.4,6,5.7]
["5月",10.9,10.7,10.5,10.3,10.1,10,10.3,10.9,11.6,12.2,12.7,13.1,13.4,13.7,13.7,13.6,13.5,13.2,12.9,12.4,12.1,11.8,11.5,11.3]
["6月",15.6,15.4,15.3,15.1,14.9,14.9,15.3,15.7,16.2,16.7,17.100000000000001,17.399999999999999,17.600000000000001,17.8,17.899999999999999,17.899999999999999,17.899999999999999,17.600000000000001,17.399999999999999,17,16.8,16.5,16.3,16]
["7月",19.899999999999999,19.8,19.7,19.5,19.399999999999999,19.399999999999999,19.600000000000001,20,20.399999999999999,20.8,21.2,21.5,21.7,21.8,21.9,21.9,21.8,21.6,21.4,21,20.8,20.6,20.399999999999999,20.2]
["8月",20.9,20.7,20.6,20.5,20.3,20.2,20.399999999999999,20.8,21.3,21.7,22.1,22.3,22.5,22.5,22.6,22.6,22.5,22.4,22.1,21.9,21.6,21.4,21.2,21]
["9月",17.100000000000001,16.899999999999999,16.7,16.600000000000001,16.399999999999999,16.3,16.3,16.7,17.2,17.8,18.2,18.5,18.7,18.8,18.899999999999999,18.899999999999999,18.8,18.5,18.2,17.899999999999999,17.7,17.5,17.3,17.100000000000001]
["10月",11,10.8,10.6,10.4,10.3,10.1,10,10.4,11,11.7,12.3,12.7,13,13.2,13.2,13.2,13,12.7,12.3,12,11.7,11.4,11.2,11]
["11月",5.2,5.0999999999999996,4.9000000000000004,4.8,4.5999999999999996,4.5,4.4000000000000004,4.5,5.0999999999999996,5.8,6.5,7,7.4,7.6,7.6,7.6,7.3,6.8,6.5,6.2,5.9,5.7,5.4,5.3]
["12月",0.7,0.5,0.4,0.3,0.2,0.1,0,0,0.4,1,1.6,2,2.2999999999999998,2.5,2.6,2.4,2.1,1.8,1.5,1.3,1.1000000000000001,1,0.8,0.7]
["1月",-1.7,-1.9,-2,-2.1,-2.2000000000000002,-2.2999999999999998,-2.4,-2.4,-2.1,-1.5,-0.9,-0.4,-0.1,0.1,0.1,0,-0.2,-0.5,-0.8,-1,-1.2,-1.3,-1.5,-1.6]
["2月",-1.7,-1.8,-2,-2.1,-2.2999999999999998,-2.4,-2.5,-2.5,-1.9,-1.2,-0.5,0,0.3,0.5,0.6,0.6,0.4,0,-0.3,-0.6,-0.8,-1,-1.2,-1.4]
["3月",0.8,0.6,0.4,0.2,0,-0.1,-0.2,0.2,0.9,1.7,2.2999999999999998,2.8,3.2,3.5,3.6,3.6,3.4,3,2.5,2.2000000000000002,1.9,1.6,1.4,1.1000000000000001]

{"sheet":"福島","index":14,"n_rows":16,"n_cols":25,"rows_kept":16,"cut":false,"hidden":true,"merged":[]}
["気象データ"]
[{"$f":"RIGHT(CELL(\"filename\",A2),LEN(CELL(\"filename\",A2))-FIND(\"]\",CELL(\"filename\",A2)))","v":"福島"}]
["時刻別平均外気湿球温度"]
["時刻",0,1,2,3,4,5,6,7,8,9,10,11,12,13,14,15,16,17,18,19,20,21,22,23]
["4月",6.5,6.3,6,5.8,5.6,5.4,5.5,6.1,6.9,7.7,8.3000000000000007,8.6999999999999993,9,9.1999999999999993,9.3000000000000007,9.1999999999999993,9,8.6999999999999993,8.3000000000000007,7.9,7.6,7.4,7.2,6.9]
["5月",11.8,11.6,11.4,11.2,11,10.9,11.2,11.7,12.4,13,13.5,13.8,14,14.1,14.3,14.2,14,13.8,13.4,13.1,12.8,12.6,12.4,12.2]
["6月",16.3,16.100000000000001,16,15.8,15.6,15.6,15.8,16.2,16.7,17.100000000000001,17.5,17.8,18,18.100000000000001,18.2,18.3,18.2,18,17.8,17.399999999999999,17.2,17,16.8,16.600000000000001]
["7月",20.399999999999999,20.3,20.2,20.100000000000001,20,19.899999999999999,20,20.399999999999999,20.7,21.1,21.4,21.7,21.8,22.1,22.1,22.2,22.1,21.9,21.6,21.4,21.1,20.9,20.8,20.6]
["8月",21.6,21.4,21.3,21.2,21.1,21,21,21.3,21.7,22.1,22.4,22.7,22.8,22.8,22.9,23,23,22.8,22.6,22.3,22.1,21.9,21.8,21.7]
["9月",18,17.899999999999999,17.7,17.5,17.399999999999999,17.3,17.2,17.5,17.899999999999999,18.399999999999999,18.8,19.100000000000001,19.3,19.399999999999999,19.399999999999999,19.399999999999999,19.3,19.2,19,18.8,18.600000000000001,18.399999999999999,18.2,18]
["10月",12.2,12,11.8,11.6,11.4,11.3,11.2,11.4,12,12.6,13.2,13.6,13.9,14.1,14.1,14.1,13.9,13.6,13.4,13.1,12.9,12.7,12.4,12.2]
["11月",6.3,6.1,5.9,5.7,5.5,5.4,5.2,5.3,5.8,6.6,7.3,8,8.4,8.6,8.6999999999999993,8.6,8.3000000000000007,8,7.7,7.4,7.1,6.9,6.6,6.4]
["12月",1.6,1.5,1.3,1.2,1,0.9,0.8,0.7,1,1.7,2.4,3,3.4,3.7,3.7,3.6,3.3,3,2.7,2.5,2.2999999999999998,2.1,1.9,1.7]
["1月",-0.8,-1,-1.1000000000000001,-1.3,-1.4,-1.5,-1.6,-1.6,-1.3,-0.6,0.1,0.6,1.1000000000000001,1.3,1.4,1.2,0.9,0.6,0.3,0.1,-0.1,-0.3,-0.5,-0.7]
["2月",-0.5,-0.7,-0.9,-1.1000000000000001,-1.2,-1.3,-1.4,-1.4,-0.9,-0.1,0.6,1.2,1.7,1.9,2,1.9,1.7,1.2,0.9,0.7,0.4,0.2,0,-0.2]
["3月",1.9,1.7,1.5,1.3,1.1000000000000001,1,0.9,1.2,1.9,2.7,3.5,4,4.4000000000000004,4.7,4.8,4.7,4.5,4,3.6,3.3,3,2.8,2.5,2.2999999999999998]

{"sheet":"水戸","index":15,"n_rows":16,"n_cols":25,"rows_kept":16,"cut":false,"hidden":true,"merged":[]}
["気象データ"]
[{"$f":"RIGHT(CELL(\"filename\",A2),LEN(CELL(\"filename\",A2))-FIND(\"]\",CELL(\"filename\",A2)))","v":"水戸"}]
["時刻別平均外気湿球温度"]
["時刻",0,1,2,3,4,5,6,7,8,9,10,11,12,13,14,15,16,17,18,19,20,21,22,23]
["4月",8.1999999999999993,7.9,7.6,7.4,7.1,6.9,7,7.8,8.9,9.6999999999999993,10.199999999999999,10.5,10.8,11,10.9,10.8,10.6,10.3,10.1,9.8000000000000007,9.6,9.4,9.1,8.6999999999999993]
["5月",13.4,13.1,12.9,12.7,12.5,12.4,12.7,13.4,14.1,14.6,14.9,15.2,15.2,15.3,15.3,15.2,15,14.8,14.5,14.3,14.2,14.1,13.9,13.7]
["6月",17.399999999999999,17.2,17.100000000000001,16.899999999999999,16.8,16.7,17,17.5,18,18.3,18.600000000000001,18.8,18.899999999999999,18.899999999999999,18.899999999999999,18.7,18.5,18.399999999999999,18.2,18,17.8,17.8,17.7,17.600000000000001]
["7月",21.1,21,20.9,20.9,20.8,20.7,21,21.4,21.8,22.2,22.5,22.6,22.8,22.8,22.7,22.5,22.3,22.1,21.9,21.6,21.5,21.4,21.4,21.3]
["8月",22.4,22.3,22.2,22.1,22,21.9,22,22.5,23,23.3,23.5,23.7,23.9,23.9,23.8,23.7,23.5,23.3,23,22.9,22.8,22.7,22.6,22.5]
["9月",19.100000000000001,18.899999999999999,18.8,18.7,18.5,18.399999999999999,18.399999999999999,18.899999999999999,19.600000000000001,20,20.3,20.5,20.6,20.7,20.6,20.5,20.3,20.100000000000001,19.899999999999999,19.8,19.7,19.600000000000001,19.399999999999999,19.2]
["10月",13.5,13.3,13.1,12.9,12.7,12.6,12.5,12.9,13.8,14.6,15.1,15.4,15.5,15.6,15.6,15.5,15.3,15,14.8,14.6,14.3,14,13.7,13.5]
["11月",7.5,7.2,7,6.8,6.6,6.4,6.2,6.4,7.4,8.6999999999999993,9.6999999999999993,10.3,10.5,10.7,10.6,10.5,10.3,9.9,9.5,9.1,8.6,8.1999999999999993,7.9,7.5]
["12月",1.9,1.6,1.4,1.2,1.1000000000000001,0.9,0.8,0.7,1.5,2.9,4.2,5.0999999999999996,5.5,5.7,5.8,5.6,5.2,4.7,4.2,3.7,3.2,2.7,2.2999999999999998,2]
["1月",-0.6,-0.8,-1.1000000000000001,-1.3,-1.5,-1.7,-1.8,-1.9,-1.1000000000000001,0.3,1.7,2.5,3,3.3,3.4,3.2,2.9,2.4,1.8,1.3,0.8,0.4,0,-0.3]
["2月",0,-0.2,-0.5,-0.7,-0.9,-1.1000000000000001,-1.2,-1.2,-0.2,1.2,2.4,3.1,3.5,3.8,3.9,3.8,3.5,3.1,2.7,2.2000000000000002,1.8,1.3,0.9,0.5]
["3月",3.4,3.2,2.9,2.6,2.4,2.2000000000000002,2,2.5,3.7,4.8,5.5,6,6.3,6.6,6.6,6.6,6.4,6,5.7,5.4,5.0999999999999996,4.7,4.3,3.9]

{"sheet":"宇都宮","index":16,"n_rows":16,"n_cols":25,"rows_kept":16,"cut":false,"hidden":true,"merged":[]}
["気象データ"]
[{"$f":"RIGHT(CELL(\"filename\",A2),LEN(CELL(\"filename\",A2))-FIND(\"]\",CELL(\"filename\",A2)))","v":"宇都宮"}]
["時刻別平均外気湿球温度"]
["時刻",0,1,2,3,4,5,6,7,8,9,10,11,12,13,14,15,16,17,18,19,20,21,22,23]
["4月",8,7.7,7.5,7.2,6.9,6.7,6.8,7.5,8.3000000000000007,9.1,9.6999999999999993,10.199999999999999,10.5,10.7,10.8,10.8,10.6,10.3,9.9,9.5,9.1999999999999993,9,8.6999999999999993,8.5]
["5月",13.2,13,12.8,12.6,12.4,12.3,12.6,13.1,13.7,14.2,14.7,15.1,15.3,15.4,15.5,15.4,15.3,15.1,14.7,14.4,14.1,13.9,13.7,13.6]
["6月",17.399999999999999,17.2,17.100000000000001,17,16.8,16.8,17,17.399999999999999,17.8,18.2,18.600000000000001,18.899999999999999,19.100000000000001,19.2,19.2,19.2,19.100000000000001,19,18.8,18.5,18.2,18,17.8,17.7]
["7月",21.2,21.1,21,21,20.8,20.7,20.9,21.2,21.6,22,22.4,22.6,22.9,23,23,23.1,22.9,22.8,22.4,22.2,21.9,21.8,21.6,21.4]
["8月",22.3,22.2,22.1,22,21.9,21.8,21.9,22.2,22.6,23,23.3,23.6,23.8,23.9,23.9,23.9,23.7,23.5,23.3,23,22.8,22.6,22.5,22.4]
["9月",18.899999999999999,18.8,18.600000000000001,18.5,18.3,18.2,18.2,18.5,19,19.399999999999999,19.8,20.100000000000001,20.3,20.399999999999999,20.399999999999999,20.399999999999999,20.2,20.100000000000001,19.8,19.600000000000001,19.3,19.2,19,18.899999999999999]
["10月",13.2,13,12.8,12.6,12.4,12.2,12.1,12.5,13.2,13.9,14.4,14.8,15,15.2,15.2,15.1,14.9,14.6,14.3,14.1,13.9,13.7,13.5,13.2]
["11月",7.1,6.8,6.6,6.3,6.1,5.9,5.7,5.9,7,8,8.8000000000000007,9.4,9.8000000000000007,10,10,9.8000000000000007,9.5,9.1,8.8000000000000007,8.5,8.1,7.8,7.5,7.2]
["12月",1.6,1.3,1,0.8,0.6,0.4,0.2,0.2,1.1000000000000001,2.6,3.6,4.3,4.8,5,5.0999999999999996,4.9000000000000004,4.5999999999999996,4,3.5,3.1,2.7,2.2999999999999998,2,1.7]
["1月",-1,-1.3,-1.5,-1.8,-2.1,-2.2999999999999998,-2.5,-2.5,-1.6,-0.1,1,1.7,2.2999999999999998,2.6,2.7,2.6,2.2000000000000002,1.6,1.2,0.7,0.3,-0.1,-0.4,-0.7]
["2月",-0.3,-0.6,-0.8,-1.1000000000000001,-1.3,-1.5,-1.7,-1.6,-0.5,0.8,1.7,2.4,2.9,3.2,3.4,3.4,3.1,2.6,2,1.6,1.3,0.9,0.5,0.2]
["3月",3.1,2.8,2.5,2.2000000000000002,2,1.8,1.6,2.1,3.2,4.0999999999999996,4.9000000000000004,5.5,5.9,6.2,6.3,6.3,6.1,5.7,5.2,4.8,4.5,4.2,3.9,3.5]

{"sheet":"前橋","index":17,"n_rows":16,"n_cols":25,"rows_kept":16,"cut":false,"hidden":true,"merged":[]}
["気象データ"]
[{"$f":"RIGHT(CELL(\"filename\",A2),LEN(CELL(\"filename\",A2))-FIND(\"]\",CELL(\"filename\",A2)))","v":"前橋"}]
["時刻別平均外気湿球温度"]
["時刻",0,1,2,3,4,5,6,7,8,9,10,11,12,13,14,15,16,17,18,19,20,21,22,23]
["4月",7.6,7.2,7,6.7,6.5,6.2,6.3,7,8,8.6999999999999993,9.4,9.9,10.199999999999999,10.4,10.5,10.5,10.3,10,9.6999999999999993,9.3000000000000007,9.1,8.8000000000000007,8.5,8.1]
["5月",12.8,12.5,12.2,11.9,11.7,11.6,11.8,12.5,13.2,13.8,14.3,14.7,14.9,15.1,15.2,15.2,15,14.9,14.6,14.3,14,13.8,13.5,13.2]
["6月",17.3,17.100000000000001,16.899999999999999,16.7,16.5,16.399999999999999,16.600000000000001,17,17.5,17.899999999999999,18.3,18.600000000000001,18.8,18.899999999999999,19.100000000000001,18.899999999999999,19,18.8,18.7,18.5,18.3,18.100000000000001,17.899999999999999,17.7]
["7月",21.3,21.2,21,20.9,20.7,20.6,20.7,21.1,21.5,21.9,22.2,22.4,22.6,22.8,22.8,22.9,22.8,22.8,22.6,22.4,22.2,22,21.8,21.6]
["8月",22.2,22,21.9,21.7,21.6,21.5,21.5,21.9,22.3,22.7,23.1,23.4,23.5,23.6,23.7,23.6,23.5,23.4,23.2,23,22.9,22.7,22.5,22.3]
["9月",18.7,18.5,18.399999999999999,18.2,18.100000000000001,17.899999999999999,17.899999999999999,18.2,18.7,19.100000000000001,19.5,19.8,20,20.100000000000001,20.100000000000001,20.100000000000001,19.899999999999999,19.8,19.600000000000001,19.5,19.3,19.100000000000001,18.899999999999999,18.7]
["10月",12.8,12.7,12.5,12.3,12.1,12,11.8,12.1,12.8,13.5,14,14.4,14.6,14.7,14.7,14.7,14.4,14.2,14,13.8,13.5,13.3,13.1,12.9]
["11月",6.8,6.6,6.4,6.2,6.1,5.9,5.7,5.8,6.7,7.7,8.5,9,9.4,9.6,9.6,9.4,9.1,8.6,8.3000000000000007,8,7.7,7.4,7.2,6.9]
["12月",1.9,1.7,1.5,1.4,1.2,1.1000000000000001,0.9,0.9,1.7,2.8,3.7,4.3,4.7,4.9000000000000004,4.9000000000000004,4.7,4.2,3.7,3.3,3,2.7,2.4,2.2000000000000002,1.9]
["1月",-0.5,-0.7,-0.9,-1.1000000000000001,-1.2,-1.4,-1.5,-1.6,-0.9,0.3,1.3,2,2.4,2.6,2.6,2.5,2.1,1.5,1.1000000000000001,0.7,0.4,0.2,-0.1,-0.3]
["2月",-0.1,-0.3,-0.5,-0.7,-0.8,-1,-1.2,-1.1000000000000001,-0.2,0.9,1.8,2.4,2.9,3.1,3.2,3.1,2.8,2.2999999999999998,1.8,1.4,1.1000000000000001,0.8,0.6,0.3]
["3月",2.9,2.6,2.4,2.2000000000000002,2,1.8,1.7,2.1,3,3.9,4.5999999999999996,5.2,5.6,5.8,5.9,5.9,5.7,5.3,4.9000000000000004,4.5,4.2,3.9,3.6,3.3]

{"sheet":"熊谷","index":18,"n_rows":16,"n_cols":25,"rows_kept":16,"cut":false,"hidden":true,"merged":[]}
["気象データ"]
[{"$f":"RIGHT(CELL(\"filename\",A2),LEN(CELL(\"filename\",A2))-FIND(\"]\",CELL(\"filename\",A2)))","v":"熊谷"}]
["時刻別平均外気湿球温度"]
["時刻",0,1,2,3,4,5,6,7,8,9,10,11,12,13,14,15,16,17,18,19,20,21,22,23]
["4月",8.5,8.3000000000000007,8,7.7,7.5,7.2,7.3,8,8.6,9.3000000000000007,9.9,10.4,10.8,11.1,11.2,11.3,11.2,10.9,10.6,10.199999999999999,9.9,9.6,9.3000000000000007,9]
["5月",13.7,13.4,13.2,13,12.8,12.6,12.9,13.4,13.9,14.4,14.8,15.2,15.5,15.6,15.8,15.7,15.7,15.5,15.2,14.9,14.7,14.4,14.2,14]
["6月",18,17.8,17.7,17.5,17.399999999999999,17.3,17.5,17.8,18.100000000000001,18.399999999999999,18.7,19,19.3,19.399999999999999,19.5,19.5,19.5,19.399999999999999,19.2,19,18.8,18.600000000000001,18.5,18.3]
["7月",21.9,21.7,21.7,21.6,21.5,21.4,21.6,21.8,22.1,22.4,22.7,22.9,23.2,23.2,23.3,23.4,23.3,23.2,23.1,22.8,22.5,22.4,22.2,22.1]
["8月",22.9,22.8,22.7,22.6,22.5,22.4,22.5,22.7,23,23.3,23.6,23.8,24,24.1,24,24,24.1,24,23.8,23.5,23.3,23.2,23,23]
["9月",19.5,19.399999999999999,19.2,19.100000000000001,19,18.8,18.8,19.100000000000001,19.399999999999999,19.8,20,20.3,20.5,20.6,20.6,20.6,20.5,20.5,20.3,20.100000000000001,19.899999999999999,19.8,19.600000000000001,19.5]
["10月",13.8,13.5,13.4,13.2,13,12.9,12.7,13,13.6,14.1,14.6,14.9,15.1,15.3,15.3,15.3,15.2,15,14.8,14.6,14.4,14.1,13.9,13.7]
["11月",7.7,7.4,7.2,6.9,6.7,6.5,6.4,6.5,7.4,8.3000000000000007,9,9.5,9.8000000000000007,10.1,10.199999999999999,10.1,9.8000000000000007,9.3000000000000007,9,8.6999999999999993,8.5,8.1999999999999993,8,7.7]
["12月",2.2999999999999998,2.1,1.9,1.7,1.5,1.3,1.2,1.1000000000000001,2,3.1,4,4.7,5.0999999999999996,5.4,5.5,5.3,4.9000000000000004,4.3,3.8,3.5,3.2,2.9,2.6,2.4]
["1月",-0.1,-0.4,-0.6,-0.8,-1,-1.1000000000000001,-1.3,-1.4,-0.6,0.6,1.6,2.4,2.8,3.1,3.3,3.1,2.7,2.1,1.5,1.2,0.9,0.6,0.3,0.1]
["2月",0.5,0.2,0,-0.2,-0.4,-0.6,-0.8,-0.7,0.2,1.3,2.2000000000000002,2.8,3.3,3.7,3.8,3.8,3.6,3.1,2.5,2.1,1.8,1.5,1.2,0.9]
["3月",3.8,3.5,3.2,2.9,2.7,2.5,2.4,2.8,3.6,4.4000000000000004,5.0999999999999996,5.7,6.2,6.5,6.7,6.8,6.6,6.3,5.8,5.5,5.0999999999999996,4.8,4.5,4.2]

{"sheet":"千葉","index":19,"n_rows":16,"n_cols":25,"rows_kept":16,"cut":false,"hidden":true,"merged":[]}
["気象データ"]
[{"$f":"RIGHT(CELL(\"filename\",A2),LEN(CELL(\"filename\",A2))-FIND(\"]\",CELL(\"filename\",A2)))","v":"千葉"}]
["時刻別平均外気湿球温度"]
["時刻",0,1,2,3,4,5,6,7,8,9,10,11,12,13,14,15,16,17,18,19,20,21,22,23]
["4月",10.3,10.199999999999999,10,9.8000000000000007,9.6,9.5,9.5,9.8000000000000007,10.3,10.8,11.1,11.4,11.6,11.8,11.9,11.9,11.9,11.6,11.4,11.2,11.1,10.9,10.8,10.6]
["5月",14.9,14.8,14.7,14.6,14.5,14.4,14.5,14.9,15.2,15.5,15.7,15.9,16.100000000000001,16.100000000000001,16.2,16.2,16.100000000000001,15.9,15.7,15.5,15.4,15.4,15.2,15.1]
["6月",18.5,18.399999999999999,18.3,18.3,18.2,18.100000000000001,18.3,18.5,18.8,19.100000000000001,19.3,19.399999999999999,19.5,19.600000000000001,19.7,19.7,19.7,19.5,19.3,19.100000000000001,19,18.899999999999999,18.8,18.7]
["7月",22.3,22.2,22.1,22.1,22,22,22.1,22.4,22.6,22.9,23.1,23.3,23.4,23.5,23.6,23.5,23.4,23.2,22.9,22.8,22.6,22.5,22.5,22.4]
["8月",23.5,23.4,23.3,23.3,23.2,23.2,23.2,23.5,23.8,24,24.1,24.2,24.3,24.4,24.5,24.4,24.3,24.1,23.9,23.7,23.6,23.6,23.5,23.5]
["9月",20.399999999999999,20.3,20.2,20.100000000000001,20,19.899999999999999,19.899999999999999,20.100000000000001,20.5,20.7,20.9,21.1,21.2,21.2,21.2,21.2,21.1,21,20.8,20.7,20.6,20.6,20.5,20.399999999999999]
["10月",15.2,15,14.9,14.7,14.5,14.3,14.2,14.4,14.9,15.4,15.7,16,16.100000000000001,16.2,16.2,16.2,16.100000000000001,16,15.8,15.7,15.5,15.4,15.3,15.2]
["11月",9.8000000000000007,9.5,9.3000000000000007,9,8.8000000000000007,8.6,8.4,8.5,8.9,9.6,10.199999999999999,10.7,11,11.2,11.3,11.4,11.2,11.1,10.9,10.8,10.6,10.3,10.1,9.9]
["12月",4.5,4.3,4,3.8,3.5,3.3,3.2,3.2,3.7,4.4000000000000004,5.0999999999999996,5.7,6.1,6.3,6.5,6.5,6.3,6.1,5.8,5.5,5.3,5,4.8,4.5999999999999996]
["1月",1.9,1.6,1.4,1.2,1,0.8,0.7,0.6,1,1.8,2.6,3.1,3.6,3.8,4,4.0999999999999996,3.9,3.6,3.3,3.1,2.8,2.5,2.2999999999999998,2.1]
["2月",2.6,2.2999999999999998,2.1,1.9,1.6,1.4,1.3,1.3,1.8,2.5,3.2,3.7,4.0999999999999996,4.4000000000000004,4.5999999999999996,4.7,4.5999999999999996,4.4000000000000004,4.0999999999999996,3.9,3.6,3.4,3.2,2.9]
["3月",5.9,5.6,5.4,5.0999999999999996,4.9000000000000004,4.7,4.5,4.7,5.3,5.9,6.4,6.8,7.1,7.4,7.5,7.6,7.6,7.4,7.2,7,6.8,6.6,6.3,6.2]

{"sheet":"東京","index":20,"n_rows":16,"n_cols":25,"rows_kept":16,"cut":false,"hidden":true,"merged":[]}
["気象データ"]
[{"$f":"RIGHT(CELL(\"filename\",A2),LEN(CELL(\"filename\",A2))-FIND(\"]\",CELL(\"filename\",A2)))","v":"東京"}]
["時刻別平均外気湿球温度"]
["時刻",0,1,2,3,4,5,6,7,8,9,10,11,12,13,14,15,16,17,18,19,20,21,22,23]
["4月",10,9.8000000000000007,9.6,9.3000000000000007,9.1999999999999993,8.9,9,9.3000000000000007,9.6999999999999993,10.199999999999999,10.6,11,11.3,11.5,11.6,11.5,11.5,11.4,11.2,11,10.8,10.7,10.5,10.3]
["5月",14.6,14.5,14.3,14.2,14.1,14,14.1,14.4,14.7,15,15.3,15.6,15.8,15.9,15.9,15.9,15.8,15.7,15.6,15.4,15.3,15.1,15,14.9]
["6月",18.399999999999999,18.3,18.2,18.100000000000001,18,18,18.100000000000001,18.3,18.5,18.8,19,19.2,19.399999999999999,19.5,19.5,19.5,19.5,19.399999999999999,19.2,19.100000000000001,18.899999999999999,18.8,18.7,18.7]
["7月",22.1,22.1,22,21.9,21.9,21.8,22,22.2,22.4,22.6,22.9,23.1,23.2,23.3,23.3,23.3,23.2,23.1,22.9,22.7,22.6,22.5,22.4,22.3]
["8月",23.3,23.2,23.1,23.1,23,22.9,23,23.2,23.4,23.5,23.8,24,24.1,24.1,24.2,24.1,24,24,23.8,23.6,23.5,23.5,23.4,23.3]
["9月",20.100000000000001,20,19.899999999999999,19.8,19.7,19.600000000000001,19.600000000000001,19.7,19.899999999999999,20.2,20.399999999999999,20.5,20.7,20.8,20.8,20.8,20.8,20.7,20.6,20.5,20.399999999999999,20.3,20.2,20.100000000000001]
["10月",14.9,14.7,14.5,14.3,14.1,14,13.8,14,14.3,14.6,15,15.3,15.6,15.7,15.7,15.7,15.7,15.5,15.5,15.4,15.2,15.1,15,14.9]
["11月",9.3000000000000007,9.1,8.9,8.6,8.4,8.1999999999999993,8.1,8.1999999999999993,8.5,9,9.5,10,10.4,10.6,10.7,10.8,10.7,10.5,10.4,10.3,10.1,9.9,9.6,9.4]
["12月",4.0999999999999996,3.9,3.6,3.4,3.2,3.1,3.1,3,3.3,4,4.5999999999999996,5.0999999999999996,5.6,5.9,6,6,5.8,5.5,5.3,5.0999999999999996,4.9000000000000004,4.7,4.5,4.2]
["1月",1.6,1.3,1.1000000000000001,0.9,0.7,0.5,0.4,0.4,0.8,1.4,2.1,2.7,3.1,3.5,3.6,3.6,3.5,3.2,2.9,2.7,2.5,2.2999999999999998,2.1,1.8]
["2月",2.2999999999999998,2,1.7,1.5,1.2,1.1000000000000001,1,1,1.4,2,2.6,3.2,3.7,4,4.3,4.3,4.3,4,3.8,3.6,3.4,3.2,2.9,2.7]
["3月",5.5,5.2,5,4.7,4.4000000000000004,4.3,4.0999999999999996,4.3,4.7,5.3,5.8,6.3,6.8,7.1,7.2,7.3,7.3,7.1,6.9,6.7,6.6,6.4,6.1,5.8]

{"sheet":"横浜","index":21,"n_rows":16,"n_cols":25,"rows_kept":16,"cut":false,"hidden":true,"merged":[]}
["気象データ"]
[{"$f":"RIGHT(CELL(\"filename\",A2),LEN(CELL(\"filename\",A2))-FIND(\"]\",CELL(\"filename\",A2)))","v":"横浜"}]
["時刻別平均外気湿球温度"]
["時刻",0,1,2,3,4,5,6,7,8,9,10,11,12,13,14,15,16,17,18,19,20,21,22,23]
["4月",10.199999999999999,10,9.8000000000000007,9.6,9.4,9.3000000000000007,9.3000000000000007,9.5,10,10.6,11,11.4,11.6,11.7,11.9,11.8,11.8,11.6,11.4,11.2,11.1,10.9,10.7,10.6]
["5月",14.7,14.6,14.4,14.3,14.2,14.1,14.2,14.5,14.9,15.3,15.6,15.8,15.9,16.100000000000001,16.100000000000001,16.100000000000001,16,15.8,15.6,15.5,15.3,15.2,15,14.9]
["6月",18.399999999999999,18.3,18.2,18.100000000000001,18,18,18.100000000000001,18.3,18.600000000000001,18.899999999999999,19.100000000000001,19.3,19.399999999999999,19.5,19.600000000000001,19.600000000000001,19.5,19.3,19.2,19,18.899999999999999,18.8,18.7,18.600000000000001]
["7月",22.1,22,22,21.9,21.9,21.8,22,22.2,22.5,22.7,23,23.1,23.2,23.3,23.4,23.4,23.2,23,22.8,22.6,22.5,22.4,22.3,22.3]
["8月",23.3,23.3,23.2,23.1,23.1,23,23.1,23.2,23.5,23.7,24,24.1,24.3,24.3,24.3,24.3,24.2,24,23.7,23.6,23.6,23.5,23.4,23.4]
["9月",20.3,20.2,20,19.899999999999999,19.8,19.7,19.7,19.8,20.100000000000001,20.399999999999999,20.6,20.8,21,21.1,21.1,21.1,21,20.9,20.7,20.6,20.5,20.399999999999999,20.399999999999999,20.2]
["10月",15,14.9,14.7,14.5,14.3,14.2,14.1,14.1,14.5,14.9,15.3,15.6,15.9,16.100000000000001,16.100000000000001,16.100000000000001,15.9,15.8,15.6,15.5,15.4,15.3,15.2,15.1]
["11月",9.6999999999999993,9.4,9.1999999999999993,9,8.8000000000000007,8.6,8.5,8.5,8.8000000000000007,9.4,9.9,10.4,10.8,11.1,11.2,11.2,11,10.8,10.7,10.5,10.4,10.199999999999999,10,9.6999999999999993]
["12月",4.5,4.2,4,3.8,3.7,3.5,3.5,3.4,3.8,4.4000000000000004,5.0999999999999996,5.7,6.1,6.4,6.6,6.5,6.3,5.9,5.7,5.5,5.3,5.0999999999999996,4.8,4.5999999999999996]
["1月",1.9,1.7,1.4,1.2,1,0.9,0.8,0.7,1.1000000000000001,1.8,2.5,3.1,3.6,4,4.0999999999999996,4.0999999999999996,3.9,3.6,3.3,3.1,2.9,2.7,2.4,2.1]
["2月",2.6,2.2999999999999998,2.1,1.8,1.6,1.5,1.3,1.3,1.7,2.2999999999999998,3,3.6,4.0999999999999996,4.4000000000000004,4.7,4.7,4.5999999999999996,4.4000000000000004,4.0999999999999996,3.9,3.7,3.5,3.3,3]
["3月",5.9,5.6,5.3,5.0999999999999996,4.8,4.5999999999999996,4.5,4.5999999999999996,5,5.6,6.2,6.7,7.1,7.4,7.6,7.7,7.6,7.4,7.2,7,6.8,6.7,6.4,6.2]

{"sheet":"新潟","index":22,"n_rows":16,"n_cols":25,"rows_kept":16,"cut":false,"hidden":true,"merged":[]}
["気象データ"]
[{"$f":"RIGHT(CELL(\"filename\",A2),LEN(CELL(\"filename\",A2))-FIND(\"]\",CELL(\"filename\",A2)))","v":"新潟"}]
["時刻別平均外気湿球温度"]
["時刻",0,1,2,3,4,5,6,7,8,9,10,11,12,13,14,15,16,17,18,19,20,21,22,23]
["4月",7.4,7.1,6.9,6.8,6.6,6.4,6.6,7.2,7.9,8.6,9,9.3000000000000007,9.5,9.5,9.4,9.3000000000000007,9.1,8.8000000000000007,8.5,8.4,8.3000000000000007,8.1,8,7.8]
["5月",12.7,12.6,12.4,12.2,12.1,12,12.2,12.7,13.2,13.7,14.1,14.4,14.4,14.4,14.3,14.1,14,13.7,13.5,13.3,13.2,13.2,13.1,13]
["6月",17.2,17.100000000000001,17,16.8,16.7,16.7,16.899999999999999,17.3,17.7,18,18.3,18.5,18.600000000000001,18.5,18.600000000000001,18.5,18.3,18.100000000000001,17.899999999999999,17.8,17.600000000000001,17.600000000000001,17.5,17.399999999999999]
["7月",21.5,21.4,21.2,21.1,21,21,21.1,21.5,21.8,22.1,22.4,22.6,22.6,22.7,22.6,22.6,22.5,22.3,22.1,22,21.9,21.8,21.7,21.7]
["8月",22.6,22.5,22.3,22.2,22.1,21.9,22,22.4,22.8,23.1,23.3,23.6,23.7,23.8,23.7,23.7,23.6,23.5,23.3,23.2,23.1,23,22.9,22.8]
["9月",18.8,18.7,18.5,18.399999999999999,18.3,18.2,18.2,18.5,19,19.399999999999999,19.7,19.899999999999999,20,20.100000000000001,20.100000000000001,20,19.899999999999999,19.7,19.5,19.399999999999999,19.3,19.100000000000001,19,18.899999999999999]
["10月",13.2,13,12.9,12.7,12.6,12.5,12.4,12.6,13.2,13.8,14.2,14.5,14.6,14.6,14.6,14.5,14.3,14.1,14,13.9,13.7,13.5,13.3,13.1]
["11月",7.9,7.7,7.6,7.4,7.3,7.2,7.1,7.2,7.6,8.1999999999999993,8.8000000000000007,9.1,9.3000000000000007,9.4,9.4,9.3000000000000007,9.1,8.8000000000000007,8.6999999999999993,8.5,8.4,8.1999999999999993,8,7.8]
["12月",3.3,3.1,3.1,3,2.9,2.8,2.8,2.7,2.9,3.3,3.8,4.0999999999999996,4.3,4.4000000000000004,4.4000000000000004,4.4000000000000004,4.2,4,3.9,3.8,3.6,3.5,3.4,3.2]
["1月",0.8,0.7,0.7,0.6,0.5,0.5,0.5,0.5,0.6,0.9,1.3,1.6,1.8,1.9,1.9,1.8,1.7,1.5,1.4,1.3,1.1000000000000001,1,0.9,0.8]
["2月",0.7,0.6,0.5,0.4,0.3,0.3,0.2,0.2,0.6,1,1.5,1.8,2.1,2.2999999999999998,2.2999999999999998,2.2999999999999998,2.1,1.8,1.7,1.5,1.4,1.2,1.1000000000000001,0.9]
["3月",3,2.8,2.7,2.5,2.4,2.2999999999999998,2.2000000000000002,2.5,3.1,3.8,4.3,4.7,4.9000000000000004,5,5,4.9000000000000004,4.7,4.5,4.2,4.0999999999999996,3.9,3.7,3.5,3.3]

{"sheet":"富山","index":23,"n_rows":16,"n_cols":25,"rows_kept":16,"cut":false,"hidden":true,"merged":[]}
["気象データ"]
[{"$f":"RIGHT(CELL(\"filename\",A2),LEN(CELL(\"filename\",A2))-FIND(\"]\",CELL(\"filename\",A2)))","v":"富山"}]
["時刻別平均外気湿球温度"]
["時刻",0,1,2,3,4,5,6,7,8,9,10,11,12,13,14,15,16,17,18,19,20,21,22,23]
["4月",8,7.8,7.6,7.4,7.3,7.1,7.3,8,8.9,9.5,10,10.199999999999999,10.5,10.6,10.5,10.3,10.1,9.8000000000000007,9.5,9.1999999999999993,9.1,8.9,8.6999999999999993,8.4]
["5月",13.2,13,12.8,12.6,12.5,12.4,12.8,13.4,14.1,14.5,14.9,15.1,15.2,15.3,15.2,15.1,14.9,14.6,14.3,14,13.9,13.9,13.7,13.5]
["6月",17.899999999999999,17.8,17.600000000000001,17.399999999999999,17.3,17.2,17.600000000000001,18.100000000000001,18.5,18.8,19.100000000000001,19.399999999999999,19.5,19.5,19.5,19.399999999999999,19.2,19,18.8,18.600000000000001,18.5,18.5,18.399999999999999,18.3]
["7月",22.2,22,21.9,21.7,21.6,21.5,21.7,22.1,22.5,22.9,23.2,23.4,23.6,23.6,23.6,23.5,23.4,23.2,23,22.8,22.7,22.6,22.5,22.4]
["8月",23.1,22.9,22.7,22.6,22.4,22.2,22.3,22.8,23.3,23.8,24.1,24.3,24.5,24.5,24.5,24.4,24.3,24.2,24,23.8,23.7,23.6,23.5,23.3]
["9月",19.399999999999999,19.2,19,18.899999999999999,18.7,18.600000000000001,18.600000000000001,19.100000000000001,19.7,20.100000000000001,20.5,20.7,20.8,20.8,20.8,20.7,20.6,20.3,20.100000000000001,20.100000000000001,20,19.899999999999999,19.7,19.5]
["10月",13.8,13.6,13.4,13.3,13.1,13,12.9,13.3,14.1,14.7,15.1,15.4,15.6,15.7,15.6,15.5,15.3,15,14.9,14.7,14.5,14.2,14,13.8]
["11月",8.4,8.1999999999999993,8,7.9,7.8,7.7,7.6,7.7,8.4,9.1999999999999993,9.6999999999999993,10.1,10.3,10.4,10.5,10.3,10.1,9.8000000000000007,9.6,9.4,9.1,8.8000000000000007,8.6,8.4]
["12月",3.7,3.6,3.5,3.4,3.4,3.3,3.3,3.2,3.5,4.0999999999999996,4.7,5.0999999999999996,5.3,5.4,5.4,5.3,5.0999999999999996,4.8,4.5999999999999996,4.4000000000000004,4.2,4,3.8,3.6]
["1月",1.2,1,0.9,0.9,0.8,0.7,0.7,0.7,0.9,1.4,2,2.4,2.7,2.8,2.8,2.8,2.6,2.2999999999999998,2.1,2,1.8,1.6,1.4,1.3]
["2月",1.1000000000000001,1,0.9,0.8,0.7,0.6,0.5,0.5,1,1.7,2.2999999999999998,2.7,3.1,3.2,3.3,3.3,3.1,2.8,2.5,2.2999999999999998,2.1,1.8,1.6,1.4]
["3月",3.7,3.6,3.4,3.3,3.1,3,2.9,3.2,4,4.8,5.3,5.8,6,6.2,6.2,6.1,5.9,5.6,5.2,5,4.8,4.5,4.2,4]

{"sheet":"金沢","index":24,"n_rows":16,"n_cols":25,"rows_kept":16,"cut":false,"hidden":true,"merged":[]}
["気象データ"]
[{"$f":"RIGHT(CELL(\"filename\",A2),LEN(CELL(\"filename\",A2))-FIND(\"]\",CELL(\"filename\",A2)))","v":"金沢"}]
["時刻別平均外気湿球温度"]
["時刻",0,1,2,3,4,5,6,7,8,9,10,11,12,13,14,15,16,17,18,19,20,21,22,23]
["4月",8.1,7.9,7.7,7.5,7.4,7.3,7.3,7.8,8.6999999999999993,9.3000000000000007,9.8000000000000007,10.1,10.3,10.4,10.3,10.199999999999999,10.1,9.8000000000000007,9.5,9.3000000000000007,9.1999999999999993,9,8.6999999999999993,8.4]
["5月",13.1,12.9,12.7,12.5,12.3,12.2,12.4,13,13.7,14.2,14.6,14.8,14.9,15,14.9,14.8,14.6,14.4,14.2,14,13.9,13.8,13.6,13.4]
["6月",17.7,17.5,17.399999999999999,17.2,17.100000000000001,17,17.2,17.600000000000001,18.100000000000001,18.5,18.7,19,19.100000000000001,19.100000000000001,19.100000000000001,19,18.899999999999999,18.7,18.600000000000001,18.399999999999999,18.3,18.2,18.100000000000001,18]
["7月",22,21.8,21.7,21.6,21.4,21.3,21.4,21.7,22.2,22.5,22.8,23,23.1,23.1,23.1,23,22.9,22.8,22.7,22.5,22.4,22.4,22.3,22.2]
["8月",23,22.8,22.6,22.4,22.2,22.1,22.1,22.4,23,23.4,23.7,23.9,24,24.1,24.1,24,23.9,23.8,23.7,23.5,23.5,23.4,23.2,23.1]
["9月",19.2,19.100000000000001,18.899999999999999,18.8,18.7,18.5,18.5,18.7,19.3,19.8,20,20.3,20.399999999999999,20.5,20.5,20.399999999999999,20.3,20.2,20,19.899999999999999,19.7,19.600000000000001,19.399999999999999,19.3]
["10月",13.7,13.5,13.3,13.2,13.1,13,12.9,13.1,13.7,14.4,14.8,15.1,15.2,15.3,15.3,15.2,15,14.8,14.7,14.5,14.3,14,13.8,13.7]
["11月",8.4,8.3000000000000007,8.1999999999999993,8.1,8,7.9,7.9,7.9,8.4,9,9.6,10,10.1,10.199999999999999,10.199999999999999,10.1,10,9.8000000000000007,9.6,9.4,9.1,8.9,8.6999999999999993,8.5]
["12月",3.9,3.8,3.8,3.7,3.7,3.6,3.6,3.6,3.8,4.3,4.7,5,5.2,5.3,5.3,5.2,5.0999999999999996,4.9000000000000004,4.7,4.5,4.3,4.0999999999999996,4,3.9]
["1月",1.6,1.5,1.5,1.4,1.4,1.3,1.3,1.3,1.4,1.8,2.2999999999999998,2.6,2.8,2.9,2.9,2.9,2.8,2.6,2.4,2.2999999999999998,2.1,1.9,1.8,1.7]
["2月",1.5,1.4,1.3,1.2,1.1000000000000001,1.1000000000000001,1,1,1.4,2,2.5,2.9,3.2,3.3,3.3,3.3,3.2,3,2.7,2.5,2.2999999999999998,2.1,1.9,1.8]
["3月",3.8,3.6,3.5,3.3,3.2,3.1,3,3.2,3.9,4.7,5.2,5.6,5.9,6,6,5.9,5.8,5.5,5.2,5,4.8,4.5,4.3,4.0999999999999996]

{"sheet":"福井","index":25,"n_rows":16,"n_cols":25,"rows_kept":16,"cut":false,"hidden":true,"merged":[]}
["気象データ"]
[{"$f":"RIGHT(CELL(\"filename\",A2),LEN(CELL(\"filename\",A2))-FIND(\"]\",CELL(\"filename\",A2)))","v":"福井"}]
["時刻別平均外気湿球温度"]
["時刻",0,1,2,3,4,5,6,7,8,9,10,11,12,13,14,15,16,17,18,19,20,21,22,23]
["4月",8,7.8,7.6,7.4,7.3,7.1,7.3,8,8.9,9.5,10,10.199999999999999,10.5,10.6,10.5,10.3,10.1,9.8000000000000007,9.5,9.1999999999999993,9.1,8.9,8.6999999999999993,8.4]
["5月",13.2,13,12.8,12.6,12.5,12.4,12.8,13.4,14.1,14.5,14.9,15.1,15.2,15.3,15.2,15.1,14.9,14.6,14.3,14,13.9,13.9,13.7,13.5]
["6月",17.899999999999999,17.8,17.600000000000001,17.399999999999999,17.3,17.2,17.600000000000001,18.100000000000001,18.5,18.8,19.100000000000001,19.399999999999999,19.5,19.5,19.5,19.399999999999999,19.2,19,18.8,18.600000000000001,18.5,18.5,18.399999999999999,18.3]
["7月",22.2,22,21.9,21.7,21.6,21.5,21.7,22.1,22.5,22.9,23.2,23.4,23.6,23.6,23.6,23.5,23.4,23.2,23,22.8,22.7,22.6,22.5,22.4]
["8月",23.1,22.9,22.7,22.6,22.4,22.2,22.3,22.8,23.3,23.8,24.1,24.3,24.5,24.5,24.5,24.4,24.3,24.2,24,23.8,23.7,23.6,23.5,23.3]
["9月",19.399999999999999,19.2,19,18.899999999999999,18.7,18.600000000000001,18.600000000000001,19.100000000000001,19.7,20.100000000000001,20.5,20.7,20.8,20.8,20.8,20.7,20.6,20.3,20.100000000000001,20.100000000000001,20,19.899999999999999,19.7,19.5]
["10月",13.8,13.6,13.4,13.3,13.1,13,12.9,13.3,14.1,14.7,15.1,15.4,15.6,15.7,15.6,15.5,15.3,15,14.9,14.7,14.5,14.2,14,13.8]
["11月",8.4,8.1999999999999993,8,7.9,7.8,7.7,7.6,7.7,8.4,9.1999999999999993,9.6999999999999993,10.1,10.3,10.4,10.5,10.3,10.1,9.8000000000000007,9.6,9.4,9.1,8.8000000000000007,8.6,8.4]
["12月",3.7,3.6,3.5,3.4,3.4,3.3,3.3,3.2,3.5,4.0999999999999996,4.7,5.0999999999999996,5.3,5.4,5.4,5.3,5.0999999999999996,4.8,4.5999999999999996,4.4000000000000004,4.2,4,3.8,3.6]
["1月",1.2,1,0.9,0.9,0.8,0.7,0.7,0.7,0.9,1.4,2,2.4,2.7,2.8,2.8,2.8,2.6,2.2999999999999998,2.1,2,1.8,1.6,1.4,1.3]
["2月",1.1000000000000001,1,0.9,0.8,0.7,0.6,0.5,0.5,1,1.7,2.2999999999999998,2.7,3.1,3.2,3.3,3.3,3.1,2.8,2.5,2.2999999999999998,2.1,1.8,1.6,1.4]
["3月",3.7,3.6,3.4,3.3,3.1,3,2.9,3.2,4,4.8,5.3,5.8,6,6.2,6.2,6.1,5.9,5.6,5.2,5,4.8,4.5,4.2,4]

{"sheet":"甲府","index":26,"n_rows":16,"n_cols":25,"rows_kept":16,"cut":false,"hidden":true,"merged":[]}
["気象データ"]
[{"$f":"RIGHT(CELL(\"filename\",A2),LEN(CELL(\"filename\",A2))-FIND(\"]\",CELL(\"filename\",A2)))","v":"甲府"}]
["時刻別平均外気湿球温度"]
["時刻",0,1,2,3,4,5,6,7,8,9,10,11,12,13,14,15,16,17,18,19,20,21,22,23]
["4月",8.4,8.1,7.8,7.5,7.3,7,7.1,7.7,8.3000000000000007,9,9.6,10.1,10.5,10.9,11.2,11.4,11.2,11,10.5,10.1,9.6999999999999993,9.5,9.1999999999999993,8.9]
["5月",13.3,13.1,12.8,12.6,12.4,12.2,12.5,12.9,13.4,13.9,14.4,14.7,14.9,15.3,15.5,15.7,15.6,15.4,15,14.6,14.3,14.1,13.9,13.6]
["6月",17.600000000000001,17.399999999999999,17.3,17.100000000000001,17,16.899999999999999,17.100000000000001,17.3,17.7,18,18.3,18.5,18.7,18.899999999999999,19.2,19.2,19.2,19.100000000000001,18.899999999999999,18.600000000000001,18.399999999999999,18.2,18.100000000000001,17.899999999999999]
["7月",21.5,21.4,21.3,21.2,21,21,21,21.3,21.5,21.8,22.1,22.3,22.4,22.6,22.6,22.9,22.9,22.8,22.5,22.3,22.1,22,21.8,21.7]
["8月",22.3,22.2,22.1,21.9,21.8,21.7,21.7,21.9,22.2,22.5,22.8,23,23.1,23.2,23.4,23.5,23.6,23.4,23.2,23,22.8,22.7,22.6,22.4]
["9月",19,18.8,18.7,18.5,18.399999999999999,18.2,18.2,18.399999999999999,18.7,19.100000000000001,19.399999999999999,19.7,19.899999999999999,20,20,20.2,20.3,20.100000000000001,19.8,19.600000000000001,19.5,19.3,19.100000000000001,19]
["10月",13.3,13.1,13,12.8,12.6,12.4,12.2,12.5,12.9,13.5,13.9,14.3,14.7,14.9,15,15.1,15.1,14.9,14.6,14.3,14,13.8,13.6,13.3]
["11月",7.1,6.9,6.6,6.3,6.1,5.8,5.6,5.7,6.5,7.2,7.9,8.6,9.1,9.5,9.6999999999999993,9.6999999999999993,9.6,9.3000000000000007,8.9,8.5,8.1,7.8,7.5,7.2]
["12月",1.5,1.2,0.9,0.7,0.4,0.2,0,-0.1,0.6,1.6,2.5,3.3,4,4.5,4.7,4.7,4.4000000000000004,3.9,3.5,3,2.6,2.2000000000000002,1.9,1.6]
["1月",-0.9,-1.2,-1.5,-1.8,-2.1,-2.2999999999999998,-2.6,-2.8,-2,-1,0,0.8,1.5,2.1,2.4,2.5,2.2999999999999998,1.8,1.3,0.9,0.4,0,-0.3,-0.6]
["2月",0.2,-0.1,-0.4,-0.7,-1,-1.2,-1.4,-1.4,-0.6,0.3,1.1000000000000001,2,2.7,3.2,3.6,3.8,3.7,3.2,2.7,2.2999999999999998,1.8,1.4,1,0.7]
["3月",3.7,3.4,3.1,2.8,2.5,2.2999999999999998,2,2.4,3.2,3.9,4.7,5.4,6,6.5,6.8,7.1,7,6.6,6.1,5.6,5.3,4.9000000000000004,4.5,4.0999999999999996]

{"sheet":"長野","index":27,"n_rows":16,"n_cols":25,"rows_kept":16,"cut":false,"hidden":true,"merged":[]}
["気象データ"]
[{"$f":"RIGHT(CELL(\"filename\",A2),LEN(CELL(\"filename\",A2))-FIND(\"]\",CELL(\"filename\",A2)))","v":"長野"}]
["時刻別平均外気湿球温度"]
["時刻",0,1,2,3,4,5,6,7,8,9,10,11,12,13,14,15,16,17,18,19,20,21,22,23]
["4月",5.6,5.3,5,4.8,4.5999999999999996,4.4000000000000004,4.5,5.2,6.1,7,7.7,8.3000000000000007,8.6999999999999993,8.9,9.1,8.9,8.6,8.1999999999999993,7.6,7.2,6.8,6.5,6.2,6]
["5月",11,10.8,10.6,10.4,10.199999999999999,10,10.3,11,11.7,12.4,13,13.4,13.7,13.9,14,14,13.7,13.3,12.9,12.4,12.1,11.8,11.5,11.3]
["6月",15.7,15.6,15.4,15.3,15.1,15,15.3,15.7,16.3,16.8,17.2,17.5,17.8,18,18.100000000000001,18.100000000000001,18,17.7,17.3,17,16.7,16.5,16.2,16.100000000000001]
["7月",20.100000000000001,19.899999999999999,19.8,19.7,19.600000000000001,19.5,19.7,20,20.5,20.9,21.2,21.5,21.7,22,22.2,22.2,22,21.8,21.4,21.1,20.8,20.6,20.399999999999999,20.3]
["8月",21,20.8,20.7,20.6,20.399999999999999,20.3,20.3,20.7,21.1,21.6,21.9,22.1,22.4,22.5,22.7,22.8,22.7,22.4,22,21.7,21.5,21.3,21.2,21]
["9月",17.2,17,16.899999999999999,16.7,16.600000000000001,16.5,16.5,16.8,17.2,17.7,18.2,18.5,18.7,18.8,19,19,18.8,18.399999999999999,18.100000000000001,17.8,17.600000000000001,17.5,17.3,17.100000000000001]
["10月",11.2,11,10.9,10.7,10.5,10.4,10.199999999999999,10.5,11.2,11.8,12.4,12.9,13.2,13.4,13.5,13.4,13.2,12.7,12.3,12.1,11.8,11.6,11.4,11.2]
["11月",5.2,5,4.7,4.5,4.3,4.0999999999999996,4,4,4.7,5.6,6.4,7.1,7.6,8,8.1,8,7.7,7.1,6.7,6.4,6.1,5.8,5.5,5.3]
["12月",0.2,0,-0.2,-0.3,-0.5,-0.7,-0.8,-0.9,-0.4,0.3,1.1000000000000001,1.8,2.2999999999999998,2.7,2.9,2.8,2.5,1.9,1.6,1.3,1,0.7,0.5,0.3]
["1月",-2.2999999999999998,-2.5,-2.7,-2.9,-3.1,-3.2,-3.4,-3.5,-3.1,-2.4,-1.6,-0.9,-0.4,0.1,0.3,0.3,0,-0.4,-0.8,-1.1000000000000001,-1.4,-1.6,-1.9,-2.1]
["2月",-2,-2.2000000000000002,-2.4,-2.7,-2.8,-3,-3.2,-3.2,-2.6,-1.7,-0.9,-0.1,0.5,0.9,1.1000000000000001,1.1000000000000001,0.8,0.3,-0.2,-0.5,-0.8,-1.1000000000000001,-1.4,-1.6]
["3月",0.9,0.7,0.5,0.3,0.1,-0.1,-0.3,0.1,0.9,1.7,2.6,3.3,3.9,4.2,4.3,4.2,3.9,3.4,2.8,2.4,2,1.7,1.5,1.2]

{"sheet":"岐阜","index":28,"n_rows":16,"n_cols":25,"rows_kept":16,"cut":false,"hidden":true,"merged":[]}
["気象データ"]
[{"$f":"RIGHT(CELL(\"filename\",A2),LEN(CELL(\"filename\",A2))-FIND(\"]\",CELL(\"filename\",A2)))","v":"岐阜"}]
["時刻別平均外気湿球温度"]
["時刻",0,1,2,3,4,5,6,7,8,9,10,11,12,13,14,15,16,17,18,19,20,21,22,23]
["4月",9.3000000000000007,9,8.8000000000000007,8.6,8.4,8.1999999999999993,8.1999999999999993,8.6,9.1999999999999993,9.8000000000000007,10.4,10.9,11.4,11.6,11.7,11.6,11.5,11.1,10.7,10.5,10.3,10.1,9.9,9.6999999999999993]
["5月",14.1,13.9,13.7,13.5,13.4,13.2,13.4,13.7,14.2,14.7,15.2,15.5,15.8,15.9,16.100000000000001,16,15.8,15.6,15.2,14.9,14.8,14.6,14.5,14.4]
["6月",18.399999999999999,18.3,18.2,18.100000000000001,17.899999999999999,17.8,18,18.2,18.600000000000001,18.899999999999999,19.3,19.5,19.8,19.899999999999999,20,20,19.8,19.600000000000001,19.399999999999999,19.100000000000001,19,18.899999999999999,18.8,18.7]
["7月",22.5,22.4,22.3,22.2,22.2,22.1,22.2,22.4,22.7,22.9,23.2,23.4,23.6,23.7,23.7,23.8,23.7,23.4,23.3,23.1,23,22.9,22.8,22.7]
["8月",23.3,23.2,23.1,23,22.9,22.8,22.8,23,23.3,23.6,23.8,24.1,24.2,24.4,24.3,24.3,24.2,24,23.8,23.6,23.6,23.5,23.4,23.3]
["9月",20,19.899999999999999,19.8,19.600000000000001,19.5,19.399999999999999,19.3,19.5,19.8,20.2,20.5,20.8,21,21.1,21,21.1,21,20.8,20.6,20.399999999999999,20.3,20.2,20.100000000000001,20]
["10月",14.4,14.2,14,13.9,13.7,13.5,13.4,13.7,14.2,14.6,15.1,15.5,15.7,15.9,15.9,15.8,15.7,15.4,15.2,15,14.9,14.7,14.5,14.3]
["11月",8.6999999999999993,8.6,8.3000000000000007,8.1,7.9,7.8,7.6,7.7,8.4,9,9.6,10.1,10.5,10.7,10.8,10.7,10.5,10.1,9.9,9.6999999999999993,9.4,9.1999999999999993,9,8.8000000000000007]
["12月",3.9,3.7,3.5,3.3,3.2,3,2.9,2.8,3.4,4.0999999999999996,4.8,5.4,5.7,6,6.1,5.9,5.7,5.3,5,4.8,4.5999999999999996,4.4000000000000004,4.0999999999999996,3.9]
["1月",1.5,1.3,1.1000000000000001,0.9,0.7,0.5,0.4,0.3,0.8,1.6,2.4,3,3.4,3.7,3.8,3.7,3.5,3.1,2.8,2.5,2.2999999999999998,2.1,1.9,1.7]
["2月",1.8,1.5,1.3,1.2,1,0.8,0.7,0.7,1.3,2.1,2.8,3.5,4,4.3,4.4000000000000004,4.3,4.0999999999999996,3.7,3.3,3,2.8,2.6,2.2999999999999998,2.1]
["3月",4.5999999999999996,4.4000000000000004,4.2,3.9,3.7,3.5,3.4,3.7,4.3,5,5.7,6.3,6.8,7.1,7.2,7.2,7,6.6,6.2,5.9,5.7,5.4,5.2,5]

{"sheet":"静岡","index":29,"n_rows":16,"n_cols":25,"rows_kept":16,"cut":false,"hidden":true,"merged":[]}
["気象データ"]
[{"$f":"RIGHT(CELL(\"filename\",A2),LEN(CELL(\"filename\",A2))-FIND(\"]\",CELL(\"filename\",A2)))","v":"静岡"}]
["時刻別平均外気湿球温度"]
["時刻",0,1,2,3,4,5,6,7,8,9,10,11,12,13,14,15,16,17,18,19,20,21,22,23]
["4月",10.5,10.3,10.1,9.9,9.6999999999999993,9.5,9.6,10.3,11,11.6,12,12.3,12.5,12.7,12.7,12.6,12.5,12.3,12.1,11.9,11.7,11.5,11.2,11]
["5月",15.1,14.9,14.7,14.4,14.2,14.1,14.4,14.9,15.5,16,16.3,16.5,16.600000000000001,16.7,16.7,16.7,16.600000000000001,16.5,16.3,16.2,16,15.9,15.7,15.5]
["6月",19,18.899999999999999,18.7,18.5,18.399999999999999,18.3,18.5,18.899999999999999,19.3,19.600000000000001,19.8,20,20.100000000000001,20.100000000000001,20.100000000000001,20.2,20.100000000000001,20,19.899999999999999,19.8,19.7,19.600000000000001,19.5,19.3]
["7月",22.8,22.7,22.5,22.4,22.3,22.2,22.3,22.6,23,23.3,23.5,23.7,23.8,23.8,23.8,23.8,23.7,23.6,23.5,23.4,23.3,23.2,23.1,23]
["8月",23.7,23.5,23.4,23.2,23.1,23,23,23.4,23.8,24.2,24.3,24.5,24.6,24.7,24.8,24.7,24.6,24.5,24.4,24.3,24.2,24.1,24,23.8]
["9月",20.7,20.5,20.399999999999999,20.2,20,19.899999999999999,19.899999999999999,20.2,20.7,21.1,21.3,21.5,21.6,21.7,21.7,21.7,21.7,21.5,21.5,21.4,21.3,21.1,21,20.7]
["10月",15.5,15.4,15.2,15,14.9,14.7,14.6,14.9,15.5,16.100000000000001,16.399999999999999,16.7,16.899999999999999,17,17,17,16.899999999999999,16.7,16.600000000000001,16.399999999999999,16.2,16,15.8,15.6]
["11月",10.199999999999999,10,9.8000000000000007,9.6,9.4,9.3000000000000007,9.1,9.1999999999999993,10,10.8,11.5,11.9,12.2,12.4,12.4,12.4,12.2,11.9,11.6,11.4,11.1,10.8,10.6,10.3]
["12月",5,4.8,4.5999999999999996,4.4000000000000004,4.2,4.0999999999999996,3.9,3.9,4.5999999999999996,5.7,6.5,7.1,7.5,7.7,7.7,7.6,7.3,6.8,6.5,6.2,5.9,5.6,5.3,5.0999999999999996]
["1月",2.5,2.2999999999999998,2.1,1.9,1.7,1.5,1.3,1.2,1.9,3.1,4.0999999999999996,4.7,5.0999999999999996,5.4,5.5,5.4,5.0999999999999996,4.7,4.2,3.9,3.6,3.3,3,2.8]
["2月",3.2,3,2.8,2.6,2.4,2.2000000000000002,2.1,2.1,3,4,4.8,5.4,5.8,6,6.1,6.1,5.9,5.5,5.2,4.8,4.5,4.2,3.9,3.6]
["3月",6.4,6.2,5.9,5.7,5.5,5.3,5.2,5.6,6.5,7.3,7.9,8.3000000000000007,8.6,8.8000000000000007,8.9,8.8000000000000007,8.6,8.4,8.1,7.9,7.6,7.3,7.1,6.8]

{"sheet":"名古屋","index":30,"n_rows":16,"n_cols":25,"rows_kept":16,"cut":false,"hidden":true,"merged":[]}
["気象データ"]
[{"$f":"RIGHT(CELL(\"filename\",A2),LEN(CELL(\"filename\",A2))-FIND(\"]\",CELL(\"filename\",A2)))","v":"名古屋"}]
["時刻別平均外気湿球温度"]
["時刻",0,1,2,3,4,5,6,7,8,9,10,11,12,13,14,15,16,17,18,19,20,21,22,23]
["4月",9.4,9.1,8.9,8.6999999999999993,8.6,8.4,8.4,8.9,9.5,10.1,10.7,11.1,11.4,11.6,11.7,11.6,11.4,11.1,10.8,10.6,10.4,10.1,10,9.6999999999999993]
["5月",14.1,14,13.8,13.7,13.5,13.3,13.6,14,14.5,15,15.3,15.6,15.9,16,16,15.9,15.7,15.5,15.3,15,14.9,14.8,14.6,14.4]
["6月",18.399999999999999,18.3,18.2,18.100000000000001,18,17.899999999999999,18.100000000000001,18.399999999999999,18.8,19.100000000000001,19.3,19.600000000000001,19.8,19.899999999999999,19.899999999999999,19.899999999999999,19.7,19.5,19.3,19.100000000000001,19,18.899999999999999,18.8,18.7]
["7月",22.4,22.3,22.2,22.1,22.1,22,22.1,22.4,22.7,23,23.3,23.4,23.6,23.6,23.7,23.6,23.5,23.4,23.1,23,22.9,22.8,22.7,22.6]
["8月",23.2,23.1,23,22.9,22.8,22.7,22.8,23.1,23.4,23.7,23.9,24,24.2,24.2,24.2,24.1,24.1,23.9,23.7,23.6,23.5,23.4,23.3,23.3]
["9月",20.100000000000001,20,19.8,19.7,19.600000000000001,19.5,19.399999999999999,19.7,20,20.399999999999999,20.7,20.8,21,21.1,21.1,21,20.9,20.7,20.5,20.5,20.399999999999999,20.3,20.2,20]
["10月",14.5,14.4,14.2,14,13.9,13.7,13.6,13.8,14.3,14.8,15.3,15.6,15.9,15.9,15.9,15.8,15.7,15.4,15.2,15.1,14.9,14.8,14.6,14.5]
["11月",8.8000000000000007,8.6,8.4,8.3000000000000007,8.1,7.9,7.7,7.8,8.4,9.1,9.6999999999999993,10.199999999999999,10.6,10.7,10.8,10.7,10.4,10.1,9.9,9.6,9.4,9.3000000000000007,9.1,8.9]
["12月",3.9,3.7,3.5,3.4,3.2,3.1,2.9,2.8,3.3,4.0999999999999996,4.8,5.4,5.7,6,6,5.9,5.6,5.2,5,4.8,4.5999999999999996,4.3,4.0999999999999996,3.9]
["1月",1.5,1.3,1.1000000000000001,0.9,0.7,0.6,0.4,0.3,0.8,1.6,2.4,3,3.5,3.7,3.8,3.7,3.4,3,2.7,2.5,2.2999999999999998,2.1,1.9,1.7]
["2月",1.8,1.6,1.4,1.2,1,0.8,0.7,0.6,1.3,2.1,2.9,3.6,4,4.3,4.5,4.4000000000000004,4.0999999999999996,3.7,3.3,3.1,2.8,2.6,2.4,2.2000000000000002]
["3月",4.8,4.5999999999999996,4.3,4.0999999999999996,3.9,3.7,3.5,3.8,4.5,5.2,5.9,6.5,6.9,7.2,7.4,7.3,7.1,6.7,6.3,6,5.8,5.6,5.3,5.0999999999999996]

{"sheet":"津","index":31,"n_rows":16,"n_cols":25,"rows_kept":16,"cut":false,"hidden":true,"merged":[]}
["気象データ"]
[{"$f":"RIGHT(CELL(\"filename\",A2),LEN(CELL(\"filename\",A2))-FIND(\"]\",CELL(\"filename\",A2)))","v":"津"}]
["時刻別平均外気湿球温度"]
["時刻",0,1,2,3,4,5,6,7,8,9,10,11,12,13,14,15,16,17,18,19,20,21,22,23]
["4月",9.5,9.4,9.1999999999999993,9,8.9,8.8000000000000007,8.8000000000000007,9.3000000000000007,9.9,10.3,10.6,11,11.2,11.5,11.7,11.8,11.7,11.5,11.2,10.9,10.7,10.5,10.199999999999999,9.9]
["5月",14.5,14.3,14.2,14,13.9,13.8,13.9,14.4,14.8,15.2,15.5,15.8,16,16.100000000000001,16.3,16.3,16.3,16.100000000000001,15.8,15.6,15.4,15.2,15,14.8]
["6月",18.600000000000001,18.5,18.399999999999999,18.3,18.2,18.100000000000001,18.3,18.600000000000001,18.899999999999999,19.2,19.5,19.7,19.8,20,20.100000000000001,20.2,20.2,20.100000000000001,19.899999999999999,19.600000000000001,19.399999999999999,19.3,19.100000000000001,19]
["7月",22.7,22.6,22.5,22.4,22.3,22.3,22.4,22.6,22.9,23.2,23.4,23.6,23.7,23.9,23.8,24,23.9,23.8,23.7,23.4,23.3,23.1,23,22.9]
["8月",23.5,23.4,23.3,23.2,23.1,23,23.1,23.3,23.7,24,24.2,24.4,24.5,24.6,24.7,24.7,24.6,24.6,24.3,24.1,23.9,23.8,23.7,23.5]
["9月",20.2,20.100000000000001,20,19.899999999999999,19.8,19.7,19.7,19.899999999999999,20.3,20.6,20.9,21.1,21.2,21.2,21.3,21.3,21.3,21.2,21,20.8,20.6,20.5,20.3,20.2]
["10月",14.7,14.6,14.4,14.3,14.2,14.1,14.1,14.2,14.8,15.2,15.5,15.8,15.9,16,16.100000000000001,16.100000000000001,16,15.8,15.6,15.4,15.2,15,14.8,14.6]
["11月",9.1999999999999993,9,8.9,8.8000000000000007,8.6999999999999993,8.5,8.4,8.5,9.1,9.8000000000000007,10.199999999999999,10.6,10.8,11,11,11,10.8,10.5,10.3,10.1,9.8000000000000007,9.6,9.4,9.1999999999999993]
["12月",4.4000000000000004,4.2,4.0999999999999996,4,3.9,3.8,3.7,3.7,4.2,5,5.6,6,6.2,6.3,6.4,6.3,6,5.7,5.5,5.2,4.9000000000000004,4.7,4.5,4.3]
["1月",2.1,1.9,1.8,1.7,1.6,1.5,1.4,1.4,1.8,2.5,3.2,3.6,3.9,4,4.0999999999999996,4,3.9,3.5,3.3,3,2.8,2.5,2.4,2.2000000000000002]
["2月",2.2000000000000002,2.1,2,1.8,1.7,1.6,1.6,1.6,2.1,2.9,3.5,3.9,4.2,4.3,4.4000000000000004,4.5,4.3,4,3.7,3.4,3.2,3,2.7,2.5]
["3月",5,4.8,4.5999999999999996,4.5,4.3,4.2,4.0999999999999996,4.3,5,5.6,6.1,6.4,6.7,6.9,7.1,7.2,7.1,6.9,6.6,6.3,6,5.8,5.5,5.3]

{"sheet":"彦根","index":32,"n_rows":16,"n_cols":25,"rows_kept":16,"cut":false,"hidden":true,"merged":[]}
["気象データ"]
[{"$f":"RIGHT(CELL(\"filename\",A2),LEN(CELL(\"filename\",A2))-FIND(\"]\",CELL(\"filename\",A2)))","v":"彦根"}]
["時刻別平均外気湿球温度"]
["時刻",0,1,2,3,4,5,6,7,8,9,10,11,12,13,14,15,16,17,18,19,20,21,22,23]
["4月",8.6999999999999993,8.5,8.3000000000000007,8.1,7.9,7.8,7.8,8.4,9.1,9.5,9.9,10.199999999999999,10.5,10.8,10.9,10.9,10.8,10.6,10.3,10,9.8000000000000007,9.6,9.4,9.1]
["5月",13.5,13.4,13.2,13,12.8,12.7,13,13.6,14.1,14.5,14.8,15.1,15.3,15.5,15.6,15.5,15.4,15.2,14.9,14.6,14.4,14.3,14,13.8]
["6月",18,17.899999999999999,17.7,17.600000000000001,17.5,17.399999999999999,17.7,18.100000000000001,18.5,18.8,19,19.3,19.5,19.7,19.7,19.7,19.600000000000001,19.5,19.2,19,18.8,18.600000000000001,18.5,18.3]
["7月",22.2,22.1,22,21.9,21.8,21.7,21.9,22.3,22.7,23,23.2,23.4,23.6,23.8,23.9,23.8,23.7,23.5,23.3,23.1,22.9,22.8,22.6,22.5]
["8月",23,22.9,22.8,22.7,22.5,22.5,22.5,22.9,23.4,23.8,24,24.2,24.4,24.5,24.6,24.5,24.4,24.2,24,23.8,23.6,23.4,23.3,23.1]
["9月",19.8,19.600000000000001,19.5,19.399999999999999,19.3,19.100000000000001,19.100000000000001,19.5,20,20.399999999999999,20.6,20.8,21,21,21.1,21.1,21,20.8,20.5,20.3,20.2,20.100000000000001,19.899999999999999,19.7]
["10月",14.2,14.1,13.9,13.8,13.6,13.5,13.4,13.7,14.4,15,15.4,15.6,15.8,15.9,15.9,15.9,15.8,15.6,15.4,15.2,14.9,14.6,14.4,14.2]
["11月",8.6999999999999993,8.5,8.4,8.1999999999999993,8,7.9,7.8,7.9,8.5,9.4,9.9,10.3,10.6,10.7,10.8,10.8,10.6,10.4,10.1,9.8000000000000007,9.5,9.3000000000000007,9,8.8000000000000007]
["12月",4.0999999999999996,3.9,3.7,3.7,3.5,3.4,3.4,3.3,3.6,4.3,4.9000000000000004,5.4,5.6,5.8,5.9,5.9,5.7,5.5,5.2,4.9000000000000004,4.7,4.4000000000000004,4.2,4]
["1月",1.7,1.5,1.4,1.3,1.1000000000000001,1,1,0.9,1.1000000000000001,1.8,2.4,2.8,3.1,3.3,3.5,3.5,3.3,3.1,2.9,2.7,2.5,2.2000000000000002,2,1.8]
["2月",1.9,1.7,1.5,1.4,1.3,1.2,1.1000000000000001,1.1000000000000001,1.5,2.2000000000000002,2.7,3.2,3.5,3.7,3.8,3.8,3.7,3.5,3.2,3.1,2.8,2.6,2.4,2.2000000000000002]
["3月",4.4000000000000004,4.2,4,3.8,3.7,3.5,3.4,3.6,4.4000000000000004,5,5.4,5.8,6.1,6.3,6.5,6.6,6.5,6.3,5.9,5.7,5.5,5.2,5,4.8]

{"sheet":"京都","index":33,"n_rows":16,"n_cols":25,"rows_kept":16,"cut":false,"hidden":true,"merged":[]}
["気象データ"]
[{"$f":"RIGHT(CELL(\"filename\",A2),LEN(CELL(\"filename\",A2))-FIND(\"]\",CELL(\"filename\",A2)))","v":"京都"}]
["時刻別平均外気湿球温度"]
["時刻",0,1,2,3,4,5,6,7,8,9,10,11,12,13,14,15,16,17,18,19,20,21,22,23]
["4月",8.9,8.6999999999999993,8.5,8.4,8.1999999999999993,8.1,8.1,8.5,9.1999999999999993,9.9,10.5,11,11.2,11.4,11.5,11.4,11.3,11,10.7,10.4,10.1,9.8000000000000007,9.6,9.3000000000000007]
["5月",13.5,13.3,13.2,13.1,12.9,12.8,13,13.6,14.2,14.7,15.1,15.5,15.7,15.8,15.8,15.8,15.7,15.5,15.1,14.8,14.5,14.3,14.1,13.8]
["6月",17.899999999999999,17.7,17.600000000000001,17.5,17.399999999999999,17.3,17.5,17.899999999999999,18.3,18.8,19.100000000000001,19.399999999999999,19.600000000000001,19.7,19.7,19.7,19.600000000000001,19.5,19.2,19,18.8,18.600000000000001,18.399999999999999,18.3]
["7月",22.2,22.1,22,21.9,21.8,21.7,21.8,22.1,22.5,22.8,23.1,23.2,23.4,23.5,23.5,23.4,23.4,23.3,23.1,23,22.8,22.7,22.5,22.4]
["8月",22.8,22.7,22.6,22.5,22.4,22.3,22.3,22.7,23.1,23.4,23.7,23.8,24,23.9,23.9,23.9,23.8,23.8,23.6,23.4,23.3,23.1,23,22.9]
["9月",19.5,19.399999999999999,19.3,19.2,19.100000000000001,19,19,19.2,19.7,20.100000000000001,20.399999999999999,20.6,20.7,20.7,20.6,20.7,20.5,20.399999999999999,20.2,20,19.899999999999999,19.7,19.600000000000001,19.5]
["10月",14.1,14,13.8,13.7,13.5,13.5,13.4,13.5,14.1,14.7,15.3,15.6,15.8,15.8,15.8,15.7,15.6,15.3,15.1,14.9,14.6,14.4,14.2,14.1]
["11月",8.8000000000000007,8.6,8.4,8.3000000000000007,8.1,8,7.9,7.9,8.4,9.1999999999999993,9.9,10.4,10.8,10.9,10.9,10.9,10.6,10.4,10.1,9.8000000000000007,9.5,9.3000000000000007,9.1,8.9]
["12月",4,3.9,3.7,3.6,3.4,3.3,3.2,3.1,3.5,4.2,4.9000000000000004,5.5,5.9,6.2,6.2,6.2,5.9,5.6,5.3,5,4.7,4.5,4.3,4.0999999999999996]
["1月",1.8,1.6,1.5,1.4,1.2,1.1000000000000001,1,0.9,1.2,1.9,2.6,3.2,3.7,3.9,4,4,3.7,3.4,3.1,2.9,2.6,2.4,2.2000000000000002,2]
["2月",2.1,1.9,1.7,1.6,1.5,1.4,1.3,1.2,1.7,2.4,3.2,3.7,4.2,4.4000000000000004,4.5,4.5,4.3,4,3.6,3.3,3,2.8,2.6,2.4]
["3月",4.7,4.5,4.3,4.0999999999999996,3.9,3.8,3.7,3.9,4.5,5.2,5.9,6.5,7,7.2,7.3,7.3,7.1,6.7,6.3,6,5.7,5.4,5.2,4.9000000000000004]

{"sheet":"大阪","index":34,"n_rows":16,"n_cols":25,"rows_kept":16,"cut":false,"hidden":true,"merged":[]}
["気象データ"]
[{"$f":"RIGHT(CELL(\"filename\",A2),LEN(CELL(\"filename\",A2))-FIND(\"]\",CELL(\"filename\",A2)))","v":"大阪"}]
["時刻別平均外気湿球温度"]
["時刻",0,1,2,3,4,5,6,7,8,9,10,11,12,13,14,15,16,17,18,19,20,21,22,23]
["4月",10.1,9.9,9.6999999999999993,9.5,9.4,9.1999999999999993,9.1999999999999993,9.5,10,10.6,11.1,11.4,11.6,11.8,11.8,11.8,11.6,11.4,11.2,11,10.9,10.7,10.6,10.4]
["5月",14.7,14.5,14.4,14.2,14.1,14,14.1,14.5,14.9,15.3,15.6,15.8,16,16.100000000000001,16.100000000000001,16.100000000000001,15.9,15.8,15.6,15.4,15.4,15.2,15.1,14.9]
["6月",18.899999999999999,18.8,18.600000000000001,18.5,18.399999999999999,18.3,18.5,18.7,19,19.3,19.600000000000001,19.8,19.899999999999999,20,20,20,19.899999999999999,19.7,19.600000000000001,19.5,19.399999999999999,19.399999999999999,19.2,19.100000000000001]
["7月",22.9,22.8,22.7,22.7,22.6,22.5,22.6,22.8,23.1,23.3,23.5,23.6,23.7,23.7,23.7,23.6,23.6,23.5,23.4,23.4,23.3,23.2,23.2,23.1]
["8月",23.6,23.5,23.4,23.3,23.2,23.2,23.2,23.4,23.7,23.9,24.1,24.2,24.3,24.4,24.3,24.2,24,24,24,23.9,23.9,23.8,23.7,23.6]
["9月",20.2,20.100000000000001,20,19.899999999999999,19.899999999999999,19.8,19.8,20,20.3,20.6,20.8,20.9,21.1,21.1,21.1,21,21,20.8,20.6,20.5,20.399999999999999,20.3,20.2,20.100000000000001]
["10月",14.9,14.8,14.7,14.6,14.5,14.4,14.3,14.5,14.9,15.4,15.7,16,16.100000000000001,16.2,16.2,16.100000000000001,15.9,15.7,15.6,15.4,15.3,15.2,15,14.9]
["11月",9.8000000000000007,9.6,9.5,9.3000000000000007,9.1999999999999993,9.1,9,9,9.5,10,10.6,10.9,11.2,11.3,11.4,11.3,11.1,10.8,10.7,10.5,10.3,10.1,10,9.8000000000000007]
["12月",5.0999999999999996,4.9000000000000004,4.8,4.5999999999999996,4.5,4.4000000000000004,4.3,4.3,4.5,5.2,5.8,6.2,6.5,6.6,6.6,6.6,6.4,6.1,6,5.8,5.6,5.4,5.2,5]
["1月",2.7,2.5,2.4,2.2999999999999998,2.2000000000000002,2.1,2,1.9,2.2000000000000002,2.8,3.4,3.9,4.0999999999999996,4.3,4.4000000000000004,4.4000000000000004,4.2,3.9,3.7,3.5,3.4,3.2,3,2.8]
["2月",2.9,2.8,2.6,2.5,2.4,2.2999999999999998,2.2000000000000002,2.2000000000000002,2.6,3.2,3.8,4.3,4.5999999999999996,4.8,4.9000000000000004,4.9000000000000004,4.8,4.4000000000000004,4.2,4,3.8,3.6,3.4,3.2]
["3月",5.6,5.5,5.3,5.0999999999999996,5,4.8,4.7,4.8,5.4,5.9,6.5,7,7.3,7.5,7.6,7.6,7.5,7.2,6.9,6.7,6.5,6.3,6.1,5.9]

{"sheet":"神戸","index":35,"n_rows":16,"n_cols":25,"rows_kept":16,"cut":false,"hidden":true,"merged":[]}
["気象データ"]
[{"$f":"RIGHT(CELL(\"filename\",A2),LEN(CELL(\"filename\",A2))-FIND(\"]\",CELL(\"filename\",A2)))","v":"神戸"}]
["時刻別平均外気湿球温度"]
["時刻",0,1,2,3,4,5,6,7,8,9,10,11,12,13,14,15,16,17,18,19,20,21,22,23]
["4月",10.199999999999999,10,9.9,9.6999999999999993,9.5,9.4,9.4,9.8000000000000007,10.3,10.7,11.1,11.4,11.6,11.8,11.8,11.8,11.7,11.6,11.4,11.1,10.9,10.8,10.7,10.5]
["5月",14.8,14.6,14.5,14.4,14.3,14.1,14.3,14.8,15.1,15.4,15.7,16,16.100000000000001,16.2,16.3,16.2,16.100000000000001,16,15.9,15.7,15.5,15.3,15.2,15]
["6月",19,18.899999999999999,18.8,18.7,18.600000000000001,18.5,18.7,19,19.3,19.5,19.8,19.899999999999999,20,20.100000000000001,20.100000000000001,20.100000000000001,20,19.899999999999999,19.8,19.7,19.600000000000001,19.5,19.399999999999999,19.3]
["7月",23.2,23.1,23,22.9,22.9,22.8,22.9,23.1,23.4,23.6,23.7,23.8,23.9,24,24.1,24,24,23.8,23.8,23.6,23.5,23.5,23.4,23.3]
["8月",23.9,23.8,23.7,23.6,23.6,23.5,23.5,23.7,24,24.2,24.4,24.5,24.6,24.6,24.7,24.7,24.6,24.5,24.4,24.3,24.2,24.1,24.1,24]
["9月",20.399999999999999,20.3,20.3,20.2,20.100000000000001,20,20,20.3,20.6,20.9,21.1,21.3,21.4,21.4,21.4,21.4,21.3,21.2,21,20.8,20.6,20.5,20.399999999999999,20.3]
["10月",15,14.9,14.8,14.7,14.6,14.5,14.5,14.7,15.2,15.6,15.9,16.2,16.3,16.399999999999999,16.399999999999999,16.3,16.2,16,15.7,15.5,15.3,15.2,15,14.9]
["11月",9.8000000000000007,9.6999999999999993,9.6,9.5,9.4,9.3000000000000007,9.1999999999999993,9.3000000000000007,9.9,10.4,10.8,11.1,11.4,11.5,11.5,11.4,11.2,10.9,10.6,10.4,10.199999999999999,10.1,10,9.8000000000000007]
["12月",5,4.9000000000000004,4.8,4.7,4.5999999999999996,4.5,4.5,4.4000000000000004,4.8,5.4,5.9,6.3,6.5,6.6,6.7,6.6,6.4,6.1,5.7,5.5,5.3,5.2,5,4.9000000000000004]
["1月",2.6,2.4,2.4,2.2000000000000002,2.1,2.1,2,2,2.2999999999999998,3,3.5,3.9,4.0999999999999996,4.3,4.4000000000000004,4.4000000000000004,4.2,3.9,3.6,3.3,3.1,3,2.8,2.7]
["2月",2.9,2.8,2.6,2.5,2.4,2.4,2.2999999999999998,2.2999999999999998,2.8,3.4,3.9,4.3,4.5,4.8,4.9000000000000004,4.9000000000000004,4.8,4.5,4.2,3.8,3.6,3.5,3.3,3.2]
["3月",5.7,5.6,5.4,5.3,5.0999999999999996,5,4.9000000000000004,5.0999999999999996,5.7,6.2,6.6,7,7.3,7.5,7.6,7.6,7.5,7.3,7,6.7,6.5,6.3,6.1,5.9]

{"sheet":"奈良","index":36,"n_rows":16,"n_cols":25,"rows_kept":16,"cut":false,"hidden":true,"merged":[]}
["気象データ"]
[{"$f":"RIGHT(CELL(\"filename\",A2),LEN(CELL(\"filename\",A2))-FIND(\"]\",CELL(\"filename\",A2)))","v":"奈良"}]
["時刻別平均外気湿球温度"]
["時刻",0,1,2,3,4,5,6,7,8,9,10,11,12,13,14,15,16,17,18,19,20,21,22,23]
["4月",8.5,8.3000000000000007,8.1,7.9,7.7,7.6,7.6,8.5,9.4,10.199999999999999,10.8,11.3,11.5,11.7,11.7,11.7,11.4,11,10.6,10.199999999999999,9.8000000000000007,9.5,9.1999999999999993,9]
["5月",13.4,13.2,13,12.8,12.7,12.6,13,13.8,14.5,15.1,15.5,15.9,16,16.100000000000001,16.2,16.100000000000001,15.8,15.5,15.2,14.9,14.5,14.2,13.9,13.7]
["6月",17.899999999999999,17.7,17.600000000000001,17.5,17.399999999999999,17.3,17.600000000000001,18.2,18.8,19.2,19.600000000000001,19.8,19.899999999999999,20,20,20,19.8,19.600000000000001,19.3,19.100000000000001,18.8,18.600000000000001,18.3,18.2]
["7月",22,21.9,21.8,21.7,21.6,21.5,21.8,22.3,22.7,23.2,23.5,23.7,23.8,23.9,23.8,23.7,23.6,23.4,23.2,22.9,22.7,22.5,22.4,22.2]
["8月",22.6,22.5,22.4,22.3,22.2,22.1,22.2,22.8,23.3,23.8,24.1,24.3,24.3,24.3,24.2,24.3,24,23.8,23.6,23.3,23.1,23,22.8,22.7]
["9月",19.3,19.2,19.100000000000001,19,18.899999999999999,18.8,18.8,19.3,20,20.5,20.9,21.1,21.2,21.2,21.2,21,20.8,20.7,20.3,20,19.8,19.600000000000001,19.5,19.3]
["10月",13.8,13.6,13.5,13.4,13.3,13.1,13,13.4,14.3,15,15.6,16,16.2,16.3,16.2,16,15.8,15.4,15,14.7,14.4,14.1,13.9,13.7]
["11月",8.3000000000000007,8.1999999999999993,8,7.8,7.6,7.5,7.4,7.4,8.4,9.4,10.1,10.7,11,11.1,11.1,11,10.7,10.199999999999999,9.8000000000000007,9.4,9.1,8.9,8.6,8.4]
["12月",3.4,3.3,3.1,3,2.9,2.8,2.7,2.6,3.2,4.2,5.0999999999999996,5.7,6.1,6.2,6.2,6.1,5.8,5.3,4.9000000000000004,4.5,4.0999999999999996,3.9,3.6,3.4]
["1月",1.2,1,0.9,0.8,0.6,0.5,0.5,0.4,0.8,1.9,2.7,3.3,3.7,3.9,4,3.9,3.6,3.2,2.7,2.2999999999999998,2,1.7,1.5,1.3]
["2月",1.3,1.2,1,0.9,0.8,0.7,0.6,0.6,1.4,2.4,3.2,3.8,4.2,4.4000000000000004,4.5,4.5,4.3,3.8,3.3,2.9,2.5,2.2000000000000002,1.9,1.7]
["3月",4.0999999999999996,3.9,3.7,3.6,3.4,3.3,3.1,3.5,4.5,5.4,6.2,6.8,7.2,7.4,7.4,7.4,7.1,6.8,6.3,5.8,5.4,5,4.7,4.4000000000000004]

{"sheet":"和歌山","index":37,"n_rows":16,"n_cols":25,"rows_kept":16,"cut":false,"hidden":true,"merged":[]}
["気象データ"]
[{"$f":"RIGHT(CELL(\"filename\",A2),LEN(CELL(\"filename\",A2))-FIND(\"]\",CELL(\"filename\",A2)))","v":"和歌山"}]
["時刻別平均外気湿球温度"]
["時刻",0,1,2,3,4,5,6,7,8,9,10,11,12,13,14,15,16,17,18,19,20,21,22,23]
["4月",10.199999999999999,10,9.8000000000000007,9.6,9.3000000000000007,9.1,9,9.3000000000000007,10,10.7,11.3,11.7,11.9,11.9,12.1,12.1,12,11.9,11.7,11.6,11.4,11.3,11,10.7]
["5月",14.9,14.6,14.4,14.2,14,13.8,13.8,14.2,14.9,15.4,15.9,16.100000000000001,16.2,16.3,16.399999999999999,16.399999999999999,16.3,16.3,16.2,16,15.8,15.7,15.5,15.3]
["6月",19.2,19,18.8,18.7,18.5,18.399999999999999,18.399999999999999,18.7,19.100000000000001,19.399999999999999,19.7,20,20,20.100000000000001,20.100000000000001,20.100000000000001,20.100000000000001,20.100000000000001,20,19.899999999999999,19.8,19.7,19.600000000000001,19.5]
["7月",23,23,22.8,22.7,22.6,22.4,22.5,22.7,23.1,23.4,23.7,23.8,23.9,23.9,24,23.9,23.9,23.8,23.7,23.6,23.5,23.4,23.3,23.2]
["8月",23.7,23.6,23.4,23.3,23.1,23,22.9,23.1,23.5,24,24.3,24.5,24.6,24.6,24.6,24.5,24.5,24.4,24.4,24.3,24.1,24,23.9,23.8]
["9月",20.399999999999999,20.2,20.100000000000001,20,19.8,19.7,19.600000000000001,19.7,20.100000000000001,20.6,20.9,21.2,21.3,21.3,21.3,21.2,21.2,21.1,21.1,21,20.9,20.8,20.5,20.399999999999999]
["10月",15,14.8,14.6,14.5,14.3,14.2,14.1,14.1,14.7,15.3,15.8,16.100000000000001,16.3,16.399999999999999,16.399999999999999,16.399999999999999,16.2,16.100000000000001,16,15.9,15.7,15.4,15.2,15]
["11月",9.8000000000000007,9.6,9.4,9.3000000000000007,9.1,9,8.9,8.8000000000000007,9.3000000000000007,10,10.7,11.2,11.5,11.6,11.7,11.6,11.5,11.2,11.1,10.9,10.6,10.3,10.1,9.9]
["12月",5,4.8,4.5999999999999996,4.5,4.4000000000000004,4.3,4.2,4.2,4.4000000000000004,5.0999999999999996,5.8,6.4,6.7,6.8,6.9,6.8,6.6,6.4,6.2,6,5.7,5.4,5.2,5]
["1月",2.6,2.5,2.2999999999999998,2.2000000000000002,2.1,2,1.9,1.9,2.1,2.7,3.4,4,4.3,4.4000000000000004,4.5,4.5,4.4000000000000004,4.2,4,3.8,3.6,3.3,3,2.8]
["2月",3,2.8,2.6,2.5,2.2999999999999998,2.2000000000000002,2.1,2.1,2.5,3.2,4,4.4000000000000004,4.8,5,5.0999999999999996,5.0999999999999996,5,4.8,4.5,4.3,4.0999999999999996,3.8,3.5,3.3]
["3月",5.8,5.6,5.4,5.2,5,4.9000000000000004,4.7,4.8,5.4,6.2,6.8,7.3,7.6,7.8,7.9,7.9,7.8,7.6,7.4,7.2,7,6.7,6.4,6.1]

{"sheet":"鳥取","index":38,"n_rows":16,"n_cols":25,"rows_kept":16,"cut":false,"hidden":true,"merged":[]}
["気象データ"]
[{"$f":"RIGHT(CELL(\"filename\",A2),LEN(CELL(\"filename\",A2))-FIND(\"]\",CELL(\"filename\",A2)))","v":"鳥取"}]
["時刻別平均外気湿球温度"]
["時刻",0,1,2,3,4,5,6,7,8,9,10,11,12,13,14,15,16,17,18,19,20,21,22,23]
["4月",8.5,8.1999999999999993,8,7.8,7.6,7.5,7.5,8.1,9.1999999999999993,10.1,10.6,11,11.2,11.3,11.3,11.2,11.1,10.9,10.6,10.3,10,9.6,9.1999999999999993,8.9]
["5月",13.2,13,12.8,12.6,12.4,12.3,12.5,13.2,14.1,14.8,15.1,15.3,15.5,15.5,15.6,15.5,15.4,15.2,14.9,14.8,14.5,14.2,13.8,13.6]
["6月",17.8,17.600000000000001,17.5,17.3,17.2,17.100000000000001,17.2,17.8,18.399999999999999,18.899999999999999,19.2,19.5,19.600000000000001,19.600000000000001,19.7,19.600000000000001,19.399999999999999,19.3,19.100000000000001,19,18.8,18.600000000000001,18.399999999999999,18.2]
["7月",22.1,21.9,21.8,21.7,21.6,21.5,21.6,22,22.5,23,23.2,23.4,23.6,23.5,23.6,23.6,23.5,23.4,23.2,23,22.9,22.7,22.5,22.3]
["8月",22.9,22.7,22.5,22.4,22.2,22.1,22.1,22.5,23.1,23.6,23.9,24.1,24.3,24.3,24.3,24.3,24.2,24,24,23.8,23.7,23.4,23.2,23]
["9月",19.3,19.100000000000001,19,18.8,18.7,18.600000000000001,18.5,18.8,19.5,20.100000000000001,20.5,20.8,21,21,21,20.9,20.8,20.6,20.5,20.3,20.100000000000001,19.8,19.600000000000001,19.3]
["10月",13.7,13.5,13.4,13.2,13.1,13,12.8,13,13.8,14.7,15.4,15.7,15.8,16,16,15.9,15.7,15.5,15.4,15,14.6,14.3,14,13.8]
["11月",8.6999999999999993,8.5,8.4,8.3000000000000007,8.1999999999999993,8.1,8,8,8.6999999999999993,9.6,10.4,10.8,10.9,11,11,10.9,10.8,10.5,10.199999999999999,9.8000000000000007,9.5,9.1999999999999993,8.9,8.6999999999999993]
["12月",4.2,4,4,3.9,3.8,3.7,3.7,3.6,3.9,4.5,5.3,5.8,6,6.1,6.1,6.1,5.9,5.6,5.3,5,4.7,4.5,4.3,4.0999999999999996]
["1月",1.8,1.7,1.6,1.6,1.5,1.5,1.4,1.4,1.6,2.2000000000000002,2.9,3.4,3.7,3.8,3.9,3.8,3.7,3.4,3.1,2.7,2.5,2.2999999999999998,2.1,1.9]
["2月",1.9,1.8,1.7,1.6,1.5,1.5,1.4,1.4,1.8,2.5,3.3,3.8,4.0999999999999996,4.3,4.4000000000000004,4.4000000000000004,4.2,4,3.6,3.2,2.9,2.6,2.4,2.2000000000000002]
["3月",4.3,4.0999999999999996,4,3.8,3.7,3.6,3.5,3.7,4.5,5.5,6.2,6.7,6.9,7.1,7.2,7.1,7,6.7,6.4,6.1,5.6,5.2,4.9000000000000004,4.5999999999999996]

{"sheet":"松江","index":39,"n_rows":16,"n_cols":25,"rows_kept":16,"cut":false,"hidden":true,"merged":[]}
["気象データ"]
[{"$f":"RIGHT(CELL(\"filename\",A2),LEN(CELL(\"filename\",A2))-FIND(\"]\",CELL(\"filename\",A2)))","v":"松江"}]
["時刻別平均外気湿球温度"]
["時刻",0,1,2,3,4,5,6,7,8,9,10,11,12,13,14,15,16,17,18,19,20,21,22,23]
["4月",9,8.8000000000000007,8.6,8.5,8.3000000000000007,8.1999999999999993,8.1999999999999993,8.9,9.8000000000000007,10.5,11,11.4,11.5,11.7,11.6,11.4,11.2,10.8,10.6,10.3,10.1,9.9,9.6,9.4]
["5月",13.8,13.6,13.4,13.3,13.2,13.1,13.3,14.1,14.7,15.2,15.6,15.8,15.9,15.9,15.9,15.7,15.5,15.2,15,14.7,14.6,14.4,14.2,14]
["6月",18.2,18.100000000000001,17.899999999999999,17.8,17.7,17.600000000000001,17.899999999999999,18.399999999999999,18.8,19.2,19.5,19.7,19.899999999999999,20,19.899999999999999,19.8,19.600000000000001,19.3,19.100000000000001,18.899999999999999,18.8,18.7,18.600000000000001,18.5]
["7月",22.4,22.3,22.2,22.2,22,22,22.1,22.5,22.9,23.3,23.5,23.7,23.8,23.9,23.8,23.8,23.6,23.4,23.2,23,22.8,22.8,22.7,22.6]
["8月",23.3,23.2,23.1,23,22.9,22.8,22.9,23.3,23.8,24.1,24.3,24.5,24.6,24.6,24.6,24.6,24.4,24.2,24,23.8,23.7,23.6,23.5,23.4]
["9月",19.7,19.600000000000001,19.5,19.3,19.2,19.100000000000001,19.100000000000001,19.5,20.100000000000001,20.5,20.8,20.9,21,21,21,20.8,20.7,20.5,20.3,20.2,20.100000000000001,20,19.899999999999999,19.7]
["10月",14.2,14,13.8,13.7,13.6,13.4,13.3,13.6,14.4,15.2,15.7,15.9,16,15.9,15.9,15.8,15.6,15.3,15.1,14.9,14.7,14.5,14.3,14.2]
["11月",9,8.9,8.6999999999999993,8.6,8.5,8.4,8.3000000000000007,8.3000000000000007,9,9.8000000000000007,10.5,10.9,11.1,11.1,11.1,10.9,10.7,10.4,10.199999999999999,9.9,9.6,9.4,9.1999999999999993,9]
["12月",4.5,4.4000000000000004,4.3,4.2,4.0999999999999996,4.0999999999999996,3.9,3.9,4.2,4.9000000000000004,5.5,6,6.3,6.4,6.3,6.2,5.9,5.6,5.4,5.2,5,4.8,4.5999999999999996,4.5]
["1月",2.2000000000000002,2.2000000000000002,2.1,2,1.9,1.9,1.8,1.8,1.9,2.6,3.3,3.7,3.9,4.0999999999999996,4,3.9,3.7,3.4,3.2,3,2.8,2.6,2.5,2.2999999999999998]
["2月",2.4,2.2000000000000002,2.1,2,1.9,1.8,1.8,1.7,2.2000000000000002,3,3.7,4.2,4.5,4.5999999999999996,4.5999999999999996,4.5,4.3,4,3.7,3.5,3.2,3,2.8,2.7]
["3月",4.8,4.5999999999999996,4.5,4.3,4.2,4.0999999999999996,4,4.2,5.0999999999999996,6,6.6,7,7.3,7.4,7.4,7.2,7,6.7,6.4,6.1,5.9,5.6,5.3,5.0999999999999996]

{"sheet":"岡山","index":40,"n_rows":16,"n_cols":25,"rows_kept":16,"cut":false,"hidden":true,"merged":[]}
["気象データ"]
[{"$f":"RIGHT(CELL(\"filename\",A2),LEN(CELL(\"filename\",A2))-FIND(\"]\",CELL(\"filename\",A2)))","v":"岡山"}]
["時刻別平均外気湿球温度"]
["時刻",0,1,2,3,4,5,6,7,8,9,10,11,12,13,14,15,16,17,18,19,20,21,22,23]
["4月",9.5,9.1999999999999993,9,8.6999999999999993,8.5,8.3000000000000007,8.1999999999999993,8.5,9.1999999999999993,10.199999999999999,10.8,11.2,11.5,11.7,11.8,11.8,11.7,11.5,11.2,10.9,10.7,10.4,10.1,9.9]
["5月",14.3,14.1,13.9,13.7,13.5,13.4,13.4,13.8,14.5,15.1,15.6,15.8,16,16.2,16.2,16.2,16.100000000000001,15.8,15.6,15.4,15.2,15,14.8,14.6]
["6月",18.7,18.600000000000001,18.399999999999999,18.3,18.2,18.100000000000001,18.100000000000001,18.5,18.899999999999999,19.3,19.600000000000001,19.8,20,20,20.100000000000001,20,19.899999999999999,19.8,19.7,19.600000000000001,19.399999999999999,19.3,19.2,19]
["7月",22.9,22.8,22.7,22.6,22.5,22.4,22.5,22.7,23.1,23.4,23.6,23.8,23.9,24,24,24,23.9,23.8,23.7,23.5,23.4,23.3,23.2,23.1]
["8月",23.6,23.5,23.4,23.3,23.2,23.1,23.1,23.3,23.7,24,24.2,24.4,24.5,24.5,24.5,24.4,24.3,24.2,24.1,24.1,24,23.9,23.8,23.7]
["9月",20,19.899999999999999,19.8,19.7,19.5,19.399999999999999,19.3,19.399999999999999,19.899999999999999,20.399999999999999,20.7,20.9,20.9,21,21,21,21,20.9,20.8,20.6,20.5,20.3,20.2,20]
["10月",14.5,14.3,14.1,13.9,13.7,13.6,13.4,13.4,14,14.8,15.4,15.7,15.9,15.8,15.9,16,15.9,15.8,15.6,15.4,15.2,14.9,14.7,14.5]
["11月",8.9,8.6999999999999993,8.5,8.3000000000000007,8.1,8,7.8,7.7,8.1999999999999993,9.1,10,10.6,10.9,10.9,11,11,10.9,10.7,10.4,10.1,9.8000000000000007,9.5,9.3000000000000007,9]
["12月",4,3.8,3.6,3.4,3.2,3,2.9,2.8,3,4,5,5.7,6.1,6.2,6.2,6.3,6.1,5.8,5.5,5.2,4.9000000000000004,4.5999999999999996,4.3,4.0999999999999996]
["1月",1.7,1.5,1.3,1.1000000000000001,0.9,0.8,0.7,0.6,0.8,1.8,2.8,3.6,4,4.0999999999999996,4.2,4.2,4.0999999999999996,3.8,3.4,3.1,2.8,2.5,2.2000000000000002,1.9]
["2月",2.2000000000000002,1.9,1.7,1.5,1.3,1.2,1,1,1.4,2.4,3.4,4.0999999999999996,4.5,4.7,4.8,4.9000000000000004,4.8,4.5,4.0999999999999996,3.8,3.5,3.2,2.8,2.5]
["3月",5,4.8,4.5,4.3,4.0999999999999996,3.9,3.7,3.8,4.4000000000000004,5.4,6.3,6.9,7.2,7.4,7.6,7.6,7.5,7.2,6.9,6.5,6.2,5.9,5.7,5.4]

{"sheet":"広島","index":41,"n_rows":16,"n_cols":25,"rows_kept":16,"cut":false,"hidden":true,"merged":[]}
["気象データ"]
[{"$f":"RIGHT(CELL(\"filename\",A2),LEN(CELL(\"filename\",A2))-FIND(\"]\",CELL(\"filename\",A2)))","v":"広島"}]
["時刻別平均外気湿球温度"]
["時刻",0,1,2,3,4,5,6,7,8,9,10,11,12,13,14,15,16,17,18,19,20,21,22,23]
["4月",9.8000000000000007,9.5,9.3000000000000007,9,8.8000000000000007,8.6,8.4,8.6,9.1999999999999993,10,10.8,11.2,11.6,11.8,12,12,11.9,11.7,11.4,11.2,11,10.8,10.6,10.3]
["5月",14.5,14.2,14,13.7,13.5,13.4,13.3,13.6,14.2,14.9,15.3,15.7,15.9,16.100000000000001,16.2,16.100000000000001,16.100000000000001,15.9,15.7,15.4,15.3,15.2,15,14.8]
["6月",18.8,18.600000000000001,18.5,18.3,18.2,18.100000000000001,18,18.3,18.7,19.100000000000001,19.399999999999999,19.7,19.899999999999999,20,20.100000000000001,20.100000000000001,20,19.8,19.7,19.600000000000001,19.5,19.399999999999999,19.3,19.2]
["7月",22.9,22.8,22.7,22.6,22.5,22.4,22.4,22.6,22.9,23.1,23.3,23.5,23.7,23.8,23.9,23.9,23.8,23.7,23.6,23.4,23.3,23.3,23.2,23.1]
["8月",23.7,23.5,23.4,23.3,23.2,23,23,23.1,23.4,23.7,24,24.1,24.2,24.4,24.4,24.4,24.2,24.3,24.1,24.1,24,23.9,23.8,23.7]
["9月",20,19.8,19.7,19.600000000000001,19.399999999999999,19.3,19.100000000000001,19.2,19.5,20,20.399999999999999,20.7,20.8,20.9,20.9,20.9,20.9,20.9,20.7,20.6,20.5,20.399999999999999,20.2,20]
["10月",14.4,14.2,14,13.8,13.6,13.5,13.3,13.3,13.7,14.3,15.1,15.5,15.8,15.9,16,15.9,15.9,15.8,15.6,15.4,15.2,14.9,14.7,14.5]
["11月",9.1999999999999993,8.9,8.6999999999999993,8.5,8.4,8.1999999999999993,8.1,8,8.3000000000000007,8.9,9.8000000000000007,10.4,10.8,11,11.1,11.1,11,10.8,10.6,10.3,10,9.6999999999999993,9.5,9.1999999999999993]
["12月",4.4000000000000004,4.2,4,3.8,3.7,3.5,3.4,3.4,3.5,4,4.8,5.6,6.1,6.3,6.5,6.4,6.2,6,5.7,5.5,5.2,5,4.7,4.5]
["1月",2.2000000000000002,2,1.8,1.7,1.5,1.4,1.3,1.3,1.4,2,2.7,3.5,4.0999999999999996,4.3,4.4000000000000004,4.4000000000000004,4.2,3.9,3.7,3.4,3.2,2.9,2.7,2.4]
["2月",2.7,2.5,2.2999999999999998,2.2000000000000002,2,1.8,1.7,1.7,1.9,2.6,3.4,4.2,4.5999999999999996,4.9000000000000004,5.0999999999999996,5.0999999999999996,5,4.7,4.4000000000000004,4.2,3.9,3.7,3.4,3.1]
["3月",5.6,5.3,5,4.8,4.5999999999999996,4.4000000000000004,4.2,4.2,4.5999999999999996,5.4,6.3,7,7.4,7.7,7.8,7.9,7.8,7.5,7.2,7,6.8,6.5,6.2,5.9]

{"sheet":"山口","index":42,"n_rows":16,"n_cols":25,"rows_kept":16,"cut":false,"hidden":true,"merged":[]}
["気象データ"]
[{"$f":"RIGHT(CELL(\"filename\",A2),LEN(CELL(\"filename\",A2))-FIND(\"]\",CELL(\"filename\",A2)))","v":"山口"}]
["時刻別平均外気湿球温度"]
["時刻",0,1,2,3,4,5,6,7,8,9,10,11,12,13,14,15,16,17,18,19,20,21,22,23]
["4月",9.4,9.1999999999999993,8.9,8.6999999999999993,8.5,8.3000000000000007,8.1999999999999993,8.6,9.5,10.6,11.4,11.9,12.2,12.4,12.4,12.3,12.1,11.8,11.4,11,10.8,10.5,10.199999999999999,9.9]
["5月",14,13.8,13.6,13.4,13.2,13,13.1,13.6,14.4,15.3,15.8,16.100000000000001,16.399999999999999,16.5,16.399999999999999,16.3,16.100000000000001,15.8,15.5,15.2,15,14.7,14.5,14.3]
["6月",18.5,18.399999999999999,18.2,18.100000000000001,18,17.899999999999999,18,18.3,18.899999999999999,19.399999999999999,19.7,20,20.3,20.399999999999999,20.399999999999999,20.399999999999999,20.2,20,19.8,19.5,19.3,19.100000000000001,19,18.8]
["7月",22.6,22.5,22.4,22.3,22.2,22.1,22.1,22.4,22.9,23.3,23.6,23.8,23.9,24.1,24.1,24.1,24,23.8,23.6,23.4,23.2,23,22.9,22.8]
["8月",23.3,23.2,23.1,23,22.9,22.8,22.7,23,23.5,23.9,24.2,24.4,24.6,24.7,24.7,24.6,24.4,24.3,24.1,23.9,23.8,23.6,23.5,23.4]
["9月",19.8,19.600000000000001,19.5,19.3,19.2,19.100000000000001,18.899999999999999,19.2,19.7,20.3,20.7,20.9,21,21.2,21.3,21.3,21.2,21,20.7,20.5,20.3,20.2,20,19.8]
["10月",14.1,13.8,13.6,13.4,13.2,13,12.9,12.9,13.7,14.6,15.4,15.9,16.100000000000001,16.2,16.3,16.2,16.100000000000001,15.8,15.5,15.3,15,14.7,14.4,14.1]
["11月",8.6999999999999993,8.4,8.1999999999999993,8,7.9,7.7,7.6,7.5,8.1,9.1,10.3,11.1,11.4,11.5,11.5,11.5,11.3,11,10.6,10.199999999999999,9.8000000000000007,9.4,9.1,8.8000000000000007]
["12月",3.9,3.6,3.5,3.2,3.1,2.9,2.8,2.7,2.9,3.8,4.9000000000000004,5.9,6.5,6.7,6.7,6.6,6.4,6,5.6,5.2,4.8,4.5,4.2,4]
["1月",1.7,1.5,1.3,1.2,1.1000000000000001,1,0.9,0.9,1,1.8,2.9,3.9,4.4000000000000004,4.5,4.7,4.5999999999999996,4.4000000000000004,4,3.6,3.2,2.8,2.5,2.2000000000000002,1.9]
["2月",2.4,2.2000000000000002,2,1.8,1.6,1.5,1.4,1.3,1.7,2.6,3.7,4.5999999999999996,5.0999999999999996,5.3,5.4,5.4,5.2,4.9000000000000004,4.5,4.0999999999999996,3.7,3.4,3.1,2.8]
["3月",5.3,5,4.8,4.5,4.3,4.2,4,4,4.8,5.9,7,7.7,8,8.1999999999999993,8.1999999999999993,8.1999999999999993,8,7.7,7.3,6.9,6.6,6.3,5.9,5.7]

{"sheet":"徳島","index":43,"n_rows":16,"n_cols":25,"rows_kept":16,"cut":false,"hidden":true,"merged":[]}
["気象データ"]
[{"$f":"RIGHT(CELL(\"filename\",A2),LEN(CELL(\"filename\",A2))-FIND(\"]\",CELL(\"filename\",A2)))","v":"徳島"}]
["時刻別平均外気湿球温度"]
["時刻",0,1,2,3,4,5,6,7,8,9,10,11,12,13,14,15,16,17,18,19,20,21,22,23]
["4月",10.3,10.1,9.8000000000000007,9.6,9.4,9.1999999999999993,9.1,9.5,10.1,10.8,11.3,11.7,12,12.2,12.3,12.3,12.2,12.1,11.9,11.7,11.5,11.3,11,10.7]
["5月",15,14.8,14.5,14.3,14.1,14,14,14.5,15,15.6,16,16.3,16.5,16.600000000000001,16.600000000000001,16.5,16.5,16.3,16.2,16,15.9,15.8,15.6,15.4]
["6月",19.2,19,18.899999999999999,18.7,18.600000000000001,18.5,18.600000000000001,18.899999999999999,19.3,19.7,19.899999999999999,20.100000000000001,20.3,20.3,20.3,20.3,20.2,20.2,20.100000000000001,19.899999999999999,19.8,19.8,19.7,19.5]
["7月",23.2,23.1,22.9,22.8,22.7,22.5,22.6,22.8,23.1,23.6,23.9,24.1,24.2,24.3,24.2,24.2,24.1,24,23.9,23.7,23.7,23.6,23.5,23.4]
["8月",23.8,23.7,23.6,23.4,23.3,23.1,23.1,23.4,23.7,24.2,24.6,24.8,24.9,25,24.9,24.8,24.6,24.6,24.4,24.3,24.2,24.2,24.1,23.9]
["9月",20.6,20.5,20.399999999999999,20.3,20.100000000000001,20,20,20.100000000000001,20.5,20.9,21.3,21.5,21.6,21.6,21.6,21.5,21.4,21.2,21.1,21.1,21,20.9,20.7,20.6]
["10月",15.3,15.1,15,14.8,14.7,14.6,14.5,14.6,15.1,15.6,16.100000000000001,16.399999999999999,16.600000000000001,16.7,16.7,16.600000000000001,16.399999999999999,16.2,16.100000000000001,16,15.8,15.6,15.4,15.2]
["11月",9.9,9.8000000000000007,9.6,9.4,9.3000000000000007,9.1999999999999993,9.1,9.1,9.5,10.199999999999999,10.8,11.3,11.6,11.8,11.8,11.7,11.5,11.3,11.1,10.9,10.7,10.4,10.199999999999999,10]
["12月",5,4.8,4.7,4.5999999999999996,4.5,4.4000000000000004,4.3,4.3,4.5,5.2,5.9,6.4,6.7,6.9,6.9,6.8,6.6,6.4,6.1,5.9,5.6,5.3,5.2,4.9000000000000004]
["1月",2.6,2.4,2.2999999999999998,2.2000000000000002,2.1,2.1,2,1.9,2.2000000000000002,2.8,3.5,4,4.4000000000000004,4.5999999999999996,4.7,4.7,4.5,4.2,3.9,3.7,3.5,3.2,3,2.8]
["2月",3,2.8,2.7,2.5,2.4,2.2999999999999998,2.2000000000000002,2.2000000000000002,2.6,3.4,4,4.5,4.9000000000000004,5.0999999999999996,5.3,5.3,5.0999999999999996,4.8,4.5,4.3,4.0999999999999996,3.8,3.5,3.3]
["3月",5.9,5.7,5.5,5.3,5.0999999999999996,5,4.9000000000000004,5,5.6,6.3,6.9,7.4,7.7,7.9,8,8.1,7.9,7.7,7.5,7.3,7,6.8,6.5,6.2]

{"sheet":"高松","index":44,"n_rows":16,"n_cols":25,"rows_kept":16,"cut":false,"hidden":true,"merged":[]}
["気象データ"]
[{"$f":"RIGHT(CELL(\"filename\",A2),LEN(CELL(\"filename\",A2))-FIND(\"]\",CELL(\"filename\",A2)))","v":"高松"}]
["時刻別平均外気湿球温度"]
["時刻",0,1,2,3,4,5,6,7,8,9,10,11,12,13,14,15,16,17,18,19,20,21,22,23]
["4月",9.8000000000000007,9.5,9.3000000000000007,9.1,8.9,8.6999999999999993,8.6999999999999993,9.1999999999999993,10.1,10.7,11.1,11.4,11.6,11.6,11.8,11.8,11.8,11.6,11.3,11.1,10.8,10.6,10.4,10.1]
["5月",14.5,14.3,14.1,14,13.8,13.6,13.8,14.4,15,15.5,15.8,16,16,16.100000000000001,16.100000000000001,16.100000000000001,16.100000000000001,15.9,15.7,15.5,15.3,15.2,15,14.8]
["6月",19,18.8,18.7,18.600000000000001,18.5,18.399999999999999,18.5,18.899999999999999,19.2,19.5,19.8,19.899999999999999,20.100000000000001,20.100000000000001,20.100000000000001,20,20,20,19.899999999999999,19.7,19.600000000000001,19.5,19.399999999999999,19.3]
["7月",23.1,22.9,22.8,22.8,22.7,22.6,22.7,23,23.3,23.6,23.8,23.9,24,24,24,24,24,23.9,23.7,23.6,23.5,23.4,23.4,23.3]
["8月",23.8,23.7,23.6,23.4,23.4,23.2,23.2,23.6,24,24.3,24.5,24.7,24.7,24.7,24.5,24.4,24.4,24.3,24.2,24.2,24.1,24.1,24,23.9]
["9月",20.5,20.3,20.2,20.100000000000001,20,19.899999999999999,19.899999999999999,20.2,20.7,21.1,21.3,21.4,21.4,21.4,21.4,21.3,21.2,21.1,21,20.9,20.9,20.8,20.6,20.5]
["10月",14.9,14.8,14.6,14.5,14.4,14.3,14.2,14.4,15.1,15.9,16.2,16.399999999999999,16.5,16.5,16.399999999999999,16.3,16.100000000000001,16,15.8,15.7,15.6,15.3,15.1,14.9]
["11月",9.5,9.3000000000000007,9.1,8.9,8.8000000000000007,8.6999999999999993,8.6,8.6,9.3000000000000007,10.3,11.1,11.4,11.6,11.6,11.6,11.5,11.3,11,10.8,10.5,10.3,10,9.8000000000000007,9.5]
["12月",4.5999999999999996,4.4000000000000004,4.3,4.2,4.0999999999999996,3.9,3.8,3.8,4.2,5.2,6.1,6.5,6.7,6.8,6.8,6.7,6.4,6.1,5.8,5.5,5.3,5.0999999999999996,4.8,4.5999999999999996]
["1月",2.2999999999999998,2.1,2,1.9,1.8,1.7,1.6,1.6,1.9,2.8,3.6,4.0999999999999996,4.3,4.5,4.5,4.4000000000000004,4.3,4,3.7,3.4,3.1,2.9,2.7,2.5]
["2月",2.6,2.4,2.2999999999999998,2.1,2,1.9,1.8,1.7,2.2999999999999998,3.3,4,4.5,4.8,4.9000000000000004,5,5,4.9000000000000004,4.5999999999999996,4.2,3.9,3.7,3.4,3.2,2.9]
["3月",5.4,5.2,5,4.8,4.5999999999999996,4.5,4.4000000000000004,4.5,5.4,6.2,6.8,7.1,7.4,7.6,7.7,7.7,7.6,7.4,7,6.7,6.5,6.2,5.9,5.7]

{"sheet":"松山","index":45,"n_rows":16,"n_cols":25,"rows_kept":16,"cut":false,"hidden":true,"merged":[]}
["気象データ"]
[{"$f":"RIGHT(CELL(\"filename\",A2),LEN(CELL(\"filename\",A2))-FIND(\"]\",CELL(\"filename\",A2)))","v":"松山"}]
["時刻別平均外気湿球温度"]
["時刻",0,1,2,3,4,5,6,7,8,9,10,11,12,13,14,15,16,17,18,19,20,21,22,23]
["4月",9.9,9.6,9.5,9.3000000000000007,9.1,9,9,9.4,10.3,11,11.5,11.8,12,12.1,12.1,12.1,12,11.8,11.5,11.3,11.1,10.8,10.5,10.3]
["5月",14.1,13.9,13.8,13.7,13.5,13.4,13.5,14.1,14.9,15.4,15.8,16.100000000000001,16.2,16.2,16.2,16.2,15.9,15.8,15.6,15.4,15.3,15,14.7,14.4]
["6月",18.600000000000001,18.399999999999999,18.3,18.2,18.100000000000001,18,18.100000000000001,18.600000000000001,19.100000000000001,19.5,19.8,20,20.100000000000001,20.2,20.2,20.100000000000001,20,19.899999999999999,19.7,19.600000000000001,19.5,19.3,19.100000000000001,18.899999999999999]
["7月",22.6,22.5,22.3,22.2,22.1,22,22.1,22.4,22.9,23.2,23.5,23.6,23.7,23.8,23.8,23.7,23.6,23.5,23.4,23.2,23.2,23.1,23,22.8]
["8月",23.2,23,22.9,22.7,22.6,22.5,22.5,22.8,23.4,23.9,24.2,24.3,24.5,24.5,24.5,24.4,24.3,24.1,24,23.9,23.8,23.7,23.5,23.3]
["9月",20,19.899999999999999,19.8,19.7,19.600000000000001,19.5,19.399999999999999,19.7,20.3,20.8,21.1,21.3,21.5,21.6,21.5,21.5,21.3,21.2,21,20.9,20.7,20.399999999999999,20.2,20]
["10月",14.7,14.5,14.4,14.3,14.2,14.1,14,14.2,14.9,15.7,16.100000000000001,16.399999999999999,16.5,16.7,16.7,16.600000000000001,16.399999999999999,16.2,16,15.7,15.3,15,14.8,14.6]
["11月",9.6,9.4,9.3000000000000007,9.1999999999999993,9.1,9.1,9,9,9.6,10.5,11.2,11.5,11.7,11.8,11.9,11.8,11.6,11.4,11,10.7,10.3,10,9.8000000000000007,9.6]
["12月",4.9000000000000004,4.8,4.7,4.5,4.5,4.4000000000000004,4.3,4.2,4.5,5.4,6.2,6.5,6.8,6.9,7,6.9,6.7,6.5,6.1,5.8,5.5,5.2,5,4.9000000000000004]
["1月",2.6,2.5,2.2999999999999998,2.2999999999999998,2.2000000000000002,2.1,2,2,2.2000000000000002,3,3.9,4.3,4.5999999999999996,4.8,4.9000000000000004,4.8,4.7,4.4000000000000004,4.0999999999999996,3.7,3.4,3.1,2.9,2.7]
["2月",3.1,2.9,2.8,2.7,2.6,2.5,2.4,2.2999999999999998,2.8,3.7,4.5,4.9000000000000004,5.2,5.4,5.5,5.5,5.4,5.0999999999999996,4.9000000000000004,4.5,4.0999999999999996,3.8,3.6,3.4]
["3月",5.8,5.6,5.5,5.3,5.2,5.0999999999999996,5,5.0999999999999996,5.8,6.7,7.3,7.7,8,8.1,8.1999999999999993,8.1,8,7.8,7.5,7.3,6.9,6.6,6.3,6]

{"sheet":"高知","index":46,"n_rows":16,"n_cols":25,"rows_kept":16,"cut":false,"hidden":true,"merged":[]}
["気象データ"]
[{"$f":"RIGHT(CELL(\"filename\",A2),LEN(CELL(\"filename\",A2))-FIND(\"]\",CELL(\"filename\",A2)))","v":"高知"}]
["時刻別平均外気湿球温度"]
["時刻",0,1,2,3,4,5,6,7,8,9,10,11,12,13,14,15,16,17,18,19,20,21,22,23]
["4月",11,10.7,10.5,10.199999999999999,10,9.8000000000000007,9.6999999999999993,10.1,10.9,11.6,12.2,12.7,13,13.2,13.4,13.4,13.4,13.2,13,12.7,12.4,12.1,11.8,11.5]
["5月",15.6,15.4,15.1,14.8,14.6,14.4,14.4,14.9,15.6,16.2,16.600000000000001,16.899999999999999,17.2,17.3,17.5,17.5,17.5,17.5,17.3,17.100000000000001,16.899999999999999,16.7,16.399999999999999,16.100000000000001]
["6月",19.7,19.5,19.3,19.100000000000001,19,18.8,18.899999999999999,19.3,19.7,20.2,20.5,20.7,20.8,20.9,21,21.1,21,20.9,20.9,20.8,20.7,20.5,20.399999999999999,20.2]
["7月",23.6,23.4,23.3,23.1,22.9,22.8,22.8,23.1,23.6,23.9,24.2,24.3,24.4,24.5,24.6,24.6,24.6,24.5,24.4,24.3,24.3,24.2,24.1,23.9]
["8月",24.2,24,23.8,23.6,23.4,23.3,23.2,23.5,23.9,24.3,24.6,24.7,24.9,25,25.1,25.1,25,25,24.9,24.8,24.8,24.7,24.5,24.3]
["9月",21,20.8,20.6,20.5,20.3,20.2,20.100000000000001,20.3,20.8,21.3,21.6,21.8,22,22.1,22.2,22.2,22.1,22,21.9,21.8,21.6,21.4,21.2,21]
["10月",15.5,15.3,15.1,14.9,14.8,14.6,14.4,14.6,15.3,16,16.5,16.8,17,17.2,17.2,17.2,17.100000000000001,16.899999999999999,16.7,16.5,16.3,16,15.8,15.6]
["11月",10.1,9.9,9.6999999999999993,9.5,9.3000000000000007,9.1999999999999993,9,9,9.6999999999999993,10.6,11.4,12,12.3,12.4,12.5,12.5,12.3,12,11.6,11.3,11,10.7,10.5,10.199999999999999]
["12月",4.9000000000000004,4.5999999999999996,4.4000000000000004,4.2,4,3.9,3.7,3.6,4.0999999999999996,5.2,6.3,7,7.4,7.6,7.7,7.6,7.4,7,6.5,6.2,5.8,5.5,5.2,4.9000000000000004]
["1月",2.6,2.4,2.1,1.9,1.8,1.6,1.5,1.4,1.8,2.9,4,4.8,5.2,5.6,5.8,5.7,5.5,5.0999999999999996,4.5999999999999996,4.0999999999999996,3.8,3.5,3.2,2.9]
["2月",3.6,3.4,3.2,3,2.8,2.6,2.5,2.4,3,4.0999999999999996,5,5.6,6.1,6.5,6.7,6.7,6.5,6.2,5.7,5.3,5,4.5999999999999996,4.3,4]
["3月",6.8,6.5,6.3,6.1,5.8,5.7,5.5,5.6,6.4,7.2,7.9,8.5,8.9,9.1999999999999993,9.3000000000000007,9.4,9.3000000000000007,9.1,8.8000000000000007,8.4,8.1,7.8,7.5,7.1]

{"sheet":"福岡","index":47,"n_rows":16,"n_cols":25,"rows_kept":16,"cut":false,"hidden":true,"merged":[]}
["気象データ"]
[{"$f":"RIGHT(CELL(\"filename\",A2),LEN(CELL(\"filename\",A2))-FIND(\"]\",CELL(\"filename\",A2)))","v":"福岡"}]
["時刻別平均外気湿球温度"]
["時刻",0,1,2,3,4,5,6,7,8,9,10,11,12,13,14,15,16,17,18,19,20,21,22,23]
["4月",10.9,10.7,10.5,10.4,10.199999999999999,10.1,10,10.3,10.9,11.5,12,12.4,12.6,12.8,12.9,12.8,12.6,12.4,12.1,11.9,11.8,11.6,11.4,11.2]
["5月",15.2,15,14.8,14.7,14.5,14.4,14.5,14.8,15.4,15.9,16.2,16.5,16.8,16.899999999999999,17,16.899999999999999,16.7,16.600000000000001,16.3,16.100000000000001,15.9,15.8,15.6,15.4]
["6月",19.399999999999999,19.3,19.2,19.100000000000001,19,18.899999999999999,18.899999999999999,19.2,19.600000000000001,19.899999999999999,20.2,20.5,20.7,20.8,20.8,20.8,20.6,20.5,20.3,20.100000000000001,20,19.899999999999999,19.8,19.7]
["7月",23.3,23.2,23.1,23,22.9,22.9,22.9,23.1,23.4,23.6,23.9,24.1,24.3,24.4,24.5,24.4,24.3,24.2,24,23.9,23.7,23.6,23.5,23.5]
["8月",23.9,23.8,23.7,23.6,23.5,23.4,23.4,23.6,23.9,24.2,24.4,24.7,24.9,25,25.1,25.1,25,24.8,24.7,24.5,24.4,24.3,24.2,24]
["9月",20.7,20.5,20.399999999999999,20.3,20.2,20.100000000000001,20,20.2,20.6,21,21.3,21.5,21.8,21.9,22,21.9,21.8,21.6,21.4,21.2,21.1,21,20.8,20.7]
["10月",15.3,15.2,15,14.9,14.8,14.7,14.6,14.6,15.2,15.7,16.100000000000001,16.399999999999999,16.7,16.899999999999999,16.899999999999999,16.899999999999999,16.7,16.5,16.2,16.100000000000001,15.9,15.7,15.5,15.3]
["11月",10.3,10.1,10,9.9,9.8000000000000007,9.6999999999999993,9.6,9.6,9.9,10.6,11.2,11.6,11.8,11.9,12,11.9,11.7,11.5,11.3,11.1,10.9,10.7,10.5,10.3]
["12月",5.5,5.4,5.3,5.0999999999999996,5,4.9000000000000004,4.9000000000000004,4.9000000000000004,5,5.5,6.1,6.6,6.8,7,7,7,6.8,6.6,6.4,6.2,6.1,5.9,5.7,5.5]
["1月",3.5,3.4,3.3,3.2,3.1,3.1,3,3,3.1,3.5,4.0999999999999996,4.5999999999999996,4.9000000000000004,5,5.0999999999999996,5.0999999999999996,5,4.7,4.5,4.4000000000000004,4.2,4,3.9,3.7]
["2月",4.3,4.0999999999999996,4,3.9,3.8,3.7,3.6,3.6,3.8,4.3,4.9000000000000004,5.4,5.7,5.9,6.1,6,5.9,5.6,5.4,5.2,5,4.8,4.7,4.5]
["3月",7,6.8,6.6,6.4,6.3,6.2,6.1,6.2,6.6,7.3,7.9,8.3000000000000007,8.6,8.8000000000000007,8.9,8.9,8.6999999999999993,8.5,8.1999999999999993,8,7.8,7.6,7.4,7.2]

{"sheet":"佐賀","index":48,"n_rows":16,"n_cols":25,"rows_kept":16,"cut":false,"hidden":true,"merged":[]}
["気象データ"]
[{"$f":"RIGHT(CELL(\"filename\",A2),LEN(CELL(\"filename\",A2))-FIND(\"]\",CELL(\"filename\",A2)))","v":"佐賀"}]
["時刻別平均外気湿球温度"]
["時刻",0,1,2,3,4,5,6,7,8,9,10,11,12,13,14,15,16,17,18,19,20,21,22,23]
["4月",10.5,10.3,10,9.9,9.6999999999999993,9.5,9.5,9.8000000000000007,10.6,11.4,12,12.4,12.7,12.9,13,13,12.8,12.7,12.4,12.1,11.8,11.5,11.3,11]
["5月",15,14.8,14.6,14.4,14.2,14.1,14.1,14.6,15.4,15.9,16.3,16.600000000000001,16.8,17,17,17,16.899999999999999,16.7,16.5,16.3,16,15.8,15.5,15.3]
["6月",19.399999999999999,19.3,19.2,19,18.899999999999999,18.8,18.899999999999999,19.2,19.600000000000001,20,20.3,20.5,20.6,20.7,20.8,20.7,20.7,20.7,20.6,20.399999999999999,20.2,20.100000000000001,19.899999999999999,19.8]
["7月",23.4,23.3,23.2,23.1,23,22.9,22.9,23.2,23.5,23.8,24.1,24.2,24.4,24.4,24.5,24.4,24.4,24.4,24.3,24.1,23.9,23.8,23.7,23.6]
["8月",23.8,23.7,23.5,23.4,23.3,23.2,23.2,23.5,23.9,24.3,24.6,24.7,24.8,24.9,24.9,24.8,24.8,24.8,24.6,24.4,24.3,24.2,24,23.9]
["9月",20.3,20.100000000000001,20,19.899999999999999,19.7,19.600000000000001,19.600000000000001,19.8,20.399999999999999,20.9,21.3,21.5,21.6,21.7,21.7,21.7,21.6,21.5,21.2,21,20.8,20.6,20.5,20.3]
["10月",14.8,14.6,14.4,14.2,14.1,14,13.9,13.9,14.6,15.5,16.100000000000001,16.399999999999999,16.5,16.600000000000001,16.600000000000001,16.600000000000001,16.399999999999999,16.3,16.100000000000001,15.8,15.5,15.3,15.1,14.8]
["11月",9.6999999999999993,9.5,9.3000000000000007,9.1,9,8.9,8.8000000000000007,8.6999999999999993,9.1999999999999993,10.1,10.9,11.4,11.7,11.9,11.9,11.9,11.7,11.5,11.2,10.9,10.6,10.3,10,9.6999999999999993]
["12月",4.8,4.5999999999999996,4.4000000000000004,4.2,4.0999999999999996,4,3.9,3.8,4,4.8,5.6,6.3,6.7,6.9,7,7,6.8,6.5,6.3,6,5.6,5.3,5.0999999999999996,4.8]
["1月",2.7,2.5,2.4,2.2999999999999998,2.2000000000000002,2.1,2,1.9,2.1,2.8,3.6,4.3,4.8,5.0999999999999996,5.2,5.2,5.0999999999999996,4.8,4.4000000000000004,4.0999999999999996,3.8,3.5,3.2,3]
["2月",3.6,3.4,3.2,3.1,2.9,2.8,2.8,2.7,3,3.8,4.5999999999999996,5.3,5.7,6,6.1,6.2,6.1,5.8,5.4,5.0999999999999996,4.8,4.5,4.2,4]
["3月",6.5,6.3,6.1,5.9,5.7,5.5,5.4,5.5,6.1,7,7.7,8.1999999999999993,8.6,8.8000000000000007,9,9,8.9,8.6,8.3000000000000007,8,7.8,7.4,7.2,6.9]

{"sheet":"長崎","index":49,"n_rows":16,"n_cols":25,"rows_kept":16,"cut":false,"hidden":true,"merged":[]}
["気象データ"]
[{"$f":"RIGHT(CELL(\"filename\",A2),LEN(CELL(\"filename\",A2))-FIND(\"]\",CELL(\"filename\",A2)))","v":"長崎"}]
["時刻別平均外気湿球温度"]
["時刻",0,1,2,3,4,5,6,7,8,9,10,11,12,13,14,15,16,17,18,19,20,21,22,23]
["4月",11.4,11.3,11.1,11,10.9,10.8,10.7,11,11.5,12.1,12.4,12.7,13,13.2,13.3,13.2,13.1,13,12.7,12.4,12.3,12.1,11.9,11.7]
["5月",15.7,15.5,15.4,15.3,15.2,15.1,15.1,15.4,16,16.399999999999999,16.7,16.899999999999999,17.100000000000001,17.3,17.399999999999999,17.3,17.2,17,16.8,16.600000000000001,16.399999999999999,16.3,16.100000000000001,15.9]
["6月",19.899999999999999,19.8,19.7,19.600000000000001,19.5,19.5,19.5,19.7,20.100000000000001,20.3,20.5,20.8,20.9,21,21.1,21,21,20.9,20.8,20.6,20.5,20.399999999999999,20.3,20.2]
["7月",23.8,23.7,23.7,23.6,23.6,23.5,23.5,23.7,23.9,24.2,24.3,24.4,24.6,24.7,24.7,24.8,24.7,24.6,24.4,24.3,24.1,24.1,24,23.9]
["8月",24.3,24.2,24.2,24.1,24,24,24,24.2,24.4,24.6,24.8,25,25.1,25.2,25.3,25.3,25.2,25.1,24.9,24.7,24.7,24.5,24.5,24.4]
["9月",21,20.9,20.8,20.7,20.6,20.5,20.399999999999999,20.6,20.9,21.3,21.5,21.7,21.8,22,22,22.1,22,21.9,21.7,21.5,21.3,21.2,21.1,21]
["10月",15.7,15.5,15.4,15.3,15.2,15.1,15,15.1,15.5,16.100000000000001,16.5,16.7,16.8,17,17.100000000000001,17.100000000000001,17,16.8,16.600000000000001,16.399999999999999,16.2,16,15.8,15.7]
["11月",10.8,10.7,10.6,10.5,10.5,10.4,10.4,10.3,10.7,11.3,11.8,12.1,12.3,12.4,12.4,12.4,12.3,12.1,11.7,11.5,11.3,11.1,10.9,10.8]
["12月",6.1,6,5.9,5.8,5.7,5.7,5.6,5.6,5.7,6.2,6.9,7.2,7.4,7.6,7.6,7.6,7.5,7.2,6.9,6.7,6.4,6.3,6.1,6]
["1月",3.9,3.8,3.8,3.8,3.7,3.6,3.6,3.6,3.7,4.0999999999999996,4.8,5.2,5.4,5.6,5.7,5.7,5.5,5.3,5,4.7,4.5,4.4000000000000004,4.2,4.0999999999999996]
["2月",4.7,4.5999999999999996,4.5,4.4000000000000004,4.3,4.3,4.2,4.2,4.4000000000000004,5,5.6,5.9,6.2,6.4,6.5,6.6,6.5,6.3,5.9,5.7,5.5,5.3,5.0999999999999996,4.9000000000000004]
["3月",7.4,7.3,7.2,7.1,7,6.9,6.8,6.8,7.3,7.9,8.4,8.8000000000000007,9,9.1999999999999993,9.3000000000000007,9.3000000000000007,9.1999999999999993,9,8.6999999999999993,8.5,8.1999999999999993,8.1,7.9,7.7]

{"sheet":"熊本","index":50,"n_rows":16,"n_cols":25,"rows_kept":16,"cut":false,"hidden":true,"merged":[]}
["気象データ"]
[{"$f":"RIGHT(CELL(\"filename\",A2),LEN(CELL(\"filename\",A2))-FIND(\"]\",CELL(\"filename\",A2)))","v":"熊本"}]
["時刻別平均外気湿球温度"]
["時刻",0,1,2,3,4,5,6,7,8,9,10,11,12,13,14,15,16,17,18,19,20,21,22,23]
["4月",11.2,10.9,10.7,10.4,10.199999999999999,10,9.8000000000000007,10.199999999999999,11,11.8,12.4,12.8,13.2,13.3,13.4,13.4,13.3,13.1,12.8,12.5,12.3,12.1,11.9,11.6]
["5月",15.7,15.5,15.3,15.1,14.8,14.7,14.6,15.1,15.8,16.3,16.7,17,17.2,17.399999999999999,17.399999999999999,17.399999999999999,17.3,17.100000000000001,17,16.7,16.5,16.3,16.100000000000001,15.9]
["6月",19.899999999999999,19.8,19.7,19.5,19.399999999999999,19.3,19.3,19.600000000000001,20,20.3,20.6,20.8,21,21.1,21.2,21,21,20.9,20.8,20.6,20.5,20.399999999999999,20.3,20.2]
["7月",23.6,23.5,23.4,23.3,23.2,23.1,23.1,23.3,23.7,24,24.2,24.4,24.6,24.6,24.6,24.6,24.5,24.4,24.4,24.2,24.1,24,23.8,23.8]
["8月",24,23.8,23.7,23.5,23.4,23.3,23.3,23.5,23.9,24.3,24.5,24.7,24.8,24.9,24.9,24.9,24.8,24.6,24.6,24.4,24.3,24.2,24.1,24]
["9月",20.7,20.6,20.399999999999999,20.3,20.100000000000001,20,19.899999999999999,20.100000000000001,20.6,21.1,21.5,21.7,21.8,22,22,22,21.9,21.8,21.5,21.3,21.1,21,20.8,20.7]
["10月",15.2,15,14.8,14.6,14.4,14.3,14.1,14.2,14.9,15.8,16.3,16.7,16.899999999999999,17.100000000000001,17.2,17.2,17,16.8,16.399999999999999,16.100000000000001,15.9,15.6,15.4,15.2]
["11月",10,9.6999999999999993,9.5,9.3000000000000007,9.1,8.9,8.8000000000000007,8.6999999999999993,9.3000000000000007,10.3,11.2,11.8,12.1,12.3,12.5,12.4,12.3,12,11.6,11.3,10.9,10.7,10.4,10.1]
["12月",4.8,4.5999999999999996,4.4000000000000004,4.0999999999999996,3.9,3.7,3.6,3.5,3.8,4.7,5.8,6.6,7,7.3,7.4,7.4,7.3,6.9,6.5,6.1,5.8,5.5,5.2,4.9000000000000004]
["1月",2.9,2.6,2.4,2.2000000000000002,2,1.9,1.7,1.6,1.8,2.8,3.8,4.5999999999999996,5,5.3,5.5,5.6,5.5,5.2,4.7,4.4000000000000004,4,3.7,3.5,3.2]
["2月",4,3.7,3.5,3.2,3,2.9,2.7,2.6,3.1,4,5,5.6,6.1,6.4,6.7,6.7,6.6,6.3,5.9,5.5,5.2,4.9000000000000004,4.5999999999999996,4.3]
["3月",7,6.8,6.5,6.2,6,5.8,5.6,5.6,6.4,7.4,8.1999999999999993,8.6999999999999993,9.1,9.4,9.5,9.5,9.3000000000000007,9.1,8.8000000000000007,8.4,8.1,7.9,7.6,7.3]

{"sheet":"大分","index":51,"n_rows":16,"n_cols":25,"rows_kept":16,"cut":false,"hidden":true,"merged":[]}
["気象データ"]
[{"$f":"RIGHT(CELL(\"filename\",A2),LEN(CELL(\"filename\",A2))-FIND(\"]\",CELL(\"filename\",A2)))","v":"大分"}]
["時刻別平均外気湿球温度"]
["時刻",0,1,2,3,4,5,6,7,8,9,10,11,12,13,14,15,16,17,18,19,20,21,22,23]
["4月",10.4,10.1,9.8000000000000007,9.6,9.4,9.1999999999999993,9.1,9.5,10.3,11.1,11.6,12,12.3,12.5,12.6,12.5,12.4,12.2,11.9,11.7,11.5,11.3,11.1,10.8]
["5月",14.8,14.6,14.4,14.2,13.9,13.7,13.8,14.2,15,15.6,16,16.3,16.5,16.5,16.600000000000001,16.600000000000001,16.5,16.3,16.100000000000001,15.8,15.7,15.5,15.3,15.1]
["6月",19.100000000000001,19,18.8,18.7,18.5,18.399999999999999,18.399999999999999,18.8,19.2,19.600000000000001,19.899999999999999,20.100000000000001,20.3,20.399999999999999,20.399999999999999,20.399999999999999,20.3,20.100000000000001,20,19.8,19.7,19.600000000000001,19.600000000000001,19.399999999999999]
["7月",23,22.9,22.8,22.7,22.5,22.4,22.4,22.7,23.1,23.5,23.7,24,24.1,24.2,24.2,24.2,24.1,23.9,23.8,23.6,23.5,23.4,23.3,23.3]
["8月",23.7,23.5,23.3,23.2,23.1,22.9,22.9,23.1,23.6,24.2,24.5,24.6,24.8,24.8,24.9,24.7,24.7,24.5,24.4,24.2,24.1,24.1,23.9,23.8]
["9月",20.399999999999999,20.2,20.100000000000001,20,19.899999999999999,19.8,19.7,19.899999999999999,20.3,20.9,21.2,21.5,21.6,21.7,21.6,21.6,21.5,21.3,21.2,21.1,21,20.9,20.7,20.5]
["10月",15.1,14.9,14.7,14.6,14.4,14.3,14.2,14.3,14.9,15.7,16.3,16.600000000000001,16.8,16.899999999999999,16.899999999999999,16.899999999999999,16.7,16.5,16.399999999999999,16.3,16,15.7,15.4,15.1]
["11月",9.9,9.6999999999999993,9.5,9.3000000000000007,9.1999999999999993,9.1,9,9,9.5,10.4,11.3,11.8,12,12.2,12.3,12.3,12.1,11.8,11.5,11.3,11,10.6,10.3,10]
["12月",4.9000000000000004,4.7,4.5,4.4000000000000004,4.2,4.0999999999999996,4,4,4.2,5.0999999999999996,6.1,6.7,7.1,7.3,7.4,7.4,7.2,6.8,6.5,6.2,5.8,5.5,5.2,4.9000000000000004]
["1月",2.8,2.6,2.4,2.2999999999999998,2.2000000000000002,2.1,2,2,2.2000000000000002,3,4,4.7,5,5.2,5.4,5.4,5.2,4.9000000000000004,4.5,4.3,3.9,3.6,3.3,3]
["2月",3.5,3.3,3.2,3,2.9,2.7,2.7,2.6,3,3.8,4.7,5.3,5.6,5.9,6.1,6.1,5.9,5.7,5.3,5.0999999999999996,4.8,4.5,4.2,3.9]
["3月",6.4,6.2,5.9,5.7,5.5,5.3,5.2,5.2,5.9,6.8,7.5,8,8.3000000000000007,8.5,8.6999999999999993,8.6,8.5,8.3000000000000007,8,7.7,7.5,7.3,7,6.7]

{"sheet":"宮崎","index":52,"n_rows":16,"n_cols":25,"rows_kept":16,"cut":false,"hidden":true,"merged":[]}
["気象データ"]
[{"$f":"RIGHT(CELL(\"filename\",A2),LEN(CELL(\"filename\",A2))-FIND(\"]\",CELL(\"filename\",A2)))","v":"宮崎"}]
["時刻別平均外気湿球温度"]
["時刻",0,1,2,3,4,5,6,7,8,9,10,11,12,13,14,15,16,17,18,19,20,21,22,23]
["4月",12.4,12.1,11.9,11.6,11.4,11.2,11.1,11.4,12.2,13,13.5,13.9,14.2,14.3,14.4,14.5,14.4,14.3,14,13.8,13.6,13.4,13.1,12.8]
["5月",16.600000000000001,16.3,16.100000000000001,15.9,15.7,15.6,15.5,16,16.7,17.3,17.600000000000001,17.899999999999999,18.100000000000001,18.100000000000001,18.2,18.2,18.2,18,17.8,17.7,17.5,17.399999999999999,17.2,16.899999999999999]
["6月",20.399999999999999,20.2,20.100000000000001,20,19.8,19.7,19.7,20.100000000000001,20.5,21,21.2,21.4,21.5,21.5,21.5,21.5,21.5,21.5,21.4,21.2,21.1,21,20.9,20.7]
["7月",23.8,23.7,23.6,23.5,23.3,23.2,23.3,23.5,23.9,24.3,24.5,24.7,24.9,24.9,24.9,25,24.8,24.7,24.7,24.5,24.3,24.3,24.1,24]
["8月",24.5,24.3,24.2,24.1,23.9,23.8,23.7,24,24.5,24.9,25.1,25.2,25.3,25.4,25.5,25.4,25.4,25.3,25.2,25,25,24.9,24.7,24.6]
["9月",21.8,21.6,21.5,21.3,21.2,21,20.9,21.1,21.6,22.1,22.4,22.6,22.7,22.8,22.9,22.9,22.8,22.7,22.5,22.4,22.3,22.2,22,21.8]
["10月",16.600000000000001,16.399999999999999,16.2,16,15.8,15.7,15.5,15.6,16.3,17.100000000000001,17.600000000000001,17.899999999999999,18.100000000000001,18.2,18.3,18.3,18.2,18,17.8,17.600000000000001,17.399999999999999,17.100000000000001,16.899999999999999,16.600000000000001]
["11月",11.3,11.1,10.9,10.7,10.5,10.4,10.199999999999999,10.199999999999999,10.7,11.8,12.7,13.2,13.6,13.7,13.8,13.8,13.7,13.4,13.1,12.8,12.4,12.1,11.7,11.5]
["12月",6,5.8,5.6,5.4,5.2,5.0999999999999996,4.9000000000000004,4.8,5.2,6.2,7.4,8.1,8.5,8.8000000000000007,9,9,8.8000000000000007,8.4,7.9,7.5,7.1,6.7,6.4,6.1]
["1月",4,3.8,3.5,3.4,3.2,3.1,3,2.9,3.2,4.2,5.3,6.1,6.6,6.9,7.1,7.1,7,6.7,6.2,5.7,5.2,4.9000000000000004,4.5999999999999996,4.3]
["2月",5.3,5.0999999999999996,4.9000000000000004,4.7,4.5,4.4000000000000004,4.2,4.0999999999999996,4.5,5.6,6.5,7.2,7.6,7.9,8.1,8.1999999999999993,8.1,7.9,7.5,7.1,6.7,6.3,6,5.7]
["3月",8.3000000000000007,8,7.8,7.6,7.4,7.2,7.1,7.1,7.8,8.6999999999999993,9.4,9.9,10.3,10.5,10.7,10.8,10.7,10.5,10.199999999999999,9.9,9.6,9.3000000000000007,8.9,8.6]

{"sheet":"鹿児島","index":53,"n_rows":16,"n_cols":25,"rows_kept":16,"cut":false,"hidden":true,"merged":[]}
["気象データ"]
[{"$f":"RIGHT(CELL(\"filename\",A2),LEN(CELL(\"filename\",A2))-FIND(\"]\",CELL(\"filename\",A2)))","v":"鹿児島"}]
["時刻別平均外気湿球温度"]
["時刻",0,1,2,3,4,5,6,7,8,9,10,11,12,13,14,15,16,17,18,19,20,21,22,23]
["4月",12.8,12.5,12.4,12.2,12,11.9,11.8,12.1,12.8,13.4,13.8,14,14.3,14.4,14.6,14.6,14.5,14.3,14.1,13.8,13.6,13.5,13.3,13.1]
["5月",16.899999999999999,16.7,16.600000000000001,16.399999999999999,16.3,16.2,16.100000000000001,16.5,17.100000000000001,17.5,17.7,17.899999999999999,18.100000000000001,18.2,18.3,18.3,18.3,18.100000000000001,17.899999999999999,17.600000000000001,17.399999999999999,17.3,17.2,17.100000000000001]
["6月",20.8,20.7,20.6,20.5,20.399999999999999,20.399999999999999,20.399999999999999,20.6,20.9,21.2,21.4,21.5,21.6,21.7,21.8,21.8,21.8,21.7,21.5,21.4,21.2,21.2,21.1,21.1]
["7月",24.3,24.2,24.2,24.1,24,23.9,23.9,24.2,24.4,24.6,24.8,25,25.1,25.2,25.2,25.2,25.1,25,24.8,24.7,24.6,24.5,24.4,24.4]
["8月",24.7,24.7,24.6,24.5,24.4,24.3,24.3,24.5,24.8,25,25.2,25.3,25.4,25.5,25.5,25.5,25.5,25.4,25.2,25.1,25,24.9,24.8,24.8]
["9月",22.1,22,21.8,21.7,21.6,21.6,21.5,21.6,22.1,22.4,22.7,22.8,22.9,23,23.1,23,23,22.9,22.7,22.5,22.4,22.3,22.2,22.1]
["10月",17.100000000000001,16.899999999999999,16.7,16.600000000000001,16.5,16.399999999999999,16.3,16.399999999999999,17,17.600000000000001,17.899999999999999,18.2,18.399999999999999,18.399999999999999,18.5,18.399999999999999,18.3,18.2,18,17.8,17.600000000000001,17.399999999999999,17.2,17.100000000000001]
["11月",12.2,12,11.8,11.7,11.6,11.5,11.4,11.4,11.9,12.9,13.4,13.7,13.9,14,14,14,13.8,13.6,13.4,13.1,12.9,12.6,12.4,12.2]
["12月",7.2,6.9,6.8,6.7,6.6,6.5,6.4,6.3,6.6,7.5,8.4,8.8000000000000007,9.1,9.3000000000000007,9.4,9.3000000000000007,9.1,8.6999999999999993,8.4,8.1999999999999993,7.9,7.6,7.4,7.1]
["1月",5,4.9000000000000004,4.7,4.5999999999999996,4.5,4.4000000000000004,4.4000000000000004,4.4000000000000004,4.5,5.4,6.3,6.8,7.1,7.4,7.5,7.5,7.3,7,6.7,6.3,6,5.8,5.5,5.3]
["2月",6.2,6,5.8,5.7,5.5,5.4,5.4,5.4,5.7,6.6,7.3,7.8,8.1,8.3000000000000007,8.5,8.5,8.4,8.1,7.7,7.4,7.2,6.9,6.7,6.5]
["3月",8.9,8.6999999999999993,8.5,8.3000000000000007,8.1999999999999993,8.1,8,8,8.6,9.4,9.9,10.3,10.6,10.8,11,11,10.9,10.6,10.3,10,9.8000000000000007,9.6,9.4,9.1999999999999993]

{"sheet":"那覇","index":54,"n_rows":16,"n_cols":25,"rows_kept":16,"cut":false,"hidden":true,"merged":[]}
["気象データ"]
[{"$f":"RIGHT(CELL(\"filename\",A2),LEN(CELL(\"filename\",A2))-FIND(\"]\",CELL(\"filename\",A2)))","v":"那覇"}]
["時刻別平均外気湿球温度"]
["時刻",0,1,2,3,4,5,6,7,8,9,10,11,12,13,14,15,16,17,18,19,20,21,22,23]
["4月",18,18,17.899999999999999,17.899999999999999,17.899999999999999,17.8,17.8,18,18.3,18.5,18.7,18.8,18.899999999999999,19,18.899999999999999,18.899999999999999,18.8,18.600000000000001,18.5,18.3,18.2,18.2,18.2,18.2]
["5月",21.2,21.1,21.1,21.1,21.1,21,21,21.3,21.5,21.7,21.8,21.9,22,22,22,21.9,21.8,21.6,21.5,21.4,21.3,21.3,21.3,21.3]
["6月",24.5,24.5,24.4,24.4,24.4,24.4,24.4,24.6,24.8,24.9,25.1,25.1,25.2,25.2,25.2,25.2,25,24.9,24.8,24.7,24.6,24.7,24.6,24.6]
["7月",25.6,25.6,25.6,25.5,25.5,25.5,25.4,25.6,25.8,25.9,26,26.1,26.1,26.2,26.1,26.1,26,25.9,25.8,25.7,25.7,25.7,25.7,25.7]
["8月",25.6,25.5,25.5,25.4,25.4,25.3,25.3,25.5,25.7,25.8,25.9,26,26,26.1,26,26,25.9,25.8,25.7,25.6,25.6,25.6,25.6,25.6]
["9月",24.3,24.2,24.2,24.1,24.1,24.1,24,24.2,24.4,24.6,24.7,24.7,24.8,24.8,24.8,24.7,24.6,24.5,24.4,24.3,24.3,24.3,24.3,24.2]
["10月",21.5,21.4,21.4,21.3,21.3,21.3,21.2,21.3,21.6,21.8,21.9,22.1,22.1,22.1,22.1,22,21.9,21.8,21.7,21.6,21.6,21.6,21.5,21.5]
["11月",18.399999999999999,18.3,18.3,18.2,18.2,18.100000000000001,18.100000000000001,18.2,18.399999999999999,18.7,18.899999999999999,19,19.100000000000001,19.100000000000001,19.100000000000001,19,18.899999999999999,18.7,18.600000000000001,18.5,18.5,18.399999999999999,18.399999999999999,18.3]
["12月",14.9,14.8,14.8,14.7,14.7,14.7,14.6,14.6,14.8,15.2,15.4,15.6,15.6,15.7,15.7,15.6,15.5,15.3,15.2,15.1,15,14.9,14.9,14.8]
["1月",13.2,13.2,13.2,13.1,13.1,13,13,13,13.2,13.6,13.8,14,14.1,14.1,14.1,14.1,14,13.8,13.7,13.6,13.5,13.4,13.4,13.3]
["2月",13.8,13.8,13.8,13.7,13.7,13.6,13.6,13.6,13.8,14.2,14.5,14.6,14.7,14.8,14.8,14.8,14.7,14.5,14.3,14.2,14.2,14.1,14,14]
["3月",15.4,15.3,15.3,15.3,15.2,15.1,15.1,15.2,15.5,15.8,16,16.2,16.3,16.3,16.3,16.3,16.2,16,15.9,15.7,15.6,15.6,15.5,15.5]