{"text_format":"1","workbook":"xlsx","n_sheets":51,"sheets":["必ずこのシートから始めてください","検証場所","管理","都道府県庁所在地等一覧表","札幌","青森","盛岡","仙台","秋田","山形","福島","水戸","宇都宮","前橋","熊谷","千葉","東京","横浜","新潟","富山","金沢","福井","甲府","長野","岐阜","静岡","名古屋","津","彦根","京都","大阪","神戸","奈良","和歌山","鳥取","松江","岡山","広島","山口","徳島","高松","松山","高知","福岡","佐賀","長崎","熊本","大分","宮崎","鹿児島","那覇"],"not_rendered":{"charts":0,"images":0,"macros":1,"external_links":0,"defined_names":4,"comments":0,"pivot_tables":0},"unopened":[],"bounds":{"document_bytes":16777216,"sheet_cells":100000,"rows_first":2000,"rows_last":500,"rows_between":2000,"halvings":0,"cell_chars":16384,"cell_head_chars":4096},"cells_cut":0,"cells_raw":0,"read":"whole","date_system":"1900"}

{"sheet":"必ずこのシートから始めてください","index":0,"n_rows":18,"n_cols":13,"rows_kept":18,"cut":false,"hidden":false,"merged":[[11,3,11,12],[16,4,16,12],[17,4,17,12],[2,12,3,13],[15,4,15,13],[15,3,16,3],[4,2,5,13],[7,11,8,12],[9,11,10,12],[7,10,8,10],[9,10,10,10],[7,3,8,9],[9,3,10,9],[2,3,3,11],[12,7,13,8]]}
[]
[]
[null,null,null,"空調年間活動量算定ツール(遠心冷凍機版)",null,null,null,null,null,null,null,null,"Ver.1.0"]
[]
[null,null,"電気式水冷遠心冷凍機の年間電力使用量の算定"]
[]
[]
[null,null,null,"電気式水冷遠心冷凍機を設置する都道府県を選択",null,null,null,null,null,null,"選択"]
[]
[null,null,null,"選択した都道府県庁所在地等\n（埼玉県は熊谷市、滋賀県は彦根市よりデータ取得）",null,null,null,null,null,null,"自動表示",{"$f":"IF($L$8=\"\",\"\",VLOOKUP($L$8,都道府県庁所在地等一覧表!$C$3:$D$50,2,FALSE))","v":""}]
[]
[null,null,null,"検証場所セルを押下するとシートが開く"]
[null,null,null,null,null,null,null,"検証場所"]
[]
[]
[null,null,null,"注意事項","● 本ツールは環境省SHIFT事業で年間活動量(電力使用量)を算出するために開発。他の目的に利用することは想定されていません。"]
[null,null,null,null,"● あらゆる入力に対して正しい計算結果が得られることを保証するものではありません。"]
[null,null,null,null,"    計算結果の取り扱いについては、自己責任でお願いします。"]

{"sheet":"検証場所","index":1,"n_rows":153,"n_cols":68,"rows_kept":153,"cut":false,"hidden":false,"merged":[[98,3,98,26],[114,3,114,26],[9,3,9,26],[2,2,2,3],[3,2,3,3],[24,3,25,4],[57,3,57,4],[57,5,57,6],[57,7,57,8],[78,3,78,4],[78,5,78,6],[78,7,78,8],[27,3,34,3],[41,3,48,3]]}
[]
[null,null,"遠心冷凍機の設置場所"]
[null,null,{"$f":"IF(必ずこのシートから始めてください!$L$8=\"\",\"\",必ずこのシートから始めてください!$L$8)","v":""},null,null,"手順1：空調を行う月、時間を下記の指定の色で塗る(指定の色以外で塗ると計算できません。)"]
[null,null,{"$f":"VLOOKUP($C$3,都道府県庁所在地等一覧表!$C$3:$D$50,2,FALSE)","v":{"$error":"#N/A"}},null,null,null,"冷却","青","【左から5列目、一番薄い色(アクセント1,白＋基本色80％)】"]
[]
[null,null,null,null,null,"手順2：各月の運転日数を入力する"]
[null,null,null,null,null,"手順3：Ctrl + Alt + F9を同時に押す",null,null,null,null,null,null,null,null,null,null,null,"●時刻別平均外気湿球温度表記載の数値は、選択された都道府県の県庁所在地等の月別、時刻別平均外気湿球温度"]
[null,null,null,null,null,"手順4：黄色のセルに値を入力する(緑は自動計算)",null,null,null,null,null,null,null,null,null,null,null,"●本データは気象庁発表の1992年4月1日から2022年3月31日までの30年の1時間データを整理したもの"]
[null,null,"時刻別平均外気湿球温度[℃]",null,null,null,null,null,null,null,null,null,null,null,null,null,null,"●2月はうるう日を含みます"]
[null,null,null," 時刻",null,null,null,null,null,null,null,null,null,null,null,null,null,null,null,null,null,null,null,null,null,null,null,{"$f":"SUM(AB12:AB23)","v":0},{"$f":"必ずこのシートから始めてください!M3","v":"Ver.1.0"}]
[null,null,"月",0,1,2,3,4,5,6,7,8,9,10,11,12,13,14,15,16,17,18,19,20,21,22,23,"運転日数","月"]
[null,null,4,{"$f":"IFERROR(INDIRECT($C$4&\"!B5\"),\"\")","v":""},{"$f":"IFERROR(INDIRECT($C$4&\"!C5\"),\"\")","v":""},{"$f":"IFERROR(INDIRECT($C$4&\"!D5\"),\"\")","v":""},{"$f":"IFERROR(INDIRECT($C$4&\"!E5\"),\"\")","v":""},{"$f":"IFERROR(INDIRECT($C$4&\"!F5\"),\"\")","v":""},{"$f":"IFERROR(INDIRECT($C$4&\"!G5\"),\"\")","v":""},{"$f":"IFERROR(INDIRECT($C$4&\"!H5\"),\"\")","v":""},{"$f":"IFERROR(INDIRECT($C$4&\"!I5\"),\"\")","v":""},{"$f":"IFERROR(INDIRECT($C$4&\"!J5\"),\"\")","v":""},{"$f":"IFERROR(INDIRECT($C$4&\"!K5\"),\"\")","v":""},{"$f":"IFERROR(INDIRECT($C$4&\"!L5\"),\"\")","v":""},{"$f":"IFERROR(INDIRECT($C$4&\"!M5\"),\"\")","v":""},{"$f":"IFERROR(INDIRECT($C$4&\"!N5\"),\"\")","v":""},{"$f":"IFERROR(INDIRECT($C$4&\"!O5\"),\"\")","v":""},{"$f":"IFERROR(INDIRECT($C$4&\"!P5\"),\"\")","v":""},{"$f":"IFERROR(INDIRECT($C$4&\"!Q5\"),\"\")","v":""},{"$f":"IFERROR(INDIRECT($C$4&\"!R5\"),\"\")","v":""},{"$f":"IFERROR(INDIRECT($C$4&\"!S5\"),\"\")","v":""},{"$f":"IFERROR(INDIRECT($C$4&\"!T5\"),\"\")","v":""},{"$f":"IFERROR(INDIRECT($C$4&\"!U5\"),\"\")","v":""},{"$f":"IFERROR(INDIRECT($C$4&\"!V5\"),\"\")","v":""},{"$f":"IFERROR(INDIRECT($C$4&\"!W5\"),\"\")","v":""},{"$f":"IFERROR(INDIRECT($C$4&\"!X5\"),\"\")","v":""},{"$f":"IFERROR(INDIRECT($C$4&\"!Y5\"),\"\")","v":""},null,4]
[null,null,5,{"$f":"IFERROR(INDIRECT($C$4&\"!B6\"),\"\")","v":""},{"$f":"IFERROR(INDIRECT($C$4&\"!C6\"),\"\")","v":""},{"$f":"IFERROR(INDIRECT($C$4&\"!D6\"),\"\")","v":""},{"$f":"IFERROR(INDIRECT($C$4&\"!E6\"),\"\")","v":""},{"$f":"IFERROR(INDIRECT($C$4&\"!F6\"),\"\")","v":""},{"$f":"IFERROR(INDIRECT($C$4&\"!G6\"),\"\")","v":""},{"$f":"IFERROR(INDIRECT($C$4&\"!H6\"),\"\")","v":""},{"$f":"IFERROR(INDIRECT($C$4&\"!I6\"),\"\")","v":""},{"$f":"IFERROR(INDIRECT($C$4&\"!J6\"),\"\")","v":""},{"$f":"IFERROR(INDIRECT($C$4&\"!K6\"),\"\")","v":""},{"$f":"IFERROR(INDIRECT($C$4&\"!L6\"),\"\")","v":""},{"$f":"IFERROR(INDIRECT($C$4&\"!M6\"),\"\")","v":""},{"$f":"IFERROR(INDIRECT($C$4&\"!N6\"),\"\")","v":""},{"$f":"IFERROR(INDIRECT($C$4&\"!O6\"),\"\")","v":""},{"$f":"IFERROR(INDIRECT($C$4&\"!P6\"),\"\")","v":""},{"$f":"IFERROR(INDIRECT($C$4&\"!Q6\"),\"\")","v":""},{"$f":"IFERROR(INDIRECT($C$4&\"!R6\"),\"\")","v":""},{"$f":"IFERROR(INDIRECT($C$4&\"!S6\"),\"\")","v":""},{"$f":"IFERROR(INDIRECT($C$4&\"!T6\"),\"\")","v":""},{"$f":"IFERROR(INDIRECT($C$4&\"!U6\"),\"\")","v":""},{"$f":"IFERROR(INDIRECT($C$4&\"!V6\"),\"\")","v":""},{"$f":"IFERROR(INDIRECT($C$4&\"!W6\"),\"\")","v":""},{"$f":"IFERROR(INDIRECT($C$4&\"!X6\"),\"\")","v":""},{"$f":"IFERROR(INDIRECT($C$4&\"!Y6\"),\"\")","v":""},null,5]
[null,null,6,{"$f":"IFERROR(INDIRECT($C$4&\"!B7\"),\"\")","v":""},{"$f":"IFERROR(INDIRECT($C$4&\"!C7\"),\"\")","v":""},{"$f":"IFERROR(INDIRECT($C$4&\"!D7\"),\"\")","v":""},{"$f":"IFERROR(INDIRECT($C$4&\"!E7\"),\"\")","v":""},{"$f":"IFERROR(INDIRECT($C$4&\"!F7\"),\"\")","v":""},{"$f":"IFERROR(INDIRECT($C$4&\"!G7\"),\"\")","v":""},{"$f":"IFERROR(INDIRECT($C$4&\"!H7\"),\"\")","v":""},{"$f":"IFERROR(INDIRECT($C$4&\"!I7\"),\"\")","v":""},{"$f":"IFERROR(INDIRECT($C$4&\"!J7\"),\"\")","v":""},{"$f":"IFERROR(INDIRECT($C$4&\"!K7\"),\"\")","v":""},{"$f":"IFERROR(INDIRECT($C$4&\"!L7\"),\"\")","v":""},{"$f":"IFERROR(INDIRECT($C$4&\"!M7\"),\"\")","v":""},{"$f":"IFERROR(INDIRECT($C$4&\"!N7\"),\"\")","v":""},{"$f":"IFERROR(INDIRECT($C$4&\"!O7\"),\"\")","v":""},{"$f":"IFERROR(INDIRECT($C$4&\"!P7\"),\"\")","v":""},{"$f":"IFERROR(INDIRECT($C$4&\"!Q7\"),\"\")","v":""},{"$f":"IFERROR(INDIRECT($C$4&\"!R7\"),\"\")","v":""},{"$f":"IFERROR(INDIRECT($C$4&\"!S7\"),\"\")","v":""},{"$f":"IFERROR(INDIRECT($C$4&\"!T7\"),\"\")","v":""},{"$f":"IFERROR(INDIRECT($C$4&\"!U7\"),\"\")","v":""},{"$f":"IFERROR(INDIRECT($C$4&\"!V7\"),\"\")","v":""},{"$f":"IFERROR(INDIRECT($C$4&\"!W7\"),\"\")","v":""},{"$f":"IFERROR(INDIRECT($C$4&\"!X7\"),\"\")","v":""},{"$f":"IFERROR(INDIRECT($C$4&\"!Y7\"),\"\")","v":""},null,6]
[null,null,7,{"$f":"IFERROR(INDIRECT($C$4&\"!B8\"),\"\")","v":""},{"$f":"IFERROR(INDIRECT($C$4&\"!C8\"),\"\")","v":""},{"$f":"IFERROR(INDIRECT($C$4&\"!D8\"),\"\")","v":""},{"$f":"IFERROR(INDIRECT($C$4&\"!E8\"),\"\")","v":""},{"$f":"IFERROR(INDIRECT($C$4&\"!F8\"),\"\")","v":""},{"$f":"IFERROR(INDIRECT($C$4&\"!G8\"),\"\")","v":""},{"$f":"IFERROR(INDIRECT($C$4&\"!H8\"),\"\")","v":""},{"$f":"IFERROR(INDIRECT($C$4&\"!I8\"),\"\")","v":""},{"$f":"IFERROR(INDIRECT($C$4&\"!J8\"),\"\")","v":""},{"$f":"IFERROR(INDIRECT($C$4&\"!K8\"),\"\")","v":""},{"$f":"IFERROR(INDIRECT($C$4&\"!L8\"),\"\")","v":""},{"$f":"IFERROR(INDIRECT($C$4&\"!M8\"),\"\")","v":""},{"$f":"IFERROR(INDIRECT($C$4&\"!N8\"),\"\")","v":""},{"$f":"IFERROR(INDIRECT($C$4&\"!O8\"),\"\")","v":""},{"$f":"IFERROR(INDIRECT($C$4&\"!P8\"),\"\")","v":""},{"$f":"IFERROR(INDIRECT($C$4&\"!Q8\"),\"\")","v":""},{"$f":"IFERROR(INDIRECT($C$4&\"!R8\"),\"\")","v":""},{"$f":"IFERROR(INDIRECT($C$4&\"!S8\"),\"\")","v":""},{"$f":"IFERROR(INDIRECT($C$4&\"!T8\"),\"\")","v":""},{"$f":"IFERROR(INDIRECT($C$4&\"!U8\"),\"\")","v":""},{"$f":"IFERROR(INDIRECT($C$4&\"!V8\"),\"\")","v":""},{"$f":"IFERROR(INDIRECT($C$4&\"!W8\"),\"\")","v":""},{"$f":"IFERROR(INDIRECT($C$4&\"!X8\"),\"\")","v":""},{"$f":"IFERROR(INDIRECT($C$4&\"!Y8\"),\"\")","v":""},null,7]
[null,null,8,{"$f":"IFERROR(INDIRECT($C$4&\"!B9\"),\"\")","v":""},{"$f":"IFERROR(INDIRECT($C$4&\"!C9\"),\"\")","v":""},{"$f":"IFERROR(INDIRECT($C$4&\"!D9\"),\"\")","v":""},{"$f":"IFERROR(INDIRECT($C$4&\"!E9\"),\"\")","v":""},{"$f":"IFERROR(INDIRECT($C$4&\"!F9\"),\"\")","v":""},{"$f":"IFERROR(INDIRECT($C$4&\"!G9\"),\"\")","v":""},{"$f":"IFERROR(INDIRECT($C$4&\"!H9\"),\"\")","v":""},{"$f":"IFERROR(INDIRECT($C$4&\"!I9\"),\"\")","v":""},{"$f":"IFERROR(INDIRECT($C$4&\"!J9\"),\"\")","v":""},{"$f":"IFERROR(INDIRECT($C$4&\"!K9\"),\"\")","v":""},{"$f":"IFERROR(INDIRECT($C$4&\"!L9\"),\"\")","v":""},{"$f":"IFERROR(INDIRECT($C$4&\"!M9\"),\"\")","v":""},{"$f":"IFERROR(INDIRECT($C$4&\"!N9\"),\"\")","v":""},{"$f":"IFERROR(INDIRECT($C$4&\"!O9\"),\"\")","v":""},{"$f":"IFERROR(INDIRECT($C$4&\"!P9\"),\"\")","v":""},{"$f":"IFERROR(INDIRECT($C$4&\"!Q9\"),\"\")","v":""},{"$f":"IFERROR(INDIRECT($C$4&\"!R9\"),\"\")","v":""},{"$f":"IFERROR(INDIRECT($C$4&\"!S9\"),\"\")","v":""},{"$f":"IFERROR(INDIRECT($C$4&\"!T9\"),\"\")","v":""},{"$f":"IFERROR(INDIRECT($C$4&\"!U9\"),\"\")","v":""},{"$f":"IFERROR(INDIRECT($C$4&\"!V9\"),\"\")","v":""},{"$f":"IFERROR(INDIRECT($C$4&\"!W9\"),\"\")","v":""},{"$f":"IFERROR(INDIRECT($C$4&\"!X9\"),\"\")","v":""},{"$f":"IFERROR(INDIRECT($C$4&\"!Y9\"),\"\")","v":""},null,8]
[null,null,9,{"$f":"IFERROR(INDIRECT($C$4&\"!B10\"),\"\")","v":""},{"$f":"IFERROR(INDIRECT($C$4&\"!C10\"),\"\")","v":""},{"$f":"IFERROR(INDIRECT($C$4&\"!D10\"),\"\")","v":""},{"$f":"IFERROR(INDIRECT($C$4&\"!E10\"),\"\")","v":""},{"$f":"IFERROR(INDIRECT($C$4&\"!F10\"),\"\")","v":""},{"$f":"IFERROR(INDIRECT($C$4&\"!G10\"),\"\")","v":""},{"$f":"IFERROR(INDIRECT($C$4&\"!H10\"),\"\")","v":""},{"$f":"IFERROR(INDIRECT($C$4&\"!I10\"),\"\")","v":""},{"$f":"IFERROR(INDIRECT($C$4&\"!J10\"),\"\")","v":""},{"$f":"IFERROR(INDIRECT($C$4&\"!K10\"),\"\")","v":""},{"$f":"IFERROR(INDIRECT($C$4&\"!L10\"),\"\")","v":""},{"$f":"IFERROR(INDIRECT($C$4&\"!M10\"),\"\")","v":""},{"$f":"IFERROR(INDIRECT($C$4&\"!N10\"),\"\")","v":""},{"$f":"IFERROR(INDIRECT($C$4&\"!O10\"),\"\")","v":""},{"$f":"IFERROR(INDIRECT($C$4&\"!P10\"),\"\")","v":""},{"$f":"IFERROR(INDIRECT($C$4&\"!Q10\"),\"\")","v":""},{"$f":"IFERROR(INDIRECT($C$4&\"!R10\"),\"\")","v":""},{"$f":"IFERROR(INDIRECT($C$4&\"!S10\"),\"\")","v":""},{"$f":"IFERROR(INDIRECT($C$4&\"!T10\"),\"\")","v":""},{"$f":"IFERROR(INDIRECT($C$4&\"!U10\"),\"\")","v":""},{"$f":"IFERROR(INDIRECT($C$4&\"!V10\"),\"\")","v":""},{"$f":"IFERROR(INDIRECT($C$4&\"!W10\"),\"\")","v":""},{"$f":"IFERROR(INDIRECT($C$4&\"!X10\"),\"\")","v":""},{"$f":"IFERROR(INDIRECT($C$4&\"!Y10\"),\"\")","v":""},null,9]
[null,null,10,{"$f":"IFERROR(INDIRECT($C$4&\"!B11\"),\"\")","v":""},{"$f":"IFERROR(INDIRECT($C$4&\"!C11\"),\"\")","v":""},{"$f":"IFERROR(INDIRECT($C$4&\"!D11\"),\"\")","v":""},{"$f":"IFERROR(INDIRECT($C$4&\"!E11\"),\"\")","v":""},{"$f":"IFERROR(INDIRECT($C$4&\"!F11\"),\"\")","v":""},{"$f":"IFERROR(INDIRECT($C$4&\"!G11\"),\"\")","v":""},{"$f":"IFERROR(INDIRECT($C$4&\"!H11\"),\"\")","v":""},{"$f":"IFERROR(INDIRECT($C$4&\"!I11\"),\"\")","v":""},{"$f":"IFERROR(INDIRECT($C$4&\"!J11\"),\"\")","v":""},{"$f":"IFERROR(INDIRECT($C$4&\"!K11\"),\"\")","v":""},{"$f":"IFERROR(INDIRECT($C$4&\"!L11\"),\"\")","v":""},{"$f":"IFERROR(INDIRECT($C$4&\"!M11\"),\"\")","v":""},{"$f":"IFERROR(INDIRECT($C$4&\"!N11\"),\"\")","v":""},{"$f":"IFERROR(INDIRECT($C$4&\"!O11\"),\"\")","v":""},{"$f":"IFERROR(INDIRECT($C$4&\"!P11\"),\"\")","v":""},{"$f":"IFERROR(INDIRECT($C$4&\"!Q11\"),\"\")","v":""},{"$f":"IFERROR(INDIRECT($C$4&\"!R11\"),\"\")","v":""},{"$f":"IFERROR(INDIRECT($C$4&\"!S11\"),\"\")","v":""},{"$f":"IFERROR(INDIRECT($C$4&\"!T11\"),\"\")","v":""},{"$f":"IFERROR(INDIRECT($C$4&\"!U11\"),\"\")","v":""},{"$f":"IFERROR(INDIRECT($C$4&\"!V11\"),\"\")","v":""},{"$f":"IFERROR(INDIRECT($C$4&\"!W11\"),\"\")","v":""},{"$f":"IFERROR(INDIRECT($C$4&\"!X11\"),\"\")","v":""},{"$f":"IFERROR(INDIRECT($C$4&\"!Y11\"),\"\")","v":""},null,10]
[null,null,11,{"$f":"IFERROR(INDIRECT($C$4&\"!B12\"),\"\")","v":""},{"$f":"IFERROR(INDIRECT($C$4&\"!C12\"),\"\")","v":""},{"$f":"IFERROR(INDIRECT($C$4&\"!D12\"),\"\")","v":""},{"$f":"IFERROR(INDIRECT($C$4&\"!E12\"),\"\")","v":""},{"$f":"IFERROR(INDIRECT($C$4&\"!F12\"),\"\")","v":""},{"$f":"IFERROR(INDIRECT($C$4&\"!G12\"),\"\")","v":""},{"$f":"IFERROR(INDIRECT($C$4&\"!H12\"),\"\")","v":""},{"$f":"IFERROR(INDIRECT($C$4&\"!I12\"),\"\")","v":""},{"$f":"IFERROR(INDIRECT($C$4&\"!J12\"),\"\")","v":""},{"$f":"IFERROR(INDIRECT($C$4&\"!K12\"),\"\")","v":""},{"$f":"IFERROR(INDIRECT($C$4&\"!L12\"),\"\")","v":""},{"$f":"IFERROR(INDIRECT($C$4&\"!M12\"),\"\")","v":""},{"$f":"IFERROR(INDIRECT($C$4&\"!N12\"),\"\")","v":""},{"$f":"IFERROR(INDIRECT($C$4&\"!O12\"),\"\")","v":""},{"$f":"IFERROR(INDIRECT($C$4&\"!P12\"),\"\")","v":""},{"$f":"IFERROR(INDIRECT($C$4&\"!Q12\"),\"\")","v":""},{"$f":"IFERROR(INDIRECT($C$4&\"!R12\"),\"\")","v":""},{"$f":"IFERROR(INDIRECT($C$4&\"!S12\"),\"\")","v":""},{"$f":"IFERROR(INDIRECT($C$4&\"!T12\"),\"\")","v":""},{"$f":"IFERROR(INDIRECT($C$4&\"!U12\"),\"\")","v":""},{"$f":"IFERROR(INDIRECT($C$4&\"!V12\"),\"\")","v":""},{"$f":"IFERROR(INDIRECT($C$4&\"!W12\"),\"\")","v":""},{"$f":"IFERROR(INDIRECT($C$4&\"!X12\"),\"\")","v":""},{"$f":"IFERROR(INDIRECT($C$4&\"!Y12\"),\"\")","v":""},null,11]
[null,null,12,{"$f":"IFERROR(INDIRECT($C$4&\"!B13\"),\"\")","v":""},{"$f":"IFERROR(INDIRECT($C$4&\"!C13\"),\"\")","v":""},{"$f":"IFERROR(INDIRECT($C$4&\"!D13\"),\"\")","v":""},{"$f":"IFERROR(INDIRECT($C$4&\"!E13\"),\"\")","v":""},{"$f":"IFERROR(INDIRECT($C$4&\"!F13\"),\"\")","v":""},{"$f":"IFERROR(INDIRECT($C$4&\"!G13\"),\"\")","v":""},{"$f":"IFERROR(INDIRECT($C$4&\"!H13\"),\"\")","v":""},{"$f":"IFERROR(INDIRECT($C$4&\"!I13\"),\"\")","v":""},{"$f":"IFERROR(INDIRECT($C$4&\"!J13\"),\"\")","v":""},{"$f":"IFERROR(INDIRECT($C$4&\"!K13\"),\"\")","v":""},{"$f":"IFERROR(INDIRECT($C$4&\"!L13\"),\"\")","v":""},{"$f":"IFERROR(INDIRECT($C$4&\"!M13\"),\"\")","v":""},{"$f":"IFERROR(INDIRECT($C$4&\"!N13\"),\"\")","v":""},{"$f":"IFERROR(INDIRECT($C$4&\"!O13\"),\"\")","v":""},{"$f":"IFERROR(INDIRECT($C$4&\"!P13\"),\"\")","v":""},{"$f":"IFERROR(INDIRECT($C$4&\"!Q13\"),\"\")","v":""},{"$f":"IFERROR(INDIRECT($C$4&\"!R13\"),\"\")","v":""},{"$f":"IFERROR(INDIRECT($C$4&\"!S13\"),\"\")","v":""},{"$f":"IFERROR(INDIRECT($C$4&\"!T13\"),\"\")","v":""},{"$f":"IFERROR(INDIRECT($C$4&\"!U13\"),\"\")","v":""},{"$f":"IFERROR(INDIRECT($C$4&\"!V13\"),\"\")","v":""},{"$f":"IFERROR(INDIRECT($C$4&\"!W13\"),\"\")","v":""},{"$f":"IFERROR(INDIRECT($C$4&\"!X13\"),\"\")","v":""},{"$f":"IFERROR(INDIRECT($C$4&\"!Y13\"),\"\")","v":""},null,12]
[null,null,1,{"$f":"IFERROR(INDIRECT($C$4&\"!B14\"),\"\")","v":""},{"$f":"IFERROR(INDIRECT($C$4&\"!C14\"),\"\")","v":""},{"$f":"IFERROR(INDIRECT($C$4&\"!D14\"),\"\")","v":""},{"$f":"IFERROR(INDIRECT($C$4&\"!E14\"),\"\")","v":""},{"$f":"IFERROR(INDIRECT($C$4&\"!F14\"),\"\")","v":""},{"$f":"IFERROR(INDIRECT($C$4&\"!G14\"),\"\")","v":""},{"$f":"IFERROR(INDIRECT($C$4&\"!H14\"),\"\")","v":""},{"$f":"IFERROR(INDIRECT($C$4&\"!I14\"),\"\")","v":""},{"$f":"IFERROR(INDIRECT($C$4&\"!J14\"),\"\")","v":""},{"$f":"IFERROR(INDIRECT($C$4&\"!K14\"),\"\")","v":""},{"$f":"IFERROR(INDIRECT($C$4&\"!L14\"),\"\")","v":""},{"$f":"IFERROR(INDIRECT($C$4&\"!M14\"),\"\")","v":""},{"$f":"IFERROR(INDIRECT($C$4&\"!N14\"),\"\")","v":""},{"$f":"IFERROR(INDIRECT($C$4&\"!O14\"),\"\")","v":""},{"$f":"IFERROR(INDIRECT($C$4&\"!P14\"),\"\")","v":""},{"$f":"IFERROR(INDIRECT($C$4&\"!Q14\"),\"\")","v":""},{"$f":"IFERROR(INDIRECT($C$4&\"!R14\"),\"\")","v":""},{"$f":"IFERROR(INDIRECT($C$4&\"!S14\"),\"\")","v":""},{"$f":"IFERROR(INDIRECT($C$4&\"!T14\"),\"\")","v":""},{"$f":"IFERROR(INDIRECT($C$4&\"!U14\"),\"\")","v":""},{"$f":"IFERROR(INDIRECT($C$4&\"!V14\"),\"\")","v":""},{"$f":"IFERROR(INDIRECT($C$4&\"!W14\"),\"\")","v":""},{"$f":"IFERROR(INDIRECT($C$4&\"!X14\"),\"\")","v":""},{"$f":"IFERROR(INDIRECT($C$4&\"!Y14\"),\"\")","v":""},null,1]
[null,null,2,{"$f":"IFERROR(INDIRECT($C$4&\"!B15\"),\"\")","v":""},{"$f":"IFERROR(INDIRECT($C$4&\"!C15\"),\"\")","v":""},{"$f":"IFERROR(INDIRECT($C$4&\"!D15\"),\"\")","v":""},{"$f":"IFERROR(INDIRECT($C$4&\"!E15\"),\"\")","v":""},{"$f":"IFERROR(INDIRECT($C$4&\"!F15\"),\"\")","v":""},{"$f":"IFERROR(INDIRECT($C$4&\"!G15\"),\"\")","v":""},{"$f":"IFERROR(INDIRECT($C$4&\"!H15\"),\"\")","v":""},{"$f":"IFERROR(INDIRECT($C$4&\"!I15\"),\"\")","v":""},{"$f":"IFERROR(INDIRECT($C$4&\"!J15\"),\"\")","v":""},{"$f":"IFERROR(INDIRECT($C$4&\"!K15\"),\"\")","v":""},{"$f":"IFERROR(INDIRECT($C$4&\"!L15\"),\"\")","v":""},{"$f":"IFERROR(INDIRECT($C$4&\"!M15\"),\"\")","v":""},{"$f":"IFERROR(INDIRECT($C$4&\"!N15\"),\"\")","v":""},{"$f":"IFERROR(INDIRECT($C$4&\"!O15\"),\"\")","v":""},{"$f":"IFERROR(INDIRECT($C$4&\"!P15\"),\"\")","v":""},{"$f":"IFERROR(INDIRECT($C$4&\"!Q15\"),\"\")","v":""},{"$f":"IFERROR(INDIRECT($C$4&\"!R15\"),\"\")","v":""},{"$f":"IFERROR(INDIRECT($C$4&\"!S15\"),\"\")","v":""},{"$f":"IFERROR(INDIRECT($C$4&\"!T15\"),\"\")","v":""},{"$f":"IFERROR(INDIRECT($C$4&\"!U15\"),\"\")","v":""},{"$f":"IFERROR(INDIRECT($C$4&\"!V15\"),\"\")","v":""},{"$f":"IFERROR(INDIRECT($C$4&\"!W15\"),\"\")","v":""},{"$f":"IFERROR(INDIRECT($C$4&\"!X15\"),\"\")","v":""},{"$f":"IFERROR(INDIRECT($C$4&\"!Y15\"),\"\")","v":""},null,2]
[null,null,3,{"$f":"IFERROR(INDIRECT($C$4&\"!B16\"),\"\")","v":""},{"$f":"IFERROR(INDIRECT($C$4&\"!C16\"),\"\")","v":""},{"$f":"IFERROR(INDIRECT($C$4&\"!D16\"),\"\")","v":""},{"$f":"IFERROR(INDIRECT($C$4&\"!E16\"),\"\")","v":""},{"$f":"IFERROR(INDIRECT($C$4&\"!F16\"),\"\")","v":""},{"$f":"IFERROR(INDIRECT($C$4&\"!G16\"),\"\")","v":""},{"$f":"IFERROR(INDIRECT($C$4&\"!H16\"),\"\")","v":""},{"$f":"IFERROR(INDIRECT($C$4&\"!I16\"),\"\")","v":""},{"$f":"IFERROR(INDIRECT($C$4&\"!J16\"),\"\")","v":""},{"$f":"IFERROR(INDIRECT($C$4&\"!K16\"),\"\")","v":""},{"$f":"IFERROR(INDIRECT($C$4&\"!L16\"),\"\")","v":""},{"$f":"IFERROR(INDIRECT($C$4&\"!M16\"),\"\")","v":""},{"$f":"IFERROR(INDIRECT($C$4&\"!N16\"),\"\")","v":""},{"$f":"IFERROR(INDIRECT($C$4&\"!O16\"),\"\")","v":""},{"$f":"IFERROR(INDIRECT($C$4&\"!P16\"),\"\")","v":""},{"$f":"IFERROR(INDIRECT($C$4&\"!Q16\"),\"\")","v":""},{"$f":"IFERROR(INDIRECT($C$4&\"!R16\"),\"\")","v":""},{"$f":"IFERROR(INDIRECT($C$4&\"!S16\"),\"\")","v":""},{"$f":"IFERROR(INDIRECT($C$4&\"!T16\"),\"\")","v":""},{"$f":"IFERROR(INDIRECT($C$4&\"!U16\"),\"\")","v":""},{"$f":"IFERROR(INDIRECT($C$4&\"!V16\"),\"\")","v":""},{"$f":"IFERROR(INDIRECT($C$4&\"!W16\"),\"\")","v":""},{"$f":"IFERROR(INDIRECT($C$4&\"!X16\"),\"\")","v":""},{"$f":"IFERROR(INDIRECT($C$4&\"!Y16\"),\"\")","v":""},null,3]
[]
[null,null,null,"定格条件\n【冷却】",null,"冷却水","入口温度","32℃","冷水","入口温度","12℃"]
[null,null,null,null,null,null,"出口温度","37℃",null,"出口温度","7℃"]
[]
[null,null,null,"設備導入前",null,null,null,null,null,null,null,null,null,null,null,null,"前1","前2","前3"]
[null,null,null,null,"定格冷却能力",null,null,null,"遠心冷凍機の仕様を入力",null,null,null,null,null,null,"Φco",1410,null,null,"kW"]
[null,null,null,null,"定格冷却消費電力",null,null,null,"遠心冷凍機の仕様を入力",null,null,null,null,null,null,"Pco",240,null,null,"kW"]
[null,null,null,null,"定格冷却COP",null,null,null,"自動計算",null,null,null,null,null,null,"σco",{"$f":"IFERROR(Q29/Q30,\"\")","v":5.875},{"$f":"IFERROR(R29/R30,\"\")","v":""},{"$f":"IFERROR(S29/S30,\"\")","v":""},"σco＝Φco／Pco"]
[null,null,null,null,"冷却塔ファンモータ定格出力",null,null,null,"遠心冷凍機の仕様を入力",null,null,null,null,null,null,"Pf",22,null,null,"kW"]
[null,null,null,null,"冷却水ポンプモータ定格出力",null,null,null,"遠心冷凍機の仕様を入力",null,null,null,null,null,null,"Pp1",37,null,null,"kW"]
[null,null,null,null,"冷水ポンプモータ定格出力",null,null,null,"遠心冷凍機の仕様を入力",null,null,null,null,null,null,"Pp2",37,null,null,"kW"]
[null,null,null,null,"最大冷却負荷",null,null,null,"設計時の値を入力（不明の際は空白のまま）",null,null,null,null,null,null,"Qc",null,null,null,"kW"]
[null,null,null,null,null,null,null,null,null,null,null,null,null,null,null,null,{"$f":"IF(Q$35=\"\",0.8,IF(Q$35=0,0.8,IF(Q$29<Q$35,1,Q$35/Q$29)))","v":0.8},{"$f":"IF(R$35=\"\",0.8,IF(R$35=0,0.8,IF(R$29<R$35,1,R$35/R$29)))","v":0.8},{"$f":"IF(S$35=\"\",0.8,IF(S$35=0,0.8,IF(S$29<S$35,1,S$35/S$29)))","v":0.8}]
[]
[]
[]
[]
[]
[null,null,null,"設備導入後",null,null,null,null,null,null,null,null,null,null,null,null,"後1","後2","後3"]
[null,null,null,null,"定格冷却能力",null,null,null,"遠心冷凍機の仕様を入力",null,null,null,null,null,null,"Φco",null,null,null,"kW"]
[null,null,null,null,"定格冷却消費電力",null,null,null,"遠心冷凍機の仕様を入力",null,null,null,null,null,null,"Pco",null,null,null,"kW"]
[null,null,null,null,"定格冷却COP",null,null,null,"自動計算",null,null,null,null,null,null,"σco",{"$f":"IFERROR(Q43/Q44,\"\")","v":""},{"$f":"IFERROR(R43/R44,\"\")","v":""},{"$f":"IFERROR(S43/S44,\"\")","v":""},"σco＝Φco／Pco"]
[null,null,null,null,"冷却塔ファンモータ定格出力",null,null,null,"遠心冷凍機の仕様を入力",null,null,null,null,null,null,"Pf",null,null,null,"kW"]
[null,null,null,null,"冷却水ポンプモータ定格出力",null,null,null,"遠心冷凍機の仕様を入力",null,null,null,null,null,null,"Pp1",null,null,null,"kW"]
[null,null,null,null,"冷水ポンプモータ定格出力",null,null,null,"遠心冷凍機の仕様を入力",null,null,null,null,null,null,"Pp2",null,null,null,"kW"]
[null,null,null,null,"最大冷却負荷",null,null,null,"設計時の値を入力（不明の際は空白のまま）",null,null,null,null,null,null,"Qc",null,null,null,"kW"]
[null,null,null,null,null,null,null,null,null,null,null,null,null,null,null,null,{"$f":"IF(Q$49=\"\",0.8,IF(Q$49=0,0.8,IF(Q$43<Q$49,1,Q$49/Q$43)))","v":0.8},{"$f":"IF(R$49=\"\",0.8,IF(R$49=0,0.8,IF(R$43<R$49,1,R$49/R$43)))","v":0.8},{"$f":"IF(S$49=\"\",0.8,IF(S$49=0,0.8,IF(S$43<S$49,1,S$49/S$43)))","v":0.8}]
[]
[]
[]
[]
[]
[null,null,"設備導入前年間電力使用量[kWh]"]
[null,null,null,"遠心冷凍機(Ecc)",null,"補機(Eax)",null,"システム(Ec)"]
[null,null,null,{"$f":"IFERROR($D$74+$G$74+$J$74,\"\")","v":0},null,{"$f":"IFERROR($E$74+$H$74+$K$74,\"\")","v":0},null,{"$f":"IFERROR($F$74+$I$74+$L$74,\"\")","v":0}]
[]
[null,null,null,"前1",null,null,"前2",null,null,"前3"]
[null,null,"月    期間","Ecc","Eax","Ec","Ecc","Eax","Ec","Ecc","Eax","Ec"]
[null,null,4,{"$f":"IFERROR($AX133,\"\")","v":0},{"$f":"IFERROR($AY133,\"\")","v":0},{"$f":"IFERROR($AZ133,\"\")","v":0},{"$f":"IFERROR($BA133,\"\")","v":""},{"$f":"IFERROR($BB133,\"\")","v":0},{"$f":"IFERROR($BC133,\"\")","v":0},{"$f":"IFERROR($BD133,\"\")","v":""},{"$f":"IFERROR($BE133,\"\")","v":0},{"$f":"IFERROR($BF133,\"\")","v":0}]
[null,null,5,0,0,0,{"$f":"IFERROR($BA134,\"\")","v":""},{"$f":"IFERROR($BB134,\"\")","v":0},{"$f":"IFERROR($BC134,\"\")","v":0},{"$f":"IFERROR($BD134,\"\")","v":""},{"$f":"IFERROR($BE134,\"\")","v":0},{"$f":"IFERROR($BF134,\"\")","v":0}]
[null,null,6,0,0,0,"",0,0,"",0,0]
[null,null,7,0,0,0,"",0,0,"",0,0]
[null,null,8,0,0,0,"",0,0,"",0,0]
[null,null,9,0,0,0,"",0,0,"",0,0]
[null,null,10,0,0,0,"",0,0,"",0,0]
[null,null,11,0,0,0,"",0,0,"",0,0]
[null,null,12,0,0,0,"",0,0,"",0,0]
[null,null,1,0,0,0,"",0,0,"",0,0]
[null,null,2,0,0,0,"",0,0,"",0,0]
[null,null,3,0,0,0,"",0,0,"",0,0]
[null,null,"合計",{"$f":"SUM($D$62:$D$73)","v":0},{"$f":"SUM($E$62:$E$73)","v":0},{"$f":"SUM($F$62:$F$73)","v":0},{"$f":"SUM($G$62:$G$73)","v":0},{"$f":"SUM($H$62:$H$73)","v":0},{"$f":"SUM($I$62:$I$73)","v":0},{"$f":"SUM($J$62:$J$73)","v":0},{"$f":"SUM($K$62:$K$73)","v":0},{"$f":"SUM($L$62:$L$73)","v":0}]
[null,null,null,"",null,""]
[]
[null,null,"設備導入後年間電力使用量[kWh]"]
[null,null,null,"遠心冷凍機(Ecc)",null,"補機(Eax)",null,"システム(Ec)"]
[null,null,null,{"$f":"IFERROR($D$95+$G$95+$J$95,\"\")","v":0},null,{"$f":"IFERROR($E$95+$H$95+$K$95,\"\")","v":0},null,{"$f":"IFERROR($F$95+$I$95+$L$95,\"\")","v":0}]
[]
[null,null,null,"後1",null,null,"後2",null,null,"後3"]
[null,null,"月    期間","Ecc","Eax","Ec","Ecc","Eax","Ec","Ecc","Eax","Ec"]
[null,null,4,{"$f":"IFERROR($BH133,\"\")","v":""},{"$f":"IFERROR($BI133,\"\")","v":0},{"$f":"IFERROR($BJ133,\"\")","v":0},{"$f":"IFERROR($BK133,\"\")","v":""},{"$f":"IFERROR($BL133,\"\")","v":0},{"$f":"IFERROR($BM133,\"\")","v":0},{"$f":"IFERROR($BN133,\"\")","v":""},{"$f":"IFERROR($BO133,\"\")","v":0},{"$f":"IFERROR($BP133,\"\")","v":0}]
[null,null,5,"",0,{"$f":"IFERROR($BJ134,\"\")","v":0},{"$f":"IFERROR($BK134,\"\")","v":""},{"$f":"IFERROR($BL134,\"\")","v":0},{"$f":"IFERROR($BM134,\"\")","v":0},{"$f":"IFERROR($BN134,\"\")","v":""},{"$f":"IFERROR($BO134,\"\")","v":0},{"$f":"IFERROR($BP134,\"\")","v":0}]
[null,null,6,"",0,0,"",0,0,"",0,0]
[null,null,7,"",0,0,"",0,0,"",0,0]
[null,null,8,"",0,0,"",0,0,"",0,0]
[null,null,9,"",0,0,"",0,0,"",0,0]
[null,null,10,"",0,0,"",0,0,"",0,0]
[null,null,11,"",0,0,"",0,0,"",0,0]
[null,null,12,"",0,0,"",0,0,"",0,0]
[null,null,1,"",0,0,"",0,0,"",0,0]
[null,null,2,"",0,0,"",0,0,"",0,0]
[null,null,3,"",0,0,"",0,0,"",0,0]
[null,null,"合計",{"$f":"SUM($D$83:$D$94)","v":0},{"$f":"SUM($E$83:$E$94)","v":0},{"$f":"SUM($F$83:$F$94)","v":0},{"$f":"SUM($G$83:$G$94)","v":0},{"$f":"SUM($H$83:$H$94)","v":0},{"$f":"SUM($I$83:$I$94)","v":0},{"$f":"SUM($J$83:$J$94)","v":0},{"$f":"SUM($K$83:$K$94)","v":0},{"$f":"SUM($L$83:$L$94)","v":0}]
[null,null,null,null,""]
[]
[null,null,"作業表1(青色のセルを「24」として抽出）"]
[null,null,null," 時刻"]
[null,null,"月",0,1,2,3,4,5,6,7,8,9,10,11,12,13,14,15,16,17,18,19,20,21,22,23,"月"]
[null,null,4,{"$f":"CELLCOLOR($D$12)","v":-4142},{"$f":"CELLCOLOR($E$12)","v":-4142},{"$f":"CELLCOLOR($F$12)","v":-4142},{"$f":"CELLCOLOR($G$12)","v":-4142},{"$f":"CELLCOLOR($H$12)","v":-4142},{"$f":"CELLCOLOR($I$12)","v":-4142},{"$f":"CELLCOLOR($J$12)","v":-4142},{"$f":"CELLCOLOR($K$12)","v":-4142},{"$f":"CELLCOLOR($L$12)","v":-4142},{"$f":"CELLCOLOR($M$12)","v":-4142},{"$f":"CELLCOLOR($N$12)","v":-4142},{"$f":"CELLCOLOR($O$12)","v":-4142},{"$f":"CELLCOLOR($P$12)","v":-4142},{"$f":"CELLCOLOR($Q$12)","v":-4142},{"$f":"CELLCOLOR($R$12)","v":-4142},{"$f":"CELLCOLOR($S$12)","v":-4142},{"$f":"CELLCOLOR($T$12)","v":-4142},{"$f":"CELLCOLOR($U$12)","v":-4142},{"$f":"CELLCOLOR($V$12)","v":-4142},{"$f":"CELLCOLOR($W$12)","v":-4142},{"$f":"CELLCOLOR($X$12)","v":-4142},{"$f":"CELLCOLOR($Y$12)","v":-4142},{"$f":"CELLCOLOR($Z$12)","v":-4142},{"$f":"CELLCOLOR($AA$12)","v":-4142},4]
[null,null,5,{"$f":"CELLCOLOR($D$13)","v":-4142},{"$f":"CELLCOLOR($E$13)","v":-4142},{"$f":"CELLCOLOR($F$13)","v":-4142},{"$f":"CELLCOLOR($G$13)","v":-4142},{"$f":"CELLCOLOR($H$13)","v":-4142},{"$f":"CELLCOLOR($I$13)","v":-4142},{"$f":"CELLCOLOR($J$13)","v":-4142},{"$f":"CELLCOLOR($K$13)","v":-4142},{"$f":"CELLCOLOR($L$13)","v":-4142},{"$f":"CELLCOLOR($M$13)","v":-4142},{"$f":"CELLCOLOR($N$13)","v":-4142},{"$f":"CELLCOLOR($O$13)","v":-4142},{"$f":"CELLCOLOR($P$13)","v":-4142},{"$f":"CELLCOLOR($Q$13)","v":-4142},{"$f":"CELLCOLOR($R$13)","v":-4142},{"$f":"CELLCOLOR($S$13)","v":-4142},{"$f":"CELLCOLOR($T$13)","v":-4142},{"$f":"CELLCOLOR($U$13)","v":-4142},{"$f":"CELLCOLOR($V$13)","v":-4142},{"$f":"CELLCOLOR($W$13)","v":-4142},{"$f":"CELLCOLOR($X$13)","v":-4142},{"$f":"CELLCOLOR($Y$13)","v":-4142},{"$f":"CELLCOLOR($Z$13)","v":-4142},{"$f":"CELLCOLOR($AA$13)","v":-4142},5]
[null,null,6,{"$f":"CELLCOLOR($D$14)","v":-4142},{"$f":"CELLCOLOR($E$14)","v":-4142},{"$f":"CELLCOLOR($F$14)","v":-4142},{"$f":"CELLCOLOR($G$14)","v":-4142},{"$f":"CELLCOLOR($H$14)","v":-4142},{"$f":"CELLCOLOR($I$14)","v":-4142},{"$f":"CELLCOLOR($J$14)","v":-4142},{"$f":"CELLCOLOR($K$14)","v":-4142},{"$f":"CELLCOLOR($L$14)","v":-4142},{"$f":"CELLCOLOR($M$14)","v":-4142},{"$f":"CELLCOLOR($N$14)","v":-4142},{"$f":"CELLCOLOR($O$14)","v":-4142},{"$f":"CELLCOLOR($P$14)","v":-4142},{"$f":"CELLCOLOR($Q$14)","v":-4142},{"$f":"CELLCOLOR($R$14)","v":-4142},{"$f":"CELLCOLOR($S$14)","v":-4142},{"$f":"CELLCOLOR($T$14)","v":-4142},{"$f":"CELLCOLOR($U$14)","v":-4142},{"$f":"CELLCOLOR($V$14)","v":-4142},{"$f":"CELLCOLOR($W$14)","v":-4142},{"$f":"CELLCOLOR($X$14)","v":-4142},{"$f":"CELLCOLOR($Y$14)","v":-4142},{"$f":"CELLCOLOR($Z$14)","v":-4142},{"$f":"CELLCOLOR($AA$14)","v":-4142},6]
[null,null,7,{"$f":"CELLCOLOR($D$15)","v":-4142},{"$f":"CELLCOLOR($E$15)","v":-4142},{"$f":"CELLCOLOR($F$15)","v":-4142},{"$f":"CELLCOLOR($G$15)","v":-4142},{"$f":"CELLCOLOR($H$15)","v":-4142},{"$f":"CELLCOLOR($I$15)","v":-4142},{"$f":"CELLCOLOR($J$15)","v":-4142},{"$f":"CELLCOLOR($K$15)","v":-4142},{"$f":"CELLCOLOR($L$15)","v":-4142},{"$f":"CELLCOLOR($M$15)","v":-4142},{"$f":"CELLCOLOR($N$15)","v":-4142},{"$f":"CELLCOLOR($O$15)","v":-4142},{"$f":"CELLCOLOR($P$15)","v":-4142},{"$f":"CELLCOLOR($Q$15)","v":-4142},{"$f":"CELLCOLOR($R$15)","v":-4142},{"$f":"CELLCOLOR($S$15)","v":-4142},{"$f":"CELLCOLOR($T$15)","v":-4142},{"$f":"CELLCOLOR($U$15)","v":-4142},{"$f":"CELLCOLOR($V$15)","v":-4142},{"$f":"CELLCOLOR($W$15)","v":-4142},{"$f":"CELLCOLOR($X$15)","v":-4142},{"$f":"CELLCOLOR($Y$15)","v":-4142},{"$f":"CELLCOLOR($Z$15)","v":-4142},{"$f":"CELLCOLOR($AA$15)","v":-4142},7]
[null,null,8,{"$f":"CELLCOLOR($D$16)","v":-4142},{"$f":"CELLCOLOR($E$16)","v":-4142},{"$f":"CELLCOLOR($F$16)","v":-4142},{"$f":"CELLCOLOR($G$16)","v":-4142},{"$f":"CELLCOLOR($H$16)","v":-4142},{"$f":"CELLCOLOR($I$16)","v":-4142},{"$f":"CELLCOLOR($J$16)","v":-4142},{"$f":"CELLCOLOR($K$16)","v":-4142},{"$f":"CELLCOLOR($L$16)","v":-4142},{"$f":"CELLCOLOR($M$16)","v":-4142},{"$f":"CELLCOLOR($N$16)","v":-4142},{"$f":"CELLCOLOR($O$16)","v":-4142},{"$f":"CELLCOLOR($P$16)","v":-4142},{"$f":"CELLCOLOR($Q$16)","v":-4142},{"$f":"CELLCOLOR($R$16)","v":-4142},{"$f":"CELLCOLOR($S$16)","v":-4142},{"$f":"CELLCOLOR($T$16)","v":-4142},{"$f":"CELLCOLOR($U$16)","v":-4142},{"$f":"CELLCOLOR($V$16)","v":-4142},{"$f":"CELLCOLOR($W$16)","v":-4142},{"$f":"CELLCOLOR($X$16)","v":-4142},{"$f":"CELLCOLOR($Y$16)","v":-4142},{"$f":"CELLCOLOR($Z$16)","v":-4142},{"$f":"CELLCOLOR($AA$16)","v":-4142},8]
[null,null,9,{"$f":"CELLCOLOR($D$17)","v":-4142},{"$f":"CELLCOLOR($E$17)","v":-4142},{"$f":"CELLCOLOR($F$17)","v":-4142},{"$f":"CELLCOLOR($G$17)","v":-4142},{"$f":"CELLCOLOR($H$17)","v":-4142},{"$f":"CELLCOLOR($I$17)","v":-4142},{"$f":"CELLCOLOR($J$17)","v":-4142},{"$f":"CELLCOLOR($K$17)","v":-4142},{"$f":"CELLCOLOR($L$17)","v":-4142},{"$f":"CELLCOLOR($M$17)","v":-4142},{"$f":"CELLCOLOR($N$17)","v":-4142},{"$f":"CELLCOLOR($O$17)","v":-4142},{"$f":"CELLCOLOR($P$17)","v":-4142},{"$f":"CELLCOLOR($Q$17)","v":-4142},{"$f":"CELLCOLOR($R$17)","v":-4142},{"$f":"CELLCOLOR($S$17)","v":-4142},{"$f":"CELLCOLOR($T$17)","v":-4142},{"$f":"CELLCOLOR($U$17)","v":-4142},{"$f":"CELLCOLOR($V$17)","v":-4142},{"$f":"CELLCOLOR($W$17)","v":-4142},{"$f":"CELLCOLOR($X$17)","v":-4142},{"$f":"CELLCOLOR($Y$17)","v":-4142},{"$f":"CELLCOLOR($Z$17)","v":-4142},{"$f":"CELLCOLOR($AA$17)","v":-4142},9]
[null,null,10,{"$f":"CELLCOLOR($D$18)","v":-4142},{"$f":"CELLCOLOR($E$18)","v":-4142},{"$f":"CELLCOLOR($F$18)","v":-4142},{"$f":"CELLCOLOR($G$18)","v":-4142},{"$f":"CELLCOLOR($H$18)","v":-4142},{"$f":"CELLCOLOR($I$18)","v":-4142},{"$f":"CELLCOLOR($J$18)","v":-4142},{"$f":"CELLCOLOR($K$18)","v":-4142},{"$f":"CELLCOLOR($L$18)","v":-4142},{"$f":"CELLCOLOR($M$18)","v":-4142},{"$f":"CELLCOLOR($N$18)","v":-4142},{"$f":"CELLCOLOR($O$18)","v":-4142},{"$f":"CELLCOLOR($P$18)","v":-4142},{"$f":"CELLCOLOR($Q$18)","v":-4142},{"$f":"CELLCOLOR($R$18)","v":-4142},{"$f":"CELLCOLOR($S$18)","v":-4142},{"$f":"CELLCOLOR($T$18)","v":-4142},{"$f":"CELLCOLOR($U$18)","v":-4142},{"$f":"CELLCOLOR($V$18)","v":-4142},{"$f":"CELLCOLOR($W$18)","v":-4142},{"$f":"CELLCOLOR($X$18)","v":-4142},{"$f":"CELLCOLOR($Y$18)","v":-4142},{"$f":"CELLCOLOR($Z$18)","v":-4142},{"$f":"CELLCOLOR($AA$18)","v":-4142},10]
[null,null,11,{"$f":"CELLCOLOR($D$19)","v":-4142},{"$f":"CELLCOLOR($E$19)","v":-4142},{"$f":"CELLCOLOR($F$19)","v":-4142},{"$f":"CELLCOLOR($G$19)","v":-4142},{"$f":"CELLCOLOR($H$19)","v":-4142},{"$f":"CELLCOLOR($I$19)","v":-4142},{"$f":"CELLCOLOR($J$19)","v":-4142},{"$f":"CELLCOLOR($K$19)","v":-4142},{"$f":"CELLCOLOR($L$19)","v":-4142},{"$f":"CELLCOLOR($M$19)","v":-4142},{"$f":"CELLCOLOR($N$19)","v":-4142},{"$f":"CELLCOLOR($O$19)","v":-4142},{"$f":"CELLCOLOR($P$19)","v":-4142},{"$f":"CELLCOLOR($Q$19)","v":-4142},{"$f":"CELLCOLOR($R$19)","v":-4142},{"$f":"CELLCOLOR($S$19)","v":-4142},{"$f":"CELLCOLOR($T$19)","v":-4142},{"$f":"CELLCOLOR($U$19)","v":-4142},{"$f":"CELLCOLOR($V$19)","v":-4142},{"$f":"CELLCOLOR($W$19)","v":-4142},{"$f":"CELLCOLOR($X$19)","v":-4142},{"$f":"CELLCOLOR($Y$19)","v":-4142},{"$f":"CELLCOLOR($Z$19)","v":-4142},{"$f":"CELLCOLOR($AA$19)","v":-4142},11]
[null,null,12,{"$f":"CELLCOLOR($D$20)","v":-4142},{"$f":"CELLCOLOR($E$20)","v":-4142},{"$f":"CELLCOLOR($F$20)","v":-4142},{"$f":"CELLCOLOR($G$20)","v":-4142},{"$f":"CELLCOLOR($H$20)","v":-4142},{"$f":"CELLCOLOR($I$20)","v":-4142},{"$f":"CELLCOLOR($J$20)","v":-4142},{"$f":"CELLCOLOR($K$20)","v":-4142},{"$f":"CELLCOLOR($L$20)","v":-4142},{"$f":"CELLCOLOR($M$20)","v":-4142},{"$f":"CELLCOLOR($N$20)","v":-4142},{"$f":"CELLCOLOR($O$20)","v":-4142},{"$f":"CELLCOLOR($P$20)","v":-4142},{"$f":"CELLCOLOR($Q$20)","v":-4142},{"$f":"CELLCOLOR($R$20)","v":-4142},{"$f":"CELLCOLOR($S$20)","v":-4142},{"$f":"CELLCOLOR($T$20)","v":-4142},{"$f":"CELLCOLOR($U$20)","v":-4142},{"$f":"CELLCOLOR($V$20)","v":-4142},{"$f":"CELLCOLOR($W$20)","v":-4142},{"$f":"CELLCOLOR($X$20)","v":-4142},{"$f":"CELLCOLOR($Y$20)","v":-4142},{"$f":"CELLCOLOR($Z$20)","v":-4142},{"$f":"CELLCOLOR($AA$20)","v":-4142},12]
[null,null,1,{"$f":"CELLCOLOR($D$21)","v":-4142},{"$f":"CELLCOLOR($E$21)","v":-4142},{"$f":"CELLCOLOR($F$21)","v":-4142},{"$f":"CELLCOLOR($G$21)","v":-4142},{"$f":"CELLCOLOR($H$21)","v":-4142},{"$f":"CELLCOLOR($I$21)","v":-4142},{"$f":"CELLCOLOR($J$21)","v":-4142},{"$f":"CELLCOLOR($K$21)","v":-4142},{"$f":"CELLCOLOR($L$21)","v":-4142},{"$f":"CELLCOLOR($M$21)","v":-4142},{"$f":"CELLCOLOR($N$21)","v":-4142},{"$f":"CELLCOLOR($O$21)","v":-4142},{"$f":"CELLCOLOR($P$21)","v":-4142},{"$f":"CELLCOLOR($Q$21)","v":-4142},{"$f":"CELLCOLOR($R$21)","v":-4142},{"$f":"CELLCOLOR($S$21)","v":-4142},{"$f":"CELLCOLOR($T$21)","v":-4142},{"$f":"CELLCOLOR($U$21)","v":-4142},{"$f":"CELLCOLOR($V$21)","v":-4142},{"$f":"CELLCOLOR($W$21)","v":-4142},{"$f":"CELLCOLOR($X$21)","v":-4142},{"$f":"CELLCOLOR($Y$21)","v":-4142},{"$f":"CELLCOLOR($Z$21)","v":-4142},{"$f":"CELLCOLOR($AA$21)","v":-4142},1]
[null,null,2,{"$f":"CELLCOLOR($D$22)","v":-4142},{"$f":"CELLCOLOR($E$22)","v":-4142},{"$f":"CELLCOLOR($F$22)","v":-4142},{"$f":"CELLCOLOR($G$22)","v":-4142},{"$f":"CELLCOLOR($H$22)","v":-4142},{"$f":"CELLCOLOR($I$22)","v":-4142},{"$f":"CELLCOLOR($J$22)","v":-4142},{"$f":"CELLCOLOR($K$22)","v":-4142},{"$f":"CELLCOLOR($L$22)","v":-4142},{"$f":"CELLCOLOR($M$22)","v":-4142},{"$f":"CELLCOLOR($N$22)","v":-4142},{"$f":"CELLCOLOR($O$22)","v":-4142},{"$f":"CELLCOLOR($P$22)","v":-4142},{"$f":"CELLCOLOR($Q$22)","v":-4142},{"$f":"CELLCOLOR($R$22)","v":-4142},{"$f":"CELLCOLOR($S$22)","v":-4142},{"$f":"CELLCOLOR($T$22)","v":-4142},{"$f":"CELLCOLOR($U$22)","v":-4142},{"$f":"CELLCOLOR($V$22)","v":-4142},{"$f":"CELLCOLOR($W$22)","v":-4142},{"$f":"CELLCOLOR($X$22)","v":-4142},{"$f":"CELLCOLOR($Y$22)","v":-4142},{"$f":"CELLCOLOR($Z$22)","v":-4142},{"$f":"CELLCOLOR($AA$22)","v":-4142},2]
[null,null,3,{"$f":"CELLCOLOR($D$23)","v":-4142},{"$f":"CELLCOLOR($E$23)","v":-4142},{"$f":"CELLCOLOR($F$23)","v":-4142},{"$f":"CELLCOLOR($G$23)","v":-4142},{"$f":"CELLCOLOR($H$23)","v":-4142},{"$f":"CELLCOLOR($I$23)","v":-4142},{"$f":"CELLCOLOR($J$23)","v":-4142},{"$f":"CELLCOLOR($K$23)","v":-4142},{"$f":"CELLCOLOR($L$23)","v":-4142},{"$f":"CELLCOLOR($M$23)","v":-4142},{"$f":"CELLCOLOR($N$23)","v":-4142},{"$f":"CELLCOLOR($O$23)","v":-4142},{"$f":"CELLCOLOR($P$23)","v":-4142},{"$f":"CELLCOLOR($Q$23)","v":-4142},{"$f":"CELLCOLOR($R$23)","v":-4142},{"$f":"CELLCOLOR($S$23)","v":-4142},{"$f":"CELLCOLOR($T$23)","v":-4142},{"$f":"CELLCOLOR($U$23)","v":-4142},{"$f":"CELLCOLOR($V$23)","v":-4142},{"$f":"CELLCOLOR($W$23)","v":-4142},{"$f":"CELLCOLOR($X$23)","v":-4142},{"$f":"CELLCOLOR($Y$23)","v":-4142},{"$f":"CELLCOLOR($Z$23)","v":-4142},{"$f":"CELLCOLOR($AA$23)","v":-4142},3]
[]
[null,null,"作業表2-1(冷却)●月▲時の平均外気湿球温度(四捨五入で表示）"]
[null,null,null," 時刻"]
[null,null,"月",0,1,2,3,4,5,6,7,8,9,10,11,12,13,14,15,16,17,18,19,20,21,22,23,"月"]
[null,null,4,{"$f":"IF($D$101=24,ROUND($D$12,0),\"\")&\"\"","v":""},{"$f":"IF($E$101=24,ROUND($E$12,0),\"\")&\"\"","v":""},{"$f":"IF($F$101=24,ROUND($F$12,0),\"\")&\"\"","v":""},{"$f":"IF($G$101=24,ROUND($G$12,0),\"\")&\"\"","v":""},{"$f":"IF($H$101=24,ROUND($H$12,0),\"\")&\"\"","v":""},{"$f":"IF($I$101=24,ROUND($I$12,0),\"\")&\"\"","v":""},{"$f":"IF($J$101=24,ROUND($J$12,0),\"\")&\"\"","v":""},{"$f":"IF($K$101=24,ROUND($K$12,0),\"\")&\"\"","v":""},{"$f":"IF($L$101=24,ROUND($L$12,0),\"\")&\"\"","v":""},{"$f":"IF($M$101=24,ROUND($M$12,0),\"\")&\"\"","v":""},{"$f":"IF($N$101=24,ROUND($N$12,0),\"\")&\"\"","v":""},{"$f":"IF($O$101=24,ROUND($O$12,0),\"\")&\"\"","v":""},{"$f":"IF($P$101=24,ROUND($P$12,0),\"\")&\"\"","v":""},{"$f":"IF($Q$101=24,ROUND($Q$12,0),\"\")&\"\"","v":""},{"$f":"IF($R$101=24,ROUND($R$12,0),\"\")&\"\"","v":""},{"$f":"IF($S$101=24,ROUND($S$12,0),\"\")&\"\"","v":""},{"$f":"IF($T$101=24,ROUND($T$12,0),\"\")&\"\"","v":""},{"$f":"IF($U$101=24,ROUND($U$12,0),\"\")&\"\"","v":""},{"$f":"IF($V$101=24,ROUND($V$12,0),\"\")&\"\"","v":""},{"$f":"IF($W$101=24,ROUND($W$12,0),\"\")&\"\"","v":""},{"$f":"IF($X$101=24,ROUND($X$12,0),\"\")&\"\"","v":""},{"$f":"IF($Y$101=24,ROUND($Y$12,0),\"\")&\"\"","v":""},{"$f":"IF($Z$101=24,ROUND($Z$12,0),\"\")&\"\"","v":""},{"$f":"IF($AA$101=24,ROUND($AA$12,0),\"\")&\"\"","v":""},4]
[null,null,5,{"$f":"IF($D$102=24,ROUND($D$13,0),\"\")&\"\"","v":""},{"$f":"IF($E$102=24,ROUND($E$13,0),\"\")&\"\"","v":""},{"$f":"IF($F$102=24,ROUND($F$13,0),\"\")&\"\"","v":""},{"$f":"IF($G$102=24,ROUND($G$13,0),\"\")&\"\"","v":""},{"$f":"IF($H$102=24,ROUND($H$13,0),\"\")&\"\"","v":""},{"$f":"IF($I$102=24,ROUND($I$13,0),\"\")&\"\"","v":""},{"$f":"IF($J$102=24,ROUND($J$13,0),\"\")&\"\"","v":""},{"$f":"IF($K$102=24,ROUND($K$13,0),\"\")&\"\"","v":""},{"$f":"IF($L$102=24,ROUND($L$13,0),\"\")&\"\"","v":""},{"$f":"IF($M$102=24,ROUND($M$13,0),\"\")&\"\"","v":""},{"$f":"IF($N$102=24,ROUND($N$13,0),\"\")&\"\"","v":""},{"$f":"IF($O$102=24,ROUND($O$13,0),\"\")&\"\"","v":""},{"$f":"IF($P$102=24,ROUND($P$13,0),\"\")&\"\"","v":""},{"$f":"IF($Q$102=24,ROUND($Q$13,0),\"\")&\"\"","v":""},{"$f":"IF($R$102=24,ROUND($R$13,0),\"\")&\"\"","v":""},{"$f":"IF($S$102=24,ROUND($S$13,0),\"\")&\"\"","v":""},{"$f":"IF($T$102=24,ROUND($T$13,0),\"\")&\"\"","v":""},{"$f":"IF($U$102=24,ROUND($U$13,0),\"\")&\"\"","v":""},{"$f":"IF($V$102=24,ROUND($V$13,0),\"\")&\"\"","v":""},{"$f":"IF($W$102=24,ROUND($W$13,0),\"\")&\"\"","v":""},{"$f":"IF($X$102=24,ROUND($X$13,0),\"\")&\"\"","v":""},{"$f":"IF($Y$102=24,ROUND($Y$13,0),\"\")&\"\"","v":""},{"$f":"IF($Z$102=24,ROUND($Z$13,0),\"\")&\"\"","v":""},{"$f":"IF($AA$102=24,ROUND($AA$13,0),\"\")&\"\"","v":""},5]
[null,null,6,{"$f":"IF($D$103=24,ROUND($D$14,0),\"\")&\"\"","v":""},{"$f":"IF($E$103=24,ROUND($E$14,0),\"\")&\"\"","v":""},{"$f":"IF($F$103=24,ROUND($F$14,0),\"\")&\"\"","v":""},{"$f":"IF($G$103=24,ROUND($G$14,0),\"\")&\"\"","v":""},{"$f":"IF($H$103=24,ROUND($H$14,0),\"\")&\"\"","v":""},{"$f":"IF($I$103=24,ROUND($I$14,0),\"\")&\"\"","v":""},{"$f":"IF($J$103=24,ROUND($J$14,0),\"\")&\"\"","v":""},{"$f":"IF($K$103=24,ROUND($K$14,0),\"\")&\"\"","v":""},{"$f":"IF($L$103=24,ROUND($L$14,0),\"\")&\"\"","v":""},{"$f":"IF($M$103=24,ROUND($M$14,0),\"\")&\"\"","v":""},{"$f":"IF($N$103=24,ROUND($N$14,0),\"\")&\"\"","v":""},{"$f":"IF($O$103=24,ROUND($O$14,0),\"\")&\"\"","v":""},{"$f":"IF($P$103=24,ROUND($P$14,0),\"\")&\"\"","v":""},{"$f":"IF($Q$103=24,ROUND($Q$14,0),\"\")&\"\"","v":""},{"$f":"IF($R$103=24,ROUND($R$14,0),\"\")&\"\"","v":""},{"$f":"IF($S$103=24,ROUND($S$14,0),\"\")&\"\"","v":""},{"$f":"IF($T$103=24,ROUND($T$14,0),\"\")&\"\"","v":""},{"$f":"IF($U$103=24,ROUND($U$14,0),\"\")&\"\"","v":""},{"$f":"IF($V$103=24,ROUND($V$14,0),\"\")&\"\"","v":""},{"$f":"IF($W$103=24,ROUND($W$14,0),\"\")&\"\"","v":""},{"$f":"IF($X$103=24,ROUND($X$14,0),\"\")&\"\"","v":""},{"$f":"IF($Y$103=24,ROUND($Y$14,0),\"\")&\"\"","v":""},{"$f":"IF($Z$103=24,ROUND($Z$14,0),\"\")&\"\"","v":""},{"$f":"IF($AA$103=24,ROUND($AA$14,0),\"\")&\"\"","v":""},6]
[null,null,7,{"$f":"IF($D$104=24,ROUND($D$15,0),\"\")&\"\"","v":""},{"$f":"IF($E$104=24,ROUND($E$15,0),\"\")&\"\"","v":""},{"$f":"IF($F$104=24,ROUND($F$15,0),\"\")&\"\"","v":""},{"$f":"IF($G$104=24,ROUND($G$15,0),\"\")&\"\"","v":""},{"$f":"IF($H$104=24,ROUND($H$15,0),\"\")&\"\"","v":""},{"$f":"IF($I$104=24,ROUND($I$15,0),\"\")&\"\"","v":""},{"$f":"IF($J$104=24,ROUND($J$15,0),\"\")&\"\"","v":""},{"$f":"IF($K$104=24,ROUND($K$15,0),\"\")&\"\"","v":""},{"$f":"IF($L$104=24,ROUND($L$15,0),\"\")&\"\"","v":""},{"$f":"IF($M$104=24,ROUND($M$15,0),\"\")&\"\"","v":""},{"$f":"IF($N$104=24,ROUND($N$15,0),\"\")&\"\"","v":""},{"$f":"IF($O$104=24,ROUND($O$15,0),\"\")&\"\"","v":""},{"$f":"IF($P$104=24,ROUND($P$15,0),\"\")&\"\"","v":""},{"$f":"IF($Q$104=24,ROUND($Q$15,0),\"\")&\"\"","v":""},{"$f":"IF($R$104=24,ROUND($R$15,0),\"\")&\"\"","v":""},{"$f":"IF($S$104=24,ROUND($S$15,0),\"\")&\"\"","v":""},{"$f":"IF($T$104=24,ROUND($T$15,0),\"\")&\"\"","v":""},{"$f":"IF($U$104=24,ROUND($U$15,0),\"\")&\"\"","v":""},{"$f":"IF($V$104=24,ROUND($V$15,0),\"\")&\"\"","v":""},{"$f":"IF($W$104=24,ROUND($W$15,0),\"\")&\"\"","v":""},{"$f":"IF($X$104=24,ROUND($X$15,0),\"\")&\"\"","v":""},{"$f":"IF($Y$104=24,ROUND($Y$15,0),\"\")&\"\"","v":""},{"$f":"IF($Z$104=24,ROUND($Z$15,0),\"\")&\"\"","v":""},{"$f":"IF($AA$104=24,ROUND($AA$15,0),\"\")&\"\"","v":""},7]
[null,null,8,{"$f":"IF($D$105=24,ROUND($D$16,0),\"\")&\"\"","v":""},{"$f":"IF($E$105=24,ROUND($E$16,0),\"\")&\"\"","v":""},{"$f":"IF($F$105=24,ROUND($F$16,0),\"\")&\"\"","v":""},{"$f":"IF($G$105=24,ROUND($G$16,0),\"\")&\"\"","v":""},{"$f":"IF($H$105=24,ROUND($H$16,0),\"\")&\"\"","v":""},{"$f":"IF($I$105=24,ROUND($I$16,0),\"\")&\"\"","v":""},{"$f":"IF($J$105=24,ROUND($J$16,0),\"\")&\"\"","v":""},{"$f":"IF($K$105=24,ROUND($K$16,0),\"\")&\"\"","v":""},{"$f":"IF($L$105=24,ROUND($L$16,0),\"\")&\"\"","v":""},{"$f":"IF($M$105=24,ROUND($M$16,0),\"\")&\"\"","v":""},{"$f":"IF($N$105=24,ROUND($N$16,0),\"\")&\"\"","v":""},{"$f":"IF($O$105=24,ROUND($O$16,0),\"\")&\"\"","v":""},{"$f":"IF($P$105=24,ROUND($P$16,0),\"\")&\"\"","v":""},{"$f":"IF($Q$105=24,ROUND($Q$16,0),\"\")&\"\"","v":""},{"$f":"IF($R$105=24,ROUND($R$16,0),\"\")&\"\"","v":""},{"$f":"IF($S$105=24,ROUND($S$16,0),\"\")&\"\"","v":""},{"$f":"IF($T$105=24,ROUND($T$16,0),\"\")&\"\"","v":""},{"$f":"IF($U$105=24,ROUND($U$16,0),\"\")&\"\"","v":""},{"$f":"IF($V$105=24,ROUND($V$16,0),\"\")&\"\"","v":""},{"$f":"IF($W$105=24,ROUND($W$16,0),\"\")&\"\"","v":""},{"$f":"IF($X$105=24,ROUND($X$16,0),\"\")&\"\"","v":""},{"$f":"IF($Y$105=24,ROUND($Y$16,0),\"\")&\"\"","v":""},{"$f":"IF($Z$105=24,ROUND($Z$16,0),\"\")&\"\"","v":""},{"$f":"IF($AA$105=24,ROUND($AA$16,0),\"\")&\"\"","v":""},8]
[null,null,9,{"$f":"IF($D$106=24,ROUND($D$17,0),\"\")&\"\"","v":""},{"$f":"IF($E$106=24,ROUND($E$17,0),\"\")&\"\"","v":""},{"$f":"IF($F$106=24,ROUND($F$17,0),\"\")&\"\"","v":""},{"$f":"IF($G$106=24,ROUND($G$17,0),\"\")&\"\"","v":""},{"$f":"IF($H$106=24,ROUND($H$17,0),\"\")&\"\"","v":""},{"$f":"IF($I$106=24,ROUND($I$17,0),\"\")&\"\"","v":""},{"$f":"IF($J$106=24,ROUND($J$17,0),\"\")&\"\"","v":""},{"$f":"IF($K$106=24,ROUND($K$17,0),\"\")&\"\"","v":""},{"$f":"IF($L$106=24,ROUND($L$17,0),\"\")&\"\"","v":""},{"$f":"IF($M$106=24,ROUND($M$17,0),\"\")&\"\"","v":""},{"$f":"IF($N$106=24,ROUND($N$17,0),\"\")&\"\"","v":""},{"$f":"IF($O$106=24,ROUND($O$17,0),\"\")&\"\"","v":""},{"$f":"IF($P$106=24,ROUND($P$17,0),\"\")&\"\"","v":""},{"$f":"IF($Q$106=24,ROUND($Q$17,0),\"\")&\"\"","v":""},{"$f":"IF($R$106=24,ROUND($R$17,0),\"\")&\"\"","v":""},{"$f":"IF($S$106=24,ROUND($S$17,0),\"\")&\"\"","v":""},{"$f":"IF($T$106=24,ROUND($T$17,0),\"\")&\"\"","v":""},{"$f":"IF($U$106=24,ROUND($U$17,0),\"\")&\"\"","v":""},{"$f":"IF($V$106=24,ROUND($V$17,0),\"\")&\"\"","v":""},{"$f":"IF($W$106=24,ROUND($W$17,0),\"\")&\"\"","v":""},{"$f":"IF($X$106=24,ROUND($X$17,0),\"\")&\"\"","v":""},{"$f":"IF($Y$106=24,ROUND($Y$17,0),\"\")&\"\"","v":""},{"$f":"IF($Z$106=24,ROUND($Z$17,0),\"\")&\"\"","v":""},{"$f":"IF($AA$106=24,ROUND($AA$17,0),\"\")&\"\"","v":""},9]
[null,null,10,{"$f":"IF($D$107=24,ROUND($D$18,0),\"\")&\"\"","v":""},{"$f":"IF($E$107=24,ROUND($E$18,0),\"\")&\"\"","v":""},{"$f":"IF($F$107=24,ROUND($F$18,0),\"\")&\"\"","v":""},{"$f":"IF($G$107=24,ROUND($G$18,0),\"\")&\"\"","v":""},{"$f":"IF($H$107=24,ROUND($H$18,0),\"\")&\"\"","v":""},{"$f":"IF($I$107=24,ROUND($I$18,0),\"\")&\"\"","v":""},{"$f":"IF($J$107=24,ROUND($J$18,0),\"\")&\"\"","v":""},{"$f":"IF($K$107=24,ROUND($K$18,0),\"\")&\"\"","v":""},{"$f":"IF($L$107=24,ROUND($L$18,0),\"\")&\"\"","v":""},{"$f":"IF($M$107=24,ROUND($M$18,0),\"\")&\"\"","v":""},{"$f":"IF($N$107=24,ROUND($N$18,0),\"\")&\"\"","v":""},{"$f":"IF($O$107=24,ROUND($O$18,0),\"\")&\"\"","v":""},{"$f":"IF($P$107=24,ROUND($P$18,0),\"\")&\"\"","v":""},{"$f":"IF($Q$107=24,ROUND($Q$18,0),\"\")&\"\"","v":""},{"$f":"IF($R$107=24,ROUND($R$18,0),\"\")&\"\"","v":""},{"$f":"IF($S$107=24,ROUND($S$18,0),\"\")&\"\"","v":""},{"$f":"IF($T$107=24,ROUND($T$18,0),\"\")&\"\"","v":""},{"$f":"IF($U$107=24,ROUND($U$18,0),\"\")&\"\"","v":""},{"$f":"IF($V$107=24,ROUND($V$18,0),\"\")&\"\"","v":""},{"$f":"IF($W$107=24,ROUND($W$18,0),\"\")&\"\"","v":""},{"$f":"IF($X$107=24,ROUND($X$18,0),\"\")&\"\"","v":""},{"$f":"IF($Y$107=24,ROUND($Y$18,0),\"\")&\"\"","v":""},{"$f":"IF($Z$107=24,ROUND($Z$18,0),\"\")&\"\"","v":""},{"$f":"IF($AA$107=24,ROUND($AA$18,0),\"\")&\"\"","v":""},10]
[null,null,11,{"$f":"IF($D$108=24,ROUND($D$19,0),\"\")&\"\"","v":""},{"$f":"IF($E$108=24,ROUND($E$19,0),\"\")&\"\"","v":""},{"$f":"IF($F$108=24,ROUND($F$19,0),\"\")&\"\"","v":""},{"$f":"IF($G$108=24,ROUND($G$19,0),\"\")&\"\"","v":""},{"$f":"IF($H$108=24,ROUND($H$19,0),\"\")&\"\"","v":""},{"$f":"IF($I$108=24,ROUND($I$19,0),\"\")&\"\"","v":""},{"$f":"IF($J$108=24,ROUND($J$19,0),\"\")&\"\"","v":""},{"$f":"IF($K$108=24,ROUND($K$19,0),\"\")&\"\"","v":""},{"$f":"IF($L$108=24,ROUND($L$19,0),\"\")&\"\"","v":""},{"$f":"IF($M$108=24,ROUND($M$19,0),\"\")&\"\"","v":""},{"$f":"IF($N$108=24,ROUND($N$19,0),\"\")&\"\"","v":""},{"$f":"IF($O$108=24,ROUND($O$19,0),\"\")&\"\"","v":""},{"$f":"IF($P$108=24,ROUND($P$19,0),\"\")&\"\"","v":""},{"$f":"IF($Q$108=24,ROUND($Q$19,0),\"\")&\"\"","v":""},{"$f":"IF($R$108=24,ROUND($R$19,0),\"\")&\"\"","v":""},{"$f":"IF($S$108=24,ROUND($S$19,0),\"\")&\"\"","v":""},{"$f":"IF($T$108=24,ROUND($T$19,0),\"\")&\"\"","v":""},{"$f":"IF($U$108=24,ROUND($U$19,0),\"\")&\"\"","v":""},{"$f":"IF($V$108=24,ROUND($V$19,0),\"\")&\"\"","v":""},{"$f":"IF($W$108=24,ROUND($W$19,0),\"\")&\"\"","v":""},{"$f":"IF($X$108=24,ROUND($X$19,0),\"\")&\"\"","v":""},{"$f":"IF($Y$108=24,ROUND($Y$19,0),\"\")&\"\"","v":""},{"$f":"IF($Z$108=24,ROUND($Z$19,0),\"\")&\"\"","v":""},{"$f":"IF($AA$108=24,ROUND($AA$19,0),\"\")&\"\"","v":""},11]
[null,null,12,{"$f":"IF($D$109=24,ROUND($D$20,0),\"\")&\"\"","v":""},{"$f":"IF($E$109=24,ROUND($E$20,0),\"\")&\"\"","v":""},{"$f":"IF($F$109=24,ROUND($F$20,0),\"\")&\"\"","v":""},{"$f":"IF($G$109=24,ROUND($G$20,0),\"\")&\"\"","v":""},{"$f":"IF($H$109=24,ROUND($H$20,0),\"\")&\"\"","v":""},{"$f":"IF($I$109=24,ROUND($I$20,0),\"\")&\"\"","v":""},{"$f":"IF($J$109=24,ROUND($J$20,0),\"\")&\"\"","v":""},{"$f":"IF($K$109=24,ROUND($K$20,0),\"\")&\"\"","v":""},{"$f":"IF($L$109=24,ROUND($L$20,0),\"\")&\"\"","v":""},{"$f":"IF($M$109=24,ROUND($M$20,0),\"\")&\"\"","v":""},{"$f":"IF($N$109=24,ROUND($N$20,0),\"\")&\"\"","v":""},{"$f":"IF($O$109=24,ROUND($O$20,0),\"\")&\"\"","v":""},{"$f":"IF($P$109=24,ROUND($P$20,0),\"\")&\"\"","v":""},{"$f":"IF($Q$109=24,ROUND($Q$20,0),\"\")&\"\"","v":""},{"$f":"IF($R$109=24,ROUND($R$20,0),\"\")&\"\"","v":""},{"$f":"IF($S$109=24,ROUND($S$20,0),\"\")&\"\"","v":""},{"$f":"IF($T$109=24,ROUND($T$20,0),\"\")&\"\"","v":""},{"$f":"IF($U$109=24,ROUND($U$20,0),\"\")&\"\"","v":""},{"$f":"IF($V$109=24,ROUND($V$20,0),\"\")&\"\"","v":""},{"$f":"IF($W$109=24,ROUND($W$20,0),\"\")&\"\"","v":""},{"$f":"IF($X$109=24,ROUND($X$20,0),\"\")&\"\"","v":""},{"$f":"IF($Y$109=24,ROUND($Y$20,0),\"\")&\"\"","v":""},{"$f":"IF($Z$109=24,ROUND($Z$20,0),\"\")&\"\"","v":""},{"$f":"IF($AA$109=24,ROUND($AA$20,0),\"\")&\"\"","v":""},12]
[null,null,1,{"$f":"IF($D$110=24,ROUND($D$21,0),\"\")&\"\"","v":""},{"$f":"IF($E$110=24,ROUND($E$21,0),\"\")&\"\"","v":""},{"$f":"IF($F$110=24,ROUND($F$21,0),\"\")&\"\"","v":""},{"$f":"IF($G$110=24,ROUND($G$21,0),\"\")&\"\"","v":""},{"$f":"IF($H$110=24,ROUND($H$21,0),\"\")&\"\"","v":""},{"$f":"IF($I$110=24,ROUND($I$21,0),\"\")&\"\"","v":""},{"$f":"IF($J$110=24,ROUND($J$21,0),\"\")&\"\"","v":""},{"$f":"IF($K$110=24,ROUND($K$21,0),\"\")&\"\"","v":""},{"$f":"IF($L$110=24,ROUND($L$21,0),\"\")&\"\"","v":""},{"$f":"IF($M$110=24,ROUND($M$21,0),\"\")&\"\"","v":""},{"$f":"IF($N$110=24,ROUND($N$21,0),\"\")&\"\"","v":""},{"$f":"IF($O$110=24,ROUND($O$21,0),\"\")&\"\"","v":""},{"$f":"IF($P$110=24,ROUND($P$21,0),\"\")&\"\"","v":""},{"$f":"IF($Q$110=24,ROUND($Q$21,0),\"\")&\"\"","v":""},{"$f":"IF($R$110=24,ROUND($R$21,0),\"\")&\"\"","v":""},{"$f":"IF($S$110=24,ROUND($S$21,0),\"\")&\"\"","v":""},{"$f":"IF($T$110=24,ROUND($T$21,0),\"\")&\"\"","v":""},{"$f":"IF($U$110=24,ROUND($U$21,0),\"\")&\"\"","v":""},{"$f":"IF($V$110=24,ROUND($V$21,0),\"\")&\"\"","v":""},{"$f":"IF($W$110=24,ROUND($W$21,0),\"\")&\"\"","v":""},{"$f":"IF($X$110=24,ROUND($X$21,0),\"\")&\"\"","v":""},{"$f":"IF($Y$110=24,ROUND($Y$21,0),\"\")&\"\"","v":""},{"$f":"IF($Z$110=24,ROUND($Z$21,0),\"\")&\"\"","v":""},{"$f":"IF($AA$110=24,ROUND($AA$21,0),\"\")&\"\"","v":""},1]
[null,null,2,{"$f":"IF($D$111=24,ROUND($D$22,0),\"\")&\"\"","v":""},{"$f":"IF($E$111=24,ROUND($E$22,0),\"\")&\"\"","v":""},{"$f":"IF($F$111=24,ROUND($F$22,0),\"\")&\"\"","v":""},{"$f":"IF($G$111=24,ROUND($G$22,0),\"\")&\"\"","v":""},{"$f":"IF($H$111=24,ROUND($H$22,0),\"\")&\"\"","v":""},{"$f":"IF($I$111=24,ROUND($I$22,0),\"\")&\"\"","v":""},{"$f":"IF($J$111=24,ROUND($J$22,0),\"\")&\"\"","v":""},{"$f":"IF($K$111=24,ROUND($K$22,0),\"\")&\"\"","v":""},{"$f":"IF($L$111=24,ROUND($L$22,0),\"\")&\"\"","v":""},{"$f":"IF($M$111=24,ROUND($M$22,0),\"\")&\"\"","v":""},{"$f":"IF($N$111=24,ROUND($N$22,0),\"\")&\"\"","v":""},{"$f":"IF($O$111=24,ROUND($O$22,0),\"\")&\"\"","v":""},{"$f":"IF($P$111=24,ROUND($P$22,0),\"\")&\"\"","v":""},{"$f":"IF($Q$111=24,ROUND($Q$22,0),\"\")&\"\"","v":""},{"$f":"IF($R$111=24,ROUND($R$22,0),\"\")&\"\"","v":""},{"$f":"IF($S$111=24,ROUND($S$22,0),\"\")&\"\"","v":""},{"$f":"IF($T$111=24,ROUND($T$22,0),\"\")&\"\"","v":""},{"$f":"IF($U$111=24,ROUND($U$22,0),\"\")&\"\"","v":""},{"$f":"IF($V$111=24,ROUND($V$22,0),\"\")&\"\"","v":""},{"$f":"IF($W$111=24,ROUND($W$22,0),\"\")&\"\"","v":""},{"$f":"IF($X$111=24,ROUND($X$22,0),\"\")&\"\"","v":""},{"$f":"IF($Y$111=24,ROUND($Y$22,0),\"\")&\"\"","v":""},{"$f":"IF($Z$111=24,ROUND($Z$22,0),\"\")&\"\"","v":""},{"$f":"IF($AA$111=24,ROUND($AA$22,0),\"\")&\"\"","v":""},2]
[null,null,3,{"$f":"IF($D$112=24,ROUND($D$23,0),\"\")&\"\"","v":""},{"$f":"IF($E$112=24,ROUND($E$23,0),\"\")&\"\"","v":""},{"$f":"IF($F$112=24,ROUND($F$23,0),\"\")&\"\"","v":""},{"$f":"IF($G$112=24,ROUND($G$23,0),\"\")&\"\"","v":""},{"$f":"IF($H$112=24,ROUND($H$23,0),\"\")&\"\"","v":""},{"$f":"IF($I$112=24,ROUND($I$23,0),\"\")&\"\"","v":""},{"$f":"IF($J$112=24,ROUND($J$23,0),\"\")&\"\"","v":""},{"$f":"IF($K$112=24,ROUND($K$23,0),\"\")&\"\"","v":""},{"$f":"IF($L$112=24,ROUND($L$23,0),\"\")&\"\"","v":""},{"$f":"IF($M$112=24,ROUND($M$23,0),\"\")&\"\"","v":""},{"$f":"IF($N$112=24,ROUND($N$23,0),\"\")&\"\"","v":""},{"$f":"IF($O$112=24,ROUND($O$23,0),\"\")&\"\"","v":""},{"$f":"IF($P$112=24,ROUND($P$23,0),\"\")&\"\"","v":""},{"$f":"IF($Q$112=24,ROUND($Q$23,0),\"\")&\"\"","v":""},{"$f":"IF($R$112=24,ROUND($R$23,0),\"\")&\"\"","v":""},{"$f":"IF($S$112=24,ROUND($S$23,0),\"\")&\"\"","v":""},{"$f":"IF($T$112=24,ROUND($T$23,0),\"\")&\"\"","v":""},{"$f":"IF($U$112=24,ROUND($U$23,0),\"\")&\"\"","v":""},{"$f":"IF($V$112=24,ROUND($V$23,0),\"\")&\"\"","v":""},{"$f":"IF($W$112=24,ROUND($W$23,0),\"\")&\"\"","v":""},{"$f":"IF($X$112=24,ROUND($X$23,0),\"\")&\"\"","v":""},{"$f":"IF($Y$112=24,ROUND($Y$23,0),\"\")&\"\"","v":""},{"$f":"IF($Z$112=24,ROUND($Z$23,0),\"\")&\"\"","v":""},{"$f":"IF($AA$112=24,ROUND($AA$23,0),\"\")&\"\"","v":""},3]
[]
[null,null,"冷却期間中　外気湿球温度(Tw)が発生する時間[hour]"]
[null,null,null,"外気湿球温度(Tw)",null,null,null,null,null,null,null,null,null,null,null,null,null,null,null,null,null,null,null,null,null,null,null,null,null,null,null,null,null,null,null,null,null,null,null,null,null,null,null,null,null,null,null,null,null,"前1",null,null,"前2",null,null,"前3",null,null,null,"後1",null,null,"後2",null,null,"後3"]
[null,null,"月",-11,-10,-9,-8,-7,-6,-5,-4,-3,-2,-1,0,1,2,3,4,5,6,7,8,9,10,11,12,13,14,15,16,17,18,19,20,21,22,23,24,25,26,27,28,29,30,"月",null,"EccのΣ","EaxのΣ","Ecc","Eax","Ec","Ecc","Eax","Ec","Ecc","Eax","Ec",null,"Ecc","Eax","Ec","Ecc","Eax","Ec","Ecc","Eax","Ec"]
[null,null,4,{"$f":"COUNTIF($D$117:$AA$117,$D$132)*$AB$12","v":0},{"$f":"COUNTIF($D$117:$AA$117,$E$132)*$AB$12","v":0},{"$f":"COUNTIF($D$117:$AA$117,$F$132)*$AB$12","v":0},{"$f":"COUNTIF($D$117:$AA$117,$G$132)*$AB$12","v":0},{"$f":"COUNTIF($D$117:$AA$117,$H$132)*$AB$12","v":0},{"$f":"COUNTIF($D$117:$AA$117,$I$132)*$AB$12","v":0},{"$f":"COUNTIF($D$117:$AA$117,$J$132)*$AB$12","v":0},{"$f":"COUNTIF($D$117:$AA$117,$K$132)*$AB$12","v":0},{"$f":"COUNTIF($D$117:$AA$117,$L$132)*$AB$12","v":0},{"$f":"COUNTIF($D$117:$AA$117,$M$132)*$AB$12","v":0},{"$f":"COUNTIF($D$117:$AA$117,$N$132)*$AB$12","v":0},{"$f":"COUNTIF($D$117:$AA$117,$O$132)*$AB$12","v":0},{"$f":"COUNTIF($D$117:$AA$117,$P$132)*$AB$12","v":0},{"$f":"COUNTIF($D$117:$AA$117,$Q$132)*$AB$12","v":0},{"$f":"COUNTIF($D$117:$AA$117,$R$132)*$AB$12","v":0},{"$f":"COUNTIF($D$117:$AA$117,$S$132)*$AB$12","v":0},{"$f":"COUNTIF($D$117:$AA$117,$T$132)*$AB$12","v":0},{"$f":"COUNTIF($D$117:$AA$117,$U$132)*$AB$12","v":0},{"$f":"COUNTIF($D$117:$AA$117,$V$132)*$AB$12","v":0},{"$f":"COUNTIF($D$117:$AA$117,$W$132)*$AB$12","v":0},{"$f":"COUNTIF($D$117:$AA$117,$X$132)*$AB$12","v":0},{"$f":"COUNTIF($D$117:$AA$117,$Y$132)*$AB$12","v":0},{"$f":"COUNTIF($D$117:$AA$117,$Z$132)*$AB$12","v":0},{"$f":"COUNTIF($D$117:$AA$117,$AA$132)*$AB$12","v":0},{"$f":"COUNTIF($D$117:$AA$117,$AB$132)*$AB$12","v":0},{"$f":"COUNTIF($D$117:$AA$117,$AC$132)*$AB$12","v":0},{"$f":"COUNTIF($D$117:$AA$117,$AD$132)*$AB$12","v":0},{"$f":"COUNTIF($D$117:$AA$117,$AE$132)*$AB$12","v":0},{"$f":"COUNTIF($D$117:$AA$117,$AF$132)*$AB$12","v":0},{"$f":"COUNTIF($D$117:$AA$117,$AG$132)*$AB$12","v":0},{"$f":"COUNTIF($D$117:$AA$117,$AH$132)*$AB$12","v":0},{"$f":"COUNTIF($D$117:$AA$117,$AI$132)*$AB$12","v":0},{"$f":"COUNTIF($D$117:$AA$117,$AJ$132)*$AB$12","v":0},{"$f":"COUNTIF($D$117:$AA$117,$AK$132)*$AB$12","v":0},{"$f":"COUNTIF($D$117:$AA$117,$AL$132)*$AB$12","v":0},{"$f":"COUNTIF($D$117:$AA$117,$AM$132)*$AB$12","v":0},{"$f":"COUNTIF($D$117:$AA$117,$AN$132)*$AB$12","v":0},{"$f":"COUNTIF($D$117:$AA$117,$AO$132)*$AB$12","v":0},{"$f":"COUNTIF($D$117:$AA$117,$AP$132)*$AB$12","v":0},{"$f":"COUNTIF($D$117:$AA$117,$AQ$132)*$AB$12","v":0},{"$f":"COUNTIF($D$117:$AA$117,$AR$132)*$AB$12","v":0},{"$f":"COUNTIF($D$117:$AA$117,$AS$132)*$AB$12","v":0},4,null,{"$f":"SUMPRODUCT(D133:AS133,$D$146:$AS$146)","v":0},{"$f":"SUMPRODUCT(D133:AS133,$D$152:$AS$152)","v":0},{"$f":"IFERROR($Q$29/$Q$31*$AV133*$Q$36,\"\")","v":0},{"$f":"IFERROR(($Q$32+$Q$33+$Q$34)*$AW133,\"\")","v":0},{"$f":"IFERROR(SUM(AX133:AY133),\"\")","v":0},{"$f":"IFERROR($R$29/$R$31*$AV133*$R$36,\"\")","v":""},{"$f":"IFERROR(($R$32+$R$33+$R$34)*$AW133,\"\")","v":0},{"$f":"IFERROR(SUM(BA133:BB133),\"\")","v":0},{"$f":"IFERROR($S$29/$S$31*$AV133*$S$36,\"\")","v":""},{"$f":"IFERROR(($S$32+$S$33+$S$34)*$AW133,\"\")","v":0},{"$f":"IFERROR(SUM(BD133:BE133),\"\")","v":0},null,{"$f":"IFERROR($Q$43/$Q$45*$AV133*$Q$50,\"\")","v":""},{"$f":"IFERROR(($Q$46+$Q$47+$Q$48)*$AW133,\"\")","v":0},{"$f":"IFERROR(SUM(BH133:BI133),\"\")","v":0},{"$f":"IFERROR($R$43/$R$45*$AV133*$R$50,\"\")","v":""},{"$f":"IFERROR(($R$46+$R$47+$R$48)*$AW133,\"\")","v":0},{"$f":"IFERROR(SUM(BK133:BL133),\"\")","v":0},{"$f":"IFERROR($S$43/$S$45*$AV133*$S$50,\"\")","v":""},{"$f":"IFERROR(($S$46+$S$47+$S$48)*$AW133,\"\")","v":0},{"$f":"IFERROR(SUM(BN133:BO133),\"\")","v":0}]
[null,null,5,{"$f":"COUNTIF($D$118:$AA$118,$D$132)*$AB$13","v":0},{"$f":"COUNTIF($D$118:$AA$118,$E$132)*$AB$13","v":0},{"$f":"COUNTIF($D$118:$AA$118,$F$132)*$AB$13","v":0},{"$f":"COUNTIF($D$118:$AA$118,$G$132)*$AB$13","v":0},{"$f":"COUNTIF($D$118:$AA$118,$H$132)*$AB$13","v":0},{"$f":"COUNTIF($D$118:$AA$118,$I$132)*$AB$13","v":0},{"$f":"COUNTIF($D$118:$AA$118,$J$132)*$AB$13","v":0},{"$f":"COUNTIF($D$118:$AA$118,$K$132)*$AB$13","v":0},{"$f":"COUNTIF($D$118:$AA$118,$L$132)*$AB$13","v":0},{"$f":"COUNTIF($D$118:$AA$118,$M$132)*$AB$13","v":0},{"$f":"COUNTIF($D$118:$AA$118,$N$132)*$AB$13","v":0},{"$f":"COUNTIF($D$118:$AA$118,$O$132)*$AB$13","v":0},{"$f":"COUNTIF($D$118:$AA$118,$P$132)*$AB$13","v":0},{"$f":"COUNTIF($D$118:$AA$118,$Q$132)*$AB$13","v":0},{"$f":"COUNTIF($D$118:$AA$118,$R$132)*$AB$13","v":0},{"$f":"COUNTIF($D$118:$AA$118,$S$132)*$AB$13","v":0},{"$f":"COUNTIF($D$118:$AA$118,$T$132)*$AB$13","v":0},{"$f":"COUNTIF($D$118:$AA$118,$U$132)*$AB$13","v":0},{"$f":"COUNTIF($D$118:$AA$118,$V$132)*$AB$13","v":0},{"$f":"COUNTIF($D$118:$AA$118,$W$132)*$AB$13","v":0},{"$f":"COUNTIF($D$118:$AA$118,$X$132)*$AB$13","v":0},{"$f":"COUNTIF($D$118:$AA$118,$Y$132)*$AB$13","v":0},{"$f":"COUNTIF($D$118:$AA$118,$Z$132)*$AB$13","v":0},{"$f":"COUNTIF($D$118:$AA$118,$AA$132)*$AB$13","v":0},{"$f":"COUNTIF($D$118:$AA$118,$AB$132)*$AB$13","v":0},{"$f":"COUNTIF($D$118:$AA$118,$AC$132)*$AB$13","v":0},{"$f":"COUNTIF($D$118:$AA$118,$AD$132)*$AB$13","v":0},{"$f":"COUNTIF($D$118:$AA$118,$AE$132)*$AB$13","v":0},{"$f":"COUNTIF($D$118:$AA$118,$AF$132)*$AB$13","v":0},{"$f":"COUNTIF($D$118:$AA$118,$AG$132)*$AB$13","v":0},{"$f":"COUNTIF($D$118:$AA$118,$AH$132)*$AB$13","v":0},{"$f":"COUNTIF($D$118:$AA$118,$AI$132)*$AB$13","v":0},{"$f":"COUNTIF($D$118:$AA$118,$AJ$132)*$AB$13","v":0},{"$f":"COUNTIF($D$118:$AA$118,$AK$132)*$AB$13","v":0},{"$f":"COUNTIF($D$118:$AA$118,$AL$132)*$AB$13","v":0},{"$f":"COUNTIF($D$118:$AA$118,$AM$132)*$AB$13","v":0},{"$f":"COUNTIF($D$118:$AA$118,$AN$132)*$AB$13","v":0},{"$f":"COUNTIF($D$118:$AA$118,$AO$132)*$AB$13","v":0},{"$f":"COUNTIF($D$118:$AA$118,$AP$132)*$AB$13","v":0},{"$f":"COUNTIF($D$118:$AA$118,$AQ$132)*$AB$13","v":0},{"$f":"COUNTIF($D$118:$AA$118,$AR$132)*$AB$13","v":0},{"$f":"COUNTIF($D$118:$AA$118,$AS$132)*$AH$13","v":0},5,null,{"$f":"SUMPRODUCT(D134:AS134,$D$146:$AS$146)","v":0},{"$f":"SUMPRODUCT(D134:AS134,$D$152:$AS$152)","v":0},{"$f":"IFERROR($Q$29/$Q$31*$AV134*$Q$36,\"\")","v":0},{"$f":"IFERROR(($Q$32+$Q$33+$Q$34)*$AW134,\"\")","v":0},{"$f":"IFERROR(SUM(AX134:AY134),\"\")","v":0},{"$f":"IFERROR($R$29/$R$31*$AV134*$R$36,\"\")","v":""},{"$f":"IFERROR(($R$32+$R$33+$R$34)*$AW134,\"\")","v":0},{"$f":"IFERROR(SUM(BA134:BB134),\"\")","v":0},{"$f":"IFERROR($S$29/$S$31*$AV134*$S$36,\"\")","v":""},{"$f":"IFERROR(($S$32+$S$33+$S$34)*$AW134,\"\")","v":0},{"$f":"IFERROR(SUM(BD134:BE134),\"\")","v":0},null,{"$f":"IFERROR($Q$43/$Q$45*$AV134*$Q$50,\"\")","v":""},{"$f":"IFERROR(($Q$46+$Q$47+$Q$48)*$AW134,\"\")","v":0},{"$f":"IFERROR(SUM(BH134:BI134),\"\")","v":0},{"$f":"IFERROR($R$43/$R$45*$AV134*$R$50,\"\")","v":""},{"$f":"IFERROR(($R$46+$R$47+$R$48)*$AW134,\"\")","v":0},{"$f":"IFERROR(SUM(BK134:BL134),\"\")","v":0},{"$f":"IFERROR($S$43/$S$45*$AV134*$S$50,\"\")","v":""},{"$f":"IFERROR(($S$46+$S$47+$S$48)*$AW134,\"\")","v":0},{"$f":"IFERROR(SUM(BN134:BO134),\"\")","v":0}]
[null,null,6,{"$f":"COUNTIF($D$119:$AA$119,$D$132)*$AB$14","v":0},{"$f":"COUNTIF($D$119:$AA$119,$E$132)*$AB$14","v":0},{"$f":"COUNTIF($D$119:$AA$119,$F$132)*$AB$14","v":0},{"$f":"COUNTIF($D$119:$AA$119,$G$132)*$AB$14","v":0},{"$f":"COUNTIF($D$119:$AA$119,$H$132)*$AB$14","v":0},{"$f":"COUNTIF($D$119:$AA$119,$I$132)*$AB$14","v":0},{"$f":"COUNTIF($D$119:$AA$119,$J$132)*$AB$14","v":0},{"$f":"COUNTIF($D$119:$AA$119,$K$132)*$AB$14","v":0},{"$f":"COUNTIF($D$119:$AA$119,$L$132)*$AB$14","v":0},{"$f":"COUNTIF($D$119:$AA$119,$M$132)*$AB$14","v":0},{"$f":"COUNTIF($D$119:$AA$119,$N$132)*$AB$14","v":0},{"$f":"COUNTIF($D$119:$AA$119,$O$132)*$AB$14","v":0},{"$f":"COUNTIF($D$119:$AA$119,$P$132)*$AB$14","v":0},{"$f":"COUNTIF($D$119:$AA$119,$Q$132)*$AB$14","v":0},{"$f":"COUNTIF($D$119:$AA$119,$R$132)*$AB$14","v":0},{"$f":"COUNTIF($D$119:$AA$119,$S$132)*$AB$14","v":0},{"$f":"COUNTIF($D$119:$AA$119,$T$132)*$AB$14","v":0},{"$f":"COUNTIF($D$119:$AA$119,$U$132)*$AB$14","v":0},{"$f":"COUNTIF($D$119:$AA$119,$V$132)*$AB$14","v":0},{"$f":"COUNTIF($D$119:$AA$119,$W$132)*$AB$14","v":0},{"$f":"COUNTIF($D$119:$AA$119,$X$132)*$AB$14","v":0},{"$f":"COUNTIF($D$119:$AA$119,$Y$132)*$AB$14","v":0},{"$f":"COUNTIF($D$119:$AA$119,$Z$132)*$AB$14","v":0},{"$f":"COUNTIF($D$119:$AA$119,$AA$132)*$AB$14","v":0},{"$f":"COUNTIF($D$119:$AA$119,$AB$132)*$AB$14","v":0},{"$f":"COUNTIF($D$119:$AA$119,$AC$132)*$AB$14","v":0},{"$f":"COUNTIF($D$119:$AA$119,$AD$132)*$AB$14","v":0},{"$f":"COUNTIF($D$119:$AA$119,$AE$132)*$AB$14","v":0},{"$f":"COUNTIF($D$119:$AA$119,$AF$132)*$AB$14","v":0},{"$f":"COUNTIF($D$119:$AA$119,$AG$132)*$AB$14","v":0},{"$f":"COUNTIF($D$119:$AA$119,$AH$132)*$AB$14","v":0},{"$f":"COUNTIF($D$119:$AA$119,$AI$132)*$AB$14","v":0},{"$f":"COUNTIF($D$119:$AA$119,$AJ$132)*$AB$14","v":0},{"$f":"COUNTIF($D$119:$AA$119,$AK$132)*$AB$14","v":0},{"$f":"COUNTIF($D$119:$AA$119,$AL$132)*$AB$14","v":0},{"$f":"COUNTIF($D$119:$AA$119,$AM$132)*$AB$14","v":0},{"$f":"COUNTIF($D$119:$AA$119,$AN$132)*$AB$14","v":0},{"$f":"COUNTIF($D$119:$AA$119,$AO$132)*$AB$14","v":0},{"$f":"COUNTIF($D$119:$AA$119,$AP$132)*$AB$14","v":0},{"$f":"COUNTIF($D$119:$AA$119,$AQ$132)*$AB$14","v":0},{"$f":"COUNTIF($D$119:$AA$119,$AR$132)*$AB$14","v":0},{"$f":"COUNTIF($D$119:$AA$119,$AS$132)*$AB$14","v":0},6,null,{"$f":"SUMPRODUCT(D135:AS135,$D$146:$AS$146)","v":0},0,0,0,0,"",0,0,"",0,0,null,"",0,0,"",0,0,"",0,0]
[null,null,7,{"$f":"COUNTIF($D$120:$AA$120,$D$132)*$AB$15","v":0},{"$f":"COUNTIF($D$120:$AA$120,$E$132)*$AB$15","v":0},{"$f":"COUNTIF($D$120:$AA$120,$F$132)*$AB$15","v":0},{"$f":"COUNTIF($D$120:$AA$120,$G$132)*$AB$15","v":0},{"$f":"COUNTIF($D$120:$AA$120,$H$132)*$AB$15","v":0},{"$f":"COUNTIF($D$120:$AA$120,$I$132)*$AB$15","v":0},{"$f":"COUNTIF($D$120:$AA$120,$J$132)*$AB$15","v":0},{"$f":"COUNTIF($D$120:$AA$120,$K$132)*$AB$15","v":0},{"$f":"COUNTIF($D$120:$AA$120,$L$132)*$AB$15","v":0},{"$f":"COUNTIF($D$120:$AA$120,$M$132)*$AB$15","v":0},{"$f":"COUNTIF($D$120:$AA$120,$N$132)*$AB$15","v":0},{"$f":"COUNTIF($D$120:$AA$120,$O$132)*$AB$15","v":0},{"$f":"COUNTIF($D$120:$AA$120,$P$132)*$AB$15","v":0},{"$f":"COUNTIF($D$120:$AA$120,$Q$132)*$AB$15","v":0},{"$f":"COUNTIF($D$120:$AA$120,$R$132)*$AB$15","v":0},{"$f":"COUNTIF($D$120:$AA$120,$S$132)*$AB$15","v":0},{"$f":"COUNTIF($D$120:$AA$120,$T$132)*$AB$15","v":0},{"$f":"COUNTIF($D$120:$AA$120,$U$132)*$AB$15","v":0},{"$f":"COUNTIF($D$120:$AA$120,$V$132)*$AB$15","v":0},{"$f":"COUNTIF($D$120:$AA$120,$W$132)*$AB$15","v":0},{"$f":"COUNTIF($D$120:$AA$120,$X$132)*$AB$15","v":0},{"$f":"COUNTIF($D$120:$AA$120,$Y$132)*$AB$15","v":0},{"$f":"COUNTIF($D$120:$AA$120,$Z$132)*$AB$15","v":0},{"$f":"COUNTIF($D$120:$AA$120,$AA$132)*$AB$15","v":0},{"$f":"COUNTIF($D$120:$AA$120,$AB$132)*$AB$15","v":0},{"$f":"COUNTIF($D$120:$AA$120,$AC$132)*$AB$15","v":0},{"$f":"COUNTIF($D$120:$AA$120,$AD$132)*$AB$15","v":0},{"$f":"COUNTIF($D$120:$AA$120,$AE$132)*$AB$15","v":0},{"$f":"COUNTIF($D$120:$AA$120,$AF$132)*$AB$15","v":0},{"$f":"COUNTIF($D$120:$AA$120,$AG$132)*$AB$15","v":0},{"$f":"COUNTIF($D$120:$AA$120,$AH$132)*$AB$15","v":0},{"$f":"COUNTIF($D$120:$AA$120,$AI$132)*$AB$15","v":0},{"$f":"COUNTIF($D$120:$AA$120,$AJ$132)*$AB$15","v":0},{"$f":"COUNTIF($D$120:$AA$120,$AK$132)*$AB$15","v":0},{"$f":"COUNTIF($D$120:$AA$120,$AL$132)*$AB$15","v":0},{"$f":"COUNTIF($D$120:$AA$120,$AM$132)*$AB$15","v":0},{"$f":"COUNTIF($D$120:$AA$120,$AN$132)*$AB$15","v":0},{"$f":"COUNTIF($D$120:$AA$120,$AO$132)*$AB$15","v":0},{"$f":"COUNTIF($D$120:$AA$120,$AP$132)*$AB$15","v":0},{"$f":"COUNTIF($D$120:$AA$120,$AQ$132)*$AB$15","v":0},{"$f":"COUNTIF($D$120:$AA$120,$AR$132)*$AB$15","v":0},{"$f":"COUNTIF($D$120:$AA$120,$AS$132)*$AB$15","v":0},7,null,0,0,0,0,0,"",0,0,"",0,0,null,"",0,0,"",0,0,"",0,0]
[null,null,8,{"$f":"COUNTIF($D$121:$AA$121,$D$132)*$AB$16","v":0},{"$f":"COUNTIF($D$121:$AA$121,$E$132)*$AB$16","v":0},{"$f":"COUNTIF($D$121:$AA$121,$F$132)*$AB$16","v":0},{"$f":"COUNTIF($D$121:$AA$121,$G$132)*$AB$16","v":0},{"$f":"COUNTIF($D$121:$AA$121,$H$132)*$AB$16","v":0},{"$f":"COUNTIF($D$121:$AA$121,$I$132)*$AB$16","v":0},{"$f":"COUNTIF($D$121:$AA$121,$J$132)*$AB$16","v":0},{"$f":"COUNTIF($D$121:$AA$121,$K$132)*$AB$16","v":0},{"$f":"COUNTIF($D$121:$AA$121,$L$132)*$AB$16","v":0},{"$f":"COUNTIF($D$121:$AA$121,$M$132)*$AB$16","v":0},{"$f":"COUNTIF($D$121:$AA$121,$N$132)*$AB$16","v":0},{"$f":"COUNTIF($D$121:$AA$121,$O$132)*$AB$16","v":0},{"$f":"COUNTIF($D$121:$AA$121,$P$132)*$AB$16","v":0},{"$f":"COUNTIF($D$121:$AA$121,$Q$132)*$AB$16","v":0},{"$f":"COUNTIF($D$121:$AA$121,$R$132)*$AB$16","v":0},{"$f":"COUNTIF($D$121:$AA$121,$S$132)*$AB$16","v":0},{"$f":"COUNTIF($D$121:$AA$121,$T$132)*$AB$16","v":0},{"$f":"COUNTIF($D$121:$AA$121,$U$132)*$AB$16","v":0},{"$f":"COUNTIF($D$121:$AA$121,$V$132)*$AB$16","v":0},{"$f":"COUNTIF($D$121:$AA$121,$W$132)*$AB$16","v":0},{"$f":"COUNTIF($D$121:$AA$121,$X$132)*$AB$16","v":0},{"$f":"COUNTIF($D$121:$AA$121,$Y$132)*$AB$16","v":0},{"$f":"COUNTIF($D$121:$AA$121,$Z$132)*$AB$16","v":0},{"$f":"COUNTIF($D$121:$AA$121,$AA$132)*$AB$16","v":0},{"$f":"COUNTIF($D$121:$AA$121,$AB$132)*$AB$16","v":0},{"$f":"COUNTIF($D$121:$AA$121,$AC$132)*$AB$16","v":0},{"$f":"COUNTIF($D$121:$AA$121,$AD$132)*$AB$16","v":0},{"$f":"COUNTIF($D$121:$AA$121,$AE$132)*$AB$16","v":0},{"$f":"COUNTIF($D$121:$AA$121,$AF$132)*$AB$16","v":0},{"$f":"COUNTIF($D$121:$AA$121,$AG$132)*$AB$16","v":0},{"$f":"COUNTIF($D$121:$AA$121,$AH$132)*$AB$16","v":0},{"$f":"COUNTIF($D$121:$AA$121,$AI$132)*$AB$16","v":0},{"$f":"COUNTIF($D$121:$AA$121,$AJ$132)*$AB$16","v":0},{"$f":"COUNTIF($D$121:$AA$121,$AK$132)*$AB$16","v":0},{"$f":"COUNTIF($D$121:$AA$121,$AL$132)*$AB$16","v":0},{"$f":"COUNTIF($D$121:$AA$121,$AM$132)*$AB$16","v":0},{"$f":"COUNTIF($D$121:$AA$121,$AN$132)*$AB$16","v":0},{"$f":"COUNTIF($D$121:$AA$121,$AO$132)*$AB$16","v":0},{"$f":"COUNTIF($D$121:$AA$121,$AP$132)*$AB$16","v":0},{"$f":"COUNTIF($D$121:$AA$121,$AQ$132)*$AB$16","v":0},{"$f":"COUNTIF($D$121:$AA$121,$AR$132)*$AB$16","v":0},{"$f":"COUNTIF($D$121:$AA$121,$AS$132)*$AB$16","v":0},8,null,0,0,0,0,0,"",0,0,"",0,0,null,"",0,0,"",0,0,"",0,0]
[null,null,9,{"$f":"COUNTIF($D$122:$AA$122,$D$132)*$AB$17","v":0},{"$f":"COUNTIF($D$122:$AA$122,$E$132)*$AB$17","v":0},{"$f":"COUNTIF($D$122:$AA$122,$F$132)*$AB$17","v":0},{"$f":"COUNTIF($D$122:$AA$122,$G$132)*$AB$17","v":0},{"$f":"COUNTIF($D$122:$AA$122,$H$132)*$AB$17","v":0},{"$f":"COUNTIF($D$122:$AA$122,$I$132)*$AB$17","v":0},{"$f":"COUNTIF($D$122:$AA$122,$J$132)*$AB$17","v":0},{"$f":"COUNTIF($D$122:$AA$122,$K$132)*$AB$17","v":0},{"$f":"COUNTIF($D$122:$AA$122,$L$132)*$AB$17","v":0},{"$f":"COUNTIF($D$122:$AA$122,$M$132)*$AB$17","v":0},{"$f":"COUNTIF($D$122:$AA$122,$N$132)*$AB$17","v":0},{"$f":"COUNTIF($D$122:$AA$122,$O$132)*$AB$17","v":0},{"$f":"COUNTIF($D$122:$AA$122,$P$132)*$AB$17","v":0},{"$f":"COUNTIF($D$122:$AA$122,$Q$132)*$AB$17","v":0},{"$f":"COUNTIF($D$122:$AA$122,$R$132)*$AB$17","v":0},{"$f":"COUNTIF($D$122:$AA$122,$S$132)*$AB$17","v":0},{"$f":"COUNTIF($D$122:$AA$122,$T$132)*$AB$17","v":0},{"$f":"COUNTIF($D$122:$AA$122,$U$132)*$AB$17","v":0},{"$f":"COUNTIF($D$122:$AA$122,$V$132)*$AB$17","v":0},{"$f":"COUNTIF($D$122:$AA$122,$W$132)*$AB$17","v":0},{"$f":"COUNTIF($D$122:$AA$122,$X$132)*$AB$17","v":0},{"$f":"COUNTIF($D$122:$AA$122,$Y$132)*$AB$17","v":0},{"$f":"COUNTIF($D$122:$AA$122,$Z$132)*$AB$17","v":0},{"$f":"COUNTIF($D$122:$AA$122,$AA$132)*$AB$17","v":0},{"$f":"COUNTIF($D$122:$AA$122,$AB$132)*$AB$17","v":0},{"$f":"COUNTIF($D$122:$AA$122,$AC$132)*$AB$17","v":0},{"$f":"COUNTIF($D$122:$AA$122,$AD$132)*$AB$17","v":0},{"$f":"COUNTIF($D$122:$AA$122,$AE$132)*$AB$17","v":0},{"$f":"COUNTIF($D$122:$AA$122,$AF$132)*$AB$17","v":0},{"$f":"COUNTIF($D$122:$AA$122,$AG$132)*$AB$17","v":0},{"$f":"COUNTIF($D$122:$AA$122,$AH$132)*$AB$17","v":0},{"$f":"COUNTIF($D$122:$AA$122,$AI$132)*$AB$17","v":0},{"$f":"COUNTIF($D$122:$AA$122,$AJ$132)*$AB$17","v":0},{"$f":"COUNTIF($D$122:$AA$122,$AK$132)*$AB$17","v":0},{"$f":"COUNTIF($D$122:$AA$122,$AL$132)*$AB$17","v":0},{"$f":"COUNTIF($D$122:$AA$122,$AM$132)*$AB$17","v":0},{"$f":"COUNTIF($D$122:$AA$122,$AN$132)*$AB$17","v":0},{"$f":"COUNTIF($D$122:$AA$122,$AO$132)*$AB$17","v":0},{"$f":"COUNTIF($D$122:$AA$122,$AP$132)*$AB$17","v":0},{"$f":"COUNTIF($D$122:$AA$122,$AQ$132)*$AB$17","v":0},{"$f":"COUNTIF($D$122:$AA$122,$AR$132)*$AB$17","v":0},{"$f":"COUNTIF($D$122:$AA$122,$AS$132)*$AB$17","v":0},9,null,0,0,0,0,0,"",0,0,"",0,0,null,"",0,0,"",0,0,"",0,0]
[null,null,10,{"$f":"COUNTIF($D$123:$AA$123,$D$132)*$AB$18","v":0},{"$f":"COUNTIF($D$123:$AA$123,$E$132)*$AB$18","v":0},{"$f":"COUNTIF($D$123:$AA$123,$F$132)*$AB$18","v":0},{"$f":"COUNTIF($D$123:$AA$123,$G$132)*$AB$18","v":0},{"$f":"COUNTIF($D$123:$AA$123,$H$132)*$AB$18","v":0},{"$f":"COUNTIF($D$123:$AA$123,$I$132)*$AB$18","v":0},{"$f":"COUNTIF($D$123:$AA$123,$J$132)*$AB$18","v":0},{"$f":"COUNTIF($D$123:$AA$123,$K$132)*$AB$18","v":0},{"$f":"COUNTIF($D$123:$AA$123,$L$132)*$AB$18","v":0},{"$f":"COUNTIF($D$123:$AA$123,$M$132)*$AB$18","v":0},{"$f":"COUNTIF($D$123:$AA$123,$N$132)*$AB$18","v":0},{"$f":"COUNTIF($D$123:$AA$123,$O$132)*$AB$18","v":0},{"$f":"COUNTIF($D$123:$AA$123,$P$132)*$AB$18","v":0},{"$f":"COUNTIF($D$123:$AA$123,$Q$132)*$AB$18","v":0},{"$f":"COUNTIF($D$123:$AA$123,$R$132)*$AB$18","v":0},{"$f":"COUNTIF($D$123:$AA$123,$S$132)*$AB$18","v":0},{"$f":"COUNTIF($D$123:$AA$123,$T$132)*$AB$18","v":0},{"$f":"COUNTIF($D$123:$AA$123,$U$132)*$AB$18","v":0},{"$f":"COUNTIF($D$123:$AA$123,$V$132)*$AB$18","v":0},{"$f":"COUNTIF($D$123:$AA$123,$W$132)*$AB$18","v":0},{"$f":"COUNTIF($D$123:$AA$123,$X$132)*$AB$18","v":0},{"$f":"COUNTIF($D$123:$AA$123,$Y$132)*$AB$18","v":0},{"$f":"COUNTIF($D$123:$AA$123,$Z$132)*$AB$18","v":0},{"$f":"COUNTIF($D$123:$AA$123,$AA$132)*$AB$18","v":0},{"$f":"COUNTIF($D$123:$AA$123,$AB$132)*$AB$18","v":0},{"$f":"COUNTIF($D$123:$AA$123,$AC$132)*$AB$18","v":0},{"$f":"COUNTIF($D$123:$AA$123,$AD$132)*$AB$18","v":0},{"$f":"COUNTIF($D$123:$AA$123,$AE$132)*$AB$18","v":0},{"$f":"COUNTIF($D$123:$AA$123,$AF$132)*$AB$18","v":0},{"$f":"COUNTIF($D$123:$AA$123,$AG$132)*$AB$18","v":0},{"$f":"COUNTIF($D$123:$AA$123,$AH$132)*$AB$18","v":0},{"$f":"COUNTIF($D$123:$AA$123,$AI$132)*$AB$18","v":0},{"$f":"COUNTIF($D$123:$AA$123,$AJ$132)*$AB$18","v":0},{"$f":"COUNTIF($D$123:$AA$123,$AK$132)*$AB$18","v":0},{"$f":"COUNTIF($D$123:$AA$123,$AL$132)*$AB$18","v":0},{"$f":"COUNTIF($D$123:$AA$123,$AM$132)*$AB$18","v":0},{"$f":"COUNTIF($D$123:$AA$123,$AN$132)*$AB$18","v":0},{"$f":"COUNTIF($D$123:$AA$123,$AO$132)*$AB$18","v":0},{"$f":"COUNTIF($D$123:$AA$123,$AP$132)*$AB$18","v":0},{"$f":"COUNTIF($D$123:$AA$123,$AQ$132)*$AB$18","v":0},{"$f":"COUNTIF($D$123:$AA$123,$AR$132)*$AB$18","v":0},{"$f":"COUNTIF($D$123:$AA$123,$AS$132)*$AB$18","v":0},10,null,0,0,0,0,0,"",0,0,"",0,0,null,"",0,0,"",0,0,"",0,0]
[null,null,11,{"$f":"COUNTIF($D$124:$AA$124,$D$132)*$AB$19","v":0},{"$f":"COUNTIF($D$124:$AA$124,$E$132)*$AB$19","v":0},{"$f":"COUNTIF($D$124:$AA$124,$F$132)*$AB$19","v":0},{"$f":"COUNTIF($D$124:$AA$124,$G$132)*$AB$19","v":0},{"$f":"COUNTIF($D$124:$AA$124,$H$132)*$AB$19","v":0},{"$f":"COUNTIF($D$124:$AA$124,$I$132)*$AB$19","v":0},{"$f":"COUNTIF($D$124:$AA$124,$J$132)*$AB$19","v":0},{"$f":"COUNTIF($D$124:$AA$124,$K$132)*$AB$19","v":0},{"$f":"COUNTIF($D$124:$AA$124,$L$132)*$AB$19","v":0},{"$f":"COUNTIF($D$124:$AA$124,$M$132)*$AB$19","v":0},{"$f":"COUNTIF($D$124:$AA$124,$N$132)*$AB$19","v":0},{"$f":"COUNTIF($D$124:$AA$124,$O$132)*$AB$19","v":0},{"$f":"COUNTIF($D$124:$AA$124,$P$132)*$AB$19","v":0},{"$f":"COUNTIF($D$124:$AA$124,$Q$132)*$AB$19","v":0},{"$f":"COUNTIF($D$124:$AA$124,$R$132)*$AB$19","v":0},{"$f":"COUNTIF($D$124:$AA$124,$S$132)*$AB$19","v":0},{"$f":"COUNTIF($D$124:$AA$124,$T$132)*$AB$19","v":0},{"$f":"COUNTIF($D$124:$AA$124,$U$132)*$AB$19","v":0},{"$f":"COUNTIF($D$124:$AA$124,$V$132)*$AB$19","v":0},{"$f":"COUNTIF($D$124:$AA$124,$W$132)*$AB$19","v":0},{"$f":"COUNTIF($D$124:$AA$124,$X$132)*$AB$19","v":0},{"$f":"COUNTIF($D$124:$AA$124,$Y$132)*$AB$19","v":0},{"$f":"COUNTIF($D$124:$AA$124,$Z$132)*$AB$19","v":0},{"$f":"COUNTIF($D$124:$AA$124,$AA$132)*$AB$19","v":0},{"$f":"COUNTIF($D$124:$AA$124,$AB$132)*$AB$19","v":0},{"$f":"COUNTIF($D$124:$AA$124,$AC$132)*$AB$19","v":0},{"$f":"COUNTIF($D$124:$AA$124,$AD$132)*$AB$19","v":0},{"$f":"COUNTIF($D$124:$AA$124,$AE$132)*$AB$19","v":0},{"$f":"COUNTIF($D$124:$AA$124,$AF$132)*$AB$19","v":0},{"$f":"COUNTIF($D$124:$AA$124,$AG$132)*$AB$19","v":0},{"$f":"COUNTIF($D$124:$AA$124,$AH$132)*$AB$19","v":0},{"$f":"COUNTIF($D$124:$AA$124,$AI$132)*$AB$19","v":0},{"$f":"COUNTIF($D$124:$AA$124,$AJ$132)*$AB$19","v":0},{"$f":"COUNTIF($D$124:$AA$124,$AK$132)*$AB$19","v":0},{"$f":"COUNTIF($D$124:$AA$124,$AL$132)*$AB$19","v":0},{"$f":"COUNTIF($D$124:$AA$124,$AM$132)*$AB$19","v":0},{"$f":"COUNTIF($D$124:$AA$124,$AN$132)*$AB$19","v":0},{"$f":"COUNTIF($D$124:$AA$124,$AO$132)*$AB$19","v":0},{"$f":"COUNTIF($D$124:$AA$124,$AP$132)*$AB$19","v":0},{"$f":"COUNTIF($D$124:$AA$124,$AQ$132)*$AB$19","v":0},{"$f":"COUNTIF($D$124:$AA$124,$AR$132)*$AB$19","v":0},{"$f":"COUNTIF($D$124:$AA$124,$AS$132)*$AB$19","v":0},11,null,0,0,0,0,0,"",0,0,"",0,0,null,"",0,0,"",0,0,"",0,0]
[null,null,12,{"$f":"COUNTIF($D$125:$AA$125,$D$132)*$AB$20","v":0},{"$f":"COUNTIF($D$125:$AA$125,$E$132)*$AB$20","v":0},{"$f":"COUNTIF($D$125:$AA$125,$F$132)*$AB$20","v":0},{"$f":"COUNTIF($D$125:$AA$125,$G$132)*$AB$20","v":0},{"$f":"COUNTIF($D$125:$AA$125,$H$132)*$AB$20","v":0},{"$f":"COUNTIF($D$125:$AA$125,$I$132)*$AB$20","v":0},{"$f":"COUNTIF($D$125:$AA$125,$J$132)*$AB$20","v":0},{"$f":"COUNTIF($D$125:$AA$125,$K$132)*$AB$20","v":0},{"$f":"COUNTIF($D$125:$AA$125,$L$132)*$AB$20","v":0},{"$f":"COUNTIF($D$125:$AA$125,$M$132)*$AB$20","v":0},{"$f":"COUNTIF($D$125:$AA$125,$N$132)*$AB$20","v":0},{"$f":"COUNTIF($D$125:$AA$125,$O$132)*$AB$20","v":0},{"$f":"COUNTIF($D$125:$AA$125,$P$132)*$AB$20","v":0},{"$f":"COUNTIF($D$125:$AA$125,$Q$132)*$AB$20","v":0},{"$f":"COUNTIF($D$125:$AA$125,$R$132)*$AB$20","v":0},{"$f":"COUNTIF($D$125:$AA$125,$S$132)*$AB$20","v":0},{"$f":"COUNTIF($D$125:$AA$125,$T$132)*$AB$20","v":0},{"$f":"COUNTIF($D$125:$AA$125,$U$132)*$AB$20","v":0},{"$f":"COUNTIF($D$125:$AA$125,$V$132)*$AB$20","v":0},{"$f":"COUNTIF($D$125:$AA$125,$W$132)*$AB$20","v":0},{"$f":"COUNTIF($D$125:$AA$125,$X$132)*$AB$20","v":0},{"$f":"COUNTIF($D$125:$AA$125,$Y$132)*$AB$20","v":0},{"$f":"COUNTIF($D$125:$AA$125,$Z$132)*$AB$20","v":0},{"$f":"COUNTIF($D$125:$AA$125,$AA$132)*$AB$20","v":0},{"$f":"COUNTIF($D$125:$AA$125,$AB$132)*$AB$20","v":0},{"$f":"COUNTIF($D$125:$AA$125,$AC$132)*$AB$20","v":0},{"$f":"COUNTIF($D$125:$AA$125,$AD$132)*$AB$20","v":0},{"$f":"COUNTIF($D$125:$AA$125,$AE$132)*$AB$20","v":0},{"$f":"COUNTIF($D$125:$AA$125,$AF$132)*$AB$20","v":0},{"$f":"COUNTIF($D$125:$AA$125,$AG$132)*$AB$20","v":0},{"$f":"COUNTIF($D$125:$AA$125,$AH$132)*$AB$20","v":0},{"$f":"COUNTIF($D$125:$AA$125,$AI$132)*$AB$20","v":0},{"$f":"COUNTIF($D$125:$AA$125,$AJ$132)*$AB$20","v":0},{"$f":"COUNTIF($D$125:$AA$125,$AK$132)*$AB$20","v":0},{"$f":"COUNTIF($D$125:$AA$125,$AL$132)*$AB$20","v":0},{"$f":"COUNTIF($D$125:$AA$125,$AM$132)*$AB$20","v":0},{"$f":"COUNTIF($D$125:$AA$125,$AN$132)*$AB$20","v":0},{"$f":"COUNTIF($D$125:$AA$125,$AO$132)*$AB$20","v":0},{"$f":"COUNTIF($D$125:$AA$125,$AP$132)*$AB$20","v":0},{"$f":"COUNTIF($D$125:$AA$125,$AQ$132)*$AB$20","v":0},{"$f":"COUNTIF($D$125:$AA$125,$AR$132)*$AB$20","v":0},{"$f":"COUNTIF($D$125:$AA$125,$AS$132)*$AB$20","v":0},12,null,0,0,0,0,0,"",0,0,"",0,0,null,"",0,0,"",0,0,"",0,0]
[null,null,1,{"$f":"COUNTIF($D$126:$AA$126,$D$132)*$AB$21","v":0},{"$f":"COUNTIF($D$126:$AA$126,$E$132)*$AB$21","v":0},{"$f":"COUNTIF($D$126:$AA$126,$F$132)*$AB$21","v":0},{"$f":"COUNTIF($D$126:$AA$126,$G$132)*$AB$21","v":0},{"$f":"COUNTIF($D$126:$AA$126,$H$132)*$AB$21","v":0},{"$f":"COUNTIF($D$126:$AA$126,$I$132)*$AB$21","v":0},{"$f":"COUNTIF($D$126:$AA$126,$J$132)*$AB$21","v":0},{"$f":"COUNTIF($D$126:$AA$126,$K$132)*$AB$21","v":0},{"$f":"COUNTIF($D$126:$AA$126,$L$132)*$AB$21","v":0},{"$f":"COUNTIF($D$126:$AA$126,$M$132)*$AB$21","v":0},{"$f":"COUNTIF($D$126:$AA$126,$N$132)*$AB$21","v":0},{"$f":"COUNTIF($D$126:$AA$126,$O$132)*$AB$21","v":0},{"$f":"COUNTIF($D$126:$AA$126,$P$132)*$AB$21","v":0},{"$f":"COUNTIF($D$126:$AA$126,$Q$132)*$AB$21","v":0},{"$f":"COUNTIF($D$126:$AA$126,$R$132)*$AB$21","v":0},{"$f":"COUNTIF($D$126:$AA$126,$S$132)*$AB$21","v":0},{"$f":"COUNTIF($D$126:$AA$126,$T$132)*$AB$21","v":0},{"$f":"COUNTIF($D$126:$AA$126,$U$132)*$AB$21","v":0},{"$f":"COUNTIF($D$126:$AA$126,$V$132)*$AB$21","v":0},{"$f":"COUNTIF($D$126:$AA$126,$W$132)*$AB$21","v":0},{"$f":"COUNTIF($D$126:$AA$126,$X$132)*$AB$21","v":0},{"$f":"COUNTIF($D$126:$AA$126,$Y$132)*$AB$21","v":0},{"$f":"COUNTIF($D$126:$AA$126,$Z$132)*$AB$21","v":0},{"$f":"COUNTIF($D$126:$AA$126,$AA$132)*$AB$21","v":0},{"$f":"COUNTIF($D$126:$AA$126,$AB$132)*$AB$21","v":0},{"$f":"COUNTIF($D$126:$AA$126,$AC$132)*$AB$21","v":0},{"$f":"COUNTIF($D$126:$AA$126,$AD$132)*$AB$21","v":0},{"$f":"COUNTIF($D$126:$AA$126,$AE$132)*$AB$21","v":0},{"$f":"COUNTIF($D$126:$AA$126,$AF$132)*$AB$21","v":0},{"$f":"COUNTIF($D$126:$AA$126,$AG$132)*$AB$21","v":0},{"$f":"COUNTIF($D$126:$AA$126,$AH$132)*$AB$21","v":0},{"$f":"COUNTIF($D$126:$AA$126,$AI$132)*$AB$21","v":0},{"$f":"COUNTIF($D$126:$AA$126,$AJ$132)*$AB$21","v":0},{"$f":"COUNTIF($D$126:$AA$126,$AK$132)*$AB$21","v":0},{"$f":"COUNTIF($D$126:$AA$126,$AL$132)*$AB$21","v":0},{"$f":"COUNTIF($D$126:$AA$126,$AM$132)*$AB$21","v":0},{"$f":"COUNTIF($D$126:$AA$126,$AN$132)*$AB$21","v":0},{"$f":"COUNTIF($D$126:$AA$126,$AO$132)*$AB$21","v":0},{"$f":"COUNTIF($D$126:$AA$126,$AP$132)*$AB$21","v":0},{"$f":"COUNTIF($D$126:$AA$126,$AQ$132)*$AB$21","v":0},{"$f":"COUNTIF($D$126:$AA$126,$AR$132)*$AB$21","v":0},{"$f":"COUNTIF($D$126:$AA$126,$AS$132)*$AB$21","v":0},1,null,0,0,0,0,0,"",0,0,"",0,0,null,"",0,0,"",0,0,"",0,0]
[null,null,2,{"$f":"COUNTIF($D$127:$AA$127,$D$132)*$AB$22","v":0},{"$f":"COUNTIF($D$127:$AA$127,$E$132)*$AB$22","v":0},{"$f":"COUNTIF($D$127:$AA$127,$F$132)*$AB$22","v":0},{"$f":"COUNTIF($D$127:$AA$127,$G$132)*$AB$22","v":0},{"$f":"COUNTIF($D$127:$AA$127,$H$132)*$AB$22","v":0},{"$f":"COUNTIF($D$127:$AA$127,$I$132)*$AB$22","v":0},{"$f":"COUNTIF($D$127:$AA$127,$J$132)*$AB$22","v":0},{"$f":"COUNTIF($D$127:$AA$127,$K$132)*$AB$22","v":0},{"$f":"COUNTIF($D$127:$AA$127,$L$132)*$AB$22","v":0},{"$f":"COUNTIF($D$127:$AA$127,$M$132)*$AB$22","v":0},{"$f":"COUNTIF($D$127:$AA$127,$N$132)*$AB$22","v":0},{"$f":"COUNTIF($D$127:$AA$127,$O$132)*$AB$22","v":0},{"$f":"COUNTIF($D$127:$AA$127,$P$132)*$AB$22","v":0},{"$f":"COUNTIF($D$127:$AA$127,$Q$132)*$AB$22","v":0},{"$f":"COUNTIF($D$127:$AA$127,$R$132)*$AB$22","v":0},{"$f":"COUNTIF($D$127:$AA$127,$S$132)*$AB$22","v":0},{"$f":"COUNTIF($D$127:$AA$127,$T$132)*$AB$22","v":0},{"$f":"COUNTIF($D$127:$AA$127,$U$132)*$AB$22","v":0},{"$f":"COUNTIF($D$127:$AA$127,$V$132)*$AB$22","v":0},{"$f":"COUNTIF($D$127:$AA$127,$W$132)*$AB$22","v":0},{"$f":"COUNTIF($D$127:$AA$127,$X$132)*$AB$22","v":0},{"$f":"COUNTIF($D$127:$AA$127,$Y$132)*$AB$22","v":0},{"$f":"COUNTIF($D$127:$AA$127,$Z$132)*$AB$22","v":0},{"$f":"COUNTIF($D$127:$AA$127,$AA$132)*$AB$22","v":0},{"$f":"COUNTIF($D$127:$AA$127,$AB$132)*$AB$22","v":0},{"$f":"COUNTIF($D$127:$AA$127,$AC$132)*$AB$22","v":0},{"$f":"COUNTIF($D$127:$AA$127,$AD$132)*$AB$22","v":0},{"$f":"COUNTIF($D$127:$AA$127,$AE$132)*$AB$22","v":0},{"$f":"COUNTIF($D$127:$AA$127,$AF$132)*$AB$22","v":0},{"$f":"COUNTIF($D$127:$AA$127,$AG$132)*$AB$22","v":0},{"$f":"COUNTIF($D$127:$AA$127,$AH$132)*$AB$22","v":0},{"$f":"COUNTIF($D$127:$AA$127,$AI$132)*$AB$22","v":0},{"$f":"COUNTIF($D$127:$AA$127,$AJ$132)*$AB$22","v":0},{"$f":"COUNTIF($D$127:$AA$127,$AK$132)*$AB$22","v":0},{"$f":"COUNTIF($D$127:$AA$127,$AL$132)*$AB$22","v":0},{"$f":"COUNTIF($D$127:$AA$127,$AM$132)*$AB$22","v":0},{"$f":"COUNTIF($D$127:$AA$127,$AN$132)*$AB$22","v":0},{"$f":"COUNTIF($D$127:$AA$127,$AO$132)*$AB$22","v":0},{"$f":"COUNTIF($D$127:$AA$127,$AP$132)*$AB$22","v":0},{"$f":"COUNTIF($D$127:$AA$127,$AQ$132)*$AB$22","v":0},{"$f":"COUNTIF($D$127:$AA$127,$AR$132)*$AB$22","v":0},{"$f":"COUNTIF($D$127:$AA$127,$AS$132)*$AB$22","v":0},2,null,0,0,0,0,0,"",0,0,"",0,0,null,"",0,0,"",0,0,"",0,0]
[null,null,3,{"$f":"COUNTIF($D$128:$AA$128,$D$132)*$AB$23","v":0},{"$f":"COUNTIF($D$128:$AA$128,$E$132)*$AB$23","v":0},{"$f":"COUNTIF($D$128:$AA$128,$F$132)*$AB$23","v":0},{"$f":"COUNTIF($D$128:$AA$128,$G$132)*$AB$23","v":0},{"$f":"COUNTIF($D$128:$AA$128,$H$132)*$AB$23","v":0},{"$f":"COUNTIF($D$128:$AA$128,$I$132)*$AB$23","v":0},{"$f":"COUNTIF($D$128:$AA$128,$J$132)*$AB$23","v":0},{"$f":"COUNTIF($D$128:$AA$128,$K$132)*$AB$23","v":0},{"$f":"COUNTIF($D$128:$AA$128,$L$132)*$AB$23","v":0},{"$f":"COUNTIF($D$128:$AA$128,$M$132)*$AB$23","v":0},{"$f":"COUNTIF($D$128:$AA$128,$N$132)*$AB$23","v":0},{"$f":"COUNTIF($D$128:$AA$128,$O$132)*$AB$23","v":0},{"$f":"COUNTIF($D$128:$AA$128,$P$132)*$AB$23","v":0},{"$f":"COUNTIF($D$128:$AA$128,$Q$132)*$AB$23","v":0},{"$f":"COUNTIF($D$128:$AA$128,$R$132)*$AB$23","v":0},{"$f":"COUNTIF($D$128:$AA$128,$S$132)*$AB$23","v":0},{"$f":"COUNTIF($D$128:$AA$128,$T$132)*$AB$23","v":0},{"$f":"COUNTIF($D$128:$AA$128,$U$132)*$AB$23","v":0},{"$f":"COUNTIF($D$128:$AA$128,$V$132)*$AB$23","v":0},{"$f":"COUNTIF($D$128:$AA$128,$W$132)*$AB$23","v":0},{"$f":"COUNTIF($D$128:$AA$128,$X$132)*$AB$23","v":0},{"$f":"COUNTIF($D$128:$AA$128,$Y$132)*$AB$23","v":0},{"$f":"COUNTIF($D$128:$AA$128,$Z$132)*$AB$23","v":0},{"$f":"COUNTIF($D$128:$AA$128,$AA$132)*$AB$23","v":0},{"$f":"COUNTIF($D$128:$AA$128,$AB$132)*$AB$23","v":0},{"$f":"COUNTIF($D$128:$AA$128,$AC$132)*$AB$23","v":0},{"$f":"COUNTIF($D$128:$AA$128,$AD$132)*$AB$23","v":0},{"$f":"COUNTIF($D$128:$AA$128,$AE$132)*$AB$23","v":0},{"$f":"COUNTIF($D$128:$AA$128,$AF$132)*$AB$23","v":0},{"$f":"COUNTIF($D$128:$AA$128,$AG$132)*$AB$23","v":0},{"$f":"COUNTIF($D$128:$AA$128,$AH$132)*$AB$23","v":0},{"$f":"COUNTIF($D$128:$AA$128,$AI$132)*$AB$23","v":0},{"$f":"COUNTIF($D$128:$AA$128,$AJ$132)*$AB$23","v":0},{"$f":"COUNTIF($D$128:$AA$128,$AK$132)*$AB$23","v":0},{"$f":"COUNTIF($D$128:$AA$128,$AL$132)*$AB$23","v":0},{"$f":"COUNTIF($D$128:$AA$128,$AM$132)*$AB$23","v":0},{"$f":"COUNTIF($D$128:$AA$128,$AN$132)*$AB$23","v":0},{"$f":"COUNTIF($D$128:$AA$128,$AO$132)*$AB$23","v":0},{"$f":"COUNTIF($D$128:$AA$128,$AP$132)*$AB$23","v":0},{"$f":"COUNTIF($D$128:$AA$128,$AQ$132)*$AB$23","v":0},{"$f":"COUNTIF($D$128:$AA$128,$AR$132)*$AB$23","v":0},{"$f":"COUNTIF($D$128:$AA$128,$AS$132)*$AB$23","v":0},3,null,0,0,0,0,0,"",0,0,"",0,0,null,"",0,0,"",0,0,"",0,0]
[null,"tc","冷却運転時間",{"$f":"SUM($D$133:$D$144)","v":0},{"$f":"SUM($E$133:$E$144)","v":0},{"$f":"SUM($F$133:$F$144)","v":0},{"$f":"SUM($G$133:$G$144)","v":0},{"$f":"SUM($H$133:$H$144)","v":0},{"$f":"SUM($I$133:$I$144)","v":0},{"$f":"SUM($J$133:$J$144)","v":0},{"$f":"SUM($K$133:$K$144)","v":0},{"$f":"SUM($L$133:$L$144)","v":0},{"$f":"SUM($M$133:$M$144)","v":0},{"$f":"SUM($N$133:$N$144)","v":0},{"$f":"SUM($O$133:$O$144)","v":0},{"$f":"SUM($P$133:$P$144)","v":0},{"$f":"SUM($Q$133:$Q$144)","v":0},{"$f":"SUM($R$133:$R$144)","v":0},{"$f":"SUM($S$133:$S$144)","v":0},{"$f":"SUM($T$133:$T$144)","v":0},{"$f":"SUM($U$133:$U$144)","v":0},{"$f":"SUM($V$133:$V$144)","v":0},{"$f":"SUM($W$133:$W$144)","v":0},{"$f":"SUM($X$133:$X$144)","v":0},{"$f":"SUM($Y$133:$Y$144)","v":0},{"$f":"SUM($Z$133:$Z$144)","v":0},{"$f":"SUM($AA$133:$AA$144)","v":0},{"$f":"SUM($AB$133:$AB$144)","v":0},{"$f":"SUM($AC$133:$AC$144)","v":0},{"$f":"SUM($AD$133:$AD$144)","v":0},{"$f":"SUM($AE$133:$AE$144)","v":0},{"$f":"SUM($AF$133:$AF$144)","v":0},{"$f":"SUM($AG$133:$AG$144)","v":0},{"$f":"SUM($AH$133:$AH$144)","v":0},{"$f":"SUM($AI$133:$AI$144)","v":0},{"$f":"SUM($AJ$133:$AJ$144)","v":0},{"$f":"SUM($AK$133:$AK$144)","v":0},{"$f":"SUM($AL$133:$AL$144)","v":0},{"$f":"SUM($AM$133:$AM$144)","v":0},{"$f":"SUM($AN$133:$AN$144)","v":0},{"$f":"SUM($AO$133:$AO$144)","v":0},{"$f":"SUM($AP$133:$AP$144)","v":0},{"$f":"SUM($AQ$133:$AQ$144)","v":0},{"$f":"SUM($AR$133:$AR$144)","v":0},{"$f":"SUM($AS$133:$AS$144)","v":0},"冷却運転時間",null,{"$f":"SUM($AV$133:$AV$144)","v":0},{"$f":"SUM($AW$133:$AW$144)","v":0},{"$f":"SUM($AX$133:$AX$144)","v":0},{"$f":"SUM($AY$133:$AY$144)","v":0},{"$f":"SUM($AZ$133:$AZ$144)","v":0},{"$f":"SUM($BA$133:$BA$144)","v":0},{"$f":"SUM($BB$133:$BB$144)","v":0},{"$f":"SUM($BC$133:$BC$144)","v":0},{"$f":"SUM($BD$133:$BD$144)","v":0},{"$f":"SUM($BE$133:$BE$144)","v":0},{"$f":"SUM($BF$133:$BF$144)","v":0},null,{"$f":"SUM($BH$133:$BH$144)","v":0},{"$f":"SUM($BI$133:$BI$144)","v":0},{"$f":"SUM($BJ$133:$BJ$144)","v":0},{"$f":"SUM($BK$133:$BK$144)","v":0},{"$f":"SUM($BL$133:$BL$144)","v":0},{"$f":"SUM($BM$133:$BM$144)","v":0},{"$f":"SUM($BN$133:$BN$144)","v":0},{"$f":"SUM($BO$133:$BO$144)","v":0},{"$f":"SUM($BP$133:$BP$144)","v":0}]
[null,"εc","冷却時消費電力比",{"$f":"$D$147/$D$148","v":0},{"$f":"$E$147/$E$148","v":0},{"$f":"$F$147/$F$148","v":0},{"$f":"$G$147/$G$148","v":0},{"$f":"$H$147/$H$148","v":0},{"$f":"$I$147/$I$148","v":0},{"$f":"$J$147/$J$148","v":0},{"$f":"$K$147/$K$148","v":0},{"$f":"$L$147/$L$148","v":0},{"$f":"$M$147/$M$148","v":0},{"$f":"$N$147/$N$148","v":0},{"$f":"$O$147/$O$148","v":0},{"$f":"$P$147/$P$148","v":0},{"$f":"$Q$147/$Q$148","v":0},{"$f":"$R$147/$R$148","v":0},{"$f":"$S$147/$S$148","v":0},{"$f":"$T$147/$T$148","v":0},{"$f":"$U$147/$U$148","v":0},{"$f":"$V$147/$V$148","v":0},{"$f":"$W$147/$W$148","v":0},{"$f":"$X$147/$X$148","v":0},{"$f":"$Y$147/$Y$148","v":0},{"$f":"$Z$147/$Z$148","v":0},{"$f":"$AA$147/$AA$148","v":0},{"$f":"$AB$147/$AB$148","v":0},{"$f":"$AC$147/$AC$148","v":0},{"$f":"$AD$147/$AD$148","v":8.2439024390243795E-2},{"$f":"$AE$147/$AE$148","v":0.13879346131224882},{"$f":"$AF$147/$AF$148","v":0.18692064333711436},{"$f":"$AG$147/$AG$148","v":0.23360162807452148},{"$f":"$AH$147/$AH$148","v":0.28241329814155736},{"$f":"$AI$147/$AI$148","v":0.33580239717873006},{"$f":"$AJ$147/$AJ$148","v":0.39578449247867442},{"$f":"$AK$147/$AK$148","v":0.46418002533978153},{"$f":"$AL$147/$AL$148","v":0.54261100150091524},{"$f":"$AM$147/$AM$148","v":0.63228561954998097},{"$f":"$AN$147/$AN$148","v":0.73352315234238352},{"$f":"$AO$147/$AO$148","v":0.84496157396415716},{"$f":"$AP$147/$AP$148","v":0.9624861401995829},{"$f":"$AQ$147/$AQ$148","v":1.0011850494710877},{"$f":"$AR$147/$AR$148","v":1.0228552246487674},{"$f":"$AS$147/$AS$148","v":1.0191816764402082},"冷却時消費電力比","εc"]
[null,"αc","冷却空調負荷率",{"$f":"IF((1/13)*(D$132-27)+1<0,0,IF((1/13)*(D$132-27)+1>1,1,(1/13)*(D$132-27)+1))","v":0},{"$f":"IF((1/13)*(E$132-27)+1<0,0,IF((1/13)*(E$132-27)+1>1,1,(1/13)*(E$132-27)+1))","v":0},{"$f":"IF((1/13)*(F$132-27)+1<0,0,IF((1/13)*(F$132-27)+1>1,1,(1/13)*(F$132-27)+1))","v":0},0,0,0,0,0,0,0,0,0,0,0,0,0,0,0,0,0,0,0,0,0,0,0,7.6923076923076872E-2,0.15384615384615374,0.23076923076923073,0.30769230769230771,0.38461538461538458,0.46153846153846145,0.53846153846153844,0.61538461538461542,0.69230769230769229,0.76923076923076916,0.84615384615384615,0.92307692307692313,1,1,1,1,"冷却空調負荷率","αc"]
[null,"βc","冷却COP比",{"$f":"3.57/10000*D$149*D$149*D$149-3.08/100*D$149*D$149+0.84*D$149-6","v":-39.534566510696401},{"$f":"3.57/10000*E$149*E$149*E$149-3.08/100*E$149*E$149+0.84*E$149-6","v":-36.083352298588977},{"$f":"3.57/10000*F$149*F$149*F$149-3.08/100*F$149*F$149+0.84*F$149-6","v":-32.829207362767413},-29.766445702321342,-26.889381316340454,-24.192328203914432,-21.669600364132904,-19.315511796085566,-17.124376498862087,-15.090508471552116,-13.208221713245331,-11.471830223031409,-9.875648,-8.4139890432407807,-7.0811673518434191,-5.8714969248975883,-4.779291761492944,-3.7988658607191623,-2.924533221665909,-2.1506078434228493,-1.4714037250796554,-0.88123486572598964,-0.37441526445152462,{"$f":"3.57/10000*AA$149*AA$149*AA$149-3.08/100*AA$149*AA$149+0.84*AA$149-6","v":5.47410796540726E-2},{"$f":"3.57/10000*AB$149*AB$149*AB$149-3.08/100*AB$149*AB$149+0.84*AB$149-6","v":0.41192016750113858},{"$f":"3.57/10000*AC$149*AC$149*AC$149-3.08/100*AC$149*AC$149+0.84*AC$149-6","v":0.70280799999999921},0.93309057806099283,1.108453902594448,1.234583974510695,1.3171667947200714,1.3618883641329074,1.3744346836595351,1.3604917542102832,1.3257455766954891,1.2758821520254866,1.2165874811106043,1.1535475648611708,1.0924484041875253,1.0389759999999981,0.99881635320891604,0.97765546472462361,0.98117933545743696,"冷却COP比","βc"]
[null,"Tc1","冷却水入口温度",{"$f":"(18/13)*(D$132-27)+32","v":-20.615384615384613},{"$f":"(18/13)*(E$132-27)+32","v":-19.230769230769226},-17.846153846153847,-16.46153846153846,-15.076923076923073,-13.692307692307693,-12.307692307692307,{"$f":"(18/13)*(K$132-27)+32","v":-10.92307692307692},-9.5384615384615401,-8.1538461538461533,-6.7692307692307665,-5.3846153846153868,-4,-2.6153846153846132,-1.2307692307692264,0.1538461538461533,1.5384615384615401,2.9230769230769234,4.3076923076923066,5.6923076923076934,7.0769230769230766,8.4615384615384635,9.8461538461538467,11.23076923076923,12.615384615384617,14,15.384615384615387,16.76923076923077,18.153846153846153,19.53846153846154,20.923076923076923,22.307692307692307,23.692307692307693,25.076923076923077,26.46153846153846,27.846153846153847,29.23076923076923,30.615384615384617,32,33.384615384615387,34.769230769230766,36.153846153846153,"冷却水入口温度","Tc1"]
[null,null,"Σ",{"$f":"D145*D146","v":0},{"$f":"E145*E146","v":0},0,0,0,0,0,0,0,0,0,0,0,0,0,0,0,0,0,0,0,0,0,0,0,0,0,0,0,0,0,0,0,0,0,0,0,0,0,0,0,0,{"$f":"SUM(D150:AS150)","v":0},"Σ"]
[]
[null,null,"αc^0.6",{"$f":"D147^0.6","v":0},{"$f":"E147^0.6","v":0},0,0,0,0,0,0,0,0,0,0,0,0,0,0,0,0,0,0,0,0,0,0,0,0,0.21460211045300656,0.32527597402171626,0.41486494673221525,0.49302618251252139,0.5636584099885501,0.62881767262647259,0.68975175254731136,0.74728795255760783,0.8020094660942908,0.85434638987255551,0.90462711229998261,0.95310936371445665,1,1,1,1,"αc^0.6"]
[null,null,"Σ",{"$f":"D$152*D$145","v":0},{"$f":"E$152*E$145","v":0},0,0,0,0,0,0,0,0,0,0,0,0,0,0,0,0,0,0,0,0,0,0,0,0,0,0,0,0,0,0,0,0,0,0,0,0,0,0,0,0,{"$f":"SUM(D153:AS153)","v":0}]

{"sheet":"管理","index":2,"n_rows":43,"n_cols":10,"rows_kept":43,"cut":false,"hidden":true,"merged":[]}
[]
[null,"管理番号","起票日","起票者","区分","状態","内容","担当者","対応日","対応内容"]
[null,0,"2023-02-01","●●●","バグ／課題／要望","発生／完了／対応なし","発生状況等","■■■","2023-02-05"]
[null,1,"2025-01-23","hayakawa","Ver.1.0","完了","バージョン変更","hayakawa","2025-01-23","内容変更"]
[null,2]
[null,3]
[null,4]
[null,5]
[null,6]
[null,7]
[null,8]
[null,9]
[null,10]
[null,11]
[null,12]
[null,13]
[null,14]
[null,15]
[null,16]
[null,17]
[null,18]
[null,19]
[null,20]
[null,21]
[null,22]
[null,23]
[null,24]
[null,25]
[null,26]
[null,27]
[null,28]
[null,29]
[null,30]
[null,31]
[null,32]
[null,33]
[null,34]
[null,35]
[null,36]
[null,37]
[null,38]
[null,39]
[null,40]

{"sheet":"都道府県庁所在地等一覧表","index":3,"n_rows":50,"n_cols":5,"rows_kept":50,"cut":false,"hidden":true,"merged":[]}
[]
[null,"都道府県"]
[null,null,"都道府県名","data取得都市名","県庁所在都市名"]
[null,1,"北海道","札幌","札幌"]
[null,2,"青森","青森","青森"]
[null,3,"岩手","盛岡","盛岡"]
[null,4,"宮城","仙台","仙台"]
[null,5,"秋田","秋田","秋田"]
[null,6,"山形","山形","山形"]
[null,7,"福島","福島","福島"]
[null,8,"茨城","水戸","水戸"]
[null,9,"栃木","宇都宮","宇都宮"]
[null,10,"群馬","前橋","前橋"]
[null,11,"埼玉","熊谷","さいたま"]
[null,12,"千葉","千葉","千葉"]
[null,13,"東京","東京","東京"]
[null,14,"神奈川","横浜","横浜"]
[null,15,"新潟","新潟","新潟"]
[null,16,"富山","富山","富山"]
[null,17,"石川","金沢","金沢"]
[null,18,"福井","福井","福井"]
[null,19,"山梨","甲府","甲府"]
[null,20,"長野","長野","長野"]
[null,21,"岐阜","岐阜","岐阜"]
[null,22,"静岡","静岡","静岡"]
[null,23,"愛知","名古屋","名古屋"]
[null,24,"三重","津","津"]
[null,25,"滋賀","彦根","大津"]
[null,26,"京都","京都","京都"]
[null,27,"大阪","大阪","大阪"]
[null,28,"兵庫","神戸","神戸"]
[null,29,"奈良","奈良","奈良"]
[null,30,"和歌山","和歌山","和歌山"]
[null,31,"鳥取","鳥取","鳥取"]
[null,32,"島根","松江","松江"]
[null,33,"岡山","岡山","岡山"]
[null,34,"広島","広島","広島"]
[null,35,"山口","山口","山口"]
[null,36,"徳島","徳島","徳島"]
[null,37,"香川","高松","高松"]
[null,38,"愛媛","松山","松山"]
[null,39,"高知","高知","高知"]
[null,40,"福岡","福岡","福岡"]
[null,41,"佐賀","佐賀","佐賀"]
[null,42,"長崎","長崎","長崎"]
[null,43,"熊本","熊本","熊本"]
[null,44,"大分","大分","大分"]
[null,45,"宮崎","宮崎","宮崎"]
[null,46,"鹿児島","鹿児島","鹿児島"]
[null,47,"沖縄","那覇","那覇"]

{"sheet":"札幌","index":4,"n_rows":16,"n_cols":25,"rows_kept":16,"cut":false,"hidden":true,"merged":[]}
["気象データ"]
[{"$f":"RIGHT(CELL(\"filename\",A2),LEN(CELL(\"filename\",A2))-FIND(\"]\",CELL(\"filename\",A2)))","v":"札幌"}]
["時刻別平均外気湿球温度"]
["時刻",0,1,2,3,4,5,6,7,8,9,10,11,12,13,14,15,16,17,18,19,20,21,22,23]
["4月",3.1,2.9,2.8,2.6,2.5,2.4,2.6,3.1,3.9,4.5,4.9000000000000004,5.2,5.5,5.5,5.5,5.3,5.0999999999999996,4.8,4.5,4.3,4.0999999999999996,3.8,3.6,3.4]
["5月",8.4,8.1999999999999993,8.1,7.9,7.8,7.8,8.1999999999999993,8.8000000000000007,9.5,10,10.4,10.7,10.9,10.9,10.8,10.6,10.4,10.1,9.6999999999999993,9.5,9.3000000000000007,9.1,8.9,8.6999999999999993]
["6月",12.9,12.8,12.6,12.5,12.4,12.4,12.7,13.2,13.8,14.4,14.8,15.1,15.2,15.3,15.3,15.1,14.9,14.6,14.3,14,13.8,13.6,13.4,13.2]
["7月",17.3,17.100000000000001,17,16.899999999999999,16.8,16.8,17,17.5,18,18.5,18.8,19.100000000000001,19.3,19.3,19.3,19.2,19,18.8,18.5,18.2,18,17.899999999999999,17.7,17.600000000000001]
["8月",18.600000000000001,18.399999999999999,18.3,18.100000000000001,18,18,18.100000000000001,18.5,19,19.399999999999999,19.7,19.899999999999999,20.100000000000001,20.2,20.2,20.100000000000001,19.899999999999999,19.7,19.5,19.3,19.100000000000001,18.899999999999999,18.8,18.600000000000001]
["9月",14.6,14.5,14.3,14.1,14,13.9,13.9,14.4,15,15.6,15.9,16.100000000000001,16.3,16.3,16.3,16.2,16,15.8,15.6,15.4,15.2,15,14.8,14.6]
["10月",8.5,8.3000000000000007,8.1,8,7.8,7.7,7.6,7.9,8.6999999999999993,9.3000000000000007,9.8000000000000007,10.1,10.3,10.3,10.3,10.199999999999999,9.9,9.6,9.4,9.1999999999999993,9,8.8000000000000007,8.6,8.4]
["11月",2.5,2.4,2.2999999999999998,2.1,2.1,2,1.9,2,2.5,3,3.5,3.8,4,4,3.9,3.8,3.5,3.3,3.1,2.9,2.7,2.6,2.5,2.2999999999999998]
["12月",-3,-3.1,-3.2,-3.2,-3.3,-3.3,-3.4,-3.4,-3.2,-2.6,-2.2000000000000002,-1.8,-1.6,-1.6,-1.6,-1.8,-2,-2.2000000000000002,-2.4,-2.5,-2.6,-2.8,-2.9,-3]
["1月",-5.3,-5.4,-5.5,-5.6,-5.6,-5.7,-5.8,-5.8,-5.5,-4.9000000000000004,-4.4000000000000004,-4,-3.7,-3.6,-3.5,-3.7,-3.9,-4.0999999999999996,-4.3,-4.5,-4.7,-4.9000000000000004,-5,-5.2]
["2月",-4.8,-5,-5.0999999999999996,-5.3,-5.4,-5.5,-5.6,-5.6,-5.0999999999999996,-4.3,-3.8,-3.3,-3.1,-2.9,-2.9,-2.9,-3.2,-3.5,-3.7,-3.8,-4,-4.2,-4.3,-4.5]
["3月",-1.6,-1.7,-1.9,-2,-2.1,-2.2000000000000002,-2.2999999999999998,-2,-1.3,-0.7,-0.2,0.1,0.3,0.3,0.4,0.2,0.1,-0.2,-0.4,-0.6,-0.8,-1,-1.1000000000000001,-1.3]

{"sheet":"青森","index":5,"n_rows":16,"n_cols":25,"rows_kept":16,"cut":false,"hidden":true,"merged":[]}
["気象データ"]
[{"$f":"RIGHT(CELL(\"filename\",A2),LEN(CELL(\"filename\",A2))-FIND(\"]\",CELL(\"filename\",A2)))","v":"青森"}]
["時刻別平均外気湿球温度"]
["時刻",0,1,2,3,4,5,6,7,8,9,10,11,12,13,14,15,16,17,18,19,20,21,22,23]
["4月",3.1,2.9,2.8,2.7,2.5,2.4,2.6,3.2,3.9,4.5,5,5.3,5.5,5.6,5.5,5.4,5.2,4.8,4.5,4.3,4.0999999999999996,3.9,3.6,3.5]
["5月",8.4,8.1999999999999993,8.1,7.9,7.8,7.8,8.1999999999999993,8.8000000000000007,9.5,10,10.4,10.7,10.9,10.9,10.8,10.6,10.4,10.1,9.6999999999999993,9.5,9.3000000000000007,9.1,8.9,8.6999999999999993]
["6月",12.9,12.8,12.6,12.5,12.4,12.4,12.7,13.2,13.8,14.4,14.8,15.1,15.2,15.3,15.3,15.1,14.9,14.6,14.3,14,13.8,13.6,13.4,13.2]
["7月",17.3,17.100000000000001,17,16.899999999999999,16.8,16.8,17,17.5,18,18.5,18.8,19.100000000000001,19.3,19.3,19.3,19.2,19,18.8,18.5,18.2,18,17.899999999999999,17.7,17.600000000000001]
["8月",18.600000000000001,18.399999999999999,18.3,18.100000000000001,18,18,18.100000000000001,18.5,19,19.399999999999999,19.7,19.899999999999999,20.100000000000001,20.2,20.2,20.100000000000001,19.899999999999999,19.7,19.5,19.3,19.100000000000001,18.899999999999999,18.8,18.600000000000001]
["9月",14.6,14.5,14.3,14.1,14,13.9,13.9,14.4,15,15.6,15.9,16.100000000000001,16.3,16.3,16.3,16.2,16,15.8,15.6,15.4,15.2,15,14.8,14.6]
["10月",8.5,8.3000000000000007,8.1,8,7.8,7.7,7.6,7.9,8.6999999999999993,9.3000000000000007,9.8000000000000007,10.1,10.3,10.3,10.3,10.199999999999999,9.9,9.6,9.4,9.1999999999999993,9,8.8000000000000007,8.6,8.4]
["11月",2.5,2.4,2.2999999999999998,2.1,2.1,2,1.9,2,2.5,3,3.5,3.8,4,4,3.9,3.8,3.5,3.3,3.1,2.9,2.7,2.6,2.5,2.2999999999999998]
["12月",-3,-3.1,-3.2,-3.2,-3.3,-3.3,-3.4,-3.4,-3.2,-2.6,-2.2000000000000002,-1.8,-1.6,-1.6,-1.6,-1.8,-2,-2.2000000000000002,-2.4,-2.5,-2.6,-2.8,-2.9,-3]
["1月",-5.3,-5.4,-5.5,-5.6,-5.6,-5.7,-5.8,-5.8,-5.5,-4.9000000000000004,-4.4000000000000004,-4,-3.7,-3.6,-3.5,-3.7,-3.9,-4.0999999999999996,-4.3,-4.5,-4.7,-4.9000000000000004,-5,-5.2]
["2月",-4.8,-5,-5.0999999999999996,-5.3,-5.4,-5.5,-5.6,-5.6,-5.0999999999999996,-4.3,-3.8,-3.3,-3.1,-2.9,-2.9,-2.9,-3.2,-3.5,-3.7,-3.8,-4,-4.2,-4.3,-4.5]
["3月",-1.6,-1.7,-1.9,-2,-2.1,-2.2000000000000002,-2.2999999999999998,-2,-1.3,-0.7,-0.2,0.1,0.3,0.3,0.4,0.2,0.1,-0.2,-0.4,-0.6,-0.8,-1,-1.1000000000000001,-1.3]

{"sheet":"盛岡","index":6,"n_rows":16,"n_cols":25,"rows_kept":16,"cut":false,"hidden":true,"merged":[]}
["気象データ"]
[{"$f":"RIGHT(CELL(\"filename\",A2),LEN(CELL(\"filename\",A2))-FIND(\"]\",CELL(\"filename\",A2)))","v":"盛岡"}]
["時刻別平均外気湿球温度"]
["時刻",0,1,2,3,4,5,6,7,8,9,10,11,12,13,14,15,16,17,18,19,20,21,22,23]
["4月",4.2,3.9,3.7,3.5,3.3,3.1,3.3,4.2,5,5.8,6.4,6.9,7.2,7.4,7.5,7.4,7.2,6.9,6.4,6.1,5.7,5.3,5,4.7]
["5月",9.9,9.6,9.4,9.1,8.9,8.9,9.4,10.1,10.8,11.4,11.9,12.3,12.6,12.9,12.9,12.8,12.7,12.3,12,11.6,11.3,10.9,10.6,10.3]
["6月",14.6,14.4,14.2,14,13.8,13.9,14.3,14.8,15.4,15.9,16.3,16.7,16.899999999999999,17.100000000000001,17.2,17.2,17.100000000000001,16.8,16.600000000000001,16.2,15.9,15.6,15.3,15.1]
["7月",19,18.8,18.7,18.5,18.399999999999999,18.399999999999999,18.600000000000001,19,19.5,19.899999999999999,20.2,20.6,20.8,20.9,21,21.1,20.9,20.8,20.5,20.2,20,19.7,19.5,19.3]
["8月",20.2,20,19.8,19.7,19.600000000000001,19.5,19.600000000000001,20,20.5,21,21.3,21.6,21.8,21.9,22,21.9,21.8,21.7,21.4,21.1,20.9,20.7,20.5,20.3]
["9月",16.100000000000001,15.9,15.8,15.6,15.4,15.3,15.3,15.8,16.5,17.100000000000001,17.5,17.8,18,18.100000000000001,18.2,18.100000000000001,18,17.8,17.5,17.2,16.899999999999999,16.7,16.399999999999999,16.2]
["10月",9.6,9.4,9.1999999999999993,9,8.8000000000000007,8.6,8.5,8.9,9.8000000000000007,10.7,11.4,11.8,12.1,12.2,12.3,12.2,12,11.6,11.2,10.8,10.5,10.199999999999999,9.9,9.6999999999999993]
["11月",3.7,3.5,3.4,3.2,3,2.9,2.8,2.9,3.6,4.5,5.2,5.7,6.1,6.3,6.3,6.2,5.8,5.4,5,4.7,4.4000000000000004,4.0999999999999996,3.9,3.7]
["12月",-1.2,-1.3,-1.5,-1.5,-1.7,-1.8,-1.9,-1.9,-1.6,-0.8,-0.2,0.3,0.7,0.8,0.9,0.7,0.4,0,-0.2,-0.5,-0.7,-0.8,-1,-1.1000000000000001]
["1月",-3.8,-3.9,-4.0999999999999996,-4.2,-4.4000000000000004,-4.5,-4.5999999999999996,-4.7,-4.3,-3.4,-2.6,-2,-1.6,-1.4,-1.4,-1.5,-1.8,-2.2000000000000002,-2.5,-2.7,-3,-3.2,-3.4,-3.6]
["2月",-3.3,-3.5,-3.7,-3.9,-4,-4.2,-4.4000000000000004,-4.4000000000000004,-3.7,-2.7,-1.9,-1.3,-1,-0.7,-0.6,-0.7,-0.9,-1.3,-1.7,-2,-2.2999999999999998,-2.5,-2.7,-3]
["3月",-0.5,-0.7,-0.9,-1.1000000000000001,-1.2,-1.4,-1.5,-1.1000000000000001,-0.2,0.6,1.3,1.8,2.2000000000000002,2.4,2.5,2.4,2.1,1.8,1.3,1,0.7,0.4,0.1,-0.1]

{"sheet":"仙台","index":7,"n_rows":16,"n_cols":25,"rows_kept":16,"cut":false,"hidden":true,"merged":[]}
["気象データ"]
[{"$f":"RIGHT(CELL(\"filename\",A2),LEN(CELL(\"filename\",A2))-FIND(\"]\",CELL(\"filename\",A2)))","v":"仙台"}]
["時刻別平均外気湿球温度"]
["時刻",0,1,2,3,4,5,6,7,8,9,10,11,12,13,14,15,16,17,18,19,20,21,22,23]
["4月",6.3,6.1,5.9,5.6,5.5,5.3,5.5,6,6.7,7.4,7.9,8.3000000000000007,8.5,8.5,8.6,8.5,8.3000000000000007,8,7.7,7.5,7.3,7.2,6.9,6.7]
["5月",11.6,11.4,11.2,11,10.8,10.8,11.1,11.6,12.2,12.7,13.1,13.3,13.4,13.4,13.4,13.3,13.2,13,12.7,12.5,12.4,12.2,12.1,11.9]
["6月",16.100000000000001,15.9,15.8,15.6,15.5,15.5,15.7,16.100000000000001,16.5,16.8,17.2,17.399999999999999,17.5,17.5,17.399999999999999,17.3,17.2,17.100000000000001,16.899999999999999,16.7,16.600000000000001,16.600000000000001,16.5,16.399999999999999]
["7月",20.2,20.100000000000001,20,19.899999999999999,19.8,19.8,19.899999999999999,20.2,20.5,20.8,21.2,21.3,21.4,21.4,21.4,21.2,21.1,21,20.8,20.7,20.6,20.5,20.5,20.399999999999999]
["8月",21.6,21.5,21.3,21.2,21.1,21,21.1,21.3,21.7,22,22.4,22.6,22.7,22.7,22.5,22.6,22.4,22.3,22.1,22,22,21.9,21.8,21.7]
["9月",18.100000000000001,17.899999999999999,17.8,17.600000000000001,17.399999999999999,17.3,17.3,17.600000000000001,18.100000000000001,18.5,18.8,19,19.2,19.3,19.3,19.2,19.100000000000001,19,18.899999999999999,18.8,18.7,18.5,18.3,18.100000000000001]
["10月",12.2,12,11.8,11.6,11.5,11.3,11.2,11.5,12.1,12.7,13.2,13.6,13.8,13.9,13.9,13.8,13.6,13.4,13.2,13,12.9,12.6,12.4,12.2]
["11月",6.4,6.3,6.1,5.9,5.8,5.7,5.6,5.7,6.3,7,7.6,8,8.3000000000000007,8.5,8.5,8.4,8.1,7.8,7.6,7.4,7.1,6.9,6.7,6.4]
["12月",1.6,1.5,1.3,1.2,1.1000000000000001,1,0.9,0.9,1.3,2,2.6,3.1,3.4,3.5,3.5,3.4,3.1,2.8,2.6,2.4,2.2000000000000002,2,1.8,1.6]
["1月",-0.8,-0.9,-1.1000000000000001,-1.2,-1.3,-1.4,-1.5,-1.5,-1,-0.4,0.2,0.7,1,1.1000000000000001,1.1000000000000001,1,0.7,0.4,0.2,0,-0.2,-0.4,-0.5,-0.7]
["2月",-0.6,-0.8,-0.9,-1.1000000000000001,-1.2,-1.3,-1.4,-1.3,-0.7,0,0.7,1.1000000000000001,1.4,1.6,1.7,1.6,1.3,1,0.7,0.4,0.2,0,-0.1,-0.3]
["3月",1.9,1.7,1.5,1.3,1.1000000000000001,1,0.9,1.3,2,2.7,3.3,3.7,4,4.2,4.2,4.0999999999999996,4,3.6,3.3,3.1,2.9,2.6,2.4,2.2000000000000002]

{"sheet":"秋田","index":8,"n_rows":16,"n_cols":25,"rows_kept":16,"cut":false,"hidden":true,"merged":[]}
["気象データ"]
[{"$f":"RIGHT(CELL(\"filename\",A2),LEN(CELL(\"filename\",A2))-FIND(\"]\",CELL(\"filename\",A2)))","v":"秋田"}]
["時刻別平均外気湿球温度"]
["時刻",0,1,2,3,4,5,6,7,8,9,10,11,12,13,14,15,16,17,18,19,20,21,22,23]
["4月",5.7,5.5,5.3,5.0999999999999996,4.9000000000000004,4.8,4.9000000000000004,5.6,6.4,7.1,7.6,7.8,8,8.1,8.1,8,7.8,7.6,7.3,7.1,6.9,6.6,6.3,6.1]
["5月",11.2,10.9,10.7,10.6,10.4,10.4,10.7,11.3,12,12.5,12.8,13.1,13.2,13.2,13.2,13.1,13,12.8,12.6,12.4,12.2,12.1,11.8,11.6]
["6月",15.7,15.5,15.3,15.2,15,15,15.3,15.9,16.399999999999999,16.8,17.100000000000001,17.3,17.399999999999999,17.399999999999999,17.399999999999999,17.399999999999999,17.3,17.2,17,16.8,16.7,16.5,16.3,16.100000000000001]
["7月",20.2,20,19.8,19.7,19.600000000000001,19.600000000000001,19.8,20.2,20.6,20.9,21.2,21.4,21.5,21.5,21.5,21.5,21.5,21.4,21.2,21.1,20.9,20.8,20.7,20.5]
["8月",21.3,21.1,20.9,20.8,20.7,20.6,20.7,21.1,21.6,22,22.3,22.5,22.6,22.7,22.7,22.7,22.6,22.5,22.3,22.2,22.1,21.9,21.7,21.4]
["9月",17.2,16.899999999999999,16.8,16.600000000000001,16.5,16.399999999999999,16.399999999999999,16.8,17.399999999999999,18,18.399999999999999,18.600000000000001,18.8,18.8,18.8,18.8,18.7,18.5,18.3,18.100000000000001,17.899999999999999,17.7,17.399999999999999,17.2]
["10月",11,10.8,10.7,10.5,10.4,10.3,10.199999999999999,10.4,11.1,11.9,12.5,12.8,13,13,13,12.9,12.7,12.5,12.3,12.1,11.8,11.5,11.2,11]
["11月",5.6,5.4,5.3,5.2,5.0999999999999996,5,4.9000000000000004,5,5.4,6,6.6,7,7.2,7.4,7.3,7.2,7,6.7,6.5,6.3,6,5.8,5.6,5.5]
["12月",0.7,0.7,0.6,0.6,0.5,0.4,0.4,0.3,0.5,0.9,1.3,1.6,1.8,1.9,1.9,1.9,1.7,1.5,1.4,1.2,1,0.9,0.8,0.7]
["1月",-1.5,-1.6,-1.6,-1.7,-1.8,-1.8,-1.9,-1.9,-1.7,-1.4,-1,-0.7,-0.5,-0.4,-0.4,-0.5,-0.7,-0.8,-0.9,-1.1000000000000001,-1.2,-1.3,-1.4,-1.5]
["2月",-1.3,-1.4,-1.5,-1.6,-1.7,-1.7,-1.8,-1.8,-1.5,-1,-0.5,-0.2,0,0.2,0.2,0.1,0,-0.2,-0.4,-0.6,-0.7,-0.9,-1,-1.1000000000000001]
["3月",1.1000000000000001,1,0.8,0.7,0.6,0.5,0.5,0.7,1.3,2,2.5,2.9,3.1,3.2,3.2,3.1,3,2.7,2.5,2.2999999999999998,2,1.8,1.6,1.4]

{"sheet":"山形","index":9,"n_rows":16,"n_cols":25,"rows_kept":16,"cut":false,"hidden":true,"merged":[]}
["気象データ"]
[{"$f":"RIGHT(CELL(\"filename\",A2),LEN(CELL(\"filename\",A2))-FIND(\"]\",CELL(\"filename\",A2)))","v":"山形"}]
["時刻別平均外気湿球温度"]
["時刻",0,1,2,3,4,5,6,7,8,9,10,11,12,13,14,15,16,17,18,19,20,21,22,23]
["4月",5.3,5.0999999999999996,4.8,4.5999999999999996,4.4000000000000004,4.2,4.4000000000000004,5.0999999999999996,5.8,6.6,7.2,7.8,8.1,8.3000000000000007,8.4,8.4,8.1999999999999993,7.9,7.4,7,6.7,6.4,6,5.7]
["5月",10.9,10.7,10.5,10.3,10.1,10,10.3,10.9,11.6,12.2,12.7,13.1,13.4,13.7,13.7,13.6,13.5,13.2,12.9,12.4,12.1,11.8,11.5,11.3]
["6月",15.6,15.4,15.3,15.1,14.9,14.9,15.3,15.7,16.2,16.7,17.100000000000001,17.399999999999999,17.600000000000001,17.8,17.899999999999999,17.899999999999999,17.899999999999999,17.600000000000001,17.399999999999999,17,16.8,16.5,16.3,16]
["7月",19.899999999999999,19.8,19.7,19.5,19.399999999999999,19.399999999999999,19.600000000000001,20,20.399999999999999,20.8,21.2,21.5,21.7,21.8,21.9,21.9,21.8,21.6,21.4,21,20.8,20.6,20.399999999999999,20.2]
["8月",20.9,20.7,20.6,20.5,20.3,20.2,20.399999999999999,20.8,21.3,21.7,22.1,22.3,22.5,22.5,22.6,22.6,22.5,22.4,22.1,21.9,21.6,21.4,21.2,21]
["9月",17.100000000000001,16.899999999999999,16.7,16.600000000000001,16.399999999999999,16.3,16.3,16.7,17.2,17.8,18.2,18.5,18.7,18.8,18.899999999999999,18.899999999999999,18.8,18.5,18.2,17.899999999999999,17.7,17.5,17.3,17.100000000000001]
["10月",11,10.8,10.6,10.4,10.3,10.1,10,10.4,11,11.7,12.3,12.7,13,13.2,13.2,13.2,13,12.7,12.3,12,11.7,11.4,11.2,11]
["11月",5.2,5.0999999999999996,4.9000000000000004,4.8,4.5999999999999996,4.5,4.4000000000000004,4.5,5.0999999999999996,5.8,6.5,7,7.4,7.6,7.6,7.6,7.3,6.8,6.5,6.2,5.9,5.7,5.4,5.3]
["12月",0.7,0.5,0.4,0.3,0.2,0.1,0,0,0.4,1,1.6,2,2.2999999999999998,2.5,2.6,2.4,2.1,1.8,1.5,1.3,1.1000000000000001,1,0.8,0.7]
["1月",-1.7,-1.9,-2,-2.1,-2.2000000000000002,-2.2999999999999998,-2.4,-2.4,-2.1,-1.5,-0.9,-0.4,-0.1,0.1,0.1,0,-0.2,-0.5,-0.8,-1,-1.2,-1.3,-1.5,-1.6]
["2月",-1.7,-1.8,-2,-2.1,-2.2999999999999998,-2.4,-2.5,-2.5,-1.9,-1.2,-0.5,0,0.3,0.5,0.6,0.6,0.4,0,-0.3,-0.6,-0.8,-1,-1.2,-1.4]
["3月",0.8,0.6,0.4,0.2,0,-0.1,-0.2,0.2,0.9,1.7,2.2999999999999998,2.8,3.2,3.5,3.6,3.6,3.4,3,2.5,2.2000000000000002,1.9,1.6,1.4,1.1000000000000001]

{"sheet":"福島","index":10,"n_rows":16,"n_cols":25,"rows_kept":16,"cut":false,"hidden":true,"merged":[]}
["気象データ"]
[{"$f":"RIGHT(CELL(\"filename\",A2),LEN(CELL(\"filename\",A2))-FIND(\"]\",CELL(\"filename\",A2)))","v":"福島"}]
["時刻別平均外気湿球温度"]
["時刻",0,1,2,3,4,5,6,7,8,9,10,11,12,13,14,15,16,17,18,19,20,21,22,23]
["4月",6.5,6.3,6,5.8,5.6,5.4,5.5,6.1,6.9,7.7,8.3000000000000007,8.6999999999999993,9,9.1999999999999993,9.3000000000000007,9.1999999999999993,9,8.6999999999999993,8.3000000000000007,7.9,7.6,7.4,7.2,6.9]
["5月",11.8,11.6,11.4,11.2,11,10.9,11.2,11.7,12.4,13,13.5,13.8,14,14.1,14.3,14.2,14,13.8,13.4,13.1,12.8,12.6,12.4,12.2]
["6月",16.3,16.100000000000001,16,15.8,15.6,15.6,15.8,16.2,16.7,17.100000000000001,17.5,17.8,18,18.100000000000001,18.2,18.3,18.2,18,17.8,17.399999999999999,17.2,17,16.8,16.600000000000001]
["7月",20.399999999999999,20.3,20.2,20.100000000000001,20,19.899999999999999,20,20.399999999999999,20.7,21.1,21.4,21.7,21.8,22.1,22.1,22.2,22.1,21.9,21.6,21.4,21.1,20.9,20.8,20.6]
["8月",21.6,21.4,21.3,21.2,21.1,21,21,21.3,21.7,22.1,22.4,22.7,22.8,22.8,22.9,23,23,22.8,22.6,22.3,22.1,21.9,21.8,21.7]
["9月",18,17.899999999999999,17.7,17.5,17.399999999999999,17.3,17.2,17.5,17.899999999999999,18.399999999999999,18.8,19.100000000000001,19.3,19.399999999999999,19.399999999999999,19.399999999999999,19.3,19.2,19,18.8,18.600000000000001,18.399999999999999,18.2,18]
["10月",12.2,12,11.8,11.6,11.4,11.3,11.2,11.4,12,12.6,13.2,13.6,13.9,14.1,14.1,14.1,13.9,13.6,13.4,13.1,12.9,12.7,12.4,12.2]
["11月",6.3,6.1,5.9,5.7,5.5,5.4,5.2,5.3,5.8,6.6,7.3,8,8.4,8.6,8.6999999999999993,8.6,8.3000000000000007,8,7.7,7.4,7.1,6.9,6.6,6.4]
["12月",1.6,1.5,1.3,1.2,1,0.9,0.8,0.7,1,1.7,2.4,3,3.4,3.7,3.7,3.6,3.3,3,2.7,2.5,2.2999999999999998,2.1,1.9,1.7]
["1月",-0.8,-1,-1.1000000000000001,-1.3,-1.4,-1.5,-1.6,-1.6,-1.3,-0.6,0.1,0.6,1.1000000000000001,1.3,1.4,1.2,0.9,0.6,0.3,0.1,-0.1,-0.3,-0.5,-0.7]
["2月",-0.5,-0.7,-0.9,-1.1000000000000001,-1.2,-1.3,-1.4,-1.4,-0.9,-0.1,0.6,1.2,1.7,1.9,2,1.9,1.7,1.2,0.9,0.7,0.4,0.2,0,-0.2]
["3月",1.9,1.7,1.5,1.3,1.1000000000000001,1,0.9,1.2,1.9,2.7,3.5,4,4.4000000000000004,4.7,4.8,4.7,4.5,4,3.6,3.3,3,2.8,2.5,2.2999999999999998]

{"sheet":"水戸","index":11,"n_rows":16,"n_cols":25,"rows_kept":16,"cut":false,"hidden":true,"merged":[]}
["気象データ"]
[{"$f":"RIGHT(CELL(\"filename\",A2),LEN(CELL(\"filename\",A2))-FIND(\"]\",CELL(\"filename\",A2)))","v":"水戸"}]
["時刻別平均外気湿球温度"]
["時刻",0,1,2,3,4,5,6,7,8,9,10,11,12,13,14,15,16,17,18,19,20,21,22,23]
["4月",8.1999999999999993,7.9,7.6,7.4,7.1,6.9,7,7.8,8.9,9.6999999999999993,10.199999999999999,10.5,10.8,11,10.9,10.8,10.6,10.3,10.1,9.8000000000000007,9.6,9.4,9.1,8.6999999999999993]
["5月",13.4,13.1,12.9,12.7,12.5,12.4,12.7,13.4,14.1,14.6,14.9,15.2,15.2,15.3,15.3,15.2,15,14.8,14.5,14.3,14.2,14.1,13.9,13.7]
["6月",17.399999999999999,17.2,17.100000000000001,16.899999999999999,16.8,16.7,17,17.5,18,18.3,18.600000000000001,18.8,18.899999999999999,18.899999999999999,18.899999999999999,18.7,18.5,18.399999999999999,18.2,18,17.8,17.8,17.7,17.600000000000001]
["7月",21.1,21,20.9,20.9,20.8,20.7,21,21.4,21.8,22.2,22.5,22.6,22.8,22.8,22.7,22.5,22.3,22.1,21.9,21.6,21.5,21.4,21.4,21.3]
["8月",22.4,22.3,22.2,22.1,22,21.9,22,22.5,23,23.3,23.5,23.7,23.9,23.9,23.8,23.7,23.5,23.3,23,22.9,22.8,22.7,22.6,22.5]
["9月",19.100000000000001,18.899999999999999,18.8,18.7,18.5,18.399999999999999,18.399999999999999,18.899999999999999,19.600000000000001,20,20.3,20.5,20.6,20.7,20.6,20.5,20.3,20.100000000000001,19.899999999999999,19.8,19.7,19.600000000000001,19.399999999999999,19.2]
["10月",13.5,13.3,13.1,12.9,12.7,12.6,12.5,12.9,13.8,14.6,15.1,15.4,15.5,15.6,15.6,15.5,15.3,15,14.8,14.6,14.3,14,13.7,13.5]
["11月",7.5,7.2,7,6.8,6.6,6.4,6.2,6.4,7.4,8.6999999999999993,9.6999999999999993,10.3,10.5,10.7,10.6,10.5,10.3,9.9,9.5,9.1,8.6,8.1999999999999993,7.9,7.5]
["12月",1.9,1.6,1.4,1.2,1.1000000000000001,0.9,0.8,0.7,1.5,2.9,4.2,5.0999999999999996,5.5,5.7,5.8,5.6,5.2,4.7,4.2,3.7,3.2,2.7,2.2999999999999998,2]
["1月",-0.6,-0.8,-1.1000000000000001,-1.3,-1.5,-1.7,-1.8,-1.9,-1.1000000000000001,0.3,1.7,2.5,3,3.3,3.4,3.2,2.9,2.4,1.8,1.3,0.8,0.4,0,-0.3]
["2月",0,-0.2,-0.5,-0.7,-0.9,-1.1000000000000001,-1.2,-1.2,-0.2,1.2,2.4,3.1,3.5,3.8,3.9,3.8,3.5,3.1,2.7,2.2000000000000002,1.8,1.3,0.9,0.5]
["3月",3.4,3.2,2.9,2.6,2.4,2.2000000000000002,2,2.5,3.7,4.8,5.5,6,6.3,6.6,6.6,6.6,6.4,6,5.7,5.4,5.0999999999999996,4.7,4.3,3.9]

{"sheet":"宇都宮","index":12,"n_rows":16,"n_cols":25,"rows_kept":16,"cut":false,"hidden":true,"merged":[]}
["気象データ"]
[{"$f":"RIGHT(CELL(\"filename\",A2),LEN(CELL(\"filename\",A2))-FIND(\"]\",CELL(\"filename\",A2)))","v":"宇都宮"}]
["時刻別平均外気湿球温度"]
["時刻",0,1,2,3,4,5,6,7,8,9,10,11,12,13,14,15,16,17,18,19,20,21,22,23]
["4月",8,7.7,7.5,7.2,6.9,6.7,6.8,7.5,8.3000000000000007,9.1,9.6999999999999993,10.199999999999999,10.5,10.7,10.8,10.8,10.6,10.3,9.9,9.5,9.1999999999999993,9,8.6999999999999993,8.5]
["5月",13.2,13,12.8,12.6,12.4,12.3,12.6,13.1,13.7,14.2,14.7,15.1,15.3,15.4,15.5,15.4,15.3,15.1,14.7,14.4,14.1,13.9,13.7,13.6]
["6月",17.399999999999999,17.2,17.100000000000001,17,16.8,16.8,17,17.399999999999999,17.8,18.2,18.600000000000001,18.899999999999999,19.100000000000001,19.2,19.2,19.2,19.100000000000001,19,18.8,18.5,18.2,18,17.8,17.7]
["7月",21.2,21.1,21,21,20.8,20.7,20.9,21.2,21.6,22,22.4,22.6,22.9,23,23,23.1,22.9,22.8,22.4,22.2,21.9,21.8,21.6,21.4]
["8月",22.3,22.2,22.1,22,21.9,21.8,21.9,22.2,22.6,23,23.3,23.6,23.8,23.9,23.9,23.9,23.7,23.5,23.3,23,22.8,22.6,22.5,22.4]
["9月",18.899999999999999,18.8,18.600000000000001,18.5,18.3,18.2,18.2,18.5,19,19.399999999999999,19.8,20.100000000000001,20.3,20.399999999999999,20.399999999999999,20.399999999999999,20.2,20.100000000000001,19.8,19.600000000000001,19.3,19.2,19,18.899999999999999]
["10月",13.2,13,12.8,12.6,12.4,12.2,12.1,12.5,13.2,13.9,14.4,14.8,15,15.2,15.2,15.1,14.9,14.6,14.3,14.1,13.9,13.7,13.5,13.2]
["11月",7.1,6.8,6.6,6.3,6.1,5.9,5.7,5.9,7,8,8.8000000000000007,9.4,9.8000000000000007,10,10,9.8000000000000007,9.5,9.1,8.8000000000000007,8.5,8.1,7.8,7.5,7.2]
["12月",1.6,1.3,1,0.8,0.6,0.4,0.2,0.2,1.1000000000000001,2.6,3.6,4.3,4.8,5,5.0999999999999996,4.9000000000000004,4.5999999999999996,4,3.5,3.1,2.7,2.2999999999999998,2,1.7]
["1月",-1,-1.3,-1.5,-1.8,-2.1,-2.2999999999999998,-2.5,-2.5,-1.6,-0.1,1,1.7,2.2999999999999998,2.6,2.7,2.6,2.2000000000000002,1.6,1.2,0.7,0.3,-0.1,-0.4,-0.7]
["2月",-0.3,-0.6,-0.8,-1.1000000000000001,-1.3,-1.5,-1.7,-1.6,-0.5,0.8,1.7,2.4,2.9,3.2,3.4,3.4,3.1,2.6,2,1.6,1.3,0.9,0.5,0.2]
["3月",3.1,2.8,2.5,2.2000000000000002,2,1.8,1.6,2.1,3.2,4.0999999999999996,4.9000000000000004,5.5,5.9,6.2,6.3,6.3,6.1,5.7,5.2,4.8,4.5,4.2,3.9,3.5]

{"sheet":"前橋","index":13,"n_rows":16,"n_cols":25,"rows_kept":16,"cut":false,"hidden":true,"merged":[]}
["気象データ"]
[{"$f":"RIGHT(CELL(\"filename\",A2),LEN(CELL(\"filename\",A2))-FIND(\"]\",CELL(\"filename\",A2)))","v":"前橋"}]
["時刻別平均外気湿球温度"]
["時刻",0,1,2,3,4,5,6,7,8,9,10,11,12,13,14,15,16,17,18,19,20,21,22,23]
["4月",7.6,7.2,7,6.7,6.5,6.2,6.3,7,8,8.6999999999999993,9.4,9.9,10.199999999999999,10.4,10.5,10.5,10.3,10,9.6999999999999993,9.3000000000000007,9.1,8.8000000000000007,8.5,8.1]
["5月",12.8,12.5,12.2,11.9,11.7,11.6,11.8,12.5,13.2,13.8,14.3,14.7,14.9,15.1,15.2,15.2,15,14.9,14.6,14.3,14,13.8,13.5,13.2]
["6月",17.3,17.100000000000001,16.899999999999999,16.7,16.5,16.399999999999999,16.600000000000001,17,17.5,17.899999999999999,18.3,18.600000000000001,18.8,18.899999999999999,19.100000000000001,18.899999999999999,19,18.8,18.7,18.5,18.3,18.100000000000001,17.899999999999999,17.7]
["7月",21.3,21.2,21,20.9,20.7,20.6,20.7,21.1,21.5,21.9,22.2,22.4,22.6,22.8,22.8,22.9,22.8,22.8,22.6,22.4,22.2,22,21.8,21.6]
["8月",22.2,22,21.9,21.7,21.6,21.5,21.5,21.9,22.3,22.7,23.1,23.4,23.5,23.6,23.7,23.6,23.5,23.4,23.2,23,22.9,22.7,22.5,22.3]
["9月",18.7,18.5,18.399999999999999,18.2,18.100000000000001,17.899999999999999,17.899999999999999,18.2,18.7,19.100000000000001,19.5,19.8,20,20.100000000000001,20.100000000000001,20.100000000000001,19.899999999999999,19.8,19.600000000000001,19.5,19.3,19.100000000000001,18.899999999999999,18.7]
["10月",12.8,12.7,12.5,12.3,12.1,12,11.8,12.1,12.8,13.5,14,14.4,14.6,14.7,14.7,14.7,14.4,14.2,14,13.8,13.5,13.3,13.1,12.9]
["11月",6.8,6.6,6.4,6.2,6.1,5.9,5.7,5.8,6.7,7.7,8.5,9,9.4,9.6,9.6,9.4,9.1,8.6,8.3000000000000007,8,7.7,7.4,7.2,6.9]
["12月",1.9,1.7,1.5,1.4,1.2,1.1000000000000001,0.9,0.9,1.7,2.8,3.7,4.3,4.7,4.9000000000000004,4.9000000000000004,4.7,4.2,3.7,3.3,3,2.7,2.4,2.2000000000000002,1.9]
["1月",-0.5,-0.7,-0.9,-1.1000000000000001,-1.2,-1.4,-1.5,-1.6,-0.9,0.3,1.3,2,2.4,2.6,2.6,2.5,2.1,1.5,1.1000000000000001,0.7,0.4,0.2,-0.1,-0.3]
["2月",-0.1,-0.3,-0.5,-0.7,-0.8,-1,-1.2,-1.1000000000000001,-0.2,0.9,1.8,2.4,2.9,3.1,3.2,3.1,2.8,2.2999999999999998,1.8,1.4,1.1000000000000001,0.8,0.6,0.3]
["3月",2.9,2.6,2.4,2.2000000000000002,2,1.8,1.7,2.1,3,3.9,4.5999999999999996,5.2,5.6,5.8,5.9,5.9,5.7,5.3,4.9000000000000004,4.5,4.2,3.9,3.6,3.3]

{"sheet":"熊谷","index":14,"n_rows":16,"n_cols":25,"rows_kept":16,"cut":false,"hidden":true,"merged":[]}
["気象データ"]
[{"$f":"RIGHT(CELL(\"filename\",A2),LEN(CELL(\"filename\",A2))-FIND(\"]\",CELL(\"filename\",A2)))","v":"熊谷"}]
["時刻別平均外気湿球温度"]
["時刻",0,1,2,3,4,5,6,7,8,9,10,11,12,13,14,15,16,17,18,19,20,21,22,23]
["4月",8.5,8.3000000000000007,8,7.7,7.5,7.2,7.3,8,8.6,9.3000000000000007,9.9,10.4,10.8,11.1,11.2,11.3,11.2,10.9,10.6,10.199999999999999,9.9,9.6,9.3000000000000007,9]
["5月",13.7,13.4,13.2,13,12.8,12.6,12.9,13.4,13.9,14.4,14.8,15.2,15.5,15.6,15.8,15.7,15.7,15.5,15.2,14.9,14.7,14.4,14.2,14]
["6月",18,17.8,17.7,17.5,17.399999999999999,17.3,17.5,17.8,18.100000000000001,18.399999999999999,18.7,19,19.3,19.399999999999999,19.5,19.5,19.5,19.399999999999999,19.2,19,18.8,18.600000000000001,18.5,18.3]
["7月",21.9,21.7,21.7,21.6,21.5,21.4,21.6,21.8,22.1,22.4,22.7,22.9,23.2,23.2,23.3,23.4,23.3,23.2,23.1,22.8,22.5,22.4,22.2,22.1]
["8月",22.9,22.8,22.7,22.6,22.5,22.4,22.5,22.7,23,23.3,23.6,23.8,24,24.1,24,24,24.1,24,23.8,23.5,23.3,23.2,23,23]
["9月",19.5,19.399999999999999,19.2,19.100000000000001,19,18.8,18.8,19.100000000000001,19.399999999999999,19.8,20,20.3,20.5,20.6,20.6,20.6,20.5,20.5,20.3,20.100000000000001,19.899999999999999,19.8,19.600000000000001,19.5]
["10月",13.8,13.5,13.4,13.2,13,12.9,12.7,13,13.6,14.1,14.6,14.9,15.1,15.3,15.3,15.3,15.2,15,14.8,14.6,14.4,14.1,13.9,13.7]
["11月",7.7,7.4,7.2,6.9,6.7,6.5,6.4,6.5,7.4,8.3000000000000007,9,9.5,9.8000000000000007,10.1,10.199999999999999,10.1,9.8000000000000007,9.3000000000000007,9,8.6999999999999993,8.5,8.1999999999999993,8,7.7]
["12月",2.2999999999999998,2.1,1.9,1.7,1.5,1.3,1.2,1.1000000000000001,2,3.1,4,4.7,5.0999999999999996,5.4,5.5,5.3,4.9000000000000004,4.3,3.8,3.5,3.2,2.9,2.6,2.4]
["1月",-0.1,-0.4,-0.6,-0.8,-1,-1.1000000000000001,-1.3,-1.4,-0.6,0.6,1.6,2.4,2.8,3.1,3.3,3.1,2.7,2.1,1.5,1.2,0.9,0.6,0.3,0.1]
["2月",0.5,0.2,0,-0.2,-0.4,-0.6,-0.8,-0.7,0.2,1.3,2.2000000000000002,2.8,3.3,3.7,3.8,3.8,3.6,3.1,2.5,2.1,1.8,1.5,1.2,0.9]
["3月",3.8,3.5,3.2,2.9,2.7,2.5,2.4,2.8,3.6,4.4000000000000004,5.0999999999999996,5.7,6.2,6.5,6.7,6.8,6.6,6.3,5.8,5.5,5.0999999999999996,4.8,4.5,4.2]

{"sheet":"千葉","index":15,"n_rows":16,"n_cols":25,"rows_kept":16,"cut":false,"hidden":true,"merged":[]}
["気象データ"]
[{"$f":"RIGHT(CELL(\"filename\",A2),LEN(CELL(\"filename\",A2))-FIND(\"]\",CELL(\"filename\",A2)))","v":"千葉"}]
["時刻別平均外気湿球温度"]
["時刻",0,1,2,3,4,5,6,7,8,9,10,11,12,13,14,15,16,17,18,19,20,21,22,23]
["4月",10.3,10.199999999999999,10,9.8000000000000007,9.6,9.5,9.5,9.8000000000000007,10.3,10.8,11.1,11.4,11.6,11.8,11.9,11.9,11.9,11.6,11.4,11.2,11.1,10.9,10.8,10.6]
["5月",14.9,14.8,14.7,14.6,14.5,14.4,14.5,14.9,15.2,15.5,15.7,15.9,16.100000000000001,16.100000000000001,16.2,16.2,16.100000000000001,15.9,15.7,15.5,15.4,15.4,15.2,15.1]
["6月",18.5,18.399999999999999,18.3,18.3,18.2,18.100000000000001,18.3,18.5,18.8,19.100000000000001,19.3,19.399999999999999,19.5,19.600000000000001,19.7,19.7,19.7,19.5,19.3,19.100000000000001,19,18.899999999999999,18.8,18.7]
["7月",22.3,22.2,22.1,22.1,22,22,22.1,22.4,22.6,22.9,23.1,23.3,23.4,23.5,23.6,23.5,23.4,23.2,22.9,22.8,22.6,22.5,22.5,22.4]
["8月",23.5,23.4,23.3,23.3,23.2,23.2,23.2,23.5,23.8,24,24.1,24.2,24.3,24.4,24.5,24.4,24.3,24.1,23.9,23.7,23.6,23.6,23.5,23.5]
["9月",20.399999999999999,20.3,20.2,20.100000000000001,20,19.899999999999999,19.899999999999999,20.100000000000001,20.5,20.7,20.9,21.1,21.2,21.2,21.2,21.2,21.1,21,20.8,20.7,20.6,20.6,20.5,20.399999999999999]
["10月",15.2,15,14.9,14.7,14.5,14.3,14.2,14.4,14.9,15.4,15.7,16,16.100000000000001,16.2,16.2,16.2,16.100000000000001,16,15.8,15.7,15.5,15.4,15.3,15.2]
["11月",9.8000000000000007,9.5,9.3000000000000007,9,8.8000000000000007,8.6,8.4,8.5,8.9,9.6,10.199999999999999,10.7,11,11.2,11.3,11.4,11.2,11.1,10.9,10.8,10.6,10.3,10.1,9.9]
["12月",4.5,4.3,4,3.8,3.5,3.3,3.2,3.2,3.7,4.4000000000000004,5.0999999999999996,5.7,6.1,6.3,6.5,6.5,6.3,6.1,5.8,5.5,5.3,5,4.8,4.5999999999999996]
["1月",1.9,1.6,1.4,1.2,1,0.8,0.7,0.6,1,1.8,2.6,3.1,3.6,3.8,4,4.0999999999999996,3.9,3.6,3.3,3.1,2.8,2.5,2.2999999999999998,2.1]
["2月",2.6,2.2999999999999998,2.1,1.9,1.6,1.4,1.3,1.3,1.8,2.5,3.2,3.7,4.0999999999999996,4.4000000000000004,4.5999999999999996,4.7,4.5999999999999996,4.4000000000000004,4.0999999999999996,3.9,3.6,3.4,3.2,2.9]
["3月",5.9,5.6,5.4,5.0999999999999996,4.9000000000000004,4.7,4.5,4.7,5.3,5.9,6.4,6.8,7.1,7.4,7.5,7.6,7.6,7.4,7.2,7,6.8,6.6,6.3,6.2]

{"sheet":"東京","index":16,"n_rows":16,"n_cols":25,"rows_kept":16,"cut":false,"hidden":true,"merged":[]}
["気象データ"]
[{"$f":"RIGHT(CELL(\"filename\",A2),LEN(CELL(\"filename\",A2))-FIND(\"]\",CELL(\"filename\",A2)))","v":"東京"}]
["時刻別平均外気湿球温度"]
["時刻",0,1,2,3,4,5,6,7,8,9,10,11,12,13,14,15,16,17,18,19,20,21,22,23]
["4月",10,9.8000000000000007,9.6,9.3000000000000007,9.1999999999999993,8.9,9,9.3000000000000007,9.6999999999999993,10.199999999999999,10.6,11,11.3,11.5,11.6,11.5,11.5,11.4,11.2,11,10.8,10.7,10.5,10.3]
["5月",14.6,14.5,14.3,14.2,14.1,14,14.1,14.4,14.7,15,15.3,15.6,15.8,15.9,15.9,15.9,15.8,15.7,15.6,15.4,15.3,15.1,15,14.9]
["6月",18.399999999999999,18.3,18.2,18.100000000000001,18,18,18.100000000000001,18.3,18.5,18.8,19,19.2,19.399999999999999,19.5,19.5,19.5,19.5,19.399999999999999,19.2,19.100000000000001,18.899999999999999,18.8,18.7,18.7]
["7月",22.1,22.1,22,21.9,21.9,21.8,22,22.2,22.4,22.6,22.9,23.1,23.2,23.3,23.3,23.3,23.2,23.1,22.9,22.7,22.6,22.5,22.4,22.3]
["8月",23.3,23.2,23.1,23.1,23,22.9,23,23.2,23.4,23.5,23.8,24,24.1,24.1,24.2,24.1,24,24,23.8,23.6,23.5,23.5,23.4,23.3]
["9月",20.100000000000001,20,19.899999999999999,19.8,19.7,19.600000000000001,19.600000000000001,19.7,19.899999999999999,20.2,20.399999999999999,20.5,20.7,20.8,20.8,20.8,20.8,20.7,20.6,20.5,20.399999999999999,20.3,20.2,20.100000000000001]
["10月",14.9,14.7,14.5,14.3,14.1,14,13.8,14,14.3,14.6,15,15.3,15.6,15.7,15.7,15.7,15.7,15.5,15.5,15.4,15.2,15.1,15,14.9]
["11月",9.3000000000000007,9.1,8.9,8.6,8.4,8.1999999999999993,8.1,8.1999999999999993,8.5,9,9.5,10,10.4,10.6,10.7,10.8,10.7,10.5,10.4,10.3,10.1,9.9,9.6,9.4]
["12月",4.0999999999999996,3.9,3.6,3.4,3.2,3.1,3.1,3,3.3,4,4.5999999999999996,5.0999999999999996,5.6,5.9,6,6,5.8,5.5,5.3,5.0999999999999996,4.9000000000000004,4.7,4.5,4.2]
["1月",1.6,1.3,1.1000000000000001,0.9,0.7,0.5,0.4,0.4,0.8,1.4,2.1,2.7,3.1,3.5,3.6,3.6,3.5,3.2,2.9,2.7,2.5,2.2999999999999998,2.1,1.8]
["2月",2.2999999999999998,2,1.7,1.5,1.2,1.1000000000000001,1,1,1.4,2,2.6,3.2,3.7,4,4.3,4.3,4.3,4,3.8,3.6,3.4,3.2,2.9,2.7]
["3月",5.5,5.2,5,4.7,4.4000000000000004,4.3,4.0999999999999996,4.3,4.7,5.3,5.8,6.3,6.8,7.1,7.2,7.3,7.3,7.1,6.9,6.7,6.6,6.4,6.1,5.8]

{"sheet":"横浜","index":17,"n_rows":16,"n_cols":25,"rows_kept":16,"cut":false,"hidden":true,"merged":[]}
["気象データ"]
[{"$f":"RIGHT(CELL(\"filename\",A2),LEN(CELL(\"filename\",A2))-FIND(\"]\",CELL(\"filename\",A2)))","v":"横浜"}]
["時刻別平均外気湿球温度"]
["時刻",0,1,2,3,4,5,6,7,8,9,10,11,12,13,14,15,16,17,18,19,20,21,22,23]
["4月",10.199999999999999,10,9.8000000000000007,9.6,9.4,9.3000000000000007,9.3000000000000007,9.5,10,10.6,11,11.4,11.6,11.7,11.9,11.8,11.8,11.6,11.4,11.2,11.1,10.9,10.7,10.6]
["5月",14.7,14.6,14.4,14.3,14.2,14.1,14.2,14.5,14.9,15.3,15.6,15.8,15.9,16.100000000000001,16.100000000000001,16.100000000000001,16,15.8,15.6,15.5,15.3,15.2,15,14.9]
["6月",18.399999999999999,18.3,18.2,18.100000000000001,18,18,18.100000000000001,18.3,18.600000000000001,18.899999999999999,19.100000000000001,19.3,19.399999999999999,19.5,19.600000000000001,19.600000000000001,19.5,19.3,19.2,19,18.899999999999999,18.8,18.7,18.600000000000001]
["7月",22.1,22,22,21.9,21.9,21.8,22,22.2,22.5,22.7,23,23.1,23.2,23.3,23.4,23.4,23.2,23,22.8,22.6,22.5,22.4,22.3,22.3]
["8月",23.3,23.3,23.2,23.1,23.1,23,23.1,23.2,23.5,23.7,24,24.1,24.3,24.3,24.3,24.3,24.2,24,23.7,23.6,23.6,23.5,23.4,23.4]
["9月",20.3,20.2,20,19.899999999999999,19.8,19.7,19.7,19.8,20.100000000000001,20.399999999999999,20.6,20.8,21,21.1,21.1,21.1,21,20.9,20.7,20.6,20.5,20.399999999999999,20.399999999999999,20.2]
["10月",15,14.9,14.7,14.5,14.3,14.2,14.1,14.1,14.5,14.9,15.3,15.6,15.9,16.100000000000001,16.100000000000001,16.100000000000001,15.9,15.8,15.6,15.5,15.4,15.3,15.2,15.1]
["11月",9.6999999999999993,9.4,9.1999999999999993,9,8.8000000000000007,8.6,8.5,8.5,8.8000000000000007,9.4,9.9,10.4,10.8,11.1,11.2,11.2,11,10.8,10.7,10.5,10.4,10.199999999999999,10,9.6999999999999993]
["12月",4.5,4.2,4,3.8,3.7,3.5,3.5,3.4,3.8,4.4000000000000004,5.0999999999999996,5.7,6.1,6.4,6.6,6.5,6.3,5.9,5.7,5.5,5.3,5.0999999999999996,4.8,4.5999999999999996]
["1月",1.9,1.7,1.4,1.2,1,0.9,0.8,0.7,1.1000000000000001,1.8,2.5,3.1,3.6,4,4.0999999999999996,4.0999999999999996,3.9,3.6,3.3,3.1,2.9,2.7,2.4,2.1]
["2月",2.6,2.2999999999999998,2.1,1.8,1.6,1.5,1.3,1.3,1.7,2.2999999999999998,3,3.6,4.0999999999999996,4.4000000000000004,4.7,4.7,4.5999999999999996,4.4000000000000004,4.0999999999999996,3.9,3.7,3.5,3.3,3]
["3月",5.9,5.6,5.3,5.0999999999999996,4.8,4.5999999999999996,4.5,4.5999999999999996,5,5.6,6.2,6.7,7.1,7.4,7.6,7.7,7.6,7.4,7.2,7,6.8,6.7,6.4,6.2]

{"sheet":"新潟","index":18,"n_rows":16,"n_cols":25,"rows_kept":16,"cut":false,"hidden":true,"merged":[]}
["気象データ"]
[{"$f":"RIGHT(CELL(\"filename\",A2),LEN(CELL(\"filename\",A2))-FIND(\"]\",CELL(\"filename\",A2)))","v":"新潟"}]
["時刻別平均外気湿球温度"]
["時刻",0,1,2,3,4,5,6,7,8,9,10,11,12,13,14,15,16,17,18,19,20,21,22,23]
["4月",7.4,7.1,6.9,6.8,6.6,6.4,6.6,7.2,7.9,8.6,9,9.3000000000000007,9.5,9.5,9.4,9.3000000000000007,9.1,8.8000000000000007,8.5,8.4,8.3000000000000007,8.1,8,7.8]
["5月",12.7,12.6,12.4,12.2,12.1,12,12.2,12.7,13.2,13.7,14.1,14.4,14.4,14.4,14.3,14.1,14,13.7,13.5,13.3,13.2,13.2,13.1,13]
["6月",17.2,17.100000000000001,17,16.8,16.7,16.7,16.899999999999999,17.3,17.7,18,18.3,18.5,18.600000000000001,18.5,18.600000000000001,18.5,18.3,18.100000000000001,17.899999999999999,17.8,17.600000000000001,17.600000000000001,17.5,17.399999999999999]
["7月",21.5,21.4,21.2,21.1,21,21,21.1,21.5,21.8,22.1,22.4,22.6,22.6,22.7,22.6,22.6,22.5,22.3,22.1,22,21.9,21.8,21.7,21.7]
["8月",22.6,22.5,22.3,22.2,22.1,21.9,22,22.4,22.8,23.1,23.3,23.6,23.7,23.8,23.7,23.7,23.6,23.5,23.3,23.2,23.1,23,22.9,22.8]
["9月",18.8,18.7,18.5,18.399999999999999,18.3,18.2,18.2,18.5,19,19.399999999999999,19.7,19.899999999999999,20,20.100000000000001,20.100000000000001,20,19.899999999999999,19.7,19.5,19.399999999999999,19.3,19.100000000000001,19,18.899999999999999]
["10月",13.2,13,12.9,12.7,12.6,12.5,12.4,12.6,13.2,13.8,14.2,14.5,14.6,14.6,14.6,14.5,14.3,14.1,14,13.9,13.7,13.5,13.3,13.1]
["11月",7.9,7.7,7.6,7.4,7.3,7.2,7.1,7.2,7.6,8.1999999999999993,8.8000000000000007,9.1,9.3000000000000007,9.4,9.4,9.3000000000000007,9.1,8.8000000000000007,8.6999999999999993,8.5,8.4,8.1999999999999993,8,7.8]
["12月",3.3,3.1,3.1,3,2.9,2.8,2.8,2.7,2.9,3.3,3.8,4.0999999999999996,4.3,4.4000000000000004,4.4000000000000004,4.4000000000000004,4.2,4,3.9,3.8,3.6,3.5,3.4,3.2]
["1月",0.8,0.7,0.7,0.6,0.5,0.5,0.5,0.5,0.6,0.9,1.3,1.6,1.8,1.9,1.9,1.8,1.7,1.5,1.4,1.3,1.1000000000000001,1,0.9,0.8]
["2月",0.7,0.6,0.5,0.4,0.3,0.3,0.2,0.2,0.6,1,1.5,1.8,2.1,2.2999999999999998,2.2999999999999998,2.2999999999999998,2.1,1.8,1.7,1.5,1.4,1.2,1.1000000000000001,0.9]
["3月",3,2.8,2.7,2.5,2.4,2.2999999999999998,2.2000000000000002,2.5,3.1,3.8,4.3,4.7,4.9000000000000004,5,5,4.9000000000000004,4.7,4.5,4.2,4.0999999999999996,3.9,3.7,3.5,3.3]

{"sheet":"富山","index":19,"n_rows":16,"n_cols":25,"rows_kept":16,"cut":false,"hidden":true,"merged":[]}
["気象データ"]
[{"$f":"RIGHT(CELL(\"filename\",A2),LEN(CELL(\"filename\",A2))-FIND(\"]\",CELL(\"filename\",A2)))","v":"富山"}]
["時刻別平均外気湿球温度"]
["時刻",0,1,2,3,4,5,6,7,8,9,10,11,12,13,14,15,16,17,18,19,20,21,22,23]
["4月",8,7.8,7.6,7.4,7.3,7.1,7.3,8,8.9,9.5,10,10.199999999999999,10.5,10.6,10.5,10.3,10.1,9.8000000000000007,9.5,9.1999999999999993,9.1,8.9,8.6999999999999993,8.4]
["5月",13.2,13,12.8,12.6,12.5,12.4,12.8,13.4,14.1,14.5,14.9,15.1,15.2,15.3,15.2,15.1,14.9,14.6,14.3,14,13.9,13.9,13.7,13.5]
["6月",17.899999999999999,17.8,17.600000000000001,17.399999999999999,17.3,17.2,17.600000000000001,18.100000000000001,18.5,18.8,19.100000000000001,19.399999999999999,19.5,19.5,19.5,19.399999999999999,19.2,19,18.8,18.600000000000001,18.5,18.5,18.399999999999999,18.3]
["7月",22.2,22,21.9,21.7,21.6,21.5,21.7,22.1,22.5,22.9,23.2,23.4,23.6,23.6,23.6,23.5,23.4,23.2,23,22.8,22.7,22.6,22.5,22.4]
["8月",23.1,22.9,22.7,22.6,22.4,22.2,22.3,22.8,23.3,23.8,24.1,24.3,24.5,24.5,24.5,24.4,24.3,24.2,24,23.8,23.7,23.6,23.5,23.3]
["9月",19.399999999999999,19.2,19,18.899999999999999,18.7,18.600000000000001,18.600000000000001,19.100000000000001,19.7,20.100000000000001,20.5,20.7,20.8,20.8,20.8,20.7,20.6,20.3,20.100000000000001,20.100000000000001,20,19.899999999999999,19.7,19.5]
["10月",13.8,13.6,13.4,13.3,13.1,13,12.9,13.3,14.1,14.7,15.1,15.4,15.6,15.7,15.6,15.5,15.3,15,14.9,14.7,14.5,14.2,14,13.8]
["11月",8.4,8.1999999999999993,8,7.9,7.8,7.7,7.6,7.7,8.4,9.1999999999999993,9.6999999999999993,10.1,10.3,10.4,10.5,10.3,10.1,9.8000000000000007,9.6,9.4,9.1,8.8000000000000007,8.6,8.4]
["12月",3.7,3.6,3.5,3.4,3.4,3.3,3.3,3.2,3.5,4.0999999999999996,4.7,5.0999999999999996,5.3,5.4,5.4,5.3,5.0999999999999996,4.8,4.5999999999999996,4.4000000000000004,4.2,4,3.8,3.6]
["1月",1.2,1,0.9,0.9,0.8,0.7,0.7,0.7,0.9,1.4,2,2.4,2.7,2.8,2.8,2.8,2.6,2.2999999999999998,2.1,2,1.8,1.6,1.4,1.3]
["2月",1.1000000000000001,1,0.9,0.8,0.7,0.6,0.5,0.5,1,1.7,2.2999999999999998,2.7,3.1,3.2,3.3,3.3,3.1,2.8,2.5,2.2999999999999998,2.1,1.8,1.6,1.4]
["3月",3.7,3.6,3.4,3.3,3.1,3,2.9,3.2,4,4.8,5.3,5.8,6,6.2,6.2,6.1,5.9,5.6,5.2,5,4.8,4.5,4.2,4]

{"sheet":"金沢","index":20,"n_rows":16,"n_cols":25,"rows_kept":16,"cut":false,"hidden":true,"merged":[]}
["気象データ"]
[{"$f":"RIGHT(CELL(\"filename\",A2),LEN(CELL(\"filename\",A2))-FIND(\"]\",CELL(\"filename\",A2)))","v":"金沢"}]
["時刻別平均外気湿球温度"]
["時刻",0,1,2,3,4,5,6,7,8,9,10,11,12,13,14,15,16,17,18,19,20,21,22,23]
["4月",8.1,7.9,7.7,7.5,7.4,7.3,7.3,7.8,8.6999999999999993,9.3000000000000007,9.8000000000000007,10.1,10.3,10.4,10.3,10.199999999999999,10.1,9.8000000000000007,9.5,9.3000000000000007,9.1999999999999993,9,8.6999999999999993,8.4]
["5月",13.1,12.9,12.7,12.5,12.3,12.2,12.4,13,13.7,14.2,14.6,14.8,14.9,15,14.9,14.8,14.6,14.4,14.2,14,13.9,13.8,13.6,13.4]
["6月",17.7,17.5,17.399999999999999,17.2,17.100000000000001,17,17.2,17.600000000000001,18.100000000000001,18.5,18.7,19,19.100000000000001,19.100000000000001,19.100000000000001,19,18.899999999999999,18.7,18.600000000000001,18.399999999999999,18.3,18.2,18.100000000000001,18]
["7月",22,21.8,21.7,21.6,21.4,21.3,21.4,21.7,22.2,22.5,22.8,23,23.1,23.1,23.1,23,22.9,22.8,22.7,22.5,22.4,22.4,22.3,22.2]
["8月",23,22.8,22.6,22.4,22.2,22.1,22.1,22.4,23,23.4,23.7,23.9,24,24.1,24.1,24,23.9,23.8,23.7,23.5,23.5,23.4,23.2,23.1]
["9月",19.2,19.100000000000001,18.899999999999999,18.8,18.7,18.5,18.5,18.7,19.3,19.8,20,20.3,20.399999999999999,20.5,20.5,20.399999999999999,20.3,20.2,20,19.899999999999999,19.7,19.600000000000001,19.399999999999999,19.3]
["10月",13.7,13.5,13.3,13.2,13.1,13,12.9,13.1,13.7,14.4,14.8,15.1,15.2,15.3,15.3,15.2,15,14.8,14.7,14.5,14.3,14,13.8,13.7]
["11月",8.4,8.3000000000000007,8.1999999999999993,8.1,8,7.9,7.9,7.9,8.4,9,9.6,10,10.1,10.199999999999999,10.199999999999999,10.1,10,9.8000000000000007,9.6,9.4,9.1,8.9,8.6999999999999993,8.5]
["12月",3.9,3.8,3.8,3.7,3.7,3.6,3.6,3.6,3.8,4.3,4.7,5,5.2,5.3,5.3,5.2,5.0999999999999996,4.9000000000000004,4.7,4.5,4.3,4.0999999999999996,4,3.9]
["1月",1.6,1.5,1.5,1.4,1.4,1.3,1.3,1.3,1.4,1.8,2.2999999999999998,2.6,2.8,2.9,2.9,2.9,2.8,2.6,2.4,2.2999999999999998,2.1,1.9,1.8,1.7]
["2月",1.5,1.4,1.3,1.2,1.1000000000000001,1.1000000000000001,1,1,1.4,2,2.5,2.9,3.2,3.3,3.3,3.3,3.2,3,2.7,2.5,2.2999999999999998,2.1,1.9,1.8]
["3月",3.8,3.6,3.5,3.3,3.2,3.1,3,3.2,3.9,4.7,5.2,5.6,5.9,6,6,5.9,5.8,5.5,5.2,5,4.8,4.5,4.3,4.0999999999999996]

{"sheet":"福井","index":21,"n_rows":16,"n_cols":25,"rows_kept":16,"cut":false,"hidden":true,"merged":[]}
["気象データ"]
[{"$f":"RIGHT(CELL(\"filename\",A2),LEN(CELL(\"filename\",A2))-FIND(\"]\",CELL(\"filename\",A2)))","v":"福井"}]
["時刻別平均外気湿球温度"]
["時刻",0,1,2,3,4,5,6,7,8,9,10,11,12,13,14,15,16,17,18,19,20,21,22,23]
["4月",8,7.8,7.6,7.4,7.3,7.1,7.3,8,8.9,9.5,10,10.199999999999999,10.5,10.6,10.5,10.3,10.1,9.8000000000000007,9.5,9.1999999999999993,9.1,8.9,8.6999999999999993,8.4]
["5月",13.2,13,12.8,12.6,12.5,12.4,12.8,13.4,14.1,14.5,14.9,15.1,15.2,15.3,15.2,15.1,14.9,14.6,14.3,14,13.9,13.9,13.7,13.5]
["6月",17.899999999999999,17.8,17.600000000000001,17.399999999999999,17.3,17.2,17.600000000000001,18.100000000000001,18.5,18.8,19.100000000000001,19.399999999999999,19.5,19.5,19.5,19.399999999999999,19.2,19,18.8,18.600000000000001,18.5,18.5,18.399999999999999,18.3]
["7月",22.2,22,21.9,21.7,21.6,21.5,21.7,22.1,22.5,22.9,23.2,23.4,23.6,23.6,23.6,23.5,23.4,23.2,23,22.8,22.7,22.6,22.5,22.4]
["8月",23.1,22.9,22.7,22.6,22.4,22.2,22.3,22.8,23.3,23.8,24.1,24.3,24.5,24.5,24.5,24.4,24.3,24.2,24,23.8,23.7,23.6,23.5,23.3]
["9月",19.399999999999999,19.2,19,18.899999999999999,18.7,18.600000000000001,18.600000000000001,19.100000000000001,19.7,20.100000000000001,20.5,20.7,20.8,20.8,20.8,20.7,20.6,20.3,20.100000000000001,20.100000000000001,20,19.899999999999999,19.7,19.5]
["10月",13.8,13.6,13.4,13.3,13.1,13,12.9,13.3,14.1,14.7,15.1,15.4,15.6,15.7,15.6,15.5,15.3,15,14.9,14.7,14.5,14.2,14,13.8]
["11月",8.4,8.1999999999999993,8,7.9,7.8,7.7,7.6,7.7,8.4,9.1999999999999993,9.6999999999999993,10.1,10.3,10.4,10.5,10.3,10.1,9.8000000000000007,9.6,9.4,9.1,8.8000000000000007,8.6,8.4]
["12月",3.7,3.6,3.5,3.4,3.4,3.3,3.3,3.2,3.5,4.0999999999999996,4.7,5.0999999999999996,5.3,5.4,5.4,5.3,5.0999999999999996,4.8,4.5999999999999996,4.4000000000000004,4.2,4,3.8,3.6]
["1月",1.2,1,0.9,0.9,0.8,0.7,0.7,0.7,0.9,1.4,2,2.4,2.7,2.8,2.8,2.8,2.6,2.2999999999999998,2.1,2,1.8,1.6,1.4,1.3]
["2月",1.1000000000000001,1,0.9,0.8,0.7,0.6,0.5,0.5,1,1.7,2.2999999999999998,2.7,3.1,3.2,3.3,3.3,3.1,2.8,2.5,2.2999999999999998,2.1,1.8,1.6,1.4]
["3月",3.7,3.6,3.4,3.3,3.1,3,2.9,3.2,4,4.8,5.3,5.8,6,6.2,6.2,6.1,5.9,5.6,5.2,5,4.8,4.5,4.2,4]

{"sheet":"甲府","index":22,"n_rows":16,"n_cols":25,"rows_kept":16,"cut":false,"hidden":true,"merged":[]}
["気象データ"]
[{"$f":"RIGHT(CELL(\"filename\",A2),LEN(CELL(\"filename\",A2))-FIND(\"]\",CELL(\"filename\",A2)))","v":"甲府"}]
["時刻別平均外気湿球温度"]
["時刻",0,1,2,3,4,5,6,7,8,9,10,11,12,13,14,15,16,17,18,19,20,21,22,23]
["4月",8.4,8.1,7.8,7.5,7.3,7,7.1,7.7,8.3000000000000007,9,9.6,10.1,10.5,10.9,11.2,11.4,11.2,11,10.5,10.1,9.6999999999999993,9.5,9.1999999999999993,8.9]
["5月",13.3,13.1,12.8,12.6,12.4,12.2,12.5,12.9,13.4,13.9,14.4,14.7,14.9,15.3,15.5,15.7,15.6,15.4,15,14.6,14.3,14.1,13.9,13.6]
["6月",17.600000000000001,17.399999999999999,17.3,17.100000000000001,17,16.899999999999999,17.100000000000001,17.3,17.7,18,18.3,18.5,18.7,18.899999999999999,19.2,19.2,19.2,19.100000000000001,18.899999999999999,18.600000000000001,18.399999999999999,18.2,18.100000000000001,17.899999999999999]
["7月",21.5,21.4,21.3,21.2,21,21,21,21.3,21.5,21.8,22.1,22.3,22.4,22.6,22.6,22.9,22.9,22.8,22.5,22.3,22.1,22,21.8,21.7]
["8月",22.3,22.2,22.1,21.9,21.8,21.7,21.7,21.9,22.2,22.5,22.8,23,23.1,23.2,23.4,23.5,23.6,23.4,23.2,23,22.8,22.7,22.6,22.4]
["9月",19,18.8,18.7,18.5,18.399999999999999,18.2,18.2,18.399999999999999,18.7,19.100000000000001,19.399999999999999,19.7,19.899999999999999,20,20,20.2,20.3,20.100000000000001,19.8,19.600000000000001,19.5,19.3,19.100000000000001,19]
["10月",13.3,13.1,13,12.8,12.6,12.4,12.2,12.5,12.9,13.5,13.9,14.3,14.7,14.9,15,15.1,15.1,14.9,14.6,14.3,14,13.8,13.6,13.3]
["11月",7.1,6.9,6.6,6.3,6.1,5.8,5.6,5.7,6.5,7.2,7.9,8.6,9.1,9.5,9.6999999999999993,9.6999999999999993,9.6,9.3000000000000007,8.9,8.5,8.1,7.8,7.5,7.2]
["12月",1.5,1.2,0.9,0.7,0.4,0.2,0,-0.1,0.6,1.6,2.5,3.3,4,4.5,4.7,4.7,4.4000000000000004,3.9,3.5,3,2.6,2.2000000000000002,1.9,1.6]
["1月",-0.9,-1.2,-1.5,-1.8,-2.1,-2.2999999999999998,-2.6,-2.8,-2,-1,0,0.8,1.5,2.1,2.4,2.5,2.2999999999999998,1.8,1.3,0.9,0.4,0,-0.3,-0.6]
["2月",0.2,-0.1,-0.4,-0.7,-1,-1.2,-1.4,-1.4,-0.6,0.3,1.1000000000000001,2,2.7,3.2,3.6,3.8,3.7,3.2,2.7,2.2999999999999998,1.8,1.4,1,0.7]
["3月",3.7,3.4,3.1,2.8,2.5,2.2999999999999998,2,2.4,3.2,3.9,4.7,5.4,6,6.5,6.8,7.1,7,6.6,6.1,5.6,5.3,4.9000000000000004,4.5,4.0999999999999996]

{"sheet":"長野","index":23,"n_rows":16,"n_cols":25,"rows_kept":16,"cut":false,"hidden":true,"merged":[]}
["気象データ"]
[{"$f":"RIGHT(CELL(\"filename\",A2),LEN(CELL(\"filename\",A2))-FIND(\"]\",CELL(\"filename\",A2)))","v":"長野"}]
["時刻別平均外気湿球温度"]
["時刻",0,1,2,3,4,5,6,7,8,9,10,11,12,13,14,15,16,17,18,19,20,21,22,23]
["4月",5.6,5.3,5,4.8,4.5999999999999996,4.4000000000000004,4.5,5.2,6.1,7,7.7,8.3000000000000007,8.6999999999999993,8.9,9.1,8.9,8.6,8.1999999999999993,7.6,7.2,6.8,6.5,6.2,6]
["5月",11,10.8,10.6,10.4,10.199999999999999,10,10.3,11,11.7,12.4,13,13.4,13.7,13.9,14,14,13.7,13.3,12.9,12.4,12.1,11.8,11.5,11.3]
["6月",15.7,15.6,15.4,15.3,15.1,15,15.3,15.7,16.3,16.8,17.2,17.5,17.8,18,18.100000000000001,18.100000000000001,18,17.7,17.3,17,16.7,16.5,16.2,16.100000000000001]
["7月",20.100000000000001,19.899999999999999,19.8,19.7,19.600000000000001,19.5,19.7,20,20.5,20.9,21.2,21.5,21.7,22,22.2,22.2,22,21.8,21.4,21.1,20.8,20.6,20.399999999999999,20.3]
["8月",21,20.8,20.7,20.6,20.399999999999999,20.3,20.3,20.7,21.1,21.6,21.9,22.1,22.4,22.5,22.7,22.8,22.7,22.4,22,21.7,21.5,21.3,21.2,21]
["9月",17.2,17,16.899999999999999,16.7,16.600000000000001,16.5,16.5,16.8,17.2,17.7,18.2,18.5,18.7,18.8,19,19,18.8,18.399999999999999,18.100000000000001,17.8,17.600000000000001,17.5,17.3,17.100000000000001]
["10月",11.2,11,10.9,10.7,10.5,10.4,10.199999999999999,10.5,11.2,11.8,12.4,12.9,13.2,13.4,13.5,13.4,13.2,12.7,12.3,12.1,11.8,11.6,11.4,11.2]
["11月",5.2,5,4.7,4.5,4.3,4.0999999999999996,4,4,4.7,5.6,6.4,7.1,7.6,8,8.1,8,7.7,7.1,6.7,6.4,6.1,5.8,5.5,5.3]
["12月",0.2,0,-0.2,-0.3,-0.5,-0.7,-0.8,-0.9,-0.4,0.3,1.1000000000000001,1.8,2.2999999999999998,2.7,2.9,2.8,2.5,1.9,1.6,1.3,1,0.7,0.5,0.3]
["1月",-2.2999999999999998,-2.5,-2.7,-2.9,-3.1,-3.2,-3.4,-3.5,-3.1,-2.4,-1.6,-0.9,-0.4,0.1,0.3,0.3,0,-0.4,-0.8,-1.1000000000000001,-1.4,-1.6,-1.9,-2.1]
["2月",-2,-2.2000000000000002,-2.4,-2.7,-2.8,-3,-3.2,-3.2,-2.6,-1.7,-0.9,-0.1,0.5,0.9,1.1000000000000001,1.1000000000000001,0.8,0.3,-0.2,-0.5,-0.8,-1.1000000000000001,-1.4,-1.6]
["3月",0.9,0.7,0.5,0.3,0.1,-0.1,-0.3,0.1,0.9,1.7,2.6,3.3,3.9,4.2,4.3,4.2,3.9,3.4,2.8,2.4,2,1.7,1.5,1.2]

{"sheet":"岐阜","index":24,"n_rows":16,"n_cols":25,"rows_kept":16,"cut":false,"hidden":true,"merged":[]}
["気象データ"]
[{"$f":"RIGHT(CELL(\"filename\",A2),LEN(CELL(\"filename\",A2))-FIND(\"]\",CELL(\"filename\",A2)))","v":"岐阜"}]
["時刻別平均外気湿球温度"]
["時刻",0,1,2,3,4,5,6,7,8,9,10,11,12,13,14,15,16,17,18,19,20,21,22,23]
["4月",9.3000000000000007,9,8.8000000000000007,8.6,8.4,8.1999999999999993,8.1999999999999993,8.6,9.1999999999999993,9.8000000000000007,10.4,10.9,11.4,11.6,11.7,11.6,11.5,11.1,10.7,10.5,10.3,10.1,9.9,9.6999999999999993]
["5月",14.1,13.9,13.7,13.5,13.4,13.2,13.4,13.7,14.2,14.7,15.2,15.5,15.8,15.9,16.100000000000001,16,15.8,15.6,15.2,14.9,14.8,14.6,14.5,14.4]
["6月",18.399999999999999,18.3,18.2,18.100000000000001,17.899999999999999,17.8,18,18.2,18.600000000000001,18.899999999999999,19.3,19.5,19.8,19.899999999999999,20,20,19.8,19.600000000000001,19.399999999999999,19.100000000000001,19,18.899999999999999,18.8,18.7]
["7月",22.5,22.4,22.3,22.2,22.2,22.1,22.2,22.4,22.7,22.9,23.2,23.4,23.6,23.7,23.7,23.8,23.7,23.4,23.3,23.1,23,22.9,22.8,22.7]
["8月",23.3,23.2,23.1,23,22.9,22.8,22.8,23,23.3,23.6,23.8,24.1,24.2,24.4,24.3,24.3,24.2,24,23.8,23.6,23.6,23.5,23.4,23.3]
["9月",20,19.899999999999999,19.8,19.600000000000001,19.5,19.399999999999999,19.3,19.5,19.8,20.2,20.5,20.8,21,21.1,21,21.1,21,20.8,20.6,20.399999999999999,20.3,20.2,20.100000000000001,20]
["10月",14.4,14.2,14,13.9,13.7,13.5,13.4,13.7,14.2,14.6,15.1,15.5,15.7,15.9,15.9,15.8,15.7,15.4,15.2,15,14.9,14.7,14.5,14.3]
["11月",8.6999999999999993,8.6,8.3000000000000007,8.1,7.9,7.8,7.6,7.7,8.4,9,9.6,10.1,10.5,10.7,10.8,10.7,10.5,10.1,9.9,9.6999999999999993,9.4,9.1999999999999993,9,8.8000000000000007]
["12月",3.9,3.7,3.5,3.3,3.2,3,2.9,2.8,3.4,4.0999999999999996,4.8,5.4,5.7,6,6.1,5.9,5.7,5.3,5,4.8,4.5999999999999996,4.4000000000000004,4.0999999999999996,3.9]
["1月",1.5,1.3,1.1000000000000001,0.9,0.7,0.5,0.4,0.3,0.8,1.6,2.4,3,3.4,3.7,3.8,3.7,3.5,3.1,2.8,2.5,2.2999999999999998,2.1,1.9,1.7]
["2月",1.8,1.5,1.3,1.2,1,0.8,0.7,0.7,1.3,2.1,2.8,3.5,4,4.3,4.4000000000000004,4.3,4.0999999999999996,3.7,3.3,3,2.8,2.6,2.2999999999999998,2.1]
["3月",4.5999999999999996,4.4000000000000004,4.2,3.9,3.7,3.5,3.4,3.7,4.3,5,5.7,6.3,6.8,7.1,7.2,7.2,7,6.6,6.2,5.9,5.7,5.4,5.2,5]

{"sheet":"静岡","index":25,"n_rows":16,"n_cols":25,"rows_kept":16,"cut":false,"hidden":true,"merged":[]}
["気象データ"]
[{"$f":"RIGHT(CELL(\"filename\",A2),LEN(CELL(\"filename\",A2))-FIND(\"]\",CELL(\"filename\",A2)))","v":"静岡"}]
["時刻別平均外気湿球温度"]
["時刻",0,1,2,3,4,5,6,7,8,9,10,11,12,13,14,15,16,17,18,19,20,21,22,23]
["4月",10.5,10.3,10.1,9.9,9.6999999999999993,9.5,9.6,10.3,11,11.6,12,12.3,12.5,12.7,12.7,12.6,12.5,12.3,12.1,11.9,11.7,11.5,11.2,11]
["5月",15.1,14.9,14.7,14.4,14.2,14.1,14.4,14.9,15.5,16,16.3,16.5,16.600000000000001,16.7,16.7,16.7,16.600000000000001,16.5,16.3,16.2,16,15.9,15.7,15.5]
["6月",19,18.899999999999999,18.7,18.5,18.399999999999999,18.3,18.5,18.899999999999999,19.3,19.600000000000001,19.8,20,20.100000000000001,20.100000000000001,20.100000000000001,20.2,20.100000000000001,20,19.899999999999999,19.8,19.7,19.600000000000001,19.5,19.3]
["7月",22.8,22.7,22.5,22.4,22.3,22.2,22.3,22.6,23,23.3,23.5,23.7,23.8,23.8,23.8,23.8,23.7,23.6,23.5,23.4,23.3,23.2,23.1,23]
["8月",23.7,23.5,23.4,23.2,23.1,23,23,23.4,23.8,24.2,24.3,24.5,24.6,24.7,24.8,24.7,24.6,24.5,24.4,24.3,24.2,24.1,24,23.8]
["9月",20.7,20.5,20.399999999999999,20.2,20,19.899999999999999,19.899999999999999,20.2,20.7,21.1,21.3,21.5,21.6,21.7,21.7,21.7,21.7,21.5,21.5,21.4,21.3,21.1,21,20.7]
["10月",15.5,15.4,15.2,15,14.9,14.7,14.6,14.9,15.5,16.100000000000001,16.399999999999999,16.7,16.899999999999999,17,17,17,16.899999999999999,16.7,16.600000000000001,16.399999999999999,16.2,16,15.8,15.6]
["11月",10.199999999999999,10,9.8000000000000007,9.6,9.4,9.3000000000000007,9.1,9.1999999999999993,10,10.8,11.5,11.9,12.2,12.4,12.4,12.4,12.2,11.9,11.6,11.4,11.1,10.8,10.6,10.3]
["12月",5,4.8,4.5999999999999996,4.4000000000000004,4.2,4.0999999999999996,3.9,3.9,4.5999999999999996,5.7,6.5,7.1,7.5,7.7,7.7,7.6,7.3,6.8,6.5,6.2,5.9,5.6,5.3,5.0999999999999996]
["1月",2.5,2.2999999999999998,2.1,1.9,1.7,1.5,1.3,1.2,1.9,3.1,4.0999999999999996,4.7,5.0999999999999996,5.4,5.5,5.4,5.0999999999999996,4.7,4.2,3.9,3.6,3.3,3,2.8]
["2月",3.2,3,2.8,2.6,2.4,2.2000000000000002,2.1,2.1,3,4,4.8,5.4,5.8,6,6.1,6.1,5.9,5.5,5.2,4.8,4.5,4.2,3.9,3.6]
["3月",6.4,6.2,5.9,5.7,5.5,5.3,5.2,5.6,6.5,7.3,7.9,8.3000000000000007,8.6,8.8000000000000007,8.9,8.8000000000000007,8.6,8.4,8.1,7.9,7.6,7.3,7.1,6.8]

{"sheet":"名古屋","index":26,"n_rows":16,"n_cols":25,"rows_kept":16,"cut":false,"hidden":true,"merged":[]}
["気象データ"]
[{"$f":"RIGHT(CELL(\"filename\",A2),LEN(CELL(\"filename\",A2))-FIND(\"]\",CELL(\"filename\",A2)))","v":"名古屋"}]
["時刻別平均外気湿球温度"]
["時刻",0,1,2,3,4,5,6,7,8,9,10,11,12,13,14,15,16,17,18,19,20,21,22,23]
["4月",9.4,9.1,8.9,8.6999999999999993,8.6,8.4,8.4,8.9,9.5,10.1,10.7,11.1,11.4,11.6,11.7,11.6,11.4,11.1,10.8,10.6,10.4,10.1,10,9.6999999999999993]
["5月",14.1,14,13.8,13.7,13.5,13.3,13.6,14,14.5,15,15.3,15.6,15.9,16,16,15.9,15.7,15.5,15.3,15,14.9,14.8,14.6,14.4]
["6月",18.399999999999999,18.3,18.2,18.100000000000001,18,17.899999999999999,18.100000000000001,18.399999999999999,18.8,19.100000000000001,19.3,19.600000000000001,19.8,19.899999999999999,19.899999999999999,19.899999999999999,19.7,19.5,19.3,19.100000000000001,19,18.899999999999999,18.8,18.7]
["7月",22.4,22.3,22.2,22.1,22.1,22,22.1,22.4,22.7,23,23.3,23.4,23.6,23.6,23.7,23.6,23.5,23.4,23.1,23,22.9,22.8,22.7,22.6]
["8月",23.2,23.1,23,22.9,22.8,22.7,22.8,23.1,23.4,23.7,23.9,24,24.2,24.2,24.2,24.1,24.1,23.9,23.7,23.6,23.5,23.4,23.3,23.3]
["9月",20.100000000000001,20,19.8,19.7,19.600000000000001,19.5,19.399999999999999,19.7,20,20.399999999999999,20.7,20.8,21,21.1,21.1,21,20.9,20.7,20.5,20.5,20.399999999999999,20.3,20.2,20]
["10月",14.5,14.4,14.2,14,13.9,13.7,13.6,13.8,14.3,14.8,15.3,15.6,15.9,15.9,15.9,15.8,15.7,15.4,15.2,15.1,14.9,14.8,14.6,14.5]
["11月",8.8000000000000007,8.6,8.4,8.3000000000000007,8.1,7.9,7.7,7.8,8.4,9.1,9.6999999999999993,10.199999999999999,10.6,10.7,10.8,10.7,10.4,10.1,9.9,9.6,9.4,9.3000000000000007,9.1,8.9]
["12月",3.9,3.7,3.5,3.4,3.2,3.1,2.9,2.8,3.3,4.0999999999999996,4.8,5.4,5.7,6,6,5.9,5.6,5.2,5,4.8,4.5999999999999996,4.3,4.0999999999999996,3.9]
["1月",1.5,1.3,1.1000000000000001,0.9,0.7,0.6,0.4,0.3,0.8,1.6,2.4,3,3.5,3.7,3.8,3.7,3.4,3,2.7,2.5,2.2999999999999998,2.1,1.9,1.7]
["2月",1.8,1.6,1.4,1.2,1,0.8,0.7,0.6,1.3,2.1,2.9,3.6,4,4.3,4.5,4.4000000000000004,4.0999999999999996,3.7,3.3,3.1,2.8,2.6,2.4,2.2000000000000002]
["3月",4.8,4.5999999999999996,4.3,4.0999999999999996,3.9,3.7,3.5,3.8,4.5,5.2,5.9,6.5,6.9,7.2,7.4,7.3,7.1,6.7,6.3,6,5.8,5.6,5.3,5.0999999999999996]

{"sheet":"津","index":27,"n_rows":16,"n_cols":25,"rows_kept":16,"cut":false,"hidden":true,"merged":[]}
["気象データ"]
[{"$f":"RIGHT(CELL(\"filename\",A2),LEN(CELL(\"filename\",A2))-FIND(\"]\",CELL(\"filename\",A2)))","v":"津"}]
["時刻別平均外気湿球温度"]
["時刻",0,1,2,3,4,5,6,7,8,9,10,11,12,13,14,15,16,17,18,19,20,21,22,23]
["4月",9.5,9.4,9.1999999999999993,9,8.9,8.8000000000000007,8.8000000000000007,9.3000000000000007,9.9,10.3,10.6,11,11.2,11.5,11.7,11.8,11.7,11.5,11.2,10.9,10.7,10.5,10.199999999999999,9.9]
["5月",14.5,14.3,14.2,14,13.9,13.8,13.9,14.4,14.8,15.2,15.5,15.8,16,16.100000000000001,16.3,16.3,16.3,16.100000000000001,15.8,15.6,15.4,15.2,15,14.8]
["6月",18.600000000000001,18.5,18.399999999999999,18.3,18.2,18.100000000000001,18.3,18.600000000000001,18.899999999999999,19.2,19.5,19.7,19.8,20,20.100000000000001,20.2,20.2,20.100000000000001,19.899999999999999,19.600000000000001,19.399999999999999,19.3,19.100000000000001,19]
["7月",22.7,22.6,22.5,22.4,22.3,22.3,22.4,22.6,22.9,23.2,23.4,23.6,23.7,23.9,23.8,24,23.9,23.8,23.7,23.4,23.3,23.1,23,22.9]
["8月",23.5,23.4,23.3,23.2,23.1,23,23.1,23.3,23.7,24,24.2,24.4,24.5,24.6,24.7,24.7,24.6,24.6,24.3,24.1,23.9,23.8,23.7,23.5]
["9月",20.2,20.100000000000001,20,19.899999999999999,19.8,19.7,19.7,19.899999999999999,20.3,20.6,20.9,21.1,21.2,21.2,21.3,21.3,21.3,21.2,21,20.8,20.6,20.5,20.3,20.2]
["10月",14.7,14.6,14.4,14.3,14.2,14.1,14.1,14.2,14.8,15.2,15.5,15.8,15.9,16,16.100000000000001,16.100000000000001,16,15.8,15.6,15.4,15.2,15,14.8,14.6]
["11月",9.1999999999999993,9,8.9,8.8000000000000007,8.6999999999999993,8.5,8.4,8.5,9.1,9.8000000000000007,10.199999999999999,10.6,10.8,11,11,11,10.8,10.5,10.3,10.1,9.8000000000000007,9.6,9.4,9.1999999999999993]
["12月",4.4000000000000004,4.2,4.0999999999999996,4,3.9,3.8,3.7,3.7,4.2,5,5.6,6,6.2,6.3,6.4,6.3,6,5.7,5.5,5.2,4.9000000000000004,4.7,4.5,4.3]
["1月",2.1,1.9,1.8,1.7,1.6,1.5,1.4,1.4,1.8,2.5,3.2,3.6,3.9,4,4.0999999999999996,4,3.9,3.5,3.3,3,2.8,2.5,2.4,2.2000000000000002]
["2月",2.2000000000000002,2.1,2,1.8,1.7,1.6,1.6,1.6,2.1,2.9,3.5,3.9,4.2,4.3,4.4000000000000004,4.5,4.3,4,3.7,3.4,3.2,3,2.7,2.5]
["3月",5,4.8,4.5999999999999996,4.5,4.3,4.2,4.0999999999999996,4.3,5,5.6,6.1,6.4,6.7,6.9,7.1,7.2,7.1,6.9,6.6,6.3,6,5.8,5.5,5.3]

{"sheet":"彦根","index":28,"n_rows":16,"n_cols":25,"rows_kept":16,"cut":false,"hidden":true,"merged":[]}
["気象データ"]
[{"$f":"RIGHT(CELL(\"filename\",A2),LEN(CELL(\"filename\",A2))-FIND(\"]\",CELL(\"filename\",A2)))","v":"彦根"}]
["時刻別平均外気湿球温度"]
["時刻",0,1,2,3,4,5,6,7,8,9,10,11,12,13,14,15,16,17,18,19,20,21,22,23]
["4月",8.6999999999999993,8.5,8.3000000000000007,8.1,7.9,7.8,7.8,8.4,9.1,9.5,9.9,10.199999999999999,10.5,10.8,10.9,10.9,10.8,10.6,10.3,10,9.8000000000000007,9.6,9.4,9.1]
["5月",13.5,13.4,13.2,13,12.8,12.7,13,13.6,14.1,14.5,14.8,15.1,15.3,15.5,15.6,15.5,15.4,15.2,14.9,14.6,14.4,14.3,14,13.8]
["6月",18,17.899999999999999,17.7,17.600000000000001,17.5,17.399999999999999,17.7,18.100000000000001,18.5,18.8,19,19.3,19.5,19.7,19.7,19.7,19.600000000000001,19.5,19.2,19,18.8,18.600000000000001,18.5,18.3]
["7月",22.2,22.1,22,21.9,21.8,21.7,21.9,22.3,22.7,23,23.2,23.4,23.6,23.8,23.9,23.8,23.7,23.5,23.3,23.1,22.9,22.8,22.6,22.5]
["8月",23,22.9,22.8,22.7,22.5,22.5,22.5,22.9,23.4,23.8,24,24.2,24.4,24.5,24.6,24.5,24.4,24.2,24,23.8,23.6,23.4,23.3,23.1]
["9月",19.8,19.600000000000001,19.5,19.399999999999999,19.3,19.100000000000001,19.100000000000001,19.5,20,20.399999999999999,20.6,20.8,21,21,21.1,21.1,21,20.8,20.5,20.3,20.2,20.100000000000001,19.899999999999999,19.7]
["10月",14.2,14.1,13.9,13.8,13.6,13.5,13.4,13.7,14.4,15,15.4,15.6,15.8,15.9,15.9,15.9,15.8,15.6,15.4,15.2,14.9,14.6,14.4,14.2]
["11月",8.6999999999999993,8.5,8.4,8.1999999999999993,8,7.9,7.8,7.9,8.5,9.4,9.9,10.3,10.6,10.7,10.8,10.8,10.6,10.4,10.1,9.8000000000000007,9.5,9.3000000000000007,9,8.8000000000000007]
["12月",4.0999999999999996,3.9,3.7,3.7,3.5,3.4,3.4,3.3,3.6,4.3,4.9000000000000004,5.4,5.6,5.8,5.9,5.9,5.7,5.5,5.2,4.9000000000000004,4.7,4.4000000000000004,4.2,4]
["1月",1.7,1.5,1.4,1.3,1.1000000000000001,1,1,0.9,1.1000000000000001,1.8,2.4,2.8,3.1,3.3,3.5,3.5,3.3,3.1,2.9,2.7,2.5,2.2000000000000002,2,1.8]
["2月",1.9,1.7,1.5,1.4,1.3,1.2,1.1000000000000001,1.1000000000000001,1.5,2.2000000000000002,2.7,3.2,3.5,3.7,3.8,3.8,3.7,3.5,3.2,3.1,2.8,2.6,2.4,2.2000000000000002]
["3月",4.4000000000000004,4.2,4,3.8,3.7,3.5,3.4,3.6,4.4000000000000004,5,5.4,5.8,6.1,6.3,6.5,6.6,6.5,6.3,5.9,5.7,5.5,5.2,5,4.8]

{"sheet":"京都","index":29,"n_rows":16,"n_cols":25,"rows_kept":16,"cut":false,"hidden":true,"merged":[]}
["気象データ"]
[{"$f":"RIGHT(CELL(\"filename\",A2),LEN(CELL(\"filename\",A2))-FIND(\"]\",CELL(\"filename\",A2)))","v":"京都"}]
["時刻別平均外気湿球温度"]
["時刻",0,1,2,3,4,5,6,7,8,9,10,11,12,13,14,15,16,17,18,19,20,21,22,23]
["4月",8.9,8.6999999999999993,8.5,8.4,8.1999999999999993,8.1,8.1,8.5,9.1999999999999993,9.9,10.5,11,11.2,11.4,11.5,11.4,11.3,11,10.7,10.4,10.1,9.8000000000000007,9.6,9.3000000000000007]
["5月",13.5,13.3,13.2,13.1,12.9,12.8,13,13.6,14.2,14.7,15.1,15.5,15.7,15.8,15.8,15.8,15.7,15.5,15.1,14.8,14.5,14.3,14.1,13.8]
["6月",17.899999999999999,17.7,17.600000000000001,17.5,17.399999999999999,17.3,17.5,17.899999999999999,18.3,18.8,19.100000000000001,19.399999999999999,19.600000000000001,19.7,19.7,19.7,19.600000000000001,19.5,19.2,19,18.8,18.600000000000001,18.399999999999999,18.3]
["7月",22.2,22.1,22,21.9,21.8,21.7,21.8,22.1,22.5,22.8,23.1,23.2,23.4,23.5,23.5,23.4,23.4,23.3,23.1,23,22.8,22.7,22.5,22.4]
["8月",22.8,22.7,22.6,22.5,22.4,22.3,22.3,22.7,23.1,23.4,23.7,23.8,24,23.9,23.9,23.9,23.8,23.8,23.6,23.4,23.3,23.1,23,22.9]
["9月",19.5,19.399999999999999,19.3,19.2,19.100000000000001,19,19,19.2,19.7,20.100000000000001,20.399999999999999,20.6,20.7,20.7,20.6,20.7,20.5,20.399999999999999,20.2,20,19.899999999999999,19.7,19.600000000000001,19.5]
["10月",14.1,14,13.8,13.7,13.5,13.5,13.4,13.5,14.1,14.7,15.3,15.6,15.8,15.8,15.8,15.7,15.6,15.3,15.1,14.9,14.6,14.4,14.2,14.1]
["11月",8.8000000000000007,8.6,8.4,8.3000000000000007,8.1,8,7.9,7.9,8.4,9.1999999999999993,9.9,10.4,10.8,10.9,10.9,10.9,10.6,10.4,10.1,9.8000000000000007,9.5,9.3000000000000007,9.1,8.9]
["12月",4,3.9,3.7,3.6,3.4,3.3,3.2,3.1,3.5,4.2,4.9000000000000004,5.5,5.9,6.2,6.2,6.2,5.9,5.6,5.3,5,4.7,4.5,4.3,4.0999999999999996]
["1月",1.8,1.6,1.5,1.4,1.2,1.1000000000000001,1,0.9,1.2,1.9,2.6,3.2,3.7,3.9,4,4,3.7,3.4,3.1,2.9,2.6,2.4,2.2000000000000002,2]
["2月",2.1,1.9,1.7,1.6,1.5,1.4,1.3,1.2,1.7,2.4,3.2,3.7,4.2,4.4000000000000004,4.5,4.5,4.3,4,3.6,3.3,3,2.8,2.6,2.4]
["3月",4.7,4.5,4.3,4.0999999999999996,3.9,3.8,3.7,3.9,4.5,5.2,5.9,6.5,7,7.2,7.3,7.3,7.1,6.7,6.3,6,5.7,5.4,5.2,4.9000000000000004]

{"sheet":"大阪","index":30,"n_rows":16,"n_cols":25,"rows_kept":16,"cut":false,"hidden":true,"merged":[]}
["気象データ"]
[{"$f":"RIGHT(CELL(\"filename\",A2),LEN(CELL(\"filename\",A2))-FIND(\"]\",CELL(\"filename\",A2)))","v":"大阪"}]
["時刻別平均外気湿球温度"]
["時刻",0,1,2,3,4,5,6,7,8,9,10,11,12,13,14,15,16,17,18,19,20,21,22,23]
["4月",10.1,9.9,9.6999999999999993,9.5,9.4,9.1999999999999993,9.1999999999999993,9.5,10,10.6,11.1,11.4,11.6,11.8,11.8,11.8,11.6,11.4,11.2,11,10.9,10.7,10.6,10.4]
["5月",14.7,14.5,14.4,14.2,14.1,14,14.1,14.5,14.9,15.3,15.6,15.8,16,16.100000000000001,16.100000000000001,16.100000000000001,15.9,15.8,15.6,15.4,15.4,15.2,15.1,14.9]
["6月",18.899999999999999,18.8,18.600000000000001,18.5,18.399999999999999,18.3,18.5,18.7,19,19.3,19.600000000000001,19.8,19.899999999999999,20,20,20,19.899999999999999,19.7,19.600000000000001,19.5,19.399999999999999,19.399999999999999,19.2,19.100000000000001]
["7月",22.9,22.8,22.7,22.7,22.6,22.5,22.6,22.8,23.1,23.3,23.5,23.6,23.7,23.7,23.7,23.6,23.6,23.5,23.4,23.4,23.3,23.2,23.2,23.1]
["8月",23.6,23.5,23.4,23.3,23.2,23.2,23.2,23.4,23.7,23.9,24.1,24.2,24.3,24.4,24.3,24.2,24,24,24,23.9,23.9,23.8,23.7,23.6]
["9月",20.2,20.100000000000001,20,19.899999999999999,19.899999999999999,19.8,19.8,20,20.3,20.6,20.8,20.9,21.1,21.1,21.1,21,21,20.8,20.6,20.5,20.399999999999999,20.3,20.2,20.100000000000001]
["10月",14.9,14.8,14.7,14.6,14.5,14.4,14.3,14.5,14.9,15.4,15.7,16,16.100000000000001,16.2,16.2,16.100000000000001,15.9,15.7,15.6,15.4,15.3,15.2,15,14.9]
["11月",9.8000000000000007,9.6,9.5,9.3000000000000007,9.1999999999999993,9.1,9,9,9.5,10,10.6,10.9,11.2,11.3,11.4,11.3,11.1,10.8,10.7,10.5,10.3,10.1,10,9.8000000000000007]
["12月",5.0999999999999996,4.9000000000000004,4.8,4.5999999999999996,4.5,4.4000000000000004,4.3,4.3,4.5,5.2,5.8,6.2,6.5,6.6,6.6,6.6,6.4,6.1,6,5.8,5.6,5.4,5.2,5]
["1月",2.7,2.5,2.4,2.2999999999999998,2.2000000000000002,2.1,2,1.9,2.2000000000000002,2.8,3.4,3.9,4.0999999999999996,4.3,4.4000000000000004,4.4000000000000004,4.2,3.9,3.7,3.5,3.4,3.2,3,2.8]
["2月",2.9,2.8,2.6,2.5,2.4,2.2999999999999998,2.2000000000000002,2.2000000000000002,2.6,3.2,3.8,4.3,4.5999999999999996,4.8,4.9000000000000004,4.9000000000000004,4.8,4.4000000000000004,4.2,4,3.8,3.6,3.4,3.2]
["3月",5.6,5.5,5.3,5.0999999999999996,5,4.8,4.7,4.8,5.4,5.9,6.5,7,7.3,7.5,7.6,7.6,7.5,7.2,6.9,6.7,6.5,6.3,6.1,5.9]

{"sheet":"神戸","index":31,"n_rows":16,"n_cols":25,"rows_kept":16,"cut":false,"hidden":true,"merged":[]}
["気象データ"]
[{"$f":"RIGHT(CELL(\"filename\",A2),LEN(CELL(\"filename\",A2))-FIND(\"]\",CELL(\"filename\",A2)))","v":"神戸"}]
["時刻別平均外気湿球温度"]
["時刻",0,1,2,3,4,5,6,7,8,9,10,11,12,13,14,15,16,17,18,19,20,21,22,23]
["4月",10.199999999999999,10,9.9,9.6999999999999993,9.5,9.4,9.4,9.8000000000000007,10.3,10.7,11.1,11.4,11.6,11.8,11.8,11.8,11.7,11.6,11.4,11.1,10.9,10.8,10.7,10.5]
["5月",14.8,14.6,14.5,14.4,14.3,14.1,14.3,14.8,15.1,15.4,15.7,16,16.100000000000001,16.2,16.3,16.2,16.100000000000001,16,15.9,15.7,15.5,15.3,15.2,15]
["6月",19,18.899999999999999,18.8,18.7,18.600000000000001,18.5,18.7,19,19.3,19.5,19.8,19.899999999999999,20,20.100000000000001,20.100000000000001,20.100000000000001,20,19.899999999999999,19.8,19.7,19.600000000000001,19.5,19.399999999999999,19.3]
["7月",23.2,23.1,23,22.9,22.9,22.8,22.9,23.1,23.4,23.6,23.7,23.8,23.9,24,24.1,24,24,23.8,23.8,23.6,23.5,23.5,23.4,23.3]
["8月",23.9,23.8,23.7,23.6,23.6,23.5,23.5,23.7,24,24.2,24.4,24.5,24.6,24.6,24.7,24.7,24.6,24.5,24.4,24.3,24.2,24.1,24.1,24]
["9月",20.399999999999999,20.3,20.3,20.2,20.100000000000001,20,20,20.3,20.6,20.9,21.1,21.3,21.4,21.4,21.4,21.4,21.3,21.2,21,20.8,20.6,20.5,20.399999999999999,20.3]
["10月",15,14.9,14.8,14.7,14.6,14.5,14.5,14.7,15.2,15.6,15.9,16.2,16.3,16.399999999999999,16.399999999999999,16.3,16.2,16,15.7,15.5,15.3,15.2,15,14.9]
["11月",9.8000000000000007,9.6999999999999993,9.6,9.5,9.4,9.3000000000000007,9.1999999999999993,9.3000000000000007,9.9,10.4,10.8,11.1,11.4,11.5,11.5,11.4,11.2,10.9,10.6,10.4,10.199999999999999,10.1,10,9.8000000000000007]
["12月",5,4.9000000000000004,4.8,4.7,4.5999999999999996,4.5,4.5,4.4000000000000004,4.8,5.4,5.9,6.3,6.5,6.6,6.7,6.6,6.4,6.1,5.7,5.5,5.3,5.2,5,4.9000000000000004]
["1月",2.6,2.4,2.4,2.2000000000000002,2.1,2.1,2,2,2.2999999999999998,3,3.5,3.9,4.0999999999999996,4.3,4.4000000000000004,4.4000000000000004,4.2,3.9,3.6,3.3,3.1,3,2.8,2.7]
["2月",2.9,2.8,2.6,2.5,2.4,2.4,2.2999999999999998,2.2999999999999998,2.8,3.4,3.9,4.3,4.5,4.8,4.9000000000000004,4.9000000000000004,4.8,4.5,4.2,3.8,3.6,3.5,3.3,3.2]
["3月",5.7,5.6,5.4,5.3,5.0999999999999996,5,4.9000000000000004,5.0999999999999996,5.7,6.2,6.6,7,7.3,7.5,7.6,7.6,7.5,7.3,7,6.7,6.5,6.3,6.1,5.9]

{"sheet":"奈良","index":32,"n_rows":16,"n_cols":25,"rows_kept":16,"cut":false,"hidden":true,"merged":[]}
["気象データ"]
[{"$f":"RIGHT(CELL(\"filename\",A2),LEN(CELL(\"filename\",A2))-FIND(\"]\",CELL(\"filename\",A2)))","v":"奈良"}]
["時刻別平均外気湿球温度"]
["時刻",0,1,2,3,4,5,6,7,8,9,10,11,12,13,14,15,16,17,18,19,20,21,22,23]
["4月",8.5,8.3000000000000007,8.1,7.9,7.7,7.6,7.6,8.5,9.4,10.199999999999999,10.8,11.3,11.5,11.7,11.7,11.7,11.4,11,10.6,10.199999999999999,9.8000000000000007,9.5,9.1999999999999993,9]
["5月",13.4,13.2,13,12.8,12.7,12.6,13,13.8,14.5,15.1,15.5,15.9,16,16.100000000000001,16.2,16.100000000000001,15.8,15.5,15.2,14.9,14.5,14.2,13.9,13.7]
["6月",17.899999999999999,17.7,17.600000000000001,17.5,17.399999999999999,17.3,17.600000000000001,18.2,18.8,19.2,19.600000000000001,19.8,19.899999999999999,20,20,20,19.8,19.600000000000001,19.3,19.100000000000001,18.8,18.600000000000001,18.3,18.2]
["7月",22,21.9,21.8,21.7,21.6,21.5,21.8,22.3,22.7,23.2,23.5,23.7,23.8,23.9,23.8,23.7,23.6,23.4,23.2,22.9,22.7,22.5,22.4,22.2]
["8月",22.6,22.5,22.4,22.3,22.2,22.1,22.2,22.8,23.3,23.8,24.1,24.3,24.3,24.3,24.2,24.3,24,23.8,23.6,23.3,23.1,23,22.8,22.7]
["9月",19.3,19.2,19.100000000000001,19,18.899999999999999,18.8,18.8,19.3,20,20.5,20.9,21.1,21.2,21.2,21.2,21,20.8,20.7,20.3,20,19.8,19.600000000000001,19.5,19.3]
["10月",13.8,13.6,13.5,13.4,13.3,13.1,13,13.4,14.3,15,15.6,16,16.2,16.3,16.2,16,15.8,15.4,15,14.7,14.4,14.1,13.9,13.7]
["11月",8.3000000000000007,8.1999999999999993,8,7.8,7.6,7.5,7.4,7.4,8.4,9.4,10.1,10.7,11,11.1,11.1,11,10.7,10.199999999999999,9.8000000000000007,9.4,9.1,8.9,8.6,8.4]
["12月",3.4,3.3,3.1,3,2.9,2.8,2.7,2.6,3.2,4.2,5.0999999999999996,5.7,6.1,6.2,6.2,6.1,5.8,5.3,4.9000000000000004,4.5,4.0999999999999996,3.9,3.6,3.4]
["1月",1.2,1,0.9,0.8,0.6,0.5,0.5,0.4,0.8,1.9,2.7,3.3,3.7,3.9,4,3.9,3.6,3.2,2.7,2.2999999999999998,2,1.7,1.5,1.3]
["2月",1.3,1.2,1,0.9,0.8,0.7,0.6,0.6,1.4,2.4,3.2,3.8,4.2,4.4000000000000004,4.5,4.5,4.3,3.8,3.3,2.9,2.5,2.2000000000000002,1.9,1.7]
["3月",4.0999999999999996,3.9,3.7,3.6,3.4,3.3,3.1,3.5,4.5,5.4,6.2,6.8,7.2,7.4,7.4,7.4,7.1,6.8,6.3,5.8,5.4,5,4.7,4.4000000000000004]

{"sheet":"和歌山","index":33,"n_rows":16,"n_cols":25,"rows_kept":16,"cut":false,"hidden":true,"merged":[]}
["気象データ"]
[{"$f":"RIGHT(CELL(\"filename\",A2),LEN(CELL(\"filename\",A2))-FIND(\"]\",CELL(\"filename\",A2)))","v":"和歌山"}]
["時刻別平均外気湿球温度"]
["時刻",0,1,2,3,4,5,6,7,8,9,10,11,12,13,14,15,16,17,18,19,20,21,22,23]
["4月",10.199999999999999,10,9.8000000000000007,9.6,9.3000000000000007,9.1,9,9.3000000000000007,10,10.7,11.3,11.7,11.9,11.9,12.1,12.1,12,11.9,11.7,11.6,11.4,11.3,11,10.7]
["5月",14.9,14.6,14.4,14.2,14,13.8,13.8,14.2,14.9,15.4,15.9,16.100000000000001,16.2,16.3,16.399999999999999,16.399999999999999,16.3,16.3,16.2,16,15.8,15.7,15.5,15.3]
["6月",19.2,19,18.8,18.7,18.5,18.399999999999999,18.399999999999999,18.7,19.100000000000001,19.399999999999999,19.7,20,20,20.100000000000001,20.100000000000001,20.100000000000001,20.100000000000001,20.100000000000001,20,19.899999999999999,19.8,19.7,19.600000000000001,19.5]
["7月",23,23,22.8,22.7,22.6,22.4,22.5,22.7,23.1,23.4,23.7,23.8,23.9,23.9,24,23.9,23.9,23.8,23.7,23.6,23.5,23.4,23.3,23.2]
["8月",23.7,23.6,23.4,23.3,23.1,23,22.9,23.1,23.5,24,24.3,24.5,24.6,24.6,24.6,24.5,24.5,24.4,24.4,24.3,24.1,24,23.9,23.8]
["9月",20.399999999999999,20.2,20.100000000000001,20,19.8,19.7,19.600000000000001,19.7,20.100000000000001,20.6,20.9,21.2,21.3,21.3,21.3,21.2,21.2,21.1,21.1,21,20.9,20.8,20.5,20.399999999999999]
["10月",15,14.8,14.6,14.5,14.3,14.2,14.1,14.1,14.7,15.3,15.8,16.100000000000001,16.3,16.399999999999999,16.399999999999999,16.399999999999999,16.2,16.100000000000001,16,15.9,15.7,15.4,15.2,15]
["11月",9.8000000000000007,9.6,9.4,9.3000000000000007,9.1,9,8.9,8.8000000000000007,9.3000000000000007,10,10.7,11.2,11.5,11.6,11.7,11.6,11.5,11.2,11.1,10.9,10.6,10.3,10.1,9.9]
["12月",5,4.8,4.5999999999999996,4.5,4.4000000000000004,4.3,4.2,4.2,4.4000000000000004,5.0999999999999996,5.8,6.4,6.7,6.8,6.9,6.8,6.6,6.4,6.2,6,5.7,5.4,5.2,5]
["1月",2.6,2.5,2.2999999999999998,2.2000000000000002,2.1,2,1.9,1.9,2.1,2.7,3.4,4,4.3,4.4000000000000004,4.5,4.5,4.4000000000000004,4.2,4,3.8,3.6,3.3,3,2.8]
["2月",3,2.8,2.6,2.5,2.2999999999999998,2.2000000000000002,2.1,2.1,2.5,3.2,4,4.4000000000000004,4.8,5,5.0999999999999996,5.0999999999999996,5,4.8,4.5,4.3,4.0999999999999996,3.8,3.5,3.3]
["3月",5.8,5.6,5.4,5.2,5,4.9000000000000004,4.7,4.8,5.4,6.2,6.8,7.3,7.6,7.8,7.9,7.9,7.8,7.6,7.4,7.2,7,6.7,6.4,6.1]

{"sheet":"鳥取","index":34,"n_rows":16,"n_cols":25,"rows_kept":16,"cut":false,"hidden":true,"merged":[]}
["気象データ"]
[{"$f":"RIGHT(CELL(\"filename\",A2),LEN(CELL(\"filename\",A2))-FIND(\"]\",CELL(\"filename\",A2)))","v":"鳥取"}]
["時刻別平均外気湿球温度"]
["時刻",0,1,2,3,4,5,6,7,8,9,10,11,12,13,14,15,16,17,18,19,20,21,22,23]
["4月",8.5,8.1999999999999993,8,7.8,7.6,7.5,7.5,8.1,9.1999999999999993,10.1,10.6,11,11.2,11.3,11.3,11.2,11.1,10.9,10.6,10.3,10,9.6,9.1999999999999993,8.9]
["5月",13.2,13,12.8,12.6,12.4,12.3,12.5,13.2,14.1,14.8,15.1,15.3,15.5,15.5,15.6,15.5,15.4,15.2,14.9,14.8,14.5,14.2,13.8,13.6]
["6月",17.8,17.600000000000001,17.5,17.3,17.2,17.100000000000001,17.2,17.8,18.399999999999999,18.899999999999999,19.2,19.5,19.600000000000001,19.600000000000001,19.7,19.600000000000001,19.399999999999999,19.3,19.100000000000001,19,18.8,18.600000000000001,18.399999999999999,18.2]
["7月",22.1,21.9,21.8,21.7,21.6,21.5,21.6,22,22.5,23,23.2,23.4,23.6,23.5,23.6,23.6,23.5,23.4,23.2,23,22.9,22.7,22.5,22.3]
["8月",22.9,22.7,22.5,22.4,22.2,22.1,22.1,22.5,23.1,23.6,23.9,24.1,24.3,24.3,24.3,24.3,24.2,24,24,23.8,23.7,23.4,23.2,23]
["9月",19.3,19.100000000000001,19,18.8,18.7,18.600000000000001,18.5,18.8,19.5,20.100000000000001,20.5,20.8,21,21,21,20.9,20.8,20.6,20.5,20.3,20.100000000000001,19.8,19.600000000000001,19.3]
["10月",13.7,13.5,13.4,13.2,13.1,13,12.8,13,13.8,14.7,15.4,15.7,15.8,16,16,15.9,15.7,15.5,15.4,15,14.6,14.3,14,13.8]
["11月",8.6999999999999993,8.5,8.4,8.3000000000000007,8.1999999999999993,8.1,8,8,8.6999999999999993,9.6,10.4,10.8,10.9,11,11,10.9,10.8,10.5,10.199999999999999,9.8000000000000007,9.5,9.1999999999999993,8.9,8.6999999999999993]
["12月",4.2,4,4,3.9,3.8,3.7,3.7,3.6,3.9,4.5,5.3,5.8,6,6.1,6.1,6.1,5.9,5.6,5.3,5,4.7,4.5,4.3,4.0999999999999996]
["1月",1.8,1.7,1.6,1.6,1.5,1.5,1.4,1.4,1.6,2.2000000000000002,2.9,3.4,3.7,3.8,3.9,3.8,3.7,3.4,3.1,2.7,2.5,2.2999999999999998,2.1,1.9]
["2月",1.9,1.8,1.7,1.6,1.5,1.5,1.4,1.4,1.8,2.5,3.3,3.8,4.0999999999999996,4.3,4.4000000000000004,4.4000000000000004,4.2,4,3.6,3.2,2.9,2.6,2.4,2.2000000000000002]
["3月",4.3,4.0999999999999996,4,3.8,3.7,3.6,3.5,3.7,4.5,5.5,6.2,6.7,6.9,7.1,7.2,7.1,7,6.7,6.4,6.1,5.6,5.2,4.9000000000000004,4.5999999999999996]

{"sheet":"松江","index":35,"n_rows":16,"n_cols":25,"rows_kept":16,"cut":false,"hidden":true,"merged":[]}
["気象データ"]
[{"$f":"RIGHT(CELL(\"filename\",A2),LEN(CELL(\"filename\",A2))-FIND(\"]\",CELL(\"filename\",A2)))","v":"松江"}]
["時刻別平均外気湿球温度"]
["時刻",0,1,2,3,4,5,6,7,8,9,10,11,12,13,14,15,16,17,18,19,20,21,22,23]
["4月",9,8.8000000000000007,8.6,8.5,8.3000000000000007,8.1999999999999993,8.1999999999999993,8.9,9.8000000000000007,10.5,11,11.4,11.5,11.7,11.6,11.4,11.2,10.8,10.6,10.3,10.1,9.9,9.6,9.4]
["5月",13.8,13.6,13.4,13.3,13.2,13.1,13.3,14.1,14.7,15.2,15.6,15.8,15.9,15.9,15.9,15.7,15.5,15.2,15,14.7,14.6,14.4,14.2,14]
["6月",18.2,18.100000000000001,17.899999999999999,17.8,17.7,17.600000000000001,17.899999999999999,18.399999999999999,18.8,19.2,19.5,19.7,19.899999999999999,20,19.899999999999999,19.8,19.600000000000001,19.3,19.100000000000001,18.899999999999999,18.8,18.7,18.600000000000001,18.5]
["7月",22.4,22.3,22.2,22.2,22,22,22.1,22.5,22.9,23.3,23.5,23.7,23.8,23.9,23.8,23.8,23.6,23.4,23.2,23,22.8,22.8,22.7,22.6]
["8月",23.3,23.2,23.1,23,22.9,22.8,22.9,23.3,23.8,24.1,24.3,24.5,24.6,24.6,24.6,24.6,24.4,24.2,24,23.8,23.7,23.6,23.5,23.4]
["9月",19.7,19.600000000000001,19.5,19.3,19.2,19.100000000000001,19.100000000000001,19.5,20.100000000000001,20.5,20.8,20.9,21,21,21,20.8,20.7,20.5,20.3,20.2,20.100000000000001,20,19.899999999999999,19.7]
["10月",14.2,14,13.8,13.7,13.6,13.4,13.3,13.6,14.4,15.2,15.7,15.9,16,15.9,15.9,15.8,15.6,15.3,15.1,14.9,14.7,14.5,14.3,14.2]
["11月",9,8.9,8.6999999999999993,8.6,8.5,8.4,8.3000000000000007,8.3000000000000007,9,9.8000000000000007,10.5,10.9,11.1,11.1,11.1,10.9,10.7,10.4,10.199999999999999,9.9,9.6,9.4,9.1999999999999993,9]
["12月",4.5,4.4000000000000004,4.3,4.2,4.0999999999999996,4.0999999999999996,3.9,3.9,4.2,4.9000000000000004,5.5,6,6.3,6.4,6.3,6.2,5.9,5.6,5.4,5.2,5,4.8,4.5999999999999996,4.5]
["1月",2.2000000000000002,2.2000000000000002,2.1,2,1.9,1.9,1.8,1.8,1.9,2.6,3.3,3.7,3.9,4.0999999999999996,4,3.9,3.7,3.4,3.2,3,2.8,2.6,2.5,2.2999999999999998]
["2月",2.4,2.2000000000000002,2.1,2,1.9,1.8,1.8,1.7,2.2000000000000002,3,3.7,4.2,4.5,4.5999999999999996,4.5999999999999996,4.5,4.3,4,3.7,3.5,3.2,3,2.8,2.7]
["3月",4.8,4.5999999999999996,4.5,4.3,4.2,4.0999999999999996,4,4.2,5.0999999999999996,6,6.6,7,7.3,7.4,7.4,7.2,7,6.7,6.4,6.1,5.9,5.6,5.3,5.0999999999999996]

{"sheet":"岡山","index":36,"n_rows":16,"n_cols":25,"rows_kept":16,"cut":false,"hidden":true,"merged":[]}
["気象データ"]
[{"$f":"RIGHT(CELL(\"filename\",A2),LEN(CELL(\"filename\",A2))-FIND(\"]\",CELL(\"filename\",A2)))","v":"岡山"}]
["時刻別平均外気湿球温度"]
["時刻",0,1,2,3,4,5,6,7,8,9,10,11,12,13,14,15,16,17,18,19,20,21,22,23]
["4月",9.5,9.1999999999999993,9,8.6999999999999993,8.5,8.3000000000000007,8.1999999999999993,8.5,9.1999999999999993,10.199999999999999,10.8,11.2,11.5,11.7,11.8,11.8,11.7,11.5,11.2,10.9,10.7,10.4,10.1,9.9]
["5月",14.3,14.1,13.9,13.7,13.5,13.4,13.4,13.8,14.5,15.1,15.6,15.8,16,16.2,16.2,16.2,16.100000000000001,15.8,15.6,15.4,15.2,15,14.8,14.6]
["6月",18.7,18.600000000000001,18.399999999999999,18.3,18.2,18.100000000000001,18.100000000000001,18.5,18.899999999999999,19.3,19.600000000000001,19.8,20,20,20.100000000000001,20,19.899999999999999,19.8,19.7,19.600000000000001,19.399999999999999,19.3,19.2,19]
["7月",22.9,22.8,22.7,22.6,22.5,22.4,22.5,22.7,23.1,23.4,23.6,23.8,23.9,24,24,24,23.9,23.8,23.7,23.5,23.4,23.3,23.2,23.1]
["8月",23.6,23.5,23.4,23.3,23.2,23.1,23.1,23.3,23.7,24,24.2,24.4,24.5,24.5,24.5,24.4,24.3,24.2,24.1,24.1,24,23.9,23.8,23.7]
["9月",20,19.899999999999999,19.8,19.7,19.5,19.399999999999999,19.3,19.399999999999999,19.899999999999999,20.399999999999999,20.7,20.9,20.9,21,21,21,21,20.9,20.8,20.6,20.5,20.3,20.2,20]
["10月",14.5,14.3,14.1,13.9,13.7,13.6,13.4,13.4,14,14.8,15.4,15.7,15.9,15.8,15.9,16,15.9,15.8,15.6,15.4,15.2,14.9,14.7,14.5]
["11月",8.9,8.6999999999999993,8.5,8.3000000000000007,8.1,8,7.8,7.7,8.1999999999999993,9.1,10,10.6,10.9,10.9,11,11,10.9,10.7,10.4,10.1,9.8000000000000007,9.5,9.3000000000000007,9]
["12月",4,3.8,3.6,3.4,3.2,3,2.9,2.8,3,4,5,5.7,6.1,6.2,6.2,6.3,6.1,5.8,5.5,5.2,4.9000000000000004,4.5999999999999996,4.3,4.0999999999999996]
["1月",1.7,1.5,1.3,1.1000000000000001,0.9,0.8,0.7,0.6,0.8,1.8,2.8,3.6,4,4.0999999999999996,4.2,4.2,4.0999999999999996,3.8,3.4,3.1,2.8,2.5,2.2000000000000002,1.9]
["2月",2.2000000000000002,1.9,1.7,1.5,1.3,1.2,1,1,1.4,2.4,3.4,4.0999999999999996,4.5,4.7,4.8,4.9000000000000004,4.8,4.5,4.0999999999999996,3.8,3.5,3.2,2.8,2.5]
["3月",5,4.8,4.5,4.3,4.0999999999999996,3.9,3.7,3.8,4.4000000000000004,5.4,6.3,6.9,7.2,7.4,7.6,7.6,7.5,7.2,6.9,6.5,6.2,5.9,5.7,5.4]

{"sheet":"広島","index":37,"n_rows":16,"n_cols":25,"rows_kept":16,"cut":false,"hidden":true,"merged":[]}
["気象データ"]
[{"$f":"RIGHT(CELL(\"filename\",A2),LEN(CELL(\"filename\",A2))-FIND(\"]\",CELL(\"filename\",A2)))","v":"広島"}]
["時刻別平均外気湿球温度"]
["時刻",0,1,2,3,4,5,6,7,8,9,10,11,12,13,14,15,16,17,18,19,20,21,22,23]
["4月",9.8000000000000007,9.5,9.3000000000000007,9,8.8000000000000007,8.6,8.4,8.6,9.1999999999999993,10,10.8,11.2,11.6,11.8,12,12,11.9,11.7,11.4,11.2,11,10.8,10.6,10.3]
["5月",14.5,14.2,14,13.7,13.5,13.4,13.3,13.6,14.2,14.9,15.3,15.7,15.9,16.100000000000001,16.2,16.100000000000001,16.100000000000001,15.9,15.7,15.4,15.3,15.2,15,14.8]
["6月",18.8,18.600000000000001,18.5,18.3,18.2,18.100000000000001,18,18.3,18.7,19.100000000000001,19.399999999999999,19.7,19.899999999999999,20,20.100000000000001,20.100000000000001,20,19.8,19.7,19.600000000000001,19.5,19.399999999999999,19.3,19.2]
["7月",22.9,22.8,22.7,22.6,22.5,22.4,22.4,22.6,22.9,23.1,23.3,23.5,23.7,23.8,23.9,23.9,23.8,23.7,23.6,23.4,23.3,23.3,23.2,23.1]
["8月",23.7,23.5,23.4,23.3,23.2,23,23,23.1,23.4,23.7,24,24.1,24.2,24.4,24.4,24.4,24.2,24.3,24.1,24.1,24,23.9,23.8,23.7]
["9月",20,19.8,19.7,19.600000000000001,19.399999999999999,19.3,19.100000000000001,19.2,19.5,20,20.399999999999999,20.7,20.8,20.9,20.9,20.9,20.9,20.9,20.7,20.6,20.5,20.399999999999999,20.2,20]
["10月",14.4,14.2,14,13.8,13.6,13.5,13.3,13.3,13.7,14.3,15.1,15.5,15.8,15.9,16,15.9,15.9,15.8,15.6,15.4,15.2,14.9,14.7,14.5]
["11月",9.1999999999999993,8.9,8.6999999999999993,8.5,8.4,8.1999999999999993,8.1,8,8.3000000000000007,8.9,9.8000000000000007,10.4,10.8,11,11.1,11.1,11,10.8,10.6,10.3,10,9.6999999999999993,9.5,9.1999999999999993]
["12月",4.4000000000000004,4.2,4,3.8,3.7,3.5,3.4,3.4,3.5,4,4.8,5.6,6.1,6.3,6.5,6.4,6.2,6,5.7,5.5,5.2,5,4.7,4.5]
["1月",2.2000000000000002,2,1.8,1.7,1.5,1.4,1.3,1.3,1.4,2,2.7,3.5,4.0999999999999996,4.3,4.4000000000000004,4.4000000000000004,4.2,3.9,3.7,3.4,3.2,2.9,2.7,2.4]
["2月",2.7,2.5,2.2999999999999998,2.2000000000000002,2,1.8,1.7,1.7,1.9,2.6,3.4,4.2,4.5999999999999996,4.9000000000000004,5.0999999999999996,5.0999999999999996,5,4.7,4.4000000000000004,4.2,3.9,3.7,3.4,3.1]
["3月",5.6,5.3,5,4.8,4.5999999999999996,4.4000000000000004,4.2,4.2,4.5999999999999996,5.4,6.3,7,7.4,7.7,7.8,7.9,7.8,7.5,7.2,7,6.8,6.5,6.2,5.9]

{"sheet":"山口","index":38,"n_rows":16,"n_cols":25,"rows_kept":16,"cut":false,"hidden":true,"merged":[]}
["気象データ"]
[{"$f":"RIGHT(CELL(\"filename\",A2),LEN(CELL(\"filename\",A2))-FIND(\"]\",CELL(\"filename\",A2)))","v":"山口"}]
["時刻別平均外気湿球温度"]
["時刻",0,1,2,3,4,5,6,7,8,9,10,11,12,13,14,15,16,17,18,19,20,21,22,23]
["4月",9.4,9.1999999999999993,8.9,8.6999999999999993,8.5,8.3000000000000007,8.1999999999999993,8.6,9.5,10.6,11.4,11.9,12.2,12.4,12.4,12.3,12.1,11.8,11.4,11,10.8,10.5,10.199999999999999,9.9]
["5月",14,13.8,13.6,13.4,13.2,13,13.1,13.6,14.4,15.3,15.8,16.100000000000001,16.399999999999999,16.5,16.399999999999999,16.3,16.100000000000001,15.8,15.5,15.2,15,14.7,14.5,14.3]
["6月",18.5,18.399999999999999,18.2,18.100000000000001,18,17.899999999999999,18,18.3,18.899999999999999,19.399999999999999,19.7,20,20.3,20.399999999999999,20.399999999999999,20.399999999999999,20.2,20,19.8,19.5,19.3,19.100000000000001,19,18.8]
["7月",22.6,22.5,22.4,22.3,22.2,22.1,22.1,22.4,22.9,23.3,23.6,23.8,23.9,24.1,24.1,24.1,24,23.8,23.6,23.4,23.2,23,22.9,22.8]
["8月",23.3,23.2,23.1,23,22.9,22.8,22.7,23,23.5,23.9,24.2,24.4,24.6,24.7,24.7,24.6,24.4,24.3,24.1,23.9,23.8,23.6,23.5,23.4]
["9月",19.8,19.600000000000001,19.5,19.3,19.2,19.100000000000001,18.899999999999999,19.2,19.7,20.3,20.7,20.9,21,21.2,21.3,21.3,21.2,21,20.7,20.5,20.3,20.2,20,19.8]
["10月",14.1,13.8,13.6,13.4,13.2,13,12.9,12.9,13.7,14.6,15.4,15.9,16.100000000000001,16.2,16.3,16.2,16.100000000000001,15.8,15.5,15.3,15,14.7,14.4,14.1]
["11月",8.6999999999999993,8.4,8.1999999999999993,8,7.9,7.7,7.6,7.5,8.1,9.1,10.3,11.1,11.4,11.5,11.5,11.5,11.3,11,10.6,10.199999999999999,9.8000000000000007,9.4,9.1,8.8000000000000007]
["12月",3.9,3.6,3.5,3.2,3.1,2.9,2.8,2.7,2.9,3.8,4.9000000000000004,5.9,6.5,6.7,6.7,6.6,6.4,6,5.6,5.2,4.8,4.5,4.2,4]
["1月",1.7,1.5,1.3,1.2,1.1000000000000001,1,0.9,0.9,1,1.8,2.9,3.9,4.4000000000000004,4.5,4.7,4.5999999999999996,4.4000000000000004,4,3.6,3.2,2.8,2.5,2.2000000000000002,1.9]
["2月",2.4,2.2000000000000002,2,1.8,1.6,1.5,1.4,1.3,1.7,2.6,3.7,4.5999999999999996,5.0999999999999996,5.3,5.4,5.4,5.2,4.9000000000000004,4.5,4.0999999999999996,3.7,3.4,3.1,2.8]
["3月",5.3,5,4.8,4.5,4.3,4.2,4,4,4.8,5.9,7,7.7,8,8.1999999999999993,8.1999999999999993,8.1999999999999993,8,7.7,7.3,6.9,6.6,6.3,5.9,5.7]

{"sheet":"徳島","index":39,"n_rows":16,"n_cols":25,"rows_kept":16,"cut":false,"hidden":true,"merged":[]}
["気象データ"]
[{"$f":"RIGHT(CELL(\"filename\",A2),LEN(CELL(\"filename\",A2))-FIND(\"]\",CELL(\"filename\",A2)))","v":"徳島"}]
["時刻別平均外気湿球温度"]
["時刻",0,1,2,3,4,5,6,7,8,9,10,11,12,13,14,15,16,17,18,19,20,21,22,23]
["4月",10.3,10.1,9.8000000000000007,9.6,9.4,9.1999999999999993,9.1,9.5,10.1,10.8,11.3,11.7,12,12.2,12.3,12.3,12.2,12.1,11.9,11.7,11.5,11.3,11,10.7]
["5月",15,14.8,14.5,14.3,14.1,14,14,14.5,15,15.6,16,16.3,16.5,16.600000000000001,16.600000000000001,16.5,16.5,16.3,16.2,16,15.9,15.8,15.6,15.4]
["6月",19.2,19,18.899999999999999,18.7,18.600000000000001,18.5,18.600000000000001,18.899999999999999,19.3,19.7,19.899999999999999,20.100000000000001,20.3,20.3,20.3,20.3,20.2,20.2,20.100000000000001,19.899999999999999,19.8,19.8,19.7,19.5]
["7月",23.2,23.1,22.9,22.8,22.7,22.5,22.6,22.8,23.1,23.6,23.9,24.1,24.2,24.3,24.2,24.2,24.1,24,23.9,23.7,23.7,23.6,23.5,23.4]
["8月",23.8,23.7,23.6,23.4,23.3,23.1,23.1,23.4,23.7,24.2,24.6,24.8,24.9,25,24.9,24.8,24.6,24.6,24.4,24.3,24.2,24.2,24.1,23.9]
["9月",20.6,20.5,20.399999999999999,20.3,20.100000000000001,20,20,20.100000000000001,20.5,20.9,21.3,21.5,21.6,21.6,21.6,21.5,21.4,21.2,21.1,21.1,21,20.9,20.7,20.6]
["10月",15.3,15.1,15,14.8,14.7,14.6,14.5,14.6,15.1,15.6,16.100000000000001,16.399999999999999,16.600000000000001,16.7,16.7,16.600000000000001,16.399999999999999,16.2,16.100000000000001,16,15.8,15.6,15.4,15.2]
["11月",9.9,9.8000000000000007,9.6,9.4,9.3000000000000007,9.1999999999999993,9.1,9.1,9.5,10.199999999999999,10.8,11.3,11.6,11.8,11.8,11.7,11.5,11.3,11.1,10.9,10.7,10.4,10.199999999999999,10]
["12月",5,4.8,4.7,4.5999999999999996,4.5,4.4000000000000004,4.3,4.3,4.5,5.2,5.9,6.4,6.7,6.9,6.9,6.8,6.6,6.4,6.1,5.9,5.6,5.3,5.2,4.9000000000000004]
["1月",2.6,2.4,2.2999999999999998,2.2000000000000002,2.1,2.1,2,1.9,2.2000000000000002,2.8,3.5,4,4.4000000000000004,4.5999999999999996,4.7,4.7,4.5,4.2,3.9,3.7,3.5,3.2,3,2.8]
["2月",3,2.8,2.7,2.5,2.4,2.2999999999999998,2.2000000000000002,2.2000000000000002,2.6,3.4,4,4.5,4.9000000000000004,5.0999999999999996,5.3,5.3,5.0999999999999996,4.8,4.5,4.3,4.0999999999999996,3.8,3.5,3.3]
["3月",5.9,5.7,5.5,5.3,5.0999999999999996,5,4.9000000000000004,5,5.6,6.3,6.9,7.4,7.7,7.9,8,8.1,7.9,7.7,7.5,7.3,7,6.8,6.5,6.2]

{"sheet":"高松","index":40,"n_rows":16,"n_cols":25,"rows_kept":16,"cut":false,"hidden":true,"merged":[]}
["気象データ"]
[{"$f":"RIGHT(CELL(\"filename\",A2),LEN(CELL(\"filename\",A2))-FIND(\"]\",CELL(\"filename\",A2)))","v":"高松"}]
["時刻別平均外気湿球温度"]
["時刻",0,1,2,3,4,5,6,7,8,9,10,11,12,13,14,15,16,17,18,19,20,21,22,23]
["4月",9.8000000000000007,9.5,9.3000000000000007,9.1,8.9,8.6999999999999993,8.6999999999999993,9.1999999999999993,10.1,10.7,11.1,11.4,11.6,11.6,11.8,11.8,11.8,11.6,11.3,11.1,10.8,10.6,10.4,10.1]
["5月",14.5,14.3,14.1,14,13.8,13.6,13.8,14.4,15,15.5,15.8,16,16,16.100000000000001,16.100000000000001,16.100000000000001,16.100000000000001,15.9,15.7,15.5,15.3,15.2,15,14.8]
["6月",19,18.8,18.7,18.600000000000001,18.5,18.399999999999999,18.5,18.899999999999999,19.2,19.5,19.8,19.899999999999999,20.100000000000001,20.100000000000001,20.100000000000001,20,20,20,19.899999999999999,19.7,19.600000000000001,19.5,19.399999999999999,19.3]
["7月",23.1,22.9,22.8,22.8,22.7,22.6,22.7,23,23.3,23.6,23.8,23.9,24,24,24,24,24,23.9,23.7,23.6,23.5,23.4,23.4,23.3]
["8月",23.8,23.7,23.6,23.4,23.4,23.2,23.2,23.6,24,24.3,24.5,24.7,24.7,24.7,24.5,24.4,24.4,24.3,24.2,24.2,24.1,24.1,24,23.9]
["9月",20.5,20.3,20.2,20.100000000000001,20,19.899999999999999,19.899999999999999,20.2,20.7,21.1,21.3,21.4,21.4,21.4,21.4,21.3,21.2,21.1,21,20.9,20.9,20.8,20.6,20.5]
["10月",14.9,14.8,14.6,14.5,14.4,14.3,14.2,14.4,15.1,15.9,16.2,16.399999999999999,16.5,16.5,16.399999999999999,16.3,16.100000000000001,16,15.8,15.7,15.6,15.3,15.1,14.9]
["11月",9.5,9.3000000000000007,9.1,8.9,8.8000000000000007,8.6999999999999993,8.6,8.6,9.3000000000000007,10.3,11.1,11.4,11.6,11.6,11.6,11.5,11.3,11,10.8,10.5,10.3,10,9.8000000000000007,9.5]
["12月",4.5999999999999996,4.4000000000000004,4.3,4.2,4.0999999999999996,3.9,3.8,3.8,4.2,5.2,6.1,6.5,6.7,6.8,6.8,6.7,6.4,6.1,5.8,5.5,5.3,5.0999999999999996,4.8,4.5999999999999996]
["1月",2.2999999999999998,2.1,2,1.9,1.8,1.7,1.6,1.6,1.9,2.8,3.6,4.0999999999999996,4.3,4.5,4.5,4.4000000000000004,4.3,4,3.7,3.4,3.1,2.9,2.7,2.5]
["2月",2.6,2.4,2.2999999999999998,2.1,2,1.9,1.8,1.7,2.2999999999999998,3.3,4,4.5,4.8,4.9000000000000004,5,5,4.9000000000000004,4.5999999999999996,4.2,3.9,3.7,3.4,3.2,2.9]
["3月",5.4,5.2,5,4.8,4.5999999999999996,4.5,4.4000000000000004,4.5,5.4,6.2,6.8,7.1,7.4,7.6,7.7,7.7,7.6,7.4,7,6.7,6.5,6.2,5.9,5.7]

{"sheet":"松山","index":41,"n_rows":16,"n_cols":25,"rows_kept":16,"cut":false,"hidden":true,"merged":[]}
["気象データ"]
[{"$f":"RIGHT(CELL(\"filename\",A2),LEN(CELL(\"filename\",A2))-FIND(\"]\",CELL(\"filename\",A2)))","v":"松山"}]
["時刻別平均外気湿球温度"]
["時刻",0,1,2,3,4,5,6,7,8,9,10,11,12,13,14,15,16,17,18,19,20,21,22,23]
["4月",9.9,9.6,9.5,9.3000000000000007,9.1,9,9,9.4,10.3,11,11.5,11.8,12,12.1,12.1,12.1,12,11.8,11.5,11.3,11.1,10.8,10.5,10.3]
["5月",14.1,13.9,13.8,13.7,13.5,13.4,13.5,14.1,14.9,15.4,15.8,16.100000000000001,16.2,16.2,16.2,16.2,15.9,15.8,15.6,15.4,15.3,15,14.7,14.4]
["6月",18.600000000000001,18.399999999999999,18.3,18.2,18.100000000000001,18,18.100000000000001,18.600000000000001,19.100000000000001,19.5,19.8,20,20.100000000000001,20.2,20.2,20.100000000000001,20,19.899999999999999,19.7,19.600000000000001,19.5,19.3,19.100000000000001,18.899999999999999]
["7月",22.6,22.5,22.3,22.2,22.1,22,22.1,22.4,22.9,23.2,23.5,23.6,23.7,23.8,23.8,23.7,23.6,23.5,23.4,23.2,23.2,23.1,23,22.8]
["8月",23.2,23,22.9,22.7,22.6,22.5,22.5,22.8,23.4,23.9,24.2,24.3,24.5,24.5,24.5,24.4,24.3,24.1,24,23.9,23.8,23.7,23.5,23.3]
["9月",20,19.899999999999999,19.8,19.7,19.600000000000001,19.5,19.399999999999999,19.7,20.3,20.8,21.1,21.3,21.5,21.6,21.5,21.5,21.3,21.2,21,20.9,20.7,20.399999999999999,20.2,20]
["10月",14.7,14.5,14.4,14.3,14.2,14.1,14,14.2,14.9,15.7,16.100000000000001,16.399999999999999,16.5,16.7,16.7,16.600000000000001,16.399999999999999,16.2,16,15.7,15.3,15,14.8,14.6]
["11月",9.6,9.4,9.3000000000000007,9.1999999999999993,9.1,9.1,9,9,9.6,10.5,11.2,11.5,11.7,11.8,11.9,11.8,11.6,11.4,11,10.7,10.3,10,9.8000000000000007,9.6]
["12月",4.9000000000000004,4.8,4.7,4.5,4.5,4.4000000000000004,4.3,4.2,4.5,5.4,6.2,6.5,6.8,6.9,7,6.9,6.7,6.5,6.1,5.8,5.5,5.2,5,4.9000000000000004]
["1月",2.6,2.5,2.2999999999999998,2.2999999999999998,2.2000000000000002,2.1,2,2,2.2000000000000002,3,3.9,4.3,4.5999999999999996,4.8,4.9000000000000004,4.8,4.7,4.4000000000000004,4.0999999999999996,3.7,3.4,3.1,2.9,2.7]
["2月",3.1,2.9,2.8,2.7,2.6,2.5,2.4,2.2999999999999998,2.8,3.7,4.5,4.9000000000000004,5.2,5.4,5.5,5.5,5.4,5.0999999999999996,4.9000000000000004,4.5,4.0999999999999996,3.8,3.6,3.4]
["3月",5.8,5.6,5.5,5.3,5.2,5.0999999999999996,5,5.0999999999999996,5.8,6.7,7.3,7.7,8,8.1,8.1999999999999993,8.1,8,7.8,7.5,7.3,6.9,6.6,6.3,6]

{"sheet":"高知","index":42,"n_rows":16,"n_cols":25,"rows_kept":16,"cut":false,"hidden":true,"merged":[]}
["気象データ"]
[{"$f":"RIGHT(CELL(\"filename\",A2),LEN(CELL(\"filename\",A2))-FIND(\"]\",CELL(\"filename\",A2)))","v":"高知"}]
["時刻別平均外気湿球温度"]
["時刻",0,1,2,3,4,5,6,7,8,9,10,11,12,13,14,15,16,17,18,19,20,21,22,23]
["4月",11,10.7,10.5,10.199999999999999,10,9.8000000000000007,9.6999999999999993,10.1,10.9,11.6,12.2,12.7,13,13.2,13.4,13.4,13.4,13.2,13,12.7,12.4,12.1,11.8,11.5]
["5月",15.6,15.4,15.1,14.8,14.6,14.4,14.4,14.9,15.6,16.2,16.600000000000001,16.899999999999999,17.2,17.3,17.5,17.5,17.5,17.5,17.3,17.100000000000001,16.899999999999999,16.7,16.399999999999999,16.100000000000001]
["6月",19.7,19.5,19.3,19.100000000000001,19,18.8,18.899999999999999,19.3,19.7,20.2,20.5,20.7,20.8,20.9,21,21.1,21,20.9,20.9,20.8,20.7,20.5,20.399999999999999,20.2]
["7月",23.6,23.4,23.3,23.1,22.9,22.8,22.8,23.1,23.6,23.9,24.2,24.3,24.4,24.5,24.6,24.6,24.6,24.5,24.4,24.3,24.3,24.2,24.1,23.9]
["8月",24.2,24,23.8,23.6,23.4,23.3,23.2,23.5,23.9,24.3,24.6,24.7,24.9,25,25.1,25.1,25,25,24.9,24.8,24.8,24.7,24.5,24.3]
["9月",21,20.8,20.6,20.5,20.3,20.2,20.100000000000001,20.3,20.8,21.3,21.6,21.8,22,22.1,22.2,22.2,22.1,22,21.9,21.8,21.6,21.4,21.2,21]
["10月",15.5,15.3,15.1,14.9,14.8,14.6,14.4,14.6,15.3,16,16.5,16.8,17,17.2,17.2,17.2,17.100000000000001,16.899999999999999,16.7,16.5,16.3,16,15.8,15.6]
["11月",10.1,9.9,9.6999999999999993,9.5,9.3000000000000007,9.1999999999999993,9,9,9.6999999999999993,10.6,11.4,12,12.3,12.4,12.5,12.5,12.3,12,11.6,11.3,11,10.7,10.5,10.199999999999999]
["12月",4.9000000000000004,4.5999999999999996,4.4000000000000004,4.2,4,3.9,3.7,3.6,4.0999999999999996,5.2,6.3,7,7.4,7.6,7.7,7.6,7.4,7,6.5,6.2,5.8,5.5,5.2,4.9000000000000004]
["1月",2.6,2.4,2.1,1.9,1.8,1.6,1.5,1.4,1.8,2.9,4,4.8,5.2,5.6,5.8,5.7,5.5,5.0999999999999996,4.5999999999999996,4.0999999999999996,3.8,3.5,3.2,2.9]
["2月",3.6,3.4,3.2,3,2.8,2.6,2.5,2.4,3,4.0999999999999996,5,5.6,6.1,6.5,6.7,6.7,6.5,6.2,5.7,5.3,5,4.5999999999999996,4.3,4]
["3月",6.8,6.5,6.3,6.1,5.8,5.7,5.5,5.6,6.4,7.2,7.9,8.5,8.9,9.1999999999999993,9.3000000000000007,9.4,9.3000000000000007,9.1,8.8000000000000007,8.4,8.1,7.8,7.5,7.1]

{"sheet":"福岡","index":43,"n_rows":16,"n_cols":25,"rows_kept":16,"cut":false,"hidden":true,"merged":[]}
["気象データ"]
[{"$f":"RIGHT(CELL(\"filename\",A2),LEN(CELL(\"filename\",A2))-FIND(\"]\",CELL(\"filename\",A2)))","v":"福岡"}]
["時刻別平均外気湿球温度"]
["時刻",0,1,2,3,4,5,6,7,8,9,10,11,12,13,14,15,16,17,18,19,20,21,22,23]
["4月",10.9,10.7,10.5,10.4,10.199999999999999,10.1,10,10.3,10.9,11.5,12,12.4,12.6,12.8,12.9,12.8,12.6,12.4,12.1,11.9,11.8,11.6,11.4,11.2]
["5月",15.2,15,14.8,14.7,14.5,14.4,14.5,14.8,15.4,15.9,16.2,16.5,16.8,16.899999999999999,17,16.899999999999999,16.7,16.600000000000001,16.3,16.100000000000001,15.9,15.8,15.6,15.4]
["6月",19.399999999999999,19.3,19.2,19.100000000000001,19,18.899999999999999,18.899999999999999,19.2,19.600000000000001,19.899999999999999,20.2,20.5,20.7,20.8,20.8,20.8,20.6,20.5,20.3,20.100000000000001,20,19.899999999999999,19.8,19.7]
["7月",23.3,23.2,23.1,23,22.9,22.9,22.9,23.1,23.4,23.6,23.9,24.1,24.3,24.4,24.5,24.4,24.3,24.2,24,23.9,23.7,23.6,23.5,23.5]
["8月",23.9,23.8,23.7,23.6,23.5,23.4,23.4,23.6,23.9,24.2,24.4,24.7,24.9,25,25.1,25.1,25,24.8,24.7,24.5,24.4,24.3,24.2,24]
["9月",20.7,20.5,20.399999999999999,20.3,20.2,20.100000000000001,20,20.2,20.6,21,21.3,21.5,21.8,21.9,22,21.9,21.8,21.6,21.4,21.2,21.1,21,20.8,20.7]
["10月",15.3,15.2,15,14.9,14.8,14.7,14.6,14.6,15.2,15.7,16.100000000000001,16.399999999999999,16.7,16.899999999999999,16.899999999999999,16.899999999999999,16.7,16.5,16.2,16.100000000000001,15.9,15.7,15.5,15.3]
["11月",10.3,10.1,10,9.9,9.8000000000000007,9.6999999999999993,9.6,9.6,9.9,10.6,11.2,11.6,11.8,11.9,12,11.9,11.7,11.5,11.3,11.1,10.9,10.7,10.5,10.3]
["12月",5.5,5.4,5.3,5.0999999999999996,5,4.9000000000000004,4.9000000000000004,4.9000000000000004,5,5.5,6.1,6.6,6.8,7,7,7,6.8,6.6,6.4,6.2,6.1,5.9,5.7,5.5]
["1月",3.5,3.4,3.3,3.2,3.1,3.1,3,3,3.1,3.5,4.0999999999999996,4.5999999999999996,4.9000000000000004,5,5.0999999999999996,5.0999999999999996,5,4.7,4.5,4.4000000000000004,4.2,4,3.9,3.7]
["2月",4.3,4.0999999999999996,4,3.9,3.8,3.7,3.6,3.6,3.8,4.3,4.9000000000000004,5.4,5.7,5.9,6.1,6,5.9,5.6,5.4,5.2,5,4.8,4.7,4.5]
["3月",7,6.8,6.6,6.4,6.3,6.2,6.1,6.2,6.6,7.3,7.9,8.3000000000000007,8.6,8.8000000000000007,8.9,8.9,8.6999999999999993,8.5,8.1999999999999993,8,7.8,7.6,7.4,7.2]

{"sheet":"佐賀","index":44,"n_rows":16,"n_cols":25,"rows_kept":16,"cut":false,"hidden":true,"merged":[]}
["気象データ"]
[{"$f":"RIGHT(CELL(\"filename\",A2),LEN(CELL(\"filename\",A2))-FIND(\"]\",CELL(\"filename\",A2)))","v":"佐賀"}]
["時刻別平均外気湿球温度"]
["時刻",0,1,2,3,4,5,6,7,8,9,10,11,12,13,14,15,16,17,18,19,20,21,22,23]
["4月",10.5,10.3,10,9.9,9.6999999999999993,9.5,9.5,9.8000000000000007,10.6,11.4,12,12.4,12.7,12.9,13,13,12.8,12.7,12.4,12.1,11.8,11.5,11.3,11]
["5月",15,14.8,14.6,14.4,14.2,14.1,14.1,14.6,15.4,15.9,16.3,16.600000000000001,16.8,17,17,17,16.899999999999999,16.7,16.5,16.3,16,15.8,15.5,15.3]
["6月",19.399999999999999,19.3,19.2,19,18.899999999999999,18.8,18.899999999999999,19.2,19.600000000000001,20,20.3,20.5,20.6,20.7,20.8,20.7,20.7,20.7,20.6,20.399999999999999,20.2,20.100000000000001,19.899999999999999,19.8]
["7月",23.4,23.3,23.2,23.1,23,22.9,22.9,23.2,23.5,23.8,24.1,24.2,24.4,24.4,24.5,24.4,24.4,24.4,24.3,24.1,23.9,23.8,23.7,23.6]
["8月",23.8,23.7,23.5,23.4,23.3,23.2,23.2,23.5,23.9,24.3,24.6,24.7,24.8,24.9,24.9,24.8,24.8,24.8,24.6,24.4,24.3,24.2,24,23.9]
["9月",20.3,20.100000000000001,20,19.899999999999999,19.7,19.600000000000001,19.600000000000001,19.8,20.399999999999999,20.9,21.3,21.5,21.6,21.7,21.7,21.7,21.6,21.5,21.2,21,20.8,20.6,20.5,20.3]
["10月",14.8,14.6,14.4,14.2,14.1,14,13.9,13.9,14.6,15.5,16.100000000000001,16.399999999999999,16.5,16.600000000000001,16.600000000000001,16.600000000000001,16.399999999999999,16.3,16.100000000000001,15.8,15.5,15.3,15.1,14.8]
["11月",9.6999999999999993,9.5,9.3000000000000007,9.1,9,8.9,8.8000000000000007,8.6999999999999993,9.1999999999999993,10.1,10.9,11.4,11.7,11.9,11.9,11.9,11.7,11.5,11.2,10.9,10.6,10.3,10,9.6999999999999993]
["12月",4.8,4.5999999999999996,4.4000000000000004,4.2,4.0999999999999996,4,3.9,3.8,4,4.8,5.6,6.3,6.7,6.9,7,7,6.8,6.5,6.3,6,5.6,5.3,5.0999999999999996,4.8]
["1月",2.7,2.5,2.4,2.2999999999999998,2.2000000000000002,2.1,2,1.9,2.1,2.8,3.6,4.3,4.8,5.0999999999999996,5.2,5.2,5.0999999999999996,4.8,4.4000000000000004,4.0999999999999996,3.8,3.5,3.2,3]
["2月",3.6,3.4,3.2,3.1,2.9,2.8,2.8,2.7,3,3.8,4.5999999999999996,5.3,5.7,6,6.1,6.2,6.1,5.8,5.4,5.0999999999999996,4.8,4.5,4.2,4]
["3月",6.5,6.3,6.1,5.9,5.7,5.5,5.4,5.5,6.1,7,7.7,8.1999999999999993,8.6,8.8000000000000007,9,9,8.9,8.6,8.3000000000000007,8,7.8,7.4,7.2,6.9]

{"sheet":"長崎","index":45,"n_rows":16,"n_cols":25,"rows_kept":16,"cut":false,"hidden":true,"merged":[]}
["気象データ"]
[{"$f":"RIGHT(CELL(\"filename\",A2),LEN(CELL(\"filename\",A2))-FIND(\"]\",CELL(\"filename\",A2)))","v":"長崎"}]
["時刻別平均外気湿球温度"]
["時刻",0,1,2,3,4,5,6,7,8,9,10,11,12,13,14,15,16,17,18,19,20,21,22,23]
["4月",11.4,11.3,11.1,11,10.9,10.8,10.7,11,11.5,12.1,12.4,12.7,13,13.2,13.3,13.2,13.1,13,12.7,12.4,12.3,12.1,11.9,11.7]
["5月",15.7,15.5,15.4,15.3,15.2,15.1,15.1,15.4,16,16.399999999999999,16.7,16.899999999999999,17.100000000000001,17.3,17.399999999999999,17.3,17.2,17,16.8,16.600000000000001,16.399999999999999,16.3,16.100000000000001,15.9]
["6月",19.899999999999999,19.8,19.7,19.600000000000001,19.5,19.5,19.5,19.7,20.100000000000001,20.3,20.5,20.8,20.9,21,21.1,21,21,20.9,20.8,20.6,20.5,20.399999999999999,20.3,20.2]
["7月",23.8,23.7,23.7,23.6,23.6,23.5,23.5,23.7,23.9,24.2,24.3,24.4,24.6,24.7,24.7,24.8,24.7,24.6,24.4,24.3,24.1,24.1,24,23.9]
["8月",24.3,24.2,24.2,24.1,24,24,24,24.2,24.4,24.6,24.8,25,25.1,25.2,25.3,25.3,25.2,25.1,24.9,24.7,24.7,24.5,24.5,24.4]
["9月",21,20.9,20.8,20.7,20.6,20.5,20.399999999999999,20.6,20.9,21.3,21.5,21.7,21.8,22,22,22.1,22,21.9,21.7,21.5,21.3,21.2,21.1,21]
["10月",15.7,15.5,15.4,15.3,15.2,15.1,15,15.1,15.5,16.100000000000001,16.5,16.7,16.8,17,17.100000000000001,17.100000000000001,17,16.8,16.600000000000001,16.399999999999999,16.2,16,15.8,15.7]
["11月",10.8,10.7,10.6,10.5,10.5,10.4,10.4,10.3,10.7,11.3,11.8,12.1,12.3,12.4,12.4,12.4,12.3,12.1,11.7,11.5,11.3,11.1,10.9,10.8]
["12月",6.1,6,5.9,5.8,5.7,5.7,5.6,5.6,5.7,6.2,6.9,7.2,7.4,7.6,7.6,7.6,7.5,7.2,6.9,6.7,6.4,6.3,6.1,6]
["1月",3.9,3.8,3.8,3.8,3.7,3.6,3.6,3.6,3.7,4.0999999999999996,4.8,5.2,5.4,5.6,5.7,5.7,5.5,5.3,5,4.7,4.5,4.4000000000000004,4.2,4.0999999999999996]
["2月",4.7,4.5999999999999996,4.5,4.4000000000000004,4.3,4.3,4.2,4.2,4.4000000000000004,5,5.6,5.9,6.2,6.4,6.5,6.6,6.5,6.3,5.9,5.7,5.5,5.3,5.0999999999999996,4.9000000000000004]
["3月",7.4,7.3,7.2,7.1,7,6.9,6.8,6.8,7.3,7.9,8.4,8.8000000000000007,9,9.1999999999999993,9.3000000000000007,9.3000000000000007,9.1999999999999993,9,8.6999999999999993,8.5,8.1999999999999993,8.1,7.9,7.7]

{"sheet":"熊本","index":46,"n_rows":16,"n_cols":25,"rows_kept":16,"cut":false,"hidden":true,"merged":[]}
["気象データ"]
[{"$f":"RIGHT(CELL(\"filename\",A2),LEN(CELL(\"filename\",A2))-FIND(\"]\",CELL(\"filename\",A2)))","v":"熊本"}]
["時刻別平均外気湿球温度"]
["時刻",0,1,2,3,4,5,6,7,8,9,10,11,12,13,14,15,16,17,18,19,20,21,22,23]
["4月",11.2,10.9,10.7,10.4,10.199999999999999,10,9.8000000000000007,10.199999999999999,11,11.8,12.4,12.8,13.2,13.3,13.4,13.4,13.3,13.1,12.8,12.5,12.3,12.1,11.9,11.6]
["5月",15.7,15.5,15.3,15.1,14.8,14.7,14.6,15.1,15.8,16.3,16.7,17,17.2,17.399999999999999,17.399999999999999,17.399999999999999,17.3,17.100000000000001,17,16.7,16.5,16.3,16.100000000000001,15.9]
["6月",19.899999999999999,19.8,19.7,19.5,19.399999999999999,19.3,19.3,19.600000000000001,20,20.3,20.6,20.8,21,21.1,21.2,21,21,20.9,20.8,20.6,20.5,20.399999999999999,20.3,20.2]
["7月",23.6,23.5,23.4,23.3,23.2,23.1,23.1,23.3,23.7,24,24.2,24.4,24.6,24.6,24.6,24.6,24.5,24.4,24.4,24.2,24.1,24,23.8,23.8]
["8月",24,23.8,23.7,23.5,23.4,23.3,23.3,23.5,23.9,24.3,24.5,24.7,24.8,24.9,24.9,24.9,24.8,24.6,24.6,24.4,24.3,24.2,24.1,24]
["9月",20.7,20.6,20.399999999999999,20.3,20.100000000000001,20,19.899999999999999,20.100000000000001,20.6,21.1,21.5,21.7,21.8,22,22,22,21.9,21.8,21.5,21.3,21.1,21,20.8,20.7]
["10月",15.2,15,14.8,14.6,14.4,14.3,14.1,14.2,14.9,15.8,16.3,16.7,16.899999999999999,17.100000000000001,17.2,17.2,17,16.8,16.399999999999999,16.100000000000001,15.9,15.6,15.4,15.2]
["11月",10,9.6999999999999993,9.5,9.3000000000000007,9.1,8.9,8.8000000000000007,8.6999999999999993,9.3000000000000007,10.3,11.2,11.8,12.1,12.3,12.5,12.4,12.3,12,11.6,11.3,10.9,10.7,10.4,10.1]
["12月",4.8,4.5999999999999996,4.4000000000000004,4.0999999999999996,3.9,3.7,3.6,3.5,3.8,4.7,5.8,6.6,7,7.3,7.4,7.4,7.3,6.9,6.5,6.1,5.8,5.5,5.2,4.9000000000000004]
["1月",2.9,2.6,2.4,2.2000000000000002,2,1.9,1.7,1.6,1.8,2.8,3.8,4.5999999999999996,5,5.3,5.5,5.6,5.5,5.2,4.7,4.4000000000000004,4,3.7,3.5,3.2]
["2月",4,3.7,3.5,3.2,3,2.9,2.7,2.6,3.1,4,5,5.6,6.1,6.4,6.7,6.7,6.6,6.3,5.9,5.5,5.2,4.9000000000000004,4.5999999999999996,4.3]
["3月",7,6.8,6.5,6.2,6,5.8,5.6,5.6,6.4,7.4,8.1999999999999993,8.6999999999999993,9.1,9.4,9.5,9.5,9.3000000000000007,9.1,8.8000000000000007,8.4,8.1,7.9,7.6,7.3]

{"sheet":"大分","index":47,"n_rows":16,"n_cols":25,"rows_kept":16,"cut":false,"hidden":true,"merged":[]}
["気象データ"]
[{"$f":"RIGHT(CELL(\"filename\",A2),LEN(CELL(\"filename\",A2))-FIND(\"]\",CELL(\"filename\",A2)))","v":"大分"}]
["時刻別平均外気湿球温度"]
["時刻",0,1,2,3,4,5,6,7,8,9,10,11,12,13,14,15,16,17,18,19,20,21,22,23]
["4月",10.4,10.1,9.8000000000000007,9.6,9.4,9.1999999999999993,9.1,9.5,10.3,11.1,11.6,12,12.3,12.5,12.6,12.5,12.4,12.2,11.9,11.7,11.5,11.3,11.1,10.8]
["5月",14.8,14.6,14.4,14.2,13.9,13.7,13.8,14.2,15,15.6,16,16.3,16.5,16.5,16.600000000000001,16.600000000000001,16.5,16.3,16.100000000000001,15.8,15.7,15.5,15.3,15.1]
["6月",19.100000000000001,19,18.8,18.7,18.5,18.399999999999999,18.399999999999999,18.8,19.2,19.600000000000001,19.899999999999999,20.100000000000001,20.3,20.399999999999999,20.399999999999999,20.399999999999999,20.3,20.100000000000001,20,19.8,19.7,19.600000000000001,19.600000000000001,19.399999999999999]
["7月",23,22.9,22.8,22.7,22.5,22.4,22.4,22.7,23.1,23.5,23.7,24,24.1,24.2,24.2,24.2,24.1,23.9,23.8,23.6,23.5,23.4,23.3,23.3]
["8月",23.7,23.5,23.3,23.2,23.1,22.9,22.9,23.1,23.6,24.2,24.5,24.6,24.8,24.8,24.9,24.7,24.7,24.5,24.4,24.2,24.1,24.1,23.9,23.8]
["9月",20.399999999999999,20.2,20.100000000000001,20,19.899999999999999,19.8,19.7,19.899999999999999,20.3,20.9,21.2,21.5,21.6,21.7,21.6,21.6,21.5,21.3,21.2,21.1,21,20.9,20.7,20.5]
["10月",15.1,14.9,14.7,14.6,14.4,14.3,14.2,14.3,14.9,15.7,16.3,16.600000000000001,16.8,16.899999999999999,16.899999999999999,16.899999999999999,16.7,16.5,16.399999999999999,16.3,16,15.7,15.4,15.1]
["11月",9.9,9.6999999999999993,9.5,9.3000000000000007,9.1999999999999993,9.1,9,9,9.5,10.4,11.3,11.8,12,12.2,12.3,12.3,12.1,11.8,11.5,11.3,11,10.6,10.3,10]
["12月",4.9000000000000004,4.7,4.5,4.4000000000000004,4.2,4.0999999999999996,4,4,4.2,5.0999999999999996,6.1,6.7,7.1,7.3,7.4,7.4,7.2,6.8,6.5,6.2,5.8,5.5,5.2,4.9000000000000004]
["1月",2.8,2.6,2.4,2.2999999999999998,2.2000000000000002,2.1,2,2,2.2000000000000002,3,4,4.7,5,5.2,5.4,5.4,5.2,4.9000000000000004,4.5,4.3,3.9,3.6,3.3,3]
["2月",3.5,3.3,3.2,3,2.9,2.7,2.7,2.6,3,3.8,4.7,5.3,5.6,5.9,6.1,6.1,5.9,5.7,5.3,5.0999999999999996,4.8,4.5,4.2,3.9]
["3月",6.4,6.2,5.9,5.7,5.5,5.3,5.2,5.2,5.9,6.8,7.5,8,8.3000000000000007,8.5,8.6999999999999993,8.6,8.5,8.3000000000000007,8,7.7,7.5,7.3,7,6.7]

{"sheet":"宮崎","index":48,"n_rows":16,"n_cols":25,"rows_kept":16,"cut":false,"hidden":true,"merged":[]}
["気象データ"]
[{"$f":"RIGHT(CELL(\"filename\",A2),LEN(CELL(\"filename\",A2))-FIND(\"]\",CELL(\"filename\",A2)))","v":"宮崎"}]
["時刻別平均外気湿球温度"]
["時刻",0,1,2,3,4,5,6,7,8,9,10,11,12,13,14,15,16,17,18,19,20,21,22,23]
["4月",12.4,12.1,11.9,11.6,11.4,11.2,11.1,11.4,12.2,13,13.5,13.9,14.2,14.3,14.4,14.5,14.4,14.3,14,13.8,13.6,13.4,13.1,12.8]
["5月",16.600000000000001,16.3,16.100000000000001,15.9,15.7,15.6,15.5,16,16.7,17.3,17.600000000000001,17.899999999999999,18.100000000000001,18.100000000000001,18.2,18.2,18.2,18,17.8,17.7,17.5,17.399999999999999,17.2,16.899999999999999]
["6月",20.399999999999999,20.2,20.100000000000001,20,19.8,19.7,19.7,20.100000000000001,20.5,21,21.2,21.4,21.5,21.5,21.5,21.5,21.5,21.5,21.4,21.2,21.1,21,20.9,20.7]
["7月",23.8,23.7,23.6,23.5,23.3,23.2,23.3,23.5,23.9,24.3,24.5,24.7,24.9,24.9,24.9,25,24.8,24.7,24.7,24.5,24.3,24.3,24.1,24]
["8月",24.5,24.3,24.2,24.1,23.9,23.8,23.7,24,24.5,24.9,25.1,25.2,25.3,25.4,25.5,25.4,25.4,25.3,25.2,25,25,24.9,24.7,24.6]
["9月",21.8,21.6,21.5,21.3,21.2,21,20.9,21.1,21.6,22.1,22.4,22.6,22.7,22.8,22.9,22.9,22.8,22.7,22.5,22.4,22.3,22.2,22,21.8]
["10月",16.600000000000001,16.399999999999999,16.2,16,15.8,15.7,15.5,15.6,16.3,17.100000000000001,17.600000000000001,17.899999999999999,18.100000000000001,18.2,18.3,18.3,18.2,18,17.8,17.600000000000001,17.399999999999999,17.100000000000001,16.899999999999999,16.600000000000001]
["11月",11.3,11.1,10.9,10.7,10.5,10.4,10.199999999999999,10.199999999999999,10.7,11.8,12.7,13.2,13.6,13.7,13.8,13.8,13.7,13.4,13.1,12.8,12.4,12.1,11.7,11.5]
["12月",6,5.8,5.6,5.4,5.2,5.0999999999999996,4.9000000000000004,4.8,5.2,6.2,7.4,8.1,8.5,8.8000000000000007,9,9,8.8000000000000007,8.4,7.9,7.5,7.1,6.7,6.4,6.1]
["1月",4,3.8,3.5,3.4,3.2,3.1,3,2.9,3.2,4.2,5.3,6.1,6.6,6.9,7.1,7.1,7,6.7,6.2,5.7,5.2,4.9000000000000004,4.5999999999999996,4.3]
["2月",5.3,5.0999999999999996,4.9000000000000004,4.7,4.5,4.4000000000000004,4.2,4.0999999999999996,4.5,5.6,6.5,7.2,7.6,7.9,8.1,8.1999999999999993,8.1,7.9,7.5,7.1,6.7,6.3,6,5.7]
["3月",8.3000000000000007,8,7.8,7.6,7.4,7.2,7.1,7.1,7.8,8.6999999999999993,9.4,9.9,10.3,10.5,10.7,10.8,10.7,10.5,10.199999999999999,9.9,9.6,9.3000000000000007,8.9,8.6]

{"sheet":"鹿児島","index":49,"n_rows":16,"n_cols":25,"rows_kept":16,"cut":false,"hidden":true,"merged":[]}
["気象データ"]
[{"$f":"RIGHT(CELL(\"filename\",A2),LEN(CELL(\"filename\",A2))-FIND(\"]\",CELL(\"filename\",A2)))","v":"鹿児島"}]
["時刻別平均外気湿球温度"]
["時刻",0,1,2,3,4,5,6,7,8,9,10,11,12,13,14,15,16,17,18,19,20,21,22,23]
["4月",12.8,12.5,12.4,12.2,12,11.9,11.8,12.1,12.8,13.4,13.8,14,14.3,14.4,14.6,14.6,14.5,14.3,14.1,13.8,13.6,13.5,13.3,13.1]
["5月",16.899999999999999,16.7,16.600000000000001,16.399999999999999,16.3,16.2,16.100000000000001,16.5,17.100000000000001,17.5,17.7,17.899999999999999,18.100000000000001,18.2,18.3,18.3,18.3,18.100000000000001,17.899999999999999,17.600000000000001,17.399999999999999,17.3,17.2,17.100000000000001]
["6月",20.8,20.7,20.6,20.5,20.399999999999999,20.399999999999999,20.399999999999999,20.6,20.9,21.2,21.4,21.5,21.6,21.7,21.8,21.8,21.8,21.7,21.5,21.4,21.2,21.2,21.1,21.1]
["7月",24.3,24.2,24.2,24.1,24,23.9,23.9,24.2,24.4,24.6,24.8,25,25.1,25.2,25.2,25.2,25.1,25,24.8,24.7,24.6,24.5,24.4,24.4]
["8月",24.7,24.7,24.6,24.5,24.4,24.3,24.3,24.5,24.8,25,25.2,25.3,25.4,25.5,25.5,25.5,25.5,25.4,25.2,25.1,25,24.9,24.8,24.8]
["9月",22.1,22,21.8,21.7,21.6,21.6,21.5,21.6,22.1,22.4,22.7,22.8,22.9,23,23.1,23,23,22.9,22.7,22.5,22.4,22.3,22.2,22.1]
["10月",17.100000000000001,16.899999999999999,16.7,16.600000000000001,16.5,16.399999999999999,16.3,16.399999999999999,17,17.600000000000001,17.899999999999999,18.2,18.399999999999999,18.399999999999999,18.5,18.399999999999999,18.3,18.2,18,17.8,17.600000000000001,17.399999999999999,17.2,17.100000000000001]
["11月",12.2,12,11.8,11.7,11.6,11.5,11.4,11.4,11.9,12.9,13.4,13.7,13.9,14,14,14,13.8,13.6,13.4,13.1,12.9,12.6,12.4,12.2]
["12月",7.2,6.9,6.8,6.7,6.6,6.5,6.4,6.3,6.6,7.5,8.4,8.8000000000000007,9.1,9.3000000000000007,9.4,9.3000000000000007,9.1,8.6999999999999993,8.4,8.1999999999999993,7.9,7.6,7.4,7.1]
["1月",5,4.9000000000000004,4.7,4.5999999999999996,4.5,4.4000000000000004,4.4000000000000004,4.4000000000000004,4.5,5.4,6.3,6.8,7.1,7.4,7.5,7.5,7.3,7,6.7,6.3,6,5.8,5.5,5.3]
["2月",6.2,6,5.8,5.7,5.5,5.4,5.4,5.4,5.7,6.6,7.3,7.8,8.1,8.3000000000000007,8.5,8.5,8.4,8.1,7.7,7.4,7.2,6.9,6.7,6.5]
["3月",8.9,8.6999999999999993,8.5,8.3000000000000007,8.1999999999999993,8.1,8,8,8.6,9.4,9.9,10.3,10.6,10.8,11,11,10.9,10.6,10.3,10,9.8000000000000007,9.6,9.4,9.1999999999999993]

{"sheet":"那覇","index":50,"n_rows":16,"n_cols":25,"rows_kept":16,"cut":false,"hidden":true,"merged":[]}
["気象データ"]
[{"$f":"RIGHT(CELL(\"filename\",A2),LEN(CELL(\"filename\",A2))-FIND(\"]\",CELL(\"filename\",A2)))","v":"那覇"}]
["時刻別平均外気湿球温度"]
["時刻",0,1,2,3,4,5,6,7,8,9,10,11,12,13,14,15,16,17,18,19,20,21,22,23]
["4月",18,18,17.899999999999999,17.899999999999999,17.899999999999999,17.8,17.8,18,18.3,18.5,18.7,18.8,18.899999999999999,19,18.899999999999999,18.899999999999999,18.8,18.600000000000001,18.5,18.3,18.2,18.2,18.2,18.2]
["5月",21.2,21.1,21.1,21.1,21.1,21,21,21.3,21.5,21.7,21.8,21.9,22,22,22,21.9,21.8,21.6,21.5,21.4,21.3,21.3,21.3,21.3]
["6月",24.5,24.5,24.4,24.4,24.4,24.4,24.4,24.6,24.8,24.9,25.1,25.1,25.2,25.2,25.2,25.2,25,24.9,24.8,24.7,24.6,24.7,24.6,24.6]
["7月",25.6,25.6,25.6,25.5,25.5,25.5,25.4,25.6,25.8,25.9,26,26.1,26.1,26.2,26.1,26.1,26,25.9,25.8,25.7,25.7,25.7,25.7,25.7]
["8月",25.6,25.5,25.5,25.4,25.4,25.3,25.3,25.5,25.7,25.8,25.9,26,26,26.1,26,26,25.9,25.8,25.7,25.6,25.6,25.6,25.6,25.6]
["9月",24.3,24.2,24.2,24.1,24.1,24.1,24,24.2,24.4,24.6,24.7,24.7,24.8,24.8,24.8,24.7,24.6,24.5,24.4,24.3,24.3,24.3,24.3,24.2]
["10月",21.5,21.4,21.4,21.3,21.3,21.3,21.2,21.3,21.6,21.8,21.9,22.1,22.1,22.1,22.1,22,21.9,21.8,21.7,21.6,21.6,21.6,21.5,21.5]
["11月",18.399999999999999,18.3,18.3,18.2,18.2,18.100000000000001,18.100000000000001,18.2,18.399999999999999,18.7,18.899999999999999,19,19.100000000000001,19.100000000000001,19.100000000000001,19,18.899999999999999,18.7,18.600000000000001,18.5,18.5,18.399999999999999,18.399999999999999,18.3]
["12月",14.9,14.8,14.8,14.7,14.7,14.7,14.6,14.6,14.8,15.2,15.4,15.6,15.6,15.7,15.7,15.6,15.5,15.3,15.2,15.1,15,14.9,14.9,14.8]
["1月",13.2,13.2,13.2,13.1,13.1,13,13,13,13.2,13.6,13.8,14,14.1,14.1,14.1,14.1,14,13.8,13.7,13.6,13.5,13.4,13.4,13.3]
["2月",13.8,13.8,13.8,13.7,13.7,13.6,13.6,13.6,13.8,14.2,14.5,14.6,14.7,14.8,14.8,14.8,14.7,14.5,14.3,14.2,14.2,14.1,14,14]
["3月",15.4,15.3,15.3,15.3,15.2,15.1,15.1,15.2,15.5,15.8,16,16.2,16.3,16.3,16.3,16.3,16.2,16,15.9,15.7,15.6,15.6,15.5,15.5]