{"text_format":"1","workbook":"xlsx","n_sheets":54,"sheets":["必ずこのシートから始めてください","温暖地(γ既定値)","寒冷地(γ既定値)","温暖地(γ個別入力)","寒冷地(γ個別入力)","管理","γ一覧表","札幌","青森","盛岡","仙台","秋田","山形","福島","水戸","宇都宮","前橋","さいたま","千葉","東京","横浜","新潟","富山","金沢","福井","甲府","長野","岐阜","静岡","名古屋","津","大津","京都","大阪","神戸","奈良","和歌山","鳥取","松江","岡山","広島","山口","徳島","高松","松山","高知","福岡","佐賀","長崎","熊本","大分","宮崎","鹿児島","那覇"],"not_rendered":{"charts":0,"images":0,"macros":1,"external_links":0,"defined_names":6,"comments":0,"pivot_tables":0},"unopened":[],"bounds":{"document_bytes":16777216,"sheet_cells":100000,"rows_first":2000,"rows_last":500,"rows_between":2000,"halvings":0,"cell_chars":16384,"cell_head_chars":4096},"cells_cut":0,"cells_raw":0,"read":"whole","date_system":"1900"}

{"sheet":"必ずこのシートから始めてください","index":0,"n_rows":34,"n_cols":14,"rows_kept":34,"cut":false,"hidden":false,"merged":[[18,3,18,12],[13,10,14,10],[9,10,10,10],[11,10,12,10],[9,4,10,9],[13,11,14,12],[32,4,32,12],[33,4,33,12],[2,12,3,13],[31,4,31,13],[29,4,29,12],[26,6,27,7],[26,8,27,9],[21,10,22,10],[23,10,24,10],[21,4,22,9],[23,4,24,9],[21,11,22,12],[23,11,24,12],[2,3,3,11],[21,3,24,3],[25,3,25,12],[29,3,30,3],[4,2,5,13],[19,3,20,12],[16,6,17,7],[16,8,17,9],[15,3,15,12],[7,11,8,12],[9,11,10,12],[11,11,12,12],[30,4,30,12],[7,10,8,10],[7,4,8,9],[7,3,8,3],[11,4,12,9],[13,4,14,9],[9,3,14,3]]}
[]
[]
[null,null,null,"空調年間活動量算定ツール(空冷HPチラー版)",null,null,null,null,null,null,null,null,"Ver.1.0"]
[]
[null,null,"電気式空冷ウォーターチリングユニットの年間電力使用量の算定"]
[]
[]
[null,null,null,"ここから\nスタート","空冷HPチラーを設置する都道府県を選択",null,null,null,null,null,"選択"]
[]
[null,null,null,"γ\n既定値","選択した都道府県庁所在地",null,null,null,null,null,"自動表示",{"$f":"IF($L$8=\"\",\"\",VLOOKUP($L$8,γ一覧表!$C$3:$F$50,2,FALSE))","v":""}]
[]
[null,null,null,null,"都道府県庁所在地の【暖・冷房負荷比：γ値】",null,null,null,null,null,"自動表示",{"$f":"IF($L$8=\"\",\"\",VLOOKUP($L$8,γ一覧表!$C$3:$F$50,3,FALSE))","v":""}]
[]
[null,null,null,null,"表示された【γ値】で使用するシート",null,null,null,null,null,"自動表示",{"$f":"IF($L$8=\"\",\"\",VLOOKUP($L$8,γ一覧表!$C$3:$F$50,4,FALSE))","v":""}]
[]
[null,null,null,"使用するシートを選択(各シートが開く)"]
[null,null,null,null,null,null,"温暖地(γ既定値)",null,"寒冷地(γ既定値)"]
[]
[]
[null,null,null,"都道府県庁所在地と気候条件が大きく異なる場合、以下にγ値を入力し、表示されたシートを使用"]
[]
[null,null,null,"γ\n個別入力","都道府県庁所在地の既定値以外を使用する場合の【γ値】",null,null,null,null,null,"入力",null,null,{"$f":"ROUNDUP($L$22,1)","v":0}]
[]
[null,null,null,null,"入力した【γ値】で使用するシート ",null,null,null,null,null,"自動表示",{"$f":"IF($L$22=\"\",\"\",VLOOKUP($N$22,γ一覧表!$I$3:$J$50,2))","v":""}]
[]
[null,null,null,"使用するシートを選択(各シートが開く)"]
[null,null,null,null,null,null,"温暖地(γ個別入力)",null,"寒冷地(γ個別入力)"]
[]
[]
[null,null,null,"注意事項","●【γ値】とは設備設計時の空調負荷計算における最大暖房負荷と最大冷房負荷の比率。"]
[null,null,null,null,"    負荷の大きな方で空調機の機種選定がなされたものとする。冷房負荷に対して選択した場合はγ≦1である。"]
[null,null,null,null,"● 本ツールは、設備更新の効果を簡易的に把握するために開発されたものであり、他の目的に利用することは想定されていません。"]
[null,null,null,null,"● あらゆる入力に対して正しい計算結果が得られることを保証するものではありません。"]
[null,null,null,null,"    計算結果の取り扱いについては、自己責任でお願いします。"]

{"sheet":"温暖地(γ既定値)","index":1,"n_rows":193,"n_cols":68,"rows_kept":193,"cut":false,"hidden":false,"merged":[[75,49,76,50],[130,3,130,26],[98,3,98,26],[114,3,114,26],[27,3,35,3],[41,3,49,3],[78,5,78,6],[78,7,78,8],[57,3,57,4],[57,5,57,6],[57,7,57,8],[78,3,78,4],[24,19,25,20],[24,29,25,29],[24,24,25,25],[24,26,25,26],[2,2,2,3],[3,2,3,3],[5,2,5,3],[6,2,6,3],[9,3,9,26]]}
[]
[null,null,"空冷HPチラーの設置場所"]
[null,null,{"$f":"IF(必ずこのシートから始めてください!$L$8=\"\",\"\",必ずこのシートから始めてください!$L$8)","v":""},null,null,"手順1：空調を行う月、時間を下記の指定の色で塗る(指定の色以外で塗ると計算できません。)"]
[null,null,{"$f":"VLOOKUP($C$3,γ一覧表!$C$3:$E$50,2,FALSE)","v":{"$error":"#N/A"}},null,null,null,"冷却","青","【左から5列目、一番薄い色(アクセント1,白＋基本色80％)】"]
[null,null,null,null,null,null,"加熱","オレンジ","【左から6番目、一番薄い色(アクセント2,白＋基本色80％)】"]
[null,null,"使用するγ値",null,null,"手順2：各月の運転日数を入力する"]
[null,null,{"$f":"IFERROR(IF(VLOOKUP($C$3,γ一覧表!$C$3:$E$50,3,FALSE)>1,\"---\",IFERROR(VLOOKUP($C$3,γ一覧表!$C$3:$E$50,3,FALSE),\"---\")),\"---\")","v":"---"},null,null,"手順3：Ctrl + Alt + F9を同時に押す",null,null,null,null,null,null,null,null,null,null,null,"●時刻別平均気温表記載の数値は、選択された都道府県の県庁所在地の月別、時刻別平均気温"]
[null,null,null,null,null,"手順4：黄色のセルに値を入力する(緑は自動計算)",null,null,null,null,null,null,null,null,null,null,null,"●本データは気象庁発表の1992年4月1日から2022年3月31日までの30年の1時間データを整理したもの"]
[null,null,"時刻別平均気温[℃]",null,null,null,null,null,null,null,null,null,null,null,null,null,null,"●2月はうるう日を含みます"]
[null,null,null," 時刻",null,null,null,null,null,null,null,null,null,null,null,null,null,null,null,null,null,null,null,null,null,null,null,{"$f":"SUM(AB12:AB23)","v":0},{"$f":"必ずこのシートから始めてください!$M$3","v":"Ver.1.0"}]
[null,null,"月",0,1,2,3,4,5,6,7,8,9,10,11,12,13,14,15,16,17,18,19,20,21,22,23,"運転日数","月"]
[null,null,4,{"$f":"IFERROR(INDIRECT($C$4&\"!B5\"),\"\")","v":""},{"$f":"IFERROR(INDIRECT($C$4&\"!C5\"),\"\")","v":""},{"$f":"IFERROR(INDIRECT($C$4&\"!D5\"),\"\")","v":""},{"$f":"IFERROR(INDIRECT($C$4&\"!E5\"),\"\")","v":""},{"$f":"IFERROR(INDIRECT($C$4&\"!F5\"),\"\")","v":""},{"$f":"IFERROR(INDIRECT($C$4&\"!G5\"),\"\")","v":""},{"$f":"IFERROR(INDIRECT($C$4&\"!H5\"),\"\")","v":""},{"$f":"IFERROR(INDIRECT($C$4&\"!I5\"),\"\")","v":""},{"$f":"IFERROR(INDIRECT($C$4&\"!J5\"),\"\")","v":""},{"$f":"IFERROR(INDIRECT($C$4&\"!K5\"),\"\")","v":""},{"$f":"IFERROR(INDIRECT($C$4&\"!L5\"),\"\")","v":""},{"$f":"IFERROR(INDIRECT($C$4&\"!M5\"),\"\")","v":""},{"$f":"IFERROR(INDIRECT($C$4&\"!N5\"),\"\")","v":""},{"$f":"IFERROR(INDIRECT($C$4&\"!O5\"),\"\")","v":""},{"$f":"IFERROR(INDIRECT($C$4&\"!P5\"),\"\")","v":""},{"$f":"IFERROR(INDIRECT($C$4&\"!Q5\"),\"\")","v":""},{"$f":"IFERROR(INDIRECT($C$4&\"!R5\"),\"\")","v":""},{"$f":"IFERROR(INDIRECT($C$4&\"!S5\"),\"\")","v":""},{"$f":"IFERROR(INDIRECT($C$4&\"!T5\"),\"\")","v":""},{"$f":"IFERROR(INDIRECT($C$4&\"!U5\"),\"\")","v":""},{"$f":"IFERROR(INDIRECT($C$4&\"!V5\"),\"\")","v":""},{"$f":"IFERROR(INDIRECT($C$4&\"!W5\"),\"\")","v":""},{"$f":"IFERROR(INDIRECT($C$4&\"!X5\"),\"\")","v":""},{"$f":"IFERROR(INDIRECT($C$4&\"!Y5\"),\"\")","v":""},null,4]
[null,null,5,{"$f":"IFERROR(INDIRECT($C$4&\"!B6\"),\"\")","v":""},{"$f":"IFERROR(INDIRECT($C$4&\"!C6\"),\"\")","v":""},{"$f":"IFERROR(INDIRECT($C$4&\"!D6\"),\"\")","v":""},{"$f":"IFERROR(INDIRECT($C$4&\"!E6\"),\"\")","v":""},{"$f":"IFERROR(INDIRECT($C$4&\"!F6\"),\"\")","v":""},{"$f":"IFERROR(INDIRECT($C$4&\"!G6\"),\"\")","v":""},{"$f":"IFERROR(INDIRECT($C$4&\"!H6\"),\"\")","v":""},{"$f":"IFERROR(INDIRECT($C$4&\"!I6\"),\"\")","v":""},{"$f":"IFERROR(INDIRECT($C$4&\"!J6\"),\"\")","v":""},{"$f":"IFERROR(INDIRECT($C$4&\"!K6\"),\"\")","v":""},{"$f":"IFERROR(INDIRECT($C$4&\"!L6\"),\"\")","v":""},{"$f":"IFERROR(INDIRECT($C$4&\"!M6\"),\"\")","v":""},{"$f":"IFERROR(INDIRECT($C$4&\"!N6\"),\"\")","v":""},{"$f":"IFERROR(INDIRECT($C$4&\"!O6\"),\"\")","v":""},{"$f":"IFERROR(INDIRECT($C$4&\"!P6\"),\"\")","v":""},{"$f":"IFERROR(INDIRECT($C$4&\"!Q6\"),\"\")","v":""},{"$f":"IFERROR(INDIRECT($C$4&\"!R6\"),\"\")","v":""},{"$f":"IFERROR(INDIRECT($C$4&\"!S6\"),\"\")","v":""},{"$f":"IFERROR(INDIRECT($C$4&\"!T6\"),\"\")","v":""},{"$f":"IFERROR(INDIRECT($C$4&\"!U6\"),\"\")","v":""},{"$f":"IFERROR(INDIRECT($C$4&\"!V6\"),\"\")","v":""},{"$f":"IFERROR(INDIRECT($C$4&\"!W6\"),\"\")","v":""},{"$f":"IFERROR(INDIRECT($C$4&\"!X6\"),\"\")","v":""},{"$f":"IFERROR(INDIRECT($C$4&\"!Y6\"),\"\")","v":""},null,5]
[null,null,6,{"$f":"IFERROR(INDIRECT($C$4&\"!B7\"),\"\")","v":""},{"$f":"IFERROR(INDIRECT($C$4&\"!C7\"),\"\")","v":""},{"$f":"IFERROR(INDIRECT($C$4&\"!D7\"),\"\")","v":""},{"$f":"IFERROR(INDIRECT($C$4&\"!E7\"),\"\")","v":""},{"$f":"IFERROR(INDIRECT($C$4&\"!F7\"),\"\")","v":""},{"$f":"IFERROR(INDIRECT($C$4&\"!G7\"),\"\")","v":""},{"$f":"IFERROR(INDIRECT($C$4&\"!H7\"),\"\")","v":""},{"$f":"IFERROR(INDIRECT($C$4&\"!I7\"),\"\")","v":""},{"$f":"IFERROR(INDIRECT($C$4&\"!J7\"),\"\")","v":""},{"$f":"IFERROR(INDIRECT($C$4&\"!K7\"),\"\")","v":""},{"$f":"IFERROR(INDIRECT($C$4&\"!L7\"),\"\")","v":""},{"$f":"IFERROR(INDIRECT($C$4&\"!M7\"),\"\")","v":""},{"$f":"IFERROR(INDIRECT($C$4&\"!N7\"),\"\")","v":""},{"$f":"IFERROR(INDIRECT($C$4&\"!O7\"),\"\")","v":""},{"$f":"IFERROR(INDIRECT($C$4&\"!P7\"),\"\")","v":""},{"$f":"IFERROR(INDIRECT($C$4&\"!Q7\"),\"\")","v":""},{"$f":"IFERROR(INDIRECT($C$4&\"!R7\"),\"\")","v":""},{"$f":"IFERROR(INDIRECT($C$4&\"!S7\"),\"\")","v":""},{"$f":"IFERROR(INDIRECT($C$4&\"!T7\"),\"\")","v":""},{"$f":"IFERROR(INDIRECT($C$4&\"!U7\"),\"\")","v":""},{"$f":"IFERROR(INDIRECT($C$4&\"!V7\"),\"\")","v":""},{"$f":"IFERROR(INDIRECT($C$4&\"!W7\"),\"\")","v":""},{"$f":"IFERROR(INDIRECT($C$4&\"!X7\"),\"\")","v":""},{"$f":"IFERROR(INDIRECT($C$4&\"!Y7\"),\"\")","v":""},null,6]
[null,null,7,{"$f":"IFERROR(INDIRECT($C$4&\"!B8\"),\"\")","v":""},{"$f":"IFERROR(INDIRECT($C$4&\"!C8\"),\"\")","v":""},{"$f":"IFERROR(INDIRECT($C$4&\"!D8\"),\"\")","v":""},{"$f":"IFERROR(INDIRECT($C$4&\"!E8\"),\"\")","v":""},{"$f":"IFERROR(INDIRECT($C$4&\"!F8\"),\"\")","v":""},{"$f":"IFERROR(INDIRECT($C$4&\"!G8\"),\"\")","v":""},{"$f":"IFERROR(INDIRECT($C$4&\"!H8\"),\"\")","v":""},{"$f":"IFERROR(INDIRECT($C$4&\"!I8\"),\"\")","v":""},{"$f":"IFERROR(INDIRECT($C$4&\"!J8\"),\"\")","v":""},{"$f":"IFERROR(INDIRECT($C$4&\"!K8\"),\"\")","v":""},{"$f":"IFERROR(INDIRECT($C$4&\"!L8\"),\"\")","v":""},{"$f":"IFERROR(INDIRECT($C$4&\"!M8\"),\"\")","v":""},{"$f":"IFERROR(INDIRECT($C$4&\"!N8\"),\"\")","v":""},{"$f":"IFERROR(INDIRECT($C$4&\"!O8\"),\"\")","v":""},{"$f":"IFERROR(INDIRECT($C$4&\"!P8\"),\"\")","v":""},{"$f":"IFERROR(INDIRECT($C$4&\"!Q8\"),\"\")","v":""},{"$f":"IFERROR(INDIRECT($C$4&\"!R8\"),\"\")","v":""},{"$f":"IFERROR(INDIRECT($C$4&\"!S8\"),\"\")","v":""},{"$f":"IFERROR(INDIRECT($C$4&\"!T8\"),\"\")","v":""},{"$f":"IFERROR(INDIRECT($C$4&\"!U8\"),\"\")","v":""},{"$f":"IFERROR(INDIRECT($C$4&\"!V8\"),\"\")","v":""},{"$f":"IFERROR(INDIRECT($C$4&\"!W8\"),\"\")","v":""},{"$f":"IFERROR(INDIRECT($C$4&\"!X8\"),\"\")","v":""},{"$f":"IFERROR(INDIRECT($C$4&\"!Y8\"),\"\")","v":""},null,7]
[null,null,8,{"$f":"IFERROR(INDIRECT($C$4&\"!B9\"),\"\")","v":""},{"$f":"IFERROR(INDIRECT($C$4&\"!C9\"),\"\")","v":""},{"$f":"IFERROR(INDIRECT($C$4&\"!D9\"),\"\")","v":""},{"$f":"IFERROR(INDIRECT($C$4&\"!E9\"),\"\")","v":""},{"$f":"IFERROR(INDIRECT($C$4&\"!F9\"),\"\")","v":""},{"$f":"IFERROR(INDIRECT($C$4&\"!G9\"),\"\")","v":""},{"$f":"IFERROR(INDIRECT($C$4&\"!H9\"),\"\")","v":""},{"$f":"IFERROR(INDIRECT($C$4&\"!I9\"),\"\")","v":""},{"$f":"IFERROR(INDIRECT($C$4&\"!J9\"),\"\")","v":""},{"$f":"IFERROR(INDIRECT($C$4&\"!K9\"),\"\")","v":""},{"$f":"IFERROR(INDIRECT($C$4&\"!L9\"),\"\")","v":""},{"$f":"IFERROR(INDIRECT($C$4&\"!M9\"),\"\")","v":""},{"$f":"IFERROR(INDIRECT($C$4&\"!N9\"),\"\")","v":""},{"$f":"IFERROR(INDIRECT($C$4&\"!O9\"),\"\")","v":""},{"$f":"IFERROR(INDIRECT($C$4&\"!P9\"),\"\")","v":""},{"$f":"IFERROR(INDIRECT($C$4&\"!Q9\"),\"\")","v":""},{"$f":"IFERROR(INDIRECT($C$4&\"!R9\"),\"\")","v":""},{"$f":"IFERROR(INDIRECT($C$4&\"!S9\"),\"\")","v":""},{"$f":"IFERROR(INDIRECT($C$4&\"!T9\"),\"\")","v":""},{"$f":"IFERROR(INDIRECT($C$4&\"!U9\"),\"\")","v":""},{"$f":"IFERROR(INDIRECT($C$4&\"!V9\"),\"\")","v":""},{"$f":"IFERROR(INDIRECT($C$4&\"!W9\"),\"\")","v":""},{"$f":"IFERROR(INDIRECT($C$4&\"!X9\"),\"\")","v":""},{"$f":"IFERROR(INDIRECT($C$4&\"!Y9\"),\"\")","v":""},null,8]
[null,null,9,{"$f":"IFERROR(INDIRECT($C$4&\"!B10\"),\"\")","v":""},{"$f":"IFERROR(INDIRECT($C$4&\"!C10\"),\"\")","v":""},{"$f":"IFERROR(INDIRECT($C$4&\"!D10\"),\"\")","v":""},{"$f":"IFERROR(INDIRECT($C$4&\"!E10\"),\"\")","v":""},{"$f":"IFERROR(INDIRECT($C$4&\"!F10\"),\"\")","v":""},{"$f":"IFERROR(INDIRECT($C$4&\"!G10\"),\"\")","v":""},{"$f":"IFERROR(INDIRECT($C$4&\"!H10\"),\"\")","v":""},{"$f":"IFERROR(INDIRECT($C$4&\"!I10\"),\"\")","v":""},{"$f":"IFERROR(INDIRECT($C$4&\"!J10\"),\"\")","v":""},{"$f":"IFERROR(INDIRECT($C$4&\"!K10\"),\"\")","v":""},{"$f":"IFERROR(INDIRECT($C$4&\"!L10\"),\"\")","v":""},{"$f":"IFERROR(INDIRECT($C$4&\"!M10\"),\"\")","v":""},{"$f":"IFERROR(INDIRECT($C$4&\"!N10\"),\"\")","v":""},{"$f":"IFERROR(INDIRECT($C$4&\"!O10\"),\"\")","v":""},{"$f":"IFERROR(INDIRECT($C$4&\"!P10\"),\"\")","v":""},{"$f":"IFERROR(INDIRECT($C$4&\"!Q10\"),\"\")","v":""},{"$f":"IFERROR(INDIRECT($C$4&\"!R10\"),\"\")","v":""},{"$f":"IFERROR(INDIRECT($C$4&\"!S10\"),\"\")","v":""},{"$f":"IFERROR(INDIRECT($C$4&\"!T10\"),\"\")","v":""},{"$f":"IFERROR(INDIRECT($C$4&\"!U10\"),\"\")","v":""},{"$f":"IFERROR(INDIRECT($C$4&\"!V10\"),\"\")","v":""},{"$f":"IFERROR(INDIRECT($C$4&\"!W10\"),\"\")","v":""},{"$f":"IFERROR(INDIRECT($C$4&\"!X10\"),\"\")","v":""},{"$f":"IFERROR(INDIRECT($C$4&\"!Y10\"),\"\")","v":""},null,9]
[null,null,10,{"$f":"IFERROR(INDIRECT($C$4&\"!B11\"),\"\")","v":""},{"$f":"IFERROR(INDIRECT($C$4&\"!C11\"),\"\")","v":""},{"$f":"IFERROR(INDIRECT($C$4&\"!D11\"),\"\")","v":""},{"$f":"IFERROR(INDIRECT($C$4&\"!E11\"),\"\")","v":""},{"$f":"IFERROR(INDIRECT($C$4&\"!F11\"),\"\")","v":""},{"$f":"IFERROR(INDIRECT($C$4&\"!G11\"),\"\")","v":""},{"$f":"IFERROR(INDIRECT($C$4&\"!H11\"),\"\")","v":""},{"$f":"IFERROR(INDIRECT($C$4&\"!I11\"),\"\")","v":""},{"$f":"IFERROR(INDIRECT($C$4&\"!J11\"),\"\")","v":""},{"$f":"IFERROR(INDIRECT($C$4&\"!K11\"),\"\")","v":""},{"$f":"IFERROR(INDIRECT($C$4&\"!L11\"),\"\")","v":""},{"$f":"IFERROR(INDIRECT($C$4&\"!M11\"),\"\")","v":""},{"$f":"IFERROR(INDIRECT($C$4&\"!N11\"),\"\")","v":""},{"$f":"IFERROR(INDIRECT($C$4&\"!O11\"),\"\")","v":""},{"$f":"IFERROR(INDIRECT($C$4&\"!P11\"),\"\")","v":""},{"$f":"IFERROR(INDIRECT($C$4&\"!Q11\"),\"\")","v":""},{"$f":"IFERROR(INDIRECT($C$4&\"!R11\"),\"\")","v":""},{"$f":"IFERROR(INDIRECT($C$4&\"!S11\"),\"\")","v":""},{"$f":"IFERROR(INDIRECT($C$4&\"!T11\"),\"\")","v":""},{"$f":"IFERROR(INDIRECT($C$4&\"!U11\"),\"\")","v":""},{"$f":"IFERROR(INDIRECT($C$4&\"!V11\"),\"\")","v":""},{"$f":"IFERROR(INDIRECT($C$4&\"!W11\"),\"\")","v":""},{"$f":"IFERROR(INDIRECT($C$4&\"!X11\"),\"\")","v":""},{"$f":"IFERROR(INDIRECT($C$4&\"!Y11\"),\"\")","v":""},null,10]
[null,null,11,{"$f":"IFERROR(INDIRECT($C$4&\"!B12\"),\"\")","v":""},{"$f":"IFERROR(INDIRECT($C$4&\"!C12\"),\"\")","v":""},{"$f":"IFERROR(INDIRECT($C$4&\"!D12\"),\"\")","v":""},{"$f":"IFERROR(INDIRECT($C$4&\"!E12\"),\"\")","v":""},{"$f":"IFERROR(INDIRECT($C$4&\"!F12\"),\"\")","v":""},{"$f":"IFERROR(INDIRECT($C$4&\"!G12\"),\"\")","v":""},{"$f":"IFERROR(INDIRECT($C$4&\"!H12\"),\"\")","v":""},{"$f":"IFERROR(INDIRECT($C$4&\"!I12\"),\"\")","v":""},{"$f":"IFERROR(INDIRECT($C$4&\"!J12\"),\"\")","v":""},{"$f":"IFERROR(INDIRECT($C$4&\"!K12\"),\"\")","v":""},{"$f":"IFERROR(INDIRECT($C$4&\"!L12\"),\"\")","v":""},{"$f":"IFERROR(INDIRECT($C$4&\"!M12\"),\"\")","v":""},{"$f":"IFERROR(INDIRECT($C$4&\"!N12\"),\"\")","v":""},{"$f":"IFERROR(INDIRECT($C$4&\"!O12\"),\"\")","v":""},{"$f":"IFERROR(INDIRECT($C$4&\"!P12\"),\"\")","v":""},{"$f":"IFERROR(INDIRECT($C$4&\"!Q12\"),\"\")","v":""},{"$f":"IFERROR(INDIRECT($C$4&\"!R12\"),\"\")","v":""},{"$f":"IFERROR(INDIRECT($C$4&\"!S12\"),\"\")","v":""},{"$f":"IFERROR(INDIRECT($C$4&\"!T12\"),\"\")","v":""},{"$f":"IFERROR(INDIRECT($C$4&\"!U12\"),\"\")","v":""},{"$f":"IFERROR(INDIRECT($C$4&\"!V12\"),\"\")","v":""},{"$f":"IFERROR(INDIRECT($C$4&\"!W12\"),\"\")","v":""},{"$f":"IFERROR(INDIRECT($C$4&\"!X12\"),\"\")","v":""},{"$f":"IFERROR(INDIRECT($C$4&\"!Y12\"),\"\")","v":""},null,11]
[null,null,12,{"$f":"IFERROR(INDIRECT($C$4&\"!B13\"),\"\")","v":""},{"$f":"IFERROR(INDIRECT($C$4&\"!C13\"),\"\")","v":""},{"$f":"IFERROR(INDIRECT($C$4&\"!D13\"),\"\")","v":""},{"$f":"IFERROR(INDIRECT($C$4&\"!E13\"),\"\")","v":""},{"$f":"IFERROR(INDIRECT($C$4&\"!F13\"),\"\")","v":""},{"$f":"IFERROR(INDIRECT($C$4&\"!G13\"),\"\")","v":""},{"$f":"IFERROR(INDIRECT($C$4&\"!H13\"),\"\")","v":""},{"$f":"IFERROR(INDIRECT($C$4&\"!I13\"),\"\")","v":""},{"$f":"IFERROR(INDIRECT($C$4&\"!J13\"),\"\")","v":""},{"$f":"IFERROR(INDIRECT($C$4&\"!K13\"),\"\")","v":""},{"$f":"IFERROR(INDIRECT($C$4&\"!L13\"),\"\")","v":""},{"$f":"IFERROR(INDIRECT($C$4&\"!M13\"),\"\")","v":""},{"$f":"IFERROR(INDIRECT($C$4&\"!N13\"),\"\")","v":""},{"$f":"IFERROR(INDIRECT($C$4&\"!O13\"),\"\")","v":""},{"$f":"IFERROR(INDIRECT($C$4&\"!P13\"),\"\")","v":""},{"$f":"IFERROR(INDIRECT($C$4&\"!Q13\"),\"\")","v":""},{"$f":"IFERROR(INDIRECT($C$4&\"!R13\"),\"\")","v":""},{"$f":"IFERROR(INDIRECT($C$4&\"!S13\"),\"\")","v":""},{"$f":"IFERROR(INDIRECT($C$4&\"!T13\"),\"\")","v":""},{"$f":"IFERROR(INDIRECT($C$4&\"!U13\"),\"\")","v":""},{"$f":"IFERROR(INDIRECT($C$4&\"!V13\"),\"\")","v":""},{"$f":"IFERROR(INDIRECT($C$4&\"!W13\"),\"\")","v":""},{"$f":"IFERROR(INDIRECT($C$4&\"!X13\"),\"\")","v":""},{"$f":"IFERROR(INDIRECT($C$4&\"!Y13\"),\"\")","v":""},null,12]
[null,null,1,{"$f":"IFERROR(INDIRECT($C$4&\"!B14\"),\"\")","v":""},{"$f":"IFERROR(INDIRECT($C$4&\"!C14\"),\"\")","v":""},{"$f":"IFERROR(INDIRECT($C$4&\"!D14\"),\"\")","v":""},{"$f":"IFERROR(INDIRECT($C$4&\"!E14\"),\"\")","v":""},{"$f":"IFERROR(INDIRECT($C$4&\"!F14\"),\"\")","v":""},{"$f":"IFERROR(INDIRECT($C$4&\"!G14\"),\"\")","v":""},{"$f":"IFERROR(INDIRECT($C$4&\"!H14\"),\"\")","v":""},{"$f":"IFERROR(INDIRECT($C$4&\"!I14\"),\"\")","v":""},{"$f":"IFERROR(INDIRECT($C$4&\"!J14\"),\"\")","v":""},{"$f":"IFERROR(INDIRECT($C$4&\"!K14\"),\"\")","v":""},{"$f":"IFERROR(INDIRECT($C$4&\"!L14\"),\"\")","v":""},{"$f":"IFERROR(INDIRECT($C$4&\"!M14\"),\"\")","v":""},{"$f":"IFERROR(INDIRECT($C$4&\"!N14\"),\"\")","v":""},{"$f":"IFERROR(INDIRECT($C$4&\"!O14\"),\"\")","v":""},{"$f":"IFERROR(INDIRECT($C$4&\"!P14\"),\"\")","v":""},{"$f":"IFERROR(INDIRECT($C$4&\"!Q14\"),\"\")","v":""},{"$f":"IFERROR(INDIRECT($C$4&\"!R14\"),\"\")","v":""},{"$f":"IFERROR(INDIRECT($C$4&\"!S14\"),\"\")","v":""},{"$f":"IFERROR(INDIRECT($C$4&\"!T14\"),\"\")","v":""},{"$f":"IFERROR(INDIRECT($C$4&\"!U14\"),\"\")","v":""},{"$f":"IFERROR(INDIRECT($C$4&\"!V14\"),\"\")","v":""},{"$f":"IFERROR(INDIRECT($C$4&\"!W14\"),\"\")","v":""},{"$f":"IFERROR(INDIRECT($C$4&\"!X14\"),\"\")","v":""},{"$f":"IFERROR(INDIRECT($C$4&\"!Y14\"),\"\")","v":""},null,1]
[null,null,2,{"$f":"IFERROR(INDIRECT($C$4&\"!B15\"),\"\")","v":""},{"$f":"IFERROR(INDIRECT($C$4&\"!C15\"),\"\")","v":""},{"$f":"IFERROR(INDIRECT($C$4&\"!D15\"),\"\")","v":""},{"$f":"IFERROR(INDIRECT($C$4&\"!E15\"),\"\")","v":""},{"$f":"IFERROR(INDIRECT($C$4&\"!F15\"),\"\")","v":""},{"$f":"IFERROR(INDIRECT($C$4&\"!G15\"),\"\")","v":""},{"$f":"IFERROR(INDIRECT($C$4&\"!H15\"),\"\")","v":""},{"$f":"IFERROR(INDIRECT($C$4&\"!I15\"),\"\")","v":""},{"$f":"IFERROR(INDIRECT($C$4&\"!J15\"),\"\")","v":""},{"$f":"IFERROR(INDIRECT($C$4&\"!K15\"),\"\")","v":""},{"$f":"IFERROR(INDIRECT($C$4&\"!L15\"),\"\")","v":""},{"$f":"IFERROR(INDIRECT($C$4&\"!M15\"),\"\")","v":""},{"$f":"IFERROR(INDIRECT($C$4&\"!N15\"),\"\")","v":""},{"$f":"IFERROR(INDIRECT($C$4&\"!O15\"),\"\")","v":""},{"$f":"IFERROR(INDIRECT($C$4&\"!P15\"),\"\")","v":""},{"$f":"IFERROR(INDIRECT($C$4&\"!Q15\"),\"\")","v":""},{"$f":"IFERROR(INDIRECT($C$4&\"!R15\"),\"\")","v":""},{"$f":"IFERROR(INDIRECT($C$4&\"!S15\"),\"\")","v":""},{"$f":"IFERROR(INDIRECT($C$4&\"!T15\"),\"\")","v":""},{"$f":"IFERROR(INDIRECT($C$4&\"!U15\"),\"\")","v":""},{"$f":"IFERROR(INDIRECT($C$4&\"!V15\"),\"\")","v":""},{"$f":"IFERROR(INDIRECT($C$4&\"!W15\"),\"\")","v":""},{"$f":"IFERROR(INDIRECT($C$4&\"!X15\"),\"\")","v":""},{"$f":"IFERROR(INDIRECT($C$4&\"!Y15\"),\"\")","v":""},null,2]
[null,null,3,{"$f":"IFERROR(INDIRECT($C$4&\"!B16\"),\"\")","v":""},{"$f":"IFERROR(INDIRECT($C$4&\"!C16\"),\"\")","v":""},{"$f":"IFERROR(INDIRECT($C$4&\"!D16\"),\"\")","v":""},{"$f":"IFERROR(INDIRECT($C$4&\"!E16\"),\"\")","v":""},{"$f":"IFERROR(INDIRECT($C$4&\"!F16\"),\"\")","v":""},{"$f":"IFERROR(INDIRECT($C$4&\"!G16\"),\"\")","v":""},{"$f":"IFERROR(INDIRECT($C$4&\"!H16\"),\"\")","v":""},{"$f":"IFERROR(INDIRECT($C$4&\"!I16\"),\"\")","v":""},{"$f":"IFERROR(INDIRECT($C$4&\"!J16\"),\"\")","v":""},{"$f":"IFERROR(INDIRECT($C$4&\"!K16\"),\"\")","v":""},{"$f":"IFERROR(INDIRECT($C$4&\"!L16\"),\"\")","v":""},{"$f":"IFERROR(INDIRECT($C$4&\"!M16\"),\"\")","v":""},{"$f":"IFERROR(INDIRECT($C$4&\"!N16\"),\"\")","v":""},{"$f":"IFERROR(INDIRECT($C$4&\"!O16\"),\"\")","v":""},{"$f":"IFERROR(INDIRECT($C$4&\"!P16\"),\"\")","v":""},{"$f":"IFERROR(INDIRECT($C$4&\"!Q16\"),\"\")","v":""},{"$f":"IFERROR(INDIRECT($C$4&\"!R16\"),\"\")","v":""},{"$f":"IFERROR(INDIRECT($C$4&\"!S16\"),\"\")","v":""},{"$f":"IFERROR(INDIRECT($C$4&\"!T16\"),\"\")","v":""},{"$f":"IFERROR(INDIRECT($C$4&\"!U16\"),\"\")","v":""},{"$f":"IFERROR(INDIRECT($C$4&\"!V16\"),\"\")","v":""},{"$f":"IFERROR(INDIRECT($C$4&\"!W16\"),\"\")","v":""},{"$f":"IFERROR(INDIRECT($C$4&\"!X16\"),\"\")","v":""},{"$f":"IFERROR(INDIRECT($C$4&\"!Y16\"),\"\")","v":""},null,3]
[]
[null,null,null,null,null,null,null,null,null,null,null,null,null,null,null,null,null,null,null,"定格条件\n【外気温度】",null,"冷却","35℃",null,"定格条件\n【冷温水温度】",null,"冷却","入口温度","12℃","加熱","入口温度","40℃"]
[null,null,null,null,null,null,null,null,null,null,null,null,null,null,null,null,null,null,null,null,null,"加熱","7℃",null,null,null,null,"出口温度","7℃",null,"出口温度","45℃"]
[]
[null,null,null,"設備導入前",null,null,null,null,null,null,null,null,null,null,null,null,"前1","前2","前3"]
[null,null,null,null,"定格冷却能力",null,null,null,"空冷HPチラーの仕様を入力",null,null,null,null,null,null,"Φco",150,null,null,"kW"]
[null,null,null,null,"定格冷却消費電力",null,null,null,"空冷HPチラーの仕様を入力",null,null,null,null,null,null,"Pco",43,null,null,"kW"]
[null,null,null,null,"定格冷却COP",null,null,null,"自動計算",null,null,null,null,null,null,"σco",{"$f":"IFERROR(Q$29/Q$30,\"\")","v":3.4883720930232558},{"$f":"IFERROR(R$29/R$30,\"\")","v":""},{"$f":"IFERROR(S$29/S$30,\"\")","v":""},"σco＝Φco／Pco"]
[null,null,null,null,"定格加熱能力",null,null,null,"空冷HPチラーの仕様を入力",null,null,null,null,null,null,"Φwo",150,null,null,"kW"]
[null,null,null,null,"定格加熱消費電力",null,null,null,"空冷HPチラーの仕様を入力",null,null,null,null,null,null,"Pwo",41.2,null,null,"kW"]
[null,null,null,null,"定格加熱COP",null,null,null,"自動計算",null,null,null,null,null,null,"σwo",{"$f":"IFERROR(Q$32/Q$33,\"\")","v":3.6407766990291259},{"$f":"IFERROR(R$32/R$33,\"\")","v":""},{"$f":"IFERROR(S$32/S$33,\"\")","v":""},"σwo＝Φwo／Pwo"]
[null,null,null,null,"冷温水ポンプモータ定格出力",null,null,null,"空冷HPチラーの仕様を入力",null,null,null,null,null,null,"Pp2",3.7,null,null,"kW"]
[null,null,null,null,"最大冷却負荷",null,null,null,"設計時の値を入力（不明の際は空白のまま）",null,null,null,null,null,null,"Qc",null,null,null,"kW"]
[null,null,null,null,null,null,null,null,null,null,null,null,null,null,null,null,{"$f":"IF($Q$36=\"\",0.8,IF($Q$36=0,0.8,IF($Q$29<$Q$36,1,$Q$36/$Q$29)))","v":0.8},{"$f":"IF($R$36=\"\",0.8,IF($R$36=0,0.8,IF($R$29<$R$36,1,$R$36/$R$29)))","v":0.8},{"$f":"IF($S$36=\"\",0.8,IF($S$36=0,0.8,IF($S$29<$S$36,1,$S$36/$S$29)))","v":0.8}]
[]
[]
[]
[]
[null,null,null,"設備導入後",null,null,null,null,null,null,null,null,null,null,null,null,"後1","後2","後3"]
[null,null,null,null,"定格冷却能力",null,null,null,"空冷HPチラーの仕様を入力",null,null,null,null,null,null,"Φco",null,null,null,"kW"]
[null,null,null,null,"定格冷却消費電力",null,null,null,"空冷HPチラーの仕様を入力",null,null,null,null,null,null,"Pco",null,null,null,"kW"]
[null,null,null,null,"定格冷却COP",null,null,null,"自動計算",null,null,null,null,null,null,"σco",{"$f":"IFERROR(Q$43/Q$44,\"\")","v":""},{"$f":"IFERROR(R$43/R$44,\"\")","v":""},{"$f":"IFERROR(S$43/S$44,\"\")","v":""},"σco＝Φco／Pco"]
[null,null,null,null,"定格加熱能力",null,null,null,"空冷HPチラーの仕様を入力",null,null,null,null,null,null,"Φwo",null,null,null,"kW"]
[null,null,null,null,"定格加熱消費電力",null,null,null,"空冷HPチラーの仕様を入力",null,null,null,null,null,null,"Pwo",null,null,null,"kW"]
[null,null,null,null,"定格加熱COP",null,null,null,"自動計算",null,null,null,null,null,null,"σwo",{"$f":"IFERROR(Q$46/Q$47,\"\")","v":""},{"$f":"IFERROR(R$46/R$47,\"\")","v":""},{"$f":"IFERROR(S$46/S$47,\"\")","v":""},"σwo＝Φwo／Pwo"]
[null,null,null,null,"冷温水ポンプモータ定格出力",null,null,null,"空冷HPチラーの仕様を入力",null,null,null,null,null,null,"Pp2",null,null,null,"kW"]
[null,null,null,null,"最大冷却負荷",null,null,null,"設計時の値を入力（不明の際は空白のまま）",null,null,null,null,null,null,"Qc",null,null,null,"kW"]
[null,null,null,null,null,null,null,null,null,null,null,null,null,null,null,null,{"$f":"IF($Q$50=\"\",0.8,IF($Q$50=0,0.8,IF($Q$43<$Q$50,1,$Q$50/$Q$43)))","v":0.8},{"$f":"IF($R$50=\"\",0.8,IF($R$50=0,0.8,IF($R$43<$R$50,1,$R$50/$R$43)))","v":0.8},{"$f":"IF($S$50=\"\",0.8,IF($S$50=0,0.8,IF($S$43<$S$50,1,$S$50/$S$43)))","v":0.8}]
[]
[]
[]
[]
[null,null,"設備導入前年間電力使用量[kWh]"]
[null,null,null,"冷却(Ec)",null,"加熱(Ew)",null,"合計(Ecw)"]
[null,null,null,{"$f":"IFERROR($F$74+$M$74+$T$74,\"\")","v":0},null,{"$f":"IFERROR($I$74+$P$74+$W$74,\"\")","v":0},null,{"$f":"IFERROR($J$74+$Q$74+$X$74,\"\")","v":0}]
[]
[null,null,null,"前1",null,null,null,null,null,null,"前2",null,null,null,null,null,null,"前3"]
[null,null,"月    期間","主機(Ecc)","補機(Eaxc)","全体(Ec)","主機(Eww)","補機(Eaxw)","全体(Ew)","月合計","主機(Ecc)","補機(Eaxc)","全体(Ec)","主機(Eww)","補機(Eaxw)","全体(Ew)","月合計","主機(Ecc)","補機(Eaxc)","全体(Ec)","主機(Eww)","補機(Eaxw)","全体(Ew)","月合計"]
[null,null,4,{"$f":"IF($C$7=\"---\",\"\",IFERROR(AX149,\"\"))","v":""},{"$f":"IF($C$7=\"---\",\"\",IFERROR(AY149,\"\"))","v":""},"",{"$f":"IF($C$7=\"---\",\"\",IFERROR(AX170,\"\"))","v":""},{"$f":"IF($C$7=\"---\",\"\",IFERROR(AY170,\"\"))","v":""},{"$f":"IF($C$7=\"---\",\"\",IFERROR(AZ170,\"\"))","v":""},{"$f":"IFERROR(SUM(F62+I62),\"\")","v":""},{"$f":"IF($C$7=\"---\",\"\",IFERROR($BA149,\"\"))","v":""},{"$f":"IF($C$7=\"---\",\"\",IFERROR($BB149,\"\"))","v":""},{"$f":"IF($C$7=\"---\",\"\",IFERROR($BC149,\"\"))","v":""},{"$f":"IF($C$7=\"---\",\"\",IFERROR(BA170,\"\"))","v":""},{"$f":"IF($C$7=\"---\",\"\",IFERROR(BB170,\"\"))","v":""},{"$f":"IF($C$7=\"---\",\"\",IFERROR(BC170,\"\"))","v":""},{"$f":"IFERROR(SUM(M62+P62),\"\")","v":""},{"$f":"IF($C$7=\"---\",\"\",IFERROR($BD149,\"\"))","v":""},{"$f":"IF($C$7=\"---\",\"\",IFERROR($BE149,\"\"))","v":""},{"$f":"IF($C$7=\"---\",\"\",IFERROR($BF149,\"\"))","v":""},{"$f":"IF($C$7=\"---\",\"\",IFERROR(BD170,\"\"))","v":""},{"$f":"IF($C$7=\"---\",\"\",IFERROR(BE170,\"\"))","v":""},{"$f":"IF($C$7=\"---\",\"\",IFERROR(BF170,\"\"))","v":""},{"$f":"IFERROR(SUM(T62+W62),\"\")","v":""}]
[null,null,5,{"$f":"IF($C$7=\"---\",\"\",IFERROR($AX150,\"\"))","v":""},"","",{"$f":"IF($C$7=\"---\",\"\",IFERROR(AX171,\"\"))","v":""},"","",{"$f":"IFERROR(SUM(F63+I63),\"\")","v":""},{"$f":"IF($C$7=\"---\",\"\",IFERROR($BA150,\"\"))","v":""},{"$f":"IF($C$7=\"---\",\"\",IFERROR($BB150,\"\"))","v":""},{"$f":"IF($C$7=\"---\",\"\",IFERROR($BC150,\"\"))","v":""},{"$f":"IF($C$7=\"---\",\"\",IFERROR(BA171,\"\"))","v":""},"","",{"$f":"IFERROR(SUM(M63+P63),\"\")","v":""},{"$f":"IF($C$7=\"---\",\"\",IFERROR($BD150,\"\"))","v":""},{"$f":"IF($C$7=\"---\",\"\",IFERROR($BE150,\"\"))","v":""},{"$f":"IF($C$7=\"---\",\"\",IFERROR($BF150,\"\"))","v":""},{"$f":"IF($C$7=\"---\",\"\",IFERROR(BD171,\"\"))","v":""},"","",{"$f":"IFERROR(SUM(T63+W63),\"\")","v":""}]
[null,null,6,"","","",{"$f":"IF($C$7=\"---\",\"\",IFERROR(AX172,\"\"))","v":""},"","",{"$f":"IFERROR(SUM(F64+I64),\"\")","v":""},"","","",{"$f":"IF($C$7=\"---\",\"\",IFERROR(BA172,\"\"))","v":""},"","","","","","",{"$f":"IF($C$7=\"---\",\"\",IFERROR(BD172,\"\"))","v":""},"","",""]
[null,null,7,"","","",{"$f":"IF($C$7=\"---\",\"\",IFERROR(AX173,\"\"))","v":""},"","","","","","",{"$f":"IF($C$7=\"---\",\"\",IFERROR(BA173,\"\"))","v":""},"","","","","","",{"$f":"IF($C$7=\"---\",\"\",IFERROR(BD173,\"\"))","v":""},"","",""]
[null,null,8,"","","",{"$f":"IF($C$7=\"---\",\"\",IFERROR(AX174,\"\"))","v":""},"","","","","","",{"$f":"IF($C$7=\"---\",\"\",IFERROR(BA174,\"\"))","v":""},"","","","","","",{"$f":"IF($C$7=\"---\",\"\",IFERROR(BD174,\"\"))","v":""},"","",""]
[null,null,9,"","","",{"$f":"IF($C$7=\"---\",\"\",IFERROR(AX175,\"\"))","v":""},"","","","","","",{"$f":"IF($C$7=\"---\",\"\",IFERROR(BA175,\"\"))","v":""},"","","","","","",{"$f":"IF($C$7=\"---\",\"\",IFERROR(BD175,\"\"))","v":""},"","",""]
[null,null,10,"","","",{"$f":"IF($C$7=\"---\",\"\",IFERROR(AX176,\"\"))","v":""},"","","","","","",{"$f":"IF($C$7=\"---\",\"\",IFERROR(BA176,\"\"))","v":""},"","",{"$f":"IFERROR(SUM(M68+P68),\"\")","v":""},"","","",{"$f":"IF($C$7=\"---\",\"\",IFERROR(BD176,\"\"))","v":""},"","",{"$f":"IFERROR(SUM(T68+W68),\"\")","v":""}]
[null,null,11,"","","",{"$f":"IF($C$7=\"---\",\"\",IFERROR(AX177,\"\"))","v":""},"","","","","","",{"$f":"IF($C$7=\"---\",\"\",IFERROR(BA177,\"\"))","v":""},"","","","","","",{"$f":"IF($C$7=\"---\",\"\",IFERROR(BD177,\"\"))","v":""},"","",""]
[null,null,12,"","","",{"$f":"IF($C$7=\"---\",\"\",IFERROR(AX178,\"\"))","v":""},"","",{"$f":"IFERROR(SUM(F70+I70),\"\")","v":""},"","","",{"$f":"IF($C$7=\"---\",\"\",IFERROR(BA178,\"\"))","v":""},"","",{"$f":"IFERROR(SUM(M70+P70),\"\")","v":""},"","","",{"$f":"IF($C$7=\"---\",\"\",IFERROR(BD178,\"\"))","v":""},"","",{"$f":"IFERROR(SUM(T70+W70),\"\")","v":""}]
[null,null,1,"","","",{"$f":"IF($C$7=\"---\",\"\",IFERROR(AX179,\"\"))","v":""},"","","","","","",{"$f":"IF($C$7=\"---\",\"\",IFERROR(BA179,\"\"))","v":""},"","","","","","",{"$f":"IF($C$7=\"---\",\"\",IFERROR(BD179,\"\"))","v":""},"","",""]
[null,null,2,"","","",{"$f":"IF($C$7=\"---\",\"\",IFERROR(AX180,\"\"))","v":""},"","",{"$f":"IFERROR(SUM(F72+I72),\"\")","v":""},"","","",{"$f":"IF($C$7=\"---\",\"\",IFERROR(BA180,\"\"))","v":""},"","",{"$f":"IFERROR(SUM(M72+P72),\"\")","v":""},"","","",{"$f":"IF($C$7=\"---\",\"\",IFERROR(BD180,\"\"))","v":""},"","",""]
[null,null,3,"","","",{"$f":"IF($C$7=\"---\",\"\",IFERROR(AX181,\"\"))","v":""},"","",{"$f":"IFERROR(SUM(F73+I73),\"\")","v":""},"","","",{"$f":"IF($C$7=\"---\",\"\",IFERROR(BA181,\"\"))","v":""},"","","","","","",{"$f":"IF($C$7=\"---\",\"\",IFERROR(BD181,\"\"))","v":""},"","",""]
[null,null,"合計",{"$f":"IFERROR(SUM($D$62:$D$73),\"\")","v":0},{"$f":"IFERROR(SUM($E$62:$E$73),\"\")","v":0},{"$f":"IFERROR(SUM(F$62:F$73),\"\")","v":0},{"$f":"IFERROR(SUM(G$62:G$73),\"\")","v":0},{"$f":"IFERROR(SUM(H$62:H$73),\"\")","v":0},{"$f":"IFERROR(SUM(I$62:I$73),\"\")","v":0},0,0,0,0,0,0,0,0,0,0,{"$f":"IFERROR(SUM(T$62:T$73),\"\")","v":0},0,0,0,0]
[]
[]
[null,null,"設備導入後年間電力使用量[kWh]"]
[null,null,null,"冷却(Ec)",null,"加熱(Ew)",null,"合計(Ecw)"]
[null,null,null,{"$f":"IFERROR($F$95+$M$95+$T$95,\"\")","v":0},null,{"$f":"IFERROR($I$95+$P$95+$W$95,\"\")","v":0},null,{"$f":"IFERROR($J$95+$Q$95+$X$95,\"\")","v":0}]
[]
[null,null,null,"後1",null,null,null,null,null,null,"後2",null,null,null,null,null,null,"後3"]
[null,null,"月    期間","主機(Ecc)","補機(Eaxc)","全体(Ec)","主機(Eww)","補機(Eaxw)","全体(Ew)","月合計","主機(Ecc)","補機(Eaxc)","全体(Ec)","主機(Eww)","補機(Eaxw)","全体(Ew)","月合計","主機(Ecc)","補機(Eaxc)","全体(Ec)","主機(Eww)","補機(Eaxw)","全体(Ew)","月合計"]
[null,null,4,{"$f":"IF($C$7=\"---\",\"\",IFERROR($BH149,\"\"))","v":""},{"$f":"IF($C$7=\"---\",\"\",IFERROR($BI149,\"\"))","v":""},{"$f":"IF($C$7=\"---\",\"\",IFERROR($BJ149,\"\"))","v":""},{"$f":"IF($C$7=\"---\",\"\",IFERROR($BH170,\"\"))","v":""},{"$f":"IF($C$7=\"---\",\"\",IFERROR($BI170,\"\"))","v":""},{"$f":"IF($C$7=\"---\",\"\",IFERROR($BJ170,\"\"))","v":""},{"$f":"IFERROR(SUM(F83+I83),\"\")","v":""},{"$f":"IF($C$7=\"---\",\"\",IFERROR($BK149,\"\"))","v":""},{"$f":"IF($C$7=\"---\",\"\",IFERROR($BL149,\"\"))","v":""},{"$f":"IF($C$7=\"---\",\"\",IFERROR($BM149,\"\"))","v":""},{"$f":"IF($C$7=\"---\",\"\",IFERROR($BK170,\"\"))","v":""},{"$f":"IF($C$7=\"---\",\"\",IFERROR($BL170,\"\"))","v":""},{"$f":"IF($C$7=\"---\",\"\",IFERROR($BM170,\"\"))","v":""},{"$f":"IFERROR(SUM(M83+P83),\"\")","v":""},{"$f":"IF($C$7=\"---\",\"\",IFERROR($BN149,\"\"))","v":""},{"$f":"IF($C$7=\"---\",\"\",IFERROR($BO149,\"\"))","v":""},{"$f":"IF($C$7=\"---\",\"\",IFERROR($BP149,\"\"))","v":""},{"$f":"IF($C$7=\"---\",\"\",IFERROR($BN170,\"\"))","v":""},{"$f":"IF($C$7=\"---\",\"\",IFERROR($BO170,\"\"))","v":""},{"$f":"IF($C$7=\"---\",\"\",IFERROR($BP170,\"\"))","v":""},{"$f":"IFERROR(SUM(T83+W83),\"\")","v":""}]
[null,null,5,{"$f":"IF($C$7=\"---\",\"\",IFERROR($BH150,\"\"))","v":""},{"$f":"IF($C$7=\"---\",\"\",IFERROR($BI150,\"\"))","v":""},{"$f":"IF($C$7=\"---\",\"\",IFERROR($BJ150,\"\"))","v":""},{"$f":"IF($C$7=\"---\",\"\",IFERROR($BH171,\"\"))","v":""},{"$f":"IF($C$7=\"---\",\"\",IFERROR($BI171,\"\"))","v":""},{"$f":"IF($C$7=\"---\",\"\",IFERROR($BJ171,\"\"))","v":""},{"$f":"IFERROR(SUM(F84+I84),\"\")","v":""},{"$f":"IF($C$7=\"---\",\"\",IFERROR($BK150,\"\"))","v":""},{"$f":"IF($C$7=\"---\",\"\",IFERROR($BL150,\"\"))","v":""},{"$f":"IF($C$7=\"---\",\"\",IFERROR($BM150,\"\"))","v":""},{"$f":"IF($C$7=\"---\",\"\",IFERROR($BK171,\"\"))","v":""},{"$f":"IF($C$7=\"---\",\"\",IFERROR($BL171,\"\"))","v":""},{"$f":"IF($C$7=\"---\",\"\",IFERROR($BM171,\"\"))","v":""},{"$f":"IFERROR(SUM(M84+P84),\"\")","v":""},{"$f":"IF($C$7=\"---\",\"\",IFERROR($BN150,\"\"))","v":""},{"$f":"IF($C$7=\"---\",\"\",IFERROR($BO150,\"\"))","v":""},{"$f":"IF($C$7=\"---\",\"\",IFERROR($BP150,\"\"))","v":""},{"$f":"IF($C$7=\"---\",\"\",IFERROR($BN171,\"\"))","v":""},{"$f":"IF($C$7=\"---\",\"\",IFERROR($BO171,\"\"))","v":""},{"$f":"IF($C$7=\"---\",\"\",IFERROR($BP171,\"\"))","v":""},{"$f":"IFERROR(SUM(T84+W84),\"\")","v":""}]
[null,null,6,"","","","","","","","","","","","","",{"$f":"IFERROR(SUM(M85+P85),\"\")","v":""},"","","","","","",""]
[null,null,7,"","","","","","","","","","","","","","","","","","","","",""]
[null,null,8,"","","","","","","","","","","","","","","","","","","","",""]
[null,null,9,"","","","","","","","","","","","","","","","","","","","",""]
[null,null,10,"","","","","","","","","","","","","","","","","","","","",""]
[null,null,11,"","","","","","","","","","","","","","","","","","","","",{"$f":"IFERROR(SUM(T90+W90),\"\")","v":""}]
[null,null,12,"","","","","","",{"$f":"IFERROR(SUM(F91+I91),\"\")","v":""},"","","","","","",{"$f":"IFERROR(SUM(M91+P91),\"\")","v":""},"","","","","","",{"$f":"IFERROR(SUM(T91+W91),\"\")","v":""}]
[null,null,1,"","","","","","","","","","","","","","","","","","","","",""]
[null,null,2,"","","","","","","","","","","","","","","","","","","","",""]
[null,null,3,"","","","","","","","","","","","","","","","","","","","",""]
[null,null,"合計",{"$f":"IFERROR(SUM(D83:D94),\"\")","v":0},{"$f":"IFERROR(SUM(E83:E94),\"\")","v":0},0,0,0,0,0,0,0,0,0,0,0,0,0,0,0,0,0,0,0]
[]
[]
[null,null,"作業表1(青色のセルを「24」、オレンジ色のセルを「19」として抽出）"]
[null,null,null," 時刻"]
[null,null,"月",0,1,2,3,4,5,6,7,8,9,10,11,12,13,14,15,16,17,18,19,20,21,22,23,"月"]
[null,null,4,{"$f":"CELLCOLOR($D$12)","v":-4142},{"$f":"CELLCOLOR($E$12)","v":-4142},{"$f":"CELLCOLOR($F$12)","v":-4142},{"$f":"CELLCOLOR($G$12)","v":-4142},{"$f":"CELLCOLOR($H$12)","v":-4142},{"$f":"CELLCOLOR($I$12)","v":-4142},{"$f":"CELLCOLOR($J$12)","v":-4142},{"$f":"CELLCOLOR($K$12)","v":-4142},{"$f":"CELLCOLOR($L$12)","v":-4142},{"$f":"CELLCOLOR($M$12)","v":-4142},{"$f":"CELLCOLOR($N$12)","v":-4142},{"$f":"CELLCOLOR($O$12)","v":-4142},{"$f":"CELLCOLOR($P$12)","v":-4142},{"$f":"CELLCOLOR($Q$12)","v":-4142},{"$f":"CELLCOLOR($R$12)","v":-4142},{"$f":"CELLCOLOR($S$12)","v":-4142},{"$f":"CELLCOLOR($T$12)","v":-4142},{"$f":"CELLCOLOR($U$12)","v":-4142},{"$f":"CELLCOLOR($V$12)","v":-4142},{"$f":"CELLCOLOR($W$12)","v":-4142},{"$f":"CELLCOLOR($X$12)","v":-4142},{"$f":"CELLCOLOR($Y$12)","v":-4142},{"$f":"CELLCOLOR($Z$12)","v":-4142},{"$f":"CELLCOLOR($AA$12)","v":-4142},4]
[null,null,5,{"$f":"CELLCOLOR($D$13)","v":-4142},{"$f":"CELLCOLOR($E$13)","v":-4142},{"$f":"CELLCOLOR($F$13)","v":-4142},{"$f":"CELLCOLOR($G$13)","v":-4142},{"$f":"CELLCOLOR($H$13)","v":-4142},{"$f":"CELLCOLOR($I$13)","v":-4142},{"$f":"CELLCOLOR($J$13)","v":-4142},{"$f":"CELLCOLOR($K$13)","v":-4142},{"$f":"CELLCOLOR($L$13)","v":-4142},{"$f":"CELLCOLOR($M$13)","v":-4142},{"$f":"CELLCOLOR($N$13)","v":-4142},{"$f":"CELLCOLOR($O$13)","v":-4142},{"$f":"CELLCOLOR($P$13)","v":-4142},{"$f":"CELLCOLOR($Q$13)","v":-4142},{"$f":"CELLCOLOR($R$13)","v":-4142},{"$f":"CELLCOLOR($S$13)","v":-4142},{"$f":"CELLCOLOR($T$13)","v":-4142},{"$f":"CELLCOLOR($U$13)","v":-4142},{"$f":"CELLCOLOR($V$13)","v":-4142},{"$f":"CELLCOLOR($W$13)","v":-4142},{"$f":"CELLCOLOR($X$13)","v":-4142},{"$f":"CELLCOLOR($Y$13)","v":-4142},{"$f":"CELLCOLOR($Z$13)","v":-4142},{"$f":"CELLCOLOR($AA$13)","v":-4142},5]
[null,null,6,{"$f":"CELLCOLOR($D$14)","v":-4142},{"$f":"CELLCOLOR($E$14)","v":-4142},{"$f":"CELLCOLOR($F$14)","v":-4142},{"$f":"CELLCOLOR($G$14)","v":-4142},{"$f":"CELLCOLOR($H$14)","v":-4142},{"$f":"CELLCOLOR($I$14)","v":-4142},{"$f":"CELLCOLOR($J$14)","v":-4142},{"$f":"CELLCOLOR($K$14)","v":-4142},{"$f":"CELLCOLOR($L$14)","v":-4142},{"$f":"CELLCOLOR($M$14)","v":-4142},{"$f":"CELLCOLOR($N$14)","v":-4142},{"$f":"CELLCOLOR($O$14)","v":-4142},{"$f":"CELLCOLOR($P$14)","v":-4142},{"$f":"CELLCOLOR($Q$14)","v":-4142},{"$f":"CELLCOLOR($R$14)","v":-4142},{"$f":"CELLCOLOR($S$14)","v":-4142},{"$f":"CELLCOLOR($T$14)","v":-4142},{"$f":"CELLCOLOR($U$14)","v":-4142},{"$f":"CELLCOLOR($V$14)","v":-4142},{"$f":"CELLCOLOR($W$14)","v":-4142},{"$f":"CELLCOLOR($X$14)","v":-4142},{"$f":"CELLCOLOR($Y$14)","v":-4142},{"$f":"CELLCOLOR($Z$14)","v":-4142},{"$f":"CELLCOLOR($AA$14)","v":-4142},6]
[null,null,7,{"$f":"CELLCOLOR($D$15)","v":-4142},{"$f":"CELLCOLOR($E$15)","v":-4142},{"$f":"CELLCOLOR($F$15)","v":-4142},{"$f":"CELLCOLOR($G$15)","v":-4142},{"$f":"CELLCOLOR($H$15)","v":-4142},{"$f":"CELLCOLOR($I$15)","v":-4142},{"$f":"CELLCOLOR($J$15)","v":-4142},{"$f":"CELLCOLOR($K$15)","v":-4142},{"$f":"CELLCOLOR($L$15)","v":-4142},{"$f":"CELLCOLOR($M$15)","v":-4142},{"$f":"CELLCOLOR($N$15)","v":-4142},{"$f":"CELLCOLOR($O$15)","v":-4142},{"$f":"CELLCOLOR($P$15)","v":-4142},{"$f":"CELLCOLOR($Q$15)","v":-4142},{"$f":"CELLCOLOR($R$15)","v":-4142},{"$f":"CELLCOLOR($S$15)","v":-4142},{"$f":"CELLCOLOR($T$15)","v":-4142},{"$f":"CELLCOLOR($U$15)","v":-4142},{"$f":"CELLCOLOR($V$15)","v":-4142},{"$f":"CELLCOLOR($W$15)","v":-4142},{"$f":"CELLCOLOR($X$15)","v":-4142},{"$f":"CELLCOLOR($Y$15)","v":-4142},{"$f":"CELLCOLOR($Z$15)","v":-4142},{"$f":"CELLCOLOR($AA$15)","v":-4142},7]
[null,null,8,{"$f":"CELLCOLOR($D$16)","v":-4142},{"$f":"CELLCOLOR($E$16)","v":-4142},{"$f":"CELLCOLOR($F$16)","v":-4142},{"$f":"CELLCOLOR($G$16)","v":-4142},{"$f":"CELLCOLOR($H$16)","v":-4142},{"$f":"CELLCOLOR($I$16)","v":-4142},{"$f":"CELLCOLOR($J$16)","v":-4142},{"$f":"CELLCOLOR($K$16)","v":-4142},{"$f":"CELLCOLOR($L$16)","v":-4142},{"$f":"CELLCOLOR($M$16)","v":-4142},{"$f":"CELLCOLOR($N$16)","v":-4142},{"$f":"CELLCOLOR($O$16)","v":-4142},{"$f":"CELLCOLOR($P$16)","v":-4142},{"$f":"CELLCOLOR($Q$16)","v":-4142},{"$f":"CELLCOLOR($R$16)","v":-4142},{"$f":"CELLCOLOR($S$16)","v":-4142},{"$f":"CELLCOLOR($T$16)","v":-4142},{"$f":"CELLCOLOR($U$16)","v":-4142},{"$f":"CELLCOLOR($V$16)","v":-4142},{"$f":"CELLCOLOR($W$16)","v":-4142},{"$f":"CELLCOLOR($X$16)","v":-4142},{"$f":"CELLCOLOR($Y$16)","v":-4142},{"$f":"CELLCOLOR($Z$16)","v":-4142},{"$f":"CELLCOLOR($AA$16)","v":-4142},8]
[null,null,9,{"$f":"CELLCOLOR($D$17)","v":-4142},{"$f":"CELLCOLOR($E$17)","v":-4142},{"$f":"CELLCOLOR($F$17)","v":-4142},{"$f":"CELLCOLOR($G$17)","v":-4142},{"$f":"CELLCOLOR($H$17)","v":-4142},{"$f":"CELLCOLOR($I$17)","v":-4142},{"$f":"CELLCOLOR($J$17)","v":-4142},{"$f":"CELLCOLOR($K$17)","v":-4142},{"$f":"CELLCOLOR($L$17)","v":-4142},{"$f":"CELLCOLOR($M$17)","v":-4142},{"$f":"CELLCOLOR($N$17)","v":-4142},{"$f":"CELLCOLOR($O$17)","v":-4142},{"$f":"CELLCOLOR($P$17)","v":-4142},{"$f":"CELLCOLOR($Q$17)","v":-4142},{"$f":"CELLCOLOR($R$17)","v":-4142},{"$f":"CELLCOLOR($S$17)","v":-4142},{"$f":"CELLCOLOR($T$17)","v":-4142},{"$f":"CELLCOLOR($U$17)","v":-4142},{"$f":"CELLCOLOR($V$17)","v":-4142},{"$f":"CELLCOLOR($W$17)","v":-4142},{"$f":"CELLCOLOR($X$17)","v":-4142},{"$f":"CELLCOLOR($Y$17)","v":-4142},{"$f":"CELLCOLOR($Z$17)","v":-4142},{"$f":"CELLCOLOR($AA$17)","v":-4142},9]
[null,null,10,{"$f":"CELLCOLOR($D$18)","v":-4142},{"$f":"CELLCOLOR($E$18)","v":-4142},{"$f":"CELLCOLOR($F$18)","v":-4142},{"$f":"CELLCOLOR($G$18)","v":-4142},{"$f":"CELLCOLOR($H$18)","v":-4142},{"$f":"CELLCOLOR($I$18)","v":-4142},{"$f":"CELLCOLOR($J$18)","v":-4142},{"$f":"CELLCOLOR($K$18)","v":-4142},{"$f":"CELLCOLOR($L$18)","v":-4142},{"$f":"CELLCOLOR($M$18)","v":-4142},{"$f":"CELLCOLOR($N$18)","v":-4142},{"$f":"CELLCOLOR($O$18)","v":-4142},{"$f":"CELLCOLOR($P$18)","v":-4142},{"$f":"CELLCOLOR($Q$18)","v":-4142},{"$f":"CELLCOLOR($R$18)","v":-4142},{"$f":"CELLCOLOR($S$18)","v":-4142},{"$f":"CELLCOLOR($T$18)","v":-4142},{"$f":"CELLCOLOR($U$18)","v":-4142},{"$f":"CELLCOLOR($V$18)","v":-4142},{"$f":"CELLCOLOR($W$18)","v":-4142},{"$f":"CELLCOLOR($X$18)","v":-4142},{"$f":"CELLCOLOR($Y$18)","v":-4142},{"$f":"CELLCOLOR($Z$18)","v":-4142},{"$f":"CELLCOLOR($AA$18)","v":-4142},10]
[null,null,11,{"$f":"CELLCOLOR($D$19)","v":-4142},{"$f":"CELLCOLOR($E$19)","v":-4142},{"$f":"CELLCOLOR($F$19)","v":-4142},{"$f":"CELLCOLOR($G$19)","v":-4142},{"$f":"CELLCOLOR($H$19)","v":-4142},{"$f":"CELLCOLOR($I$19)","v":-4142},{"$f":"CELLCOLOR($J$19)","v":-4142},{"$f":"CELLCOLOR($K$19)","v":-4142},{"$f":"CELLCOLOR($L$19)","v":-4142},{"$f":"CELLCOLOR($M$19)","v":-4142},{"$f":"CELLCOLOR($N$19)","v":-4142},{"$f":"CELLCOLOR($O$19)","v":-4142},{"$f":"CELLCOLOR($P$19)","v":-4142},{"$f":"CELLCOLOR($Q$19)","v":-4142},{"$f":"CELLCOLOR($R$19)","v":-4142},{"$f":"CELLCOLOR($S$19)","v":-4142},{"$f":"CELLCOLOR($T$19)","v":-4142},{"$f":"CELLCOLOR($U$19)","v":-4142},{"$f":"CELLCOLOR($V$19)","v":-4142},{"$f":"CELLCOLOR($W$19)","v":-4142},{"$f":"CELLCOLOR($X$19)","v":-4142},{"$f":"CELLCOLOR($Y$19)","v":-4142},{"$f":"CELLCOLOR($Z$19)","v":-4142},{"$f":"CELLCOLOR($AA$19)","v":-4142},11]
[null,null,12,{"$f":"CELLCOLOR($D$20)","v":-4142},{"$f":"CELLCOLOR($E$20)","v":-4142},{"$f":"CELLCOLOR($F$20)","v":-4142},{"$f":"CELLCOLOR($G$20)","v":-4142},{"$f":"CELLCOLOR($H$20)","v":-4142},{"$f":"CELLCOLOR($I$20)","v":-4142},{"$f":"CELLCOLOR($J$20)","v":-4142},{"$f":"CELLCOLOR($K$20)","v":-4142},{"$f":"CELLCOLOR($L$20)","v":-4142},{"$f":"CELLCOLOR($M$20)","v":-4142},{"$f":"CELLCOLOR($N$20)","v":-4142},{"$f":"CELLCOLOR($O$20)","v":-4142},{"$f":"CELLCOLOR($P$20)","v":-4142},{"$f":"CELLCOLOR($Q$20)","v":-4142},{"$f":"CELLCOLOR($R$20)","v":-4142},{"$f":"CELLCOLOR($S$20)","v":-4142},{"$f":"CELLCOLOR($T$20)","v":-4142},{"$f":"CELLCOLOR($U$20)","v":-4142},{"$f":"CELLCOLOR($V$20)","v":-4142},{"$f":"CELLCOLOR($W$20)","v":-4142},{"$f":"CELLCOLOR($X$20)","v":-4142},{"$f":"CELLCOLOR($Y$20)","v":-4142},{"$f":"CELLCOLOR($Z$20)","v":-4142},{"$f":"CELLCOLOR($AA$20)","v":-4142},12]
[null,null,1,{"$f":"CELLCOLOR($D$21)","v":-4142},{"$f":"CELLCOLOR($E$21)","v":-4142},{"$f":"CELLCOLOR($F$21)","v":-4142},{"$f":"CELLCOLOR($G$21)","v":-4142},{"$f":"CELLCOLOR($H$21)","v":-4142},{"$f":"CELLCOLOR($I$21)","v":-4142},{"$f":"CELLCOLOR($J$21)","v":-4142},{"$f":"CELLCOLOR($K$21)","v":-4142},{"$f":"CELLCOLOR($L$21)","v":-4142},{"$f":"CELLCOLOR($M$21)","v":-4142},{"$f":"CELLCOLOR($N$21)","v":-4142},{"$f":"CELLCOLOR($O$21)","v":-4142},{"$f":"CELLCOLOR($P$21)","v":-4142},{"$f":"CELLCOLOR($Q$21)","v":-4142},{"$f":"CELLCOLOR($R$21)","v":-4142},{"$f":"CELLCOLOR($S$21)","v":-4142},{"$f":"CELLCOLOR($T$21)","v":-4142},{"$f":"CELLCOLOR($U$21)","v":-4142},{"$f":"CELLCOLOR($V$21)","v":-4142},{"$f":"CELLCOLOR($W$21)","v":-4142},{"$f":"CELLCOLOR($X$21)","v":-4142},{"$f":"CELLCOLOR($Y$21)","v":-4142},{"$f":"CELLCOLOR($Z$21)","v":-4142},{"$f":"CELLCOLOR($AA$21)","v":-4142},1]
[null,null,2,{"$f":"CELLCOLOR($D$22)","v":-4142},{"$f":"CELLCOLOR($E$22)","v":-4142},{"$f":"CELLCOLOR($F$22)","v":-4142},{"$f":"CELLCOLOR($G$22)","v":-4142},{"$f":"CELLCOLOR($H$22)","v":-4142},{"$f":"CELLCOLOR($I$22)","v":-4142},{"$f":"CELLCOLOR($J$22)","v":-4142},{"$f":"CELLCOLOR($K$22)","v":-4142},{"$f":"CELLCOLOR($L$22)","v":-4142},{"$f":"CELLCOLOR($M$22)","v":-4142},{"$f":"CELLCOLOR($N$22)","v":-4142},{"$f":"CELLCOLOR($O$22)","v":-4142},{"$f":"CELLCOLOR($P$22)","v":-4142},{"$f":"CELLCOLOR($Q$22)","v":-4142},{"$f":"CELLCOLOR($R$22)","v":-4142},{"$f":"CELLCOLOR($S$22)","v":-4142},{"$f":"CELLCOLOR($T$22)","v":-4142},{"$f":"CELLCOLOR($U$22)","v":-4142},{"$f":"CELLCOLOR($V$22)","v":-4142},{"$f":"CELLCOLOR($W$22)","v":-4142},{"$f":"CELLCOLOR($X$22)","v":-4142},{"$f":"CELLCOLOR($Y$22)","v":-4142},{"$f":"CELLCOLOR($Z$22)","v":-4142},{"$f":"CELLCOLOR($AA$22)","v":-4142},2]
[null,null,3,{"$f":"CELLCOLOR($D$23)","v":-4142},{"$f":"CELLCOLOR($E$23)","v":-4142},{"$f":"CELLCOLOR($F$23)","v":-4142},{"$f":"CELLCOLOR($G$23)","v":-4142},{"$f":"CELLCOLOR($H$23)","v":-4142},{"$f":"CELLCOLOR($I$23)","v":-4142},{"$f":"CELLCOLOR($J$23)","v":-4142},{"$f":"CELLCOLOR($K$23)","v":-4142},{"$f":"CELLCOLOR($L$23)","v":-4142},{"$f":"CELLCOLOR($M$23)","v":-4142},{"$f":"CELLCOLOR($N$23)","v":-4142},{"$f":"CELLCOLOR($O$23)","v":-4142},{"$f":"CELLCOLOR($P$23)","v":-4142},{"$f":"CELLCOLOR($Q$23)","v":-4142},{"$f":"CELLCOLOR($R$23)","v":-4142},{"$f":"CELLCOLOR($S$23)","v":-4142},{"$f":"CELLCOLOR($T$23)","v":-4142},{"$f":"CELLCOLOR($U$23)","v":-4142},{"$f":"CELLCOLOR($V$23)","v":-4142},{"$f":"CELLCOLOR($W$23)","v":-4142},{"$f":"CELLCOLOR($X$23)","v":-4142},{"$f":"CELLCOLOR($Y$23)","v":-4142},{"$f":"CELLCOLOR($Z$23)","v":-4142},{"$f":"CELLCOLOR($AA$23)","v":-4142},3]
[]
[null,null,"作業表2-1(冷却)",null,"●月▲時の平均気温(四捨五入で表示）"]
[null,null,null," 時刻"]
[null,null,"月",0,1,2,3,4,5,6,7,8,9,10,11,12,13,14,15,16,17,18,19,20,21,22,23,"月"]
[null,null,4,{"$f":"IF($D$101=24,ROUND($D$12,0),\"\")&\"\"","v":""},{"$f":"IF($E$101=24,ROUND($E$12,0),\"\")&\"\"","v":""},{"$f":"IF($F$101=24,ROUND($F$12,0),\"\")&\"\"","v":""},{"$f":"IF($G$101=24,ROUND($G$12,0),\"\")&\"\"","v":""},{"$f":"IF($H$101=24,ROUND($H$12,0),\"\")&\"\"","v":""},{"$f":"IF($I$101=24,ROUND($I$12,0),\"\")&\"\"","v":""},{"$f":"IF($J$101=24,ROUND($J$12,0),\"\")&\"\"","v":""},{"$f":"IF($K$101=24,ROUND($K$12,0),\"\")&\"\"","v":""},{"$f":"IF($L$101=24,ROUND($L$12,0),\"\")&\"\"","v":""},{"$f":"IF($M$101=24,ROUND($M$12,0),\"\")&\"\"","v":""},{"$f":"IF($N$101=24,ROUND($N$12,0),\"\")&\"\"","v":""},{"$f":"IF($O$101=24,ROUND($O$12,0),\"\")&\"\"","v":""},{"$f":"IF($P$101=24,ROUND($P$12,0),\"\")&\"\"","v":""},{"$f":"IF($Q$101=24,ROUND($Q$12,0),\"\")&\"\"","v":""},{"$f":"IF($R$101=24,ROUND($R$12,0),\"\")&\"\"","v":""},{"$f":"IF($S$101=24,ROUND($S$12,0),\"\")&\"\"","v":""},{"$f":"IF($T$101=24,ROUND($T$12,0),\"\")&\"\"","v":""},{"$f":"IF($U$101=24,ROUND($U$12,0),\"\")&\"\"","v":""},{"$f":"IF($V$101=24,ROUND($V$12,0),\"\")&\"\"","v":""},{"$f":"IF($W$101=24,ROUND($W$12,0),\"\")&\"\"","v":""},{"$f":"IF($X$101=24,ROUND($X$12,0),\"\")&\"\"","v":""},{"$f":"IF($Y$101=24,ROUND($Y$12,0),\"\")&\"\"","v":""},{"$f":"IF($Z$101=24,ROUND($Z$12,0),\"\")&\"\"","v":""},{"$f":"IF($AA$101=24,ROUND($AA$12,0),\"\")&\"\"","v":""},4]
[null,null,5,{"$f":"IF($D$102=24,ROUND($D$13,0),\"\")&\"\"","v":""},{"$f":"IF($E$102=24,ROUND($E$13,0),\"\")&\"\"","v":""},{"$f":"IF($F$102=24,ROUND($F$13,0),\"\")&\"\"","v":""},{"$f":"IF($G$102=24,ROUND($G$13,0),\"\")&\"\"","v":""},{"$f":"IF($H$102=24,ROUND($H$13,0),\"\")&\"\"","v":""},{"$f":"IF($I$102=24,ROUND($I$13,0),\"\")&\"\"","v":""},{"$f":"IF($J$102=24,ROUND($J$13,0),\"\")&\"\"","v":""},{"$f":"IF($K$102=24,ROUND($K$13,0),\"\")&\"\"","v":""},{"$f":"IF($L$102=24,ROUND($L$13,0),\"\")&\"\"","v":""},{"$f":"IF($M$102=24,ROUND($M$13,0),\"\")&\"\"","v":""},{"$f":"IF($N$102=24,ROUND($N$13,0),\"\")&\"\"","v":""},{"$f":"IF($O$102=24,ROUND($O$13,0),\"\")&\"\"","v":""},{"$f":"IF($P$102=24,ROUND($P$13,0),\"\")&\"\"","v":""},{"$f":"IF($Q$102=24,ROUND($Q$13,0),\"\")&\"\"","v":""},{"$f":"IF($R$102=24,ROUND($R$13,0),\"\")&\"\"","v":""},{"$f":"IF($S$102=24,ROUND($S$13,0),\"\")&\"\"","v":""},{"$f":"IF($T$102=24,ROUND($T$13,0),\"\")&\"\"","v":""},{"$f":"IF($U$102=24,ROUND($U$13,0),\"\")&\"\"","v":""},{"$f":"IF($V$102=24,ROUND($V$13,0),\"\")&\"\"","v":""},{"$f":"IF($W$102=24,ROUND($W$13,0),\"\")&\"\"","v":""},{"$f":"IF($X$102=24,ROUND($X$13,0),\"\")&\"\"","v":""},{"$f":"IF($Y$102=24,ROUND($Y$13,0),\"\")&\"\"","v":""},{"$f":"IF($Z$102=24,ROUND($Z$13,0),\"\")&\"\"","v":""},{"$f":"IF($AA$102=24,ROUND($AA$13,0),\"\")&\"\"","v":""},5]
[null,null,6,{"$f":"IF($D$103=24,ROUND($D$14,0),\"\")&\"\"","v":""},{"$f":"IF($E$103=24,ROUND($E$14,0),\"\")&\"\"","v":""},{"$f":"IF($F$103=24,ROUND($F$14,0),\"\")&\"\"","v":""},{"$f":"IF($G$103=24,ROUND($G$14,0),\"\")&\"\"","v":""},{"$f":"IF($H$103=24,ROUND($H$14,0),\"\")&\"\"","v":""},{"$f":"IF($I$103=24,ROUND($I$14,0),\"\")&\"\"","v":""},{"$f":"IF($J$103=24,ROUND($J$14,0),\"\")&\"\"","v":""},{"$f":"IF($K$103=24,ROUND($K$14,0),\"\")&\"\"","v":""},{"$f":"IF($L$103=24,ROUND($L$14,0),\"\")&\"\"","v":""},{"$f":"IF($M$103=24,ROUND($M$14,0),\"\")&\"\"","v":""},{"$f":"IF($N$103=24,ROUND($N$14,0),\"\")&\"\"","v":""},{"$f":"IF($O$103=24,ROUND($O$14,0),\"\")&\"\"","v":""},{"$f":"IF($P$103=24,ROUND($P$14,0),\"\")&\"\"","v":""},{"$f":"IF($Q$103=24,ROUND($Q$14,0),\"\")&\"\"","v":""},{"$f":"IF($R$103=24,ROUND($R$14,0),\"\")&\"\"","v":""},{"$f":"IF($S$103=24,ROUND($S$14,0),\"\")&\"\"","v":""},{"$f":"IF($T$103=24,ROUND($T$14,0),\"\")&\"\"","v":""},{"$f":"IF($U$103=24,ROUND($U$14,0),\"\")&\"\"","v":""},{"$f":"IF($V$103=24,ROUND($V$14,0),\"\")&\"\"","v":""},{"$f":"IF($W$103=24,ROUND($W$14,0),\"\")&\"\"","v":""},{"$f":"IF($X$103=24,ROUND($X$14,0),\"\")&\"\"","v":""},{"$f":"IF($Y$103=24,ROUND($Y$14,0),\"\")&\"\"","v":""},{"$f":"IF($Z$103=24,ROUND($Z$14,0),\"\")&\"\"","v":""},{"$f":"IF($AA$103=24,ROUND($AA$14,0),\"\")&\"\"","v":""},6]
[null,null,7,{"$f":"IF($D$104=24,ROUND($D$15,0),\"\")&\"\"","v":""},{"$f":"IF($E$104=24,ROUND($E$15,0),\"\")&\"\"","v":""},{"$f":"IF($F$104=24,ROUND($F$15,0),\"\")&\"\"","v":""},{"$f":"IF($G$104=24,ROUND($G$15,0),\"\")&\"\"","v":""},{"$f":"IF($H$104=24,ROUND($H$15,0),\"\")&\"\"","v":""},{"$f":"IF($I$104=24,ROUND($I$15,0),\"\")&\"\"","v":""},{"$f":"IF($J$104=24,ROUND($J$15,0),\"\")&\"\"","v":""},{"$f":"IF($K$104=24,ROUND($K$15,0),\"\")&\"\"","v":""},{"$f":"IF($L$104=24,ROUND($L$15,0),\"\")&\"\"","v":""},{"$f":"IF($M$104=24,ROUND($M$15,0),\"\")&\"\"","v":""},{"$f":"IF($N$104=24,ROUND($N$15,0),\"\")&\"\"","v":""},{"$f":"IF($O$104=24,ROUND($O$15,0),\"\")&\"\"","v":""},{"$f":"IF($P$104=24,ROUND($P$15,0),\"\")&\"\"","v":""},{"$f":"IF($Q$104=24,ROUND($Q$15,0),\"\")&\"\"","v":""},{"$f":"IF($R$104=24,ROUND($R$15,0),\"\")&\"\"","v":""},{"$f":"IF($S$104=24,ROUND($S$15,0),\"\")&\"\"","v":""},{"$f":"IF($T$104=24,ROUND($T$15,0),\"\")&\"\"","v":""},{"$f":"IF($U$104=24,ROUND($U$15,0),\"\")&\"\"","v":""},{"$f":"IF($V$104=24,ROUND($V$15,0),\"\")&\"\"","v":""},{"$f":"IF($W$104=24,ROUND($W$15,0),\"\")&\"\"","v":""},{"$f":"IF($X$104=24,ROUND($X$15,0),\"\")&\"\"","v":""},{"$f":"IF($Y$104=24,ROUND($Y$15,0),\"\")&\"\"","v":""},{"$f":"IF($Z$104=24,ROUND($Z$15,0),\"\")&\"\"","v":""},{"$f":"IF($AA$104=24,ROUND($AA$15,0),\"\")&\"\"","v":""},7]
[null,null,8,{"$f":"IF($D$105=24,ROUND($D$16,0),\"\")&\"\"","v":""},{"$f":"IF($E$105=24,ROUND($E$16,0),\"\")&\"\"","v":""},{"$f":"IF($F$105=24,ROUND($F$16,0),\"\")&\"\"","v":""},{"$f":"IF($G$105=24,ROUND($G$16,0),\"\")&\"\"","v":""},{"$f":"IF($H$105=24,ROUND($H$16,0),\"\")&\"\"","v":""},{"$f":"IF($I$105=24,ROUND($I$16,0),\"\")&\"\"","v":""},{"$f":"IF($J$105=24,ROUND($J$16,0),\"\")&\"\"","v":""},{"$f":"IF($K$105=24,ROUND($K$16,0),\"\")&\"\"","v":""},{"$f":"IF($L$105=24,ROUND($L$16,0),\"\")&\"\"","v":""},{"$f":"IF($M$105=24,ROUND($M$16,0),\"\")&\"\"","v":""},{"$f":"IF($N$105=24,ROUND($N$16,0),\"\")&\"\"","v":""},{"$f":"IF($O$105=24,ROUND($O$16,0),\"\")&\"\"","v":""},{"$f":"IF($P$105=24,ROUND($P$16,0),\"\")&\"\"","v":""},{"$f":"IF($Q$105=24,ROUND($Q$16,0),\"\")&\"\"","v":""},{"$f":"IF($R$105=24,ROUND($R$16,0),\"\")&\"\"","v":""},{"$f":"IF($S$105=24,ROUND($S$16,0),\"\")&\"\"","v":""},{"$f":"IF($T$105=24,ROUND($T$16,0),\"\")&\"\"","v":""},{"$f":"IF($U$105=24,ROUND($U$16,0),\"\")&\"\"","v":""},{"$f":"IF($V$105=24,ROUND($V$16,0),\"\")&\"\"","v":""},{"$f":"IF($W$105=24,ROUND($W$16,0),\"\")&\"\"","v":""},{"$f":"IF($X$105=24,ROUND($X$16,0),\"\")&\"\"","v":""},{"$f":"IF($Y$105=24,ROUND($Y$16,0),\"\")&\"\"","v":""},{"$f":"IF($Z$105=24,ROUND($Z$16,0),\"\")&\"\"","v":""},{"$f":"IF($AA$105=24,ROUND($AA$16,0),\"\")&\"\"","v":""},8]
[null,null,9,{"$f":"IF($D$106=24,ROUND($D$17,0),\"\")&\"\"","v":""},{"$f":"IF($E$106=24,ROUND($E$17,0),\"\")&\"\"","v":""},{"$f":"IF($F$106=24,ROUND($F$17,0),\"\")&\"\"","v":""},{"$f":"IF($G$106=24,ROUND($G$17,0),\"\")&\"\"","v":""},{"$f":"IF($H$106=24,ROUND($H$17,0),\"\")&\"\"","v":""},{"$f":"IF($I$106=24,ROUND($I$17,0),\"\")&\"\"","v":""},{"$f":"IF($J$106=24,ROUND($J$17,0),\"\")&\"\"","v":""},{"$f":"IF($K$106=24,ROUND($K$17,0),\"\")&\"\"","v":""},{"$f":"IF($L$106=24,ROUND($L$17,0),\"\")&\"\"","v":""},{"$f":"IF($M$106=24,ROUND($M$17,0),\"\")&\"\"","v":""},{"$f":"IF($N$106=24,ROUND($N$17,0),\"\")&\"\"","v":""},{"$f":"IF($O$106=24,ROUND($O$17,0),\"\")&\"\"","v":""},{"$f":"IF($P$106=24,ROUND($P$17,0),\"\")&\"\"","v":""},{"$f":"IF($Q$106=24,ROUND($Q$17,0),\"\")&\"\"","v":""},{"$f":"IF($R$106=24,ROUND($R$17,0),\"\")&\"\"","v":""},{"$f":"IF($S$106=24,ROUND($S$17,0),\"\")&\"\"","v":""},{"$f":"IF($T$106=24,ROUND($T$17,0),\"\")&\"\"","v":""},{"$f":"IF($U$106=24,ROUND($U$17,0),\"\")&\"\"","v":""},{"$f":"IF($V$106=24,ROUND($V$17,0),\"\")&\"\"","v":""},{"$f":"IF($W$106=24,ROUND($W$17,0),\"\")&\"\"","v":""},{"$f":"IF($X$106=24,ROUND($X$17,0),\"\")&\"\"","v":""},{"$f":"IF($Y$106=24,ROUND($Y$17,0),\"\")&\"\"","v":""},{"$f":"IF($Z$106=24,ROUND($Z$17,0),\"\")&\"\"","v":""},{"$f":"IF($AA$106=24,ROUND($AA$17,0),\"\")&\"\"","v":""},9]
[null,null,10,{"$f":"IF($D$107=24,ROUND($D$18,0),\"\")&\"\"","v":""},{"$f":"IF($E$107=24,ROUND($E$18,0),\"\")&\"\"","v":""},{"$f":"IF($F$107=24,ROUND($F$18,0),\"\")&\"\"","v":""},{"$f":"IF($G$107=24,ROUND($G$18,0),\"\")&\"\"","v":""},{"$f":"IF($H$107=24,ROUND($H$18,0),\"\")&\"\"","v":""},{"$f":"IF($I$107=24,ROUND($I$18,0),\"\")&\"\"","v":""},{"$f":"IF($J$107=24,ROUND($J$18,0),\"\")&\"\"","v":""},{"$f":"IF($K$107=24,ROUND($K$18,0),\"\")&\"\"","v":""},{"$f":"IF($L$107=24,ROUND($L$18,0),\"\")&\"\"","v":""},{"$f":"IF($M$107=24,ROUND($M$18,0),\"\")&\"\"","v":""},{"$f":"IF($N$107=24,ROUND($N$18,0),\"\")&\"\"","v":""},{"$f":"IF($O$107=24,ROUND($O$18,0),\"\")&\"\"","v":""},{"$f":"IF($P$107=24,ROUND($P$18,0),\"\")&\"\"","v":""},{"$f":"IF($Q$107=24,ROUND($Q$18,0),\"\")&\"\"","v":""},{"$f":"IF($R$107=24,ROUND($R$18,0),\"\")&\"\"","v":""},{"$f":"IF($S$107=24,ROUND($S$18,0),\"\")&\"\"","v":""},{"$f":"IF($T$107=24,ROUND($T$18,0),\"\")&\"\"","v":""},{"$f":"IF($U$107=24,ROUND($U$18,0),\"\")&\"\"","v":""},{"$f":"IF($V$107=24,ROUND($V$18,0),\"\")&\"\"","v":""},{"$f":"IF($W$107=24,ROUND($W$18,0),\"\")&\"\"","v":""},{"$f":"IF($X$107=24,ROUND($X$18,0),\"\")&\"\"","v":""},{"$f":"IF($Y$107=24,ROUND($Y$18,0),\"\")&\"\"","v":""},{"$f":"IF($Z$107=24,ROUND($Z$18,0),\"\")&\"\"","v":""},{"$f":"IF($AA$107=24,ROUND($AA$18,0),\"\")&\"\"","v":""},10]
[null,null,11,{"$f":"IF($D$108=24,ROUND($D$19,0),\"\")&\"\"","v":""},{"$f":"IF($E$108=24,ROUND($E$19,0),\"\")&\"\"","v":""},{"$f":"IF($F$108=24,ROUND($F$19,0),\"\")&\"\"","v":""},{"$f":"IF($G$108=24,ROUND($G$19,0),\"\")&\"\"","v":""},{"$f":"IF($H$108=24,ROUND($H$19,0),\"\")&\"\"","v":""},{"$f":"IF($I$108=24,ROUND($I$19,0),\"\")&\"\"","v":""},{"$f":"IF($J$108=24,ROUND($J$19,0),\"\")&\"\"","v":""},{"$f":"IF($K$108=24,ROUND($K$19,0),\"\")&\"\"","v":""},{"$f":"IF($L$108=24,ROUND($L$19,0),\"\")&\"\"","v":""},{"$f":"IF($M$108=24,ROUND($M$19,0),\"\")&\"\"","v":""},{"$f":"IF($N$108=24,ROUND($N$19,0),\"\")&\"\"","v":""},{"$f":"IF($O$108=24,ROUND($O$19,0),\"\")&\"\"","v":""},{"$f":"IF($P$108=24,ROUND($P$19,0),\"\")&\"\"","v":""},{"$f":"IF($Q$108=24,ROUND($Q$19,0),\"\")&\"\"","v":""},{"$f":"IF($R$108=24,ROUND($R$19,0),\"\")&\"\"","v":""},{"$f":"IF($S$108=24,ROUND($S$19,0),\"\")&\"\"","v":""},{"$f":"IF($T$108=24,ROUND($T$19,0),\"\")&\"\"","v":""},{"$f":"IF($U$108=24,ROUND($U$19,0),\"\")&\"\"","v":""},{"$f":"IF($V$108=24,ROUND($V$19,0),\"\")&\"\"","v":""},{"$f":"IF($W$108=24,ROUND($W$19,0),\"\")&\"\"","v":""},{"$f":"IF($X$108=24,ROUND($X$19,0),\"\")&\"\"","v":""},{"$f":"IF($Y$108=24,ROUND($Y$19,0),\"\")&\"\"","v":""},{"$f":"IF($Z$108=24,ROUND($Z$19,0),\"\")&\"\"","v":""},{"$f":"IF($AA$108=24,ROUND($AA$19,0),\"\")&\"\"","v":""},11]
[null,null,12,{"$f":"IF($D$109=24,ROUND($D$20,0),\"\")&\"\"","v":""},{"$f":"IF($E$109=24,ROUND($E$20,0),\"\")&\"\"","v":""},{"$f":"IF($F$109=24,ROUND($F$20,0),\"\")&\"\"","v":""},{"$f":"IF($G$109=24,ROUND($G$20,0),\"\")&\"\"","v":""},{"$f":"IF($H$109=24,ROUND($H$20,0),\"\")&\"\"","v":""},{"$f":"IF($I$109=24,ROUND($I$20,0),\"\")&\"\"","v":""},{"$f":"IF($J$109=24,ROUND($J$20,0),\"\")&\"\"","v":""},{"$f":"IF($K$109=24,ROUND($K$20,0),\"\")&\"\"","v":""},{"$f":"IF($L$109=24,ROUND($L$20,0),\"\")&\"\"","v":""},{"$f":"IF($M$109=24,ROUND($M$20,0),\"\")&\"\"","v":""},{"$f":"IF($N$109=24,ROUND($N$20,0),\"\")&\"\"","v":""},{"$f":"IF($O$109=24,ROUND($O$20,0),\"\")&\"\"","v":""},{"$f":"IF($P$109=24,ROUND($P$20,0),\"\")&\"\"","v":""},{"$f":"IF($Q$109=24,ROUND($Q$20,0),\"\")&\"\"","v":""},{"$f":"IF($R$109=24,ROUND($R$20,0),\"\")&\"\"","v":""},{"$f":"IF($S$109=24,ROUND($S$20,0),\"\")&\"\"","v":""},{"$f":"IF($T$109=24,ROUND($T$20,0),\"\")&\"\"","v":""},{"$f":"IF($U$109=24,ROUND($U$20,0),\"\")&\"\"","v":""},{"$f":"IF($V$109=24,ROUND($V$20,0),\"\")&\"\"","v":""},{"$f":"IF($W$109=24,ROUND($W$20,0),\"\")&\"\"","v":""},{"$f":"IF($X$109=24,ROUND($X$20,0),\"\")&\"\"","v":""},{"$f":"IF($Y$109=24,ROUND($Y$20,0),\"\")&\"\"","v":""},{"$f":"IF($Z$109=24,ROUND($Z$20,0),\"\")&\"\"","v":""},{"$f":"IF($AA$109=24,ROUND($AA$20,0),\"\")&\"\"","v":""},12]
[null,null,1,{"$f":"IF($D$110=24,ROUND($D$21,0),\"\")&\"\"","v":""},{"$f":"IF($E$110=24,ROUND($E$21,0),\"\")&\"\"","v":""},{"$f":"IF($F$110=24,ROUND($F$21,0),\"\")&\"\"","v":""},{"$f":"IF($G$110=24,ROUND($G$21,0),\"\")&\"\"","v":""},{"$f":"IF($H$110=24,ROUND($H$21,0),\"\")&\"\"","v":""},{"$f":"IF($I$110=24,ROUND($I$21,0),\"\")&\"\"","v":""},{"$f":"IF($J$110=24,ROUND($J$21,0),\"\")&\"\"","v":""},{"$f":"IF($K$110=24,ROUND($K$21,0),\"\")&\"\"","v":""},{"$f":"IF($L$110=24,ROUND($L$21,0),\"\")&\"\"","v":""},{"$f":"IF($M$110=24,ROUND($M$21,0),\"\")&\"\"","v":""},{"$f":"IF($N$110=24,ROUND($N$21,0),\"\")&\"\"","v":""},{"$f":"IF($O$110=24,ROUND($O$21,0),\"\")&\"\"","v":""},{"$f":"IF($P$110=24,ROUND($P$21,0),\"\")&\"\"","v":""},{"$f":"IF($Q$110=24,ROUND($Q$21,0),\"\")&\"\"","v":""},{"$f":"IF($R$110=24,ROUND($R$21,0),\"\")&\"\"","v":""},{"$f":"IF($S$110=24,ROUND($S$21,0),\"\")&\"\"","v":""},{"$f":"IF($T$110=24,ROUND($T$21,0),\"\")&\"\"","v":""},{"$f":"IF($U$110=24,ROUND($U$21,0),\"\")&\"\"","v":""},{"$f":"IF($V$110=24,ROUND($V$21,0),\"\")&\"\"","v":""},{"$f":"IF($W$110=24,ROUND($W$21,0),\"\")&\"\"","v":""},{"$f":"IF($X$110=24,ROUND($X$21,0),\"\")&\"\"","v":""},{"$f":"IF($Y$110=24,ROUND($Y$21,0),\"\")&\"\"","v":""},{"$f":"IF($Z$110=24,ROUND($Z$21,0),\"\")&\"\"","v":""},{"$f":"IF($AA$110=24,ROUND($AA$21,0),\"\")&\"\"","v":""},1]
[null,null,2,{"$f":"IF($D$111=24,ROUND($D$22,0),\"\")&\"\"","v":""},{"$f":"IF($E$111=24,ROUND($E$22,0),\"\")&\"\"","v":""},{"$f":"IF($F$111=24,ROUND($F$22,0),\"\")&\"\"","v":""},{"$f":"IF($G$111=24,ROUND($G$22,0),\"\")&\"\"","v":""},{"$f":"IF($H$111=24,ROUND($H$22,0),\"\")&\"\"","v":""},{"$f":"IF($I$111=24,ROUND($I$22,0),\"\")&\"\"","v":""},{"$f":"IF($J$111=24,ROUND($J$22,0),\"\")&\"\"","v":""},{"$f":"IF($K$111=24,ROUND($K$22,0),\"\")&\"\"","v":""},{"$f":"IF($L$111=24,ROUND($L$22,0),\"\")&\"\"","v":""},{"$f":"IF($M$111=24,ROUND($M$22,0),\"\")&\"\"","v":""},{"$f":"IF($N$111=24,ROUND($N$22,0),\"\")&\"\"","v":""},{"$f":"IF($O$111=24,ROUND($O$22,0),\"\")&\"\"","v":""},{"$f":"IF($P$111=24,ROUND($P$22,0),\"\")&\"\"","v":""},{"$f":"IF($Q$111=24,ROUND($Q$22,0),\"\")&\"\"","v":""},{"$f":"IF($R$111=24,ROUND($R$22,0),\"\")&\"\"","v":""},{"$f":"IF($S$111=24,ROUND($S$22,0),\"\")&\"\"","v":""},{"$f":"IF($T$111=24,ROUND($T$22,0),\"\")&\"\"","v":""},{"$f":"IF($U$111=24,ROUND($U$22,0),\"\")&\"\"","v":""},{"$f":"IF($V$111=24,ROUND($V$22,0),\"\")&\"\"","v":""},{"$f":"IF($W$111=24,ROUND($W$22,0),\"\")&\"\"","v":""},{"$f":"IF($X$111=24,ROUND($X$22,0),\"\")&\"\"","v":""},{"$f":"IF($Y$111=24,ROUND($Y$22,0),\"\")&\"\"","v":""},{"$f":"IF($Z$111=24,ROUND($Z$22,0),\"\")&\"\"","v":""},{"$f":"IF($AA$111=24,ROUND($AA$22,0),\"\")&\"\"","v":""},2]
[null,null,3,{"$f":"IF($D$112=24,ROUND($D$23,0),\"\")&\"\"","v":""},{"$f":"IF($E$112=24,ROUND($E$23,0),\"\")&\"\"","v":""},{"$f":"IF($F$112=24,ROUND($F$23,0),\"\")&\"\"","v":""},{"$f":"IF($G$112=24,ROUND($G$23,0),\"\")&\"\"","v":""},{"$f":"IF($H$112=24,ROUND($H$23,0),\"\")&\"\"","v":""},{"$f":"IF($I$112=24,ROUND($I$23,0),\"\")&\"\"","v":""},{"$f":"IF($J$112=24,ROUND($J$23,0),\"\")&\"\"","v":""},{"$f":"IF($K$112=24,ROUND($K$23,0),\"\")&\"\"","v":""},{"$f":"IF($L$112=24,ROUND($L$23,0),\"\")&\"\"","v":""},{"$f":"IF($M$112=24,ROUND($M$23,0),\"\")&\"\"","v":""},{"$f":"IF($N$112=24,ROUND($N$23,0),\"\")&\"\"","v":""},{"$f":"IF($O$112=24,ROUND($O$23,0),\"\")&\"\"","v":""},{"$f":"IF($P$112=24,ROUND($P$23,0),\"\")&\"\"","v":""},{"$f":"IF($Q$112=24,ROUND($Q$23,0),\"\")&\"\"","v":""},{"$f":"IF($R$112=24,ROUND($R$23,0),\"\")&\"\"","v":""},{"$f":"IF($S$112=24,ROUND($S$23,0),\"\")&\"\"","v":""},{"$f":"IF($T$112=24,ROUND($T$23,0),\"\")&\"\"","v":""},{"$f":"IF($U$112=24,ROUND($U$23,0),\"\")&\"\"","v":""},{"$f":"IF($V$112=24,ROUND($V$23,0),\"\")&\"\"","v":""},{"$f":"IF($W$112=24,ROUND($W$23,0),\"\")&\"\"","v":""},{"$f":"IF($X$112=24,ROUND($X$23,0),\"\")&\"\"","v":""},{"$f":"IF($Y$112=24,ROUND($Y$23,0),\"\")&\"\"","v":""},{"$f":"IF($Z$112=24,ROUND($Z$23,0),\"\")&\"\"","v":""},{"$f":"IF($AA$112=24,ROUND($AA$23,0),\"\")&\"\"","v":""},3]
[]
[null,null,"作業表2-2(加熱)",null,"●月▲時の平均気温(四捨五入で表示）"]
[null,null,null," 時刻"]
[null,null,"月",0,1,2,3,4,5,6,7,8,9,10,11,12,13,14,15,16,17,18,19,20,21,22,23,"月"]
[null,null,4,{"$f":"IF($D$101=19,ROUND($D$12,0),\"\")&\"\"","v":""},{"$f":"IF($E$101=19,ROUND($E$12,0),\"\")&\"\"","v":""},{"$f":"IF($F$101=19,ROUND($F$12,0),\"\")&\"\"","v":""},{"$f":"IF($G$101=19,ROUND($G$12,0),\"\")&\"\"","v":""},{"$f":"IF($H$101=19,ROUND($H$12,0),\"\")&\"\"","v":""},{"$f":"IF($I$101=19,ROUND($I$12,0),\"\")&\"\"","v":""},{"$f":"IF($J$101=19,ROUND($J$12,0),\"\")&\"\"","v":""},{"$f":"IF($K$101=19,ROUND($K$12,0),\"\")&\"\"","v":""},{"$f":"IF($L$101=19,ROUND($L$12,0),\"\")&\"\"","v":""},{"$f":"IF($M$101=19,ROUND($M$12,0),\"\")&\"\"","v":""},{"$f":"IF($N$101=19,ROUND($N$12,0),\"\")&\"\"","v":""},{"$f":"IF($O$101=19,ROUND($O$12,0),\"\")&\"\"","v":""},{"$f":"IF($P$101=19,ROUND($P$12,0),\"\")&\"\"","v":""},{"$f":"IF($Q$101=19,ROUND($Q$12,0),\"\")&\"\"","v":""},{"$f":"IF($R$101=19,ROUND($R$12,0),\"\")&\"\"","v":""},{"$f":"IF($S$101=19,ROUND($S$12,0),\"\")&\"\"","v":""},{"$f":"IF($T$101=19,ROUND($T$12,0),\"\")&\"\"","v":""},{"$f":"IF($U$101=19,ROUND($U$12,0),\"\")&\"\"","v":""},{"$f":"IF($V$101=19,ROUND($V$12,0),\"\")&\"\"","v":""},{"$f":"IF($W$101=19,ROUND($W$12,0),\"\")&\"\"","v":""},{"$f":"IF($X$101=19,ROUND($X$12,0),\"\")&\"\"","v":""},{"$f":"IF($Y$101=19,ROUND($Y$12,0),\"\")&\"\"","v":""},{"$f":"IF($Z$101=19,ROUND($Z$12,0),\"\")&\"\"","v":""},{"$f":"IF($AA$101=19,ROUND($AA$12,0),\"\")&\"\"","v":""},4]
[null,null,5,{"$f":"IF($D$102=19,ROUND($D$13,0),\"\")&\"\"","v":""},{"$f":"IF($E$102=19,ROUND($E$13,0),\"\")&\"\"","v":""},{"$f":"IF($F$102=19,ROUND($F$13,0),\"\")&\"\"","v":""},{"$f":"IF($G$102=19,ROUND($G$13,0),\"\")&\"\"","v":""},{"$f":"IF($H$102=19,ROUND($H$13,0),\"\")&\"\"","v":""},{"$f":"IF($I$102=19,ROUND($I$13,0),\"\")&\"\"","v":""},{"$f":"IF($J$102=19,ROUND($J$13,0),\"\")&\"\"","v":""},{"$f":"IF($K$102=19,ROUND($K$13,0),\"\")&\"\"","v":""},{"$f":"IF($L$102=19,ROUND($L$13,0),\"\")&\"\"","v":""},{"$f":"IF($M$102=19,ROUND($M$13,0),\"\")&\"\"","v":""},{"$f":"IF($N$102=19,ROUND($N$13,0),\"\")&\"\"","v":""},{"$f":"IF($O$102=19,ROUND($O$13,0),\"\")&\"\"","v":""},{"$f":"IF($P$102=19,ROUND($P$13,0),\"\")&\"\"","v":""},{"$f":"IF($Q$102=19,ROUND($Q$13,0),\"\")&\"\"","v":""},{"$f":"IF($R$102=19,ROUND($R$13,0),\"\")&\"\"","v":""},{"$f":"IF($S$102=19,ROUND($S$13,0),\"\")&\"\"","v":""},{"$f":"IF($T$102=19,ROUND($T$13,0),\"\")&\"\"","v":""},{"$f":"IF($U$102=19,ROUND($U$13,0),\"\")&\"\"","v":""},{"$f":"IF($V$102=19,ROUND($V$13,0),\"\")&\"\"","v":""},{"$f":"IF($W$102=19,ROUND($W$13,0),\"\")&\"\"","v":""},{"$f":"IF($X$102=19,ROUND($X$13,0),\"\")&\"\"","v":""},{"$f":"IF($Y$102=19,ROUND($Y$13,0),\"\")&\"\"","v":""},{"$f":"IF($Z$102=19,ROUND($Z$13,0),\"\")&\"\"","v":""},{"$f":"IF($AA$102=19,ROUND($AA$13,0),\"\")&\"\"","v":""},5]
[null,null,6,{"$f":"IF($D$103=19,ROUND($D$14,0),\"\")&\"\"","v":""},{"$f":"IF($E$103=19,ROUND($E$14,0),\"\")&\"\"","v":""},{"$f":"IF($F$103=19,ROUND($F$14,0),\"\")&\"\"","v":""},{"$f":"IF($G$103=19,ROUND($G$14,0),\"\")&\"\"","v":""},{"$f":"IF($H$103=19,ROUND($H$14,0),\"\")&\"\"","v":""},{"$f":"IF($I$103=19,ROUND($I$14,0),\"\")&\"\"","v":""},{"$f":"IF($J$103=19,ROUND($J$14,0),\"\")&\"\"","v":""},{"$f":"IF($K$103=19,ROUND($K$14,0),\"\")&\"\"","v":""},{"$f":"IF($L$103=19,ROUND($L$14,0),\"\")&\"\"","v":""},{"$f":"IF($M$103=19,ROUND($M$14,0),\"\")&\"\"","v":""},{"$f":"IF($N$103=19,ROUND($N$14,0),\"\")&\"\"","v":""},{"$f":"IF($O$103=19,ROUND($O$14,0),\"\")&\"\"","v":""},{"$f":"IF($P$103=19,ROUND($P$14,0),\"\")&\"\"","v":""},{"$f":"IF($Q$103=19,ROUND($Q$14,0),\"\")&\"\"","v":""},{"$f":"IF($R$103=19,ROUND($R$14,0),\"\")&\"\"","v":""},{"$f":"IF($S$103=19,ROUND($S$14,0),\"\")&\"\"","v":""},{"$f":"IF($T$103=19,ROUND($T$14,0),\"\")&\"\"","v":""},{"$f":"IF($U$103=19,ROUND($U$14,0),\"\")&\"\"","v":""},{"$f":"IF($V$103=19,ROUND($V$14,0),\"\")&\"\"","v":""},{"$f":"IF($W$103=19,ROUND($W$14,0),\"\")&\"\"","v":""},{"$f":"IF($X$103=19,ROUND($X$14,0),\"\")&\"\"","v":""},{"$f":"IF($Y$103=19,ROUND($Y$14,0),\"\")&\"\"","v":""},{"$f":"IF($Z$103=19,ROUND($Z$14,0),\"\")&\"\"","v":""},{"$f":"IF($AA$103=19,ROUND($AA$14,0),\"\")&\"\"","v":""},6]
[null,null,7,{"$f":"IF($D$104=19,ROUND($D$15,0),\"\")&\"\"","v":""},{"$f":"IF($E$104=19,ROUND($E$15,0),\"\")&\"\"","v":""},{"$f":"IF($F$104=19,ROUND($F$15,0),\"\")&\"\"","v":""},{"$f":"IF($G$104=19,ROUND($G$15,0),\"\")&\"\"","v":""},{"$f":"IF($H$104=19,ROUND($H$15,0),\"\")&\"\"","v":""},{"$f":"IF($I$104=19,ROUND($I$15,0),\"\")&\"\"","v":""},{"$f":"IF($J$104=19,ROUND($J$15,0),\"\")&\"\"","v":""},{"$f":"IF($K$104=19,ROUND($K$15,0),\"\")&\"\"","v":""},{"$f":"IF($L$104=19,ROUND($L$15,0),\"\")&\"\"","v":""},{"$f":"IF($M$104=19,ROUND($M$15,0),\"\")&\"\"","v":""},{"$f":"IF($N$104=19,ROUND($N$15,0),\"\")&\"\"","v":""},{"$f":"IF($O$104=19,ROUND($O$15,0),\"\")&\"\"","v":""},{"$f":"IF($P$104=19,ROUND($P$15,0),\"\")&\"\"","v":""},{"$f":"IF($Q$104=19,ROUND($Q$15,0),\"\")&\"\"","v":""},{"$f":"IF($R$104=19,ROUND($R$15,0),\"\")&\"\"","v":""},{"$f":"IF($S$104=19,ROUND($S$15,0),\"\")&\"\"","v":""},{"$f":"IF($T$104=19,ROUND($T$15,0),\"\")&\"\"","v":""},{"$f":"IF($U$104=19,ROUND($U$15,0),\"\")&\"\"","v":""},{"$f":"IF($V$104=19,ROUND($V$15,0),\"\")&\"\"","v":""},{"$f":"IF($W$104=19,ROUND($W$15,0),\"\")&\"\"","v":""},{"$f":"IF($X$104=19,ROUND($X$15,0),\"\")&\"\"","v":""},{"$f":"IF($Y$104=19,ROUND($Y$15,0),\"\")&\"\"","v":""},{"$f":"IF($Z$104=19,ROUND($Z$15,0),\"\")&\"\"","v":""},{"$f":"IF($AA$104=19,ROUND($AA$15,0),\"\")&\"\"","v":""},7]
[null,null,8,{"$f":"IF($D$105=19,ROUND($D$16,0),\"\")&\"\"","v":""},{"$f":"IF($E$105=19,ROUND($E$16,0),\"\")&\"\"","v":""},{"$f":"IF($F$105=19,ROUND($F$16,0),\"\")&\"\"","v":""},{"$f":"IF($G$105=19,ROUND($G$16,0),\"\")&\"\"","v":""},{"$f":"IF($H$105=19,ROUND($H$16,0),\"\")&\"\"","v":""},{"$f":"IF($I$105=19,ROUND($I$16,0),\"\")&\"\"","v":""},{"$f":"IF($J$105=19,ROUND($J$16,0),\"\")&\"\"","v":""},{"$f":"IF($K$105=19,ROUND($K$16,0),\"\")&\"\"","v":""},{"$f":"IF($L$105=19,ROUND($L$16,0),\"\")&\"\"","v":""},{"$f":"IF($M$105=19,ROUND($M$16,0),\"\")&\"\"","v":""},{"$f":"IF($N$105=19,ROUND($N$16,0),\"\")&\"\"","v":""},{"$f":"IF($O$105=19,ROUND($O$16,0),\"\")&\"\"","v":""},{"$f":"IF($P$105=19,ROUND($P$16,0),\"\")&\"\"","v":""},{"$f":"IF($Q$105=19,ROUND($Q$16,0),\"\")&\"\"","v":""},{"$f":"IF($R$105=19,ROUND($R$16,0),\"\")&\"\"","v":""},{"$f":"IF($S$105=19,ROUND($S$16,0),\"\")&\"\"","v":""},{"$f":"IF($T$105=19,ROUND($T$16,0),\"\")&\"\"","v":""},{"$f":"IF($U$105=19,ROUND($U$16,0),\"\")&\"\"","v":""},{"$f":"IF($V$105=19,ROUND($V$16,0),\"\")&\"\"","v":""},{"$f":"IF($W$105=19,ROUND($W$16,0),\"\")&\"\"","v":""},{"$f":"IF($X$105=19,ROUND($X$16,0),\"\")&\"\"","v":""},{"$f":"IF($Y$105=19,ROUND($Y$16,0),\"\")&\"\"","v":""},{"$f":"IF($Z$105=19,ROUND($Z$16,0),\"\")&\"\"","v":""},{"$f":"IF($AA$105=19,ROUND($AA$16,0),\"\")&\"\"","v":""},8]
[null,null,9,{"$f":"IF($D$106=19,ROUND($D$17,0),\"\")&\"\"","v":""},{"$f":"IF($E$106=19,ROUND($E$17,0),\"\")&\"\"","v":""},{"$f":"IF($F$106=19,ROUND($F$17,0),\"\")&\"\"","v":""},{"$f":"IF($G$106=19,ROUND($G$17,0),\"\")&\"\"","v":""},{"$f":"IF($H$106=19,ROUND($H$17,0),\"\")&\"\"","v":""},{"$f":"IF($I$106=19,ROUND($I$17,0),\"\")&\"\"","v":""},{"$f":"IF($J$106=19,ROUND($J$17,0),\"\")&\"\"","v":""},{"$f":"IF($K$106=19,ROUND($K$17,0),\"\")&\"\"","v":""},{"$f":"IF($L$106=19,ROUND($L$17,0),\"\")&\"\"","v":""},{"$f":"IF($M$106=19,ROUND($M$17,0),\"\")&\"\"","v":""},{"$f":"IF($N$106=19,ROUND($N$17,0),\"\")&\"\"","v":""},{"$f":"IF($O$106=19,ROUND($O$17,0),\"\")&\"\"","v":""},{"$f":"IF($P$106=19,ROUND($P$17,0),\"\")&\"\"","v":""},{"$f":"IF($Q$106=19,ROUND($Q$17,0),\"\")&\"\"","v":""},{"$f":"IF($R$106=19,ROUND($R$17,0),\"\")&\"\"","v":""},{"$f":"IF($S$106=19,ROUND($S$17,0),\"\")&\"\"","v":""},{"$f":"IF($T$106=19,ROUND($T$17,0),\"\")&\"\"","v":""},{"$f":"IF($U$106=19,ROUND($U$17,0),\"\")&\"\"","v":""},{"$f":"IF($V$106=19,ROUND($V$17,0),\"\")&\"\"","v":""},{"$f":"IF($W$106=19,ROUND($W$17,0),\"\")&\"\"","v":""},{"$f":"IF($X$106=19,ROUND($X$17,0),\"\")&\"\"","v":""},{"$f":"IF($Y$106=19,ROUND($Y$17,0),\"\")&\"\"","v":""},{"$f":"IF($Z$106=19,ROUND($Z$17,0),\"\")&\"\"","v":""},{"$f":"IF($AA$106=19,ROUND($AA$17,0),\"\")&\"\"","v":""},9]
[null,null,10,{"$f":"IF($D$107=19,ROUND($D$18,0),\"\")&\"\"","v":""},{"$f":"IF($E$107=19,ROUND($E$18,0),\"\")&\"\"","v":""},{"$f":"IF($F$107=19,ROUND($F$18,0),\"\")&\"\"","v":""},{"$f":"IF($G$107=19,ROUND($G$18,0),\"\")&\"\"","v":""},{"$f":"IF($H$107=19,ROUND($H$18,0),\"\")&\"\"","v":""},{"$f":"IF($I$107=19,ROUND($I$18,0),\"\")&\"\"","v":""},{"$f":"IF($J$107=19,ROUND($J$18,0),\"\")&\"\"","v":""},{"$f":"IF($K$107=19,ROUND($K$18,0),\"\")&\"\"","v":""},{"$f":"IF($L$107=19,ROUND($L$18,0),\"\")&\"\"","v":""},{"$f":"IF($M$107=19,ROUND($M$18,0),\"\")&\"\"","v":""},{"$f":"IF($N$107=19,ROUND($N$18,0),\"\")&\"\"","v":""},{"$f":"IF($O$107=19,ROUND($O$18,0),\"\")&\"\"","v":""},{"$f":"IF($P$107=19,ROUND($P$18,0),\"\")&\"\"","v":""},{"$f":"IF($Q$107=19,ROUND($Q$18,0),\"\")&\"\"","v":""},{"$f":"IF($R$107=19,ROUND($R$18,0),\"\")&\"\"","v":""},{"$f":"IF($S$107=19,ROUND($S$18,0),\"\")&\"\"","v":""},{"$f":"IF($T$107=19,ROUND($T$18,0),\"\")&\"\"","v":""},{"$f":"IF($U$107=19,ROUND($U$18,0),\"\")&\"\"","v":""},{"$f":"IF($V$107=19,ROUND($V$18,0),\"\")&\"\"","v":""},{"$f":"IF($W$107=19,ROUND($W$18,0),\"\")&\"\"","v":""},{"$f":"IF($X$107=19,ROUND($X$18,0),\"\")&\"\"","v":""},{"$f":"IF($Y$107=19,ROUND($Y$18,0),\"\")&\"\"","v":""},{"$f":"IF($Z$107=19,ROUND($Z$18,0),\"\")&\"\"","v":""},{"$f":"IF($AA$107=19,ROUND($AA$18,0),\"\")&\"\"","v":""},10]
[null,null,11,{"$f":"IF($D$108=19,ROUND($D$19,0),\"\")&\"\"","v":""},{"$f":"IF($E$108=19,ROUND($E$19,0),\"\")&\"\"","v":""},{"$f":"IF($F$108=19,ROUND($F$19,0),\"\")&\"\"","v":""},{"$f":"IF($G$108=19,ROUND($G$19,0),\"\")&\"\"","v":""},{"$f":"IF($H$108=19,ROUND($H$19,0),\"\")&\"\"","v":""},{"$f":"IF($I$108=19,ROUND($I$19,0),\"\")&\"\"","v":""},{"$f":"IF($J$108=19,ROUND($J$19,0),\"\")&\"\"","v":""},{"$f":"IF($K$108=19,ROUND($K$19,0),\"\")&\"\"","v":""},{"$f":"IF($L$108=19,ROUND($L$19,0),\"\")&\"\"","v":""},{"$f":"IF($M$108=19,ROUND($M$19,0),\"\")&\"\"","v":""},{"$f":"IF($N$108=19,ROUND($N$19,0),\"\")&\"\"","v":""},{"$f":"IF($O$108=19,ROUND($O$19,0),\"\")&\"\"","v":""},{"$f":"IF($P$108=19,ROUND($P$19,0),\"\")&\"\"","v":""},{"$f":"IF($Q$108=19,ROUND($Q$19,0),\"\")&\"\"","v":""},{"$f":"IF($R$108=19,ROUND($R$19,0),\"\")&\"\"","v":""},{"$f":"IF($S$108=19,ROUND($S$19,0),\"\")&\"\"","v":""},{"$f":"IF($T$108=19,ROUND($T$19,0),\"\")&\"\"","v":""},{"$f":"IF($U$108=19,ROUND($U$19,0),\"\")&\"\"","v":""},{"$f":"IF($V$108=19,ROUND($V$19,0),\"\")&\"\"","v":""},{"$f":"IF($W$108=19,ROUND($W$19,0),\"\")&\"\"","v":""},{"$f":"IF($X$108=19,ROUND($X$19,0),\"\")&\"\"","v":""},{"$f":"IF($Y$108=19,ROUND($Y$19,0),\"\")&\"\"","v":""},{"$f":"IF($Z$108=19,ROUND($Z$19,0),\"\")&\"\"","v":""},{"$f":"IF($AA$108=19,ROUND($AA$19,0),\"\")&\"\"","v":""},11]
[null,null,12,{"$f":"IF($D$109=19,ROUND($D$20,0),\"\")&\"\"","v":""},{"$f":"IF($E$109=19,ROUND($E$20,0),\"\")&\"\"","v":""},{"$f":"IF($F$109=19,ROUND($F$20,0),\"\")&\"\"","v":""},{"$f":"IF($G$109=19,ROUND($G$20,0),\"\")&\"\"","v":""},{"$f":"IF($H$109=19,ROUND($H$20,0),\"\")&\"\"","v":""},{"$f":"IF($I$109=19,ROUND($I$20,0),\"\")&\"\"","v":""},{"$f":"IF($J$109=19,ROUND($J$20,0),\"\")&\"\"","v":""},{"$f":"IF($K$109=19,ROUND($K$20,0),\"\")&\"\"","v":""},{"$f":"IF($L$109=19,ROUND($L$20,0),\"\")&\"\"","v":""},{"$f":"IF($M$109=19,ROUND($M$20,0),\"\")&\"\"","v":""},{"$f":"IF($N$109=19,ROUND($N$20,0),\"\")&\"\"","v":""},{"$f":"IF($O$109=19,ROUND($O$20,0),\"\")&\"\"","v":""},{"$f":"IF($P$109=19,ROUND($P$20,0),\"\")&\"\"","v":""},{"$f":"IF($Q$109=19,ROUND($Q$20,0),\"\")&\"\"","v":""},{"$f":"IF($R$109=19,ROUND($R$20,0),\"\")&\"\"","v":""},{"$f":"IF($S$109=19,ROUND($S$20,0),\"\")&\"\"","v":""},{"$f":"IF($T$109=19,ROUND($T$20,0),\"\")&\"\"","v":""},{"$f":"IF($U$109=19,ROUND($U$20,0),\"\")&\"\"","v":""},{"$f":"IF($V$109=19,ROUND($V$20,0),\"\")&\"\"","v":""},{"$f":"IF($W$109=19,ROUND($W$20,0),\"\")&\"\"","v":""},{"$f":"IF($X$109=19,ROUND($X$20,0),\"\")&\"\"","v":""},{"$f":"IF($Y$109=19,ROUND($Y$20,0),\"\")&\"\"","v":""},{"$f":"IF($Z$109=19,ROUND($Z$20,0),\"\")&\"\"","v":""},{"$f":"IF($AA$109=19,ROUND($AA$20,0),\"\")&\"\"","v":""},12]
[null,null,1,{"$f":"IF($D$110=19,ROUND($D$21,0),\"\")&\"\"","v":""},{"$f":"IF($E$110=19,ROUND($E$21,0),\"\")&\"\"","v":""},{"$f":"IF($F$110=19,ROUND($F$21,0),\"\")&\"\"","v":""},{"$f":"IF($G$110=19,ROUND($G$21,0),\"\")&\"\"","v":""},{"$f":"IF($H$110=19,ROUND($H$21,0),\"\")&\"\"","v":""},{"$f":"IF($I$110=19,ROUND($I$21,0),\"\")&\"\"","v":""},{"$f":"IF($J$110=19,ROUND($J$21,0),\"\")&\"\"","v":""},{"$f":"IF($K$110=19,ROUND($K$21,0),\"\")&\"\"","v":""},{"$f":"IF($L$110=19,ROUND($L$21,0),\"\")&\"\"","v":""},{"$f":"IF($M$110=19,ROUND($M$21,0),\"\")&\"\"","v":""},{"$f":"IF($N$110=19,ROUND($N$21,0),\"\")&\"\"","v":""},{"$f":"IF($O$110=19,ROUND($O$21,0),\"\")&\"\"","v":""},{"$f":"IF($P$110=19,ROUND($P$21,0),\"\")&\"\"","v":""},{"$f":"IF($Q$110=19,ROUND($Q$21,0),\"\")&\"\"","v":""},{"$f":"IF($R$110=19,ROUND($R$21,0),\"\")&\"\"","v":""},{"$f":"IF($S$110=19,ROUND($S$21,0),\"\")&\"\"","v":""},{"$f":"IF($T$110=19,ROUND($T$21,0),\"\")&\"\"","v":""},{"$f":"IF($U$110=19,ROUND($U$21,0),\"\")&\"\"","v":""},{"$f":"IF($V$110=19,ROUND($V$21,0),\"\")&\"\"","v":""},{"$f":"IF($W$110=19,ROUND($W$21,0),\"\")&\"\"","v":""},{"$f":"IF($X$110=19,ROUND($X$21,0),\"\")&\"\"","v":""},{"$f":"IF($Y$110=19,ROUND($Y$21,0),\"\")&\"\"","v":""},{"$f":"IF($Z$110=19,ROUND($Z$21,0),\"\")&\"\"","v":""},{"$f":"IF($AA$110=19,ROUND($AA$21,0),\"\")&\"\"","v":""},1]
[null,null,2,{"$f":"IF($D$111=19,ROUND($D$22,0),\"\")&\"\"","v":""},{"$f":"IF($E$111=19,ROUND($E$22,0),\"\")&\"\"","v":""},{"$f":"IF($F$111=19,ROUND($F$22,0),\"\")&\"\"","v":""},{"$f":"IF($G$111=19,ROUND($G$22,0),\"\")&\"\"","v":""},{"$f":"IF($H$111=19,ROUND($H$22,0),\"\")&\"\"","v":""},{"$f":"IF($I$111=19,ROUND($I$22,0),\"\")&\"\"","v":""},{"$f":"IF($J$111=19,ROUND($J$22,0),\"\")&\"\"","v":""},{"$f":"IF($K$111=19,ROUND($K$22,0),\"\")&\"\"","v":""},{"$f":"IF($L$111=19,ROUND($L$22,0),\"\")&\"\"","v":""},{"$f":"IF($M$111=19,ROUND($M$22,0),\"\")&\"\"","v":""},{"$f":"IF($N$111=19,ROUND($N$22,0),\"\")&\"\"","v":""},{"$f":"IF($O$111=19,ROUND($O$22,0),\"\")&\"\"","v":""},{"$f":"IF($P$111=19,ROUND($P$22,0),\"\")&\"\"","v":""},{"$f":"IF($Q$111=19,ROUND($Q$22,0),\"\")&\"\"","v":""},{"$f":"IF($R$111=19,ROUND($R$22,0),\"\")&\"\"","v":""},{"$f":"IF($S$111=19,ROUND($S$22,0),\"\")&\"\"","v":""},{"$f":"IF($T$111=19,ROUND($T$22,0),\"\")&\"\"","v":""},{"$f":"IF($U$111=19,ROUND($U$22,0),\"\")&\"\"","v":""},{"$f":"IF($V$111=19,ROUND($V$22,0),\"\")&\"\"","v":""},{"$f":"IF($W$111=19,ROUND($W$22,0),\"\")&\"\"","v":""},{"$f":"IF($X$111=19,ROUND($X$22,0),\"\")&\"\"","v":""},{"$f":"IF($Y$111=19,ROUND($Y$22,0),\"\")&\"\"","v":""},{"$f":"IF($Z$111=19,ROUND($Z$22,0),\"\")&\"\"","v":""},{"$f":"IF($AA$111=19,ROUND($AA$22,0),\"\")&\"\"","v":""},2]
[null,null,3,{"$f":"IF($D$112=19,ROUND($D$23,0),\"\")&\"\"","v":""},{"$f":"IF($E$112=19,ROUND($E$23,0),\"\")&\"\"","v":""},{"$f":"IF($F$112=19,ROUND($F$23,0),\"\")&\"\"","v":""},{"$f":"IF($G$112=19,ROUND($G$23,0),\"\")&\"\"","v":""},{"$f":"IF($H$112=19,ROUND($H$23,0),\"\")&\"\"","v":""},{"$f":"IF($I$112=19,ROUND($I$23,0),\"\")&\"\"","v":""},{"$f":"IF($J$112=19,ROUND($J$23,0),\"\")&\"\"","v":""},{"$f":"IF($K$112=19,ROUND($K$23,0),\"\")&\"\"","v":""},{"$f":"IF($L$112=19,ROUND($L$23,0),\"\")&\"\"","v":""},{"$f":"IF($M$112=19,ROUND($M$23,0),\"\")&\"\"","v":""},{"$f":"IF($N$112=19,ROUND($N$23,0),\"\")&\"\"","v":""},{"$f":"IF($O$112=19,ROUND($O$23,0),\"\")&\"\"","v":""},{"$f":"IF($P$112=19,ROUND($P$23,0),\"\")&\"\"","v":""},{"$f":"IF($Q$112=19,ROUND($Q$23,0),\"\")&\"\"","v":""},{"$f":"IF($R$112=19,ROUND($R$23,0),\"\")&\"\"","v":""},{"$f":"IF($S$112=19,ROUND($S$23,0),\"\")&\"\"","v":""},{"$f":"IF($T$112=19,ROUND($T$23,0),\"\")&\"\"","v":""},{"$f":"IF($U$112=19,ROUND($U$23,0),\"\")&\"\"","v":""},{"$f":"IF($V$112=19,ROUND($V$23,0),\"\")&\"\"","v":""},{"$f":"IF($W$112=19,ROUND($W$23,0),\"\")&\"\"","v":""},{"$f":"IF($X$112=19,ROUND($X$23,0),\"\")&\"\"","v":""},{"$f":"IF($Y$112=19,ROUND($Y$23,0),\"\")&\"\"","v":""},{"$f":"IF($Z$112=19,ROUND($Z$23,0),\"\")&\"\"","v":""},{"$f":"IF($AA$112=19,ROUND($AA$23,0),\"\")&\"\"","v":""},3]
[]
[null,null,"冷却期間中　外気温度(T)が発生する時間[hour]"]
[null,null,null," 外気温度(T)",null,null,null,null,null,null,null,null,null,null,null,null,null,null,null,null,null,null,null,null,null,null,null,null,null,null,null,null,null,null,null,null,null,null,null,null,null,null,null,null,null,null,null,"共通","共通","前1",null,null,"前2",null,null,"前3",null,null,null,"後1",null,null,"後2",null,null,"後3"]
[null,null,"月",-6,-5,-4,-3,-2,-1,0,1,2,3,4,5,6,7,8,9,10,11,12,13,14,15,16,17,18,19,20,21,22,23,24,25,26,27,28,29,30,31,32,33,34,35,"月",null,"EccのΣ","EaxcのΣ","Ecc","Eaxc","Ec","Ecc","Eaxc","Ec","Ecc","Eaxc","Ec",null,"Ecc","Eaxc","Ec","Ecc","Eaxc","Ec","Ecc","Eaxc","Ec"]
[null,null,4,{"$f":"COUNTIF($D$117:$AA$117,$D$148)*$AB$12","v":0},{"$f":"COUNTIF($D$117:$AA$117,$E$148)*$AB$12","v":0},{"$f":"COUNTIF($D$117:$AA$117,$F$148)*$AB$12","v":0},{"$f":"COUNTIF($D$117:$AA$117,$G$148)*$AB$12","v":0},{"$f":"COUNTIF($D$117:$AA$117,$H$148)*$AB$12","v":0},{"$f":"COUNTIF($D$117:$AA$117,$I$148)*$AB$12","v":0},{"$f":"COUNTIF($D$117:$AA$117,$J$148)*$AB$12","v":0},{"$f":"COUNTIF($D$117:$AA$117,$K$148)*$AB$12","v":0},{"$f":"COUNTIF($D$117:$AA$117,$L$148)*$AB$12","v":0},{"$f":"COUNTIF($D$117:$AA$117,$M$148)*$AB$12","v":0},{"$f":"COUNTIF($D$117:$AA$117,$N$148)*$AB$12","v":0},{"$f":"COUNTIF($D$117:$AA$117,$O$148)*$AB$12","v":0},{"$f":"COUNTIF($D$117:$AA$117,$P$148)*$AB$12","v":0},{"$f":"COUNTIF($D$117:$AA$117,$Q$148)*$AB$12","v":0},{"$f":"COUNTIF($D$117:$AA$117,$R$148)*$AB$12","v":0},{"$f":"COUNTIF($D$117:$AA$117,$S$148)*$AB$12","v":0},{"$f":"COUNTIF($D$117:$AA$117,$T$148)*$AB$12","v":0},{"$f":"COUNTIF($D$117:$AA$117,$U$148)*$AB$12","v":0},{"$f":"COUNTIF($D$117:$AA$117,$V$148)*$AB$12","v":0},{"$f":"COUNTIF($D$117:$AA$117,$W$148)*$AB$12","v":0},{"$f":"COUNTIF($D$117:$AA$117,$X$148)*$AB$12","v":0},{"$f":"COUNTIF($D$117:$AA$117,$Y$148)*$AB$12","v":0},{"$f":"COUNTIF($D$117:$AA$117,$Z$148)*$AB$12","v":0},{"$f":"COUNTIF($D$117:$AA$117,$AA$148)*$AB$12","v":0},{"$f":"COUNTIF($D$117:$AA$117,$AB$148)*$AB$12","v":0},{"$f":"COUNTIF($D$117:$AA$117,$AC$148)*$AB$12","v":0},{"$f":"COUNTIF($D$117:$AA$117,$AD$148)*$AB$12","v":0},{"$f":"COUNTIF($D$117:$AA$117,$AE$148)*$AB$12","v":0},{"$f":"COUNTIF($D$117:$AA$117,$AF$148)*$AB$12","v":0},{"$f":"COUNTIF($D$117:$AA$117,$AG$148)*$AB$12","v":0},{"$f":"COUNTIF($D$117:$AA$117,$AH$148)*$AB$12","v":0},{"$f":"COUNTIF($D$117:$AA$117,$AI$148)*$AB$12","v":0},{"$f":"COUNTIF($D$117:$AA$117,$AJ$148)*$AB$12","v":0},{"$f":"COUNTIF($D$117:$AA$117,$AK$148)*$AB$12","v":0},{"$f":"COUNTIF($D$117:$AA$117,$AL$148)*$AB$12","v":0},{"$f":"COUNTIF($D$117:$AA$117,$AM$148)*$AB$12","v":0},{"$f":"COUNTIF($D$117:$AA$117,$AN$148)*$AB$12","v":0},{"$f":"COUNTIF($D$117:$AA$117,$AO$148)*$AB$12","v":0},{"$f":"COUNTIF($D$117:$AA$117,$AP$148)*$AB$12","v":0},{"$f":"COUNTIF($D$117:$AA$117,$AQ$148)*$AB$12","v":0},{"$f":"COUNTIF($D$117:$AA$117,$AR$148)*$AB$12","v":0},{"$f":"COUNTIF($D$117:$AA$117,$AS$148)*$AB$12","v":0},4,null,{"$f":"SUMPRODUCT(D149:AS149,$D$162:$AS$162)","v":0},{"$f":"SUMPRODUCT(D149:AS149,$D$189:$AS$189)","v":0},{"$f":"$Q$29/$Q$31*AV149*$Q$37","v":0},{"$f":"$Q$35*AW149","v":0},{"$f":"SUM(AX149:AY149)","v":0},{"$f":"$R$29/$R$31*AV149*$R$37","v":{"$error":"#VALUE!"}},{"$f":"$R$35*AW149","v":0},{"$f":"SUM(BA149:BB149)","v":{"$error":"#VALUE!"}},{"$f":"$S$29/$S$31*AV149*$S$37","v":{"$error":"#VALUE!"}},{"$f":"$S$35*AW149","v":0},{"$f":"SUM(BD149:BE149)","v":{"$error":"#VALUE!"}},null,{"$f":"$Q$43/$Q$45*AV149*$Q$51","v":{"$error":"#VALUE!"}},{"$f":"$Q$49*AW149","v":0},{"$f":"SUM(BH149:BI149)","v":{"$error":"#VALUE!"}},{"$f":"$R$43/$R$45*AV149*$R$51","v":{"$error":"#VALUE!"}},{"$f":"$R$49*AW149","v":0},{"$f":"SUM(BK149:BL149)","v":{"$error":"#VALUE!"}},{"$f":"$S$43/$S$45*AV149*$S$51","v":{"$error":"#VALUE!"}},{"$f":"$S$49*AW149","v":0},{"$f":"SUM(BN149:BO149)","v":{"$error":"#VALUE!"}}]
[null,null,5,{"$f":"COUNTIF($D$118:$AA$118,$D$148)*$AB$13","v":0},{"$f":"COUNTIF($D$118:$AA$118,$E$148)*$AB$13","v":0},{"$f":"COUNTIF($D$118:$AA$118,$F$148)*$AB$13","v":0},{"$f":"COUNTIF($D$118:$AA$118,$G$148)*$AB$13","v":0},{"$f":"COUNTIF($D$118:$AA$118,$H$148)*$AB$13","v":0},{"$f":"COUNTIF($D$118:$AA$118,$I$148)*$AB$13","v":0},{"$f":"COUNTIF($D$118:$AA$118,$J$148)*$AB$13","v":0},{"$f":"COUNTIF($D$118:$AA$118,$K$148)*$AB$13","v":0},{"$f":"COUNTIF($D$118:$AA$118,$L$148)*$AB$13","v":0},{"$f":"COUNTIF($D$118:$AA$118,$M$148)*$AB$13","v":0},{"$f":"COUNTIF($D$118:$AA$118,$N$148)*$AB$13","v":0},{"$f":"COUNTIF($D$118:$AA$118,$O$148)*$AB$13","v":0},{"$f":"COUNTIF($D$118:$AA$118,$P$148)*$AB$13","v":0},{"$f":"COUNTIF($D$118:$AA$118,$Q$148)*$AB$13","v":0},{"$f":"COUNTIF($D$118:$AA$118,$R$148)*$AB$13","v":0},{"$f":"COUNTIF($D$118:$AA$118,$S$148)*$AB$13","v":0},{"$f":"COUNTIF($D$118:$AA$118,$T$148)*$AB$13","v":0},{"$f":"COUNTIF($D$118:$AA$118,$U$148)*$AB$13","v":0},{"$f":"COUNTIF($D$118:$AA$118,$V$148)*$AB$13","v":0},{"$f":"COUNTIF($D$118:$AA$118,$W$148)*$AB$13","v":0},{"$f":"COUNTIF($D$118:$AA$118,$X$148)*$AB$13","v":0},{"$f":"COUNTIF($D$118:$AA$118,$Y$148)*$AB$13","v":0},{"$f":"COUNTIF($D$118:$AA$118,$Z$148)*$AB$13","v":0},{"$f":"COUNTIF($D$118:$AA$118,$AA$148)*$AB$13","v":0},{"$f":"COUNTIF($D$118:$AA$118,$AB$148)*$AB$13","v":0},{"$f":"COUNTIF($D$118:$AA$118,$AC$148)*$AB$13","v":0},{"$f":"COUNTIF($D$118:$AA$118,$AD$148)*$AB$13","v":0},{"$f":"COUNTIF($D$118:$AA$118,$AE$148)*$AB$13","v":0},{"$f":"COUNTIF($D$118:$AA$118,$AF$148)*$AB$13","v":0},{"$f":"COUNTIF($D$118:$AA$118,$AG$148)*$AB$13","v":0},{"$f":"COUNTIF($D$118:$AA$118,$AH$148)*$AB$13","v":0},{"$f":"COUNTIF($D$118:$AA$118,$AI$148)*$AB$13","v":0},{"$f":"COUNTIF($D$118:$AA$118,$AJ$148)*$AB$13","v":0},{"$f":"COUNTIF($D$118:$AA$118,$AK$148)*$AB$13","v":0},{"$f":"COUNTIF($D$118:$AA$118,$AL$148)*$AB$13","v":0},{"$f":"COUNTIF($D$118:$AA$118,$AM$148)*$AB$13","v":0},{"$f":"COUNTIF($D$118:$AA$118,$AN$148)*$AB$13","v":0},{"$f":"COUNTIF($D$118:$AA$118,$AO$148)*$AB$13","v":0},{"$f":"COUNTIF($D$118:$AA$118,$AP$148)*$AB$13","v":0},{"$f":"COUNTIF($D$118:$AA$118,$AQ$148)*$AB$13","v":0},{"$f":"COUNTIF($D$118:$AA$118,$AR$148)*$AB$13","v":0},{"$f":"COUNTIF($D$118:$AA$118,$AS$148)*$AD$13","v":0},5,null,{"$f":"SUMPRODUCT(D150:AS150,$D$162:$AS$162)","v":0},{"$f":"SUMPRODUCT(D150:AS150,$D$189:$AS$189)","v":0},{"$f":"$Q$29/$Q$31*AV150*$Q$37","v":0},{"$f":"$Q$35*AW150","v":0},{"$f":"SUM(AX150:AY150)","v":0},{"$f":"$R$29/$R$31*AV150*$R$37","v":{"$error":"#VALUE!"}},{"$f":"$R$35*AW150","v":0},{"$f":"SUM(BA150:BB150)","v":{"$error":"#VALUE!"}},{"$f":"$S$29/$S$31*AV150*$S$37","v":{"$error":"#VALUE!"}},{"$f":"$S$35*AW150","v":0},{"$f":"SUM(BD150:BE150)","v":{"$error":"#VALUE!"}},null,{"$f":"$Q$43/$Q$45*AV150*$Q$51","v":{"$error":"#VALUE!"}},{"$f":"$Q$49*AW150","v":0},{"$f":"SUM(BH150:BI150)","v":{"$error":"#VALUE!"}},{"$f":"$R$43/$R$45*AV150*$R$51","v":{"$error":"#VALUE!"}},{"$f":"$R$49*AW150","v":0},{"$f":"SUM(BK150:BL150)","v":{"$error":"#VALUE!"}},{"$f":"$S$43/$S$45*AV150*$S$51","v":{"$error":"#VALUE!"}},{"$f":"$S$49*AW150","v":0},{"$f":"SUM(BN150:BO150)","v":{"$error":"#VALUE!"}}]
[null,null,6,{"$f":"COUNTIF($D$119:$AA$119,$D$148)*$AB$14","v":0},{"$f":"COUNTIF($D$119:$AA$119,$E$148)*$AB$14","v":0},{"$f":"COUNTIF($D$119:$AA$119,$F$148)*$AB$14","v":0},{"$f":"COUNTIF($D$119:$AA$119,$G$148)*$AB$14","v":0},{"$f":"COUNTIF($D$119:$AA$119,$H$148)*$AB$14","v":0},{"$f":"COUNTIF($D$119:$AA$119,$I$148)*$AB$14","v":0},{"$f":"COUNTIF($D$119:$AA$119,$J$148)*$AB$14","v":0},{"$f":"COUNTIF($D$119:$AA$119,$K$148)*$AB$14","v":0},{"$f":"COUNTIF($D$119:$AA$119,$L$148)*$AB$14","v":0},{"$f":"COUNTIF($D$119:$AA$119,$M$148)*$AB$14","v":0},{"$f":"COUNTIF($D$119:$AA$119,$N$148)*$AB$14","v":0},{"$f":"COUNTIF($D$119:$AA$119,$O$148)*$AB$14","v":0},{"$f":"COUNTIF($D$119:$AA$119,$P$148)*$AB$14","v":0},{"$f":"COUNTIF($D$119:$AA$119,$Q$148)*$AB$14","v":0},{"$f":"COUNTIF($D$119:$AA$119,$R$148)*$AB$14","v":0},{"$f":"COUNTIF($D$119:$AA$119,$S$148)*$AB$14","v":0},{"$f":"COUNTIF($D$119:$AA$119,$T$148)*$AB$14","v":0},{"$f":"COUNTIF($D$119:$AA$119,$U$148)*$AB$14","v":0},{"$f":"COUNTIF($D$119:$AA$119,$V$148)*$AB$14","v":0},{"$f":"COUNTIF($D$119:$AA$119,$W$148)*$AB$14","v":0},{"$f":"COUNTIF($D$119:$AA$119,$X$148)*$AB$14","v":0},{"$f":"COUNTIF($D$119:$AA$119,$Y$148)*$AB$14","v":0},{"$f":"COUNTIF($D$119:$AA$119,$Z$148)*$AB$14","v":0},{"$f":"COUNTIF($D$119:$AA$119,$AA$148)*$AB$14","v":0},{"$f":"COUNTIF($D$119:$AA$119,$AB$148)*$AB$14","v":0},{"$f":"COUNTIF($D$119:$AA$119,$AC$148)*$AB$14","v":0},{"$f":"COUNTIF($D$119:$AA$119,$AD$148)*$AB$14","v":0},{"$f":"COUNTIF($D$119:$AA$119,$AE$148)*$AB$14","v":0},{"$f":"COUNTIF($D$119:$AA$119,$AF$148)*$AB$14","v":0},{"$f":"COUNTIF($D$119:$AA$119,$AG$148)*$AB$14","v":0},{"$f":"COUNTIF($D$119:$AA$119,$AH$148)*$AB$14","v":0},{"$f":"COUNTIF($D$119:$AA$119,$AI$148)*$AB$14","v":0},{"$f":"COUNTIF($D$119:$AA$119,$AJ$148)*$AB$14","v":0},{"$f":"COUNTIF($D$119:$AA$119,$AK$148)*$AB$14","v":0},{"$f":"COUNTIF($D$119:$AA$119,$AL$148)*$AB$14","v":0},{"$f":"COUNTIF($D$119:$AA$119,$AM$148)*$AB$14","v":0},{"$f":"COUNTIF($D$119:$AA$119,$AN$148)*$AB$14","v":0},{"$f":"COUNTIF($D$119:$AA$119,$AO$148)*$AB$14","v":0},{"$f":"COUNTIF($D$119:$AA$119,$AP$148)*$AB$14","v":0},{"$f":"COUNTIF($D$119:$AA$119,$AQ$148)*$AB$14","v":0},{"$f":"COUNTIF($D$119:$AA$119,$AR$148)*$AB$14","v":0},{"$f":"COUNTIF($D$119:$AA$119,$AS$148)*$AB$14","v":0},6,null,0,0,0,0,{"$f":"SUM(AX151:AY151)","v":0},{"$error":"#VALUE!"},0,{"$error":"#VALUE!"},{"$error":"#VALUE!"},0,{"$error":"#VALUE!"},null,{"$error":"#VALUE!"},0,{"$error":"#VALUE!"},{"$error":"#VALUE!"},0,{"$error":"#VALUE!"},{"$error":"#VALUE!"},0,{"$error":"#VALUE!"}]
[null,null,7,{"$f":"COUNTIF($D$120:$AA$120,$D$148)*$AB$15","v":0},{"$f":"COUNTIF($D$120:$AA$120,$E$148)*$AB$15","v":0},{"$f":"COUNTIF($D$120:$AA$120,$F$148)*$AB$15","v":0},{"$f":"COUNTIF($D$120:$AA$120,$G$148)*$AB$15","v":0},{"$f":"COUNTIF($D$120:$AA$120,$H$148)*$AB$15","v":0},{"$f":"COUNTIF($D$120:$AA$120,$I$148)*$AB$15","v":0},{"$f":"COUNTIF($D$120:$AA$120,$J$148)*$AB$15","v":0},{"$f":"COUNTIF($D$120:$AA$120,$K$148)*$AB$15","v":0},{"$f":"COUNTIF($D$120:$AA$120,$L$148)*$AB$15","v":0},{"$f":"COUNTIF($D$120:$AA$120,$M$148)*$AB$15","v":0},{"$f":"COUNTIF($D$120:$AA$120,$N$148)*$AB$15","v":0},{"$f":"COUNTIF($D$120:$AA$120,$O$148)*$AB$15","v":0},{"$f":"COUNTIF($D$120:$AA$120,$P$148)*$AB$15","v":0},{"$f":"COUNTIF($D$120:$AA$120,$Q$148)*$AB$15","v":0},{"$f":"COUNTIF($D$120:$AA$120,$R$148)*$AB$15","v":0},{"$f":"COUNTIF($D$120:$AA$120,$S$148)*$AB$15","v":0},{"$f":"COUNTIF($D$120:$AA$120,$T$148)*$AB$15","v":0},{"$f":"COUNTIF($D$120:$AA$120,$U$148)*$AB$15","v":0},{"$f":"COUNTIF($D$120:$AA$120,$V$148)*$AB$15","v":0},{"$f":"COUNTIF($D$120:$AA$120,$W$148)*$AB$15","v":0},{"$f":"COUNTIF($D$120:$AA$120,$X$148)*$AB$15","v":0},{"$f":"COUNTIF($D$120:$AA$120,$Y$148)*$AB$15","v":0},{"$f":"COUNTIF($D$120:$AA$120,$Z$148)*$AB$15","v":0},{"$f":"COUNTIF($D$120:$AA$120,$AA$148)*$AB$15","v":0},{"$f":"COUNTIF($D$120:$AA$120,$AB$148)*$AB$15","v":0},{"$f":"COUNTIF($D$120:$AA$120,$AC$148)*$AB$15","v":0},{"$f":"COUNTIF($D$120:$AA$120,$AD$148)*$AB$15","v":0},{"$f":"COUNTIF($D$120:$AA$120,$AE$148)*$AB$15","v":0},{"$f":"COUNTIF($D$120:$AA$120,$AF$148)*$AB$15","v":0},{"$f":"COUNTIF($D$120:$AA$120,$AG$148)*$AB$15","v":0},{"$f":"COUNTIF($D$120:$AA$120,$AH$148)*$AB$15","v":0},{"$f":"COUNTIF($D$120:$AA$120,$AI$148)*$AB$15","v":0},{"$f":"COUNTIF($D$120:$AA$120,$AJ$148)*$AB$15","v":0},{"$f":"COUNTIF($D$120:$AA$120,$AK$148)*$AB$15","v":0},{"$f":"COUNTIF($D$120:$AA$120,$AL$148)*$AB$15","v":0},{"$f":"COUNTIF($D$120:$AA$120,$AM$148)*$AB$15","v":0},{"$f":"COUNTIF($D$120:$AA$120,$AN$148)*$AB$15","v":0},{"$f":"COUNTIF($D$120:$AA$120,$AO$148)*$AB$15","v":0},{"$f":"COUNTIF($D$120:$AA$120,$AP$148)*$AB$15","v":0},{"$f":"COUNTIF($D$120:$AA$120,$AQ$148)*$AB$15","v":0},{"$f":"COUNTIF($D$120:$AA$120,$AR$148)*$AB$15","v":0},{"$f":"COUNTIF($D$120:$AA$120,$AS$148)*$AB$15","v":0},7,null,0,0,0,0,0,{"$error":"#VALUE!"},0,{"$error":"#VALUE!"},{"$error":"#VALUE!"},0,{"$error":"#VALUE!"},null,{"$error":"#VALUE!"},0,{"$error":"#VALUE!"},{"$error":"#VALUE!"},0,{"$error":"#VALUE!"},{"$error":"#VALUE!"},0,{"$error":"#VALUE!"}]
[null,null,8,{"$f":"COUNTIF($D$121:$AA$121,$D$148)*$AB$16","v":0},{"$f":"COUNTIF($D$121:$AA$121,$E$148)*$AB$16","v":0},{"$f":"COUNTIF($D$121:$AA$121,$F$148)*$AB$16","v":0},{"$f":"COUNTIF($D$121:$AA$121,$G$148)*$AB$16","v":0},{"$f":"COUNTIF($D$121:$AA$121,$H$148)*$AB$16","v":0},{"$f":"COUNTIF($D$121:$AA$121,$I$148)*$AB$16","v":0},{"$f":"COUNTIF($D$121:$AA$121,$J$148)*$AB$16","v":0},{"$f":"COUNTIF($D$121:$AA$121,$K$148)*$AB$16","v":0},{"$f":"COUNTIF($D$121:$AA$121,$L$148)*$AB$16","v":0},{"$f":"COUNTIF($D$121:$AA$121,$M$148)*$AB$16","v":0},{"$f":"COUNTIF($D$121:$AA$121,$N$148)*$AB$16","v":0},{"$f":"COUNTIF($D$121:$AA$121,$O$148)*$AB$16","v":0},{"$f":"COUNTIF($D$121:$AA$121,$P$148)*$AB$16","v":0},{"$f":"COUNTIF($D$121:$AA$121,$Q$148)*$AB$16","v":0},{"$f":"COUNTIF($D$121:$AA$121,$R$148)*$AB$16","v":0},{"$f":"COUNTIF($D$121:$AA$121,$S$148)*$AB$16","v":0},{"$f":"COUNTIF($D$121:$AA$121,$T$148)*$AB$16","v":0},{"$f":"COUNTIF($D$121:$AA$121,$U$148)*$AB$16","v":0},{"$f":"COUNTIF($D$121:$AA$121,$V$148)*$AB$16","v":0},{"$f":"COUNTIF($D$121:$AA$121,$W$148)*$AB$16","v":0},{"$f":"COUNTIF($D$121:$AA$121,$X$148)*$AB$16","v":0},{"$f":"COUNTIF($D$121:$AA$121,$Y$148)*$AB$16","v":0},{"$f":"COUNTIF($D$121:$AA$121,$Z$148)*$AB$16","v":0},{"$f":"COUNTIF($D$121:$AA$121,$AA$148)*$AB$16","v":0},{"$f":"COUNTIF($D$121:$AA$121,$AB$148)*$AB$16","v":0},{"$f":"COUNTIF($D$121:$AA$121,$AC$148)*$AB$16","v":0},{"$f":"COUNTIF($D$121:$AA$121,$AD$148)*$AB$16","v":0},{"$f":"COUNTIF($D$121:$AA$121,$AE$148)*$AB$16","v":0},{"$f":"COUNTIF($D$121:$AA$121,$AF$148)*$AB$16","v":0},{"$f":"COUNTIF($D$121:$AA$121,$AG$148)*$AB$16","v":0},{"$f":"COUNTIF($D$121:$AA$121,$AH$148)*$AB$16","v":0},{"$f":"COUNTIF($D$121:$AA$121,$AI$148)*$AB$16","v":0},{"$f":"COUNTIF($D$121:$AA$121,$AJ$148)*$AB$16","v":0},{"$f":"COUNTIF($D$121:$AA$121,$AK$148)*$AB$16","v":0},{"$f":"COUNTIF($D$121:$AA$121,$AL$148)*$AB$16","v":0},{"$f":"COUNTIF($D$121:$AA$121,$AM$148)*$AB$16","v":0},{"$f":"COUNTIF($D$121:$AA$121,$AN$148)*$AB$16","v":0},{"$f":"COUNTIF($D$121:$AA$121,$AO$148)*$AB$16","v":0},{"$f":"COUNTIF($D$121:$AA$121,$AP$148)*$AB$16","v":0},{"$f":"COUNTIF($D$121:$AA$121,$AQ$148)*$AB$16","v":0},{"$f":"COUNTIF($D$121:$AA$121,$AR$148)*$AB$16","v":0},{"$f":"COUNTIF($D$121:$AA$121,$AS$148)*$AB$16","v":0},8,null,0,0,0,0,0,{"$error":"#VALUE!"},0,{"$error":"#VALUE!"},{"$error":"#VALUE!"},0,{"$error":"#VALUE!"},null,{"$error":"#VALUE!"},0,{"$error":"#VALUE!"},{"$error":"#VALUE!"},0,{"$error":"#VALUE!"},{"$error":"#VALUE!"},0,{"$error":"#VALUE!"}]
[null,null,9,{"$f":"COUNTIF($D$122:$AA$122,$D$148)*$AB$17","v":0},{"$f":"COUNTIF($D$122:$AA$122,$E$148)*$AB$17","v":0},{"$f":"COUNTIF($D$122:$AA$122,$F$148)*$AB$17","v":0},{"$f":"COUNTIF($D$122:$AA$122,$G$148)*$AB$17","v":0},{"$f":"COUNTIF($D$122:$AA$122,$H$148)*$AB$17","v":0},{"$f":"COUNTIF($D$122:$AA$122,$I$148)*$AB$17","v":0},{"$f":"COUNTIF($D$122:$AA$122,$J$148)*$AB$17","v":0},{"$f":"COUNTIF($D$122:$AA$122,$K$148)*$AB$17","v":0},{"$f":"COUNTIF($D$122:$AA$122,$L$148)*$AB$17","v":0},{"$f":"COUNTIF($D$122:$AA$122,$M$148)*$AB$17","v":0},{"$f":"COUNTIF($D$122:$AA$122,$N$148)*$AB$17","v":0},{"$f":"COUNTIF($D$122:$AA$122,$O$148)*$AB$17","v":0},{"$f":"COUNTIF($D$122:$AA$122,$P$148)*$AB$17","v":0},{"$f":"COUNTIF($D$122:$AA$122,$Q$148)*$AB$17","v":0},{"$f":"COUNTIF($D$122:$AA$122,$R$148)*$AB$17","v":0},{"$f":"COUNTIF($D$122:$AA$122,$S$148)*$AB$17","v":0},{"$f":"COUNTIF($D$122:$AA$122,$T$148)*$AB$17","v":0},{"$f":"COUNTIF($D$122:$AA$122,$U$148)*$AB$17","v":0},{"$f":"COUNTIF($D$122:$AA$122,$V$148)*$AB$17","v":0},{"$f":"COUNTIF($D$122:$AA$122,$W$148)*$AB$17","v":0},{"$f":"COUNTIF($D$122:$AA$122,$X$148)*$AB$17","v":0},{"$f":"COUNTIF($D$122:$AA$122,$Y$148)*$AB$17","v":0},{"$f":"COUNTIF($D$122:$AA$122,$Z$148)*$AB$17","v":0},{"$f":"COUNTIF($D$122:$AA$122,$AA$148)*$AB$17","v":0},{"$f":"COUNTIF($D$122:$AA$122,$AB$148)*$AB$17","v":0},{"$f":"COUNTIF($D$122:$AA$122,$AC$148)*$AB$17","v":0},{"$f":"COUNTIF($D$122:$AA$122,$AD$148)*$AB$17","v":0},{"$f":"COUNTIF($D$122:$AA$122,$AE$148)*$AB$17","v":0},{"$f":"COUNTIF($D$122:$AA$122,$AF$148)*$AB$17","v":0},{"$f":"COUNTIF($D$122:$AA$122,$AG$148)*$AB$17","v":0},{"$f":"COUNTIF($D$122:$AA$122,$AH$148)*$AB$17","v":0},{"$f":"COUNTIF($D$122:$AA$122,$AI$148)*$AB$17","v":0},{"$f":"COUNTIF($D$122:$AA$122,$AJ$148)*$AB$17","v":0},{"$f":"COUNTIF($D$122:$AA$122,$AK$148)*$AB$17","v":0},{"$f":"COUNTIF($D$122:$AA$122,$AL$148)*$AB$17","v":0},{"$f":"COUNTIF($D$122:$AA$122,$AM$148)*$AB$17","v":0},{"$f":"COUNTIF($D$122:$AA$122,$AN$148)*$AB$17","v":0},{"$f":"COUNTIF($D$122:$AA$122,$AO$148)*$AB$17","v":0},{"$f":"COUNTIF($D$122:$AA$122,$AP$148)*$AB$17","v":0},{"$f":"COUNTIF($D$122:$AA$122,$AQ$148)*$AB$17","v":0},{"$f":"COUNTIF($D$122:$AA$122,$AR$148)*$AB$17","v":0},{"$f":"COUNTIF($D$122:$AA$122,$AS$148)*$AB$17","v":0},9,null,0,{"$f":"SUMPRODUCT(D154:AS154,$D$189:$AS$189)","v":0},0,{"$f":"$Q$35*AW154","v":0},0,{"$error":"#VALUE!"},0,{"$error":"#VALUE!"},{"$error":"#VALUE!"},0,{"$error":"#VALUE!"},null,{"$error":"#VALUE!"},0,{"$error":"#VALUE!"},{"$error":"#VALUE!"},0,{"$error":"#VALUE!"},{"$error":"#VALUE!"},0,{"$f":"SUM(BN154:BO154)","v":{"$error":"#VALUE!"}}]
[null,null,10,{"$f":"COUNTIF($D$123:$AA$123,$D$148)*$AB$18","v":0},{"$f":"COUNTIF($D$123:$AA$123,$E$148)*$AB$18","v":0},{"$f":"COUNTIF($D$123:$AA$123,$F$148)*$AB$18","v":0},{"$f":"COUNTIF($D$123:$AA$123,$G$148)*$AB$18","v":0},{"$f":"COUNTIF($D$123:$AA$123,$H$148)*$AB$18","v":0},{"$f":"COUNTIF($D$123:$AA$123,$I$148)*$AB$18","v":0},{"$f":"COUNTIF($D$123:$AA$123,$J$148)*$AB$18","v":0},{"$f":"COUNTIF($D$123:$AA$123,$K$148)*$AB$18","v":0},{"$f":"COUNTIF($D$123:$AA$123,$L$148)*$AB$18","v":0},{"$f":"COUNTIF($D$123:$AA$123,$M$148)*$AB$18","v":0},{"$f":"COUNTIF($D$123:$AA$123,$N$148)*$AB$18","v":0},{"$f":"COUNTIF($D$123:$AA$123,$O$148)*$AB$18","v":0},{"$f":"COUNTIF($D$123:$AA$123,$P$148)*$AB$18","v":0},{"$f":"COUNTIF($D$123:$AA$123,$Q$148)*$AB$18","v":0},{"$f":"COUNTIF($D$123:$AA$123,$R$148)*$AB$18","v":0},{"$f":"COUNTIF($D$123:$AA$123,$S$148)*$AB$18","v":0},{"$f":"COUNTIF($D$123:$AA$123,$T$148)*$AB$18","v":0},{"$f":"COUNTIF($D$123:$AA$123,$U$148)*$AB$18","v":0},{"$f":"COUNTIF($D$123:$AA$123,$V$148)*$AB$18","v":0},{"$f":"COUNTIF($D$123:$AA$123,$W$148)*$AB$18","v":0},{"$f":"COUNTIF($D$123:$AA$123,$X$148)*$AB$18","v":0},{"$f":"COUNTIF($D$123:$AA$123,$Y$148)*$AB$18","v":0},{"$f":"COUNTIF($D$123:$AA$123,$Z$148)*$AB$18","v":0},{"$f":"COUNTIF($D$123:$AA$123,$AA$148)*$AB$18","v":0},{"$f":"COUNTIF($D$123:$AA$123,$AB$148)*$AB$18","v":0},{"$f":"COUNTIF($D$123:$AA$123,$AC$148)*$AB$18","v":0},{"$f":"COUNTIF($D$123:$AA$123,$AD$148)*$AB$18","v":0},{"$f":"COUNTIF($D$123:$AA$123,$AE$148)*$AB$18","v":0},{"$f":"COUNTIF($D$123:$AA$123,$AF$148)*$AB$18","v":0},{"$f":"COUNTIF($D$123:$AA$123,$AG$148)*$AB$18","v":0},{"$f":"COUNTIF($D$123:$AA$123,$AH$148)*$AB$18","v":0},{"$f":"COUNTIF($D$123:$AA$123,$AI$148)*$AB$18","v":0},{"$f":"COUNTIF($D$123:$AA$123,$AJ$148)*$AB$18","v":0},{"$f":"COUNTIF($D$123:$AA$123,$AK$148)*$AB$18","v":0},{"$f":"COUNTIF($D$123:$AA$123,$AL$148)*$AB$18","v":0},{"$f":"COUNTIF($D$123:$AA$123,$AM$148)*$AB$18","v":0},{"$f":"COUNTIF($D$123:$AA$123,$AN$148)*$AB$18","v":0},{"$f":"COUNTIF($D$123:$AA$123,$AO$148)*$AB$18","v":0},{"$f":"COUNTIF($D$123:$AA$123,$AP$148)*$AB$18","v":0},{"$f":"COUNTIF($D$123:$AA$123,$AQ$148)*$AB$18","v":0},{"$f":"COUNTIF($D$123:$AA$123,$AR$148)*$AB$18","v":0},{"$f":"COUNTIF($D$123:$AA$123,$AS$148)*$AB$18","v":0},10,null,0,0,0,0,0,{"$error":"#VALUE!"},0,{"$error":"#VALUE!"},{"$error":"#VALUE!"},0,{"$error":"#VALUE!"},null,{"$error":"#VALUE!"},0,{"$error":"#VALUE!"},{"$error":"#VALUE!"},0,{"$error":"#VALUE!"},{"$error":"#VALUE!"},0,{"$error":"#VALUE!"}]
[null,null,11,{"$f":"COUNTIF($D$124:$AA$124,$D$148)*$AB$19","v":0},{"$f":"COUNTIF($D$124:$AA$124,$E$148)*$AB$19","v":0},{"$f":"COUNTIF($D$124:$AA$124,$F$148)*$AB$19","v":0},{"$f":"COUNTIF($D$124:$AA$124,$G$148)*$AB$19","v":0},{"$f":"COUNTIF($D$124:$AA$124,$H$148)*$AB$19","v":0},{"$f":"COUNTIF($D$124:$AA$124,$I$148)*$AB$19","v":0},{"$f":"COUNTIF($D$124:$AA$124,$J$148)*$AB$19","v":0},{"$f":"COUNTIF($D$124:$AA$124,$K$148)*$AB$19","v":0},{"$f":"COUNTIF($D$124:$AA$124,$L$148)*$AB$19","v":0},{"$f":"COUNTIF($D$124:$AA$124,$M$148)*$AB$19","v":0},{"$f":"COUNTIF($D$124:$AA$124,$N$148)*$AB$19","v":0},{"$f":"COUNTIF($D$124:$AA$124,$O$148)*$AB$19","v":0},{"$f":"COUNTIF($D$124:$AA$124,$P$148)*$AB$19","v":0},{"$f":"COUNTIF($D$124:$AA$124,$Q$148)*$AB$19","v":0},{"$f":"COUNTIF($D$124:$AA$124,$R$148)*$AB$19","v":0},{"$f":"COUNTIF($D$124:$AA$124,$S$148)*$AB$19","v":0},{"$f":"COUNTIF($D$124:$AA$124,$T$148)*$AB$19","v":0},{"$f":"COUNTIF($D$124:$AA$124,$U$148)*$AB$19","v":0},{"$f":"COUNTIF($D$124:$AA$124,$V$148)*$AB$19","v":0},{"$f":"COUNTIF($D$124:$AA$124,$W$148)*$AB$19","v":0},{"$f":"COUNTIF($D$124:$AA$124,$X$148)*$AB$19","v":0},{"$f":"COUNTIF($D$124:$AA$124,$Y$148)*$AB$19","v":0},{"$f":"COUNTIF($D$124:$AA$124,$Z$148)*$AB$19","v":0},{"$f":"COUNTIF($D$124:$AA$124,$AA$148)*$AB$19","v":0},{"$f":"COUNTIF($D$124:$AA$124,$AB$148)*$AB$19","v":0},{"$f":"COUNTIF($D$124:$AA$124,$AC$148)*$AB$19","v":0},{"$f":"COUNTIF($D$124:$AA$124,$AD$148)*$AB$19","v":0},{"$f":"COUNTIF($D$124:$AA$124,$AE$148)*$AB$19","v":0},{"$f":"COUNTIF($D$124:$AA$124,$AF$148)*$AB$19","v":0},{"$f":"COUNTIF($D$124:$AA$124,$AG$148)*$AB$19","v":0},{"$f":"COUNTIF($D$124:$AA$124,$AH$148)*$AB$19","v":0},{"$f":"COUNTIF($D$124:$AA$124,$AI$148)*$AB$19","v":0},{"$f":"COUNTIF($D$124:$AA$124,$AJ$148)*$AB$19","v":0},{"$f":"COUNTIF($D$124:$AA$124,$AK$148)*$AB$19","v":0},{"$f":"COUNTIF($D$124:$AA$124,$AL$148)*$AB$19","v":0},{"$f":"COUNTIF($D$124:$AA$124,$AM$148)*$AB$19","v":0},{"$f":"COUNTIF($D$124:$AA$124,$AN$148)*$AB$19","v":0},{"$f":"COUNTIF($D$124:$AA$124,$AO$148)*$AB$19","v":0},{"$f":"COUNTIF($D$124:$AA$124,$AP$148)*$AB$19","v":0},{"$f":"COUNTIF($D$124:$AA$124,$AQ$148)*$AB$19","v":0},{"$f":"COUNTIF($D$124:$AA$124,$AR$148)*$AB$19","v":0},{"$f":"COUNTIF($D$124:$AA$124,$AS$148)*$AB$19","v":0},11,null,0,0,0,0,0,{"$error":"#VALUE!"},0,{"$f":"SUM(BA156:BB156)","v":{"$error":"#VALUE!"}},{"$error":"#VALUE!"},0,{"$error":"#VALUE!"},null,{"$error":"#VALUE!"},0,{"$error":"#VALUE!"},{"$error":"#VALUE!"},0,{"$error":"#VALUE!"},{"$error":"#VALUE!"},0,{"$error":"#VALUE!"}]
[null,null,12,{"$f":"COUNTIF($D$125:$AA$125,$D$148)*$AB$20","v":0},{"$f":"COUNTIF($D$125:$AA$125,$E$148)*$AB$20","v":0},{"$f":"COUNTIF($D$125:$AA$125,$F$148)*$AB$20","v":0},{"$f":"COUNTIF($D$125:$AA$125,$G$148)*$AB$20","v":0},{"$f":"COUNTIF($D$125:$AA$125,$H$148)*$AB$20","v":0},{"$f":"COUNTIF($D$125:$AA$125,$I$148)*$AB$20","v":0},{"$f":"COUNTIF($D$125:$AA$125,$J$148)*$AB$20","v":0},{"$f":"COUNTIF($D$125:$AA$125,$K$148)*$AB$20","v":0},{"$f":"COUNTIF($D$125:$AA$125,$L$148)*$AB$20","v":0},{"$f":"COUNTIF($D$125:$AA$125,$M$148)*$AB$20","v":0},{"$f":"COUNTIF($D$125:$AA$125,$N$148)*$AB$20","v":0},{"$f":"COUNTIF($D$125:$AA$125,$O$148)*$AB$20","v":0},{"$f":"COUNTIF($D$125:$AA$125,$P$148)*$AB$20","v":0},{"$f":"COUNTIF($D$125:$AA$125,$Q$148)*$AB$20","v":0},{"$f":"COUNTIF($D$125:$AA$125,$R$148)*$AB$20","v":0},{"$f":"COUNTIF($D$125:$AA$125,$S$148)*$AB$20","v":0},{"$f":"COUNTIF($D$125:$AA$125,$T$148)*$AB$20","v":0},{"$f":"COUNTIF($D$125:$AA$125,$U$148)*$AB$20","v":0},{"$f":"COUNTIF($D$125:$AA$125,$V$148)*$AB$20","v":0},{"$f":"COUNTIF($D$125:$AA$125,$W$148)*$AB$20","v":0},{"$f":"COUNTIF($D$125:$AA$125,$X$148)*$AB$20","v":0},{"$f":"COUNTIF($D$125:$AA$125,$Y$148)*$AB$20","v":0},{"$f":"COUNTIF($D$125:$AA$125,$Z$148)*$AB$20","v":0},{"$f":"COUNTIF($D$125:$AA$125,$AA$148)*$AB$20","v":0},{"$f":"COUNTIF($D$125:$AA$125,$AB$148)*$AB$20","v":0},{"$f":"COUNTIF($D$125:$AA$125,$AC$148)*$AB$20","v":0},{"$f":"COUNTIF($D$125:$AA$125,$AD$148)*$AB$20","v":0},{"$f":"COUNTIF($D$125:$AA$125,$AE$148)*$AB$20","v":0},{"$f":"COUNTIF($D$125:$AA$125,$AF$148)*$AB$20","v":0},{"$f":"COUNTIF($D$125:$AA$125,$AG$148)*$AB$20","v":0},{"$f":"COUNTIF($D$125:$AA$125,$AH$148)*$AB$20","v":0},{"$f":"COUNTIF($D$125:$AA$125,$AI$148)*$AB$20","v":0},{"$f":"COUNTIF($D$125:$AA$125,$AJ$148)*$AB$20","v":0},{"$f":"COUNTIF($D$125:$AA$125,$AK$148)*$AB$20","v":0},{"$f":"COUNTIF($D$125:$AA$125,$AL$148)*$AB$20","v":0},{"$f":"COUNTIF($D$125:$AA$125,$AM$148)*$AB$20","v":0},{"$f":"COUNTIF($D$125:$AA$125,$AN$148)*$AB$20","v":0},{"$f":"COUNTIF($D$125:$AA$125,$AO$148)*$AB$20","v":0},{"$f":"COUNTIF($D$125:$AA$125,$AP$148)*$AB$20","v":0},{"$f":"COUNTIF($D$125:$AA$125,$AQ$148)*$AB$20","v":0},{"$f":"COUNTIF($D$125:$AA$125,$AR$148)*$AB$20","v":0},{"$f":"COUNTIF($D$125:$AA$125,$AS$148)*$AB$20","v":0},12,null,0,0,0,0,{"$f":"SUM(AX157:AY157)","v":0},{"$error":"#VALUE!"},0,{"$error":"#VALUE!"},{"$error":"#VALUE!"},0,{"$f":"SUM(BD157:BE157)","v":{"$error":"#VALUE!"}},null,{"$error":"#VALUE!"},0,{"$error":"#VALUE!"},{"$error":"#VALUE!"},0,{"$f":"SUM(BK157:BL157)","v":{"$error":"#VALUE!"}},{"$error":"#VALUE!"},0,{"$error":"#VALUE!"}]
[null,null,1,{"$f":"COUNTIF($D$126:$AA$126,$D$148)*$AB$21","v":0},{"$f":"COUNTIF($D$126:$AA$126,$E$148)*$AB$21","v":0},{"$f":"COUNTIF($D$126:$AA$126,$F$148)*$AB$21","v":0},{"$f":"COUNTIF($D$126:$AA$126,$G$148)*$AB$21","v":0},{"$f":"COUNTIF($D$126:$AA$126,$H$148)*$AB$21","v":0},{"$f":"COUNTIF($D$126:$AA$126,$I$148)*$AB$21","v":0},{"$f":"COUNTIF($D$126:$AA$126,$J$148)*$AB$21","v":0},{"$f":"COUNTIF($D$126:$AA$126,$K$148)*$AB$21","v":0},{"$f":"COUNTIF($D$126:$AA$126,$L$148)*$AB$21","v":0},{"$f":"COUNTIF($D$126:$AA$126,$M$148)*$AB$21","v":0},{"$f":"COUNTIF($D$126:$AA$126,$N$148)*$AB$21","v":0},{"$f":"COUNTIF($D$126:$AA$126,$O$148)*$AB$21","v":0},{"$f":"COUNTIF($D$126:$AA$126,$P$148)*$AB$21","v":0},{"$f":"COUNTIF($D$126:$AA$126,$Q$148)*$AB$21","v":0},{"$f":"COUNTIF($D$126:$AA$126,$R$148)*$AB$21","v":0},{"$f":"COUNTIF($D$126:$AA$126,$S$148)*$AB$21","v":0},{"$f":"COUNTIF($D$126:$AA$126,$T$148)*$AB$21","v":0},{"$f":"COUNTIF($D$126:$AA$126,$U$148)*$AB$21","v":0},{"$f":"COUNTIF($D$126:$AA$126,$V$148)*$AB$21","v":0},{"$f":"COUNTIF($D$126:$AA$126,$W$148)*$AB$21","v":0},{"$f":"COUNTIF($D$126:$AA$126,$X$148)*$AB$21","v":0},{"$f":"COUNTIF($D$126:$AA$126,$Y$148)*$AB$21","v":0},{"$f":"COUNTIF($D$126:$AA$126,$Z$148)*$AB$21","v":0},{"$f":"COUNTIF($D$126:$AA$126,$AA$148)*$AB$21","v":0},{"$f":"COUNTIF($D$126:$AA$126,$AB$148)*$AB$21","v":0},{"$f":"COUNTIF($D$126:$AA$126,$AC$148)*$AB$21","v":0},{"$f":"COUNTIF($D$126:$AA$126,$AD$148)*$AB$21","v":0},{"$f":"COUNTIF($D$126:$AA$126,$AE$148)*$AB$21","v":0},{"$f":"COUNTIF($D$126:$AA$126,$AF$148)*$AB$21","v":0},{"$f":"COUNTIF($D$126:$AA$126,$AG$148)*$AB$21","v":0},{"$f":"COUNTIF($D$126:$AA$126,$AH$148)*$AB$21","v":0},{"$f":"COUNTIF($D$126:$AA$126,$AI$148)*$AB$21","v":0},{"$f":"COUNTIF($D$126:$AA$126,$AJ$148)*$AB$21","v":0},{"$f":"COUNTIF($D$126:$AA$126,$AK$148)*$AB$21","v":0},{"$f":"COUNTIF($D$126:$AA$126,$AL$148)*$AB$21","v":0},{"$f":"COUNTIF($D$126:$AA$126,$AM$148)*$AB$21","v":0},{"$f":"COUNTIF($D$126:$AA$126,$AN$148)*$AB$21","v":0},{"$f":"COUNTIF($D$126:$AA$126,$AO$148)*$AB$21","v":0},{"$f":"COUNTIF($D$126:$AA$126,$AP$148)*$AB$21","v":0},{"$f":"COUNTIF($D$126:$AA$126,$AQ$148)*$AB$21","v":0},{"$f":"COUNTIF($D$126:$AA$126,$AR$148)*$AB$21","v":0},{"$f":"COUNTIF($D$126:$AA$126,$AS$148)*$AB$21","v":0},1,null,0,0,0,0,0,{"$error":"#VALUE!"},0,{"$error":"#VALUE!"},{"$error":"#VALUE!"},0,{"$error":"#VALUE!"},null,{"$error":"#VALUE!"},0,{"$error":"#VALUE!"},{"$error":"#VALUE!"},0,{"$error":"#VALUE!"},{"$error":"#VALUE!"},0,{"$error":"#VALUE!"}]
[null,null,2,{"$f":"COUNTIF($D$127:$AA$127,$D$148)*$AB$22","v":0},{"$f":"COUNTIF($D$127:$AA$127,$E$148)*$AB$22","v":0},{"$f":"COUNTIF($D$127:$AA$127,$F$148)*$AB$22","v":0},{"$f":"COUNTIF($D$127:$AA$127,$G$148)*$AB$22","v":0},{"$f":"COUNTIF($D$127:$AA$127,$H$148)*$AB$22","v":0},{"$f":"COUNTIF($D$127:$AA$127,$I$148)*$AB$22","v":0},{"$f":"COUNTIF($D$127:$AA$127,$J$148)*$AB$22","v":0},{"$f":"COUNTIF($D$127:$AA$127,$K$148)*$AB$22","v":0},{"$f":"COUNTIF($D$127:$AA$127,$L$148)*$AB$22","v":0},{"$f":"COUNTIF($D$127:$AA$127,$M$148)*$AB$22","v":0},{"$f":"COUNTIF($D$127:$AA$127,$N$148)*$AB$22","v":0},{"$f":"COUNTIF($D$127:$AA$127,$O$148)*$AB$22","v":0},{"$f":"COUNTIF($D$127:$AA$127,$P$148)*$AB$22","v":0},{"$f":"COUNTIF($D$127:$AA$127,$Q$148)*$AB$22","v":0},{"$f":"COUNTIF($D$127:$AA$127,$R$148)*$AB$22","v":0},{"$f":"COUNTIF($D$127:$AA$127,$S$148)*$AB$22","v":0},{"$f":"COUNTIF($D$127:$AA$127,$T$148)*$AB$22","v":0},{"$f":"COUNTIF($D$127:$AA$127,$U$148)*$AB$22","v":0},{"$f":"COUNTIF($D$127:$AA$127,$V$148)*$AB$22","v":0},{"$f":"COUNTIF($D$127:$AA$127,$W$148)*$AB$22","v":0},{"$f":"COUNTIF($D$127:$AA$127,$X$148)*$AB$22","v":0},{"$f":"COUNTIF($D$127:$AA$127,$Y$148)*$AB$22","v":0},{"$f":"COUNTIF($D$127:$AA$127,$Z$148)*$AB$22","v":0},{"$f":"COUNTIF($D$127:$AA$127,$AA$148)*$AB$22","v":0},{"$f":"COUNTIF($D$127:$AA$127,$AB$148)*$AB$22","v":0},{"$f":"COUNTIF($D$127:$AA$127,$AC$148)*$AB$22","v":0},{"$f":"COUNTIF($D$127:$AA$127,$AD$148)*$AB$22","v":0},{"$f":"COUNTIF($D$127:$AA$127,$AE$148)*$AB$22","v":0},{"$f":"COUNTIF($D$127:$AA$127,$AF$148)*$AB$22","v":0},{"$f":"COUNTIF($D$127:$AA$127,$AG$148)*$AB$22","v":0},{"$f":"COUNTIF($D$127:$AA$127,$AH$148)*$AB$22","v":0},{"$f":"COUNTIF($D$127:$AA$127,$AI$148)*$AB$22","v":0},{"$f":"COUNTIF($D$127:$AA$127,$AJ$148)*$AB$22","v":0},{"$f":"COUNTIF($D$127:$AA$127,$AK$148)*$AB$22","v":0},{"$f":"COUNTIF($D$127:$AA$127,$AL$148)*$AB$22","v":0},{"$f":"COUNTIF($D$127:$AA$127,$AM$148)*$AB$22","v":0},{"$f":"COUNTIF($D$127:$AA$127,$AN$148)*$AB$22","v":0},{"$f":"COUNTIF($D$127:$AA$127,$AO$148)*$AB$22","v":0},{"$f":"COUNTIF($D$127:$AA$127,$AP$148)*$AB$22","v":0},{"$f":"COUNTIF($D$127:$AA$127,$AQ$148)*$AB$22","v":0},{"$f":"COUNTIF($D$127:$AA$127,$AR$148)*$AB$22","v":0},{"$f":"COUNTIF($D$127:$AA$127,$AS$148)*$AB$22","v":0},2,null,0,0,0,0,0,{"$error":"#VALUE!"},0,{"$error":"#VALUE!"},{"$error":"#VALUE!"},0,{"$error":"#VALUE!"},null,{"$error":"#VALUE!"},0,{"$f":"SUM(BH159:BI159)","v":{"$error":"#VALUE!"}},{"$error":"#VALUE!"},0,{"$error":"#VALUE!"},{"$error":"#VALUE!"},0,{"$error":"#VALUE!"}]
[null,null,3,{"$f":"COUNTIF($D$128:$AA$128,$D$148)*$AB$23","v":0},{"$f":"COUNTIF($D$128:$AA$128,$E$148)*$AB$23","v":0},{"$f":"COUNTIF($D$128:$AA$128,$F$148)*$AB$23","v":0},{"$f":"COUNTIF($D$128:$AA$128,$G$148)*$AB$23","v":0},{"$f":"COUNTIF($D$128:$AA$128,$H$148)*$AB$23","v":0},{"$f":"COUNTIF($D$128:$AA$128,$I$148)*$AB$23","v":0},{"$f":"COUNTIF($D$128:$AA$128,$J$148)*$AB$23","v":0},{"$f":"COUNTIF($D$128:$AA$128,$K$148)*$AB$23","v":0},{"$f":"COUNTIF($D$128:$AA$128,$L$148)*$AB$23","v":0},{"$f":"COUNTIF($D$128:$AA$128,$M$148)*$AB$23","v":0},{"$f":"COUNTIF($D$128:$AA$128,$N$148)*$AB$23","v":0},{"$f":"COUNTIF($D$128:$AA$128,$O$148)*$AB$23","v":0},{"$f":"COUNTIF($D$128:$AA$128,$P$148)*$AB$23","v":0},{"$f":"COUNTIF($D$128:$AA$128,$Q$148)*$AB$23","v":0},{"$f":"COUNTIF($D$128:$AA$128,$R$148)*$AB$23","v":0},{"$f":"COUNTIF($D$128:$AA$128,$S$148)*$AB$23","v":0},{"$f":"COUNTIF($D$128:$AA$128,$T$148)*$AB$23","v":0},{"$f":"COUNTIF($D$128:$AA$128,$U$148)*$AB$23","v":0},{"$f":"COUNTIF($D$128:$AA$128,$V$148)*$AB$23","v":0},{"$f":"COUNTIF($D$128:$AA$128,$W$148)*$AB$23","v":0},{"$f":"COUNTIF($D$128:$AA$128,$X$148)*$AB$23","v":0},{"$f":"COUNTIF($D$128:$AA$128,$Y$148)*$AB$23","v":0},{"$f":"COUNTIF($D$128:$AA$128,$Z$148)*$AB$23","v":0},{"$f":"COUNTIF($D$128:$AA$128,$AA$148)*$AB$23","v":0},{"$f":"COUNTIF($D$128:$AA$128,$AB$148)*$AB$23","v":0},{"$f":"COUNTIF($D$128:$AA$128,$AC$148)*$AB$23","v":0},{"$f":"COUNTIF($D$128:$AA$128,$AD$148)*$AB$23","v":0},{"$f":"COUNTIF($D$128:$AA$128,$AE$148)*$AB$23","v":0},{"$f":"COUNTIF($D$128:$AA$128,$AF$148)*$AB$23","v":0},{"$f":"COUNTIF($D$128:$AA$128,$AG$148)*$AB$23","v":0},{"$f":"COUNTIF($D$128:$AA$128,$AH$148)*$AB$23","v":0},{"$f":"COUNTIF($D$128:$AA$128,$AI$148)*$AB$23","v":0},{"$f":"COUNTIF($D$128:$AA$128,$AJ$148)*$AB$23","v":0},{"$f":"COUNTIF($D$128:$AA$128,$AK$148)*$AB$23","v":0},{"$f":"COUNTIF($D$128:$AA$128,$AL$148)*$AB$23","v":0},{"$f":"COUNTIF($D$128:$AA$128,$AM$148)*$AB$23","v":0},{"$f":"COUNTIF($D$128:$AA$128,$AN$148)*$AB$23","v":0},{"$f":"COUNTIF($D$128:$AA$128,$AO$148)*$AB$23","v":0},{"$f":"COUNTIF($D$128:$AA$128,$AP$148)*$AB$23","v":0},{"$f":"COUNTIF($D$128:$AA$128,$AQ$148)*$AB$23","v":0},{"$f":"COUNTIF($D$128:$AA$128,$AR$148)*$AB$23","v":0},{"$f":"COUNTIF($D$128:$AA$128,$AS$148)*$AB$23","v":0},3,null,0,0,0,0,{"$f":"SUM(AX160:AY160)","v":0},{"$error":"#VALUE!"},0,{"$f":"SUM(BA160:BB160)","v":{"$error":"#VALUE!"}},{"$error":"#VALUE!"},0,{"$f":"SUM(BD160:BE160)","v":{"$error":"#VALUE!"}},null,{"$error":"#VALUE!"},0,{"$f":"SUM(BH160:BI160)","v":{"$error":"#VALUE!"}},{"$error":"#VALUE!"},0,{"$f":"SUM(BK160:BL160)","v":{"$error":"#VALUE!"}},{"$error":"#VALUE!"},0,{"$f":"SUM(BN160:BO160)","v":{"$error":"#VALUE!"}}]
[null,"tc","冷却運転時間",{"$f":"SUM($D$149:$D$160)","v":0},{"$f":"SUM($E$149:$E$160)","v":0},{"$f":"SUM($F$149:$F$160)","v":0},{"$f":"SUM($G$149:$G$160)","v":0},{"$f":"SUM($H$149:$H$160)","v":0},{"$f":"SUM($I$149:$I$160)","v":0},{"$f":"SUM($J$149:$J$160)","v":0},{"$f":"SUM($K$149:$K$160)","v":0},{"$f":"SUM($L$149:$L$160)","v":0},{"$f":"SUM($M$149:$M$160)","v":0},{"$f":"SUM($N$149:$N$160)","v":0},{"$f":"SUM($O$149:$O$160)","v":0},{"$f":"SUM($P$149:$P$160)","v":0},{"$f":"SUM($Q$149:$Q$160)","v":0},{"$f":"SUM($R$149:$R$160)","v":0},{"$f":"SUM($S$149:$S$160)","v":0},{"$f":"SUM($T$149:$T$160)","v":0},{"$f":"SUM($U$149:$U$160)","v":0},{"$f":"SUM($V$149:$V$160)","v":0},{"$f":"SUM($W$149:$W$160)","v":0},{"$f":"SUM($X$149:$X$160)","v":0},{"$f":"SUM($Y$149:$Y$160)","v":0},{"$f":"SUM($Z$149:$Z$160)","v":0},{"$f":"SUM($AA$149:$AA$160)","v":0},{"$f":"SUM($AB$149:$AB$160)","v":0},{"$f":"SUM($AC$149:$AC$160)","v":0},{"$f":"SUM($AD$149:$AD$160)","v":0},{"$f":"SUM($AE$149:$AE$160)","v":0},{"$f":"SUM($AF$149:$AF$160)","v":0},{"$f":"SUM($AG$149:$AG$160)","v":0},{"$f":"SUM($AH$149:$AH$160)","v":0},{"$f":"SUM($AI$149:$AI$160)","v":0},{"$f":"SUM($AJ$149:$AJ$160)","v":0},{"$f":"SUM($AK$149:$AK$160)","v":0},{"$f":"SUM($AL$149:$AL$160)","v":0},{"$f":"SUM($AM$149:$AM$160)","v":0},{"$f":"SUM($AN$149:$AN$160)","v":0},{"$f":"SUM($AO$149:$AO$160)","v":0},{"$f":"SUM($AP$149:$AP$160)","v":0},{"$f":"SUM($AQ$149:$AQ$160)","v":0},{"$f":"SUM($AR$149:$AR$160)","v":0},{"$f":"SUM($AS$149:$AS$160)","v":0},"冷却運転時間",null,{"$f":"SUM(AV149:AV160)","v":0},{"$f":"SUM(AW149:AW160)","v":0},0,0,0,{"$error":"#VALUE!"},0,{"$error":"#VALUE!"},{"$error":"#VALUE!"},0,{"$error":"#VALUE!"},null,{"$error":"#VALUE!"},0,{"$error":"#VALUE!"},{"$error":"#VALUE!"},0,{"$error":"#VALUE!"},{"$error":"#VALUE!"},0,{"$error":"#VALUE!"}]
[null,"εc","冷却時消費電力比",{"$f":"$D$163/$D$164","v":0},{"$f":"$E$163/$E$164","v":0},{"$f":"$F$163/$F$164","v":0},{"$f":"$G$163/$G$164","v":0},{"$f":"$H$163/$H$164","v":0},{"$f":"$I$163/$I$164","v":0},{"$f":"$J$163/$J$164","v":0},{"$f":"$K$163/$K$164","v":0},{"$f":"$L$163/$L$164","v":0},{"$f":"$M$163/$M$164","v":0},{"$f":"$N$163/$N$164","v":0},{"$f":"$O$163/$O$164","v":0},{"$f":"$P$163/$P$164","v":0},{"$f":"$Q$163/$Q$164","v":0},{"$f":"$R$163/$R$164","v":0},{"$f":"$S$163/$S$164","v":0},{"$f":"$T$163/$T$164","v":0},{"$f":"$U$163/$U$164","v":0},{"$f":"$V$163/$V$164","v":0},{"$f":"$W$163/$W$164","v":0},{"$f":"$X$163/$X$164","v":0},{"$f":"$Y$163/$Y$164","v":0},{"$f":"$Z$163/$Z$164","v":2.7954950038913257E-2},{"$f":"$AA$163/$AA$164","v":5.7295984754684365E-2},{"$f":"$AB$163/$AB$164","v":8.8117734692774549E-2},{"$f":"$AC$163/$AC$164","v":0.1205235301100922},{"$f":"$AD$163/$AD$164","v":0.15462642256308759},{"$f":"$AE$163/$AE$164","v":0.19055035388376554},{"$f":"$AF$163/$AF$164","v":0.22843149796239107},{"$f":"$AG$163/$AG$164","v":0.26841980589221737},{"$f":"$AH$163/$AH$164","v":0.31068079136611182},{"$f":"$AI$163/$AI$164","v":0.35539760106619284},{"$f":"$AJ$163/$AJ$164","v":0.40277342457005777},{"$f":"$AK$163/$AK$164","v":0.45303431055350984},{"$f":"$AL$163/$AL$164","v":0.50643247151512127},{"$f":"$AM$163/$AM$164","v":0.56325017883193185},{"$f":"$AN$163/$AN$164","v":0.62380437494801644},{"$f":"$AO$163/$AO$164","v":0.68845216161070288},{"$f":"$AP$163/$AP$164","v":0.75759736463072036},{"$f":"$AQ$163/$AQ$164","v":0.83169842984577558},{"$f":"$AR$163/$AR$164","v":0.91127797623387052},{"$f":"$AS$163/$AS$164","v":0.99693442663808818},"冷却時消費電力比"]
[null,"αc","冷却空調負荷率",{"$f":"IF((1/20)*(D$148-35)+1<0,0,IF((1/20)*(D$148-35)+1>1,1,(1/20)*(D$148-35)+1))","v":0},{"$f":"IF((1/20)*(E$148-35)+1<0,0,IF((1/20)*(E$148-35)+1>1,1,(1/20)*(E$148-35)+1))","v":0},0,0,0,0,0,0,0,0,0,0,0,0,0,0,0,0,0,0,0,0,4.9999999999999933E-2,9.9999999999999978E-2,0.14999999999999991,0.19999999999999996,0.25,0.29999999999999993,0.35,0.39999999999999991,0.44999999999999996,0.5,0.55000000000000004,0.6,0.64999999999999991,0.7,0.75,0.8,0.85,0.9,0.95,1,"冷却空調負荷率"]
[null,"βc","冷却COP比",{"$f":"1.07/10000*D$148*D$148-0.0468*D$148+2.51","v":2.7946519999999997},{"$f":"1.07/10000*E$148*E$148-0.0468*E$148+2.51","v":2.7466749999999998},{"$f":"1.07/10000*F$148*F$148-0.0468*F$148+2.51","v":2.698912},2.6513629999999999,2.6040279999999996,2.5569069999999998,2.5099999999999998,2.4633069999999999,2.4168279999999998,2.3705629999999998,2.3245119999999999,2.2786749999999998,2.2330519999999998,2.1876429999999996,2.1424479999999999,2.097467,2.0526999999999997,{"$f":"1.07/10000*U$148*U$148-0.0468*U$148+2.51","v":2.0081469999999997},1.9638079999999998,1.9196829999999996,1.8757719999999998,1.8320749999999997,1.7885919999999997,1.745323,1.7022679999999997,{"$f":"1.07/10000*AC$148*AC$148-0.0468*AC$148+2.51","v":1.6594269999999998},1.6167999999999998,1.5743869999999998,1.5321879999999997,1.4902029999999997,1.4484319999999997,1.4068749999999999,1.3655319999999997,1.3244029999999998,1.2834879999999997,1.2427869999999999,1.2022999999999997,1.1620269999999997,1.1219679999999999,1.0821229999999997,1.0424919999999998,{"$f":"1.07/10000*AS$148*AS$148-0.0468*AS$148+2.51","v":1.0030749999999997},"冷却COP比"]
[null,null,"Σ",{"$f":"$D$161*$D$162","v":0},{"$f":"$E$161*$E$162","v":0},{"$f":"$F$161*$F$162","v":0},{"$f":"$G$161*$G$162","v":0},{"$f":"$H$161*$H$162","v":0},{"$f":"$I$161*$I$162","v":0},{"$f":"$J$161*$J$162","v":0},{"$f":"$K$161*$K$162","v":0},{"$f":"$L$161*$L$162","v":0},{"$f":"$M$161*$M$162","v":0},{"$f":"$N$161*$N$162","v":0},{"$f":"$O$161*$O$162","v":0},{"$f":"$P$161*$P$162","v":0},{"$f":"$Q$161*$Q$162","v":0},{"$f":"$R$161*$R$162","v":0},{"$f":"$S$161*$S$162","v":0},{"$f":"$T$161*$T$162","v":0},{"$f":"$U$161*$U$162","v":0},{"$f":"$V$161*$V$162","v":0},{"$f":"$W$161*$W$162","v":0},{"$f":"$X$161*$X$162","v":0},{"$f":"$Y$161*$Y$162","v":0},{"$f":"$Z$161*$Z$162","v":0},{"$f":"$AA$161*$AA$162","v":0},{"$f":"$AB$161*$AB$162","v":0},{"$f":"$AC$161*$AC$162","v":0},{"$f":"$AD$161*$AD$162","v":0},{"$f":"$AE$161*$AE$162","v":0},{"$f":"$AF$161*$AF$162","v":0},{"$f":"$AG$161*$AG$162","v":0},{"$f":"$AH$161*$AH$162","v":0},{"$f":"$AI$161*$AI$162","v":0},{"$f":"$AJ$161*$AJ$162","v":0},{"$f":"$AK$161*$AK$162","v":0},{"$f":"$AL$161*$AL$162","v":0},{"$f":"$AM$161*$AM$162","v":0},{"$f":"$AN$161*$AN$162","v":0},{"$f":"$AO$161*$AO$162","v":0},{"$f":"$AP$161*$AP$162","v":0},{"$f":"$AQ$161*$AQ$162","v":0},{"$f":"$AR$161*$AR$162","v":0},{"$f":"$AS$161*$AS$162","v":0},{"$f":"SUM($D$165:$AS$165)","v":0}]
[]
[null,null,"加熱期間中　外気温度(T)が発生する時間[hour]"]
[null,null,null," 外気温度(T)",null,null,null,null,null,null,null,null,null,null,null,null,null,null,null,null,null,null,null,null,null,null,null,null,null,null,null,null,null,null,null,null,null,null,null,null,null,null,null,null,null,null,null,"共通","共通","前1",null,null,"前2",null,null,"前3",null,null,null,"後1",null,null,"後2",null,null,"後3"]
[null,null,"月",-6,-5,-4,-3,-2,-1,0,1,2,3,4,5,6,7,8,9,10,11,12,13,14,15,16,17,18,19,20,21,22,23,24,25,26,27,28,29,30,31,32,33,34,35,"月",null,"EwwのΣ","EaxwのΣ","Eww","Eaxw","Ew","Eww","Eaxw","Ew","Eww","Eaxw","Ew",null,"Eww","Eaxw","Ew","Eww","Eaxw","Ew","Eww","Eaxw","Ew"]
[null,null,4,{"$f":"COUNTIF($D$133:$AA$133,$D$169)*$AB$12","v":0},{"$f":"COUNTIF($D$133:$AA$133,$E$169)*$AB$12","v":0},{"$f":"COUNTIF($D$133:$AA$133,$F$169)*$AB$12","v":0},{"$f":"COUNTIF($D$133:$AA$133,$G$169)*$AB$12","v":0},{"$f":"COUNTIF($D$133:$AA$133,$H$169)*$AB$12","v":0},{"$f":"COUNTIF($D$133:$AA$133,$I$169)*$AB$12","v":0},{"$f":"COUNTIF($D$133:$AA$133,$J$169)*$AB$12","v":0},{"$f":"COUNTIF($D$133:$AA$133,$K$169)*$AB$12","v":0},{"$f":"COUNTIF($D$133:$AA$133,$L$169)*$AB$12","v":0},{"$f":"COUNTIF($D$133:$AA$133,$M$169)*$AB$12","v":0},{"$f":"COUNTIF($D$133:$AA$133,$N$169)*$AB$12","v":0},{"$f":"COUNTIF($D$133:$AA$133,$O$169)*$AB$12","v":0},{"$f":"COUNTIF($D$133:$AA$133,$P$169)*$AB$12","v":0},{"$f":"COUNTIF($D$133:$AA$133,$Q$169)*$AB$12","v":0},{"$f":"COUNTIF($D$133:$AA$133,$R$169)*$AB$12","v":0},{"$f":"COUNTIF($D$133:$AA$133,$S$169)*$AB$12","v":0},{"$f":"COUNTIF($D$133:$AA$133,$T$169)*$AB$12","v":0},{"$f":"COUNTIF($D$133:$AA$133,$U$169)*$AB$12","v":0},{"$f":"COUNTIF($D$133:$AA$133,$V$169)*$AB$12","v":0},{"$f":"COUNTIF($D$133:$AA$133,$W$169)*$AB$12","v":0},{"$f":"COUNTIF($D$133:$AA$133,$X$169)*$AB$12","v":0},{"$f":"COUNTIF($D$133:$AA$133,$Y$169)*$AB$12","v":0},{"$f":"COUNTIF($D$133:$AA$133,$Z$169)*$AB$12","v":0},{"$f":"COUNTIF($D$133:$AA$133,$AA$169)*$AB$12","v":0},{"$f":"COUNTIF($D$133:$AA$133,$AB$169)*$AB$12","v":0},{"$f":"COUNTIF($D$133:$AA$133,$AC$169)*$AB$12","v":0},{"$f":"COUNTIF($D$133:$AA$133,$AD$169)*$AB$12","v":0},{"$f":"COUNTIF($D$133:$AA$133,$AE$169)*$AB$12","v":0},{"$f":"COUNTIF($D$133:$AA$133,$AF$169)*$AB$12","v":0},{"$f":"COUNTIF($D$133:$AA$133,$AG$169)*$AB$12","v":0},{"$f":"COUNTIF($D$133:$AA$133,$AH$169)*$AB$12","v":0},{"$f":"COUNTIF($D$133:$AA$133,$AI$169)*$AB$12","v":0},{"$f":"COUNTIF($D$133:$AA$133,$AJ$169)*$AB$12","v":0},{"$f":"COUNTIF($D$133:$AA$133,$AK$169)*$AB$12","v":0},{"$f":"COUNTIF($D$133:$AA$133,$AL$169)*$AB$12","v":0},{"$f":"COUNTIF($D$133:$AA$133,$AM$169)*$AB$12","v":0},{"$f":"COUNTIF($D$133:$AA$133,$AN$169)*$AB$12","v":0},{"$f":"COUNTIF($D$133:$AA$133,$AO$169)*$AB$12","v":0},{"$f":"COUNTIF($D$133:$AA$133,$AP$169)*$AB$12","v":0},{"$f":"COUNTIF($D$133:$AA$133,$AQ$169)*$AB$12","v":0},{"$f":"COUNTIF($D$133:$AA$133,$AR$169)*$AB$12","v":0},{"$f":"COUNTIF($D$133:$AA$133,$AS$169)*$AB$12","v":0},4,null,{"$f":"SUMPRODUCT(D170:AS170,$D$183:$AS$183)","v":0},{"$f":"SUMPRODUCT(D170:AS170,$D$192:$AS$192)","v":0},{"$f":"($Q$29*$C$7)/$Q$34*$AV170*$Q$37","v":{"$error":"#VALUE!"}},{"$f":"$Q$35*$AW170","v":0},{"$f":"SUM(AX170:AY170)","v":{"$error":"#VALUE!"}},{"$f":"($R$29*$C$7)/$R$34*$AV170*$R$37","v":{"$error":"#VALUE!"}},{"$f":"$R$35*$AW170","v":0},{"$f":"SUM(BA170:BB170)","v":{"$error":"#VALUE!"}},{"$f":"($S$29*$C$7)/$S$34*$AV170*$S$37","v":{"$error":"#VALUE!"}},{"$f":"$S$35*$AW170","v":0},{"$f":"SUM(BD170:BE170)","v":{"$error":"#VALUE!"}},null,{"$f":"($Q$43*$C$7)/$Q$48*$AV170*$Q$51","v":{"$error":"#VALUE!"}},{"$f":"$Q$49*$AW170","v":0},{"$f":"SUM(BH170:BI170)","v":{"$error":"#VALUE!"}},{"$f":"($R$43*$C$7)/$R$48*$AV170*$R$51","v":{"$error":"#VALUE!"}},{"$f":"$R$49*$AW170","v":0},{"$f":"SUM(BK170:BL170)","v":{"$error":"#VALUE!"}},{"$f":"($S$43*$C$7)/$S$48*$AV170*$S$51","v":{"$error":"#VALUE!"}},{"$f":"$S$49*$AW170","v":0},{"$f":"SUM(BN170:BO170)","v":{"$error":"#VALUE!"}}]
[null,null,5,{"$f":"COUNTIF($D$134:$AA$134,$D$169)*$AB$13","v":0},{"$f":"COUNTIF($D$134:$AA$134,$E$169)*$AB$13","v":0},{"$f":"COUNTIF($D$134:$AA$134,$F$169)*$AB$13","v":0},{"$f":"COUNTIF($D$134:$AA$134,$G$169)*$AB$13","v":0},{"$f":"COUNTIF($D$134:$AA$134,$H$169)*$AB$13","v":0},{"$f":"COUNTIF($D$134:$AA$134,$I$169)*$AB$13","v":0},{"$f":"COUNTIF($D$134:$AA$134,$J$169)*$AB$13","v":0},{"$f":"COUNTIF($D$134:$AA$134,$K$169)*$AB$13","v":0},{"$f":"COUNTIF($D$134:$AA$134,$L$169)*$AB$13","v":0},{"$f":"COUNTIF($D$134:$AA$134,$M$169)*$AB$13","v":0},{"$f":"COUNTIF($D$134:$AA$134,$N$169)*$AB$13","v":0},{"$f":"COUNTIF($D$134:$AA$134,$O$169)*$AB$13","v":0},{"$f":"COUNTIF($D$134:$AA$134,$P$169)*$AB$13","v":0},{"$f":"COUNTIF($D$134:$AA$134,$Q$169)*$AB$13","v":0},{"$f":"COUNTIF($D$134:$AA$134,$R$169)*$AB$13","v":0},{"$f":"COUNTIF($D$134:$AA$134,$S$169)*$AB$13","v":0},{"$f":"COUNTIF($D$134:$AA$134,$T$169)*$AB$13","v":0},{"$f":"COUNTIF($D$134:$AA$134,$U$169)*$AB$13","v":0},{"$f":"COUNTIF($D$134:$AA$134,$V$169)*$AB$13","v":0},{"$f":"COUNTIF($D$134:$AA$134,$W$169)*$AB$13","v":0},{"$f":"COUNTIF($D$134:$AA$134,$X$169)*$AB$13","v":0},{"$f":"COUNTIF($D$134:$AA$134,$Y$169)*$AB$13","v":0},{"$f":"COUNTIF($D$134:$AA$134,$Z$169)*$AB$13","v":0},{"$f":"COUNTIF($D$134:$AA$134,$AA$169)*$AB$13","v":0},{"$f":"COUNTIF($D$134:$AA$134,$AB$169)*$AB$13","v":0},{"$f":"COUNTIF($D$134:$AA$134,$AC$169)*$AB$13","v":0},{"$f":"COUNTIF($D$134:$AA$134,$AD$169)*$AB$13","v":0},{"$f":"COUNTIF($D$134:$AA$134,$AE$169)*$AB$13","v":0},{"$f":"COUNTIF($D$134:$AA$134,$AF$169)*$AB$13","v":0},{"$f":"COUNTIF($D$134:$AA$134,$AG$169)*$AB$13","v":0},{"$f":"COUNTIF($D$134:$AA$134,$AH$169)*$AB$13","v":0},{"$f":"COUNTIF($D$134:$AA$134,$AI$169)*$AB$13","v":0},{"$f":"COUNTIF($D$134:$AA$134,$AJ$169)*$AB$13","v":0},{"$f":"COUNTIF($D$134:$AA$134,$AK$169)*$AB$13","v":0},{"$f":"COUNTIF($D$134:$AA$134,$AL$169)*$AB$13","v":0},{"$f":"COUNTIF($D$134:$AA$134,$AM$169)*$AB$13","v":0},{"$f":"COUNTIF($D$134:$AA$134,$AN$169)*$AB$13","v":0},{"$f":"COUNTIF($D$134:$AA$134,$AO$169)*$AB$13","v":0},{"$f":"COUNTIF($D$134:$AA$134,$AP$169)*$AB$13","v":0},{"$f":"COUNTIF($D$134:$AA$134,$AQ$169)*$AB$13","v":0},{"$f":"COUNTIF($D$134:$AA$134,$AR$169)*$AB$13","v":0},{"$f":"COUNTIF($D$134:$AA$134,$AS$169)*$AB$13","v":0},5,null,{"$f":"SUMPRODUCT(D171:AS171,$D$183:$AS$183)","v":0},{"$f":"SUMPRODUCT(D171:AS171,$D$192:$AS$192)","v":0},{"$f":"($Q$29*$C$7)/$Q$34*$AV171*$Q$37","v":{"$error":"#VALUE!"}},{"$f":"$Q$35*$AW171","v":0},{"$f":"SUM(AX171:AY171)","v":{"$error":"#VALUE!"}},{"$f":"($R$29*$C$7)/$R$34*$AV171*$R$37","v":{"$error":"#VALUE!"}},{"$f":"$R$35*$AW171","v":0},{"$f":"SUM(BA171:BB171)","v":{"$error":"#VALUE!"}},{"$f":"($S$29*$C$7)/$S$34*$AV171*$S$37","v":{"$error":"#VALUE!"}},{"$f":"$S$35*$AW171","v":0},{"$f":"SUM(BD171:BE171)","v":{"$error":"#VALUE!"}},null,{"$f":"($Q$43*$C$7)/$Q$48*$AV171*$Q$51","v":{"$error":"#VALUE!"}},{"$f":"$Q$49*$AW171","v":0},{"$f":"SUM(BH171:BI171)","v":{"$error":"#VALUE!"}},{"$f":"($R$43*$C$7)/$R$48*$AV171*$R$51","v":{"$error":"#VALUE!"}},{"$f":"$R$49*$AW171","v":0},{"$f":"SUM(BK171:BL171)","v":{"$error":"#VALUE!"}},{"$f":"($S$43*$C$7)/$S$48*$AV171*$S$51","v":{"$error":"#VALUE!"}},{"$f":"$S$49*$AW171","v":0},{"$f":"SUM(BN171:BO171)","v":{"$error":"#VALUE!"}}]
[null,null,6,{"$f":"COUNTIF($D$135:$AA$135,$D$169)*$AB$14","v":0},{"$f":"COUNTIF($D$135:$AA$135,$E$169)*$AB$14","v":0},{"$f":"COUNTIF($D$135:$AA$135,$F$169)*$AB$14","v":0},{"$f":"COUNTIF($D$135:$AA$135,$G$169)*$AB$14","v":0},{"$f":"COUNTIF($D$135:$AA$135,$H$169)*$AB$14","v":0},{"$f":"COUNTIF($D$135:$AA$135,$I$169)*$AB$14","v":0},{"$f":"COUNTIF($D$135:$AA$135,$J$169)*$AB$14","v":0},{"$f":"COUNTIF($D$135:$AA$135,$K$169)*$AB$14","v":0},{"$f":"COUNTIF($D$135:$AA$135,$L$169)*$AB$14","v":0},{"$f":"COUNTIF($D$135:$AA$135,$M$169)*$AB$14","v":0},{"$f":"COUNTIF($D$135:$AA$135,$N$169)*$AB$14","v":0},{"$f":"COUNTIF($D$135:$AA$135,$O$169)*$AB$14","v":0},{"$f":"COUNTIF($D$135:$AA$135,$P$169)*$AB$14","v":0},{"$f":"COUNTIF($D$135:$AA$135,$Q$169)*$AB$14","v":0},{"$f":"COUNTIF($D$135:$AA$135,$R$169)*$AB$14","v":0},{"$f":"COUNTIF($D$135:$AA$135,$S$169)*$AB$14","v":0},{"$f":"COUNTIF($D$135:$AA$135,$T$169)*$AB$14","v":0},{"$f":"COUNTIF($D$135:$AA$135,$U$169)*$AB$14","v":0},{"$f":"COUNTIF($D$135:$AA$135,$V$169)*$AB$14","v":0},{"$f":"COUNTIF($D$135:$AA$135,$W$169)*$AB$14","v":0},{"$f":"COUNTIF($D$135:$AA$135,$X$169)*$AB$14","v":0},{"$f":"COUNTIF($D$135:$AA$135,$Y$169)*$AB$14","v":0},{"$f":"COUNTIF($D$135:$AA$135,$Z$169)*$AB$14","v":0},{"$f":"COUNTIF($D$135:$AA$135,$AA$169)*$AB$14","v":0},{"$f":"COUNTIF($D$135:$AA$135,$AB$169)*$AB$14","v":0},{"$f":"COUNTIF($D$135:$AA$135,$AC$169)*$AB$14","v":0},{"$f":"COUNTIF($D$135:$AA$135,$AD$169)*$AB$14","v":0},{"$f":"COUNTIF($D$135:$AA$135,$AE$169)*$AB$14","v":0},{"$f":"COUNTIF($D$135:$AA$135,$AF$169)*$AB$14","v":0},{"$f":"COUNTIF($D$135:$AA$135,$AG$169)*$AB$14","v":0},{"$f":"COUNTIF($D$135:$AA$135,$AH$169)*$AB$14","v":0},{"$f":"COUNTIF($D$135:$AA$135,$AI$169)*$AB$14","v":0},{"$f":"COUNTIF($D$135:$AA$135,$AJ$169)*$AB$14","v":0},{"$f":"COUNTIF($D$135:$AA$135,$AK$169)*$AB$14","v":0},{"$f":"COUNTIF($D$135:$AA$135,$AL$169)*$AB$14","v":0},{"$f":"COUNTIF($D$135:$AA$135,$AM$169)*$AB$14","v":0},{"$f":"COUNTIF($D$135:$AA$135,$AN$169)*$AB$14","v":0},{"$f":"COUNTIF($D$135:$AA$135,$AO$169)*$AB$14","v":0},{"$f":"COUNTIF($D$135:$AA$135,$AP$169)*$AB$14","v":0},{"$f":"COUNTIF($D$135:$AA$135,$AQ$169)*$AB$14","v":0},{"$f":"COUNTIF($D$135:$AA$135,$AR$169)*$AB$14","v":0},{"$f":"COUNTIF($D$135:$AA$135,$AS$169)*$AB$14","v":0},6,null,0,0,{"$error":"#VALUE!"},0,{"$f":"SUM(AX172:AY172)","v":{"$error":"#VALUE!"}},{"$error":"#VALUE!"},0,{"$error":"#VALUE!"},{"$error":"#VALUE!"},0,{"$error":"#VALUE!"},null,{"$error":"#VALUE!"},0,{"$error":"#VALUE!"},{"$error":"#VALUE!"},0,{"$error":"#VALUE!"},{"$error":"#VALUE!"},0,{"$error":"#VALUE!"}]
[null,null,7,{"$f":"COUNTIF($D$136:$AA$136,$D$169)*$AB$15","v":0},{"$f":"COUNTIF($D$136:$AA$136,$E$169)*$AB$15","v":0},{"$f":"COUNTIF($D$136:$AA$136,$F$169)*$AB$15","v":0},{"$f":"COUNTIF($D$136:$AA$136,$G$169)*$AB$15","v":0},{"$f":"COUNTIF($D$136:$AA$136,$H$169)*$AB$15","v":0},{"$f":"COUNTIF($D$136:$AA$136,$I$169)*$AB$15","v":0},{"$f":"COUNTIF($D$136:$AA$136,$J$169)*$AB$15","v":0},{"$f":"COUNTIF($D$136:$AA$136,$K$169)*$AB$15","v":0},{"$f":"COUNTIF($D$136:$AA$136,$L$169)*$AB$15","v":0},{"$f":"COUNTIF($D$136:$AA$136,$M$169)*$AB$15","v":0},{"$f":"COUNTIF($D$136:$AA$136,$N$169)*$AB$15","v":0},{"$f":"COUNTIF($D$136:$AA$136,$O$169)*$AB$15","v":0},{"$f":"COUNTIF($D$136:$AA$136,$P$169)*$AB$15","v":0},{"$f":"COUNTIF($D$136:$AA$136,$Q$169)*$AB$15","v":0},{"$f":"COUNTIF($D$136:$AA$136,$R$169)*$AB$15","v":0},{"$f":"COUNTIF($D$136:$AA$136,$S$169)*$AB$15","v":0},{"$f":"COUNTIF($D$136:$AA$136,$T$169)*$AB$15","v":0},{"$f":"COUNTIF($D$136:$AA$136,$U$169)*$AB$15","v":0},{"$f":"COUNTIF($D$136:$AA$136,$V$169)*$AB$15","v":0},{"$f":"COUNTIF($D$136:$AA$136,$W$169)*$AB$15","v":0},{"$f":"COUNTIF($D$136:$AA$136,$X$169)*$AB$15","v":0},{"$f":"COUNTIF($D$136:$AA$136,$Y$169)*$AB$15","v":0},{"$f":"COUNTIF($D$136:$AA$136,$Z$169)*$AB$15","v":0},{"$f":"COUNTIF($D$136:$AA$136,$AA$169)*$AB$15","v":0},{"$f":"COUNTIF($D$136:$AA$136,$AB$169)*$AB$15","v":0},{"$f":"COUNTIF($D$136:$AA$136,$AC$169)*$AB$15","v":0},{"$f":"COUNTIF($D$136:$AA$136,$AD$169)*$AB$15","v":0},{"$f":"COUNTIF($D$136:$AA$136,$AE$169)*$AB$15","v":0},{"$f":"COUNTIF($D$136:$AA$136,$AF$169)*$AB$15","v":0},{"$f":"COUNTIF($D$136:$AA$136,$AG$169)*$AB$15","v":0},{"$f":"COUNTIF($D$136:$AA$136,$AH$169)*$AB$15","v":0},{"$f":"COUNTIF($D$136:$AA$136,$AI$169)*$AB$15","v":0},{"$f":"COUNTIF($D$136:$AA$136,$AJ$169)*$AB$15","v":0},{"$f":"COUNTIF($D$136:$AA$136,$AK$169)*$AB$15","v":0},{"$f":"COUNTIF($D$136:$AA$136,$AL$169)*$AB$15","v":0},{"$f":"COUNTIF($D$136:$AA$136,$AM$169)*$AB$15","v":0},{"$f":"COUNTIF($D$136:$AA$136,$AN$169)*$AB$15","v":0},{"$f":"COUNTIF($D$136:$AA$136,$AO$169)*$AB$15","v":0},{"$f":"COUNTIF($D$136:$AA$136,$AP$169)*$AB$15","v":0},{"$f":"COUNTIF($D$136:$AA$136,$AQ$169)*$AB$15","v":0},{"$f":"COUNTIF($D$136:$AA$136,$AR$169)*$AB$15","v":0},{"$f":"COUNTIF($D$136:$AA$136,$AS$169)*$AB$15","v":0},7,null,0,0,{"$error":"#VALUE!"},0,{"$error":"#VALUE!"},{"$error":"#VALUE!"},0,{"$f":"SUM(BA173:BB173)","v":{"$error":"#VALUE!"}},{"$error":"#VALUE!"},0,{"$error":"#VALUE!"},null,{"$error":"#VALUE!"},0,{"$error":"#VALUE!"},{"$error":"#VALUE!"},0,{"$error":"#VALUE!"},{"$error":"#VALUE!"},0,{"$error":"#VALUE!"}]
[null,null,8,{"$f":"COUNTIF($D$137:$AA$137,$D$169)*$AB$16","v":0},{"$f":"COUNTIF($D$137:$AA$137,$E$169)*$AB$16","v":0},{"$f":"COUNTIF($D$137:$AA$137,$F$169)*$AB$16","v":0},{"$f":"COUNTIF($D$137:$AA$137,$G$169)*$AB$16","v":0},{"$f":"COUNTIF($D$137:$AA$137,$H$169)*$AB$16","v":0},{"$f":"COUNTIF($D$137:$AA$137,$I$169)*$AB$16","v":0},{"$f":"COUNTIF($D$137:$AA$137,$J$169)*$AB$16","v":0},{"$f":"COUNTIF($D$137:$AA$137,$K$169)*$AB$16","v":0},{"$f":"COUNTIF($D$137:$AA$137,$L$169)*$AB$16","v":0},{"$f":"COUNTIF($D$137:$AA$137,$M$169)*$AB$16","v":0},{"$f":"COUNTIF($D$137:$AA$137,$N$169)*$AB$16","v":0},{"$f":"COUNTIF($D$137:$AA$137,$O$169)*$AB$16","v":0},{"$f":"COUNTIF($D$137:$AA$137,$P$169)*$AB$16","v":0},{"$f":"COUNTIF($D$137:$AA$137,$Q$169)*$AB$16","v":0},{"$f":"COUNTIF($D$137:$AA$137,$R$169)*$AB$16","v":0},{"$f":"COUNTIF($D$137:$AA$137,$S$169)*$AB$16","v":0},{"$f":"COUNTIF($D$137:$AA$137,$T$169)*$AB$16","v":0},{"$f":"COUNTIF($D$137:$AA$137,$U$169)*$AB$16","v":0},{"$f":"COUNTIF($D$137:$AA$137,$V$169)*$AB$16","v":0},{"$f":"COUNTIF($D$137:$AA$137,$W$169)*$AB$16","v":0},{"$f":"COUNTIF($D$137:$AA$137,$X$169)*$AB$16","v":0},{"$f":"COUNTIF($D$137:$AA$137,$Y$169)*$AB$16","v":0},{"$f":"COUNTIF($D$137:$AA$137,$Z$169)*$AB$16","v":0},{"$f":"COUNTIF($D$137:$AA$137,$AA$169)*$AB$16","v":0},{"$f":"COUNTIF($D$137:$AA$137,$AB$169)*$AB$16","v":0},{"$f":"COUNTIF($D$137:$AA$137,$AC$169)*$AB$16","v":0},{"$f":"COUNTIF($D$137:$AA$137,$AD$169)*$AB$16","v":0},{"$f":"COUNTIF($D$137:$AA$137,$AE$169)*$AB$16","v":0},{"$f":"COUNTIF($D$137:$AA$137,$AF$169)*$AB$16","v":0},{"$f":"COUNTIF($D$137:$AA$137,$AG$169)*$AB$16","v":0},{"$f":"COUNTIF($D$137:$AA$137,$AH$169)*$AB$16","v":0},{"$f":"COUNTIF($D$137:$AA$137,$AI$169)*$AB$16","v":0},{"$f":"COUNTIF($D$137:$AA$137,$AJ$169)*$AB$16","v":0},{"$f":"COUNTIF($D$137:$AA$137,$AK$169)*$AB$16","v":0},{"$f":"COUNTIF($D$137:$AA$137,$AL$169)*$AB$16","v":0},{"$f":"COUNTIF($D$137:$AA$137,$AM$169)*$AB$16","v":0},{"$f":"COUNTIF($D$137:$AA$137,$AN$169)*$AB$16","v":0},{"$f":"COUNTIF($D$137:$AA$137,$AO$169)*$AB$16","v":0},{"$f":"COUNTIF($D$137:$AA$137,$AP$169)*$AB$16","v":0},{"$f":"COUNTIF($D$137:$AA$137,$AQ$169)*$AB$16","v":0},{"$f":"COUNTIF($D$137:$AA$137,$AR$169)*$AB$16","v":0},{"$f":"COUNTIF($D$137:$AA$137,$AS$169)*$AB$16","v":0},8,null,0,0,{"$error":"#VALUE!"},0,{"$error":"#VALUE!"},{"$error":"#VALUE!"},0,{"$error":"#VALUE!"},{"$error":"#VALUE!"},0,{"$error":"#VALUE!"},null,{"$error":"#VALUE!"},0,{"$error":"#VALUE!"},{"$error":"#VALUE!"},0,{"$error":"#VALUE!"},{"$error":"#VALUE!"},0,{"$error":"#VALUE!"}]
[null,null,9,{"$f":"COUNTIF($D$138:$AA$138,$D$169)*$AB$17","v":0},{"$f":"COUNTIF($D$138:$AA$138,$E$169)*$AB$17","v":0},{"$f":"COUNTIF($D$138:$AA$138,$F$169)*$AB$17","v":0},{"$f":"COUNTIF($D$138:$AA$138,$G$169)*$AB$17","v":0},{"$f":"COUNTIF($D$138:$AA$138,$H$169)*$AB$17","v":0},{"$f":"COUNTIF($D$138:$AA$138,$I$169)*$AB$17","v":0},{"$f":"COUNTIF($D$138:$AA$138,$J$169)*$AB$17","v":0},{"$f":"COUNTIF($D$138:$AA$138,$K$169)*$AB$17","v":0},{"$f":"COUNTIF($D$138:$AA$138,$L$169)*$AB$17","v":0},{"$f":"COUNTIF($D$138:$AA$138,$M$169)*$AB$17","v":0},{"$f":"COUNTIF($D$138:$AA$138,$N$169)*$AB$17","v":0},{"$f":"COUNTIF($D$138:$AA$138,$O$169)*$AB$17","v":0},{"$f":"COUNTIF($D$138:$AA$138,$P$169)*$AB$17","v":0},{"$f":"COUNTIF($D$138:$AA$138,$Q$169)*$AB$17","v":0},{"$f":"COUNTIF($D$138:$AA$138,$R$169)*$AB$17","v":0},{"$f":"COUNTIF($D$138:$AA$138,$S$169)*$AB$17","v":0},{"$f":"COUNTIF($D$138:$AA$138,$T$169)*$AB$17","v":0},{"$f":"COUNTIF($D$138:$AA$138,$U$169)*$AB$17","v":0},{"$f":"COUNTIF($D$138:$AA$138,$V$169)*$AB$17","v":0},{"$f":"COUNTIF($D$138:$AA$138,$W$169)*$AB$17","v":0},{"$f":"COUNTIF($D$138:$AA$138,$X$169)*$AB$17","v":0},{"$f":"COUNTIF($D$138:$AA$138,$Y$169)*$AB$17","v":0},{"$f":"COUNTIF($D$138:$AA$138,$Z$169)*$AB$17","v":0},{"$f":"COUNTIF($D$138:$AA$138,$AA$169)*$AB$17","v":0},{"$f":"COUNTIF($D$138:$AA$138,$AB$169)*$AB$17","v":0},{"$f":"COUNTIF($D$138:$AA$138,$AC$169)*$AB$17","v":0},{"$f":"COUNTIF($D$138:$AA$138,$AD$169)*$AB$17","v":0},{"$f":"COUNTIF($D$138:$AA$138,$AE$169)*$AB$17","v":0},{"$f":"COUNTIF($D$138:$AA$138,$AF$169)*$AB$17","v":0},{"$f":"COUNTIF($D$138:$AA$138,$AG$169)*$AB$17","v":0},{"$f":"COUNTIF($D$138:$AA$138,$AH$169)*$AB$17","v":0},{"$f":"COUNTIF($D$138:$AA$138,$AI$169)*$AB$17","v":0},{"$f":"COUNTIF($D$138:$AA$138,$AJ$169)*$AB$17","v":0},{"$f":"COUNTIF($D$138:$AA$138,$AK$169)*$AB$17","v":0},{"$f":"COUNTIF($D$138:$AA$138,$AL$169)*$AB$17","v":0},{"$f":"COUNTIF($D$138:$AA$138,$AM$169)*$AB$17","v":0},{"$f":"COUNTIF($D$138:$AA$138,$AN$169)*$AB$17","v":0},{"$f":"COUNTIF($D$138:$AA$138,$AO$169)*$AB$17","v":0},{"$f":"COUNTIF($D$138:$AA$138,$AP$169)*$AB$17","v":0},{"$f":"COUNTIF($D$138:$AA$138,$AQ$169)*$AB$17","v":0},{"$f":"COUNTIF($D$138:$AA$138,$AR$169)*$AB$17","v":0},{"$f":"COUNTIF($D$138:$AA$138,$AS$169)*$AB$17","v":0},9,null,0,0,{"$error":"#VALUE!"},0,{"$error":"#VALUE!"},{"$error":"#VALUE!"},0,{"$error":"#VALUE!"},{"$error":"#VALUE!"},0,{"$error":"#VALUE!"},null,{"$error":"#VALUE!"},0,{"$f":"SUM(BH175:BI175)","v":{"$error":"#VALUE!"}},{"$error":"#VALUE!"},0,{"$error":"#VALUE!"},{"$error":"#VALUE!"},0,{"$error":"#VALUE!"}]
[null,null,10,{"$f":"COUNTIF($D$139:$AA$139,$D$169)*$AB$18","v":0},{"$f":"COUNTIF($D$139:$AA$139,$E$169)*$AB$18","v":0},{"$f":"COUNTIF($D$139:$AA$139,$F$169)*$AB$18","v":0},{"$f":"COUNTIF($D$139:$AA$139,$G$169)*$AB$18","v":0},{"$f":"COUNTIF($D$139:$AA$139,$H$169)*$AB$18","v":0},{"$f":"COUNTIF($D$139:$AA$139,$I$169)*$AB$18","v":0},{"$f":"COUNTIF($D$139:$AA$139,$J$169)*$AB$18","v":0},{"$f":"COUNTIF($D$139:$AA$139,$K$169)*$AB$18","v":0},{"$f":"COUNTIF($D$139:$AA$139,$L$169)*$AB$18","v":0},{"$f":"COUNTIF($D$139:$AA$139,$M$169)*$AB$18","v":0},{"$f":"COUNTIF($D$139:$AA$139,$N$169)*$AB$18","v":0},{"$f":"COUNTIF($D$139:$AA$139,$O$169)*$AB$18","v":0},{"$f":"COUNTIF($D$139:$AA$139,$P$169)*$AB$18","v":0},{"$f":"COUNTIF($D$139:$AA$139,$Q$169)*$AB$18","v":0},{"$f":"COUNTIF($D$139:$AA$139,$R$169)*$AB$18","v":0},{"$f":"COUNTIF($D$139:$AA$139,$S$169)*$AB$18","v":0},{"$f":"COUNTIF($D$139:$AA$139,$T$169)*$AB$18","v":0},{"$f":"COUNTIF($D$139:$AA$139,$U$169)*$AB$18","v":0},{"$f":"COUNTIF($D$139:$AA$139,$V$169)*$AB$18","v":0},{"$f":"COUNTIF($D$139:$AA$139,$W$169)*$AB$18","v":0},{"$f":"COUNTIF($D$139:$AA$139,$X$169)*$AB$18","v":0},{"$f":"COUNTIF($D$139:$AA$139,$Y$169)*$AB$18","v":0},{"$f":"COUNTIF($D$139:$AA$139,$Z$169)*$AB$18","v":0},{"$f":"COUNTIF($D$139:$AA$139,$AA$169)*$AB$18","v":0},{"$f":"COUNTIF($D$139:$AA$139,$AB$169)*$AB$18","v":0},{"$f":"COUNTIF($D$139:$AA$139,$AC$169)*$AB$18","v":0},{"$f":"COUNTIF($D$139:$AA$139,$AD$169)*$AB$18","v":0},{"$f":"COUNTIF($D$139:$AA$139,$AE$169)*$AB$18","v":0},{"$f":"COUNTIF($D$139:$AA$139,$AF$169)*$AB$18","v":0},{"$f":"COUNTIF($D$139:$AA$139,$AG$169)*$AB$18","v":0},{"$f":"COUNTIF($D$139:$AA$139,$AH$169)*$AB$18","v":0},{"$f":"COUNTIF($D$139:$AA$139,$AI$169)*$AB$18","v":0},{"$f":"COUNTIF($D$139:$AA$139,$AJ$169)*$AB$18","v":0},{"$f":"COUNTIF($D$139:$AA$139,$AK$169)*$AB$18","v":0},{"$f":"COUNTIF($D$139:$AA$139,$AL$169)*$AB$18","v":0},{"$f":"COUNTIF($D$139:$AA$139,$AM$169)*$AB$18","v":0},{"$f":"COUNTIF($D$139:$AA$139,$AN$169)*$AB$18","v":0},{"$f":"COUNTIF($D$139:$AA$139,$AO$169)*$AB$18","v":0},{"$f":"COUNTIF($D$139:$AA$139,$AP$169)*$AB$18","v":0},{"$f":"COUNTIF($D$139:$AA$139,$AQ$169)*$AB$18","v":0},{"$f":"COUNTIF($D$139:$AA$139,$AR$169)*$AB$18","v":0},{"$f":"COUNTIF($D$139:$AA$139,$AS$169)*$AB$18","v":0},10,null,0,0,{"$error":"#VALUE!"},0,{"$error":"#VALUE!"},{"$error":"#VALUE!"},0,{"$error":"#VALUE!"},{"$error":"#VALUE!"},0,{"$error":"#VALUE!"},null,{"$error":"#VALUE!"},0,{"$error":"#VALUE!"},{"$error":"#VALUE!"},0,{"$error":"#VALUE!"},{"$error":"#VALUE!"},0,{"$error":"#VALUE!"}]
[null,null,11,{"$f":"COUNTIF($D$140:$AA$140,$D$169)*$AB$19","v":0},{"$f":"COUNTIF($D$140:$AA$140,$E$169)*$AB$19","v":0},{"$f":"COUNTIF($D$140:$AA$140,$F$169)*$AB$19","v":0},{"$f":"COUNTIF($D$140:$AA$140,$G$169)*$AB$19","v":0},{"$f":"COUNTIF($D$140:$AA$140,$H$169)*$AB$19","v":0},{"$f":"COUNTIF($D$140:$AA$140,$I$169)*$AB$19","v":0},{"$f":"COUNTIF($D$140:$AA$140,$J$169)*$AB$19","v":0},{"$f":"COUNTIF($D$140:$AA$140,$K$169)*$AB$19","v":0},{"$f":"COUNTIF($D$140:$AA$140,$L$169)*$AB$19","v":0},{"$f":"COUNTIF($D$140:$AA$140,$M$169)*$AB$19","v":0},{"$f":"COUNTIF($D$140:$AA$140,$N$169)*$AB$19","v":0},{"$f":"COUNTIF($D$140:$AA$140,$O$169)*$AB$19","v":0},{"$f":"COUNTIF($D$140:$AA$140,$P$169)*$AB$19","v":0},{"$f":"COUNTIF($D$140:$AA$140,$Q$169)*$AB$19","v":0},{"$f":"COUNTIF($D$140:$AA$140,$R$169)*$AB$19","v":0},{"$f":"COUNTIF($D$140:$AA$140,$S$169)*$AB$19","v":0},{"$f":"COUNTIF($D$140:$AA$140,$T$169)*$AB$19","v":0},{"$f":"COUNTIF($D$140:$AA$140,$U$169)*$AB$19","v":0},{"$f":"COUNTIF($D$140:$AA$140,$V$169)*$AB$19","v":0},{"$f":"COUNTIF($D$140:$AA$140,$W$169)*$AB$19","v":0},{"$f":"COUNTIF($D$140:$AA$140,$X$169)*$AB$19","v":0},{"$f":"COUNTIF($D$140:$AA$140,$Y$169)*$AB$19","v":0},{"$f":"COUNTIF($D$140:$AA$140,$Z$169)*$AB$19","v":0},{"$f":"COUNTIF($D$140:$AA$140,$AA$169)*$AB$19","v":0},{"$f":"COUNTIF($D$140:$AA$140,$AB$169)*$AB$19","v":0},{"$f":"COUNTIF($D$140:$AA$140,$AC$169)*$AB$19","v":0},{"$f":"COUNTIF($D$140:$AA$140,$AD$169)*$AB$19","v":0},{"$f":"COUNTIF($D$140:$AA$140,$AE$169)*$AB$19","v":0},{"$f":"COUNTIF($D$140:$AA$140,$AF$169)*$AB$19","v":0},{"$f":"COUNTIF($D$140:$AA$140,$AG$169)*$AB$19","v":0},{"$f":"COUNTIF($D$140:$AA$140,$AH$169)*$AB$19","v":0},{"$f":"COUNTIF($D$140:$AA$140,$AI$169)*$AB$19","v":0},{"$f":"COUNTIF($D$140:$AA$140,$AJ$169)*$AB$19","v":0},{"$f":"COUNTIF($D$140:$AA$140,$AK$169)*$AB$19","v":0},{"$f":"COUNTIF($D$140:$AA$140,$AL$169)*$AB$19","v":0},{"$f":"COUNTIF($D$140:$AA$140,$AM$169)*$AB$19","v":0},{"$f":"COUNTIF($D$140:$AA$140,$AN$169)*$AB$19","v":0},{"$f":"COUNTIF($D$140:$AA$140,$AO$169)*$AB$19","v":0},{"$f":"COUNTIF($D$140:$AA$140,$AP$169)*$AB$19","v":0},{"$f":"COUNTIF($D$140:$AA$140,$AQ$169)*$AB$19","v":0},{"$f":"COUNTIF($D$140:$AA$140,$AR$169)*$AB$19","v":0},{"$f":"COUNTIF($D$140:$AA$140,$AS$169)*$AB$19","v":0},11,null,0,0,{"$error":"#VALUE!"},0,{"$error":"#VALUE!"},{"$error":"#VALUE!"},0,{"$error":"#VALUE!"},{"$error":"#VALUE!"},0,{"$error":"#VALUE!"},null,{"$error":"#VALUE!"},0,{"$error":"#VALUE!"},{"$error":"#VALUE!"},0,{"$error":"#VALUE!"},{"$error":"#VALUE!"},0,{"$error":"#VALUE!"}]
[null,null,12,{"$f":"COUNTIF($D$141:$AA$141,$D$169)*$AB$20","v":0},{"$f":"COUNTIF($D$141:$AA$141,$E$169)*$AB$20","v":0},{"$f":"COUNTIF($D$141:$AA$141,$F$169)*$AB$20","v":0},{"$f":"COUNTIF($D$141:$AA$141,$G$169)*$AB$20","v":0},{"$f":"COUNTIF($D$141:$AA$141,$H$169)*$AB$20","v":0},{"$f":"COUNTIF($D$141:$AA$141,$I$169)*$AB$20","v":0},{"$f":"COUNTIF($D$141:$AA$141,$J$169)*$AB$20","v":0},{"$f":"COUNTIF($D$141:$AA$141,$K$169)*$AB$20","v":0},{"$f":"COUNTIF($D$141:$AA$141,$L$169)*$AB$20","v":0},{"$f":"COUNTIF($D$141:$AA$141,$M$169)*$AB$20","v":0},{"$f":"COUNTIF($D$141:$AA$141,$N$169)*$AB$20","v":0},{"$f":"COUNTIF($D$141:$AA$141,$O$169)*$AB$20","v":0},{"$f":"COUNTIF($D$141:$AA$141,$P$169)*$AB$20","v":0},{"$f":"COUNTIF($D$141:$AA$141,$Q$169)*$AB$20","v":0},{"$f":"COUNTIF($D$141:$AA$141,$R$169)*$AB$20","v":0},{"$f":"COUNTIF($D$141:$AA$141,$S$169)*$AB$20","v":0},{"$f":"COUNTIF($D$141:$AA$141,$T$169)*$AB$20","v":0},{"$f":"COUNTIF($D$141:$AA$141,$U$169)*$AB$20","v":0},{"$f":"COUNTIF($D$141:$AA$141,$V$169)*$AB$20","v":0},{"$f":"COUNTIF($D$141:$AA$141,$W$169)*$AB$20","v":0},{"$f":"COUNTIF($D$141:$AA$141,$X$169)*$AB$20","v":0},{"$f":"COUNTIF($D$141:$AA$141,$Y$169)*$AB$20","v":0},{"$f":"COUNTIF($D$141:$AA$141,$Z$169)*$AB$20","v":0},{"$f":"COUNTIF($D$141:$AA$141,$AA$169)*$AB$20","v":0},{"$f":"COUNTIF($D$141:$AA$141,$AB$169)*$AB$20","v":0},{"$f":"COUNTIF($D$141:$AA$141,$AC$169)*$AB$20","v":0},{"$f":"COUNTIF($D$141:$AA$141,$AD$169)*$AB$20","v":0},{"$f":"COUNTIF($D$141:$AA$141,$AE$169)*$AB$20","v":0},{"$f":"COUNTIF($D$141:$AA$141,$AF$169)*$AB$20","v":0},{"$f":"COUNTIF($D$141:$AA$141,$AG$169)*$AB$20","v":0},{"$f":"COUNTIF($D$141:$AA$141,$AH$169)*$AB$20","v":0},{"$f":"COUNTIF($D$141:$AA$141,$AI$169)*$AB$20","v":0},{"$f":"COUNTIF($D$141:$AA$141,$AJ$169)*$AB$20","v":0},{"$f":"COUNTIF($D$141:$AA$141,$AK$169)*$AB$20","v":0},{"$f":"COUNTIF($D$141:$AA$141,$AL$169)*$AB$20","v":0},{"$f":"COUNTIF($D$141:$AA$141,$AM$169)*$AB$20","v":0},{"$f":"COUNTIF($D$141:$AA$141,$AN$169)*$AB$20","v":0},{"$f":"COUNTIF($D$141:$AA$141,$AO$169)*$AB$20","v":0},{"$f":"COUNTIF($D$141:$AA$141,$AP$169)*$AB$20","v":0},{"$f":"COUNTIF($D$141:$AA$141,$AQ$169)*$AB$20","v":0},{"$f":"COUNTIF($D$141:$AA$141,$AR$169)*$AB$20","v":0},{"$f":"COUNTIF($D$141:$AA$141,$AS$169)*$AB$20","v":0},12,null,0,0,{"$error":"#VALUE!"},0,{"$error":"#VALUE!"},{"$error":"#VALUE!"},0,{"$error":"#VALUE!"},{"$error":"#VALUE!"},0,{"$error":"#VALUE!"},null,{"$error":"#VALUE!"},0,{"$error":"#VALUE!"},{"$error":"#VALUE!"},0,{"$error":"#VALUE!"},{"$error":"#VALUE!"},0,{"$error":"#VALUE!"}]
[null,null,1,{"$f":"COUNTIF($D$142:$AA$142,$D$169)*$AB$21","v":0},{"$f":"COUNTIF($D$142:$AA$142,$E$169)*$AB$21","v":0},{"$f":"COUNTIF($D$142:$AA$142,$F$169)*$AB$21","v":0},{"$f":"COUNTIF($D$142:$AA$142,$G$169)*$AB$21","v":0},{"$f":"COUNTIF($D$142:$AA$142,$H$169)*$AB$21","v":0},{"$f":"COUNTIF($D$142:$AA$142,$I$169)*$AB$21","v":0},{"$f":"COUNTIF($D$142:$AA$142,$J$169)*$AB$21","v":0},{"$f":"COUNTIF($D$142:$AA$142,$K$169)*$AB$21","v":0},{"$f":"COUNTIF($D$142:$AA$142,$L$169)*$AB$21","v":0},{"$f":"COUNTIF($D$142:$AA$142,$M$169)*$AB$21","v":0},{"$f":"COUNTIF($D$142:$AA$142,$N$169)*$AB$21","v":0},{"$f":"COUNTIF($D$142:$AA$142,$O$169)*$AB$21","v":0},{"$f":"COUNTIF($D$142:$AA$142,$P$169)*$AB$21","v":0},{"$f":"COUNTIF($D$142:$AA$142,$Q$169)*$AB$21","v":0},{"$f":"COUNTIF($D$142:$AA$142,$R$169)*$AB$21","v":0},{"$f":"COUNTIF($D$142:$AA$142,$S$169)*$AB$21","v":0},{"$f":"COUNTIF($D$142:$AA$142,$T$169)*$AB$21","v":0},{"$f":"COUNTIF($D$142:$AA$142,$U$169)*$AB$21","v":0},{"$f":"COUNTIF($D$142:$AA$142,$V$169)*$AB$21","v":0},{"$f":"COUNTIF($D$142:$AA$142,$W$169)*$AB$21","v":0},{"$f":"COUNTIF($D$142:$AA$142,$X$169)*$AB$21","v":0},{"$f":"COUNTIF($D$142:$AA$142,$Y$169)*$AB$21","v":0},{"$f":"COUNTIF($D$142:$AA$142,$Z$169)*$AB$21","v":0},{"$f":"COUNTIF($D$142:$AA$142,$AA$169)*$AB$21","v":0},{"$f":"COUNTIF($D$142:$AA$142,$AB$169)*$AB$21","v":0},{"$f":"COUNTIF($D$142:$AA$142,$AC$169)*$AB$21","v":0},{"$f":"COUNTIF($D$142:$AA$142,$AD$169)*$AB$21","v":0},{"$f":"COUNTIF($D$142:$AA$142,$AE$169)*$AB$21","v":0},{"$f":"COUNTIF($D$142:$AA$142,$AF$169)*$AB$21","v":0},{"$f":"COUNTIF($D$142:$AA$142,$AG$169)*$AB$21","v":0},{"$f":"COUNTIF($D$142:$AA$142,$AH$169)*$AB$21","v":0},{"$f":"COUNTIF($D$142:$AA$142,$AI$169)*$AB$21","v":0},{"$f":"COUNTIF($D$142:$AA$142,$AJ$169)*$AB$21","v":0},{"$f":"COUNTIF($D$142:$AA$142,$AK$169)*$AB$21","v":0},{"$f":"COUNTIF($D$142:$AA$142,$AL$169)*$AB$21","v":0},{"$f":"COUNTIF($D$142:$AA$142,$AM$169)*$AB$21","v":0},{"$f":"COUNTIF($D$142:$AA$142,$AN$169)*$AB$21","v":0},{"$f":"COUNTIF($D$142:$AA$142,$AO$169)*$AB$21","v":0},{"$f":"COUNTIF($D$142:$AA$142,$AP$169)*$AB$21","v":0},{"$f":"COUNTIF($D$142:$AA$142,$AQ$169)*$AB$21","v":0},{"$f":"COUNTIF($D$142:$AA$142,$AR$169)*$AB$21","v":0},{"$f":"COUNTIF($D$142:$AA$142,$AS$169)*$AB$21","v":0},1,null,0,0,{"$error":"#VALUE!"},0,{"$error":"#VALUE!"},{"$error":"#VALUE!"},0,{"$error":"#VALUE!"},{"$error":"#VALUE!"},0,{"$error":"#VALUE!"},null,{"$error":"#VALUE!"},0,{"$error":"#VALUE!"},{"$error":"#VALUE!"},0,{"$error":"#VALUE!"},{"$error":"#VALUE!"},0,{"$error":"#VALUE!"}]
[null,null,2,{"$f":"COUNTIF($D$143:$AA$143,$D$169)*$AB$22","v":0},{"$f":"COUNTIF($D$143:$AA$143,$E$169)*$AB$22","v":0},{"$f":"COUNTIF($D$143:$AA$143,$F$169)*$AB$22","v":0},{"$f":"COUNTIF($D$143:$AA$143,$G$169)*$AB$22","v":0},{"$f":"COUNTIF($D$143:$AA$143,$H$169)*$AB$22","v":0},{"$f":"COUNTIF($D$143:$AA$143,$I$169)*$AB$22","v":0},{"$f":"COUNTIF($D$143:$AA$143,$J$169)*$AB$22","v":0},{"$f":"COUNTIF($D$143:$AA$143,$K$169)*$AB$22","v":0},{"$f":"COUNTIF($D$143:$AA$143,$L$169)*$AB$22","v":0},{"$f":"COUNTIF($D$143:$AA$143,$M$169)*$AB$22","v":0},{"$f":"COUNTIF($D$143:$AA$143,$N$169)*$AB$22","v":0},{"$f":"COUNTIF($D$143:$AA$143,$O$169)*$AB$22","v":0},{"$f":"COUNTIF($D$143:$AA$143,$P$169)*$AB$22","v":0},{"$f":"COUNTIF($D$143:$AA$143,$Q$169)*$AB$22","v":0},{"$f":"COUNTIF($D$143:$AA$143,$R$169)*$AB$22","v":0},{"$f":"COUNTIF($D$143:$AA$143,$S$169)*$AB$22","v":0},{"$f":"COUNTIF($D$143:$AA$143,$T$169)*$AB$22","v":0},{"$f":"COUNTIF($D$143:$AA$143,$U$169)*$AB$22","v":0},{"$f":"COUNTIF($D$143:$AA$143,$V$169)*$AB$22","v":0},{"$f":"COUNTIF($D$143:$AA$143,$W$169)*$AB$22","v":0},{"$f":"COUNTIF($D$143:$AA$143,$X$169)*$AB$22","v":0},{"$f":"COUNTIF($D$143:$AA$143,$Y$169)*$AB$22","v":0},{"$f":"COUNTIF($D$143:$AA$143,$Z$169)*$AB$22","v":0},{"$f":"COUNTIF($D$143:$AA$143,$AA$169)*$AB$22","v":0},{"$f":"COUNTIF($D$143:$AA$143,$AB$169)*$AB$22","v":0},{"$f":"COUNTIF($D$143:$AA$143,$AC$169)*$AB$22","v":0},{"$f":"COUNTIF($D$143:$AA$143,$AD$169)*$AB$22","v":0},{"$f":"COUNTIF($D$143:$AA$143,$AE$169)*$AB$22","v":0},{"$f":"COUNTIF($D$143:$AA$143,$AF$169)*$AB$22","v":0},{"$f":"COUNTIF($D$143:$AA$143,$AG$169)*$AB$22","v":0},{"$f":"COUNTIF($D$143:$AA$143,$AH$169)*$AB$22","v":0},{"$f":"COUNTIF($D$143:$AA$143,$AI$169)*$AB$22","v":0},{"$f":"COUNTIF($D$143:$AA$143,$AJ$169)*$AB$22","v":0},{"$f":"COUNTIF($D$143:$AA$143,$AK$169)*$AB$22","v":0},{"$f":"COUNTIF($D$143:$AA$143,$AL$169)*$AB$22","v":0},{"$f":"COUNTIF($D$143:$AA$143,$AM$169)*$AB$22","v":0},{"$f":"COUNTIF($D$143:$AA$143,$AN$169)*$AB$22","v":0},{"$f":"COUNTIF($D$143:$AA$143,$AO$169)*$AB$22","v":0},{"$f":"COUNTIF($D$143:$AA$143,$AP$169)*$AB$22","v":0},{"$f":"COUNTIF($D$143:$AA$143,$AQ$169)*$AB$22","v":0},{"$f":"COUNTIF($D$143:$AA$143,$AR$169)*$AB$22","v":0},{"$f":"COUNTIF($D$143:$AA$143,$AS$169)*$AB$22","v":0},2,null,0,0,{"$error":"#VALUE!"},0,{"$error":"#VALUE!"},{"$error":"#VALUE!"},0,{"$error":"#VALUE!"},{"$error":"#VALUE!"},0,{"$error":"#VALUE!"},null,{"$error":"#VALUE!"},0,{"$error":"#VALUE!"},{"$error":"#VALUE!"},0,{"$error":"#VALUE!"},{"$error":"#VALUE!"},0,{"$error":"#VALUE!"}]
[null,null,3,{"$f":"COUNTIF($D$144:$AA$144,$D$169)*$AB$23","v":0},{"$f":"COUNTIF($D$144:$AA$144,$E$169)*$AB$23","v":0},{"$f":"COUNTIF($D$144:$AA$144,$F$169)*$AB$23","v":0},{"$f":"COUNTIF($D$144:$AA$144,$G$169)*$AB$23","v":0},{"$f":"COUNTIF($D$144:$AA$144,$H$169)*$AB$23","v":0},{"$f":"COUNTIF($D$144:$AA$144,$I$169)*$AB$23","v":0},{"$f":"COUNTIF($D$144:$AA$144,$J$169)*$AB$23","v":0},{"$f":"COUNTIF($D$144:$AA$144,$K$169)*$AB$23","v":0},{"$f":"COUNTIF($D$144:$AA$144,$L$169)*$AB$23","v":0},{"$f":"COUNTIF($D$144:$AA$144,$M$169)*$AB$23","v":0},{"$f":"COUNTIF($D$144:$AA$144,$N$169)*$AB$23","v":0},{"$f":"COUNTIF($D$144:$AA$144,$O$169)*$AB$23","v":0},{"$f":"COUNTIF($D$144:$AA$144,$P$169)*$AB$23","v":0},{"$f":"COUNTIF($D$144:$AA$144,$Q$169)*$AB$23","v":0},{"$f":"COUNTIF($D$144:$AA$144,$R$169)*$AB$23","v":0},{"$f":"COUNTIF($D$144:$AA$144,$S$169)*$AB$23","v":0},{"$f":"COUNTIF($D$144:$AA$144,$T$169)*$AB$23","v":0},{"$f":"COUNTIF($D$144:$AA$144,$U$169)*$AB$23","v":0},{"$f":"COUNTIF($D$144:$AA$144,$V$169)*$AB$23","v":0},{"$f":"COUNTIF($D$144:$AA$144,$W$169)*$AB$23","v":0},{"$f":"COUNTIF($D$144:$AA$144,$X$169)*$AB$23","v":0},{"$f":"COUNTIF($D$144:$AA$144,$Y$169)*$AB$23","v":0},{"$f":"COUNTIF($D$144:$AA$144,$Z$169)*$AB$23","v":0},{"$f":"COUNTIF($D$144:$AA$144,$AA$169)*$AB$23","v":0},{"$f":"COUNTIF($D$144:$AA$144,$AB$169)*$AB$23","v":0},{"$f":"COUNTIF($D$144:$AA$144,$AC$169)*$AB$23","v":0},{"$f":"COUNTIF($D$144:$AA$144,$AD$169)*$AB$23","v":0},{"$f":"COUNTIF($D$144:$AA$144,$AE$169)*$AB$23","v":0},{"$f":"COUNTIF($D$144:$AA$144,$AF$169)*$AB$23","v":0},{"$f":"COUNTIF($D$144:$AA$144,$AG$169)*$AB$23","v":0},{"$f":"COUNTIF($D$144:$AA$144,$AH$169)*$AB$23","v":0},{"$f":"COUNTIF($D$144:$AA$144,$AI$169)*$AB$23","v":0},{"$f":"COUNTIF($D$144:$AA$144,$AJ$169)*$AB$23","v":0},{"$f":"COUNTIF($D$144:$AA$144,$AK$169)*$AB$23","v":0},{"$f":"COUNTIF($D$144:$AA$144,$AL$169)*$AB$23","v":0},{"$f":"COUNTIF($D$144:$AA$144,$AM$169)*$AB$23","v":0},{"$f":"COUNTIF($D$144:$AA$144,$AN$169)*$AB$23","v":0},{"$f":"COUNTIF($D$144:$AA$144,$AO$169)*$AB$23","v":0},{"$f":"COUNTIF($D$144:$AA$144,$AP$169)*$AB$23","v":0},{"$f":"COUNTIF($D$144:$AA$144,$AQ$169)*$AB$23","v":0},{"$f":"COUNTIF($D$144:$AA$144,$AR$169)*$AB$23","v":0},{"$f":"COUNTIF($D$144:$AA$144,$AS$169)*$AB$23","v":0},3,null,0,0,{"$error":"#VALUE!"},0,{"$f":"SUM(AX181:AY181)","v":{"$error":"#VALUE!"}},{"$error":"#VALUE!"},0,{"$f":"SUM(BA181:BB181)","v":{"$error":"#VALUE!"}},{"$error":"#VALUE!"},0,{"$f":"SUM(BD181:BE181)","v":{"$error":"#VALUE!"}},null,{"$error":"#VALUE!"},0,{"$f":"SUM(BH181:BI181)","v":{"$error":"#VALUE!"}},{"$error":"#VALUE!"},0,{"$f":"SUM(BK181:BL181)","v":{"$error":"#VALUE!"}},{"$error":"#VALUE!"},0,{"$f":"SUM(BN181:BO181)","v":{"$error":"#VALUE!"}}]
[null,"tw","加熱運転時間",{"$f":"SUM($D$170:$D$181)","v":0},{"$f":"SUM($E$170:$E$181)","v":0},{"$f":"SUM($F$170:$F$181)","v":0},{"$f":"SUM($G$170:$G$181)","v":0},{"$f":"SUM($H$170:$H$181)","v":0},{"$f":"SUM($I$170:$I$181)","v":0},{"$f":"SUM($J$170:$J$181)","v":0},{"$f":"SUM($K$170:$K$181)","v":0},{"$f":"SUM($L$170:$L$181)","v":0},{"$f":"SUM($M$170:$M$181)","v":0},{"$f":"SUM($N$170:$N$181)","v":0},{"$f":"SUM($O$170:$O$181)","v":0},{"$f":"SUM($P$170:$P$181)","v":0},{"$f":"SUM($Q$170:$Q$181)","v":0},{"$f":"SUM($R$170:$R$181)","v":0},{"$f":"SUM($S$170:$S$181)","v":0},{"$f":"SUM($T$170:$T$181)","v":0},{"$f":"SUM($U$170:$U$181)","v":0},{"$f":"SUM($V$170:$V$181)","v":0},{"$f":"SUM($W$170:$W$181)","v":0},{"$f":"SUM($X$170:$X$181)","v":0},{"$f":"SUM($Y$170:$Y$181)","v":0},{"$f":"SUM($Z$170:$Z$181)","v":0},{"$f":"SUM($AA$170:$AA$181)","v":0},{"$f":"SUM($AB$170:$AB$181)","v":0},{"$f":"SUM($AC$170:$AC$181)","v":0},{"$f":"SUM($AD$170:$AD$181)","v":0},{"$f":"SUM($AE$170:$AE$181)","v":0},{"$f":"SUM($AF$170:$AF$181)","v":0},{"$f":"SUM($AG$170:$AG$181)","v":0},{"$f":"SUM($AH$170:$AH$181)","v":0},{"$f":"SUM($AI$170:$AI$181)","v":0},{"$f":"SUM($AJ$170:$AJ$181)","v":0},{"$f":"SUM($AK$170:$AK$181)","v":0},{"$f":"SUM($AL$170:$AL$181)","v":0},{"$f":"SUM($AM$170:$AM$181)","v":0},{"$f":"SUM($AN$170:$AN$181)","v":0},{"$f":"SUM($AO$170:$AO$181)","v":0},{"$f":"SUM($AP$170:$AP$181)","v":0},{"$f":"SUM($AQ$170:$AQ$181)","v":0},{"$f":"SUM($AR$170:$AR$181)","v":0},{"$f":"SUM($AS$170:$AS$181)","v":0},"加熱運転時間",null,{"$f":"SUM(AV170:AV181)","v":0},{"$f":"SUM(AW170:AW181)","v":0},{"$f":"SUM(AX170:AX181)","v":{"$error":"#VALUE!"}},0,{"$error":"#VALUE!"},{"$error":"#VALUE!"},0,{"$error":"#VALUE!"},{"$error":"#VALUE!"},0,{"$error":"#VALUE!"},null,{"$error":"#VALUE!"},0,{"$error":"#VALUE!"},{"$error":"#VALUE!"},0,{"$error":"#VALUE!"},{"$error":"#VALUE!"},0,{"$error":"#VALUE!"}]
[null,"εw","加熱時消費電力比",{"$f":"$D$184/$D$185","v":1.286497946749277},{"$f":"$E$184/$E$185","v":1.2993762993762994},{"$f":"$F$184/$F$185","v":1.3143644259381935},{"$f":"$G$184/$G$185","v":1.3316004772456111},{"$f":"$H$184/$H$185","v":1.3512490946631066},{"$f":"$I$184/$I$185","v":1.3735056258790437},{"$f":"$J$184/$J$185","v":1.3986013986013988},{"$f":"$K$184/$K$185","v":1.2242137410734597},{"$f":"$L$184/$L$185","v":1.0699900227545727},{"$f":"$M$184/$M$185","v":0.93267606096856781},{"$f":"$N$184/$N$185","v":0.8096817921114029},{"$f":"$O$184/$O$185","v":0.69892008110967552},{"$f":"$P$184/$P$185","v":0.60862568668193096},{"$f":"$Q$184/$Q$185","v":0.53252341846618811},{"$f":"$R$184/$R$185","v":0.45878366226811107},{"$f":"$S$184/$S$185","v":0.38729213184082562},{"$f":"$T$184/$T$185","v":0.31794177214384961},{"$f":"$U$184/$U$185","v":0.25063219621819199},{"$f":"$V$184/$V$185","v":0.18526917387734287},{"$f":"$W$184/$W$185","v":0.12176416673569171},{"$f":"$X$184/$X$185","v":6.0033904748045493E-2},{"$f":"$Y$184/$Y$185","v":0},{"$f":"$Z$184/$Z$185","v":0},{"$f":"$AA$184/$AA$185","v":0},{"$f":"$AB$184/$AB$185","v":0},{"$f":"$AC$184/$AC$185","v":0},{"$f":"$AD$184/$AD$185","v":0},{"$f":"$AE$184/$AE$185","v":0},{"$f":"$AF$184/$AF$185","v":0},{"$f":"$AG$184/$AG$185","v":0},{"$f":"$AH$184/$AH$185","v":0},{"$f":"$AI$184/$AI$185","v":0},{"$f":"$AJ$184/$AJ$185","v":0},{"$f":"$AK$184/$AK$185","v":0},{"$f":"$AL$184/$AL$185","v":0},{"$f":"$AM$184/$AM$185","v":0},{"$f":"$AN$184/$AN$185","v":0},{"$f":"$AO$184/$AO$185","v":0},{"$f":"$AP$184/$AP$185","v":0},{"$f":"$AQ$184/$AQ$185","v":0},{"$f":"$AR$184/$AR$185","v":0},{"$f":"$AS$184/$AS$185","v":0},"加熱時消費電力比"]
[null,"αw","加熱空調負荷率",{"$f":"IF((-1/15)*D$169+1<0,0,IF((-1/15)*D$169+1>1,1,(-1/15)*D$169+1))","v":1},{"$f":"IF((-1/15)*E$169+1<0,0,IF((-1/15)*E$169+1>1,1,(-1/15)*E$169+1))","v":1},1,1,1,1,1,0.93333333333333335,0.8666666666666667,0.8,0.73333333333333339,0.66666666666666674,0.6,0.53333333333333333,0.46666666666666667,0.4,0.33333333333333337,0.26666666666666672,0.19999999999999996,0.1333333333333333,6.6666666666666652E-2,0,{"$f":"IF((-1/15)*Z$169+1<0,0,IF((-1/15)*Z$169+1>1,1,(-1/15)*Z$169+1))","v":0},0,0,0,0,0,0,0,0,0,0,0,0,0,0,0,0,0,0,0,"加熱空調負荷率"]
[null,"βw","加熱COP比",{"$f":"-5.36/10000*D$169*D$169-0.0136*D$169+0.715","v":0.77730399999999999},{"$f":"-5.36/10000*E$169*E$169-0.0136*E$169+0.715","v":0.76959999999999995},0.76082399999999994,0.75097599999999998,0.74005599999999994,0.72806399999999993,{"$f":"9.41/100000*J$169*J$169+0.0473*J$169+0.715","v":0.71499999999999997},0.76239409999999996,0.80997639999999993,0.85774689999999998,0.9057056,0.95385249999999999,{"$f":"-1.59/100000*P$169*P$169+0.0159*P$169+0.891","v":0.98582760000000003},{"$f":"-1.59/100000*Q$169*Q$169+0.0159*Q$169+0.891","v":1.0015209},1.0171824,1.0328121000000001,1.0484100000000001,1.0639761000000001,1.0795104,1.0950129,1.1104836,1.1259224999999999,{"$f":"-1.59/100000*Z$169*Z$169+0.0159*Z$169+0.891","v":1.1413296000000002},1.1567049,1.1720484,1.1873601,{"$f":"-1.59/100000*AD$169*AD$169+0.0159*AD$169+0.891","v":1.2026400000000002},1.2178881000000001,1.2331044,1.2482888999999999,{"$f":"-1.59/100000*AH$169*AH$169+0.0159*AH$169+0.891","v":1.2634416000000002},1.2785625,1.2936516,1.3087089000000001,1.3237344,1.3387281,1.3536900000000001,1.3686201,1.3835184,1.3983848999999999,{"$f":"-1.59/100000*AR$169*AR$169+0.0159*AR$169+0.891","v":1.4132196000000001},1.4280225,"加熱COP比"]
[null,null,"Σ",{"$f":"$D$182*$D$183","v":0},{"$f":"$E$182*$E$183","v":0},{"$f":"$F$182*$F$183","v":0},{"$f":"$G$182*$G$183","v":0},{"$f":"$H$182*$H$183","v":0},{"$f":"$I$182*$I$183","v":0},{"$f":"$J$182*$J$183","v":0},{"$f":"$K$182*$K$183","v":0},{"$f":"$L$182*$L$183","v":0},{"$f":"$M$182*$M$183","v":0},{"$f":"$N$182*$N$183","v":0},{"$f":"$O$182*$O$183","v":0},{"$f":"$P$182*$P$183","v":0},{"$f":"$Q$182*$Q$183","v":0},{"$f":"$R$182*$R$183","v":0},{"$f":"$S$182*$S$183","v":0},{"$f":"$T$182*$T$183","v":0},{"$f":"$U$182*$U$183","v":0},{"$f":"$V$182*$V$183","v":0},{"$f":"$W$182*$W$183","v":0},{"$f":"$X$182*$X$183","v":0},{"$f":"$Y$182*$Y$183","v":0},{"$f":"$Z$182*$Z$183","v":0},{"$f":"$AA$182*$AA$183","v":0},{"$f":"$AB$182*$AB$183","v":0},{"$f":"$AC$182*$AC$183","v":0},{"$f":"$AD$182*$AD$183","v":0},{"$f":"$AE$182*$AE$183","v":0},{"$f":"$AF$182*$AF$183","v":0},{"$f":"$AG$182*$AG$183","v":0},{"$f":"$AH$182*$AH$183","v":0},{"$f":"$AI$182*$AI$183","v":0},{"$f":"$AJ$182*$AJ$183","v":0},{"$f":"$AK$182*$AK$183","v":0},{"$f":"$AL$182*$AL$183","v":0},{"$f":"$AM$182*$AM$183","v":0},{"$f":"$AN$182*$AN$183","v":0},{"$f":"$AO$182*$AO$183","v":0},{"$f":"$AP$182*$AP$183","v":0},{"$f":"$AQ$182*$AQ$183","v":0},{"$f":"$AR$182*$AR$183","v":0},{"$f":"$AS$182*$AS$183","v":0},{"$f":"SUM($D$186:$AS$186)","v":0}]
[null,null,null,"←着霜領域②",null,null,null,null,"着霜領域②→","←着霜領域①",null,null,null,null,"着霜領域①→","←非着霜領域",null,null,null,null,null,null,null,null,null,null,null,null,null,null,null,null,null,null,null,null,null,null,null,null,null,null,null,null,"非着霜領域→"]
[]
[null,null,"αc^0.6",{"$f":"D163^0.6","v":0},{"$f":"E163^0.6","v":0},0,0,0,0,0,0,0,0,0,0,0,0,0,0,0,0,0,0,0,0,0.16572270086699922,0.25118864315095801,0.3203721497536805,0.3807307877431757,0.43527528164806206,0.48559337483020382,0.53264864506035514,0.57707996236288528,0.61933768760000518,0.6597539553864471,0.69858235788737133,0.7360219228178333,0.77223239099174257,0.8073443754472972,0.84146635908464962,0.87468965915462249,0.90709203901925473,0.93874039335956938,0.96969278258768077,1,"αc^0.6"]
[null,null,"Σ",{"$f":"D161*D189","v":0},{"$f":"E161*E189","v":0},0,0,0,0,0,0,0,0,0,0,0,0,0,0,0,0,0,0,0,0,0,0,0,0,0,0,0,0,0,0,0,0,0,0,0,0,0,0,0,0,{"$f":"SUM(D190:AS190)","v":0}]
[]
[null,null,"αw^0.6",{"$f":"D184^0.6","v":1},{"$f":"E184^0.6","v":1},1,1,1,1,1,0.95944937873158653,0.91772223886856286,0.87468965915462249,0.83019641884114292,0.78405268168311582,0.7360219228178333,0.68580277290067215,0.63300052261123363,0.5770799623628855,0.51728185797178661,0.45246109203621188,0.3807307877431757,0.29851299512936197,0.19694512927085178,0,0,0,0,0,0,0,0,0,0,0,0,0,0,0,0,0,0,0,0,0,"αw^0.6"]
[null,null,"Σ",{"$f":"D182*D192","v":0},{"$f":"E182*E192","v":0},0,0,0,0,0,0,0,0,0,0,0,0,0,0,0,0,0,0,0,0,0,0,0,0,0,0,0,0,0,0,0,0,0,0,0,0,0,0,0,0,{"$f":"SUM(D193:AS193)","v":0}]

{"sheet":"寒冷地(γ既定値)","index":2,"n_rows":193,"n_cols":68,"rows_kept":193,"cut":false,"hidden":false,"merged":[[2,2,2,3],[3,2,3,3],[5,2,5,3],[6,2,6,3],[27,3,35,3],[78,3,78,4],[4,33,4,34],[9,3,9,26],[78,5,78,6],[78,7,78,8],[57,3,57,4],[57,5,57,6],[57,7,57,8],[41,3,49,3],[24,19,25,20],[24,24,25,25],[24,26,25,26],[24,29,25,29],[167,46,168,46],[130,3,130,26],[146,46,147,46],[98,3,98,26],[114,3,114,26]]}
[]
[null,null,"空冷HPチラーの設置場所"]
[null,null,{"$f":"IF(必ずこのシートから始めてください!$L$8=\"\",\"\",必ずこのシートから始めてください!$L$8)","v":""},null,null,"手順1：空調を行う月、時間を下記の指定の色で塗る(指定の色以外で塗ると計算できません。)"]
[null,null,{"$f":"VLOOKUP($C$3,γ一覧表!$C$3:$E$50,2,FALSE)","v":{"$error":"#N/A"}},null,null,null,"冷却","青","【左から5列目、一番薄い色(アクセント1,白＋基本色80％)】"]
[null,null,null,null,null,null,"加熱","オレンジ","【左から6番目、一番薄い色(アクセント2,白＋基本色80％)】"]
[null,null,"使用するγ値",null,null,"手順2：各月の運転日数を入力する"]
[null,null,{"$f":"IFERROR(IF(VLOOKUP($C$3,γ一覧表!$C$3:$E$50,3,FALSE)<=1,\"---\",IFERROR(VLOOKUP($C$3,γ一覧表!$C$3:$E$50,3,FALSE),\"---\")),\"---\")","v":"---"},null,null,"手順3：Ctrl + Alt + F9を同時に押す",null,null,null,null,null,null,null,null,null,null,null,"●時刻別平均気温表記載の数値は、選択された都道府県の県庁所在地の月別、時刻別平均気温"]
[null,null,null,null,null,"手順4：黄色のセルに値を入力する(緑は自動計算)",null,null,null,null,null,null,null,null,null,null,null,"●本データは気象庁発表の1992年4月1日から2022年3月31日までの30年の1時間データを整理したもの"]
[null,null,"時刻別平均気温[℃]",null,null,null,null,null,null,null,null,null,null,null,null,null,null,"●2月はうるう日を含みます"]
[null,null,null," 時刻",null,null,null,null,null,null,null,null,null,null,null,null,null,null,null,null,null,null,null,null,null,null,null,{"$f":"SUM(AB12:AB23)","v":0},{"$f":"必ずこのシートから始めてください!$M$3","v":"Ver.1.0"}]
[null,null,"月",0,1,2,3,4,5,6,7,8,9,10,11,12,13,14,15,16,17,18,19,20,21,22,23,"運転日数","月"]
[null,null,4,{"$f":"IFERROR(INDIRECT($C$4&\"!B5\"),\"\")","v":""},{"$f":"IFERROR(INDIRECT($C$4&\"!C5\"),\"\")","v":""},{"$f":"IFERROR(INDIRECT($C$4&\"!D5\"),\"\")","v":""},{"$f":"IFERROR(INDIRECT($C$4&\"!E5\"),\"\")","v":""},{"$f":"IFERROR(INDIRECT($C$4&\"!F5\"),\"\")","v":""},{"$f":"IFERROR(INDIRECT($C$4&\"!G5\"),\"\")","v":""},{"$f":"IFERROR(INDIRECT($C$4&\"!H5\"),\"\")","v":""},{"$f":"IFERROR(INDIRECT($C$4&\"!I5\"),\"\")","v":""},{"$f":"IFERROR(INDIRECT($C$4&\"!J5\"),\"\")","v":""},{"$f":"IFERROR(INDIRECT($C$4&\"!K5\"),\"\")","v":""},{"$f":"IFERROR(INDIRECT($C$4&\"!L5\"),\"\")","v":""},{"$f":"IFERROR(INDIRECT($C$4&\"!M5\"),\"\")","v":""},{"$f":"IFERROR(INDIRECT($C$4&\"!N5\"),\"\")","v":""},{"$f":"IFERROR(INDIRECT($C$4&\"!O5\"),\"\")","v":""},{"$f":"IFERROR(INDIRECT($C$4&\"!P5\"),\"\")","v":""},{"$f":"IFERROR(INDIRECT($C$4&\"!Q5\"),\"\")","v":""},{"$f":"IFERROR(INDIRECT($C$4&\"!R5\"),\"\")","v":""},{"$f":"IFERROR(INDIRECT($C$4&\"!S5\"),\"\")","v":""},{"$f":"IFERROR(INDIRECT($C$4&\"!T5\"),\"\")","v":""},{"$f":"IFERROR(INDIRECT($C$4&\"!U5\"),\"\")","v":""},{"$f":"IFERROR(INDIRECT($C$4&\"!V5\"),\"\")","v":""},{"$f":"IFERROR(INDIRECT($C$4&\"!W5\"),\"\")","v":""},{"$f":"IFERROR(INDIRECT($C$4&\"!X5\"),\"\")","v":""},{"$f":"IFERROR(INDIRECT($C$4&\"!Y5\"),\"\")","v":""},null,4]
[null,null,5,{"$f":"IFERROR(INDIRECT($C$4&\"!B6\"),\"\")","v":""},{"$f":"IFERROR(INDIRECT($C$4&\"!C6\"),\"\")","v":""},{"$f":"IFERROR(INDIRECT($C$4&\"!D6\"),\"\")","v":""},{"$f":"IFERROR(INDIRECT($C$4&\"!E6\"),\"\")","v":""},{"$f":"IFERROR(INDIRECT($C$4&\"!F6\"),\"\")","v":""},{"$f":"IFERROR(INDIRECT($C$4&\"!G6\"),\"\")","v":""},{"$f":"IFERROR(INDIRECT($C$4&\"!H6\"),\"\")","v":""},{"$f":"IFERROR(INDIRECT($C$4&\"!I6\"),\"\")","v":""},{"$f":"IFERROR(INDIRECT($C$4&\"!J6\"),\"\")","v":""},{"$f":"IFERROR(INDIRECT($C$4&\"!K6\"),\"\")","v":""},{"$f":"IFERROR(INDIRECT($C$4&\"!L6\"),\"\")","v":""},{"$f":"IFERROR(INDIRECT($C$4&\"!M6\"),\"\")","v":""},{"$f":"IFERROR(INDIRECT($C$4&\"!N6\"),\"\")","v":""},{"$f":"IFERROR(INDIRECT($C$4&\"!O6\"),\"\")","v":""},{"$f":"IFERROR(INDIRECT($C$4&\"!P6\"),\"\")","v":""},{"$f":"IFERROR(INDIRECT($C$4&\"!Q6\"),\"\")","v":""},{"$f":"IFERROR(INDIRECT($C$4&\"!R6\"),\"\")","v":""},{"$f":"IFERROR(INDIRECT($C$4&\"!S6\"),\"\")","v":""},{"$f":"IFERROR(INDIRECT($C$4&\"!T6\"),\"\")","v":""},{"$f":"IFERROR(INDIRECT($C$4&\"!U6\"),\"\")","v":""},{"$f":"IFERROR(INDIRECT($C$4&\"!V6\"),\"\")","v":""},{"$f":"IFERROR(INDIRECT($C$4&\"!W6\"),\"\")","v":""},{"$f":"IFERROR(INDIRECT($C$4&\"!X6\"),\"\")","v":""},{"$f":"IFERROR(INDIRECT($C$4&\"!Y6\"),\"\")","v":""},null,5]
[null,null,6,{"$f":"IFERROR(INDIRECT($C$4&\"!B7\"),\"\")","v":""},{"$f":"IFERROR(INDIRECT($C$4&\"!C7\"),\"\")","v":""},{"$f":"IFERROR(INDIRECT($C$4&\"!D7\"),\"\")","v":""},{"$f":"IFERROR(INDIRECT($C$4&\"!E7\"),\"\")","v":""},{"$f":"IFERROR(INDIRECT($C$4&\"!F7\"),\"\")","v":""},{"$f":"IFERROR(INDIRECT($C$4&\"!G7\"),\"\")","v":""},{"$f":"IFERROR(INDIRECT($C$4&\"!H7\"),\"\")","v":""},{"$f":"IFERROR(INDIRECT($C$4&\"!I7\"),\"\")","v":""},{"$f":"IFERROR(INDIRECT($C$4&\"!J7\"),\"\")","v":""},{"$f":"IFERROR(INDIRECT($C$4&\"!K7\"),\"\")","v":""},{"$f":"IFERROR(INDIRECT($C$4&\"!L7\"),\"\")","v":""},{"$f":"IFERROR(INDIRECT($C$4&\"!M7\"),\"\")","v":""},{"$f":"IFERROR(INDIRECT($C$4&\"!N7\"),\"\")","v":""},{"$f":"IFERROR(INDIRECT($C$4&\"!O7\"),\"\")","v":""},{"$f":"IFERROR(INDIRECT($C$4&\"!P7\"),\"\")","v":""},{"$f":"IFERROR(INDIRECT($C$4&\"!Q7\"),\"\")","v":""},{"$f":"IFERROR(INDIRECT($C$4&\"!R7\"),\"\")","v":""},{"$f":"IFERROR(INDIRECT($C$4&\"!S7\"),\"\")","v":""},{"$f":"IFERROR(INDIRECT($C$4&\"!T7\"),\"\")","v":""},{"$f":"IFERROR(INDIRECT($C$4&\"!U7\"),\"\")","v":""},{"$f":"IFERROR(INDIRECT($C$4&\"!V7\"),\"\")","v":""},{"$f":"IFERROR(INDIRECT($C$4&\"!W7\"),\"\")","v":""},{"$f":"IFERROR(INDIRECT($C$4&\"!X7\"),\"\")","v":""},{"$f":"IFERROR(INDIRECT($C$4&\"!Y7\"),\"\")","v":""},null,6]
[null,null,7,{"$f":"IFERROR(INDIRECT($C$4&\"!B8\"),\"\")","v":""},{"$f":"IFERROR(INDIRECT($C$4&\"!C8\"),\"\")","v":""},{"$f":"IFERROR(INDIRECT($C$4&\"!D8\"),\"\")","v":""},{"$f":"IFERROR(INDIRECT($C$4&\"!E8\"),\"\")","v":""},{"$f":"IFERROR(INDIRECT($C$4&\"!F8\"),\"\")","v":""},{"$f":"IFERROR(INDIRECT($C$4&\"!G8\"),\"\")","v":""},{"$f":"IFERROR(INDIRECT($C$4&\"!H8\"),\"\")","v":""},{"$f":"IFERROR(INDIRECT($C$4&\"!I8\"),\"\")","v":""},{"$f":"IFERROR(INDIRECT($C$4&\"!J8\"),\"\")","v":""},{"$f":"IFERROR(INDIRECT($C$4&\"!K8\"),\"\")","v":""},{"$f":"IFERROR(INDIRECT($C$4&\"!L8\"),\"\")","v":""},{"$f":"IFERROR(INDIRECT($C$4&\"!M8\"),\"\")","v":""},{"$f":"IFERROR(INDIRECT($C$4&\"!N8\"),\"\")","v":""},{"$f":"IFERROR(INDIRECT($C$4&\"!O8\"),\"\")","v":""},{"$f":"IFERROR(INDIRECT($C$4&\"!P8\"),\"\")","v":""},{"$f":"IFERROR(INDIRECT($C$4&\"!Q8\"),\"\")","v":""},{"$f":"IFERROR(INDIRECT($C$4&\"!R8\"),\"\")","v":""},{"$f":"IFERROR(INDIRECT($C$4&\"!S8\"),\"\")","v":""},{"$f":"IFERROR(INDIRECT($C$4&\"!T8\"),\"\")","v":""},{"$f":"IFERROR(INDIRECT($C$4&\"!U8\"),\"\")","v":""},{"$f":"IFERROR(INDIRECT($C$4&\"!V8\"),\"\")","v":""},{"$f":"IFERROR(INDIRECT($C$4&\"!W8\"),\"\")","v":""},{"$f":"IFERROR(INDIRECT($C$4&\"!X8\"),\"\")","v":""},{"$f":"IFERROR(INDIRECT($C$4&\"!Y8\"),\"\")","v":""},null,7]
[null,null,8,{"$f":"IFERROR(INDIRECT($C$4&\"!B9\"),\"\")","v":""},{"$f":"IFERROR(INDIRECT($C$4&\"!C9\"),\"\")","v":""},{"$f":"IFERROR(INDIRECT($C$4&\"!D9\"),\"\")","v":""},{"$f":"IFERROR(INDIRECT($C$4&\"!E9\"),\"\")","v":""},{"$f":"IFERROR(INDIRECT($C$4&\"!F9\"),\"\")","v":""},{"$f":"IFERROR(INDIRECT($C$4&\"!G9\"),\"\")","v":""},{"$f":"IFERROR(INDIRECT($C$4&\"!H9\"),\"\")","v":""},{"$f":"IFERROR(INDIRECT($C$4&\"!I9\"),\"\")","v":""},{"$f":"IFERROR(INDIRECT($C$4&\"!J9\"),\"\")","v":""},{"$f":"IFERROR(INDIRECT($C$4&\"!K9\"),\"\")","v":""},{"$f":"IFERROR(INDIRECT($C$4&\"!L9\"),\"\")","v":""},{"$f":"IFERROR(INDIRECT($C$4&\"!M9\"),\"\")","v":""},{"$f":"IFERROR(INDIRECT($C$4&\"!N9\"),\"\")","v":""},{"$f":"IFERROR(INDIRECT($C$4&\"!O9\"),\"\")","v":""},{"$f":"IFERROR(INDIRECT($C$4&\"!P9\"),\"\")","v":""},{"$f":"IFERROR(INDIRECT($C$4&\"!Q9\"),\"\")","v":""},{"$f":"IFERROR(INDIRECT($C$4&\"!R9\"),\"\")","v":""},{"$f":"IFERROR(INDIRECT($C$4&\"!S9\"),\"\")","v":""},{"$f":"IFERROR(INDIRECT($C$4&\"!T9\"),\"\")","v":""},{"$f":"IFERROR(INDIRECT($C$4&\"!U9\"),\"\")","v":""},{"$f":"IFERROR(INDIRECT($C$4&\"!V9\"),\"\")","v":""},{"$f":"IFERROR(INDIRECT($C$4&\"!W9\"),\"\")","v":""},{"$f":"IFERROR(INDIRECT($C$4&\"!X9\"),\"\")","v":""},{"$f":"IFERROR(INDIRECT($C$4&\"!Y9\"),\"\")","v":""},null,8]
[null,null,9,{"$f":"IFERROR(INDIRECT($C$4&\"!B10\"),\"\")","v":""},{"$f":"IFERROR(INDIRECT($C$4&\"!C10\"),\"\")","v":""},{"$f":"IFERROR(INDIRECT($C$4&\"!D10\"),\"\")","v":""},{"$f":"IFERROR(INDIRECT($C$4&\"!E10\"),\"\")","v":""},{"$f":"IFERROR(INDIRECT($C$4&\"!F10\"),\"\")","v":""},{"$f":"IFERROR(INDIRECT($C$4&\"!G10\"),\"\")","v":""},{"$f":"IFERROR(INDIRECT($C$4&\"!H10\"),\"\")","v":""},{"$f":"IFERROR(INDIRECT($C$4&\"!I10\"),\"\")","v":""},{"$f":"IFERROR(INDIRECT($C$4&\"!J10\"),\"\")","v":""},{"$f":"IFERROR(INDIRECT($C$4&\"!K10\"),\"\")","v":""},{"$f":"IFERROR(INDIRECT($C$4&\"!L10\"),\"\")","v":""},{"$f":"IFERROR(INDIRECT($C$4&\"!M10\"),\"\")","v":""},{"$f":"IFERROR(INDIRECT($C$4&\"!N10\"),\"\")","v":""},{"$f":"IFERROR(INDIRECT($C$4&\"!O10\"),\"\")","v":""},{"$f":"IFERROR(INDIRECT($C$4&\"!P10\"),\"\")","v":""},{"$f":"IFERROR(INDIRECT($C$4&\"!Q10\"),\"\")","v":""},{"$f":"IFERROR(INDIRECT($C$4&\"!R10\"),\"\")","v":""},{"$f":"IFERROR(INDIRECT($C$4&\"!S10\"),\"\")","v":""},{"$f":"IFERROR(INDIRECT($C$4&\"!T10\"),\"\")","v":""},{"$f":"IFERROR(INDIRECT($C$4&\"!U10\"),\"\")","v":""},{"$f":"IFERROR(INDIRECT($C$4&\"!V10\"),\"\")","v":""},{"$f":"IFERROR(INDIRECT($C$4&\"!W10\"),\"\")","v":""},{"$f":"IFERROR(INDIRECT($C$4&\"!X10\"),\"\")","v":""},{"$f":"IFERROR(INDIRECT($C$4&\"!Y10\"),\"\")","v":""},null,9]
[null,null,10,{"$f":"IFERROR(INDIRECT($C$4&\"!B11\"),\"\")","v":""},{"$f":"IFERROR(INDIRECT($C$4&\"!C11\"),\"\")","v":""},{"$f":"IFERROR(INDIRECT($C$4&\"!D11\"),\"\")","v":""},{"$f":"IFERROR(INDIRECT($C$4&\"!E11\"),\"\")","v":""},{"$f":"IFERROR(INDIRECT($C$4&\"!F11\"),\"\")","v":""},{"$f":"IFERROR(INDIRECT($C$4&\"!G11\"),\"\")","v":""},{"$f":"IFERROR(INDIRECT($C$4&\"!H11\"),\"\")","v":""},{"$f":"IFERROR(INDIRECT($C$4&\"!I11\"),\"\")","v":""},{"$f":"IFERROR(INDIRECT($C$4&\"!J11\"),\"\")","v":""},{"$f":"IFERROR(INDIRECT($C$4&\"!K11\"),\"\")","v":""},{"$f":"IFERROR(INDIRECT($C$4&\"!L11\"),\"\")","v":""},{"$f":"IFERROR(INDIRECT($C$4&\"!M11\"),\"\")","v":""},{"$f":"IFERROR(INDIRECT($C$4&\"!N11\"),\"\")","v":""},{"$f":"IFERROR(INDIRECT($C$4&\"!O11\"),\"\")","v":""},{"$f":"IFERROR(INDIRECT($C$4&\"!P11\"),\"\")","v":""},{"$f":"IFERROR(INDIRECT($C$4&\"!Q11\"),\"\")","v":""},{"$f":"IFERROR(INDIRECT($C$4&\"!R11\"),\"\")","v":""},{"$f":"IFERROR(INDIRECT($C$4&\"!S11\"),\"\")","v":""},{"$f":"IFERROR(INDIRECT($C$4&\"!T11\"),\"\")","v":""},{"$f":"IFERROR(INDIRECT($C$4&\"!U11\"),\"\")","v":""},{"$f":"IFERROR(INDIRECT($C$4&\"!V11\"),\"\")","v":""},{"$f":"IFERROR(INDIRECT($C$4&\"!W11\"),\"\")","v":""},{"$f":"IFERROR(INDIRECT($C$4&\"!X11\"),\"\")","v":""},{"$f":"IFERROR(INDIRECT($C$4&\"!Y11\"),\"\")","v":""},null,10]
[null,null,11,{"$f":"IFERROR(INDIRECT($C$4&\"!B12\"),\"\")","v":""},{"$f":"IFERROR(INDIRECT($C$4&\"!C12\"),\"\")","v":""},{"$f":"IFERROR(INDIRECT($C$4&\"!D12\"),\"\")","v":""},{"$f":"IFERROR(INDIRECT($C$4&\"!E12\"),\"\")","v":""},{"$f":"IFERROR(INDIRECT($C$4&\"!F12\"),\"\")","v":""},{"$f":"IFERROR(INDIRECT($C$4&\"!G12\"),\"\")","v":""},{"$f":"IFERROR(INDIRECT($C$4&\"!H12\"),\"\")","v":""},{"$f":"IFERROR(INDIRECT($C$4&\"!I12\"),\"\")","v":""},{"$f":"IFERROR(INDIRECT($C$4&\"!J12\"),\"\")","v":""},{"$f":"IFERROR(INDIRECT($C$4&\"!K12\"),\"\")","v":""},{"$f":"IFERROR(INDIRECT($C$4&\"!L12\"),\"\")","v":""},{"$f":"IFERROR(INDIRECT($C$4&\"!M12\"),\"\")","v":""},{"$f":"IFERROR(INDIRECT($C$4&\"!N12\"),\"\")","v":""},{"$f":"IFERROR(INDIRECT($C$4&\"!O12\"),\"\")","v":""},{"$f":"IFERROR(INDIRECT($C$4&\"!P12\"),\"\")","v":""},{"$f":"IFERROR(INDIRECT($C$4&\"!Q12\"),\"\")","v":""},{"$f":"IFERROR(INDIRECT($C$4&\"!R12\"),\"\")","v":""},{"$f":"IFERROR(INDIRECT($C$4&\"!S12\"),\"\")","v":""},{"$f":"IFERROR(INDIRECT($C$4&\"!T12\"),\"\")","v":""},{"$f":"IFERROR(INDIRECT($C$4&\"!U12\"),\"\")","v":""},{"$f":"IFERROR(INDIRECT($C$4&\"!V12\"),\"\")","v":""},{"$f":"IFERROR(INDIRECT($C$4&\"!W12\"),\"\")","v":""},{"$f":"IFERROR(INDIRECT($C$4&\"!X12\"),\"\")","v":""},{"$f":"IFERROR(INDIRECT($C$4&\"!Y12\"),\"\")","v":""},null,11]
[null,null,12,{"$f":"IFERROR(INDIRECT($C$4&\"!B13\"),\"\")","v":""},{"$f":"IFERROR(INDIRECT($C$4&\"!C13\"),\"\")","v":""},{"$f":"IFERROR(INDIRECT($C$4&\"!D13\"),\"\")","v":""},{"$f":"IFERROR(INDIRECT($C$4&\"!E13\"),\"\")","v":""},{"$f":"IFERROR(INDIRECT($C$4&\"!F13\"),\"\")","v":""},{"$f":"IFERROR(INDIRECT($C$4&\"!G13\"),\"\")","v":""},{"$f":"IFERROR(INDIRECT($C$4&\"!H13\"),\"\")","v":""},{"$f":"IFERROR(INDIRECT($C$4&\"!I13\"),\"\")","v":""},{"$f":"IFERROR(INDIRECT($C$4&\"!J13\"),\"\")","v":""},{"$f":"IFERROR(INDIRECT($C$4&\"!K13\"),\"\")","v":""},{"$f":"IFERROR(INDIRECT($C$4&\"!L13\"),\"\")","v":""},{"$f":"IFERROR(INDIRECT($C$4&\"!M13\"),\"\")","v":""},{"$f":"IFERROR(INDIRECT($C$4&\"!N13\"),\"\")","v":""},{"$f":"IFERROR(INDIRECT($C$4&\"!O13\"),\"\")","v":""},{"$f":"IFERROR(INDIRECT($C$4&\"!P13\"),\"\")","v":""},{"$f":"IFERROR(INDIRECT($C$4&\"!Q13\"),\"\")","v":""},{"$f":"IFERROR(INDIRECT($C$4&\"!R13\"),\"\")","v":""},{"$f":"IFERROR(INDIRECT($C$4&\"!S13\"),\"\")","v":""},{"$f":"IFERROR(INDIRECT($C$4&\"!T13\"),\"\")","v":""},{"$f":"IFERROR(INDIRECT($C$4&\"!U13\"),\"\")","v":""},{"$f":"IFERROR(INDIRECT($C$4&\"!V13\"),\"\")","v":""},{"$f":"IFERROR(INDIRECT($C$4&\"!W13\"),\"\")","v":""},{"$f":"IFERROR(INDIRECT($C$4&\"!X13\"),\"\")","v":""},{"$f":"IFERROR(INDIRECT($C$4&\"!Y13\"),\"\")","v":""},null,12]
[null,null,1,{"$f":"IFERROR(INDIRECT($C$4&\"!B14\"),\"\")","v":""},{"$f":"IFERROR(INDIRECT($C$4&\"!C14\"),\"\")","v":""},{"$f":"IFERROR(INDIRECT($C$4&\"!D14\"),\"\")","v":""},{"$f":"IFERROR(INDIRECT($C$4&\"!E14\"),\"\")","v":""},{"$f":"IFERROR(INDIRECT($C$4&\"!F14\"),\"\")","v":""},{"$f":"IFERROR(INDIRECT($C$4&\"!G14\"),\"\")","v":""},{"$f":"IFERROR(INDIRECT($C$4&\"!H14\"),\"\")","v":""},{"$f":"IFERROR(INDIRECT($C$4&\"!I14\"),\"\")","v":""},{"$f":"IFERROR(INDIRECT($C$4&\"!J14\"),\"\")","v":""},{"$f":"IFERROR(INDIRECT($C$4&\"!K14\"),\"\")","v":""},{"$f":"IFERROR(INDIRECT($C$4&\"!L14\"),\"\")","v":""},{"$f":"IFERROR(INDIRECT($C$4&\"!M14\"),\"\")","v":""},{"$f":"IFERROR(INDIRECT($C$4&\"!N14\"),\"\")","v":""},{"$f":"IFERROR(INDIRECT($C$4&\"!O14\"),\"\")","v":""},{"$f":"IFERROR(INDIRECT($C$4&\"!P14\"),\"\")","v":""},{"$f":"IFERROR(INDIRECT($C$4&\"!Q14\"),\"\")","v":""},{"$f":"IFERROR(INDIRECT($C$4&\"!R14\"),\"\")","v":""},{"$f":"IFERROR(INDIRECT($C$4&\"!S14\"),\"\")","v":""},{"$f":"IFERROR(INDIRECT($C$4&\"!T14\"),\"\")","v":""},{"$f":"IFERROR(INDIRECT($C$4&\"!U14\"),\"\")","v":""},{"$f":"IFERROR(INDIRECT($C$4&\"!V14\"),\"\")","v":""},{"$f":"IFERROR(INDIRECT($C$4&\"!W14\"),\"\")","v":""},{"$f":"IFERROR(INDIRECT($C$4&\"!X14\"),\"\")","v":""},{"$f":"IFERROR(INDIRECT($C$4&\"!Y14\"),\"\")","v":""},null,1]
[null,null,2,{"$f":"IFERROR(INDIRECT($C$4&\"!B15\"),\"\")","v":""},{"$f":"IFERROR(INDIRECT($C$4&\"!C15\"),\"\")","v":""},{"$f":"IFERROR(INDIRECT($C$4&\"!D15\"),\"\")","v":""},{"$f":"IFERROR(INDIRECT($C$4&\"!E15\"),\"\")","v":""},{"$f":"IFERROR(INDIRECT($C$4&\"!F15\"),\"\")","v":""},{"$f":"IFERROR(INDIRECT($C$4&\"!G15\"),\"\")","v":""},{"$f":"IFERROR(INDIRECT($C$4&\"!H15\"),\"\")","v":""},{"$f":"IFERROR(INDIRECT($C$4&\"!I15\"),\"\")","v":""},{"$f":"IFERROR(INDIRECT($C$4&\"!J15\"),\"\")","v":""},{"$f":"IFERROR(INDIRECT($C$4&\"!K15\"),\"\")","v":""},{"$f":"IFERROR(INDIRECT($C$4&\"!L15\"),\"\")","v":""},{"$f":"IFERROR(INDIRECT($C$4&\"!M15\"),\"\")","v":""},{"$f":"IFERROR(INDIRECT($C$4&\"!N15\"),\"\")","v":""},{"$f":"IFERROR(INDIRECT($C$4&\"!O15\"),\"\")","v":""},{"$f":"IFERROR(INDIRECT($C$4&\"!P15\"),\"\")","v":""},{"$f":"IFERROR(INDIRECT($C$4&\"!Q15\"),\"\")","v":""},{"$f":"IFERROR(INDIRECT($C$4&\"!R15\"),\"\")","v":""},{"$f":"IFERROR(INDIRECT($C$4&\"!S15\"),\"\")","v":""},{"$f":"IFERROR(INDIRECT($C$4&\"!T15\"),\"\")","v":""},{"$f":"IFERROR(INDIRECT($C$4&\"!U15\"),\"\")","v":""},{"$f":"IFERROR(INDIRECT($C$4&\"!V15\"),\"\")","v":""},{"$f":"IFERROR(INDIRECT($C$4&\"!W15\"),\"\")","v":""},{"$f":"IFERROR(INDIRECT($C$4&\"!X15\"),\"\")","v":""},{"$f":"IFERROR(INDIRECT($C$4&\"!Y15\"),\"\")","v":""},null,2]
[null,null,3,{"$f":"IFERROR(INDIRECT($C$4&\"!B16\"),\"\")","v":""},{"$f":"IFERROR(INDIRECT($C$4&\"!C16\"),\"\")","v":""},{"$f":"IFERROR(INDIRECT($C$4&\"!D16\"),\"\")","v":""},{"$f":"IFERROR(INDIRECT($C$4&\"!E16\"),\"\")","v":""},{"$f":"IFERROR(INDIRECT($C$4&\"!F16\"),\"\")","v":""},{"$f":"IFERROR(INDIRECT($C$4&\"!G16\"),\"\")","v":""},{"$f":"IFERROR(INDIRECT($C$4&\"!H16\"),\"\")","v":""},{"$f":"IFERROR(INDIRECT($C$4&\"!I16\"),\"\")","v":""},{"$f":"IFERROR(INDIRECT($C$4&\"!J16\"),\"\")","v":""},{"$f":"IFERROR(INDIRECT($C$4&\"!K16\"),\"\")","v":""},{"$f":"IFERROR(INDIRECT($C$4&\"!L16\"),\"\")","v":""},{"$f":"IFERROR(INDIRECT($C$4&\"!M16\"),\"\")","v":""},{"$f":"IFERROR(INDIRECT($C$4&\"!N16\"),\"\")","v":""},{"$f":"IFERROR(INDIRECT($C$4&\"!O16\"),\"\")","v":""},{"$f":"IFERROR(INDIRECT($C$4&\"!P16\"),\"\")","v":""},{"$f":"IFERROR(INDIRECT($C$4&\"!Q16\"),\"\")","v":""},{"$f":"IFERROR(INDIRECT($C$4&\"!R16\"),\"\")","v":""},{"$f":"IFERROR(INDIRECT($C$4&\"!S16\"),\"\")","v":""},{"$f":"IFERROR(INDIRECT($C$4&\"!T16\"),\"\")","v":""},{"$f":"IFERROR(INDIRECT($C$4&\"!U16\"),\"\")","v":""},{"$f":"IFERROR(INDIRECT($C$4&\"!V16\"),\"\")","v":""},{"$f":"IFERROR(INDIRECT($C$4&\"!W16\"),\"\")","v":""},{"$f":"IFERROR(INDIRECT($C$4&\"!X16\"),\"\")","v":""},{"$f":"IFERROR(INDIRECT($C$4&\"!Y16\"),\"\")","v":""},null,3]
[]
[null,null,null,"共通","暖房設計外気温度",null,"設備設計時に最大暖房負荷計算を行った外気温度(JIS B8613のth100に相当)",null,null,null,null,null,null,null,null,"Td",-5,"℃",null,"定格条件\n【外気温度】",null,"冷却","35℃",null,"定格条件\n【冷温水温度】",null,"冷却","入口温度","12℃","加熱","入口温度","40℃"]
[null,null,null,null,null,null,null,null,null,null,null,null,null,null,null,null,null,null,null,null,null,"加熱","7℃",null,null,null,null,"出口温度","7℃",null,"出口温度","45℃"]
[]
[null,null,null,"設備導入前",null,null,null,null,null,null,null,null,null,null,null,null,"前1","前2","前3"]
[null,null,null,null,"設計加熱能力",null,"最大暖房負荷に対して選定した空冷HPチラーの暖房能力(原則、最大空調負荷に等しい)",null,null,null,null,null,null,null,null,"Φwd",150,null,null,"kW"]
[null,null,null,null,"定格冷却能力",null,null,null,"空冷HPチラーの仕様を入力",null,null,null,null,null,null,"Φco",250,null,null,"kW"]
[null,null,null,null,"定格冷却消費電力",null,null,null,"空冷HPチラーの仕様を入力",null,null,null,null,null,null,"Pco",71,null,null,"kW"]
[null,null,null,null,"定格冷却COP",null,null,null,"自動計算",null,null,null,null,null,null,"σco",{"$f":"IFERROR(Q$30/Q$31,\"\")","v":3.5211267605633805},{"$f":"IFERROR(R$30/R$31,\"\")","v":""},{"$f":"IFERROR(S$30/S$31,\"\")","v":""},"σco＝Φco／Pco"]
[null,null,null,null,"定格加熱能力",null,null,null,"空冷HPチラーの仕様を入力",null,null,null,null,null,null,"Φwo",250,null,null,"kW"]
[null,null,null,null,"定格加熱消費電力",null,null,null,"空冷HPチラーの仕様を入力",null,null,null,null,null,null,"Pwo",69,null,null,"kW"]
[null,null,null,null,"定格加熱COP",null,null,null,"自動計算",null,null,null,null,null,null,"σwo",{"$f":"IFERROR(Q$33/Q$34,\"\")","v":3.6231884057971016},{"$f":"IFERROR(R$33/R$34,\"\")","v":""},{"$f":"IFERROR(S$33/S$34,\"\")","v":""},"σwo＝Φwo／Pwo"]
[null,null,null,null,"冷温水ポンプモータ定格出力",null,null,null,"空冷HPチラーの仕様を入力",null,null,null,null,null,null,"Pp2",3.7,null,null,"kW"]
[]
[]
[]
[]
[]
[null,null,null,"設備導入後",null,null,null,null,null,null,null,null,null,null,null,null,"後1","後2","後3"]
[null,null,null,null,"設計加熱能力",null,"最大暖房負荷に対して選定した空冷HPチラーの暖房能力(原則、最大空調負荷に等しい)",null,null,null,null,null,null,null,null,"Φwd",null,null,null,"kW"]
[null,null,null,null,"定格冷却能力",null,null,null,"空冷HPチラーの仕様を入力",null,null,null,null,null,null,"Φco",null,null,null,"kW"]
[null,null,null,null,"定格冷却消費電力",null,null,null,"空冷HPチラーの仕様を入力",null,null,null,null,null,null,"Pco",null,null,null,"kW"]
[null,null,null,null,"定格冷却COP",null,null,null,"自動計算",null,null,null,null,null,null,"σco",{"$f":"IFERROR(Q$44/Q$45,\"\")","v":""},{"$f":"IFERROR(R$44/R$45,\"\")","v":""},{"$f":"IFERROR(S$44/S$45,\"\")","v":""},"σco＝Φco／Pco"]
[null,null,null,null,"定格加熱能力",null,null,null,"空冷HPチラーの仕様を入力",null,null,null,null,null,null,"Φwo",null,null,null,"kW"]
[null,null,null,null,"定格加熱消費電力",null,null,null,"空冷HPチラーの仕様を入力",null,null,null,null,null,null,"Pwo",null,null,null,"kW"]
[null,null,null,null,"定格加熱COP",null,null,null,"自動計算",null,null,null,null,null,null,"σwo",{"$f":"IFERROR(Q$47/Q$48,\"\")","v":""},{"$f":"IFERROR(R$47/R$48,\"\")","v":""},{"$f":"IFERROR(S$47/S$48,\"\")","v":""},"σwo＝Φwo／Pwo"]
[null,null,null,null,"冷温水ポンプモータ定格出力",null,null,null,"空冷HPチラーの仕様を入力",null,null,null,null,null,null,"Pp2",null,null,null,"kW"]
[]
[]
[]
[]
[]
[null,null,"設備導入前年間電力使用量[kWh]"]
[null,null,null,"冷却(Ec)",null,"加熱(Ew)",null,"合計(Ecw)"]
[null,null,null,{"$f":"IFERROR($F$74+$M$74+$T$74,\"\")","v":0},null,{"$f":"IFERROR($I$74+$P$74+$W$74,\"\")","v":0},null,{"$f":"IFERROR($J$74+$Q$74+$X$74,\"\")","v":0}]
[]
[null,null,null,"前1",null,null,null,null,null,null,"前2",null,null,null,null,null,null,"前3"]
[null,null,"月    期間","主機(Ecc)","補機(Eaxc)","全体(Ec)","主機(Eww)","補機(Eaxw)","全体(Ew)","月合計","主機(Ecc)","補機(Eaxc)","全体(Ec)","主機(Eww)","補機(Eaxw)","全体(Ew)","月合計","主機(Ecc)","補機(Eaxc)","全体(Ec)","主機(Eww)","補機(Eaxw)","全体(Ew)","月合計"]
[null,null,4,{"$f":"IF($C$7=\"---\",\"\",IFERROR($AX149,\"\"))","v":""},{"$f":"IF($C$7=\"---\",\"\",IFERROR($AY149,\"\"))","v":""},{"$f":"IF($C$7=\"---\",\"\",IFERROR($AZ149,\"\"))","v":""},{"$f":"IF($C$7=\"---\",\"\",IFERROR($AX170,\"\"))","v":""},{"$f":"IF($C$7=\"---\",\"\",IFERROR($AY170,\"\"))","v":""},{"$f":"IF($C$7=\"---\",\"\",IFERROR($AZ170,\"\"))","v":""},{"$f":"IFERROR(SUM(F62+I62),\"\")","v":""},{"$f":"IF($C$7=\"---\",\"\",IFERROR($BA149,\"\"))","v":""},{"$f":"IF($C$7=\"---\",\"\",IFERROR($BB149,\"\"))","v":""},{"$f":"IF($C$7=\"---\",\"\",IFERROR($BC149,\"\"))","v":""},{"$f":"IF($C$7=\"---\",\"\",IFERROR($BA170,\"\"))","v":""},{"$f":"IF($C$7=\"---\",\"\",IFERROR($BB170,\"\"))","v":""},{"$f":"IF($C$7=\"---\",\"\",IFERROR($BC170,\"\"))","v":""},{"$f":"IFERROR(SUM(M62+P62),\"\")","v":""},{"$f":"IF($C$7=\"---\",\"\",IFERROR($BD149,\"\"))","v":""},{"$f":"IF($C$7=\"---\",\"\",IFERROR($BE149,\"\"))","v":""},{"$f":"IF($C$7=\"---\",\"\",IFERROR($BF149,\"\"))","v":""},{"$f":"IF($C$7=\"---\",\"\",IFERROR($BD170,\"\"))","v":""},{"$f":"IF($C$7=\"---\",\"\",IFERROR($BE170,\"\"))","v":""},{"$f":"IF($C$7=\"---\",\"\",IFERROR($BF170,\"\"))","v":""},{"$f":"IFERROR(SUM(T62+W62),\"\")","v":""}]
[null,null,5,{"$f":"IF($C$7=\"---\",\"\",IFERROR($AX150,\"\"))","v":""},{"$f":"IF($C$7=\"---\",\"\",IFERROR($AY150,\"\"))","v":""},{"$f":"IF($C$7=\"---\",\"\",IFERROR($AZ150,\"\"))","v":""},{"$f":"IF($C$7=\"---\",\"\",IFERROR($AX171,\"\"))","v":""},{"$f":"IF($C$7=\"---\",\"\",IFERROR($AY171,\"\"))","v":""},{"$f":"IF($C$7=\"---\",\"\",IFERROR($AZ171,\"\"))","v":""},{"$f":"IFERROR(SUM(F63+I63),\"\")","v":""},{"$f":"IF($C$7=\"---\",\"\",IFERROR($BA150,\"\"))","v":""},{"$f":"IF($C$7=\"---\",\"\",IFERROR($BB150,\"\"))","v":""},{"$f":"IF($C$7=\"---\",\"\",IFERROR($BC150,\"\"))","v":""},{"$f":"IF($C$7=\"---\",\"\",IFERROR($BA171,\"\"))","v":""},{"$f":"IF($C$7=\"---\",\"\",IFERROR($BB171,\"\"))","v":""},{"$f":"IF($C$7=\"---\",\"\",IFERROR($BC171,\"\"))","v":""},{"$f":"IFERROR(SUM(M63+P63),\"\")","v":""},{"$f":"IF($C$7=\"---\",\"\",IFERROR($BD150,\"\"))","v":""},{"$f":"IF($C$7=\"---\",\"\",IFERROR($BE150,\"\"))","v":""},{"$f":"IF($C$7=\"---\",\"\",IFERROR($BF150,\"\"))","v":""},{"$f":"IF($C$7=\"---\",\"\",IFERROR($BD171,\"\"))","v":""},{"$f":"IF($C$7=\"---\",\"\",IFERROR($BE171,\"\"))","v":""},{"$f":"IF($C$7=\"---\",\"\",IFERROR($BF171,\"\"))","v":""},{"$f":"IFERROR(SUM(T63+W63),\"\")","v":""}]
[null,null,6,"","","","","","","","","","","","","","","","","","","","",""]
[null,null,7,"","","","","","","","","","","","","","","","","","","","",""]
[null,null,8,"","","","","","","","","","","","","","","","","","","","",""]
[null,null,9,"","","","","","","","","","","","","","","","","","","","",""]
[null,null,10,"","","","","","","","","","","","","","","","","","","","",""]
[null,null,11,"","","","","","","","","","","","","","","","","","","","",""]
[null,null,12,"","","","","","",{"$f":"IFERROR(SUM(F70+I70),\"\")","v":""},"","","","","","",{"$f":"IFERROR(SUM(M70+P70),\"\")","v":""},"","","","","","",{"$f":"IFERROR(SUM(T70+W70),\"\")","v":""}]
[null,null,1,"","","","","","","","","","","","","","","","","","","","",""]
[null,null,2,"","","","","","",{"$f":"IFERROR(SUM(F72+I72),\"\")","v":""},"","","","","","",{"$f":"IFERROR(SUM(M72+P72),\"\")","v":""},"","","","","","",""]
[null,null,3,"","","","","","","","","","","","","","","","","","","","",""]
[null,null,"合計",{"$f":"IFERROR(SUM($D$62:$D$73),\"\")","v":0},{"$f":"IFERROR(SUM($E$62:$E$73),\"\")","v":0},{"$f":"IFERROR(SUM(F$62:F$73),\"\")","v":0},0,0,0,0,0,0,0,0,0,0,0,0,0,0,0,0,0,0]
[]
[]
[null,null,"設備導入後年間電力使用量[kWh]"]
[null,null,null,"冷却(Ec)",null,"加熱(Ew)",null,"合計(Ecw)"]
[null,null,null,{"$f":"IFERROR($F$95+$M$95+$T$95,\"\")","v":0},null,{"$f":"IFERROR($I$95+$P$95+$W$95,\"\")","v":0},null,{"$f":"IFERROR($J$95+$Q$95+$X$95,\"\")","v":0}]
[]
[null,null,null,"後1",null,null,null,null,null,null,"後2",null,null,null,null,null,null,"後3"]
[null,null,"月    期間","主機(Ecc)","補機(Eaxc)","全体(Ec)","主機(Eww)","補機(Eaxw)","全体(Ew)","月合計","主機(Ecc)","補機(Eaxc)","全体(Ec)","主機(Eww)","補機(Eaxw)","全体(Ew)","月合計","主機(Ecc)","補機(Eaxc)","全体(Ec)","主機(Eww)","補機(Eaxw)","全体(Ew)","月合計"]
[null,null,4,{"$f":"IF($C$7=\"---\",\"\",IFERROR($BH149,\"\"))","v":""},{"$f":"IF($C$7=\"---\",\"\",IFERROR($BI149,\"\"))","v":""},{"$f":"IF($C$7=\"---\",\"\",IFERROR($BJ149,\"\"))","v":""},{"$f":"IF($C$7=\"---\",\"\",IFERROR($BH170,\"\"))","v":""},{"$f":"IF($C$7=\"---\",\"\",IFERROR($BI170,\"\"))","v":""},{"$f":"IF($C$7=\"---\",\"\",IFERROR($BJ170,\"\"))","v":""},{"$f":"IFERROR(SUM(F83+I83),\"\")","v":""},{"$f":"IF($C$7=\"---\",\"\",IFERROR($BK149,\"\"))","v":""},{"$f":"IF($C$7=\"---\",\"\",IFERROR($BL149,\"\"))","v":""},{"$f":"IF($C$7=\"---\",\"\",IFERROR($BM149,\"\"))","v":""},{"$f":"IF($C$7=\"---\",\"\",IFERROR($BK170,\"\"))","v":""},{"$f":"IF($C$7=\"---\",\"\",IFERROR($BL170,\"\"))","v":""},{"$f":"IF($C$7=\"---\",\"\",IFERROR($BM170,\"\"))","v":""},{"$f":"IFERROR(SUM(M83+P83),\"\")","v":""},{"$f":"IF($C$7=\"---\",\"\",IFERROR($BN149,\"\"))","v":""},{"$f":"IF($C$7=\"---\",\"\",IFERROR($BO149,\"\"))","v":""},{"$f":"IF($C$7=\"---\",\"\",IFERROR($BP149,\"\"))","v":""},{"$f":"IF($C$7=\"---\",\"\",IFERROR($BN170,\"\"))","v":""},{"$f":"IF($C$7=\"---\",\"\",IFERROR($BO170,\"\"))","v":""},{"$f":"IF($C$7=\"---\",\"\",IFERROR($BP170,\"\"))","v":""},{"$f":"IFERROR(SUM(T83+W83),\"\")","v":""}]
[null,null,5,{"$f":"IF($C$7=\"---\",\"\",IFERROR($BH150,\"\"))","v":""},{"$f":"IF($C$7=\"---\",\"\",IFERROR($BI150,\"\"))","v":""},{"$f":"IF($C$7=\"---\",\"\",IFERROR($BJ150,\"\"))","v":""},{"$f":"IF($C$7=\"---\",\"\",IFERROR($BH171,\"\"))","v":""},{"$f":"IF($C$7=\"---\",\"\",IFERROR($BI171,\"\"))","v":""},{"$f":"IF($C$7=\"---\",\"\",IFERROR($BJ171,\"\"))","v":""},{"$f":"IFERROR(SUM(F84+I84),\"\")","v":""},{"$f":"IF($C$7=\"---\",\"\",IFERROR($BK150,\"\"))","v":""},{"$f":"IF($C$7=\"---\",\"\",IFERROR($BL150,\"\"))","v":""},{"$f":"IF($C$7=\"---\",\"\",IFERROR($BM150,\"\"))","v":""},{"$f":"IF($C$7=\"---\",\"\",IFERROR($BK171,\"\"))","v":""},{"$f":"IF($C$7=\"---\",\"\",IFERROR($BL171,\"\"))","v":""},{"$f":"IF($C$7=\"---\",\"\",IFERROR($BM171,\"\"))","v":""},{"$f":"IFERROR(SUM(M84+P84),\"\")","v":""},{"$f":"IF($C$7=\"---\",\"\",IFERROR($BN150,\"\"))","v":""},{"$f":"IF($C$7=\"---\",\"\",IFERROR($BO150,\"\"))","v":""},{"$f":"IF($C$7=\"---\",\"\",IFERROR($BP150,\"\"))","v":""},{"$f":"IF($C$7=\"---\",\"\",IFERROR($BN171,\"\"))","v":""},{"$f":"IF($C$7=\"---\",\"\",IFERROR($BO171,\"\"))","v":""},{"$f":"IF($C$7=\"---\",\"\",IFERROR($BP171,\"\"))","v":""},{"$f":"IFERROR(SUM(T84+W84),\"\")","v":""}]
[null,null,6,"","","","","","","","","","","","","","","","","","","","",""]
[null,null,7,"","","","","","","","","","","","","","","","","","","","",""]
[null,null,8,"","","","","","","","","","","","","","","","","","","","",""]
[null,null,9,"","","","","","","","","","","","","","","","","","","","",""]
[null,null,10,"","","","","","","","","","","","","","","","","","","","",""]
[null,null,11,"","","","","","","","","","","","","","","","","","","","",{"$f":"IFERROR(SUM(T90+W90),\"\")","v":""}]
[null,null,12,"","","","","","",{"$f":"IFERROR(SUM(F91+I91),\"\")","v":""},"","","","","","",{"$f":"IFERROR(SUM(M91+P91),\"\")","v":""},"","","","","","",{"$f":"IFERROR(SUM(T91+W91),\"\")","v":""}]
[null,null,1,"","","","","","","","","","","","","","","","","","","","",""]
[null,null,2,"","","","","","","","","","","","","","","","","","","","",""]
[null,null,3,"","","","","","",{"$f":"IFERROR(SUM(F94+I94),\"\")","v":""},"","","","","","","","","","","","","",""]
[null,null,"合計",{"$f":"IFERROR(SUM(D83:D94),\"\")","v":0},0,0,0,0,0,0,0,0,0,0,0,0,0,0,0,0,0,0,0,0]
[]
[]
[null,null,"作業表1(青色のセルを「24」、オレンジ色のセルを「19」として抽出）"]
[null,null,null," 時刻"]
[null,null,"月",0,1,2,3,4,5,6,7,8,9,10,11,12,13,14,15,16,17,18,19,20,21,22,23,"月"]
[null,null,4,{"$f":"CELLCOLOR($D$12)","v":-4142},{"$f":"CELLCOLOR($E$12)","v":-4142},{"$f":"CELLCOLOR($F$12)","v":-4142},{"$f":"CELLCOLOR($G$12)","v":-4142},{"$f":"CELLCOLOR($H$12)","v":-4142},{"$f":"CELLCOLOR($I$12)","v":-4142},{"$f":"CELLCOLOR($J$12)","v":-4142},{"$f":"CELLCOLOR($K$12)","v":-4142},{"$f":"CELLCOLOR($L$12)","v":-4142},{"$f":"CELLCOLOR($M$12)","v":-4142},{"$f":"CELLCOLOR($N$12)","v":-4142},{"$f":"CELLCOLOR($O$12)","v":-4142},{"$f":"CELLCOLOR($P$12)","v":-4142},{"$f":"CELLCOLOR($Q$12)","v":-4142},{"$f":"CELLCOLOR($R$12)","v":-4142},{"$f":"CELLCOLOR($S$12)","v":-4142},{"$f":"CELLCOLOR($T$12)","v":-4142},{"$f":"CELLCOLOR($U$12)","v":-4142},{"$f":"CELLCOLOR($V$12)","v":-4142},{"$f":"CELLCOLOR($W$12)","v":-4142},{"$f":"CELLCOLOR($X$12)","v":-4142},{"$f":"CELLCOLOR($Y$12)","v":-4142},{"$f":"CELLCOLOR($Z$12)","v":-4142},{"$f":"CELLCOLOR($AA$12)","v":-4142},4]
[null,null,5,{"$f":"CELLCOLOR($D$13)","v":-4142},{"$f":"CELLCOLOR($E$13)","v":-4142},{"$f":"CELLCOLOR($F$13)","v":-4142},{"$f":"CELLCOLOR($G$13)","v":-4142},{"$f":"CELLCOLOR($H$13)","v":-4142},{"$f":"CELLCOLOR($I$13)","v":-4142},{"$f":"CELLCOLOR($J$13)","v":-4142},{"$f":"CELLCOLOR($K$13)","v":-4142},{"$f":"CELLCOLOR($L$13)","v":-4142},{"$f":"CELLCOLOR($M$13)","v":-4142},{"$f":"CELLCOLOR($N$13)","v":-4142},{"$f":"CELLCOLOR($O$13)","v":-4142},{"$f":"CELLCOLOR($P$13)","v":-4142},{"$f":"CELLCOLOR($Q$13)","v":-4142},{"$f":"CELLCOLOR($R$13)","v":-4142},{"$f":"CELLCOLOR($S$13)","v":-4142},{"$f":"CELLCOLOR($T$13)","v":-4142},{"$f":"CELLCOLOR($U$13)","v":-4142},{"$f":"CELLCOLOR($V$13)","v":-4142},{"$f":"CELLCOLOR($W$13)","v":-4142},{"$f":"CELLCOLOR($X$13)","v":-4142},{"$f":"CELLCOLOR($Y$13)","v":-4142},{"$f":"CELLCOLOR($Z$13)","v":-4142},{"$f":"CELLCOLOR($AA$13)","v":-4142},5]
[null,null,6,{"$f":"CELLCOLOR($D$14)","v":-4142},{"$f":"CELLCOLOR($E$14)","v":-4142},{"$f":"CELLCOLOR($F$14)","v":-4142},{"$f":"CELLCOLOR($G$14)","v":-4142},{"$f":"CELLCOLOR($H$14)","v":-4142},{"$f":"CELLCOLOR($I$14)","v":-4142},{"$f":"CELLCOLOR($J$14)","v":-4142},{"$f":"CELLCOLOR($K$14)","v":-4142},{"$f":"CELLCOLOR($L$14)","v":-4142},{"$f":"CELLCOLOR($M$14)","v":-4142},{"$f":"CELLCOLOR($N$14)","v":-4142},{"$f":"CELLCOLOR($O$14)","v":-4142},{"$f":"CELLCOLOR($P$14)","v":-4142},{"$f":"CELLCOLOR($Q$14)","v":-4142},{"$f":"CELLCOLOR($R$14)","v":-4142},{"$f":"CELLCOLOR($S$14)","v":-4142},{"$f":"CELLCOLOR($T$14)","v":-4142},{"$f":"CELLCOLOR($U$14)","v":-4142},{"$f":"CELLCOLOR($V$14)","v":-4142},{"$f":"CELLCOLOR($W$14)","v":-4142},{"$f":"CELLCOLOR($X$14)","v":-4142},{"$f":"CELLCOLOR($Y$14)","v":-4142},{"$f":"CELLCOLOR($Z$14)","v":-4142},{"$f":"CELLCOLOR($AA$14)","v":-4142},6]
[null,null,7,{"$f":"CELLCOLOR($D$15)","v":-4142},{"$f":"CELLCOLOR($E$15)","v":-4142},{"$f":"CELLCOLOR($F$15)","v":-4142},{"$f":"CELLCOLOR($G$15)","v":-4142},{"$f":"CELLCOLOR($H$15)","v":-4142},{"$f":"CELLCOLOR($I$15)","v":-4142},{"$f":"CELLCOLOR($J$15)","v":-4142},{"$f":"CELLCOLOR($K$15)","v":-4142},{"$f":"CELLCOLOR($L$15)","v":-4142},{"$f":"CELLCOLOR($M$15)","v":-4142},{"$f":"CELLCOLOR($N$15)","v":-4142},{"$f":"CELLCOLOR($O$15)","v":-4142},{"$f":"CELLCOLOR($P$15)","v":-4142},{"$f":"CELLCOLOR($Q$15)","v":-4142},{"$f":"CELLCOLOR($R$15)","v":-4142},{"$f":"CELLCOLOR($S$15)","v":-4142},{"$f":"CELLCOLOR($T$15)","v":-4142},{"$f":"CELLCOLOR($U$15)","v":-4142},{"$f":"CELLCOLOR($V$15)","v":-4142},{"$f":"CELLCOLOR($W$15)","v":-4142},{"$f":"CELLCOLOR($X$15)","v":-4142},{"$f":"CELLCOLOR($Y$15)","v":-4142},{"$f":"CELLCOLOR($Z$15)","v":-4142},{"$f":"CELLCOLOR($AA$15)","v":-4142},7]
[null,null,8,{"$f":"CELLCOLOR($D$16)","v":-4142},{"$f":"CELLCOLOR($E$16)","v":-4142},{"$f":"CELLCOLOR($F$16)","v":-4142},{"$f":"CELLCOLOR($G$16)","v":-4142},{"$f":"CELLCOLOR($H$16)","v":-4142},{"$f":"CELLCOLOR($I$16)","v":-4142},{"$f":"CELLCOLOR($J$16)","v":-4142},{"$f":"CELLCOLOR($K$16)","v":-4142},{"$f":"CELLCOLOR($L$16)","v":-4142},{"$f":"CELLCOLOR($M$16)","v":-4142},{"$f":"CELLCOLOR($N$16)","v":-4142},{"$f":"CELLCOLOR($O$16)","v":-4142},{"$f":"CELLCOLOR($P$16)","v":-4142},{"$f":"CELLCOLOR($Q$16)","v":-4142},{"$f":"CELLCOLOR($R$16)","v":-4142},{"$f":"CELLCOLOR($S$16)","v":-4142},{"$f":"CELLCOLOR($T$16)","v":-4142},{"$f":"CELLCOLOR($U$16)","v":-4142},{"$f":"CELLCOLOR($V$16)","v":-4142},{"$f":"CELLCOLOR($W$16)","v":-4142},{"$f":"CELLCOLOR($X$16)","v":-4142},{"$f":"CELLCOLOR($Y$16)","v":-4142},{"$f":"CELLCOLOR($Z$16)","v":-4142},{"$f":"CELLCOLOR($AA$16)","v":-4142},8]
[null,null,9,{"$f":"CELLCOLOR($D$17)","v":-4142},{"$f":"CELLCOLOR($E$17)","v":-4142},{"$f":"CELLCOLOR($F$17)","v":-4142},{"$f":"CELLCOLOR($G$17)","v":-4142},{"$f":"CELLCOLOR($H$17)","v":-4142},{"$f":"CELLCOLOR($I$17)","v":-4142},{"$f":"CELLCOLOR($J$17)","v":-4142},{"$f":"CELLCOLOR($K$17)","v":-4142},{"$f":"CELLCOLOR($L$17)","v":-4142},{"$f":"CELLCOLOR($M$17)","v":-4142},{"$f":"CELLCOLOR($N$17)","v":-4142},{"$f":"CELLCOLOR($O$17)","v":-4142},{"$f":"CELLCOLOR($P$17)","v":-4142},{"$f":"CELLCOLOR($Q$17)","v":-4142},{"$f":"CELLCOLOR($R$17)","v":-4142},{"$f":"CELLCOLOR($S$17)","v":-4142},{"$f":"CELLCOLOR($T$17)","v":-4142},{"$f":"CELLCOLOR($U$17)","v":-4142},{"$f":"CELLCOLOR($V$17)","v":-4142},{"$f":"CELLCOLOR($W$17)","v":-4142},{"$f":"CELLCOLOR($X$17)","v":-4142},{"$f":"CELLCOLOR($Y$17)","v":-4142},{"$f":"CELLCOLOR($Z$17)","v":-4142},{"$f":"CELLCOLOR($AA$17)","v":-4142},9]
[null,null,10,{"$f":"CELLCOLOR($D$18)","v":-4142},{"$f":"CELLCOLOR($E$18)","v":-4142},{"$f":"CELLCOLOR($F$18)","v":-4142},{"$f":"CELLCOLOR($G$18)","v":-4142},{"$f":"CELLCOLOR($H$18)","v":-4142},{"$f":"CELLCOLOR($I$18)","v":-4142},{"$f":"CELLCOLOR($J$18)","v":-4142},{"$f":"CELLCOLOR($K$18)","v":-4142},{"$f":"CELLCOLOR($L$18)","v":-4142},{"$f":"CELLCOLOR($M$18)","v":-4142},{"$f":"CELLCOLOR($N$18)","v":-4142},{"$f":"CELLCOLOR($O$18)","v":-4142},{"$f":"CELLCOLOR($P$18)","v":-4142},{"$f":"CELLCOLOR($Q$18)","v":-4142},{"$f":"CELLCOLOR($R$18)","v":-4142},{"$f":"CELLCOLOR($S$18)","v":-4142},{"$f":"CELLCOLOR($T$18)","v":-4142},{"$f":"CELLCOLOR($U$18)","v":-4142},{"$f":"CELLCOLOR($V$18)","v":-4142},{"$f":"CELLCOLOR($W$18)","v":-4142},{"$f":"CELLCOLOR($X$18)","v":-4142},{"$f":"CELLCOLOR($Y$18)","v":-4142},{"$f":"CELLCOLOR($Z$18)","v":-4142},{"$f":"CELLCOLOR($AA$18)","v":-4142},10]
[null,null,11,{"$f":"CELLCOLOR($D$19)","v":-4142},{"$f":"CELLCOLOR($E$19)","v":-4142},{"$f":"CELLCOLOR($F$19)","v":-4142},{"$f":"CELLCOLOR($G$19)","v":-4142},{"$f":"CELLCOLOR($H$19)","v":-4142},{"$f":"CELLCOLOR($I$19)","v":-4142},{"$f":"CELLCOLOR($J$19)","v":-4142},{"$f":"CELLCOLOR($K$19)","v":-4142},{"$f":"CELLCOLOR($L$19)","v":-4142},{"$f":"CELLCOLOR($M$19)","v":-4142},{"$f":"CELLCOLOR($N$19)","v":-4142},{"$f":"CELLCOLOR($O$19)","v":-4142},{"$f":"CELLCOLOR($P$19)","v":-4142},{"$f":"CELLCOLOR($Q$19)","v":-4142},{"$f":"CELLCOLOR($R$19)","v":-4142},{"$f":"CELLCOLOR($S$19)","v":-4142},{"$f":"CELLCOLOR($T$19)","v":-4142},{"$f":"CELLCOLOR($U$19)","v":-4142},{"$f":"CELLCOLOR($V$19)","v":-4142},{"$f":"CELLCOLOR($W$19)","v":-4142},{"$f":"CELLCOLOR($X$19)","v":-4142},{"$f":"CELLCOLOR($Y$19)","v":-4142},{"$f":"CELLCOLOR($Z$19)","v":-4142},{"$f":"CELLCOLOR($AA$19)","v":-4142},11]
[null,null,12,{"$f":"CELLCOLOR($D$20)","v":-4142},{"$f":"CELLCOLOR($E$20)","v":-4142},{"$f":"CELLCOLOR($F$20)","v":-4142},{"$f":"CELLCOLOR($G$20)","v":-4142},{"$f":"CELLCOLOR($H$20)","v":-4142},{"$f":"CELLCOLOR($I$20)","v":-4142},{"$f":"CELLCOLOR($J$20)","v":-4142},{"$f":"CELLCOLOR($K$20)","v":-4142},{"$f":"CELLCOLOR($L$20)","v":-4142},{"$f":"CELLCOLOR($M$20)","v":-4142},{"$f":"CELLCOLOR($N$20)","v":-4142},{"$f":"CELLCOLOR($O$20)","v":-4142},{"$f":"CELLCOLOR($P$20)","v":-4142},{"$f":"CELLCOLOR($Q$20)","v":-4142},{"$f":"CELLCOLOR($R$20)","v":-4142},{"$f":"CELLCOLOR($S$20)","v":-4142},{"$f":"CELLCOLOR($T$20)","v":-4142},{"$f":"CELLCOLOR($U$20)","v":-4142},{"$f":"CELLCOLOR($V$20)","v":-4142},{"$f":"CELLCOLOR($W$20)","v":-4142},{"$f":"CELLCOLOR($X$20)","v":-4142},{"$f":"CELLCOLOR($Y$20)","v":-4142},{"$f":"CELLCOLOR($Z$20)","v":-4142},{"$f":"CELLCOLOR($AA$20)","v":-4142},12]
[null,null,1,{"$f":"CELLCOLOR($D$21)","v":-4142},{"$f":"CELLCOLOR($E$21)","v":-4142},{"$f":"CELLCOLOR($F$21)","v":-4142},{"$f":"CELLCOLOR($G$21)","v":-4142},{"$f":"CELLCOLOR($H$21)","v":-4142},{"$f":"CELLCOLOR($I$21)","v":-4142},{"$f":"CELLCOLOR($J$21)","v":-4142},{"$f":"CELLCOLOR($K$21)","v":-4142},{"$f":"CELLCOLOR($L$21)","v":-4142},{"$f":"CELLCOLOR($M$21)","v":-4142},{"$f":"CELLCOLOR($N$21)","v":-4142},{"$f":"CELLCOLOR($O$21)","v":-4142},{"$f":"CELLCOLOR($P$21)","v":-4142},{"$f":"CELLCOLOR($Q$21)","v":-4142},{"$f":"CELLCOLOR($R$21)","v":-4142},{"$f":"CELLCOLOR($S$21)","v":-4142},{"$f":"CELLCOLOR($T$21)","v":-4142},{"$f":"CELLCOLOR($U$21)","v":-4142},{"$f":"CELLCOLOR($V$21)","v":-4142},{"$f":"CELLCOLOR($W$21)","v":-4142},{"$f":"CELLCOLOR($X$21)","v":-4142},{"$f":"CELLCOLOR($Y$21)","v":-4142},{"$f":"CELLCOLOR($Z$21)","v":-4142},{"$f":"CELLCOLOR($AA$21)","v":-4142},1]
[null,null,2,{"$f":"CELLCOLOR($D$22)","v":-4142},{"$f":"CELLCOLOR($E$22)","v":-4142},{"$f":"CELLCOLOR($F$22)","v":-4142},{"$f":"CELLCOLOR($G$22)","v":-4142},{"$f":"CELLCOLOR($H$22)","v":-4142},{"$f":"CELLCOLOR($I$22)","v":-4142},{"$f":"CELLCOLOR($J$22)","v":-4142},{"$f":"CELLCOLOR($K$22)","v":-4142},{"$f":"CELLCOLOR($L$22)","v":-4142},{"$f":"CELLCOLOR($M$22)","v":-4142},{"$f":"CELLCOLOR($N$22)","v":-4142},{"$f":"CELLCOLOR($O$22)","v":-4142},{"$f":"CELLCOLOR($P$22)","v":-4142},{"$f":"CELLCOLOR($Q$22)","v":-4142},{"$f":"CELLCOLOR($R$22)","v":-4142},{"$f":"CELLCOLOR($S$22)","v":-4142},{"$f":"CELLCOLOR($T$22)","v":-4142},{"$f":"CELLCOLOR($U$22)","v":-4142},{"$f":"CELLCOLOR($V$22)","v":-4142},{"$f":"CELLCOLOR($W$22)","v":-4142},{"$f":"CELLCOLOR($X$22)","v":-4142},{"$f":"CELLCOLOR($Y$22)","v":-4142},{"$f":"CELLCOLOR($Z$22)","v":-4142},{"$f":"CELLCOLOR($AA$22)","v":-4142},2]
[null,null,3,{"$f":"CELLCOLOR($D$23)","v":-4142},{"$f":"CELLCOLOR($E$23)","v":-4142},{"$f":"CELLCOLOR($F$23)","v":-4142},{"$f":"CELLCOLOR($G$23)","v":-4142},{"$f":"CELLCOLOR($H$23)","v":-4142},{"$f":"CELLCOLOR($I$23)","v":-4142},{"$f":"CELLCOLOR($J$23)","v":-4142},{"$f":"CELLCOLOR($K$23)","v":-4142},{"$f":"CELLCOLOR($L$23)","v":-4142},{"$f":"CELLCOLOR($M$23)","v":-4142},{"$f":"CELLCOLOR($N$23)","v":-4142},{"$f":"CELLCOLOR($O$23)","v":-4142},{"$f":"CELLCOLOR($P$23)","v":-4142},{"$f":"CELLCOLOR($Q$23)","v":-4142},{"$f":"CELLCOLOR($R$23)","v":-4142},{"$f":"CELLCOLOR($S$23)","v":-4142},{"$f":"CELLCOLOR($T$23)","v":-4142},{"$f":"CELLCOLOR($U$23)","v":-4142},{"$f":"CELLCOLOR($V$23)","v":-4142},{"$f":"CELLCOLOR($W$23)","v":-4142},{"$f":"CELLCOLOR($X$23)","v":-4142},{"$f":"CELLCOLOR($Y$23)","v":-4142},{"$f":"CELLCOLOR($Z$23)","v":-4142},{"$f":"CELLCOLOR($AA$23)","v":-4142},3]
[]
[null,null,"作業表2-1(冷却)",null,"●月▲時の平均気温(四捨五入で表示）"]
[null,null,null," 時刻"]
[null,null,"月",0,1,2,3,4,5,6,7,8,9,10,11,12,13,14,15,16,17,18,19,20,21,22,23,"月"]
[null,null,4,{"$f":"IF($D$101=24,ROUND($D$12,0),\"\")&\"\"","v":""},{"$f":"IF($E$101=24,ROUND($E$12,0),\"\")&\"\"","v":""},{"$f":"IF($F$101=24,ROUND($F$12,0),\"\")&\"\"","v":""},{"$f":"IF($G$101=24,ROUND($G$12,0),\"\")&\"\"","v":""},{"$f":"IF($H$101=24,ROUND($H$12,0),\"\")&\"\"","v":""},{"$f":"IF($I$101=24,ROUND($I$12,0),\"\")&\"\"","v":""},{"$f":"IF($J$101=24,ROUND($J$12,0),\"\")&\"\"","v":""},{"$f":"IF($K$101=24,ROUND($K$12,0),\"\")&\"\"","v":""},{"$f":"IF($L$101=24,ROUND($L$12,0),\"\")&\"\"","v":""},{"$f":"IF($M$101=24,ROUND($M$12,0),\"\")&\"\"","v":""},{"$f":"IF($N$101=24,ROUND($N$12,0),\"\")&\"\"","v":""},{"$f":"IF($O$101=24,ROUND($O$12,0),\"\")&\"\"","v":""},{"$f":"IF($P$101=24,ROUND($P$12,0),\"\")&\"\"","v":""},{"$f":"IF($Q$101=24,ROUND($Q$12,0),\"\")&\"\"","v":""},{"$f":"IF($R$101=24,ROUND($R$12,0),\"\")&\"\"","v":""},{"$f":"IF($S$101=24,ROUND($S$12,0),\"\")&\"\"","v":""},{"$f":"IF($T$101=24,ROUND($T$12,0),\"\")&\"\"","v":""},{"$f":"IF($U$101=24,ROUND($U$12,0),\"\")&\"\"","v":""},{"$f":"IF($V$101=24,ROUND($V$12,0),\"\")&\"\"","v":""},{"$f":"IF($W$101=24,ROUND($W$12,0),\"\")&\"\"","v":""},{"$f":"IF($X$101=24,ROUND($X$12,0),\"\")&\"\"","v":""},{"$f":"IF($Y$101=24,ROUND($Y$12,0),\"\")&\"\"","v":""},{"$f":"IF($Z$101=24,ROUND($Z$12,0),\"\")&\"\"","v":""},{"$f":"IF($AA$101=24,ROUND($AA$12,0),\"\")&\"\"","v":""},4]
[null,null,5,{"$f":"IF($D$102=24,ROUND($D$13,0),\"\")&\"\"","v":""},{"$f":"IF($E$102=24,ROUND($E$13,0),\"\")&\"\"","v":""},{"$f":"IF($F$102=24,ROUND($F$13,0),\"\")&\"\"","v":""},{"$f":"IF($G$102=24,ROUND($G$13,0),\"\")&\"\"","v":""},{"$f":"IF($H$102=24,ROUND($H$13,0),\"\")&\"\"","v":""},{"$f":"IF($I$102=24,ROUND($I$13,0),\"\")&\"\"","v":""},{"$f":"IF($J$102=24,ROUND($J$13,0),\"\")&\"\"","v":""},{"$f":"IF($K$102=24,ROUND($K$13,0),\"\")&\"\"","v":""},{"$f":"IF($L$102=24,ROUND($L$13,0),\"\")&\"\"","v":""},{"$f":"IF($M$102=24,ROUND($M$13,0),\"\")&\"\"","v":""},{"$f":"IF($N$102=24,ROUND($N$13,0),\"\")&\"\"","v":""},{"$f":"IF($O$102=24,ROUND($O$13,0),\"\")&\"\"","v":""},{"$f":"IF($P$102=24,ROUND($P$13,0),\"\")&\"\"","v":""},{"$f":"IF($Q$102=24,ROUND($Q$13,0),\"\")&\"\"","v":""},{"$f":"IF($R$102=24,ROUND($R$13,0),\"\")&\"\"","v":""},{"$f":"IF($S$102=24,ROUND($S$13,0),\"\")&\"\"","v":""},{"$f":"IF($T$102=24,ROUND($T$13,0),\"\")&\"\"","v":""},{"$f":"IF($U$102=24,ROUND($U$13,0),\"\")&\"\"","v":""},{"$f":"IF($V$102=24,ROUND($V$13,0),\"\")&\"\"","v":""},{"$f":"IF($W$102=24,ROUND($W$13,0),\"\")&\"\"","v":""},{"$f":"IF($X$102=24,ROUND($X$13,0),\"\")&\"\"","v":""},{"$f":"IF($Y$102=24,ROUND($Y$13,0),\"\")&\"\"","v":""},{"$f":"IF($Z$102=24,ROUND($Z$13,0),\"\")&\"\"","v":""},{"$f":"IF($AA$102=24,ROUND($AA$13,0),\"\")&\"\"","v":""},5]
[null,null,6,{"$f":"IF($D$103=24,ROUND($D$14,0),\"\")&\"\"","v":""},{"$f":"IF($E$103=24,ROUND($E$14,0),\"\")&\"\"","v":""},{"$f":"IF($F$103=24,ROUND($F$14,0),\"\")&\"\"","v":""},{"$f":"IF($G$103=24,ROUND($G$14,0),\"\")&\"\"","v":""},{"$f":"IF($H$103=24,ROUND($H$14,0),\"\")&\"\"","v":""},{"$f":"IF($I$103=24,ROUND($I$14,0),\"\")&\"\"","v":""},{"$f":"IF($J$103=24,ROUND($J$14,0),\"\")&\"\"","v":""},{"$f":"IF($K$103=24,ROUND($K$14,0),\"\")&\"\"","v":""},{"$f":"IF($L$103=24,ROUND($L$14,0),\"\")&\"\"","v":""},{"$f":"IF($M$103=24,ROUND($M$14,0),\"\")&\"\"","v":""},{"$f":"IF($N$103=24,ROUND($N$14,0),\"\")&\"\"","v":""},{"$f":"IF($O$103=24,ROUND($O$14,0),\"\")&\"\"","v":""},{"$f":"IF($P$103=24,ROUND($P$14,0),\"\")&\"\"","v":""},{"$f":"IF($Q$103=24,ROUND($Q$14,0),\"\")&\"\"","v":""},{"$f":"IF($R$103=24,ROUND($R$14,0),\"\")&\"\"","v":""},{"$f":"IF($S$103=24,ROUND($S$14,0),\"\")&\"\"","v":""},{"$f":"IF($T$103=24,ROUND($T$14,0),\"\")&\"\"","v":""},{"$f":"IF($U$103=24,ROUND($U$14,0),\"\")&\"\"","v":""},{"$f":"IF($V$103=24,ROUND($V$14,0),\"\")&\"\"","v":""},{"$f":"IF($W$103=24,ROUND($W$14,0),\"\")&\"\"","v":""},{"$f":"IF($X$103=24,ROUND($X$14,0),\"\")&\"\"","v":""},{"$f":"IF($Y$103=24,ROUND($Y$14,0),\"\")&\"\"","v":""},{"$f":"IF($Z$103=24,ROUND($Z$14,0),\"\")&\"\"","v":""},{"$f":"IF($AA$103=24,ROUND($AA$14,0),\"\")&\"\"","v":""},6]
[null,null,7,{"$f":"IF($D$104=24,ROUND($D$15,0),\"\")&\"\"","v":""},{"$f":"IF($E$104=24,ROUND($E$15,0),\"\")&\"\"","v":""},{"$f":"IF($F$104=24,ROUND($F$15,0),\"\")&\"\"","v":""},{"$f":"IF($G$104=24,ROUND($G$15,0),\"\")&\"\"","v":""},{"$f":"IF($H$104=24,ROUND($H$15,0),\"\")&\"\"","v":""},{"$f":"IF($I$104=24,ROUND($I$15,0),\"\")&\"\"","v":""},{"$f":"IF($J$104=24,ROUND($J$15,0),\"\")&\"\"","v":""},{"$f":"IF($K$104=24,ROUND($K$15,0),\"\")&\"\"","v":""},{"$f":"IF($L$104=24,ROUND($L$15,0),\"\")&\"\"","v":""},{"$f":"IF($M$104=24,ROUND($M$15,0),\"\")&\"\"","v":""},{"$f":"IF($N$104=24,ROUND($N$15,0),\"\")&\"\"","v":""},{"$f":"IF($O$104=24,ROUND($O$15,0),\"\")&\"\"","v":""},{"$f":"IF($P$104=24,ROUND($P$15,0),\"\")&\"\"","v":""},{"$f":"IF($Q$104=24,ROUND($Q$15,0),\"\")&\"\"","v":""},{"$f":"IF($R$104=24,ROUND($R$15,0),\"\")&\"\"","v":""},{"$f":"IF($S$104=24,ROUND($S$15,0),\"\")&\"\"","v":""},{"$f":"IF($T$104=24,ROUND($T$15,0),\"\")&\"\"","v":""},{"$f":"IF($U$104=24,ROUND($U$15,0),\"\")&\"\"","v":""},{"$f":"IF($V$104=24,ROUND($V$15,0),\"\")&\"\"","v":""},{"$f":"IF($W$104=24,ROUND($W$15,0),\"\")&\"\"","v":""},{"$f":"IF($X$104=24,ROUND($X$15,0),\"\")&\"\"","v":""},{"$f":"IF($Y$104=24,ROUND($Y$15,0),\"\")&\"\"","v":""},{"$f":"IF($Z$104=24,ROUND($Z$15,0),\"\")&\"\"","v":""},{"$f":"IF($AA$104=24,ROUND($AA$15,0),\"\")&\"\"","v":""},7]
[null,null,8,{"$f":"IF($D$105=24,ROUND($D$16,0),\"\")&\"\"","v":""},{"$f":"IF($E$105=24,ROUND($E$16,0),\"\")&\"\"","v":""},{"$f":"IF($F$105=24,ROUND($F$16,0),\"\")&\"\"","v":""},{"$f":"IF($G$105=24,ROUND($G$16,0),\"\")&\"\"","v":""},{"$f":"IF($H$105=24,ROUND($H$16,0),\"\")&\"\"","v":""},{"$f":"IF($I$105=24,ROUND($I$16,0),\"\")&\"\"","v":""},{"$f":"IF($J$105=24,ROUND($J$16,0),\"\")&\"\"","v":""},{"$f":"IF($K$105=24,ROUND($K$16,0),\"\")&\"\"","v":""},{"$f":"IF($L$105=24,ROUND($L$16,0),\"\")&\"\"","v":""},{"$f":"IF($M$105=24,ROUND($M$16,0),\"\")&\"\"","v":""},{"$f":"IF($N$105=24,ROUND($N$16,0),\"\")&\"\"","v":""},{"$f":"IF($O$105=24,ROUND($O$16,0),\"\")&\"\"","v":""},{"$f":"IF($P$105=24,ROUND($P$16,0),\"\")&\"\"","v":""},{"$f":"IF($Q$105=24,ROUND($Q$16,0),\"\")&\"\"","v":""},{"$f":"IF($R$105=24,ROUND($R$16,0),\"\")&\"\"","v":""},{"$f":"IF($S$105=24,ROUND($S$16,0),\"\")&\"\"","v":""},{"$f":"IF($T$105=24,ROUND($T$16,0),\"\")&\"\"","v":""},{"$f":"IF($U$105=24,ROUND($U$16,0),\"\")&\"\"","v":""},{"$f":"IF($V$105=24,ROUND($V$16,0),\"\")&\"\"","v":""},{"$f":"IF($W$105=24,ROUND($W$16,0),\"\")&\"\"","v":""},{"$f":"IF($X$105=24,ROUND($X$16,0),\"\")&\"\"","v":""},{"$f":"IF($Y$105=24,ROUND($Y$16,0),\"\")&\"\"","v":""},{"$f":"IF($Z$105=24,ROUND($Z$16,0),\"\")&\"\"","v":""},{"$f":"IF($AA$105=24,ROUND($AA$16,0),\"\")&\"\"","v":""},8]
[null,null,9,{"$f":"IF($D$106=24,ROUND($D$17,0),\"\")&\"\"","v":""},{"$f":"IF($E$106=24,ROUND($E$17,0),\"\")&\"\"","v":""},{"$f":"IF($F$106=24,ROUND($F$17,0),\"\")&\"\"","v":""},{"$f":"IF($G$106=24,ROUND($G$17,0),\"\")&\"\"","v":""},{"$f":"IF($H$106=24,ROUND($H$17,0),\"\")&\"\"","v":""},{"$f":"IF($I$106=24,ROUND($I$17,0),\"\")&\"\"","v":""},{"$f":"IF($J$106=24,ROUND($J$17,0),\"\")&\"\"","v":""},{"$f":"IF($K$106=24,ROUND($K$17,0),\"\")&\"\"","v":""},{"$f":"IF($L$106=24,ROUND($L$17,0),\"\")&\"\"","v":""},{"$f":"IF($M$106=24,ROUND($M$17,0),\"\")&\"\"","v":""},{"$f":"IF($N$106=24,ROUND($N$17,0),\"\")&\"\"","v":""},{"$f":"IF($O$106=24,ROUND($O$17,0),\"\")&\"\"","v":""},{"$f":"IF($P$106=24,ROUND($P$17,0),\"\")&\"\"","v":""},{"$f":"IF($Q$106=24,ROUND($Q$17,0),\"\")&\"\"","v":""},{"$f":"IF($R$106=24,ROUND($R$17,0),\"\")&\"\"","v":""},{"$f":"IF($S$106=24,ROUND($S$17,0),\"\")&\"\"","v":""},{"$f":"IF($T$106=24,ROUND($T$17,0),\"\")&\"\"","v":""},{"$f":"IF($U$106=24,ROUND($U$17,0),\"\")&\"\"","v":""},{"$f":"IF($V$106=24,ROUND($V$17,0),\"\")&\"\"","v":""},{"$f":"IF($W$106=24,ROUND($W$17,0),\"\")&\"\"","v":""},{"$f":"IF($X$106=24,ROUND($X$17,0),\"\")&\"\"","v":""},{"$f":"IF($Y$106=24,ROUND($Y$17,0),\"\")&\"\"","v":""},{"$f":"IF($Z$106=24,ROUND($Z$17,0),\"\")&\"\"","v":""},{"$f":"IF($AA$106=24,ROUND($AA$17,0),\"\")&\"\"","v":""},9]
[null,null,10,{"$f":"IF($D$107=24,ROUND($D$18,0),\"\")&\"\"","v":""},{"$f":"IF($E$107=24,ROUND($E$18,0),\"\")&\"\"","v":""},{"$f":"IF($F$107=24,ROUND($F$18,0),\"\")&\"\"","v":""},{"$f":"IF($G$107=24,ROUND($G$18,0),\"\")&\"\"","v":""},{"$f":"IF($H$107=24,ROUND($H$18,0),\"\")&\"\"","v":""},{"$f":"IF($I$107=24,ROUND($I$18,0),\"\")&\"\"","v":""},{"$f":"IF($J$107=24,ROUND($J$18,0),\"\")&\"\"","v":""},{"$f":"IF($K$107=24,ROUND($K$18,0),\"\")&\"\"","v":""},{"$f":"IF($L$107=24,ROUND($L$18,0),\"\")&\"\"","v":""},{"$f":"IF($M$107=24,ROUND($M$18,0),\"\")&\"\"","v":""},{"$f":"IF($N$107=24,ROUND($N$18,0),\"\")&\"\"","v":""},{"$f":"IF($O$107=24,ROUND($O$18,0),\"\")&\"\"","v":""},{"$f":"IF($P$107=24,ROUND($P$18,0),\"\")&\"\"","v":""},{"$f":"IF($Q$107=24,ROUND($Q$18,0),\"\")&\"\"","v":""},{"$f":"IF($R$107=24,ROUND($R$18,0),\"\")&\"\"","v":""},{"$f":"IF($S$107=24,ROUND($S$18,0),\"\")&\"\"","v":""},{"$f":"IF($T$107=24,ROUND($T$18,0),\"\")&\"\"","v":""},{"$f":"IF($U$107=24,ROUND($U$18,0),\"\")&\"\"","v":""},{"$f":"IF($V$107=24,ROUND($V$18,0),\"\")&\"\"","v":""},{"$f":"IF($W$107=24,ROUND($W$18,0),\"\")&\"\"","v":""},{"$f":"IF($X$107=24,ROUND($X$18,0),\"\")&\"\"","v":""},{"$f":"IF($Y$107=24,ROUND($Y$18,0),\"\")&\"\"","v":""},{"$f":"IF($Z$107=24,ROUND($Z$18,0),\"\")&\"\"","v":""},{"$f":"IF($AA$107=24,ROUND($AA$18,0),\"\")&\"\"","v":""},10]
[null,null,11,{"$f":"IF($D$108=24,ROUND($D$19,0),\"\")&\"\"","v":""},{"$f":"IF($E$108=24,ROUND($E$19,0),\"\")&\"\"","v":""},{"$f":"IF($F$108=24,ROUND($F$19,0),\"\")&\"\"","v":""},{"$f":"IF($G$108=24,ROUND($G$19,0),\"\")&\"\"","v":""},{"$f":"IF($H$108=24,ROUND($H$19,0),\"\")&\"\"","v":""},{"$f":"IF($I$108=24,ROUND($I$19,0),\"\")&\"\"","v":""},{"$f":"IF($J$108=24,ROUND($J$19,0),\"\")&\"\"","v":""},{"$f":"IF($K$108=24,ROUND($K$19,0),\"\")&\"\"","v":""},{"$f":"IF($L$108=24,ROUND($L$19,0),\"\")&\"\"","v":""},{"$f":"IF($M$108=24,ROUND($M$19,0),\"\")&\"\"","v":""},{"$f":"IF($N$108=24,ROUND($N$19,0),\"\")&\"\"","v":""},{"$f":"IF($O$108=24,ROUND($O$19,0),\"\")&\"\"","v":""},{"$f":"IF($P$108=24,ROUND($P$19,0),\"\")&\"\"","v":""},{"$f":"IF($Q$108=24,ROUND($Q$19,0),\"\")&\"\"","v":""},{"$f":"IF($R$108=24,ROUND($R$19,0),\"\")&\"\"","v":""},{"$f":"IF($S$108=24,ROUND($S$19,0),\"\")&\"\"","v":""},{"$f":"IF($T$108=24,ROUND($T$19,0),\"\")&\"\"","v":""},{"$f":"IF($U$108=24,ROUND($U$19,0),\"\")&\"\"","v":""},{"$f":"IF($V$108=24,ROUND($V$19,0),\"\")&\"\"","v":""},{"$f":"IF($W$108=24,ROUND($W$19,0),\"\")&\"\"","v":""},{"$f":"IF($X$108=24,ROUND($X$19,0),\"\")&\"\"","v":""},{"$f":"IF($Y$108=24,ROUND($Y$19,0),\"\")&\"\"","v":""},{"$f":"IF($Z$108=24,ROUND($Z$19,0),\"\")&\"\"","v":""},{"$f":"IF($AA$108=24,ROUND($AA$19,0),\"\")&\"\"","v":""},11]
[null,null,12,{"$f":"IF($D$109=24,ROUND($D$20,0),\"\")&\"\"","v":""},{"$f":"IF($E$109=24,ROUND($E$20,0),\"\")&\"\"","v":""},{"$f":"IF($F$109=24,ROUND($F$20,0),\"\")&\"\"","v":""},{"$f":"IF($G$109=24,ROUND($G$20,0),\"\")&\"\"","v":""},{"$f":"IF($H$109=24,ROUND($H$20,0),\"\")&\"\"","v":""},{"$f":"IF($I$109=24,ROUND($I$20,0),\"\")&\"\"","v":""},{"$f":"IF($J$109=24,ROUND($J$20,0),\"\")&\"\"","v":""},{"$f":"IF($K$109=24,ROUND($K$20,0),\"\")&\"\"","v":""},{"$f":"IF($L$109=24,ROUND($L$20,0),\"\")&\"\"","v":""},{"$f":"IF($M$109=24,ROUND($M$20,0),\"\")&\"\"","v":""},{"$f":"IF($N$109=24,ROUND($N$20,0),\"\")&\"\"","v":""},{"$f":"IF($O$109=24,ROUND($O$20,0),\"\")&\"\"","v":""},{"$f":"IF($P$109=24,ROUND($P$20,0),\"\")&\"\"","v":""},{"$f":"IF($Q$109=24,ROUND($Q$20,0),\"\")&\"\"","v":""},{"$f":"IF($R$109=24,ROUND($R$20,0),\"\")&\"\"","v":""},{"$f":"IF($S$109=24,ROUND($S$20,0),\"\")&\"\"","v":""},{"$f":"IF($T$109=24,ROUND($T$20,0),\"\")&\"\"","v":""},{"$f":"IF($U$109=24,ROUND($U$20,0),\"\")&\"\"","v":""},{"$f":"IF($V$109=24,ROUND($V$20,0),\"\")&\"\"","v":""},{"$f":"IF($W$109=24,ROUND($W$20,0),\"\")&\"\"","v":""},{"$f":"IF($X$109=24,ROUND($X$20,0),\"\")&\"\"","v":""},{"$f":"IF($Y$109=24,ROUND($Y$20,0),\"\")&\"\"","v":""},{"$f":"IF($Z$109=24,ROUND($Z$20,0),\"\")&\"\"","v":""},{"$f":"IF($AA$109=24,ROUND($AA$20,0),\"\")&\"\"","v":""},12]
[null,null,1,{"$f":"IF($D$110=24,ROUND($D$21,0),\"\")&\"\"","v":""},{"$f":"IF($E$110=24,ROUND($E$21,0),\"\")&\"\"","v":""},{"$f":"IF($F$110=24,ROUND($F$21,0),\"\")&\"\"","v":""},{"$f":"IF($G$110=24,ROUND($G$21,0),\"\")&\"\"","v":""},{"$f":"IF($H$110=24,ROUND($H$21,0),\"\")&\"\"","v":""},{"$f":"IF($I$110=24,ROUND($I$21,0),\"\")&\"\"","v":""},{"$f":"IF($J$110=24,ROUND($J$21,0),\"\")&\"\"","v":""},{"$f":"IF($K$110=24,ROUND($K$21,0),\"\")&\"\"","v":""},{"$f":"IF($L$110=24,ROUND($L$21,0),\"\")&\"\"","v":""},{"$f":"IF($M$110=24,ROUND($M$21,0),\"\")&\"\"","v":""},{"$f":"IF($N$110=24,ROUND($N$21,0),\"\")&\"\"","v":""},{"$f":"IF($O$110=24,ROUND($O$21,0),\"\")&\"\"","v":""},{"$f":"IF($P$110=24,ROUND($P$21,0),\"\")&\"\"","v":""},{"$f":"IF($Q$110=24,ROUND($Q$21,0),\"\")&\"\"","v":""},{"$f":"IF($R$110=24,ROUND($R$21,0),\"\")&\"\"","v":""},{"$f":"IF($S$110=24,ROUND($S$21,0),\"\")&\"\"","v":""},{"$f":"IF($T$110=24,ROUND($T$21,0),\"\")&\"\"","v":""},{"$f":"IF($U$110=24,ROUND($U$21,0),\"\")&\"\"","v":""},{"$f":"IF($V$110=24,ROUND($V$21,0),\"\")&\"\"","v":""},{"$f":"IF($W$110=24,ROUND($W$21,0),\"\")&\"\"","v":""},{"$f":"IF($X$110=24,ROUND($X$21,0),\"\")&\"\"","v":""},{"$f":"IF($Y$110=24,ROUND($Y$21,0),\"\")&\"\"","v":""},{"$f":"IF($Z$110=24,ROUND($Z$21,0),\"\")&\"\"","v":""},{"$f":"IF($AA$110=24,ROUND($AA$21,0),\"\")&\"\"","v":""},1]
[null,null,2,{"$f":"IF($D$111=24,ROUND($D$22,0),\"\")&\"\"","v":""},{"$f":"IF($E$111=24,ROUND($E$22,0),\"\")&\"\"","v":""},{"$f":"IF($F$111=24,ROUND($F$22,0),\"\")&\"\"","v":""},{"$f":"IF($G$111=24,ROUND($G$22,0),\"\")&\"\"","v":""},{"$f":"IF($H$111=24,ROUND($H$22,0),\"\")&\"\"","v":""},{"$f":"IF($I$111=24,ROUND($I$22,0),\"\")&\"\"","v":""},{"$f":"IF($J$111=24,ROUND($J$22,0),\"\")&\"\"","v":""},{"$f":"IF($K$111=24,ROUND($K$22,0),\"\")&\"\"","v":""},{"$f":"IF($L$111=24,ROUND($L$22,0),\"\")&\"\"","v":""},{"$f":"IF($M$111=24,ROUND($M$22,0),\"\")&\"\"","v":""},{"$f":"IF($N$111=24,ROUND($N$22,0),\"\")&\"\"","v":""},{"$f":"IF($O$111=24,ROUND($O$22,0),\"\")&\"\"","v":""},{"$f":"IF($P$111=24,ROUND($P$22,0),\"\")&\"\"","v":""},{"$f":"IF($Q$111=24,ROUND($Q$22,0),\"\")&\"\"","v":""},{"$f":"IF($R$111=24,ROUND($R$22,0),\"\")&\"\"","v":""},{"$f":"IF($S$111=24,ROUND($S$22,0),\"\")&\"\"","v":""},{"$f":"IF($T$111=24,ROUND($T$22,0),\"\")&\"\"","v":""},{"$f":"IF($U$111=24,ROUND($U$22,0),\"\")&\"\"","v":""},{"$f":"IF($V$111=24,ROUND($V$22,0),\"\")&\"\"","v":""},{"$f":"IF($W$111=24,ROUND($W$22,0),\"\")&\"\"","v":""},{"$f":"IF($X$111=24,ROUND($X$22,0),\"\")&\"\"","v":""},{"$f":"IF($Y$111=24,ROUND($Y$22,0),\"\")&\"\"","v":""},{"$f":"IF($Z$111=24,ROUND($Z$22,0),\"\")&\"\"","v":""},{"$f":"IF($AA$111=24,ROUND($AA$22,0),\"\")&\"\"","v":""},2]
[null,null,3,{"$f":"IF($D$112=24,ROUND($D$23,0),\"\")&\"\"","v":""},{"$f":"IF($E$112=24,ROUND($E$23,0),\"\")&\"\"","v":""},{"$f":"IF($F$112=24,ROUND($F$23,0),\"\")&\"\"","v":""},{"$f":"IF($G$112=24,ROUND($G$23,0),\"\")&\"\"","v":""},{"$f":"IF($H$112=24,ROUND($H$23,0),\"\")&\"\"","v":""},{"$f":"IF($I$112=24,ROUND($I$23,0),\"\")&\"\"","v":""},{"$f":"IF($J$112=24,ROUND($J$23,0),\"\")&\"\"","v":""},{"$f":"IF($K$112=24,ROUND($K$23,0),\"\")&\"\"","v":""},{"$f":"IF($L$112=24,ROUND($L$23,0),\"\")&\"\"","v":""},{"$f":"IF($M$112=24,ROUND($M$23,0),\"\")&\"\"","v":""},{"$f":"IF($N$112=24,ROUND($N$23,0),\"\")&\"\"","v":""},{"$f":"IF($O$112=24,ROUND($O$23,0),\"\")&\"\"","v":""},{"$f":"IF($P$112=24,ROUND($P$23,0),\"\")&\"\"","v":""},{"$f":"IF($Q$112=24,ROUND($Q$23,0),\"\")&\"\"","v":""},{"$f":"IF($R$112=24,ROUND($R$23,0),\"\")&\"\"","v":""},{"$f":"IF($S$112=24,ROUND($S$23,0),\"\")&\"\"","v":""},{"$f":"IF($T$112=24,ROUND($T$23,0),\"\")&\"\"","v":""},{"$f":"IF($U$112=24,ROUND($U$23,0),\"\")&\"\"","v":""},{"$f":"IF($V$112=24,ROUND($V$23,0),\"\")&\"\"","v":""},{"$f":"IF($W$112=24,ROUND($W$23,0),\"\")&\"\"","v":""},{"$f":"IF($X$112=24,ROUND($X$23,0),\"\")&\"\"","v":""},{"$f":"IF($Y$112=24,ROUND($Y$23,0),\"\")&\"\"","v":""},{"$f":"IF($Z$112=24,ROUND($Z$23,0),\"\")&\"\"","v":""},{"$f":"IF($AA$112=24,ROUND($AA$23,0),\"\")&\"\"","v":""},3]
[]
[null,null,"作業表2-2(加熱)",null,"●月▲時の平均気温"]
[null,null,null," 時刻"]
[null,null,"月",0,1,2,3,4,5,6,7,8,9,10,11,12,13,14,15,16,17,18,19,20,21,22,23,"月"]
[null,null,4,{"$f":"IF($D$101=19,ROUND($D$12,0),\"\")&\"\"","v":""},{"$f":"IF($E$101=19,ROUND($E$12,0),\"\")&\"\"","v":""},{"$f":"IF($F$101=19,ROUND($F$12,0),\"\")&\"\"","v":""},{"$f":"IF($G$101=19,ROUND($G$12,0),\"\")&\"\"","v":""},{"$f":"IF($H$101=19,ROUND($H$12,0),\"\")&\"\"","v":""},{"$f":"IF($I$101=19,ROUND($I$12,0),\"\")&\"\"","v":""},{"$f":"IF($J$101=19,ROUND($J$12,0),\"\")&\"\"","v":""},{"$f":"IF($K$101=19,ROUND($K$12,0),\"\")&\"\"","v":""},{"$f":"IF($L$101=19,ROUND($L$12,0),\"\")&\"\"","v":""},{"$f":"IF($M$101=19,ROUND($M$12,0),\"\")&\"\"","v":""},{"$f":"IF($N$101=19,ROUND($N$12,0),\"\")&\"\"","v":""},{"$f":"IF($O$101=19,ROUND($O$12,0),\"\")&\"\"","v":""},{"$f":"IF($P$101=19,ROUND($P$12,0),\"\")&\"\"","v":""},{"$f":"IF($Q$101=19,ROUND($Q$12,0),\"\")&\"\"","v":""},{"$f":"IF($R$101=19,ROUND($R$12,0),\"\")&\"\"","v":""},{"$f":"IF($S$101=19,ROUND($S$12,0),\"\")&\"\"","v":""},{"$f":"IF($T$101=19,ROUND($T$12,0),\"\")&\"\"","v":""},{"$f":"IF($U$101=19,ROUND($U$12,0),\"\")&\"\"","v":""},{"$f":"IF($V$101=19,ROUND($V$12,0),\"\")&\"\"","v":""},{"$f":"IF($W$101=19,ROUND($W$12,0),\"\")&\"\"","v":""},{"$f":"IF($X$101=19,ROUND($X$12,0),\"\")&\"\"","v":""},{"$f":"IF($Y$101=19,ROUND($Y$12,0),\"\")&\"\"","v":""},{"$f":"IF($Z$101=19,ROUND($Z$12,0),\"\")&\"\"","v":""},{"$f":"IF($AA$101=19,ROUND($AA$12,0),\"\")&\"\"","v":""},4]
[null,null,5,{"$f":"IF($D$102=19,ROUND($D$13,0),\"\")&\"\"","v":""},{"$f":"IF($E$102=19,ROUND($E$13,0),\"\")&\"\"","v":""},{"$f":"IF($F$102=19,ROUND($F$13,0),\"\")&\"\"","v":""},{"$f":"IF($G$102=19,ROUND($G$13,0),\"\")&\"\"","v":""},{"$f":"IF($H$102=19,ROUND($H$13,0),\"\")&\"\"","v":""},{"$f":"IF($I$102=19,ROUND($I$13,0),\"\")&\"\"","v":""},{"$f":"IF($J$102=19,ROUND($J$13,0),\"\")&\"\"","v":""},{"$f":"IF($K$102=19,ROUND($K$13,0),\"\")&\"\"","v":""},{"$f":"IF($L$102=19,ROUND($L$13,0),\"\")&\"\"","v":""},{"$f":"IF($M$102=19,ROUND($M$13,0),\"\")&\"\"","v":""},{"$f":"IF($N$102=19,ROUND($N$13,0),\"\")&\"\"","v":""},{"$f":"IF($O$102=19,ROUND($O$13,0),\"\")&\"\"","v":""},{"$f":"IF($P$102=19,ROUND($P$13,0),\"\")&\"\"","v":""},{"$f":"IF($Q$102=19,ROUND($Q$13,0),\"\")&\"\"","v":""},{"$f":"IF($R$102=19,ROUND($R$13,0),\"\")&\"\"","v":""},{"$f":"IF($S$102=19,ROUND($S$13,0),\"\")&\"\"","v":""},{"$f":"IF($T$102=19,ROUND($T$13,0),\"\")&\"\"","v":""},{"$f":"IF($U$102=19,ROUND($U$13,0),\"\")&\"\"","v":""},{"$f":"IF($V$102=19,ROUND($V$13,0),\"\")&\"\"","v":""},{"$f":"IF($W$102=19,ROUND($W$13,0),\"\")&\"\"","v":""},{"$f":"IF($X$102=19,ROUND($X$13,0),\"\")&\"\"","v":""},{"$f":"IF($Y$102=19,ROUND($Y$13,0),\"\")&\"\"","v":""},{"$f":"IF($Z$102=19,ROUND($Z$13,0),\"\")&\"\"","v":""},{"$f":"IF($AA$102=19,ROUND($AA$13,0),\"\")&\"\"","v":""},5]
[null,null,6,{"$f":"IF($D$103=19,ROUND($D$14,0),\"\")&\"\"","v":""},{"$f":"IF($E$103=19,ROUND($E$14,0),\"\")&\"\"","v":""},{"$f":"IF($F$103=19,ROUND($F$14,0),\"\")&\"\"","v":""},{"$f":"IF($G$103=19,ROUND($G$14,0),\"\")&\"\"","v":""},{"$f":"IF($H$103=19,ROUND($H$14,0),\"\")&\"\"","v":""},{"$f":"IF($I$103=19,ROUND($I$14,0),\"\")&\"\"","v":""},{"$f":"IF($J$103=19,ROUND($J$14,0),\"\")&\"\"","v":""},{"$f":"IF($K$103=19,ROUND($K$14,0),\"\")&\"\"","v":""},{"$f":"IF($L$103=19,ROUND($L$14,0),\"\")&\"\"","v":""},{"$f":"IF($M$103=19,ROUND($M$14,0),\"\")&\"\"","v":""},{"$f":"IF($N$103=19,ROUND($N$14,0),\"\")&\"\"","v":""},{"$f":"IF($O$103=19,ROUND($O$14,0),\"\")&\"\"","v":""},{"$f":"IF($P$103=19,ROUND($P$14,0),\"\")&\"\"","v":""},{"$f":"IF($Q$103=19,ROUND($Q$14,0),\"\")&\"\"","v":""},{"$f":"IF($R$103=19,ROUND($R$14,0),\"\")&\"\"","v":""},{"$f":"IF($S$103=19,ROUND($S$14,0),\"\")&\"\"","v":""},{"$f":"IF($T$103=19,ROUND($T$14,0),\"\")&\"\"","v":""},{"$f":"IF($U$103=19,ROUND($U$14,0),\"\")&\"\"","v":""},{"$f":"IF($V$103=19,ROUND($V$14,0),\"\")&\"\"","v":""},{"$f":"IF($W$103=19,ROUND($W$14,0),\"\")&\"\"","v":""},{"$f":"IF($X$103=19,ROUND($X$14,0),\"\")&\"\"","v":""},{"$f":"IF($Y$103=19,ROUND($Y$14,0),\"\")&\"\"","v":""},{"$f":"IF($Z$103=19,ROUND($Z$14,0),\"\")&\"\"","v":""},{"$f":"IF($AA$103=19,ROUND($AA$14,0),\"\")&\"\"","v":""},6]
[null,null,7,{"$f":"IF($D$104=19,ROUND($D$15,0),\"\")&\"\"","v":""},{"$f":"IF($E$104=19,ROUND($E$15,0),\"\")&\"\"","v":""},{"$f":"IF($F$104=19,ROUND($F$15,0),\"\")&\"\"","v":""},{"$f":"IF($G$104=19,ROUND($G$15,0),\"\")&\"\"","v":""},{"$f":"IF($H$104=19,ROUND($H$15,0),\"\")&\"\"","v":""},{"$f":"IF($I$104=19,ROUND($I$15,0),\"\")&\"\"","v":""},{"$f":"IF($J$104=19,ROUND($J$15,0),\"\")&\"\"","v":""},{"$f":"IF($K$104=19,ROUND($K$15,0),\"\")&\"\"","v":""},{"$f":"IF($L$104=19,ROUND($L$15,0),\"\")&\"\"","v":""},{"$f":"IF($M$104=19,ROUND($M$15,0),\"\")&\"\"","v":""},{"$f":"IF($N$104=19,ROUND($N$15,0),\"\")&\"\"","v":""},{"$f":"IF($O$104=19,ROUND($O$15,0),\"\")&\"\"","v":""},{"$f":"IF($P$104=19,ROUND($P$15,0),\"\")&\"\"","v":""},{"$f":"IF($Q$104=19,ROUND($Q$15,0),\"\")&\"\"","v":""},{"$f":"IF($R$104=19,ROUND($R$15,0),\"\")&\"\"","v":""},{"$f":"IF($S$104=19,ROUND($S$15,0),\"\")&\"\"","v":""},{"$f":"IF($T$104=19,ROUND($T$15,0),\"\")&\"\"","v":""},{"$f":"IF($U$104=19,ROUND($U$15,0),\"\")&\"\"","v":""},{"$f":"IF($V$104=19,ROUND($V$15,0),\"\")&\"\"","v":""},{"$f":"IF($W$104=19,ROUND($W$15,0),\"\")&\"\"","v":""},{"$f":"IF($X$104=19,ROUND($X$15,0),\"\")&\"\"","v":""},{"$f":"IF($Y$104=19,ROUND($Y$15,0),\"\")&\"\"","v":""},{"$f":"IF($Z$104=19,ROUND($Z$15,0),\"\")&\"\"","v":""},{"$f":"IF($AA$104=19,ROUND($AA$15,0),\"\")&\"\"","v":""},7]
[null,null,8,{"$f":"IF($D$105=19,ROUND($D$16,0),\"\")&\"\"","v":""},{"$f":"IF($E$105=19,ROUND($E$16,0),\"\")&\"\"","v":""},{"$f":"IF($F$105=19,ROUND($F$16,0),\"\")&\"\"","v":""},{"$f":"IF($G$105=19,ROUND($G$16,0),\"\")&\"\"","v":""},{"$f":"IF($H$105=19,ROUND($H$16,0),\"\")&\"\"","v":""},{"$f":"IF($I$105=19,ROUND($I$16,0),\"\")&\"\"","v":""},{"$f":"IF($J$105=19,ROUND($J$16,0),\"\")&\"\"","v":""},{"$f":"IF($K$105=19,ROUND($K$16,0),\"\")&\"\"","v":""},{"$f":"IF($L$105=19,ROUND($L$16,0),\"\")&\"\"","v":""},{"$f":"IF($M$105=19,ROUND($M$16,0),\"\")&\"\"","v":""},{"$f":"IF($N$105=19,ROUND($N$16,0),\"\")&\"\"","v":""},{"$f":"IF($O$105=19,ROUND($O$16,0),\"\")&\"\"","v":""},{"$f":"IF($P$105=19,ROUND($P$16,0),\"\")&\"\"","v":""},{"$f":"IF($Q$105=19,ROUND($Q$16,0),\"\")&\"\"","v":""},{"$f":"IF($R$105=19,ROUND($R$16,0),\"\")&\"\"","v":""},{"$f":"IF($S$105=19,ROUND($S$16,0),\"\")&\"\"","v":""},{"$f":"IF($T$105=19,ROUND($T$16,0),\"\")&\"\"","v":""},{"$f":"IF($U$105=19,ROUND($U$16,0),\"\")&\"\"","v":""},{"$f":"IF($V$105=19,ROUND($V$16,0),\"\")&\"\"","v":""},{"$f":"IF($W$105=19,ROUND($W$16,0),\"\")&\"\"","v":""},{"$f":"IF($X$105=19,ROUND($X$16,0),\"\")&\"\"","v":""},{"$f":"IF($Y$105=19,ROUND($Y$16,0),\"\")&\"\"","v":""},{"$f":"IF($Z$105=19,ROUND($Z$16,0),\"\")&\"\"","v":""},{"$f":"IF($AA$105=19,ROUND($AA$16,0),\"\")&\"\"","v":""},8]
[null,null,9,{"$f":"IF($D$106=19,ROUND($D$17,0),\"\")&\"\"","v":""},{"$f":"IF($E$106=19,ROUND($E$17,0),\"\")&\"\"","v":""},{"$f":"IF($F$106=19,ROUND($F$17,0),\"\")&\"\"","v":""},{"$f":"IF($G$106=19,ROUND($G$17,0),\"\")&\"\"","v":""},{"$f":"IF($H$106=19,ROUND($H$17,0),\"\")&\"\"","v":""},{"$f":"IF($I$106=19,ROUND($I$17,0),\"\")&\"\"","v":""},{"$f":"IF($J$106=19,ROUND($J$17,0),\"\")&\"\"","v":""},{"$f":"IF($K$106=19,ROUND($K$17,0),\"\")&\"\"","v":""},{"$f":"IF($L$106=19,ROUND($L$17,0),\"\")&\"\"","v":""},{"$f":"IF($M$106=19,ROUND($M$17,0),\"\")&\"\"","v":""},{"$f":"IF($N$106=19,ROUND($N$17,0),\"\")&\"\"","v":""},{"$f":"IF($O$106=19,ROUND($O$17,0),\"\")&\"\"","v":""},{"$f":"IF($P$106=19,ROUND($P$17,0),\"\")&\"\"","v":""},{"$f":"IF($Q$106=19,ROUND($Q$17,0),\"\")&\"\"","v":""},{"$f":"IF($R$106=19,ROUND($R$17,0),\"\")&\"\"","v":""},{"$f":"IF($S$106=19,ROUND($S$17,0),\"\")&\"\"","v":""},{"$f":"IF($T$106=19,ROUND($T$17,0),\"\")&\"\"","v":""},{"$f":"IF($U$106=19,ROUND($U$17,0),\"\")&\"\"","v":""},{"$f":"IF($V$106=19,ROUND($V$17,0),\"\")&\"\"","v":""},{"$f":"IF($W$106=19,ROUND($W$17,0),\"\")&\"\"","v":""},{"$f":"IF($X$106=19,ROUND($X$17,0),\"\")&\"\"","v":""},{"$f":"IF($Y$106=19,ROUND($Y$17,0),\"\")&\"\"","v":""},{"$f":"IF($Z$106=19,ROUND($Z$17,0),\"\")&\"\"","v":""},{"$f":"IF($AA$106=19,ROUND($AA$17,0),\"\")&\"\"","v":""},9]
[null,null,10,{"$f":"IF($D$107=19,ROUND($D$18,0),\"\")&\"\"","v":""},{"$f":"IF($E$107=19,ROUND($E$18,0),\"\")&\"\"","v":""},{"$f":"IF($F$107=19,ROUND($F$18,0),\"\")&\"\"","v":""},{"$f":"IF($G$107=19,ROUND($G$18,0),\"\")&\"\"","v":""},{"$f":"IF($H$107=19,ROUND($H$18,0),\"\")&\"\"","v":""},{"$f":"IF($I$107=19,ROUND($I$18,0),\"\")&\"\"","v":""},{"$f":"IF($J$107=19,ROUND($J$18,0),\"\")&\"\"","v":""},{"$f":"IF($K$107=19,ROUND($K$18,0),\"\")&\"\"","v":""},{"$f":"IF($L$107=19,ROUND($L$18,0),\"\")&\"\"","v":""},{"$f":"IF($M$107=19,ROUND($M$18,0),\"\")&\"\"","v":""},{"$f":"IF($N$107=19,ROUND($N$18,0),\"\")&\"\"","v":""},{"$f":"IF($O$107=19,ROUND($O$18,0),\"\")&\"\"","v":""},{"$f":"IF($P$107=19,ROUND($P$18,0),\"\")&\"\"","v":""},{"$f":"IF($Q$107=19,ROUND($Q$18,0),\"\")&\"\"","v":""},{"$f":"IF($R$107=19,ROUND($R$18,0),\"\")&\"\"","v":""},{"$f":"IF($S$107=19,ROUND($S$18,0),\"\")&\"\"","v":""},{"$f":"IF($T$107=19,ROUND($T$18,0),\"\")&\"\"","v":""},{"$f":"IF($U$107=19,ROUND($U$18,0),\"\")&\"\"","v":""},{"$f":"IF($V$107=19,ROUND($V$18,0),\"\")&\"\"","v":""},{"$f":"IF($W$107=19,ROUND($W$18,0),\"\")&\"\"","v":""},{"$f":"IF($X$107=19,ROUND($X$18,0),\"\")&\"\"","v":""},{"$f":"IF($Y$107=19,ROUND($Y$18,0),\"\")&\"\"","v":""},{"$f":"IF($Z$107=19,ROUND($Z$18,0),\"\")&\"\"","v":""},{"$f":"IF($AA$107=19,ROUND($AA$18,0),\"\")&\"\"","v":""},10]
[null,null,11,{"$f":"IF($D$108=19,ROUND($D$19,0),\"\")&\"\"","v":""},{"$f":"IF($E$108=19,ROUND($E$19,0),\"\")&\"\"","v":""},{"$f":"IF($F$108=19,ROUND($F$19,0),\"\")&\"\"","v":""},{"$f":"IF($G$108=19,ROUND($G$19,0),\"\")&\"\"","v":""},{"$f":"IF($H$108=19,ROUND($H$19,0),\"\")&\"\"","v":""},{"$f":"IF($I$108=19,ROUND($I$19,0),\"\")&\"\"","v":""},{"$f":"IF($J$108=19,ROUND($J$19,0),\"\")&\"\"","v":""},{"$f":"IF($K$108=19,ROUND($K$19,0),\"\")&\"\"","v":""},{"$f":"IF($L$108=19,ROUND($L$19,0),\"\")&\"\"","v":""},{"$f":"IF($M$108=19,ROUND($M$19,0),\"\")&\"\"","v":""},{"$f":"IF($N$108=19,ROUND($N$19,0),\"\")&\"\"","v":""},{"$f":"IF($O$108=19,ROUND($O$19,0),\"\")&\"\"","v":""},{"$f":"IF($P$108=19,ROUND($P$19,0),\"\")&\"\"","v":""},{"$f":"IF($Q$108=19,ROUND($Q$19,0),\"\")&\"\"","v":""},{"$f":"IF($R$108=19,ROUND($R$19,0),\"\")&\"\"","v":""},{"$f":"IF($S$108=19,ROUND($S$19,0),\"\")&\"\"","v":""},{"$f":"IF($T$108=19,ROUND($T$19,0),\"\")&\"\"","v":""},{"$f":"IF($U$108=19,ROUND($U$19,0),\"\")&\"\"","v":""},{"$f":"IF($V$108=19,ROUND($V$19,0),\"\")&\"\"","v":""},{"$f":"IF($W$108=19,ROUND($W$19,0),\"\")&\"\"","v":""},{"$f":"IF($X$108=19,ROUND($X$19,0),\"\")&\"\"","v":""},{"$f":"IF($Y$108=19,ROUND($Y$19,0),\"\")&\"\"","v":""},{"$f":"IF($Z$108=19,ROUND($Z$19,0),\"\")&\"\"","v":""},{"$f":"IF($AA$108=19,ROUND($AA$19,0),\"\")&\"\"","v":""},11]
[null,null,12,{"$f":"IF($D$109=19,ROUND($D$20,0),\"\")&\"\"","v":""},{"$f":"IF($E$109=19,ROUND($E$20,0),\"\")&\"\"","v":""},{"$f":"IF($F$109=19,ROUND($F$20,0),\"\")&\"\"","v":""},{"$f":"IF($G$109=19,ROUND($G$20,0),\"\")&\"\"","v":""},{"$f":"IF($H$109=19,ROUND($H$20,0),\"\")&\"\"","v":""},{"$f":"IF($I$109=19,ROUND($I$20,0),\"\")&\"\"","v":""},{"$f":"IF($J$109=19,ROUND($J$20,0),\"\")&\"\"","v":""},{"$f":"IF($K$109=19,ROUND($K$20,0),\"\")&\"\"","v":""},{"$f":"IF($L$109=19,ROUND($L$20,0),\"\")&\"\"","v":""},{"$f":"IF($M$109=19,ROUND($M$20,0),\"\")&\"\"","v":""},{"$f":"IF($N$109=19,ROUND($N$20,0),\"\")&\"\"","v":""},{"$f":"IF($O$109=19,ROUND($O$20,0),\"\")&\"\"","v":""},{"$f":"IF($P$109=19,ROUND($P$20,0),\"\")&\"\"","v":""},{"$f":"IF($Q$109=19,ROUND($Q$20,0),\"\")&\"\"","v":""},{"$f":"IF($R$109=19,ROUND($R$20,0),\"\")&\"\"","v":""},{"$f":"IF($S$109=19,ROUND($S$20,0),\"\")&\"\"","v":""},{"$f":"IF($T$109=19,ROUND($T$20,0),\"\")&\"\"","v":""},{"$f":"IF($U$109=19,ROUND($U$20,0),\"\")&\"\"","v":""},{"$f":"IF($V$109=19,ROUND($V$20,0),\"\")&\"\"","v":""},{"$f":"IF($W$109=19,ROUND($W$20,0),\"\")&\"\"","v":""},{"$f":"IF($X$109=19,ROUND($X$20,0),\"\")&\"\"","v":""},{"$f":"IF($Y$109=19,ROUND($Y$20,0),\"\")&\"\"","v":""},{"$f":"IF($Z$109=19,ROUND($Z$20,0),\"\")&\"\"","v":""},{"$f":"IF($AA$109=19,ROUND($AA$20,0),\"\")&\"\"","v":""},12]
[null,null,1,{"$f":"IF($D$110=19,ROUND($D$21,0),\"\")&\"\"","v":""},{"$f":"IF($E$110=19,ROUND($E$21,0),\"\")&\"\"","v":""},{"$f":"IF($F$110=19,ROUND($F$21,0),\"\")&\"\"","v":""},{"$f":"IF($G$110=19,ROUND($G$21,0),\"\")&\"\"","v":""},{"$f":"IF($H$110=19,ROUND($H$21,0),\"\")&\"\"","v":""},{"$f":"IF($I$110=19,ROUND($I$21,0),\"\")&\"\"","v":""},{"$f":"IF($J$110=19,ROUND($J$21,0),\"\")&\"\"","v":""},{"$f":"IF($K$110=19,ROUND($K$21,0),\"\")&\"\"","v":""},{"$f":"IF($L$110=19,ROUND($L$21,0),\"\")&\"\"","v":""},{"$f":"IF($M$110=19,ROUND($M$21,0),\"\")&\"\"","v":""},{"$f":"IF($N$110=19,ROUND($N$21,0),\"\")&\"\"","v":""},{"$f":"IF($O$110=19,ROUND($O$21,0),\"\")&\"\"","v":""},{"$f":"IF($P$110=19,ROUND($P$21,0),\"\")&\"\"","v":""},{"$f":"IF($Q$110=19,ROUND($Q$21,0),\"\")&\"\"","v":""},{"$f":"IF($R$110=19,ROUND($R$21,0),\"\")&\"\"","v":""},{"$f":"IF($S$110=19,ROUND($S$21,0),\"\")&\"\"","v":""},{"$f":"IF($T$110=19,ROUND($T$21,0),\"\")&\"\"","v":""},{"$f":"IF($U$110=19,ROUND($U$21,0),\"\")&\"\"","v":""},{"$f":"IF($V$110=19,ROUND($V$21,0),\"\")&\"\"","v":""},{"$f":"IF($W$110=19,ROUND($W$21,0),\"\")&\"\"","v":""},{"$f":"IF($X$110=19,ROUND($X$21,0),\"\")&\"\"","v":""},{"$f":"IF($Y$110=19,ROUND($Y$21,0),\"\")&\"\"","v":""},{"$f":"IF($Z$110=19,ROUND($Z$21,0),\"\")&\"\"","v":""},{"$f":"IF($AA$110=19,ROUND($AA$21,0),\"\")&\"\"","v":""},1]
[null,null,2,{"$f":"IF($D$111=19,ROUND($D$22,0),\"\")&\"\"","v":""},{"$f":"IF($E$111=19,ROUND($E$22,0),\"\")&\"\"","v":""},{"$f":"IF($F$111=19,ROUND($F$22,0),\"\")&\"\"","v":""},{"$f":"IF($G$111=19,ROUND($G$22,0),\"\")&\"\"","v":""},{"$f":"IF($H$111=19,ROUND($H$22,0),\"\")&\"\"","v":""},{"$f":"IF($I$111=19,ROUND($I$22,0),\"\")&\"\"","v":""},{"$f":"IF($J$111=19,ROUND($J$22,0),\"\")&\"\"","v":""},{"$f":"IF($K$111=19,ROUND($K$22,0),\"\")&\"\"","v":""},{"$f":"IF($L$111=19,ROUND($L$22,0),\"\")&\"\"","v":""},{"$f":"IF($M$111=19,ROUND($M$22,0),\"\")&\"\"","v":""},{"$f":"IF($N$111=19,ROUND($N$22,0),\"\")&\"\"","v":""},{"$f":"IF($O$111=19,ROUND($O$22,0),\"\")&\"\"","v":""},{"$f":"IF($P$111=19,ROUND($P$22,0),\"\")&\"\"","v":""},{"$f":"IF($Q$111=19,ROUND($Q$22,0),\"\")&\"\"","v":""},{"$f":"IF($R$111=19,ROUND($R$22,0),\"\")&\"\"","v":""},{"$f":"IF($S$111=19,ROUND($S$22,0),\"\")&\"\"","v":""},{"$f":"IF($T$111=19,ROUND($T$22,0),\"\")&\"\"","v":""},{"$f":"IF($U$111=19,ROUND($U$22,0),\"\")&\"\"","v":""},{"$f":"IF($V$111=19,ROUND($V$22,0),\"\")&\"\"","v":""},{"$f":"IF($W$111=19,ROUND($W$22,0),\"\")&\"\"","v":""},{"$f":"IF($X$111=19,ROUND($X$22,0),\"\")&\"\"","v":""},{"$f":"IF($Y$111=19,ROUND($Y$22,0),\"\")&\"\"","v":""},{"$f":"IF($Z$111=19,ROUND($Z$22,0),\"\")&\"\"","v":""},{"$f":"IF($AA$111=19,ROUND($AA$22,0),\"\")&\"\"","v":""},2]
[null,null,3,{"$f":"IF($D$112=19,ROUND($D$23,0),\"\")&\"\"","v":""},{"$f":"IF($E$112=19,ROUND($E$23,0),\"\")&\"\"","v":""},{"$f":"IF($F$112=19,ROUND($F$23,0),\"\")&\"\"","v":""},{"$f":"IF($G$112=19,ROUND($G$23,0),\"\")&\"\"","v":""},{"$f":"IF($H$112=19,ROUND($H$23,0),\"\")&\"\"","v":""},{"$f":"IF($I$112=19,ROUND($I$23,0),\"\")&\"\"","v":""},{"$f":"IF($J$112=19,ROUND($J$23,0),\"\")&\"\"","v":""},{"$f":"IF($K$112=19,ROUND($K$23,0),\"\")&\"\"","v":""},{"$f":"IF($L$112=19,ROUND($L$23,0),\"\")&\"\"","v":""},{"$f":"IF($M$112=19,ROUND($M$23,0),\"\")&\"\"","v":""},{"$f":"IF($N$112=19,ROUND($N$23,0),\"\")&\"\"","v":""},{"$f":"IF($O$112=19,ROUND($O$23,0),\"\")&\"\"","v":""},{"$f":"IF($P$112=19,ROUND($P$23,0),\"\")&\"\"","v":""},{"$f":"IF($Q$112=19,ROUND($Q$23,0),\"\")&\"\"","v":""},{"$f":"IF($R$112=19,ROUND($R$23,0),\"\")&\"\"","v":""},{"$f":"IF($S$112=19,ROUND($S$23,0),\"\")&\"\"","v":""},{"$f":"IF($T$112=19,ROUND($T$23,0),\"\")&\"\"","v":""},{"$f":"IF($U$112=19,ROUND($U$23,0),\"\")&\"\"","v":""},{"$f":"IF($V$112=19,ROUND($V$23,0),\"\")&\"\"","v":""},{"$f":"IF($W$112=19,ROUND($W$23,0),\"\")&\"\"","v":""},{"$f":"IF($X$112=19,ROUND($X$23,0),\"\")&\"\"","v":""},{"$f":"IF($Y$112=19,ROUND($Y$23,0),\"\")&\"\"","v":""},{"$f":"IF($Z$112=19,ROUND($Z$23,0),\"\")&\"\"","v":""},{"$f":"IF($AA$112=19,ROUND($AA$23,0),\"\")&\"\"","v":""},3]
[]
[null,null,"冷却期間中　外気温度(T)が発生する時間[hour]"]
[null,null,null," 外気温度(T)",null,null,null,null,null,null,null,null,null,null,null,null,null,null,null,null,null,null,null,null,null,null,null,null,null,null,null,null,null,null,null,null,null,null,null,null,null,null,null,null,null,null,"月単位","共通","共通","前1",null,null,"前2",null,null,"前3",null,null,null,"後1",null,null,"後2",null,null,"後3"]
[null,null,"月",-6,-5,-4,-3,-2,-1,0,1,2,3,4,5,6,7,8,9,10,11,12,13,14,15,16,17,18,19,20,21,22,23,24,25,26,27,28,29,30,31,32,33,34,35,"月",null,"EccのΣ","EaxcのΣ","Ecc","Eaxc","Ec","Ecc","Eaxc","Ec","Ecc","Eaxc","Ec",null,"Ecc","Eaxc","Ec","Ecc","Eaxc","Ec","Ecc","Eaxc","Ec"]
[null,null,4,{"$f":"COUNTIF($D$117:$AA$117,$D$148)*$AB$12","v":0},{"$f":"COUNTIF($D$117:$AA$117,$E$148)*$AB$12","v":0},{"$f":"COUNTIF($D$117:$AA$117,$F$148)*$AB$12","v":0},{"$f":"COUNTIF($D$117:$AA$117,$G$148)*$AB$12","v":0},{"$f":"COUNTIF($D$117:$AA$117,$H$148)*$AB$12","v":0},{"$f":"COUNTIF($D$117:$AA$117,$I$148)*$AB$12","v":0},{"$f":"COUNTIF($D$117:$AA$117,$J$148)*$AB$12","v":0},{"$f":"COUNTIF($D$117:$AA$117,$K$148)*$AB$12","v":0},{"$f":"COUNTIF($D$117:$AA$117,$L$148)*$AB$12","v":0},{"$f":"COUNTIF($D$117:$AA$117,$M$148)*$AB$12","v":0},{"$f":"COUNTIF($D$117:$AA$117,$N$148)*$AB$12","v":0},{"$f":"COUNTIF($D$117:$AA$117,$O$148)*$AB$12","v":0},{"$f":"COUNTIF($D$117:$AA$117,$P$148)*$AB$12","v":0},{"$f":"COUNTIF($D$117:$AA$117,$Q$148)*$AB$12","v":0},{"$f":"COUNTIF($D$117:$AA$117,$R$148)*$AB$12","v":0},{"$f":"COUNTIF($D$117:$AA$117,$S$148)*$AB$12","v":0},{"$f":"COUNTIF($D$117:$AA$117,$T$148)*$AB$12","v":0},{"$f":"COUNTIF($D$117:$AA$117,$U$148)*$AB$12","v":0},{"$f":"COUNTIF($D$117:$AA$117,$V$148)*$AB$12","v":0},{"$f":"COUNTIF($D$117:$AA$117,$W$148)*$AB$12","v":0},{"$f":"COUNTIF($D$117:$AA$117,$X$148)*$AB$12","v":0},{"$f":"COUNTIF($D$117:$AA$117,$Y$148)*$AB$12","v":0},{"$f":"COUNTIF($D$117:$AA$117,$Z$148)*$AB$12","v":0},{"$f":"COUNTIF($D$117:$AA$117,$AA$148)*$AB$12","v":0},{"$f":"COUNTIF($D$117:$AA$117,$AB$148)*$AB$12","v":0},{"$f":"COUNTIF($D$117:$AA$117,$AC$148)*$AB$12","v":0},{"$f":"COUNTIF($D$117:$AA$117,$AD$148)*$AB$12","v":0},{"$f":"COUNTIF($D$117:$AA$117,$AE$148)*$AB$12","v":0},{"$f":"COUNTIF($D$117:$AA$117,$AF$148)*$AB$12","v":0},{"$f":"COUNTIF($D$117:$AA$117,$AG$148)*$AB$12","v":0},{"$f":"COUNTIF($D$117:$AA$117,$AH$148)*$AB$12","v":0},{"$f":"COUNTIF($D$117:$AA$117,$AI$148)*$AB$12","v":0},{"$f":"COUNTIF($D$117:$AA$117,$AJ$148)*$AB$12","v":0},{"$f":"COUNTIF($D$117:$AA$117,$AK$148)*$AB$12","v":0},{"$f":"COUNTIF($D$117:$AA$117,$AL$148)*$AB$12","v":0},{"$f":"COUNTIF($D$117:$AA$117,$AM$148)*$AB$12","v":0},{"$f":"COUNTIF($D$117:$AA$117,$AN$148)*$AB$12","v":0},{"$f":"COUNTIF($D$117:$AA$117,$AO$148)*$AB$12","v":0},{"$f":"COUNTIF($D$117:$AA$117,$AP$148)*$AB$12","v":0},{"$f":"COUNTIF($D$117:$AA$117,$AQ$148)*$AB$12","v":0},{"$f":"COUNTIF($D$117:$AA$117,$AR$148)*$AB$12","v":0},{"$f":"COUNTIF($D$117:$AA$117,$AS$148)*$AB$12","v":0},4,null,{"$f":"SUMPRODUCT(D149:AS149,$D$162:$AS$162)","v":0},{"$f":"SUMPRODUCT(D149:AS149,$D$189:$AS$189)","v":0},{"$f":"$Q$29/($C$7*$Q$32)*$AV149","v":{"$error":"#VALUE!"}},{"$f":"$Q$36*$AW149","v":0},{"$f":"SUM(AX149:AY149)","v":{"$error":"#VALUE!"}},{"$f":"$R$29/($C$7*$R$32)*$AV149","v":{"$error":"#VALUE!"}},{"$f":"$R$36*$AW149","v":0},{"$f":"SUM(BA149:BB149)","v":{"$error":"#VALUE!"}},{"$f":"$S$29/($C$7*$S$32)*$AV149","v":{"$error":"#VALUE!"}},{"$f":"$S$36*$AW149","v":0},{"$f":"SUM(BD149:BE149)","v":{"$error":"#VALUE!"}},null,{"$f":"$Q$43/($C$7*$Q$46)*$AV149","v":{"$error":"#VALUE!"}},{"$f":"$Q$50*$AW149","v":0},{"$f":"SUM(BH149:BI149)","v":{"$error":"#VALUE!"}},{"$f":"$R$43/($C$7*$R$46)*$AV149","v":{"$error":"#VALUE!"}},{"$f":"$R$50*$AW149","v":0},{"$f":"SUM(BK149:BL149)","v":{"$error":"#VALUE!"}},{"$f":"$S$43/($C$7*$S$46)*$AV149","v":{"$error":"#VALUE!"}},{"$f":"$S$50*$AW149","v":0},{"$f":"SUM(BN149:BO149)","v":{"$error":"#VALUE!"}}]
[null,null,5,{"$f":"COUNTIF($D$118:$AA$118,$D$148)*$AB$13","v":0},{"$f":"COUNTIF($D$118:$AA$118,$E$148)*$AB$13","v":0},{"$f":"COUNTIF($D$118:$AA$118,$F$148)*$AB$13","v":0},{"$f":"COUNTIF($D$118:$AA$118,$G$148)*$AB$13","v":0},{"$f":"COUNTIF($D$118:$AA$118,$H$148)*$AB$13","v":0},{"$f":"COUNTIF($D$118:$AA$118,$I$148)*$AB$13","v":0},{"$f":"COUNTIF($D$118:$AA$118,$J$148)*$AB$13","v":0},{"$f":"COUNTIF($D$118:$AA$118,$K$148)*$AB$13","v":0},{"$f":"COUNTIF($D$118:$AA$118,$L$148)*$AB$13","v":0},{"$f":"COUNTIF($D$118:$AA$118,$M$148)*$AB$13","v":0},{"$f":"COUNTIF($D$118:$AA$118,$N$148)*$AB$13","v":0},{"$f":"COUNTIF($D$118:$AA$118,$O$148)*$AB$13","v":0},{"$f":"COUNTIF($D$118:$AA$118,$P$148)*$AB$13","v":0},{"$f":"COUNTIF($D$118:$AA$118,$Q$148)*$AB$13","v":0},{"$f":"COUNTIF($D$118:$AA$118,$R$148)*$AB$13","v":0},{"$f":"COUNTIF($D$118:$AA$118,$S$148)*$AB$13","v":0},{"$f":"COUNTIF($D$118:$AA$118,$T$148)*$AB$13","v":0},{"$f":"COUNTIF($D$118:$AA$118,$U$148)*$AB$13","v":0},{"$f":"COUNTIF($D$118:$AA$118,$V$148)*$AB$13","v":0},{"$f":"COUNTIF($D$118:$AA$118,$W$148)*$AB$13","v":0},{"$f":"COUNTIF($D$118:$AA$118,$X$148)*$AB$13","v":0},{"$f":"COUNTIF($D$118:$AA$118,$Y$148)*$AB$13","v":0},{"$f":"COUNTIF($D$118:$AA$118,$Z$148)*$AB$13","v":0},{"$f":"COUNTIF($D$118:$AA$118,$AA$148)*$AB$13","v":0},{"$f":"COUNTIF($D$118:$AA$118,$AB$148)*$AB$13","v":0},{"$f":"COUNTIF($D$118:$AA$118,$AC$148)*$AB$13","v":0},{"$f":"COUNTIF($D$118:$AA$118,$AD$148)*$AB$13","v":0},{"$f":"COUNTIF($D$118:$AA$118,$AE$148)*$AB$13","v":0},{"$f":"COUNTIF($D$118:$AA$118,$AF$148)*$AB$13","v":0},{"$f":"COUNTIF($D$118:$AA$118,$AG$148)*$AB$13","v":0},{"$f":"COUNTIF($D$118:$AA$118,$AH$148)*$AB$13","v":0},{"$f":"COUNTIF($D$118:$AA$118,$AI$148)*$AB$13","v":0},{"$f":"COUNTIF($D$118:$AA$118,$AJ$148)*$AB$13","v":0},{"$f":"COUNTIF($D$118:$AA$118,$AK$148)*$AB$13","v":0},{"$f":"COUNTIF($D$118:$AA$118,$AL$148)*$AB$13","v":0},{"$f":"COUNTIF($D$118:$AA$118,$AM$148)*$AB$13","v":0},{"$f":"COUNTIF($D$118:$AA$118,$AN$148)*$AB$13","v":0},{"$f":"COUNTIF($D$118:$AA$118,$AO$148)*$AB$13","v":0},{"$f":"COUNTIF($D$118:$AA$118,$AP$148)*$AB$13","v":0},{"$f":"COUNTIF($D$118:$AA$118,$AQ$148)*$AB$13","v":0},{"$f":"COUNTIF($D$118:$AA$118,$AR$148)*$AB$13","v":0},{"$f":"COUNTIF($D$118:$AA$118,$AS$148)*$AD$13","v":0},5,null,{"$f":"SUMPRODUCT(D150:AS150,$D$162:$AS$162)","v":0},{"$f":"SUMPRODUCT(D150:AS150,$D$189:$AS$189)","v":0},{"$f":"$Q$29/($C$7*$Q$32)*$AV150","v":{"$error":"#VALUE!"}},{"$f":"$Q$36*$AW150","v":0},{"$f":"SUM(AX150:AY150)","v":{"$error":"#VALUE!"}},{"$f":"$R$29/($C$7*$R$32)*$AV150","v":{"$error":"#VALUE!"}},{"$f":"$R$36*$AW150","v":0},{"$f":"SUM(BA150:BB150)","v":{"$error":"#VALUE!"}},{"$f":"$S$29/($C$7*$S$32)*$AV150","v":{"$error":"#VALUE!"}},{"$f":"$S$36*$AW150","v":0},{"$f":"SUM(BD150:BE150)","v":{"$error":"#VALUE!"}},null,{"$f":"$Q$43/($C$7*$Q$46)*$AV150","v":{"$error":"#VALUE!"}},{"$f":"$Q$50*$AW150","v":0},{"$f":"SUM(BH150:BI150)","v":{"$error":"#VALUE!"}},{"$f":"$R$43/($C$7*$R$46)*$AV150","v":{"$error":"#VALUE!"}},{"$f":"$R$50*$AW150","v":0},{"$f":"SUM(BK150:BL150)","v":{"$error":"#VALUE!"}},{"$f":"$S$43/($C$7*$S$46)*$AV150","v":{"$error":"#VALUE!"}},{"$f":"$S$50*$AW150","v":0},{"$f":"SUM(BN150:BO150)","v":{"$error":"#VALUE!"}}]
[null,null,6,{"$f":"COUNTIF($D$119:$AA$119,$D$148)*$AB$14","v":0},{"$f":"COUNTIF($D$119:$AA$119,$E$148)*$AB$14","v":0},{"$f":"COUNTIF($D$119:$AA$119,$F$148)*$AB$14","v":0},{"$f":"COUNTIF($D$119:$AA$119,$G$148)*$AB$14","v":0},{"$f":"COUNTIF($D$119:$AA$119,$H$148)*$AB$14","v":0},{"$f":"COUNTIF($D$119:$AA$119,$I$148)*$AB$14","v":0},{"$f":"COUNTIF($D$119:$AA$119,$J$148)*$AB$14","v":0},{"$f":"COUNTIF($D$119:$AA$119,$K$148)*$AB$14","v":0},{"$f":"COUNTIF($D$119:$AA$119,$L$148)*$AB$14","v":0},{"$f":"COUNTIF($D$119:$AA$119,$M$148)*$AB$14","v":0},{"$f":"COUNTIF($D$119:$AA$119,$N$148)*$AB$14","v":0},{"$f":"COUNTIF($D$119:$AA$119,$O$148)*$AB$14","v":0},{"$f":"COUNTIF($D$119:$AA$119,$P$148)*$AB$14","v":0},{"$f":"COUNTIF($D$119:$AA$119,$Q$148)*$AB$14","v":0},{"$f":"COUNTIF($D$119:$AA$119,$R$148)*$AB$14","v":0},{"$f":"COUNTIF($D$119:$AA$119,$S$148)*$AB$14","v":0},{"$f":"COUNTIF($D$119:$AA$119,$T$148)*$AB$14","v":0},{"$f":"COUNTIF($D$119:$AA$119,$U$148)*$AB$14","v":0},{"$f":"COUNTIF($D$119:$AA$119,$V$148)*$AB$14","v":0},{"$f":"COUNTIF($D$119:$AA$119,$W$148)*$AB$14","v":0},{"$f":"COUNTIF($D$119:$AA$119,$X$148)*$AB$14","v":0},{"$f":"COUNTIF($D$119:$AA$119,$Y$148)*$AB$14","v":0},{"$f":"COUNTIF($D$119:$AA$119,$Z$148)*$AB$14","v":0},{"$f":"COUNTIF($D$119:$AA$119,$AA$148)*$AB$14","v":0},{"$f":"COUNTIF($D$119:$AA$119,$AB$148)*$AB$14","v":0},{"$f":"COUNTIF($D$119:$AA$119,$AC$148)*$AB$14","v":0},{"$f":"COUNTIF($D$119:$AA$119,$AD$148)*$AB$14","v":0},{"$f":"COUNTIF($D$119:$AA$119,$AE$148)*$AB$14","v":0},{"$f":"COUNTIF($D$119:$AA$119,$AF$148)*$AB$14","v":0},{"$f":"COUNTIF($D$119:$AA$119,$AG$148)*$AB$14","v":0},{"$f":"COUNTIF($D$119:$AA$119,$AH$148)*$AB$14","v":0},{"$f":"COUNTIF($D$119:$AA$119,$AI$148)*$AB$14","v":0},{"$f":"COUNTIF($D$119:$AA$119,$AJ$148)*$AB$14","v":0},{"$f":"COUNTIF($D$119:$AA$119,$AK$148)*$AB$14","v":0},{"$f":"COUNTIF($D$119:$AA$119,$AL$148)*$AB$14","v":0},{"$f":"COUNTIF($D$119:$AA$119,$AM$148)*$AB$14","v":0},{"$f":"COUNTIF($D$119:$AA$119,$AN$148)*$AB$14","v":0},{"$f":"COUNTIF($D$119:$AA$119,$AO$148)*$AB$14","v":0},{"$f":"COUNTIF($D$119:$AA$119,$AP$148)*$AB$14","v":0},{"$f":"COUNTIF($D$119:$AA$119,$AQ$148)*$AB$14","v":0},{"$f":"COUNTIF($D$119:$AA$119,$AR$148)*$AB$14","v":0},{"$f":"COUNTIF($D$119:$AA$119,$AS$148)*$AB$14","v":0},6,null,0,0,{"$error":"#VALUE!"},0,{"$error":"#VALUE!"},{"$error":"#VALUE!"},0,{"$error":"#VALUE!"},{"$error":"#VALUE!"},0,{"$error":"#VALUE!"},null,{"$error":"#VALUE!"},0,{"$error":"#VALUE!"},{"$error":"#VALUE!"},0,{"$error":"#VALUE!"},{"$error":"#VALUE!"},0,{"$error":"#VALUE!"}]
[null,null,7,{"$f":"COUNTIF($D$120:$AA$120,$D$148)*$AB$15","v":0},{"$f":"COUNTIF($D$120:$AA$120,$E$148)*$AB$15","v":0},{"$f":"COUNTIF($D$120:$AA$120,$F$148)*$AB$15","v":0},{"$f":"COUNTIF($D$120:$AA$120,$G$148)*$AB$15","v":0},{"$f":"COUNTIF($D$120:$AA$120,$H$148)*$AB$15","v":0},{"$f":"COUNTIF($D$120:$AA$120,$I$148)*$AB$15","v":0},{"$f":"COUNTIF($D$120:$AA$120,$J$148)*$AB$15","v":0},{"$f":"COUNTIF($D$120:$AA$120,$K$148)*$AB$15","v":0},{"$f":"COUNTIF($D$120:$AA$120,$L$148)*$AB$15","v":0},{"$f":"COUNTIF($D$120:$AA$120,$M$148)*$AB$15","v":0},{"$f":"COUNTIF($D$120:$AA$120,$N$148)*$AB$15","v":0},{"$f":"COUNTIF($D$120:$AA$120,$O$148)*$AB$15","v":0},{"$f":"COUNTIF($D$120:$AA$120,$P$148)*$AB$15","v":0},{"$f":"COUNTIF($D$120:$AA$120,$Q$148)*$AB$15","v":0},{"$f":"COUNTIF($D$120:$AA$120,$R$148)*$AB$15","v":0},{"$f":"COUNTIF($D$120:$AA$120,$S$148)*$AB$15","v":0},{"$f":"COUNTIF($D$120:$AA$120,$T$148)*$AB$15","v":0},{"$f":"COUNTIF($D$120:$AA$120,$U$148)*$AB$15","v":0},{"$f":"COUNTIF($D$120:$AA$120,$V$148)*$AB$15","v":0},{"$f":"COUNTIF($D$120:$AA$120,$W$148)*$AB$15","v":0},{"$f":"COUNTIF($D$120:$AA$120,$X$148)*$AB$15","v":0},{"$f":"COUNTIF($D$120:$AA$120,$Y$148)*$AB$15","v":0},{"$f":"COUNTIF($D$120:$AA$120,$Z$148)*$AB$15","v":0},{"$f":"COUNTIF($D$120:$AA$120,$AA$148)*$AB$15","v":0},{"$f":"COUNTIF($D$120:$AA$120,$AB$148)*$AB$15","v":0},{"$f":"COUNTIF($D$120:$AA$120,$AC$148)*$AB$15","v":0},{"$f":"COUNTIF($D$120:$AA$120,$AD$148)*$AB$15","v":0},{"$f":"COUNTIF($D$120:$AA$120,$AE$148)*$AB$15","v":0},{"$f":"COUNTIF($D$120:$AA$120,$AF$148)*$AB$15","v":0},{"$f":"COUNTIF($D$120:$AA$120,$AG$148)*$AB$15","v":0},{"$f":"COUNTIF($D$120:$AA$120,$AH$148)*$AB$15","v":0},{"$f":"COUNTIF($D$120:$AA$120,$AI$148)*$AB$15","v":0},{"$f":"COUNTIF($D$120:$AA$120,$AJ$148)*$AB$15","v":0},{"$f":"COUNTIF($D$120:$AA$120,$AK$148)*$AB$15","v":0},{"$f":"COUNTIF($D$120:$AA$120,$AL$148)*$AB$15","v":0},{"$f":"COUNTIF($D$120:$AA$120,$AM$148)*$AB$15","v":0},{"$f":"COUNTIF($D$120:$AA$120,$AN$148)*$AB$15","v":0},{"$f":"COUNTIF($D$120:$AA$120,$AO$148)*$AB$15","v":0},{"$f":"COUNTIF($D$120:$AA$120,$AP$148)*$AB$15","v":0},{"$f":"COUNTIF($D$120:$AA$120,$AQ$148)*$AB$15","v":0},{"$f":"COUNTIF($D$120:$AA$120,$AR$148)*$AB$15","v":0},{"$f":"COUNTIF($D$120:$AA$120,$AS$148)*$AB$15","v":0},7,null,0,0,{"$error":"#VALUE!"},0,{"$error":"#VALUE!"},{"$error":"#VALUE!"},0,{"$error":"#VALUE!"},{"$error":"#VALUE!"},0,{"$error":"#VALUE!"},null,{"$error":"#VALUE!"},0,{"$error":"#VALUE!"},{"$error":"#VALUE!"},0,{"$error":"#VALUE!"},{"$error":"#VALUE!"},0,{"$error":"#VALUE!"}]
[null,null,8,{"$f":"COUNTIF($D$121:$AA$121,$D$148)*$AB$16","v":0},{"$f":"COUNTIF($D$121:$AA$121,$E$148)*$AB$16","v":0},{"$f":"COUNTIF($D$121:$AA$121,$F$148)*$AB$16","v":0},{"$f":"COUNTIF($D$121:$AA$121,$G$148)*$AB$16","v":0},{"$f":"COUNTIF($D$121:$AA$121,$H$148)*$AB$16","v":0},{"$f":"COUNTIF($D$121:$AA$121,$I$148)*$AB$16","v":0},{"$f":"COUNTIF($D$121:$AA$121,$J$148)*$AB$16","v":0},{"$f":"COUNTIF($D$121:$AA$121,$K$148)*$AB$16","v":0},{"$f":"COUNTIF($D$121:$AA$121,$L$148)*$AB$16","v":0},{"$f":"COUNTIF($D$121:$AA$121,$M$148)*$AB$16","v":0},{"$f":"COUNTIF($D$121:$AA$121,$N$148)*$AB$16","v":0},{"$f":"COUNTIF($D$121:$AA$121,$O$148)*$AB$16","v":0},{"$f":"COUNTIF($D$121:$AA$121,$P$148)*$AB$16","v":0},{"$f":"COUNTIF($D$121:$AA$121,$Q$148)*$AB$16","v":0},{"$f":"COUNTIF($D$121:$AA$121,$R$148)*$AB$16","v":0},{"$f":"COUNTIF($D$121:$AA$121,$S$148)*$AB$16","v":0},{"$f":"COUNTIF($D$121:$AA$121,$T$148)*$AB$16","v":0},{"$f":"COUNTIF($D$121:$AA$121,$U$148)*$AB$16","v":0},{"$f":"COUNTIF($D$121:$AA$121,$V$148)*$AB$16","v":0},{"$f":"COUNTIF($D$121:$AA$121,$W$148)*$AB$16","v":0},{"$f":"COUNTIF($D$121:$AA$121,$X$148)*$AB$16","v":0},{"$f":"COUNTIF($D$121:$AA$121,$Y$148)*$AB$16","v":0},{"$f":"COUNTIF($D$121:$AA$121,$Z$148)*$AB$16","v":0},{"$f":"COUNTIF($D$121:$AA$121,$AA$148)*$AB$16","v":0},{"$f":"COUNTIF($D$121:$AA$121,$AB$148)*$AB$16","v":0},{"$f":"COUNTIF($D$121:$AA$121,$AC$148)*$AB$16","v":0},{"$f":"COUNTIF($D$121:$AA$121,$AD$148)*$AB$16","v":0},{"$f":"COUNTIF($D$121:$AA$121,$AE$148)*$AB$16","v":0},{"$f":"COUNTIF($D$121:$AA$121,$AF$148)*$AB$16","v":0},{"$f":"COUNTIF($D$121:$AA$121,$AG$148)*$AB$16","v":0},{"$f":"COUNTIF($D$121:$AA$121,$AH$148)*$AB$16","v":0},{"$f":"COUNTIF($D$121:$AA$121,$AI$148)*$AB$16","v":0},{"$f":"COUNTIF($D$121:$AA$121,$AJ$148)*$AB$16","v":0},{"$f":"COUNTIF($D$121:$AA$121,$AK$148)*$AB$16","v":0},{"$f":"COUNTIF($D$121:$AA$121,$AL$148)*$AB$16","v":0},{"$f":"COUNTIF($D$121:$AA$121,$AM$148)*$AB$16","v":0},{"$f":"COUNTIF($D$121:$AA$121,$AN$148)*$AB$16","v":0},{"$f":"COUNTIF($D$121:$AA$121,$AO$148)*$AB$16","v":0},{"$f":"COUNTIF($D$121:$AA$121,$AP$148)*$AB$16","v":0},{"$f":"COUNTIF($D$121:$AA$121,$AQ$148)*$AB$16","v":0},{"$f":"COUNTIF($D$121:$AA$121,$AR$148)*$AB$16","v":0},{"$f":"COUNTIF($D$121:$AA$121,$AS$148)*$AB$16","v":0},8,null,0,0,{"$error":"#VALUE!"},0,{"$error":"#VALUE!"},{"$error":"#VALUE!"},0,{"$error":"#VALUE!"},{"$error":"#VALUE!"},0,{"$error":"#VALUE!"},null,{"$error":"#VALUE!"},0,{"$error":"#VALUE!"},{"$error":"#VALUE!"},0,{"$error":"#VALUE!"},{"$error":"#VALUE!"},0,{"$error":"#VALUE!"}]
[null,null,9,{"$f":"COUNTIF($D$122:$AA$122,$D$148)*$AB$17","v":0},{"$f":"COUNTIF($D$122:$AA$122,$E$148)*$AB$17","v":0},{"$f":"COUNTIF($D$122:$AA$122,$F$148)*$AB$17","v":0},{"$f":"COUNTIF($D$122:$AA$122,$G$148)*$AB$17","v":0},{"$f":"COUNTIF($D$122:$AA$122,$H$148)*$AB$17","v":0},{"$f":"COUNTIF($D$122:$AA$122,$I$148)*$AB$17","v":0},{"$f":"COUNTIF($D$122:$AA$122,$J$148)*$AB$17","v":0},{"$f":"COUNTIF($D$122:$AA$122,$K$148)*$AB$17","v":0},{"$f":"COUNTIF($D$122:$AA$122,$L$148)*$AB$17","v":0},{"$f":"COUNTIF($D$122:$AA$122,$M$148)*$AB$17","v":0},{"$f":"COUNTIF($D$122:$AA$122,$N$148)*$AB$17","v":0},{"$f":"COUNTIF($D$122:$AA$122,$O$148)*$AB$17","v":0},{"$f":"COUNTIF($D$122:$AA$122,$P$148)*$AB$17","v":0},{"$f":"COUNTIF($D$122:$AA$122,$Q$148)*$AB$17","v":0},{"$f":"COUNTIF($D$122:$AA$122,$R$148)*$AB$17","v":0},{"$f":"COUNTIF($D$122:$AA$122,$S$148)*$AB$17","v":0},{"$f":"COUNTIF($D$122:$AA$122,$T$148)*$AB$17","v":0},{"$f":"COUNTIF($D$122:$AA$122,$U$148)*$AB$17","v":0},{"$f":"COUNTIF($D$122:$AA$122,$V$148)*$AB$17","v":0},{"$f":"COUNTIF($D$122:$AA$122,$W$148)*$AB$17","v":0},{"$f":"COUNTIF($D$122:$AA$122,$X$148)*$AB$17","v":0},{"$f":"COUNTIF($D$122:$AA$122,$Y$148)*$AB$17","v":0},{"$f":"COUNTIF($D$122:$AA$122,$Z$148)*$AB$17","v":0},{"$f":"COUNTIF($D$122:$AA$122,$AA$148)*$AB$17","v":0},{"$f":"COUNTIF($D$122:$AA$122,$AB$148)*$AB$17","v":0},{"$f":"COUNTIF($D$122:$AA$122,$AC$148)*$AB$17","v":0},{"$f":"COUNTIF($D$122:$AA$122,$AD$148)*$AB$17","v":0},{"$f":"COUNTIF($D$122:$AA$122,$AE$148)*$AB$17","v":0},{"$f":"COUNTIF($D$122:$AA$122,$AF$148)*$AB$17","v":0},{"$f":"COUNTIF($D$122:$AA$122,$AG$148)*$AB$17","v":0},{"$f":"COUNTIF($D$122:$AA$122,$AH$148)*$AB$17","v":0},{"$f":"COUNTIF($D$122:$AA$122,$AI$148)*$AB$17","v":0},{"$f":"COUNTIF($D$122:$AA$122,$AJ$148)*$AB$17","v":0},{"$f":"COUNTIF($D$122:$AA$122,$AK$148)*$AB$17","v":0},{"$f":"COUNTIF($D$122:$AA$122,$AL$148)*$AB$17","v":0},{"$f":"COUNTIF($D$122:$AA$122,$AM$148)*$AB$17","v":0},{"$f":"COUNTIF($D$122:$AA$122,$AN$148)*$AB$17","v":0},{"$f":"COUNTIF($D$122:$AA$122,$AO$148)*$AB$17","v":0},{"$f":"COUNTIF($D$122:$AA$122,$AP$148)*$AB$17","v":0},{"$f":"COUNTIF($D$122:$AA$122,$AQ$148)*$AB$17","v":0},{"$f":"COUNTIF($D$122:$AA$122,$AR$148)*$AB$17","v":0},{"$f":"COUNTIF($D$122:$AA$122,$AS$148)*$AB$17","v":0},9,null,0,0,{"$error":"#VALUE!"},0,{"$error":"#VALUE!"},{"$error":"#VALUE!"},0,{"$f":"SUM(BA154:BB154)","v":{"$error":"#VALUE!"}},{"$error":"#VALUE!"},{"$f":"$S$36*$AW154","v":0},{"$error":"#VALUE!"},null,{"$error":"#VALUE!"},0,{"$error":"#VALUE!"},{"$error":"#VALUE!"},0,{"$error":"#VALUE!"},{"$error":"#VALUE!"},0,{"$error":"#VALUE!"}]
[null,null,10,{"$f":"COUNTIF($D$123:$AA$123,$D$148)*$AB$18","v":0},{"$f":"COUNTIF($D$123:$AA$123,$E$148)*$AB$18","v":0},{"$f":"COUNTIF($D$123:$AA$123,$F$148)*$AB$18","v":0},{"$f":"COUNTIF($D$123:$AA$123,$G$148)*$AB$18","v":0},{"$f":"COUNTIF($D$123:$AA$123,$H$148)*$AB$18","v":0},{"$f":"COUNTIF($D$123:$AA$123,$I$148)*$AB$18","v":0},{"$f":"COUNTIF($D$123:$AA$123,$J$148)*$AB$18","v":0},{"$f":"COUNTIF($D$123:$AA$123,$K$148)*$AB$18","v":0},{"$f":"COUNTIF($D$123:$AA$123,$L$148)*$AB$18","v":0},{"$f":"COUNTIF($D$123:$AA$123,$M$148)*$AB$18","v":0},{"$f":"COUNTIF($D$123:$AA$123,$N$148)*$AB$18","v":0},{"$f":"COUNTIF($D$123:$AA$123,$O$148)*$AB$18","v":0},{"$f":"COUNTIF($D$123:$AA$123,$P$148)*$AB$18","v":0},{"$f":"COUNTIF($D$123:$AA$123,$Q$148)*$AB$18","v":0},{"$f":"COUNTIF($D$123:$AA$123,$R$148)*$AB$18","v":0},{"$f":"COUNTIF($D$123:$AA$123,$S$148)*$AB$18","v":0},{"$f":"COUNTIF($D$123:$AA$123,$T$148)*$AB$18","v":0},{"$f":"COUNTIF($D$123:$AA$123,$U$148)*$AB$18","v":0},{"$f":"COUNTIF($D$123:$AA$123,$V$148)*$AB$18","v":0},{"$f":"COUNTIF($D$123:$AA$123,$W$148)*$AB$18","v":0},{"$f":"COUNTIF($D$123:$AA$123,$X$148)*$AB$18","v":0},{"$f":"COUNTIF($D$123:$AA$123,$Y$148)*$AB$18","v":0},{"$f":"COUNTIF($D$123:$AA$123,$Z$148)*$AB$18","v":0},{"$f":"COUNTIF($D$123:$AA$123,$AA$148)*$AB$18","v":0},{"$f":"COUNTIF($D$123:$AA$123,$AB$148)*$AB$18","v":0},{"$f":"COUNTIF($D$123:$AA$123,$AC$148)*$AB$18","v":0},{"$f":"COUNTIF($D$123:$AA$123,$AD$148)*$AB$18","v":0},{"$f":"COUNTIF($D$123:$AA$123,$AE$148)*$AB$18","v":0},{"$f":"COUNTIF($D$123:$AA$123,$AF$148)*$AB$18","v":0},{"$f":"COUNTIF($D$123:$AA$123,$AG$148)*$AB$18","v":0},{"$f":"COUNTIF($D$123:$AA$123,$AH$148)*$AB$18","v":0},{"$f":"COUNTIF($D$123:$AA$123,$AI$148)*$AB$18","v":0},{"$f":"COUNTIF($D$123:$AA$123,$AJ$148)*$AB$18","v":0},{"$f":"COUNTIF($D$123:$AA$123,$AK$148)*$AB$18","v":0},{"$f":"COUNTIF($D$123:$AA$123,$AL$148)*$AB$18","v":0},{"$f":"COUNTIF($D$123:$AA$123,$AM$148)*$AB$18","v":0},{"$f":"COUNTIF($D$123:$AA$123,$AN$148)*$AB$18","v":0},{"$f":"COUNTIF($D$123:$AA$123,$AO$148)*$AB$18","v":0},{"$f":"COUNTIF($D$123:$AA$123,$AP$148)*$AB$18","v":0},{"$f":"COUNTIF($D$123:$AA$123,$AQ$148)*$AB$18","v":0},{"$f":"COUNTIF($D$123:$AA$123,$AR$148)*$AB$18","v":0},{"$f":"COUNTIF($D$123:$AA$123,$AS$148)*$AB$18","v":0},10,null,0,0,{"$error":"#VALUE!"},0,{"$error":"#VALUE!"},{"$error":"#VALUE!"},0,{"$error":"#VALUE!"},{"$error":"#VALUE!"},0,{"$error":"#VALUE!"},null,{"$error":"#VALUE!"},0,{"$error":"#VALUE!"},{"$error":"#VALUE!"},0,{"$error":"#VALUE!"},{"$error":"#VALUE!"},0,{"$error":"#VALUE!"}]
[null,null,11,{"$f":"COUNTIF($D$124:$AA$124,$D$148)*$AB$19","v":0},{"$f":"COUNTIF($D$124:$AA$124,$E$148)*$AB$19","v":0},{"$f":"COUNTIF($D$124:$AA$124,$F$148)*$AB$19","v":0},{"$f":"COUNTIF($D$124:$AA$124,$G$148)*$AB$19","v":0},{"$f":"COUNTIF($D$124:$AA$124,$H$148)*$AB$19","v":0},{"$f":"COUNTIF($D$124:$AA$124,$I$148)*$AB$19","v":0},{"$f":"COUNTIF($D$124:$AA$124,$J$148)*$AB$19","v":0},{"$f":"COUNTIF($D$124:$AA$124,$K$148)*$AB$19","v":0},{"$f":"COUNTIF($D$124:$AA$124,$L$148)*$AB$19","v":0},{"$f":"COUNTIF($D$124:$AA$124,$M$148)*$AB$19","v":0},{"$f":"COUNTIF($D$124:$AA$124,$N$148)*$AB$19","v":0},{"$f":"COUNTIF($D$124:$AA$124,$O$148)*$AB$19","v":0},{"$f":"COUNTIF($D$124:$AA$124,$P$148)*$AB$19","v":0},{"$f":"COUNTIF($D$124:$AA$124,$Q$148)*$AB$19","v":0},{"$f":"COUNTIF($D$124:$AA$124,$R$148)*$AB$19","v":0},{"$f":"COUNTIF($D$124:$AA$124,$S$148)*$AB$19","v":0},{"$f":"COUNTIF($D$124:$AA$124,$T$148)*$AB$19","v":0},{"$f":"COUNTIF($D$124:$AA$124,$U$148)*$AB$19","v":0},{"$f":"COUNTIF($D$124:$AA$124,$V$148)*$AB$19","v":0},{"$f":"COUNTIF($D$124:$AA$124,$W$148)*$AB$19","v":0},{"$f":"COUNTIF($D$124:$AA$124,$X$148)*$AB$19","v":0},{"$f":"COUNTIF($D$124:$AA$124,$Y$148)*$AB$19","v":0},{"$f":"COUNTIF($D$124:$AA$124,$Z$148)*$AB$19","v":0},{"$f":"COUNTIF($D$124:$AA$124,$AA$148)*$AB$19","v":0},{"$f":"COUNTIF($D$124:$AA$124,$AB$148)*$AB$19","v":0},{"$f":"COUNTIF($D$124:$AA$124,$AC$148)*$AB$19","v":0},{"$f":"COUNTIF($D$124:$AA$124,$AD$148)*$AB$19","v":0},{"$f":"COUNTIF($D$124:$AA$124,$AE$148)*$AB$19","v":0},{"$f":"COUNTIF($D$124:$AA$124,$AF$148)*$AB$19","v":0},{"$f":"COUNTIF($D$124:$AA$124,$AG$148)*$AB$19","v":0},{"$f":"COUNTIF($D$124:$AA$124,$AH$148)*$AB$19","v":0},{"$f":"COUNTIF($D$124:$AA$124,$AI$148)*$AB$19","v":0},{"$f":"COUNTIF($D$124:$AA$124,$AJ$148)*$AB$19","v":0},{"$f":"COUNTIF($D$124:$AA$124,$AK$148)*$AB$19","v":0},{"$f":"COUNTIF($D$124:$AA$124,$AL$148)*$AB$19","v":0},{"$f":"COUNTIF($D$124:$AA$124,$AM$148)*$AB$19","v":0},{"$f":"COUNTIF($D$124:$AA$124,$AN$148)*$AB$19","v":0},{"$f":"COUNTIF($D$124:$AA$124,$AO$148)*$AB$19","v":0},{"$f":"COUNTIF($D$124:$AA$124,$AP$148)*$AB$19","v":0},{"$f":"COUNTIF($D$124:$AA$124,$AQ$148)*$AB$19","v":0},{"$f":"COUNTIF($D$124:$AA$124,$AR$148)*$AB$19","v":0},{"$f":"COUNTIF($D$124:$AA$124,$AS$148)*$AB$19","v":0},11,null,0,0,{"$error":"#VALUE!"},0,{"$error":"#VALUE!"},{"$error":"#VALUE!"},0,{"$error":"#VALUE!"},{"$error":"#VALUE!"},0,{"$f":"SUM(BD156:BE156)","v":{"$error":"#VALUE!"}},null,{"$error":"#VALUE!"},0,{"$error":"#VALUE!"},{"$error":"#VALUE!"},0,{"$error":"#VALUE!"},{"$error":"#VALUE!"},0,{"$error":"#VALUE!"}]
[null,null,12,{"$f":"COUNTIF($D$125:$AA$125,$D$148)*$AB$20","v":0},{"$f":"COUNTIF($D$125:$AA$125,$E$148)*$AB$20","v":0},{"$f":"COUNTIF($D$125:$AA$125,$F$148)*$AB$20","v":0},{"$f":"COUNTIF($D$125:$AA$125,$G$148)*$AB$20","v":0},{"$f":"COUNTIF($D$125:$AA$125,$H$148)*$AB$20","v":0},{"$f":"COUNTIF($D$125:$AA$125,$I$148)*$AB$20","v":0},{"$f":"COUNTIF($D$125:$AA$125,$J$148)*$AB$20","v":0},{"$f":"COUNTIF($D$125:$AA$125,$K$148)*$AB$20","v":0},{"$f":"COUNTIF($D$125:$AA$125,$L$148)*$AB$20","v":0},{"$f":"COUNTIF($D$125:$AA$125,$M$148)*$AB$20","v":0},{"$f":"COUNTIF($D$125:$AA$125,$N$148)*$AB$20","v":0},{"$f":"COUNTIF($D$125:$AA$125,$O$148)*$AB$20","v":0},{"$f":"COUNTIF($D$125:$AA$125,$P$148)*$AB$20","v":0},{"$f":"COUNTIF($D$125:$AA$125,$Q$148)*$AB$20","v":0},{"$f":"COUNTIF($D$125:$AA$125,$R$148)*$AB$20","v":0},{"$f":"COUNTIF($D$125:$AA$125,$S$148)*$AB$20","v":0},{"$f":"COUNTIF($D$125:$AA$125,$T$148)*$AB$20","v":0},{"$f":"COUNTIF($D$125:$AA$125,$U$148)*$AB$20","v":0},{"$f":"COUNTIF($D$125:$AA$125,$V$148)*$AB$20","v":0},{"$f":"COUNTIF($D$125:$AA$125,$W$148)*$AB$20","v":0},{"$f":"COUNTIF($D$125:$AA$125,$X$148)*$AB$20","v":0},{"$f":"COUNTIF($D$125:$AA$125,$Y$148)*$AB$20","v":0},{"$f":"COUNTIF($D$125:$AA$125,$Z$148)*$AB$20","v":0},{"$f":"COUNTIF($D$125:$AA$125,$AA$148)*$AB$20","v":0},{"$f":"COUNTIF($D$125:$AA$125,$AB$148)*$AB$20","v":0},{"$f":"COUNTIF($D$125:$AA$125,$AC$148)*$AB$20","v":0},{"$f":"COUNTIF($D$125:$AA$125,$AD$148)*$AB$20","v":0},{"$f":"COUNTIF($D$125:$AA$125,$AE$148)*$AB$20","v":0},{"$f":"COUNTIF($D$125:$AA$125,$AF$148)*$AB$20","v":0},{"$f":"COUNTIF($D$125:$AA$125,$AG$148)*$AB$20","v":0},{"$f":"COUNTIF($D$125:$AA$125,$AH$148)*$AB$20","v":0},{"$f":"COUNTIF($D$125:$AA$125,$AI$148)*$AB$20","v":0},{"$f":"COUNTIF($D$125:$AA$125,$AJ$148)*$AB$20","v":0},{"$f":"COUNTIF($D$125:$AA$125,$AK$148)*$AB$20","v":0},{"$f":"COUNTIF($D$125:$AA$125,$AL$148)*$AB$20","v":0},{"$f":"COUNTIF($D$125:$AA$125,$AM$148)*$AB$20","v":0},{"$f":"COUNTIF($D$125:$AA$125,$AN$148)*$AB$20","v":0},{"$f":"COUNTIF($D$125:$AA$125,$AO$148)*$AB$20","v":0},{"$f":"COUNTIF($D$125:$AA$125,$AP$148)*$AB$20","v":0},{"$f":"COUNTIF($D$125:$AA$125,$AQ$148)*$AB$20","v":0},{"$f":"COUNTIF($D$125:$AA$125,$AR$148)*$AB$20","v":0},{"$f":"COUNTIF($D$125:$AA$125,$AS$148)*$AB$20","v":0},12,null,0,0,{"$error":"#VALUE!"},0,{"$error":"#VALUE!"},{"$error":"#VALUE!"},0,{"$error":"#VALUE!"},{"$error":"#VALUE!"},0,{"$error":"#VALUE!"},null,{"$error":"#VALUE!"},0,{"$error":"#VALUE!"},{"$error":"#VALUE!"},0,{"$error":"#VALUE!"},{"$error":"#VALUE!"},0,{"$error":"#VALUE!"}]
[null,null,1,{"$f":"COUNTIF($D$126:$AA$126,$D$148)*$AB$21","v":0},{"$f":"COUNTIF($D$126:$AA$126,$E$148)*$AB$21","v":0},{"$f":"COUNTIF($D$126:$AA$126,$F$148)*$AB$21","v":0},{"$f":"COUNTIF($D$126:$AA$126,$G$148)*$AB$21","v":0},{"$f":"COUNTIF($D$126:$AA$126,$H$148)*$AB$21","v":0},{"$f":"COUNTIF($D$126:$AA$126,$I$148)*$AB$21","v":0},{"$f":"COUNTIF($D$126:$AA$126,$J$148)*$AB$21","v":0},{"$f":"COUNTIF($D$126:$AA$126,$K$148)*$AB$21","v":0},{"$f":"COUNTIF($D$126:$AA$126,$L$148)*$AB$21","v":0},{"$f":"COUNTIF($D$126:$AA$126,$M$148)*$AB$21","v":0},{"$f":"COUNTIF($D$126:$AA$126,$N$148)*$AB$21","v":0},{"$f":"COUNTIF($D$126:$AA$126,$O$148)*$AB$21","v":0},{"$f":"COUNTIF($D$126:$AA$126,$P$148)*$AB$21","v":0},{"$f":"COUNTIF($D$126:$AA$126,$Q$148)*$AB$21","v":0},{"$f":"COUNTIF($D$126:$AA$126,$R$148)*$AB$21","v":0},{"$f":"COUNTIF($D$126:$AA$126,$S$148)*$AB$21","v":0},{"$f":"COUNTIF($D$126:$AA$126,$T$148)*$AB$21","v":0},{"$f":"COUNTIF($D$126:$AA$126,$U$148)*$AB$21","v":0},{"$f":"COUNTIF($D$126:$AA$126,$V$148)*$AB$21","v":0},{"$f":"COUNTIF($D$126:$AA$126,$W$148)*$AB$21","v":0},{"$f":"COUNTIF($D$126:$AA$126,$X$148)*$AB$21","v":0},{"$f":"COUNTIF($D$126:$AA$126,$Y$148)*$AB$21","v":0},{"$f":"COUNTIF($D$126:$AA$126,$Z$148)*$AB$21","v":0},{"$f":"COUNTIF($D$126:$AA$126,$AA$148)*$AB$21","v":0},{"$f":"COUNTIF($D$126:$AA$126,$AB$148)*$AB$21","v":0},{"$f":"COUNTIF($D$126:$AA$126,$AC$148)*$AB$21","v":0},{"$f":"COUNTIF($D$126:$AA$126,$AD$148)*$AB$21","v":0},{"$f":"COUNTIF($D$126:$AA$126,$AE$148)*$AB$21","v":0},{"$f":"COUNTIF($D$126:$AA$126,$AF$148)*$AB$21","v":0},{"$f":"COUNTIF($D$126:$AA$126,$AG$148)*$AB$21","v":0},{"$f":"COUNTIF($D$126:$AA$126,$AH$148)*$AB$21","v":0},{"$f":"COUNTIF($D$126:$AA$126,$AI$148)*$AB$21","v":0},{"$f":"COUNTIF($D$126:$AA$126,$AJ$148)*$AB$21","v":0},{"$f":"COUNTIF($D$126:$AA$126,$AK$148)*$AB$21","v":0},{"$f":"COUNTIF($D$126:$AA$126,$AL$148)*$AB$21","v":0},{"$f":"COUNTIF($D$126:$AA$126,$AM$148)*$AB$21","v":0},{"$f":"COUNTIF($D$126:$AA$126,$AN$148)*$AB$21","v":0},{"$f":"COUNTIF($D$126:$AA$126,$AO$148)*$AB$21","v":0},{"$f":"COUNTIF($D$126:$AA$126,$AP$148)*$AB$21","v":0},{"$f":"COUNTIF($D$126:$AA$126,$AQ$148)*$AB$21","v":0},{"$f":"COUNTIF($D$126:$AA$126,$AR$148)*$AB$21","v":0},{"$f":"COUNTIF($D$126:$AA$126,$AS$148)*$AB$21","v":0},1,null,0,0,{"$error":"#VALUE!"},0,{"$error":"#VALUE!"},{"$error":"#VALUE!"},0,{"$error":"#VALUE!"},{"$error":"#VALUE!"},0,{"$error":"#VALUE!"},null,{"$error":"#VALUE!"},0,{"$error":"#VALUE!"},{"$error":"#VALUE!"},0,{"$error":"#VALUE!"},{"$error":"#VALUE!"},0,{"$error":"#VALUE!"}]
[null,null,2,{"$f":"COUNTIF($D$127:$AA$127,$D$148)*$AB$22","v":0},{"$f":"COUNTIF($D$127:$AA$127,$E$148)*$AB$22","v":0},{"$f":"COUNTIF($D$127:$AA$127,$F$148)*$AB$22","v":0},{"$f":"COUNTIF($D$127:$AA$127,$G$148)*$AB$22","v":0},{"$f":"COUNTIF($D$127:$AA$127,$H$148)*$AB$22","v":0},{"$f":"COUNTIF($D$127:$AA$127,$I$148)*$AB$22","v":0},{"$f":"COUNTIF($D$127:$AA$127,$J$148)*$AB$22","v":0},{"$f":"COUNTIF($D$127:$AA$127,$K$148)*$AB$22","v":0},{"$f":"COUNTIF($D$127:$AA$127,$L$148)*$AB$22","v":0},{"$f":"COUNTIF($D$127:$AA$127,$M$148)*$AB$22","v":0},{"$f":"COUNTIF($D$127:$AA$127,$N$148)*$AB$22","v":0},{"$f":"COUNTIF($D$127:$AA$127,$O$148)*$AB$22","v":0},{"$f":"COUNTIF($D$127:$AA$127,$P$148)*$AB$22","v":0},{"$f":"COUNTIF($D$127:$AA$127,$Q$148)*$AB$22","v":0},{"$f":"COUNTIF($D$127:$AA$127,$R$148)*$AB$22","v":0},{"$f":"COUNTIF($D$127:$AA$127,$S$148)*$AB$22","v":0},{"$f":"COUNTIF($D$127:$AA$127,$T$148)*$AB$22","v":0},{"$f":"COUNTIF($D$127:$AA$127,$U$148)*$AB$22","v":0},{"$f":"COUNTIF($D$127:$AA$127,$V$148)*$AB$22","v":0},{"$f":"COUNTIF($D$127:$AA$127,$W$148)*$AB$22","v":0},{"$f":"COUNTIF($D$127:$AA$127,$X$148)*$AB$22","v":0},{"$f":"COUNTIF($D$127:$AA$127,$Y$148)*$AB$22","v":0},{"$f":"COUNTIF($D$127:$AA$127,$Z$148)*$AB$22","v":0},{"$f":"COUNTIF($D$127:$AA$127,$AA$148)*$AB$22","v":0},{"$f":"COUNTIF($D$127:$AA$127,$AB$148)*$AB$22","v":0},{"$f":"COUNTIF($D$127:$AA$127,$AC$148)*$AB$22","v":0},{"$f":"COUNTIF($D$127:$AA$127,$AD$148)*$AB$22","v":0},{"$f":"COUNTIF($D$127:$AA$127,$AE$148)*$AB$22","v":0},{"$f":"COUNTIF($D$127:$AA$127,$AF$148)*$AB$22","v":0},{"$f":"COUNTIF($D$127:$AA$127,$AG$148)*$AB$22","v":0},{"$f":"COUNTIF($D$127:$AA$127,$AH$148)*$AB$22","v":0},{"$f":"COUNTIF($D$127:$AA$127,$AI$148)*$AB$22","v":0},{"$f":"COUNTIF($D$127:$AA$127,$AJ$148)*$AB$22","v":0},{"$f":"COUNTIF($D$127:$AA$127,$AK$148)*$AB$22","v":0},{"$f":"COUNTIF($D$127:$AA$127,$AL$148)*$AB$22","v":0},{"$f":"COUNTIF($D$127:$AA$127,$AM$148)*$AB$22","v":0},{"$f":"COUNTIF($D$127:$AA$127,$AN$148)*$AB$22","v":0},{"$f":"COUNTIF($D$127:$AA$127,$AO$148)*$AB$22","v":0},{"$f":"COUNTIF($D$127:$AA$127,$AP$148)*$AB$22","v":0},{"$f":"COUNTIF($D$127:$AA$127,$AQ$148)*$AB$22","v":0},{"$f":"COUNTIF($D$127:$AA$127,$AR$148)*$AB$22","v":0},{"$f":"COUNTIF($D$127:$AA$127,$AS$148)*$AB$22","v":0},2,null,0,0,{"$error":"#VALUE!"},0,{"$error":"#VALUE!"},{"$error":"#VALUE!"},0,{"$error":"#VALUE!"},{"$error":"#VALUE!"},0,{"$error":"#VALUE!"},null,{"$error":"#VALUE!"},0,{"$error":"#VALUE!"},{"$error":"#VALUE!"},0,{"$error":"#VALUE!"},{"$error":"#VALUE!"},0,{"$error":"#VALUE!"}]
[null,null,3,{"$f":"COUNTIF($D$128:$AA$128,$D$148)*$AB$23","v":0},{"$f":"COUNTIF($D$128:$AA$128,$E$148)*$AB$23","v":0},{"$f":"COUNTIF($D$128:$AA$128,$F$148)*$AB$23","v":0},{"$f":"COUNTIF($D$128:$AA$128,$G$148)*$AB$23","v":0},{"$f":"COUNTIF($D$128:$AA$128,$H$148)*$AB$23","v":0},{"$f":"COUNTIF($D$128:$AA$128,$I$148)*$AB$23","v":0},{"$f":"COUNTIF($D$128:$AA$128,$J$148)*$AB$23","v":0},{"$f":"COUNTIF($D$128:$AA$128,$K$148)*$AB$23","v":0},{"$f":"COUNTIF($D$128:$AA$128,$L$148)*$AB$23","v":0},{"$f":"COUNTIF($D$128:$AA$128,$M$148)*$AB$23","v":0},{"$f":"COUNTIF($D$128:$AA$128,$N$148)*$AB$23","v":0},{"$f":"COUNTIF($D$128:$AA$128,$O$148)*$AB$23","v":0},{"$f":"COUNTIF($D$128:$AA$128,$P$148)*$AB$23","v":0},{"$f":"COUNTIF($D$128:$AA$128,$Q$148)*$AB$23","v":0},{"$f":"COUNTIF($D$128:$AA$128,$R$148)*$AB$23","v":0},{"$f":"COUNTIF($D$128:$AA$128,$S$148)*$AB$23","v":0},{"$f":"COUNTIF($D$128:$AA$128,$T$148)*$AB$23","v":0},{"$f":"COUNTIF($D$128:$AA$128,$U$148)*$AB$23","v":0},{"$f":"COUNTIF($D$128:$AA$128,$V$148)*$AB$23","v":0},{"$f":"COUNTIF($D$128:$AA$128,$W$148)*$AB$23","v":0},{"$f":"COUNTIF($D$128:$AA$128,$X$148)*$AB$23","v":0},{"$f":"COUNTIF($D$128:$AA$128,$Y$148)*$AB$23","v":0},{"$f":"COUNTIF($D$128:$AA$128,$Z$148)*$AB$23","v":0},{"$f":"COUNTIF($D$128:$AA$128,$AA$148)*$AB$23","v":0},{"$f":"COUNTIF($D$128:$AA$128,$AB$148)*$AB$23","v":0},{"$f":"COUNTIF($D$128:$AA$128,$AC$148)*$AB$23","v":0},{"$f":"COUNTIF($D$128:$AA$128,$AD$148)*$AB$23","v":0},{"$f":"COUNTIF($D$128:$AA$128,$AE$148)*$AB$23","v":0},{"$f":"COUNTIF($D$128:$AA$128,$AF$148)*$AB$23","v":0},{"$f":"COUNTIF($D$128:$AA$128,$AG$148)*$AB$23","v":0},{"$f":"COUNTIF($D$128:$AA$128,$AH$148)*$AB$23","v":0},{"$f":"COUNTIF($D$128:$AA$128,$AI$148)*$AB$23","v":0},{"$f":"COUNTIF($D$128:$AA$128,$AJ$148)*$AB$23","v":0},{"$f":"COUNTIF($D$128:$AA$128,$AK$148)*$AB$23","v":0},{"$f":"COUNTIF($D$128:$AA$128,$AL$148)*$AB$23","v":0},{"$f":"COUNTIF($D$128:$AA$128,$AM$148)*$AB$23","v":0},{"$f":"COUNTIF($D$128:$AA$128,$AN$148)*$AB$23","v":0},{"$f":"COUNTIF($D$128:$AA$128,$AO$148)*$AB$23","v":0},{"$f":"COUNTIF($D$128:$AA$128,$AP$148)*$AB$23","v":0},{"$f":"COUNTIF($D$128:$AA$128,$AQ$148)*$AB$23","v":0},{"$f":"COUNTIF($D$128:$AA$128,$AR$148)*$AB$23","v":0},{"$f":"COUNTIF($D$128:$AA$128,$AS$148)*$AB$23","v":0},3,null,0,0,{"$error":"#VALUE!"},0,{"$f":"SUM(AX160:AY160)","v":{"$error":"#VALUE!"}},{"$error":"#VALUE!"},0,{"$f":"SUM(BA160:BB160)","v":{"$error":"#VALUE!"}},{"$error":"#VALUE!"},0,{"$f":"SUM(BD160:BE160)","v":{"$error":"#VALUE!"}},null,{"$error":"#VALUE!"},0,{"$f":"SUM(BH160:BI160)","v":{"$error":"#VALUE!"}},{"$error":"#VALUE!"},0,{"$f":"SUM(BK160:BL160)","v":{"$error":"#VALUE!"}},{"$error":"#VALUE!"},0,{"$f":"SUM(BN160:BO160)","v":{"$error":"#VALUE!"}}]
[null,"tc","冷却運転時間",{"$f":"SUM($D$149:$D$160)","v":0},{"$f":"SUM($E$149:$E$160)","v":0},{"$f":"SUM($F$149:$F$160)","v":0},{"$f":"SUM($G$149:$G$160)","v":0},{"$f":"SUM($H$149:$H$160)","v":0},{"$f":"SUM($I$149:$I$160)","v":0},{"$f":"SUM($J$149:$J$160)","v":0},{"$f":"SUM($K$149:$K$160)","v":0},{"$f":"SUM($L$149:$L$160)","v":0},{"$f":"SUM($M$149:$M$160)","v":0},{"$f":"SUM($N$149:$N$160)","v":0},{"$f":"SUM($O$149:$O$160)","v":0},{"$f":"SUM($P$149:$P$160)","v":0},{"$f":"SUM($Q$149:$Q$160)","v":0},{"$f":"SUM($R$149:$R$160)","v":0},{"$f":"SUM($S$149:$S$160)","v":0},{"$f":"SUM($T$149:$T$160)","v":0},{"$f":"SUM($U$149:$U$160)","v":0},{"$f":"SUM($V$149:$V$160)","v":0},{"$f":"SUM($W$149:$W$160)","v":0},{"$f":"SUM($X$149:$X$160)","v":0},{"$f":"SUM($Y$149:$Y$160)","v":0},{"$f":"SUM($Z$149:$Z$160)","v":0},{"$f":"SUM($AA$149:$AA$160)","v":0},{"$f":"SUM($AB$149:$AB$160)","v":0},{"$f":"SUM($AC$149:$AC$160)","v":0},{"$f":"SUM($AD$149:$AD$160)","v":0},{"$f":"SUM($AE$149:$AE$160)","v":0},{"$f":"SUM($AF$149:$AF$160)","v":0},{"$f":"SUM($AG$149:$AG$160)","v":0},{"$f":"SUM($AH$149:$AH$160)","v":0},{"$f":"SUM($AI$149:$AI$160)","v":0},{"$f":"SUM($AJ$149:$AJ$160)","v":0},{"$f":"SUM($AK$149:$AK$160)","v":0},{"$f":"SUM($AL$149:$AL$160)","v":0},{"$f":"SUM($AM$149:$AM$160)","v":0},{"$f":"SUM($AN$149:$AN$160)","v":0},{"$f":"SUM($AO$149:$AO$160)","v":0},{"$f":"SUM($AP$149:$AP$160)","v":0},{"$f":"SUM($AQ$149:$AQ$160)","v":0},{"$f":"SUM($AR$149:$AR$160)","v":0},{"$f":"SUM($AS$149:$AS$160)","v":0},"冷却運転時間",null,{"$f":"SUM(AV149:AV160)","v":0},{"$f":"SUM(AW149:AW160)","v":0},{"$error":"#VALUE!"},0,{"$error":"#VALUE!"},{"$error":"#VALUE!"},0,{"$error":"#VALUE!"},{"$error":"#VALUE!"},0,{"$error":"#VALUE!"},null,{"$error":"#VALUE!"},{"$f":"SUM(BI149:BI160)","v":0},{"$f":"SUM(BJ149:BJ160)","v":{"$error":"#VALUE!"}},{"$f":"SUM(BK149:BK160)","v":{"$error":"#VALUE!"}},{"$f":"SUM(BL149:BL160)","v":0},{"$f":"SUM(BM149:BM160)","v":{"$error":"#VALUE!"}},{"$f":"SUM(BN149:BN160)","v":{"$error":"#VALUE!"}},{"$f":"SUM(BO149:BO160)","v":0},{"$f":"SUM(BP149:BP160)","v":{"$error":"#VALUE!"}}]
[null,"εc","冷却時消費電力比",{"$f":"$D$163/$D$164","v":0},{"$f":"$E$163/$E$164","v":0},{"$f":"$F$163/$F$164","v":0},{"$f":"$G$163/$G$164","v":0},{"$f":"$H$163/$H$164","v":0},{"$f":"$I$163/$I$164","v":0},{"$f":"$J$163/$J$164","v":0},{"$f":"$K$163/$K$164","v":0},{"$f":"$L$163/$L$164","v":0},{"$f":"$M$163/$M$164","v":0},{"$f":"$N$163/$N$164","v":0},{"$f":"$O$163/$O$164","v":0},{"$f":"$P$163/$P$164","v":0},{"$f":"$Q$163/$Q$164","v":0},{"$f":"$R$163/$R$164","v":0},{"$f":"$S$163/$S$164","v":0},{"$f":"$T$163/$T$164","v":0},{"$f":"$U$163/$U$164","v":0},{"$f":"$V$163/$V$164","v":0},{"$f":"$W$163/$W$164","v":0},{"$f":"$X$163/$X$164","v":0},{"$f":"$Y$163/$Y$164","v":0},{"$f":"$Z$163/$Z$164","v":2.7954950038913257E-2},{"$f":"$AA$163/$AA$164","v":5.7295984754684365E-2},{"$f":"$AB$163/$AB$164","v":8.8117734692774549E-2},{"$f":"$AC$163/$AC$164","v":0.1205235301100922},{"$f":"$AD$163/$AD$164","v":0.15462642256308759},{"$f":"$AE$163/$AE$164","v":0.19055035388376554},{"$f":"$AF$163/$AF$164","v":0.22843149796239107},{"$f":"$AG$163/$AG$164","v":0.26841980589221737},{"$f":"$AH$163/$AH$164","v":0.31068079136611182},{"$f":"$AI$163/$AI$164","v":0.35539760106619284},{"$f":"$AJ$163/$AJ$164","v":0.40277342457005777},{"$f":"$AK$163/$AK$164","v":0.45303431055350984},{"$f":"$AL$163/$AL$164","v":0.50643247151512127},{"$f":"$AM$163/$AM$164","v":0.56325017883193185},{"$f":"$AN$163/$AN$164","v":0.62380437494801644},{"$f":"$AO$163/$AO$164","v":0.68845216161070288},{"$f":"$AP$163/$AP$164","v":0.75759736463072036},{"$f":"$AQ$163/$AQ$164","v":0.83169842984577558},{"$f":"$AR$163/$AR$164","v":0.91127797623387052},{"$f":"$AS$163/$AS$164","v":0.99693442663808818},"冷却時消費電力比"]
[null,"αc","冷却空調負荷率",{"$f":"IF((1/20)*(D$148-35)+1<0,0,IF((1/20)*(D$148-35)+1>1,1,(1/20)*(D$148-35)+1))","v":0},{"$f":"IF((1/20)*(E$148-35)+1<0,0,IF((1/20)*(E$148-35)+1>1,1,(1/20)*(E$148-35)+1))","v":0},{"$f":"IF((1/20)*(F$148-35)+1<0,0,IF((1/20)*(F$148-35)+1>1,1,(1/20)*(F$148-35)+1))","v":0},0,0,0,0,0,0,0,0,0,0,0,0,0,0,0,0,0,0,0,4.9999999999999933E-2,9.9999999999999978E-2,0.14999999999999991,0.19999999999999996,{"$f":"IF((1/20)*(AD$148-35)+1<0,0,IF((1/20)*(AD$148-35)+1>1,1,(1/20)*(AD$148-35)+1))","v":0.25},0.29999999999999993,0.35,0.39999999999999991,0.44999999999999996,0.5,0.55000000000000004,0.6,0.64999999999999991,0.7,0.75,0.8,0.85,0.9,0.95,{"$f":"IF((1/20)*(AS$148-35)+1<0,0,IF((1/20)*(AS$148-35)+1>1,1,(1/20)*(AS$148-35)+1))","v":1},"冷却空調負荷率"]
[null,"βc","冷却COP比",{"$f":"1.07/10000*D$148*D$148-0.0468*D$148+2.51","v":2.7946519999999997},{"$f":"1.07/10000*E$148*E$148-0.0468*E$148+2.51","v":2.7466749999999998},2.698912,2.6513629999999999,2.6040279999999996,2.5569069999999998,2.5099999999999998,2.4633069999999999,2.4168279999999998,2.3705629999999998,2.3245119999999999,2.2786749999999998,2.2330519999999998,2.1876429999999996,2.1424479999999999,2.097467,2.0526999999999997,2.0081469999999997,1.9638079999999998,1.9196829999999996,1.8757719999999998,1.8320749999999997,1.7885919999999997,1.745323,1.7022679999999997,1.6594269999999998,1.6167999999999998,1.5743869999999998,1.5321879999999997,1.4902029999999997,1.4484319999999997,1.4068749999999999,1.3655319999999997,1.3244029999999998,1.2834879999999997,1.2427869999999999,1.2022999999999997,1.1620269999999997,1.1219679999999999,1.0821229999999997,1.0424919999999998,1.0030749999999997,"冷却COP比"]
[null,null,"Σ",{"$f":"$D$161*$D$162","v":0},{"$f":"$E$161*$E$162","v":0},{"$f":"$F$161*$F$162","v":0},{"$f":"$G$161*$G$162","v":0},{"$f":"$H$161*$H$162","v":0},{"$f":"$I$161*$I$162","v":0},{"$f":"$J$161*$J$162","v":0},{"$f":"$K$161*$K$162","v":0},{"$f":"$L$161*$L$162","v":0},{"$f":"$M$161*$M$162","v":0},{"$f":"$N$161*$N$162","v":0},{"$f":"$O$161*$O$162","v":0},{"$f":"$P$161*$P$162","v":0},{"$f":"$Q$161*$Q$162","v":0},{"$f":"$R$161*$R$162","v":0},{"$f":"$S$161*$S$162","v":0},{"$f":"$T$161*$T$162","v":0},{"$f":"$U$161*$U$162","v":0},{"$f":"$V$161*$V$162","v":0},{"$f":"$W$161*$W$162","v":0},{"$f":"$X$161*$X$162","v":0},{"$f":"$Y$161*$Y$162","v":0},{"$f":"$Z$161*$Z$162","v":0},{"$f":"$AA$161*$AA$162","v":0},{"$f":"$AB$161*$AB$162","v":0},{"$f":"$AC$161*$AC$162","v":0},{"$f":"$AD$161*$AD$162","v":0},{"$f":"$AE$161*$AE$162","v":0},{"$f":"$AF$161*$AF$162","v":0},{"$f":"$AG$161*$AG$162","v":0},{"$f":"$AH$161*$AH$162","v":0},{"$f":"$AI$161*$AI$162","v":0},{"$f":"$AJ$161*$AJ$162","v":0},{"$f":"$AK$161*$AK$162","v":0},{"$f":"$AL$161*$AL$162","v":0},{"$f":"$AM$161*$AM$162","v":0},{"$f":"$AN$161*$AN$162","v":0},{"$f":"$AO$161*$AO$162","v":0},{"$f":"$AP$161*$AP$162","v":0},{"$f":"$AQ$161*$AQ$162","v":0},{"$f":"$AR$161*$AR$162","v":0},{"$f":"$AS$161*$AS$162","v":0},{"$f":"SUM($D$165:$AS$165)","v":0}]
[]
[null,null,"加熱期間中　外気温度(T)が発生する時間[hour]"]
[null,null,null," 外気温度(T)",null,null,null,null,null,null,null,null,null,null,null,null,null,null,null,null,null,null,null,null,null,null,null,null,null,null,null,null,null,null,null,null,null,null,null,null,null,null,null,null,null,null,"月単位","共通","共通","前1",null,null,"前2",null,null,"前3",null,null,null,"後1",null,null,"後2",null,null,"後3"]
[null,null,"月",-6,-5,-4,-3,-2,-1,0,1,2,3,4,5,6,7,8,9,10,11,12,13,14,15,16,17,18,19,20,21,22,23,24,25,26,27,28,29,30,31,32,33,34,35,"月",null,"EwwのΣ","EaxwのΣ","Eww","Eaxw","Ew","Eww","Eaxw","Ew","Eww","Eaxw","Ew",null,"Eww","Eaxw","Ew","Eww","Eaxw","Ew","Eww","Eaxw","Ew"]
[null,null,4,{"$f":"COUNTIF($D$133:$AA$133,$D$169)*$AB$12","v":0},{"$f":"COUNTIF($D$133:$AA$133,$E$169)*$AB$12","v":0},{"$f":"COUNTIF($D$133:$AA$133,$F$169)*$AB$12","v":0},{"$f":"COUNTIF($D$133:$AA$133,$G$169)*$AB$12","v":0},{"$f":"COUNTIF($D$133:$AA$133,$H$169)*$AB$12","v":0},{"$f":"COUNTIF($D$133:$AA$133,$I$169)*$AB$12","v":0},{"$f":"COUNTIF($D$133:$AA$133,$J$169)*$AB$12","v":0},{"$f":"COUNTIF($D$133:$AA$133,$K$169)*$AB$12","v":0},{"$f":"COUNTIF($D$133:$AA$133,$L$169)*$AB$12","v":0},{"$f":"COUNTIF($D$133:$AA$133,$M$169)*$AB$12","v":0},{"$f":"COUNTIF($D$133:$AA$133,$N$169)*$AB$12","v":0},{"$f":"COUNTIF($D$133:$AA$133,$O$169)*$AB$12","v":0},{"$f":"COUNTIF($D$133:$AA$133,$P$169)*$AB$12","v":0},{"$f":"COUNTIF($D$133:$AA$133,$Q$169)*$AB$12","v":0},{"$f":"COUNTIF($D$133:$AA$133,$R$169)*$AB$12","v":0},{"$f":"COUNTIF($D$133:$AA$133,$S$169)*$AB$12","v":0},{"$f":"COUNTIF($D$133:$AA$133,$T$169)*$AB$12","v":0},{"$f":"COUNTIF($D$133:$AA$133,$U$169)*$AB$12","v":0},{"$f":"COUNTIF($D$133:$AA$133,$V$169)*$AB$12","v":0},{"$f":"COUNTIF($D$133:$AA$133,$W$169)*$AB$12","v":0},{"$f":"COUNTIF($D$133:$AA$133,$X$169)*$AB$12","v":0},{"$f":"COUNTIF($D$133:$AA$133,$Y$169)*$AB$12","v":0},{"$f":"COUNTIF($D$133:$AA$133,$Z$169)*$AB$12","v":0},{"$f":"COUNTIF($D$133:$AA$133,$AA$169)*$AB$12","v":0},{"$f":"COUNTIF($D$133:$AA$133,$AB$169)*$AB$12","v":0},{"$f":"COUNTIF($D$133:$AA$133,$AC$169)*$AB$12","v":0},{"$f":"COUNTIF($D$133:$AA$133,$AD$169)*$AB$12","v":0},{"$f":"COUNTIF($D$133:$AA$133,$AE$169)*$AB$12","v":0},{"$f":"COUNTIF($D$133:$AA$133,$AF$169)*$AB$12","v":0},{"$f":"COUNTIF($D$133:$AA$133,$AG$169)*$AB$12","v":0},{"$f":"COUNTIF($D$133:$AA$133,$AH$169)*$AB$12","v":0},{"$f":"COUNTIF($D$133:$AA$133,$AI$169)*$AB$12","v":0},{"$f":"COUNTIF($D$133:$AA$133,$AJ$169)*$AB$12","v":0},{"$f":"COUNTIF($D$133:$AA$133,$AK$169)*$AB$12","v":0},{"$f":"COUNTIF($D$133:$AA$133,$AL$169)*$AB$12","v":0},{"$f":"COUNTIF($D$133:$AA$133,$AM$169)*$AB$12","v":0},{"$f":"COUNTIF($D$133:$AA$133,$AN$169)*$AB$12","v":0},{"$f":"COUNTIF($D$133:$AA$133,$AO$169)*$AB$12","v":0},{"$f":"COUNTIF($D$133:$AA$133,$AP$169)*$AB$12","v":0},{"$f":"COUNTIF($D$133:$AA$133,$AQ$169)*$AB$12","v":0},{"$f":"COUNTIF($D$133:$AA$133,$AR$169)*$AB$12","v":0},{"$f":"COUNTIF($D$133:$AA$133,$AS$169)*$AB$12","v":0},4,null,{"$f":"SUMPRODUCT(D170:AS170,$D$183:$AS$183)","v":0},{"$f":"SUMPRODUCT(D170:AS170,$D$192:$AS$192)","v":0},{"$f":"$Q$29/$Q$35*$AV170","v":0},{"$f":"$Q$36*$AW170","v":0},{"$f":"SUM(AX170:AY170)","v":0},{"$f":"$R$29/$R$35*$AV170","v":{"$error":"#VALUE!"}},{"$f":"$R$36*$AW170","v":0},{"$f":"SUM(BA170:BB170)","v":{"$error":"#VALUE!"}},{"$f":"$S$29/$S$35*$AV170","v":{"$error":"#VALUE!"}},{"$f":"$S$36*$AW170","v":0},{"$f":"SUM(BD170:BE170)","v":{"$error":"#VALUE!"}},null,{"$f":"$Q$43/$Q$49*$AV170","v":{"$error":"#VALUE!"}},{"$f":"$Q$50*$AW170","v":0},{"$f":"SUM(BH170:BI170)","v":{"$error":"#VALUE!"}},{"$f":"$R$43/$R$49*$AV170","v":{"$error":"#VALUE!"}},{"$f":"$R$50*$AW170","v":0},{"$f":"SUM(BK170:BL170)","v":{"$error":"#VALUE!"}},{"$f":"$S$43/$S$49*$AV170","v":{"$error":"#VALUE!"}},{"$f":"$S$50*$AW170","v":0},{"$f":"SUM(BN170:BO170)","v":{"$error":"#VALUE!"}}]
[null,null,5,{"$f":"COUNTIF($D$134:$AA$134,$D$169)*$AB$13","v":0},{"$f":"COUNTIF($D$134:$AA$134,$E$169)*$AB$13","v":0},{"$f":"COUNTIF($D$134:$AA$134,$F$169)*$AB$13","v":0},{"$f":"COUNTIF($D$134:$AA$134,$G$169)*$AB$13","v":0},{"$f":"COUNTIF($D$134:$AA$134,$H$169)*$AB$13","v":0},{"$f":"COUNTIF($D$134:$AA$134,$I$169)*$AB$13","v":0},{"$f":"COUNTIF($D$134:$AA$134,$J$169)*$AB$13","v":0},{"$f":"COUNTIF($D$134:$AA$134,$K$169)*$AB$13","v":0},{"$f":"COUNTIF($D$134:$AA$134,$L$169)*$AB$13","v":0},{"$f":"COUNTIF($D$134:$AA$134,$M$169)*$AB$13","v":0},{"$f":"COUNTIF($D$134:$AA$134,$N$169)*$AB$13","v":0},{"$f":"COUNTIF($D$134:$AA$134,$O$169)*$AB$13","v":0},{"$f":"COUNTIF($D$134:$AA$134,$P$169)*$AB$13","v":0},{"$f":"COUNTIF($D$134:$AA$134,$Q$169)*$AB$13","v":0},{"$f":"COUNTIF($D$134:$AA$134,$R$169)*$AB$13","v":0},{"$f":"COUNTIF($D$134:$AA$134,$S$169)*$AB$13","v":0},{"$f":"COUNTIF($D$134:$AA$134,$T$169)*$AB$13","v":0},{"$f":"COUNTIF($D$134:$AA$134,$U$169)*$AB$13","v":0},{"$f":"COUNTIF($D$134:$AA$134,$V$169)*$AB$13","v":0},{"$f":"COUNTIF($D$134:$AA$134,$W$169)*$AB$13","v":0},{"$f":"COUNTIF($D$134:$AA$134,$X$169)*$AB$13","v":0},{"$f":"COUNTIF($D$134:$AA$134,$Y$169)*$AB$13","v":0},{"$f":"COUNTIF($D$134:$AA$134,$Z$169)*$AB$13","v":0},{"$f":"COUNTIF($D$134:$AA$134,$AA$169)*$AB$13","v":0},{"$f":"COUNTIF($D$134:$AA$134,$AB$169)*$AB$13","v":0},{"$f":"COUNTIF($D$134:$AA$134,$AC$169)*$AB$13","v":0},{"$f":"COUNTIF($D$134:$AA$134,$AD$169)*$AB$13","v":0},{"$f":"COUNTIF($D$134:$AA$134,$AE$169)*$AB$13","v":0},{"$f":"COUNTIF($D$134:$AA$134,$AF$169)*$AB$13","v":0},{"$f":"COUNTIF($D$134:$AA$134,$AG$169)*$AB$13","v":0},{"$f":"COUNTIF($D$134:$AA$134,$AH$169)*$AB$13","v":0},{"$f":"COUNTIF($D$134:$AA$134,$AI$169)*$AB$13","v":0},{"$f":"COUNTIF($D$134:$AA$134,$AJ$169)*$AB$13","v":0},{"$f":"COUNTIF($D$134:$AA$134,$AK$169)*$AB$13","v":0},{"$f":"COUNTIF($D$134:$AA$134,$AL$169)*$AB$13","v":0},{"$f":"COUNTIF($D$134:$AA$134,$AM$169)*$AB$13","v":0},{"$f":"COUNTIF($D$134:$AA$134,$AN$169)*$AB$13","v":0},{"$f":"COUNTIF($D$134:$AA$134,$AO$169)*$AB$13","v":0},{"$f":"COUNTIF($D$134:$AA$134,$AP$169)*$AB$13","v":0},{"$f":"COUNTIF($D$134:$AA$134,$AQ$169)*$AB$13","v":0},{"$f":"COUNTIF($D$134:$AA$134,$AR$169)*$AB$13","v":0},{"$f":"COUNTIF($D$134:$AA$134,$AS$169)*$AB$13","v":0},5,null,{"$f":"SUMPRODUCT(D171:AS171,$D$183:$AS$183)","v":0},{"$f":"SUMPRODUCT(D171:AS171,$D$192:$AS$192)","v":0},{"$f":"$Q$29/$Q$35*$AV171","v":0},{"$f":"$Q$36*$AW171","v":0},{"$f":"SUM(AX171:AY171)","v":0},{"$f":"$R$29/$R$35*$AV171","v":{"$error":"#VALUE!"}},{"$f":"$R$36*$AW171","v":0},{"$f":"SUM(BA171:BB171)","v":{"$error":"#VALUE!"}},{"$f":"$S$29/$S$35*$AV171","v":{"$error":"#VALUE!"}},{"$f":"$S$36*$AW171","v":0},{"$f":"SUM(BD171:BE171)","v":{"$error":"#VALUE!"}},null,{"$f":"$Q$43/$Q$49*$AV171","v":{"$error":"#VALUE!"}},{"$f":"$Q$50*$AW171","v":0},{"$f":"SUM(BH171:BI171)","v":{"$error":"#VALUE!"}},{"$f":"$R$43/$R$49*$AV171","v":{"$error":"#VALUE!"}},{"$f":"$R$50*$AW171","v":0},{"$f":"SUM(BK171:BL171)","v":{"$error":"#VALUE!"}},{"$f":"$S$43/$S$49*$AV171","v":{"$error":"#VALUE!"}},{"$f":"$S$50*$AW171","v":0},{"$f":"SUM(BN171:BO171)","v":{"$error":"#VALUE!"}}]
[null,null,6,{"$f":"COUNTIF($D$135:$AA$135,$D$169)*$AB$14","v":0},{"$f":"COUNTIF($D$135:$AA$135,$E$169)*$AB$14","v":0},{"$f":"COUNTIF($D$135:$AA$135,$F$169)*$AB$14","v":0},{"$f":"COUNTIF($D$135:$AA$135,$G$169)*$AB$14","v":0},{"$f":"COUNTIF($D$135:$AA$135,$H$169)*$AB$14","v":0},{"$f":"COUNTIF($D$135:$AA$135,$I$169)*$AB$14","v":0},{"$f":"COUNTIF($D$135:$AA$135,$J$169)*$AB$14","v":0},{"$f":"COUNTIF($D$135:$AA$135,$K$169)*$AB$14","v":0},{"$f":"COUNTIF($D$135:$AA$135,$L$169)*$AB$14","v":0},{"$f":"COUNTIF($D$135:$AA$135,$M$169)*$AB$14","v":0},{"$f":"COUNTIF($D$135:$AA$135,$N$169)*$AB$14","v":0},{"$f":"COUNTIF($D$135:$AA$135,$O$169)*$AB$14","v":0},{"$f":"COUNTIF($D$135:$AA$135,$P$169)*$AB$14","v":0},{"$f":"COUNTIF($D$135:$AA$135,$Q$169)*$AB$14","v":0},{"$f":"COUNTIF($D$135:$AA$135,$R$169)*$AB$14","v":0},{"$f":"COUNTIF($D$135:$AA$135,$S$169)*$AB$14","v":0},{"$f":"COUNTIF($D$135:$AA$135,$T$169)*$AB$14","v":0},{"$f":"COUNTIF($D$135:$AA$135,$U$169)*$AB$14","v":0},{"$f":"COUNTIF($D$135:$AA$135,$V$169)*$AB$14","v":0},{"$f":"COUNTIF($D$135:$AA$135,$W$169)*$AB$14","v":0},{"$f":"COUNTIF($D$135:$AA$135,$X$169)*$AB$14","v":0},{"$f":"COUNTIF($D$135:$AA$135,$Y$169)*$AB$14","v":0},{"$f":"COUNTIF($D$135:$AA$135,$Z$169)*$AB$14","v":0},{"$f":"COUNTIF($D$135:$AA$135,$AA$169)*$AB$14","v":0},{"$f":"COUNTIF($D$135:$AA$135,$AB$169)*$AB$14","v":0},{"$f":"COUNTIF($D$135:$AA$135,$AC$169)*$AB$14","v":0},{"$f":"COUNTIF($D$135:$AA$135,$AD$169)*$AB$14","v":0},{"$f":"COUNTIF($D$135:$AA$135,$AE$169)*$AB$14","v":0},{"$f":"COUNTIF($D$135:$AA$135,$AF$169)*$AB$14","v":0},{"$f":"COUNTIF($D$135:$AA$135,$AG$169)*$AB$14","v":0},{"$f":"COUNTIF($D$135:$AA$135,$AH$169)*$AB$14","v":0},{"$f":"COUNTIF($D$135:$AA$135,$AI$169)*$AB$14","v":0},{"$f":"COUNTIF($D$135:$AA$135,$AJ$169)*$AB$14","v":0},{"$f":"COUNTIF($D$135:$AA$135,$AK$169)*$AB$14","v":0},{"$f":"COUNTIF($D$135:$AA$135,$AL$169)*$AB$14","v":0},{"$f":"COUNTIF($D$135:$AA$135,$AM$169)*$AB$14","v":0},{"$f":"COUNTIF($D$135:$AA$135,$AN$169)*$AB$14","v":0},{"$f":"COUNTIF($D$135:$AA$135,$AO$169)*$AB$14","v":0},{"$f":"COUNTIF($D$135:$AA$135,$AP$169)*$AB$14","v":0},{"$f":"COUNTIF($D$135:$AA$135,$AQ$169)*$AB$14","v":0},{"$f":"COUNTIF($D$135:$AA$135,$AR$169)*$AB$14","v":0},{"$f":"COUNTIF($D$135:$AA$135,$AS$169)*$AB$14","v":0},6,null,0,0,0,0,0,{"$error":"#VALUE!"},0,{"$error":"#VALUE!"},{"$error":"#VALUE!"},0,{"$error":"#VALUE!"},null,{"$error":"#VALUE!"},0,{"$error":"#VALUE!"},{"$error":"#VALUE!"},0,{"$error":"#VALUE!"},{"$error":"#VALUE!"},0,{"$error":"#VALUE!"}]
[null,null,7,{"$f":"COUNTIF($D$136:$AA$136,$D$169)*$AB$15","v":0},{"$f":"COUNTIF($D$136:$AA$136,$E$169)*$AB$15","v":0},{"$f":"COUNTIF($D$136:$AA$136,$F$169)*$AB$15","v":0},{"$f":"COUNTIF($D$136:$AA$136,$G$169)*$AB$15","v":0},{"$f":"COUNTIF($D$136:$AA$136,$H$169)*$AB$15","v":0},{"$f":"COUNTIF($D$136:$AA$136,$I$169)*$AB$15","v":0},{"$f":"COUNTIF($D$136:$AA$136,$J$169)*$AB$15","v":0},{"$f":"COUNTIF($D$136:$AA$136,$K$169)*$AB$15","v":0},{"$f":"COUNTIF($D$136:$AA$136,$L$169)*$AB$15","v":0},{"$f":"COUNTIF($D$136:$AA$136,$M$169)*$AB$15","v":0},{"$f":"COUNTIF($D$136:$AA$136,$N$169)*$AB$15","v":0},{"$f":"COUNTIF($D$136:$AA$136,$O$169)*$AB$15","v":0},{"$f":"COUNTIF($D$136:$AA$136,$P$169)*$AB$15","v":0},{"$f":"COUNTIF($D$136:$AA$136,$Q$169)*$AB$15","v":0},{"$f":"COUNTIF($D$136:$AA$136,$R$169)*$AB$15","v":0},{"$f":"COUNTIF($D$136:$AA$136,$S$169)*$AB$15","v":0},{"$f":"COUNTIF($D$136:$AA$136,$T$169)*$AB$15","v":0},{"$f":"COUNTIF($D$136:$AA$136,$U$169)*$AB$15","v":0},{"$f":"COUNTIF($D$136:$AA$136,$V$169)*$AB$15","v":0},{"$f":"COUNTIF($D$136:$AA$136,$W$169)*$AB$15","v":0},{"$f":"COUNTIF($D$136:$AA$136,$X$169)*$AB$15","v":0},{"$f":"COUNTIF($D$136:$AA$136,$Y$169)*$AB$15","v":0},{"$f":"COUNTIF($D$136:$AA$136,$Z$169)*$AB$15","v":0},{"$f":"COUNTIF($D$136:$AA$136,$AA$169)*$AB$15","v":0},{"$f":"COUNTIF($D$136:$AA$136,$AB$169)*$AB$15","v":0},{"$f":"COUNTIF($D$136:$AA$136,$AC$169)*$AB$15","v":0},{"$f":"COUNTIF($D$136:$AA$136,$AD$169)*$AB$15","v":0},{"$f":"COUNTIF($D$136:$AA$136,$AE$169)*$AB$15","v":0},{"$f":"COUNTIF($D$136:$AA$136,$AF$169)*$AB$15","v":0},{"$f":"COUNTIF($D$136:$AA$136,$AG$169)*$AB$15","v":0},{"$f":"COUNTIF($D$136:$AA$136,$AH$169)*$AB$15","v":0},{"$f":"COUNTIF($D$136:$AA$136,$AI$169)*$AB$15","v":0},{"$f":"COUNTIF($D$136:$AA$136,$AJ$169)*$AB$15","v":0},{"$f":"COUNTIF($D$136:$AA$136,$AK$169)*$AB$15","v":0},{"$f":"COUNTIF($D$136:$AA$136,$AL$169)*$AB$15","v":0},{"$f":"COUNTIF($D$136:$AA$136,$AM$169)*$AB$15","v":0},{"$f":"COUNTIF($D$136:$AA$136,$AN$169)*$AB$15","v":0},{"$f":"COUNTIF($D$136:$AA$136,$AO$169)*$AB$15","v":0},{"$f":"COUNTIF($D$136:$AA$136,$AP$169)*$AB$15","v":0},{"$f":"COUNTIF($D$136:$AA$136,$AQ$169)*$AB$15","v":0},{"$f":"COUNTIF($D$136:$AA$136,$AR$169)*$AB$15","v":0},{"$f":"COUNTIF($D$136:$AA$136,$AS$169)*$AB$15","v":0},7,null,0,0,0,0,0,{"$error":"#VALUE!"},0,{"$error":"#VALUE!"},{"$error":"#VALUE!"},0,{"$error":"#VALUE!"},null,{"$error":"#VALUE!"},0,{"$error":"#VALUE!"},{"$error":"#VALUE!"},0,{"$error":"#VALUE!"},{"$error":"#VALUE!"},0,{"$error":"#VALUE!"}]
[null,null,8,{"$f":"COUNTIF($D$137:$AA$137,$D$169)*$AB$16","v":0},{"$f":"COUNTIF($D$137:$AA$137,$E$169)*$AB$16","v":0},{"$f":"COUNTIF($D$137:$AA$137,$F$169)*$AB$16","v":0},{"$f":"COUNTIF($D$137:$AA$137,$G$169)*$AB$16","v":0},{"$f":"COUNTIF($D$137:$AA$137,$H$169)*$AB$16","v":0},{"$f":"COUNTIF($D$137:$AA$137,$I$169)*$AB$16","v":0},{"$f":"COUNTIF($D$137:$AA$137,$J$169)*$AB$16","v":0},{"$f":"COUNTIF($D$137:$AA$137,$K$169)*$AB$16","v":0},{"$f":"COUNTIF($D$137:$AA$137,$L$169)*$AB$16","v":0},{"$f":"COUNTIF($D$137:$AA$137,$M$169)*$AB$16","v":0},{"$f":"COUNTIF($D$137:$AA$137,$N$169)*$AB$16","v":0},{"$f":"COUNTIF($D$137:$AA$137,$O$169)*$AB$16","v":0},{"$f":"COUNTIF($D$137:$AA$137,$P$169)*$AB$16","v":0},{"$f":"COUNTIF($D$137:$AA$137,$Q$169)*$AB$16","v":0},{"$f":"COUNTIF($D$137:$AA$137,$R$169)*$AB$16","v":0},{"$f":"COUNTIF($D$137:$AA$137,$S$169)*$AB$16","v":0},{"$f":"COUNTIF($D$137:$AA$137,$T$169)*$AB$16","v":0},{"$f":"COUNTIF($D$137:$AA$137,$U$169)*$AB$16","v":0},{"$f":"COUNTIF($D$137:$AA$137,$V$169)*$AB$16","v":0},{"$f":"COUNTIF($D$137:$AA$137,$W$169)*$AB$16","v":0},{"$f":"COUNTIF($D$137:$AA$137,$X$169)*$AB$16","v":0},{"$f":"COUNTIF($D$137:$AA$137,$Y$169)*$AB$16","v":0},{"$f":"COUNTIF($D$137:$AA$137,$Z$169)*$AB$16","v":0},{"$f":"COUNTIF($D$137:$AA$137,$AA$169)*$AB$16","v":0},{"$f":"COUNTIF($D$137:$AA$137,$AB$169)*$AB$16","v":0},{"$f":"COUNTIF($D$137:$AA$137,$AC$169)*$AB$16","v":0},{"$f":"COUNTIF($D$137:$AA$137,$AD$169)*$AB$16","v":0},{"$f":"COUNTIF($D$137:$AA$137,$AE$169)*$AB$16","v":0},{"$f":"COUNTIF($D$137:$AA$137,$AF$169)*$AB$16","v":0},{"$f":"COUNTIF($D$137:$AA$137,$AG$169)*$AB$16","v":0},{"$f":"COUNTIF($D$137:$AA$137,$AH$169)*$AB$16","v":0},{"$f":"COUNTIF($D$137:$AA$137,$AI$169)*$AB$16","v":0},{"$f":"COUNTIF($D$137:$AA$137,$AJ$169)*$AB$16","v":0},{"$f":"COUNTIF($D$137:$AA$137,$AK$169)*$AB$16","v":0},{"$f":"COUNTIF($D$137:$AA$137,$AL$169)*$AB$16","v":0},{"$f":"COUNTIF($D$137:$AA$137,$AM$169)*$AB$16","v":0},{"$f":"COUNTIF($D$137:$AA$137,$AN$169)*$AB$16","v":0},{"$f":"COUNTIF($D$137:$AA$137,$AO$169)*$AB$16","v":0},{"$f":"COUNTIF($D$137:$AA$137,$AP$169)*$AB$16","v":0},{"$f":"COUNTIF($D$137:$AA$137,$AQ$169)*$AB$16","v":0},{"$f":"COUNTIF($D$137:$AA$137,$AR$169)*$AB$16","v":0},{"$f":"COUNTIF($D$137:$AA$137,$AS$169)*$AB$16","v":0},8,null,0,0,0,0,0,{"$error":"#VALUE!"},0,{"$error":"#VALUE!"},{"$error":"#VALUE!"},0,{"$error":"#VALUE!"},null,{"$error":"#VALUE!"},0,{"$error":"#VALUE!"},{"$error":"#VALUE!"},0,{"$error":"#VALUE!"},{"$error":"#VALUE!"},0,{"$error":"#VALUE!"}]
[null,null,9,{"$f":"COUNTIF($D$138:$AA$138,$D$169)*$AB$17","v":0},{"$f":"COUNTIF($D$138:$AA$138,$E$169)*$AB$17","v":0},{"$f":"COUNTIF($D$138:$AA$138,$F$169)*$AB$17","v":0},{"$f":"COUNTIF($D$138:$AA$138,$G$169)*$AB$17","v":0},{"$f":"COUNTIF($D$138:$AA$138,$H$169)*$AB$17","v":0},{"$f":"COUNTIF($D$138:$AA$138,$I$169)*$AB$17","v":0},{"$f":"COUNTIF($D$138:$AA$138,$J$169)*$AB$17","v":0},{"$f":"COUNTIF($D$138:$AA$138,$K$169)*$AB$17","v":0},{"$f":"COUNTIF($D$138:$AA$138,$L$169)*$AB$17","v":0},{"$f":"COUNTIF($D$138:$AA$138,$M$169)*$AB$17","v":0},{"$f":"COUNTIF($D$138:$AA$138,$N$169)*$AB$17","v":0},{"$f":"COUNTIF($D$138:$AA$138,$O$169)*$AB$17","v":0},{"$f":"COUNTIF($D$138:$AA$138,$P$169)*$AB$17","v":0},{"$f":"COUNTIF($D$138:$AA$138,$Q$169)*$AB$17","v":0},{"$f":"COUNTIF($D$138:$AA$138,$R$169)*$AB$17","v":0},{"$f":"COUNTIF($D$138:$AA$138,$S$169)*$AB$17","v":0},{"$f":"COUNTIF($D$138:$AA$138,$T$169)*$AB$17","v":0},{"$f":"COUNTIF($D$138:$AA$138,$U$169)*$AB$17","v":0},{"$f":"COUNTIF($D$138:$AA$138,$V$169)*$AB$17","v":0},{"$f":"COUNTIF($D$138:$AA$138,$W$169)*$AB$17","v":0},{"$f":"COUNTIF($D$138:$AA$138,$X$169)*$AB$17","v":0},{"$f":"COUNTIF($D$138:$AA$138,$Y$169)*$AB$17","v":0},{"$f":"COUNTIF($D$138:$AA$138,$Z$169)*$AB$17","v":0},{"$f":"COUNTIF($D$138:$AA$138,$AA$169)*$AB$17","v":0},{"$f":"COUNTIF($D$138:$AA$138,$AB$169)*$AB$17","v":0},{"$f":"COUNTIF($D$138:$AA$138,$AC$169)*$AB$17","v":0},{"$f":"COUNTIF($D$138:$AA$138,$AD$169)*$AB$17","v":0},{"$f":"COUNTIF($D$138:$AA$138,$AE$169)*$AB$17","v":0},{"$f":"COUNTIF($D$138:$AA$138,$AF$169)*$AB$17","v":0},{"$f":"COUNTIF($D$138:$AA$138,$AG$169)*$AB$17","v":0},{"$f":"COUNTIF($D$138:$AA$138,$AH$169)*$AB$17","v":0},{"$f":"COUNTIF($D$138:$AA$138,$AI$169)*$AB$17","v":0},{"$f":"COUNTIF($D$138:$AA$138,$AJ$169)*$AB$17","v":0},{"$f":"COUNTIF($D$138:$AA$138,$AK$169)*$AB$17","v":0},{"$f":"COUNTIF($D$138:$AA$138,$AL$169)*$AB$17","v":0},{"$f":"COUNTIF($D$138:$AA$138,$AM$169)*$AB$17","v":0},{"$f":"COUNTIF($D$138:$AA$138,$AN$169)*$AB$17","v":0},{"$f":"COUNTIF($D$138:$AA$138,$AO$169)*$AB$17","v":0},{"$f":"COUNTIF($D$138:$AA$138,$AP$169)*$AB$17","v":0},{"$f":"COUNTIF($D$138:$AA$138,$AQ$169)*$AB$17","v":0},{"$f":"COUNTIF($D$138:$AA$138,$AR$169)*$AB$17","v":0},{"$f":"COUNTIF($D$138:$AA$138,$AS$169)*$AB$17","v":0},9,null,0,0,0,0,0,{"$error":"#VALUE!"},0,{"$error":"#VALUE!"},{"$error":"#VALUE!"},0,{"$error":"#VALUE!"},null,{"$error":"#VALUE!"},0,{"$error":"#VALUE!"},{"$error":"#VALUE!"},0,{"$error":"#VALUE!"},{"$error":"#VALUE!"},0,{"$error":"#VALUE!"}]
[null,null,10,{"$f":"COUNTIF($D$139:$AA$139,$D$169)*$AB$18","v":0},{"$f":"COUNTIF($D$139:$AA$139,$E$169)*$AB$18","v":0},{"$f":"COUNTIF($D$139:$AA$139,$F$169)*$AB$18","v":0},{"$f":"COUNTIF($D$139:$AA$139,$G$169)*$AB$18","v":0},{"$f":"COUNTIF($D$139:$AA$139,$H$169)*$AB$18","v":0},{"$f":"COUNTIF($D$139:$AA$139,$I$169)*$AB$18","v":0},{"$f":"COUNTIF($D$139:$AA$139,$J$169)*$AB$18","v":0},{"$f":"COUNTIF($D$139:$AA$139,$K$169)*$AB$18","v":0},{"$f":"COUNTIF($D$139:$AA$139,$L$169)*$AB$18","v":0},{"$f":"COUNTIF($D$139:$AA$139,$M$169)*$AB$18","v":0},{"$f":"COUNTIF($D$139:$AA$139,$N$169)*$AB$18","v":0},{"$f":"COUNTIF($D$139:$AA$139,$O$169)*$AB$18","v":0},{"$f":"COUNTIF($D$139:$AA$139,$P$169)*$AB$18","v":0},{"$f":"COUNTIF($D$139:$AA$139,$Q$169)*$AB$18","v":0},{"$f":"COUNTIF($D$139:$AA$139,$R$169)*$AB$18","v":0},{"$f":"COUNTIF($D$139:$AA$139,$S$169)*$AB$18","v":0},{"$f":"COUNTIF($D$139:$AA$139,$T$169)*$AB$18","v":0},{"$f":"COUNTIF($D$139:$AA$139,$U$169)*$AB$18","v":0},{"$f":"COUNTIF($D$139:$AA$139,$V$169)*$AB$18","v":0},{"$f":"COUNTIF($D$139:$AA$139,$W$169)*$AB$18","v":0},{"$f":"COUNTIF($D$139:$AA$139,$X$169)*$AB$18","v":0},{"$f":"COUNTIF($D$139:$AA$139,$Y$169)*$AB$18","v":0},{"$f":"COUNTIF($D$139:$AA$139,$Z$169)*$AB$18","v":0},{"$f":"COUNTIF($D$139:$AA$139,$AA$169)*$AB$18","v":0},{"$f":"COUNTIF($D$139:$AA$139,$AB$169)*$AB$18","v":0},{"$f":"COUNTIF($D$139:$AA$139,$AC$169)*$AB$18","v":0},{"$f":"COUNTIF($D$139:$AA$139,$AD$169)*$AB$18","v":0},{"$f":"COUNTIF($D$139:$AA$139,$AE$169)*$AB$18","v":0},{"$f":"COUNTIF($D$139:$AA$139,$AF$169)*$AB$18","v":0},{"$f":"COUNTIF($D$139:$AA$139,$AG$169)*$AB$18","v":0},{"$f":"COUNTIF($D$139:$AA$139,$AH$169)*$AB$18","v":0},{"$f":"COUNTIF($D$139:$AA$139,$AI$169)*$AB$18","v":0},{"$f":"COUNTIF($D$139:$AA$139,$AJ$169)*$AB$18","v":0},{"$f":"COUNTIF($D$139:$AA$139,$AK$169)*$AB$18","v":0},{"$f":"COUNTIF($D$139:$AA$139,$AL$169)*$AB$18","v":0},{"$f":"COUNTIF($D$139:$AA$139,$AM$169)*$AB$18","v":0},{"$f":"COUNTIF($D$139:$AA$139,$AN$169)*$AB$18","v":0},{"$f":"COUNTIF($D$139:$AA$139,$AO$169)*$AB$18","v":0},{"$f":"COUNTIF($D$139:$AA$139,$AP$169)*$AB$18","v":0},{"$f":"COUNTIF($D$139:$AA$139,$AQ$169)*$AB$18","v":0},{"$f":"COUNTIF($D$139:$AA$139,$AR$169)*$AB$18","v":0},{"$f":"COUNTIF($D$139:$AA$139,$AS$169)*$AB$18","v":0},10,null,0,0,0,0,0,{"$error":"#VALUE!"},0,{"$error":"#VALUE!"},{"$error":"#VALUE!"},0,{"$error":"#VALUE!"},null,{"$error":"#VALUE!"},0,{"$error":"#VALUE!"},{"$error":"#VALUE!"},0,{"$error":"#VALUE!"},{"$error":"#VALUE!"},0,{"$error":"#VALUE!"}]
[null,null,11,{"$f":"COUNTIF($D$140:$AA$140,$D$169)*$AB$19","v":0},{"$f":"COUNTIF($D$140:$AA$140,$E$169)*$AB$19","v":0},{"$f":"COUNTIF($D$140:$AA$140,$F$169)*$AB$19","v":0},{"$f":"COUNTIF($D$140:$AA$140,$G$169)*$AB$19","v":0},{"$f":"COUNTIF($D$140:$AA$140,$H$169)*$AB$19","v":0},{"$f":"COUNTIF($D$140:$AA$140,$I$169)*$AB$19","v":0},{"$f":"COUNTIF($D$140:$AA$140,$J$169)*$AB$19","v":0},{"$f":"COUNTIF($D$140:$AA$140,$K$169)*$AB$19","v":0},{"$f":"COUNTIF($D$140:$AA$140,$L$169)*$AB$19","v":0},{"$f":"COUNTIF($D$140:$AA$140,$M$169)*$AB$19","v":0},{"$f":"COUNTIF($D$140:$AA$140,$N$169)*$AB$19","v":0},{"$f":"COUNTIF($D$140:$AA$140,$O$169)*$AB$19","v":0},{"$f":"COUNTIF($D$140:$AA$140,$P$169)*$AB$19","v":0},{"$f":"COUNTIF($D$140:$AA$140,$Q$169)*$AB$19","v":0},{"$f":"COUNTIF($D$140:$AA$140,$R$169)*$AB$19","v":0},{"$f":"COUNTIF($D$140:$AA$140,$S$169)*$AB$19","v":0},{"$f":"COUNTIF($D$140:$AA$140,$T$169)*$AB$19","v":0},{"$f":"COUNTIF($D$140:$AA$140,$U$169)*$AB$19","v":0},{"$f":"COUNTIF($D$140:$AA$140,$V$169)*$AB$19","v":0},{"$f":"COUNTIF($D$140:$AA$140,$W$169)*$AB$19","v":0},{"$f":"COUNTIF($D$140:$AA$140,$X$169)*$AB$19","v":0},{"$f":"COUNTIF($D$140:$AA$140,$Y$169)*$AB$19","v":0},{"$f":"COUNTIF($D$140:$AA$140,$Z$169)*$AB$19","v":0},{"$f":"COUNTIF($D$140:$AA$140,$AA$169)*$AB$19","v":0},{"$f":"COUNTIF($D$140:$AA$140,$AB$169)*$AB$19","v":0},{"$f":"COUNTIF($D$140:$AA$140,$AC$169)*$AB$19","v":0},{"$f":"COUNTIF($D$140:$AA$140,$AD$169)*$AB$19","v":0},{"$f":"COUNTIF($D$140:$AA$140,$AE$169)*$AB$19","v":0},{"$f":"COUNTIF($D$140:$AA$140,$AF$169)*$AB$19","v":0},{"$f":"COUNTIF($D$140:$AA$140,$AG$169)*$AB$19","v":0},{"$f":"COUNTIF($D$140:$AA$140,$AH$169)*$AB$19","v":0},{"$f":"COUNTIF($D$140:$AA$140,$AI$169)*$AB$19","v":0},{"$f":"COUNTIF($D$140:$AA$140,$AJ$169)*$AB$19","v":0},{"$f":"COUNTIF($D$140:$AA$140,$AK$169)*$AB$19","v":0},{"$f":"COUNTIF($D$140:$AA$140,$AL$169)*$AB$19","v":0},{"$f":"COUNTIF($D$140:$AA$140,$AM$169)*$AB$19","v":0},{"$f":"COUNTIF($D$140:$AA$140,$AN$169)*$AB$19","v":0},{"$f":"COUNTIF($D$140:$AA$140,$AO$169)*$AB$19","v":0},{"$f":"COUNTIF($D$140:$AA$140,$AP$169)*$AB$19","v":0},{"$f":"COUNTIF($D$140:$AA$140,$AQ$169)*$AB$19","v":0},{"$f":"COUNTIF($D$140:$AA$140,$AR$169)*$AB$19","v":0},{"$f":"COUNTIF($D$140:$AA$140,$AS$169)*$AB$19","v":0},11,null,0,{"$f":"SUMPRODUCT(D177:AS177,$D$192:$AS$192)","v":0},0,0,0,{"$error":"#VALUE!"},0,{"$error":"#VALUE!"},{"$error":"#VALUE!"},0,{"$error":"#VALUE!"},null,{"$error":"#VALUE!"},0,{"$error":"#VALUE!"},{"$error":"#VALUE!"},0,{"$error":"#VALUE!"},{"$error":"#VALUE!"},0,{"$error":"#VALUE!"}]
[null,null,12,{"$f":"COUNTIF($D$141:$AA$141,$D$169)*$AB$20","v":0},{"$f":"COUNTIF($D$141:$AA$141,$E$169)*$AB$20","v":0},{"$f":"COUNTIF($D$141:$AA$141,$F$169)*$AB$20","v":0},{"$f":"COUNTIF($D$141:$AA$141,$G$169)*$AB$20","v":0},{"$f":"COUNTIF($D$141:$AA$141,$H$169)*$AB$20","v":0},{"$f":"COUNTIF($D$141:$AA$141,$I$169)*$AB$20","v":0},{"$f":"COUNTIF($D$141:$AA$141,$J$169)*$AB$20","v":0},{"$f":"COUNTIF($D$141:$AA$141,$K$169)*$AB$20","v":0},{"$f":"COUNTIF($D$141:$AA$141,$L$169)*$AB$20","v":0},{"$f":"COUNTIF($D$141:$AA$141,$M$169)*$AB$20","v":0},{"$f":"COUNTIF($D$141:$AA$141,$N$169)*$AB$20","v":0},{"$f":"COUNTIF($D$141:$AA$141,$O$169)*$AB$20","v":0},{"$f":"COUNTIF($D$141:$AA$141,$P$169)*$AB$20","v":0},{"$f":"COUNTIF($D$141:$AA$141,$Q$169)*$AB$20","v":0},{"$f":"COUNTIF($D$141:$AA$141,$R$169)*$AB$20","v":0},{"$f":"COUNTIF($D$141:$AA$141,$S$169)*$AB$20","v":0},{"$f":"COUNTIF($D$141:$AA$141,$T$169)*$AB$20","v":0},{"$f":"COUNTIF($D$141:$AA$141,$U$169)*$AB$20","v":0},{"$f":"COUNTIF($D$141:$AA$141,$V$169)*$AB$20","v":0},{"$f":"COUNTIF($D$141:$AA$141,$W$169)*$AB$20","v":0},{"$f":"COUNTIF($D$141:$AA$141,$X$169)*$AB$20","v":0},{"$f":"COUNTIF($D$141:$AA$141,$Y$169)*$AB$20","v":0},{"$f":"COUNTIF($D$141:$AA$141,$Z$169)*$AB$20","v":0},{"$f":"COUNTIF($D$141:$AA$141,$AA$169)*$AB$20","v":0},{"$f":"COUNTIF($D$141:$AA$141,$AB$169)*$AB$20","v":0},{"$f":"COUNTIF($D$141:$AA$141,$AC$169)*$AB$20","v":0},{"$f":"COUNTIF($D$141:$AA$141,$AD$169)*$AB$20","v":0},{"$f":"COUNTIF($D$141:$AA$141,$AE$169)*$AB$20","v":0},{"$f":"COUNTIF($D$141:$AA$141,$AF$169)*$AB$20","v":0},{"$f":"COUNTIF($D$141:$AA$141,$AG$169)*$AB$20","v":0},{"$f":"COUNTIF($D$141:$AA$141,$AH$169)*$AB$20","v":0},{"$f":"COUNTIF($D$141:$AA$141,$AI$169)*$AB$20","v":0},{"$f":"COUNTIF($D$141:$AA$141,$AJ$169)*$AB$20","v":0},{"$f":"COUNTIF($D$141:$AA$141,$AK$169)*$AB$20","v":0},{"$f":"COUNTIF($D$141:$AA$141,$AL$169)*$AB$20","v":0},{"$f":"COUNTIF($D$141:$AA$141,$AM$169)*$AB$20","v":0},{"$f":"COUNTIF($D$141:$AA$141,$AN$169)*$AB$20","v":0},{"$f":"COUNTIF($D$141:$AA$141,$AO$169)*$AB$20","v":0},{"$f":"COUNTIF($D$141:$AA$141,$AP$169)*$AB$20","v":0},{"$f":"COUNTIF($D$141:$AA$141,$AQ$169)*$AB$20","v":0},{"$f":"COUNTIF($D$141:$AA$141,$AR$169)*$AB$20","v":0},{"$f":"COUNTIF($D$141:$AA$141,$AS$169)*$AB$20","v":0},12,null,0,0,0,0,0,{"$error":"#VALUE!"},0,{"$error":"#VALUE!"},{"$error":"#VALUE!"},0,{"$error":"#VALUE!"},null,{"$error":"#VALUE!"},0,{"$error":"#VALUE!"},{"$error":"#VALUE!"},0,{"$error":"#VALUE!"},{"$error":"#VALUE!"},0,{"$error":"#VALUE!"}]
[null,null,1,{"$f":"COUNTIF($D$142:$AA$142,$D$169)*$AB$21","v":0},{"$f":"COUNTIF($D$142:$AA$142,$E$169)*$AB$21","v":0},{"$f":"COUNTIF($D$142:$AA$142,$F$169)*$AB$21","v":0},{"$f":"COUNTIF($D$142:$AA$142,$G$169)*$AB$21","v":0},{"$f":"COUNTIF($D$142:$AA$142,$H$169)*$AB$21","v":0},{"$f":"COUNTIF($D$142:$AA$142,$I$169)*$AB$21","v":0},{"$f":"COUNTIF($D$142:$AA$142,$J$169)*$AB$21","v":0},{"$f":"COUNTIF($D$142:$AA$142,$K$169)*$AB$21","v":0},{"$f":"COUNTIF($D$142:$AA$142,$L$169)*$AB$21","v":0},{"$f":"COUNTIF($D$142:$AA$142,$M$169)*$AB$21","v":0},{"$f":"COUNTIF($D$142:$AA$142,$N$169)*$AB$21","v":0},{"$f":"COUNTIF($D$142:$AA$142,$O$169)*$AB$21","v":0},{"$f":"COUNTIF($D$142:$AA$142,$P$169)*$AB$21","v":0},{"$f":"COUNTIF($D$142:$AA$142,$Q$169)*$AB$21","v":0},{"$f":"COUNTIF($D$142:$AA$142,$R$169)*$AB$21","v":0},{"$f":"COUNTIF($D$142:$AA$142,$S$169)*$AB$21","v":0},{"$f":"COUNTIF($D$142:$AA$142,$T$169)*$AB$21","v":0},{"$f":"COUNTIF($D$142:$AA$142,$U$169)*$AB$21","v":0},{"$f":"COUNTIF($D$142:$AA$142,$V$169)*$AB$21","v":0},{"$f":"COUNTIF($D$142:$AA$142,$W$169)*$AB$21","v":0},{"$f":"COUNTIF($D$142:$AA$142,$X$169)*$AB$21","v":0},{"$f":"COUNTIF($D$142:$AA$142,$Y$169)*$AB$21","v":0},{"$f":"COUNTIF($D$142:$AA$142,$Z$169)*$AB$21","v":0},{"$f":"COUNTIF($D$142:$AA$142,$AA$169)*$AB$21","v":0},{"$f":"COUNTIF($D$142:$AA$142,$AB$169)*$AB$21","v":0},{"$f":"COUNTIF($D$142:$AA$142,$AC$169)*$AB$21","v":0},{"$f":"COUNTIF($D$142:$AA$142,$AD$169)*$AB$21","v":0},{"$f":"COUNTIF($D$142:$AA$142,$AE$169)*$AB$21","v":0},{"$f":"COUNTIF($D$142:$AA$142,$AF$169)*$AB$21","v":0},{"$f":"COUNTIF($D$142:$AA$142,$AG$169)*$AB$21","v":0},{"$f":"COUNTIF($D$142:$AA$142,$AH$169)*$AB$21","v":0},{"$f":"COUNTIF($D$142:$AA$142,$AI$169)*$AB$21","v":0},{"$f":"COUNTIF($D$142:$AA$142,$AJ$169)*$AB$21","v":0},{"$f":"COUNTIF($D$142:$AA$142,$AK$169)*$AB$21","v":0},{"$f":"COUNTIF($D$142:$AA$142,$AL$169)*$AB$21","v":0},{"$f":"COUNTIF($D$142:$AA$142,$AM$169)*$AB$21","v":0},{"$f":"COUNTIF($D$142:$AA$142,$AN$169)*$AB$21","v":0},{"$f":"COUNTIF($D$142:$AA$142,$AO$169)*$AB$21","v":0},{"$f":"COUNTIF($D$142:$AA$142,$AP$169)*$AB$21","v":0},{"$f":"COUNTIF($D$142:$AA$142,$AQ$169)*$AB$21","v":0},{"$f":"COUNTIF($D$142:$AA$142,$AR$169)*$AB$21","v":0},{"$f":"COUNTIF($D$142:$AA$142,$AS$169)*$AB$21","v":0},1,null,0,0,0,0,0,{"$error":"#VALUE!"},0,{"$error":"#VALUE!"},{"$error":"#VALUE!"},0,{"$error":"#VALUE!"},null,{"$error":"#VALUE!"},0,{"$error":"#VALUE!"},{"$error":"#VALUE!"},0,{"$error":"#VALUE!"},{"$error":"#VALUE!"},0,{"$error":"#VALUE!"}]
[null,null,2,{"$f":"COUNTIF($D$143:$AA$143,$D$169)*$AB$22","v":0},{"$f":"COUNTIF($D$143:$AA$143,$E$169)*$AB$22","v":0},{"$f":"COUNTIF($D$143:$AA$143,$F$169)*$AB$22","v":0},{"$f":"COUNTIF($D$143:$AA$143,$G$169)*$AB$22","v":0},{"$f":"COUNTIF($D$143:$AA$143,$H$169)*$AB$22","v":0},{"$f":"COUNTIF($D$143:$AA$143,$I$169)*$AB$22","v":0},{"$f":"COUNTIF($D$143:$AA$143,$J$169)*$AB$22","v":0},{"$f":"COUNTIF($D$143:$AA$143,$K$169)*$AB$22","v":0},{"$f":"COUNTIF($D$143:$AA$143,$L$169)*$AB$22","v":0},{"$f":"COUNTIF($D$143:$AA$143,$M$169)*$AB$22","v":0},{"$f":"COUNTIF($D$143:$AA$143,$N$169)*$AB$22","v":0},{"$f":"COUNTIF($D$143:$AA$143,$O$169)*$AB$22","v":0},{"$f":"COUNTIF($D$143:$AA$143,$P$169)*$AB$22","v":0},{"$f":"COUNTIF($D$143:$AA$143,$Q$169)*$AB$22","v":0},{"$f":"COUNTIF($D$143:$AA$143,$R$169)*$AB$22","v":0},{"$f":"COUNTIF($D$143:$AA$143,$S$169)*$AB$22","v":0},{"$f":"COUNTIF($D$143:$AA$143,$T$169)*$AB$22","v":0},{"$f":"COUNTIF($D$143:$AA$143,$U$169)*$AB$22","v":0},{"$f":"COUNTIF($D$143:$AA$143,$V$169)*$AB$22","v":0},{"$f":"COUNTIF($D$143:$AA$143,$W$169)*$AB$22","v":0},{"$f":"COUNTIF($D$143:$AA$143,$X$169)*$AB$22","v":0},{"$f":"COUNTIF($D$143:$AA$143,$Y$169)*$AB$22","v":0},{"$f":"COUNTIF($D$143:$AA$143,$Z$169)*$AB$22","v":0},{"$f":"COUNTIF($D$143:$AA$143,$AA$169)*$AB$22","v":0},{"$f":"COUNTIF($D$143:$AA$143,$AB$169)*$AB$22","v":0},{"$f":"COUNTIF($D$143:$AA$143,$AC$169)*$AB$22","v":0},{"$f":"COUNTIF($D$143:$AA$143,$AD$169)*$AB$22","v":0},{"$f":"COUNTIF($D$143:$AA$143,$AE$169)*$AB$22","v":0},{"$f":"COUNTIF($D$143:$AA$143,$AF$169)*$AB$22","v":0},{"$f":"COUNTIF($D$143:$AA$143,$AG$169)*$AB$22","v":0},{"$f":"COUNTIF($D$143:$AA$143,$AH$169)*$AB$22","v":0},{"$f":"COUNTIF($D$143:$AA$143,$AI$169)*$AB$22","v":0},{"$f":"COUNTIF($D$143:$AA$143,$AJ$169)*$AB$22","v":0},{"$f":"COUNTIF($D$143:$AA$143,$AK$169)*$AB$22","v":0},{"$f":"COUNTIF($D$143:$AA$143,$AL$169)*$AB$22","v":0},{"$f":"COUNTIF($D$143:$AA$143,$AM$169)*$AB$22","v":0},{"$f":"COUNTIF($D$143:$AA$143,$AN$169)*$AB$22","v":0},{"$f":"COUNTIF($D$143:$AA$143,$AO$169)*$AB$22","v":0},{"$f":"COUNTIF($D$143:$AA$143,$AP$169)*$AB$22","v":0},{"$f":"COUNTIF($D$143:$AA$143,$AQ$169)*$AB$22","v":0},{"$f":"COUNTIF($D$143:$AA$143,$AR$169)*$AB$22","v":0},{"$f":"COUNTIF($D$143:$AA$143,$AS$169)*$AB$22","v":0},2,null,0,0,0,0,0,{"$f":"$R$29/$R$35*$AV180","v":{"$error":"#VALUE!"}},0,{"$error":"#VALUE!"},{"$error":"#VALUE!"},0,{"$error":"#VALUE!"},null,{"$error":"#VALUE!"},0,{"$error":"#VALUE!"},{"$error":"#VALUE!"},0,{"$error":"#VALUE!"},{"$error":"#VALUE!"},0,{"$error":"#VALUE!"}]
[null,null,3,{"$f":"COUNTIF($D$144:$AA$144,$D$169)*$AB$23","v":0},{"$f":"COUNTIF($D$144:$AA$144,$E$169)*$AB$23","v":0},{"$f":"COUNTIF($D$144:$AA$144,$F$169)*$AB$23","v":0},{"$f":"COUNTIF($D$144:$AA$144,$G$169)*$AB$23","v":0},{"$f":"COUNTIF($D$144:$AA$144,$H$169)*$AB$23","v":0},{"$f":"COUNTIF($D$144:$AA$144,$I$169)*$AB$23","v":0},{"$f":"COUNTIF($D$144:$AA$144,$J$169)*$AB$23","v":0},{"$f":"COUNTIF($D$144:$AA$144,$K$169)*$AB$23","v":0},{"$f":"COUNTIF($D$144:$AA$144,$L$169)*$AB$23","v":0},{"$f":"COUNTIF($D$144:$AA$144,$M$169)*$AB$23","v":0},{"$f":"COUNTIF($D$144:$AA$144,$N$169)*$AB$23","v":0},{"$f":"COUNTIF($D$144:$AA$144,$O$169)*$AB$23","v":0},{"$f":"COUNTIF($D$144:$AA$144,$P$169)*$AB$23","v":0},{"$f":"COUNTIF($D$144:$AA$144,$Q$169)*$AB$23","v":0},{"$f":"COUNTIF($D$144:$AA$144,$R$169)*$AB$23","v":0},{"$f":"COUNTIF($D$144:$AA$144,$S$169)*$AB$23","v":0},{"$f":"COUNTIF($D$144:$AA$144,$T$169)*$AB$23","v":0},{"$f":"COUNTIF($D$144:$AA$144,$U$169)*$AB$23","v":0},{"$f":"COUNTIF($D$144:$AA$144,$V$169)*$AB$23","v":0},{"$f":"COUNTIF($D$144:$AA$144,$W$169)*$AB$23","v":0},{"$f":"COUNTIF($D$144:$AA$144,$X$169)*$AB$23","v":0},{"$f":"COUNTIF($D$144:$AA$144,$Y$169)*$AB$23","v":0},{"$f":"COUNTIF($D$144:$AA$144,$Z$169)*$AB$23","v":0},{"$f":"COUNTIF($D$144:$AA$144,$AA$169)*$AB$23","v":0},{"$f":"COUNTIF($D$144:$AA$144,$AB$169)*$AB$23","v":0},{"$f":"COUNTIF($D$144:$AA$144,$AC$169)*$AB$23","v":0},{"$f":"COUNTIF($D$144:$AA$144,$AD$169)*$AB$23","v":0},{"$f":"COUNTIF($D$144:$AA$144,$AE$169)*$AB$23","v":0},{"$f":"COUNTIF($D$144:$AA$144,$AF$169)*$AB$23","v":0},{"$f":"COUNTIF($D$144:$AA$144,$AG$169)*$AB$23","v":0},{"$f":"COUNTIF($D$144:$AA$144,$AH$169)*$AB$23","v":0},{"$f":"COUNTIF($D$144:$AA$144,$AI$169)*$AB$23","v":0},{"$f":"COUNTIF($D$144:$AA$144,$AJ$169)*$AB$23","v":0},{"$f":"COUNTIF($D$144:$AA$144,$AK$169)*$AB$23","v":0},{"$f":"COUNTIF($D$144:$AA$144,$AL$169)*$AB$23","v":0},{"$f":"COUNTIF($D$144:$AA$144,$AM$169)*$AB$23","v":0},{"$f":"COUNTIF($D$144:$AA$144,$AN$169)*$AB$23","v":0},{"$f":"COUNTIF($D$144:$AA$144,$AO$169)*$AB$23","v":0},{"$f":"COUNTIF($D$144:$AA$144,$AP$169)*$AB$23","v":0},{"$f":"COUNTIF($D$144:$AA$144,$AQ$169)*$AB$23","v":0},{"$f":"COUNTIF($D$144:$AA$144,$AR$169)*$AB$23","v":0},{"$f":"COUNTIF($D$144:$AA$144,$AS$169)*$AB$23","v":0},3,null,0,0,0,{"$f":"$Q$36*$AW181","v":0},{"$f":"SUM(AX181:AY181)","v":0},{"$error":"#VALUE!"},{"$f":"$R$36*$AW181","v":0},{"$f":"SUM(BA181:BB181)","v":{"$error":"#VALUE!"}},{"$error":"#VALUE!"},0,{"$f":"SUM(BD181:BE181)","v":{"$error":"#VALUE!"}},null,{"$error":"#VALUE!"},0,{"$f":"SUM(BH181:BI181)","v":{"$error":"#VALUE!"}},{"$error":"#VALUE!"},0,{"$f":"SUM(BK181:BL181)","v":{"$error":"#VALUE!"}},{"$error":"#VALUE!"},0,{"$f":"SUM(BN181:BO181)","v":{"$error":"#VALUE!"}}]
[null,"tw","加熱運転時間",{"$f":"SUM($D$170:$D$181)","v":0},{"$f":"SUM($E$170:$E$181)","v":0},{"$f":"SUM($F$170:$F$181)","v":0},{"$f":"SUM($G$170:$G$181)","v":0},{"$f":"SUM($H$170:$H$181)","v":0},{"$f":"SUM($I$170:$I$181)","v":0},{"$f":"SUM($J$170:$J$181)","v":0},{"$f":"SUM($K$170:$K$181)","v":0},{"$f":"SUM($L$170:$L$181)","v":0},{"$f":"SUM($M$170:$M$181)","v":0},{"$f":"SUM($N$170:$N$181)","v":0},{"$f":"SUM($O$170:$O$181)","v":0},{"$f":"SUM($P$170:$P$181)","v":0},{"$f":"SUM($Q$170:$Q$181)","v":0},{"$f":"SUM($R$170:$R$181)","v":0},{"$f":"SUM($S$170:$S$181)","v":0},{"$f":"SUM($T$170:$T$181)","v":0},{"$f":"SUM($U$170:$U$181)","v":0},{"$f":"SUM($V$170:$V$181)","v":0},{"$f":"SUM($W$170:$W$181)","v":0},{"$f":"SUM($X$170:$X$181)","v":0},{"$f":"SUM($Y$170:$Y$181)","v":0},{"$f":"SUM($Z$170:$Z$181)","v":0},{"$f":"SUM($AA$170:$AA$181)","v":0},{"$f":"SUM($AB$170:$AB$181)","v":0},{"$f":"SUM($AC$170:$AC$181)","v":0},{"$f":"SUM($AD$170:$AD$181)","v":0},{"$f":"SUM($AE$170:$AE$181)","v":0},{"$f":"SUM($AF$170:$AF$181)","v":0},{"$f":"SUM($AG$170:$AG$181)","v":0},{"$f":"SUM($AH$170:$AH$181)","v":0},{"$f":"SUM($AI$170:$AI$181)","v":0},{"$f":"SUM($AJ$170:$AJ$181)","v":0},{"$f":"SUM($AK$170:$AK$181)","v":0},{"$f":"SUM($AL$170:$AL$181)","v":0},{"$f":"SUM($AM$170:$AM$181)","v":0},{"$f":"SUM($AN$170:$AN$181)","v":0},{"$f":"SUM($AO$170:$AO$181)","v":0},{"$f":"SUM($AP$170:$AP$181)","v":0},{"$f":"SUM($AQ$170:$AQ$181)","v":0},{"$f":"SUM($AR$170:$AR$181)","v":0},{"$f":"SUM($AS$170:$AS$181)","v":0},"加熱運転時間",null,{"$f":"SUM(AV170:AV181)","v":0},{"$f":"SUM(AW170:AW181)","v":0},0,0,0,{"$error":"#VALUE!"},0,{"$error":"#VALUE!"},{"$error":"#VALUE!"},0,{"$error":"#VALUE!"},null,{"$error":"#VALUE!"},{"$f":"SUM(BI170:BI181)","v":0},{"$f":"SUM(BJ170:BJ181)","v":{"$error":"#VALUE!"}},{"$f":"SUM(BK170:BK181)","v":{"$error":"#VALUE!"}},{"$f":"SUM(BL170:BL181)","v":0},{"$f":"SUM(BM170:BM181)","v":{"$error":"#VALUE!"}},{"$f":"SUM(BN170:BN181)","v":{"$error":"#VALUE!"}},{"$f":"SUM(BO170:BO181)","v":0},{"$f":"SUM(BP170:BP181)","v":{"$error":"#VALUE!"}}]
[null,"εw","加熱時消費電力比",{"$f":"$D$184/$D$185","v":1.286497946749277},{"$f":"$E$184/$E$185","v":1.2993762993762994},{"$f":"$F$184/$F$185","v":1.2486462046412836},{"$f":"$G$184/$G$185","v":1.19844042952105},{"$f":"$H$184/$H$185","v":1.1485617304636406},{"$f":"$I$184/$I$185","v":1.098804500703235},{"$f":"$J$184/$J$185","v":1.048951048951049},{"$f":"$K$184/$K$185","v":0.91816030580509478},{"$f":"$L$184/$L$185","v":0.80249251706592939},{"$f":"$M$184/$M$185","v":0.69950704572642586},{"$f":"$N$184/$N$185","v":0.60726134408355215},{"$f":"$O$184/$O$185","v":0.52419006083225661},{"$f":"$P$184/$P$185","v":0.45646926501144819},{"$f":"$Q$184/$Q$185","v":0.39939256384964106},{"$f":"$R$184/$R$185","v":0.34408774670108327},{"$f":"$S$184/$S$185","v":0.29046909888061923},{"$f":"$T$184/$T$185","v":0.23845632910788717},{"$f":"$U$184/$U$185","v":0.18797414716364394},{"$f":"$V$184/$V$185","v":0.13895188040800721},{"$f":"$W$184/$W$185","v":9.1323125051768775E-2},{"$f":"$X$184/$X$185","v":4.502542856103417E-2},{"$f":"$Y$184/$Y$185","v":0},{"$f":"$Z$184/$Z$185","v":0},{"$f":"$AA$184/$AA$185","v":0},{"$f":"$AB$184/$AB$185","v":0},{"$f":"$AC$184/$AC$185","v":0},{"$f":"$AD$184/$AD$185","v":0},{"$f":"$AE$184/$AE$185","v":0},{"$f":"$AF$184/$AF$185","v":0},{"$f":"$AG$184/$AG$185","v":0},{"$f":"$AH$184/$AH$185","v":0},{"$f":"$AI$184/$AI$185","v":0},{"$f":"$AJ$184/$AJ$185","v":0},{"$f":"$AK$184/$AK$185","v":0},{"$f":"$AL$184/$AL$185","v":0},{"$f":"$AM$184/$AM$185","v":0},{"$f":"$AN$184/$AN$185","v":0},{"$f":"$AO$184/$AO$185","v":0},{"$f":"$AP$184/$AP$185","v":0},{"$f":"$AQ$184/$AQ$185","v":0},{"$f":"$AR$184/$AR$185","v":0},{"$f":"$AS$184/$AS$185","v":0},"加熱時消費電力比"]
[null,"αw","加熱空調負荷率",{"$f":"IF((D$169-$Q$25)/($Q$25-15)+1<0,0,IF((D$169-$Q$25)/($Q$25-15)+1>1,1,((D$169-$Q$25)/($Q$25-15)+1)))","v":1},{"$f":"IF((E$169-$Q$25)/($Q$25-15)+1<0,0,IF((E$169-$Q$25)/($Q$25-15)+1>1,1,((E$169-$Q$25)/($Q$25-15)+1)))","v":1},0.95,0.9,0.85,0.8,{"$f":"IF((J$169-$Q$25)/($Q$25-15)+1<0,0,IF((J$169-$Q$25)/($Q$25-15)+1>1,1,((J$169-$Q$25)/($Q$25-15)+1)))","v":0.75},0.7,0.65,0.6,0.55000000000000004,{"$f":"IF((O$169-$Q$25)/($Q$25-15)+1<0,0,IF((O$169-$Q$25)/($Q$25-15)+1>1,1,((O$169-$Q$25)/($Q$25-15)+1)))","v":0.5},0.44999999999999996,0.4,{"$f":"IF((R$169-$Q$25)/($Q$25-15)+1<0,0,IF((R$169-$Q$25)/($Q$25-15)+1>1,1,((R$169-$Q$25)/($Q$25-15)+1)))","v":0.35},0.30000000000000004,0.25,0.19999999999999996,0.15000000000000002,{"$f":"IF((W$169-$Q$25)/($Q$25-15)+1<0,0,IF((W$169-$Q$25)/($Q$25-15)+1>1,1,((W$169-$Q$25)/($Q$25-15)+1)))","v":9.9999999999999978E-2},5.0000000000000044E-2,0,0,0,0,{"$f":"IF((AC$169-$Q$25)/($Q$25-15)+1<0,0,IF((AC$169-$Q$25)/($Q$25-15)+1>1,1,((AC$169-$Q$25)/($Q$25-15)+1)))","v":0},{"$f":"IF((AD$169-$Q$25)/($Q$25-15)+1<0,0,IF((AD$169-$Q$25)/($Q$25-15)+1>1,1,((AD$169-$Q$25)/($Q$25-15)+1)))","v":0},{"$f":"IF((AE$169-$Q$25)/($Q$25-15)+1<0,0,IF((AE$169-$Q$25)/($Q$25-15)+1>1,1,((AE$169-$Q$25)/($Q$25-15)+1)))","v":0},0,0,0,0,{"$f":"IF((AJ$169-$Q$25)/($Q$25-15)+1<0,0,IF((AJ$169-$Q$25)/($Q$25-15)+1>1,1,((AJ$169-$Q$25)/($Q$25-15)+1)))","v":0},0,0,0,0,{"$f":"IF((AO$169-$Q$25)/($Q$25-15)+1<0,0,IF((AO$169-$Q$25)/($Q$25-15)+1>1,1,((AO$169-$Q$25)/($Q$25-15)+1)))","v":0},0,0,{"$f":"IF((AR$169-$Q$25)/($Q$25-15)+1<0,0,IF((AR$169-$Q$25)/($Q$25-15)+1>1,1,((AR$169-$Q$25)/($Q$25-15)+1)))","v":0},0,"加熱空調負荷率"]
[null,"βw","加熱COP比",{"$f":"-5.36/10000*D$169*D$169-0.0136*D$169+0.715","v":0.77730399999999999},{"$f":"-5.36/10000*E$169*E$169-0.0136*E$169+0.715","v":0.76959999999999995},0.76082399999999994,0.75097599999999998,0.74005599999999994,0.72806399999999993,{"$f":"9.41/100000*J$169*J$169+0.0473*J$169+0.715","v":0.71499999999999997},{"$f":"9.41/100000*K$169*K$169+0.0473*K$169+0.715","v":0.76239409999999996},0.80997639999999993,0.85774689999999998,0.9057056,{"$f":"9.41/100000*O$169*O$169+0.0473*O$169+0.715","v":0.95385249999999999},{"$f":"-1.59/100000*P$169*P$169+0.0159*P$169+0.891","v":0.98582760000000003},{"$f":"-1.59/100000*Q$169*Q$169+0.0159*Q$169+0.891","v":1.0015209},1.0171824,1.0328121000000001,1.0484100000000001,1.0639761000000001,1.0795104,1.0950129,1.1104836,1.1259224999999999,1.1413296000000002,1.1567049,1.1720484,1.1873601,1.2026400000000002,1.2178881000000001,1.2331044,1.2482888999999999,1.2634416000000002,1.2785625,1.2936516,1.3087089000000001,1.3237344,1.3387281,1.3536900000000001,1.3686201,1.3835184,1.3983848999999999,1.4132196000000001,1.4280225,"加熱COP比"]
[null,null,"Σ",{"$f":"D$182*D$183","v":0},{"$f":"E$182*E$183","v":0},0,0,0,0,0,0,0,0,0,0,0,0,0,0,0,0,0,0,0,0,0,0,0,0,0,0,0,0,0,0,0,0,0,0,0,0,0,0,0,0,{"$f":"SUM($D$186:$AS$186)","v":0}]
[null,null,null,"←着霜領域②",null,null,null,null,"着霜領域②→","←着霜領域①",null,null,null,null,"着霜領域①→","←非着霜領域",null,null,null,null,null,null,null,null,null,null,null,null,null,null,null,null,null,null,null,null,null,null,null,null,null,null,null,null,"非着霜領域→"]
[]
[null,null,"αc^0.6",{"$f":"D163^0.6","v":0},{"$f":"E163^0.6","v":0},0,0,0,0,0,0,0,0,0,0,0,0,0,0,0,0,0,0,0,0,0.16572270086699922,0.25118864315095801,0.3203721497536805,0.3807307877431757,0.43527528164806206,0.48559337483020382,0.53264864506035514,0.57707996236288528,0.61933768760000518,0.6597539553864471,0.69858235788737133,0.7360219228178333,0.77223239099174257,0.8073443754472972,0.84146635908464962,0.87468965915462249,0.90709203901925473,0.93874039335956938,0.96969278258768077,1,"αc^0.6"]
[null,null,"Σ",{"$f":"D161*D189","v":0},{"$f":"E161*E189","v":0},0,0,0,0,0,0,0,0,0,0,0,0,0,0,0,0,0,0,0,0,0,0,0,0,0,0,0,0,0,0,0,0,0,0,0,0,0,0,0,0,{"$f":"SUM(D190:AS190)","v":0}]
[]
[null,null,"αw^0.6",{"$f":"D184^0.6","v":1},{"$f":"E184^0.6","v":1},0.96969278258768077,0.93874039335956938,0.90709203901925473,0.87468965915462249,0.84146635908464962,0.8073443754472972,0.77223239099174268,0.7360219228178333,0.69858235788737133,0.6597539553864471,0.61933768760000518,0.5770799623628855,0.53264864506035514,0.48559337483020387,0.43527528164806206,0.3807307877431757,0.32037214975368061,0.25118864315095801,0.16572270086699945,0,0,0,0,0,0,0,0,0,0,0,0,0,0,0,0,0,0,0,0,0,"αw^0.6"]
[null,null,"Σ",{"$f":"D182*D192","v":0},{"$f":"E182*E192","v":0},0,0,0,0,0,0,0,0,0,0,0,0,0,0,0,0,0,0,0,0,0,0,0,0,0,0,0,0,0,0,0,0,0,0,0,0,0,0,0,0,{"$f":"SUM(D193:AS193)","v":0}]

{"sheet":"温暖地(γ個別入力)","index":3,"n_rows":193,"n_cols":68,"rows_kept":193,"cut":false,"hidden":false,"merged":[[98,3,98,26],[114,3,114,26],[130,3,130,26],[41,3,49,3],[57,3,57,4],[57,5,57,6],[57,7,57,8],[75,49,76,50],[78,3,78,4],[78,5,78,6],[78,7,78,8],[2,2,2,3],[3,2,3,3],[5,2,5,3],[6,2,6,3],[9,3,9,26],[27,3,35,3],[24,19,25,20],[24,24,25,25],[24,26,25,26],[24,29,25,29]]}
[]
[null,null,"空冷HPチラーの設置場所"]
[null,null,{"$f":"IF(必ずこのシートから始めてください!$L$8=\"\",\"\",必ずこのシートから始めてください!$L$8)","v":""},null,null,"手順1：空調を行う月、時間を下記の指定の色で塗る(指定の色以外で塗ると計算できません。)"]
[null,null,{"$f":"VLOOKUP($C$3,γ一覧表!$C$3:$E$50,2,FALSE)","v":{"$error":"#N/A"}},null,null,null,"冷却","青","【左から5列目、一番薄い色(アクセント1,白＋基本色80％)】"]
[null,null,null,null,null,null,"加熱","オレンジ","【左から6番目、一番薄い色(アクセント2,白＋基本色80％)】"]
[null,null,"使用するγ値",null,null,"手順2：各月の運転日数を入力する"]
[null,null,{"$f":"IF(必ずこのシートから始めてください!$L$22=\"\",\"---\",IF(必ずこのシートから始めてください!$L$22>1,\"---\",必ずこのシートから始めてください!$L$22))","v":"---"},null,null,"手順3：Ctrl + Alt + F9を同時に押す",null,null,null,null,null,null,null,null,null,null,null,"●時刻別平均気温表記載の数値は、選択された都道府県の県庁所在地の月別、時刻別平均気温"]
[null,null,null,null,null,"手順4：黄色のセルに値を入力する(緑は自動計算)",null,null,null,null,null,null,null,null,null,null,null,"●本データは気象庁発表の1992年4月1日から2022年3月31日までの30年の1時間データを整理したもの"]
[null,null,"時刻別平均気温[℃]",null,null,null,null,null,null,null,null,null,null,null,null,null,null,"●2月はうるう日を含みます"]
[null,null,null," 時刻",null,null,null,null,null,null,null,null,null,null,null,null,null,null,null,null,null,null,null,null,null,null,null,{"$f":"SUM(AB12:AB23)","v":0},{"$f":"必ずこのシートから始めてください!$M$3","v":"Ver.1.0"}]
[null,null,"月",0,1,2,3,4,5,6,7,8,9,10,11,12,13,14,15,16,17,18,19,20,21,22,23,"運転日数","月"]
[null,null,4,{"$f":"IFERROR(INDIRECT($C$4&\"!B5\"),\"\")","v":""},{"$f":"IFERROR(INDIRECT($C$4&\"!C5\"),\"\")","v":""},{"$f":"IFERROR(INDIRECT($C$4&\"!D5\"),\"\")","v":""},{"$f":"IFERROR(INDIRECT($C$4&\"!E5\"),\"\")","v":""},{"$f":"IFERROR(INDIRECT($C$4&\"!F5\"),\"\")","v":""},{"$f":"IFERROR(INDIRECT($C$4&\"!G5\"),\"\")","v":""},{"$f":"IFERROR(INDIRECT($C$4&\"!H5\"),\"\")","v":""},{"$f":"IFERROR(INDIRECT($C$4&\"!I5\"),\"\")","v":""},{"$f":"IFERROR(INDIRECT($C$4&\"!J5\"),\"\")","v":""},{"$f":"IFERROR(INDIRECT($C$4&\"!K5\"),\"\")","v":""},{"$f":"IFERROR(INDIRECT($C$4&\"!L5\"),\"\")","v":""},{"$f":"IFERROR(INDIRECT($C$4&\"!M5\"),\"\")","v":""},{"$f":"IFERROR(INDIRECT($C$4&\"!N5\"),\"\")","v":""},{"$f":"IFERROR(INDIRECT($C$4&\"!O5\"),\"\")","v":""},{"$f":"IFERROR(INDIRECT($C$4&\"!P5\"),\"\")","v":""},{"$f":"IFERROR(INDIRECT($C$4&\"!Q5\"),\"\")","v":""},{"$f":"IFERROR(INDIRECT($C$4&\"!R5\"),\"\")","v":""},{"$f":"IFERROR(INDIRECT($C$4&\"!S5\"),\"\")","v":""},{"$f":"IFERROR(INDIRECT($C$4&\"!T5\"),\"\")","v":""},{"$f":"IFERROR(INDIRECT($C$4&\"!U5\"),\"\")","v":""},{"$f":"IFERROR(INDIRECT($C$4&\"!V5\"),\"\")","v":""},{"$f":"IFERROR(INDIRECT($C$4&\"!W5\"),\"\")","v":""},{"$f":"IFERROR(INDIRECT($C$4&\"!X5\"),\"\")","v":""},{"$f":"IFERROR(INDIRECT($C$4&\"!Y5\"),\"\")","v":""},null,4]
[null,null,5,{"$f":"IFERROR(INDIRECT($C$4&\"!B6\"),\"\")","v":""},{"$f":"IFERROR(INDIRECT($C$4&\"!C6\"),\"\")","v":""},{"$f":"IFERROR(INDIRECT($C$4&\"!D6\"),\"\")","v":""},{"$f":"IFERROR(INDIRECT($C$4&\"!E6\"),\"\")","v":""},{"$f":"IFERROR(INDIRECT($C$4&\"!F6\"),\"\")","v":""},{"$f":"IFERROR(INDIRECT($C$4&\"!G6\"),\"\")","v":""},{"$f":"IFERROR(INDIRECT($C$4&\"!H6\"),\"\")","v":""},{"$f":"IFERROR(INDIRECT($C$4&\"!I6\"),\"\")","v":""},{"$f":"IFERROR(INDIRECT($C$4&\"!J6\"),\"\")","v":""},{"$f":"IFERROR(INDIRECT($C$4&\"!K6\"),\"\")","v":""},{"$f":"IFERROR(INDIRECT($C$4&\"!L6\"),\"\")","v":""},{"$f":"IFERROR(INDIRECT($C$4&\"!M6\"),\"\")","v":""},{"$f":"IFERROR(INDIRECT($C$4&\"!N6\"),\"\")","v":""},{"$f":"IFERROR(INDIRECT($C$4&\"!O6\"),\"\")","v":""},{"$f":"IFERROR(INDIRECT($C$4&\"!P6\"),\"\")","v":""},{"$f":"IFERROR(INDIRECT($C$4&\"!Q6\"),\"\")","v":""},{"$f":"IFERROR(INDIRECT($C$4&\"!R6\"),\"\")","v":""},{"$f":"IFERROR(INDIRECT($C$4&\"!S6\"),\"\")","v":""},{"$f":"IFERROR(INDIRECT($C$4&\"!T6\"),\"\")","v":""},{"$f":"IFERROR(INDIRECT($C$4&\"!U6\"),\"\")","v":""},{"$f":"IFERROR(INDIRECT($C$4&\"!V6\"),\"\")","v":""},{"$f":"IFERROR(INDIRECT($C$4&\"!W6\"),\"\")","v":""},{"$f":"IFERROR(INDIRECT($C$4&\"!X6\"),\"\")","v":""},{"$f":"IFERROR(INDIRECT($C$4&\"!Y6\"),\"\")","v":""},null,5]
[null,null,6,{"$f":"IFERROR(INDIRECT($C$4&\"!B7\"),\"\")","v":""},{"$f":"IFERROR(INDIRECT($C$4&\"!C7\"),\"\")","v":""},{"$f":"IFERROR(INDIRECT($C$4&\"!D7\"),\"\")","v":""},{"$f":"IFERROR(INDIRECT($C$4&\"!E7\"),\"\")","v":""},{"$f":"IFERROR(INDIRECT($C$4&\"!F7\"),\"\")","v":""},{"$f":"IFERROR(INDIRECT($C$4&\"!G7\"),\"\")","v":""},{"$f":"IFERROR(INDIRECT($C$4&\"!H7\"),\"\")","v":""},{"$f":"IFERROR(INDIRECT($C$4&\"!I7\"),\"\")","v":""},{"$f":"IFERROR(INDIRECT($C$4&\"!J7\"),\"\")","v":""},{"$f":"IFERROR(INDIRECT($C$4&\"!K7\"),\"\")","v":""},{"$f":"IFERROR(INDIRECT($C$4&\"!L7\"),\"\")","v":""},{"$f":"IFERROR(INDIRECT($C$4&\"!M7\"),\"\")","v":""},{"$f":"IFERROR(INDIRECT($C$4&\"!N7\"),\"\")","v":""},{"$f":"IFERROR(INDIRECT($C$4&\"!O7\"),\"\")","v":""},{"$f":"IFERROR(INDIRECT($C$4&\"!P7\"),\"\")","v":""},{"$f":"IFERROR(INDIRECT($C$4&\"!Q7\"),\"\")","v":""},{"$f":"IFERROR(INDIRECT($C$4&\"!R7\"),\"\")","v":""},{"$f":"IFERROR(INDIRECT($C$4&\"!S7\"),\"\")","v":""},{"$f":"IFERROR(INDIRECT($C$4&\"!T7\"),\"\")","v":""},{"$f":"IFERROR(INDIRECT($C$4&\"!U7\"),\"\")","v":""},{"$f":"IFERROR(INDIRECT($C$4&\"!V7\"),\"\")","v":""},{"$f":"IFERROR(INDIRECT($C$4&\"!W7\"),\"\")","v":""},{"$f":"IFERROR(INDIRECT($C$4&\"!X7\"),\"\")","v":""},{"$f":"IFERROR(INDIRECT($C$4&\"!Y7\"),\"\")","v":""},null,6]
[null,null,7,{"$f":"IFERROR(INDIRECT($C$4&\"!B8\"),\"\")","v":""},{"$f":"IFERROR(INDIRECT($C$4&\"!C8\"),\"\")","v":""},{"$f":"IFERROR(INDIRECT($C$4&\"!D8\"),\"\")","v":""},{"$f":"IFERROR(INDIRECT($C$4&\"!E8\"),\"\")","v":""},{"$f":"IFERROR(INDIRECT($C$4&\"!F8\"),\"\")","v":""},{"$f":"IFERROR(INDIRECT($C$4&\"!G8\"),\"\")","v":""},{"$f":"IFERROR(INDIRECT($C$4&\"!H8\"),\"\")","v":""},{"$f":"IFERROR(INDIRECT($C$4&\"!I8\"),\"\")","v":""},{"$f":"IFERROR(INDIRECT($C$4&\"!J8\"),\"\")","v":""},{"$f":"IFERROR(INDIRECT($C$4&\"!K8\"),\"\")","v":""},{"$f":"IFERROR(INDIRECT($C$4&\"!L8\"),\"\")","v":""},{"$f":"IFERROR(INDIRECT($C$4&\"!M8\"),\"\")","v":""},{"$f":"IFERROR(INDIRECT($C$4&\"!N8\"),\"\")","v":""},{"$f":"IFERROR(INDIRECT($C$4&\"!O8\"),\"\")","v":""},{"$f":"IFERROR(INDIRECT($C$4&\"!P8\"),\"\")","v":""},{"$f":"IFERROR(INDIRECT($C$4&\"!Q8\"),\"\")","v":""},{"$f":"IFERROR(INDIRECT($C$4&\"!R8\"),\"\")","v":""},{"$f":"IFERROR(INDIRECT($C$4&\"!S8\"),\"\")","v":""},{"$f":"IFERROR(INDIRECT($C$4&\"!T8\"),\"\")","v":""},{"$f":"IFERROR(INDIRECT($C$4&\"!U8\"),\"\")","v":""},{"$f":"IFERROR(INDIRECT($C$4&\"!V8\"),\"\")","v":""},{"$f":"IFERROR(INDIRECT($C$4&\"!W8\"),\"\")","v":""},{"$f":"IFERROR(INDIRECT($C$4&\"!X8\"),\"\")","v":""},{"$f":"IFERROR(INDIRECT($C$4&\"!Y8\"),\"\")","v":""},null,7]
[null,null,8,{"$f":"IFERROR(INDIRECT($C$4&\"!B9\"),\"\")","v":""},{"$f":"IFERROR(INDIRECT($C$4&\"!C9\"),\"\")","v":""},{"$f":"IFERROR(INDIRECT($C$4&\"!D9\"),\"\")","v":""},{"$f":"IFERROR(INDIRECT($C$4&\"!E9\"),\"\")","v":""},{"$f":"IFERROR(INDIRECT($C$4&\"!F9\"),\"\")","v":""},{"$f":"IFERROR(INDIRECT($C$4&\"!G9\"),\"\")","v":""},{"$f":"IFERROR(INDIRECT($C$4&\"!H9\"),\"\")","v":""},{"$f":"IFERROR(INDIRECT($C$4&\"!I9\"),\"\")","v":""},{"$f":"IFERROR(INDIRECT($C$4&\"!J9\"),\"\")","v":""},{"$f":"IFERROR(INDIRECT($C$4&\"!K9\"),\"\")","v":""},{"$f":"IFERROR(INDIRECT($C$4&\"!L9\"),\"\")","v":""},{"$f":"IFERROR(INDIRECT($C$4&\"!M9\"),\"\")","v":""},{"$f":"IFERROR(INDIRECT($C$4&\"!N9\"),\"\")","v":""},{"$f":"IFERROR(INDIRECT($C$4&\"!O9\"),\"\")","v":""},{"$f":"IFERROR(INDIRECT($C$4&\"!P9\"),\"\")","v":""},{"$f":"IFERROR(INDIRECT($C$4&\"!Q9\"),\"\")","v":""},{"$f":"IFERROR(INDIRECT($C$4&\"!R9\"),\"\")","v":""},{"$f":"IFERROR(INDIRECT($C$4&\"!S9\"),\"\")","v":""},{"$f":"IFERROR(INDIRECT($C$4&\"!T9\"),\"\")","v":""},{"$f":"IFERROR(INDIRECT($C$4&\"!U9\"),\"\")","v":""},{"$f":"IFERROR(INDIRECT($C$4&\"!V9\"),\"\")","v":""},{"$f":"IFERROR(INDIRECT($C$4&\"!W9\"),\"\")","v":""},{"$f":"IFERROR(INDIRECT($C$4&\"!X9\"),\"\")","v":""},{"$f":"IFERROR(INDIRECT($C$4&\"!Y9\"),\"\")","v":""},null,8]
[null,null,9,{"$f":"IFERROR(INDIRECT($C$4&\"!B10\"),\"\")","v":""},{"$f":"IFERROR(INDIRECT($C$4&\"!C10\"),\"\")","v":""},{"$f":"IFERROR(INDIRECT($C$4&\"!D10\"),\"\")","v":""},{"$f":"IFERROR(INDIRECT($C$4&\"!E10\"),\"\")","v":""},{"$f":"IFERROR(INDIRECT($C$4&\"!F10\"),\"\")","v":""},{"$f":"IFERROR(INDIRECT($C$4&\"!G10\"),\"\")","v":""},{"$f":"IFERROR(INDIRECT($C$4&\"!H10\"),\"\")","v":""},{"$f":"IFERROR(INDIRECT($C$4&\"!I10\"),\"\")","v":""},{"$f":"IFERROR(INDIRECT($C$4&\"!J10\"),\"\")","v":""},{"$f":"IFERROR(INDIRECT($C$4&\"!K10\"),\"\")","v":""},{"$f":"IFERROR(INDIRECT($C$4&\"!L10\"),\"\")","v":""},{"$f":"IFERROR(INDIRECT($C$4&\"!M10\"),\"\")","v":""},{"$f":"IFERROR(INDIRECT($C$4&\"!N10\"),\"\")","v":""},{"$f":"IFERROR(INDIRECT($C$4&\"!O10\"),\"\")","v":""},{"$f":"IFERROR(INDIRECT($C$4&\"!P10\"),\"\")","v":""},{"$f":"IFERROR(INDIRECT($C$4&\"!Q10\"),\"\")","v":""},{"$f":"IFERROR(INDIRECT($C$4&\"!R10\"),\"\")","v":""},{"$f":"IFERROR(INDIRECT($C$4&\"!S10\"),\"\")","v":""},{"$f":"IFERROR(INDIRECT($C$4&\"!T10\"),\"\")","v":""},{"$f":"IFERROR(INDIRECT($C$4&\"!U10\"),\"\")","v":""},{"$f":"IFERROR(INDIRECT($C$4&\"!V10\"),\"\")","v":""},{"$f":"IFERROR(INDIRECT($C$4&\"!W10\"),\"\")","v":""},{"$f":"IFERROR(INDIRECT($C$4&\"!X10\"),\"\")","v":""},{"$f":"IFERROR(INDIRECT($C$4&\"!Y10\"),\"\")","v":""},null,9]
[null,null,10,{"$f":"IFERROR(INDIRECT($C$4&\"!B11\"),\"\")","v":""},{"$f":"IFERROR(INDIRECT($C$4&\"!C11\"),\"\")","v":""},{"$f":"IFERROR(INDIRECT($C$4&\"!D11\"),\"\")","v":""},{"$f":"IFERROR(INDIRECT($C$4&\"!E11\"),\"\")","v":""},{"$f":"IFERROR(INDIRECT($C$4&\"!F11\"),\"\")","v":""},{"$f":"IFERROR(INDIRECT($C$4&\"!G11\"),\"\")","v":""},{"$f":"IFERROR(INDIRECT($C$4&\"!H11\"),\"\")","v":""},{"$f":"IFERROR(INDIRECT($C$4&\"!I11\"),\"\")","v":""},{"$f":"IFERROR(INDIRECT($C$4&\"!J11\"),\"\")","v":""},{"$f":"IFERROR(INDIRECT($C$4&\"!K11\"),\"\")","v":""},{"$f":"IFERROR(INDIRECT($C$4&\"!L11\"),\"\")","v":""},{"$f":"IFERROR(INDIRECT($C$4&\"!M11\"),\"\")","v":""},{"$f":"IFERROR(INDIRECT($C$4&\"!N11\"),\"\")","v":""},{"$f":"IFERROR(INDIRECT($C$4&\"!O11\"),\"\")","v":""},{"$f":"IFERROR(INDIRECT($C$4&\"!P11\"),\"\")","v":""},{"$f":"IFERROR(INDIRECT($C$4&\"!Q11\"),\"\")","v":""},{"$f":"IFERROR(INDIRECT($C$4&\"!R11\"),\"\")","v":""},{"$f":"IFERROR(INDIRECT($C$4&\"!S11\"),\"\")","v":""},{"$f":"IFERROR(INDIRECT($C$4&\"!T11\"),\"\")","v":""},{"$f":"IFERROR(INDIRECT($C$4&\"!U11\"),\"\")","v":""},{"$f":"IFERROR(INDIRECT($C$4&\"!V11\"),\"\")","v":""},{"$f":"IFERROR(INDIRECT($C$4&\"!W11\"),\"\")","v":""},{"$f":"IFERROR(INDIRECT($C$4&\"!X11\"),\"\")","v":""},{"$f":"IFERROR(INDIRECT($C$4&\"!Y11\"),\"\")","v":""},null,10]
[null,null,11,{"$f":"IFERROR(INDIRECT($C$4&\"!B12\"),\"\")","v":""},{"$f":"IFERROR(INDIRECT($C$4&\"!C12\"),\"\")","v":""},{"$f":"IFERROR(INDIRECT($C$4&\"!D12\"),\"\")","v":""},{"$f":"IFERROR(INDIRECT($C$4&\"!E12\"),\"\")","v":""},{"$f":"IFERROR(INDIRECT($C$4&\"!F12\"),\"\")","v":""},{"$f":"IFERROR(INDIRECT($C$4&\"!G12\"),\"\")","v":""},{"$f":"IFERROR(INDIRECT($C$4&\"!H12\"),\"\")","v":""},{"$f":"IFERROR(INDIRECT($C$4&\"!I12\"),\"\")","v":""},{"$f":"IFERROR(INDIRECT($C$4&\"!J12\"),\"\")","v":""},{"$f":"IFERROR(INDIRECT($C$4&\"!K12\"),\"\")","v":""},{"$f":"IFERROR(INDIRECT($C$4&\"!L12\"),\"\")","v":""},{"$f":"IFERROR(INDIRECT($C$4&\"!M12\"),\"\")","v":""},{"$f":"IFERROR(INDIRECT($C$4&\"!N12\"),\"\")","v":""},{"$f":"IFERROR(INDIRECT($C$4&\"!O12\"),\"\")","v":""},{"$f":"IFERROR(INDIRECT($C$4&\"!P12\"),\"\")","v":""},{"$f":"IFERROR(INDIRECT($C$4&\"!Q12\"),\"\")","v":""},{"$f":"IFERROR(INDIRECT($C$4&\"!R12\"),\"\")","v":""},{"$f":"IFERROR(INDIRECT($C$4&\"!S12\"),\"\")","v":""},{"$f":"IFERROR(INDIRECT($C$4&\"!T12\"),\"\")","v":""},{"$f":"IFERROR(INDIRECT($C$4&\"!U12\"),\"\")","v":""},{"$f":"IFERROR(INDIRECT($C$4&\"!V12\"),\"\")","v":""},{"$f":"IFERROR(INDIRECT($C$4&\"!W12\"),\"\")","v":""},{"$f":"IFERROR(INDIRECT($C$4&\"!X12\"),\"\")","v":""},{"$f":"IFERROR(INDIRECT($C$4&\"!Y12\"),\"\")","v":""},null,11]
[null,null,12,{"$f":"IFERROR(INDIRECT($C$4&\"!B13\"),\"\")","v":""},{"$f":"IFERROR(INDIRECT($C$4&\"!C13\"),\"\")","v":""},{"$f":"IFERROR(INDIRECT($C$4&\"!D13\"),\"\")","v":""},{"$f":"IFERROR(INDIRECT($C$4&\"!E13\"),\"\")","v":""},{"$f":"IFERROR(INDIRECT($C$4&\"!F13\"),\"\")","v":""},{"$f":"IFERROR(INDIRECT($C$4&\"!G13\"),\"\")","v":""},{"$f":"IFERROR(INDIRECT($C$4&\"!H13\"),\"\")","v":""},{"$f":"IFERROR(INDIRECT($C$4&\"!I13\"),\"\")","v":""},{"$f":"IFERROR(INDIRECT($C$4&\"!J13\"),\"\")","v":""},{"$f":"IFERROR(INDIRECT($C$4&\"!K13\"),\"\")","v":""},{"$f":"IFERROR(INDIRECT($C$4&\"!L13\"),\"\")","v":""},{"$f":"IFERROR(INDIRECT($C$4&\"!M13\"),\"\")","v":""},{"$f":"IFERROR(INDIRECT($C$4&\"!N13\"),\"\")","v":""},{"$f":"IFERROR(INDIRECT($C$4&\"!O13\"),\"\")","v":""},{"$f":"IFERROR(INDIRECT($C$4&\"!P13\"),\"\")","v":""},{"$f":"IFERROR(INDIRECT($C$4&\"!Q13\"),\"\")","v":""},{"$f":"IFERROR(INDIRECT($C$4&\"!R13\"),\"\")","v":""},{"$f":"IFERROR(INDIRECT($C$4&\"!S13\"),\"\")","v":""},{"$f":"IFERROR(INDIRECT($C$4&\"!T13\"),\"\")","v":""},{"$f":"IFERROR(INDIRECT($C$4&\"!U13\"),\"\")","v":""},{"$f":"IFERROR(INDIRECT($C$4&\"!V13\"),\"\")","v":""},{"$f":"IFERROR(INDIRECT($C$4&\"!W13\"),\"\")","v":""},{"$f":"IFERROR(INDIRECT($C$4&\"!X13\"),\"\")","v":""},{"$f":"IFERROR(INDIRECT($C$4&\"!Y13\"),\"\")","v":""},null,12]
[null,null,1,{"$f":"IFERROR(INDIRECT($C$4&\"!B14\"),\"\")","v":""},{"$f":"IFERROR(INDIRECT($C$4&\"!C14\"),\"\")","v":""},{"$f":"IFERROR(INDIRECT($C$4&\"!D14\"),\"\")","v":""},{"$f":"IFERROR(INDIRECT($C$4&\"!E14\"),\"\")","v":""},{"$f":"IFERROR(INDIRECT($C$4&\"!F14\"),\"\")","v":""},{"$f":"IFERROR(INDIRECT($C$4&\"!G14\"),\"\")","v":""},{"$f":"IFERROR(INDIRECT($C$4&\"!H14\"),\"\")","v":""},{"$f":"IFERROR(INDIRECT($C$4&\"!I14\"),\"\")","v":""},{"$f":"IFERROR(INDIRECT($C$4&\"!J14\"),\"\")","v":""},{"$f":"IFERROR(INDIRECT($C$4&\"!K14\"),\"\")","v":""},{"$f":"IFERROR(INDIRECT($C$4&\"!L14\"),\"\")","v":""},{"$f":"IFERROR(INDIRECT($C$4&\"!M14\"),\"\")","v":""},{"$f":"IFERROR(INDIRECT($C$4&\"!N14\"),\"\")","v":""},{"$f":"IFERROR(INDIRECT($C$4&\"!O14\"),\"\")","v":""},{"$f":"IFERROR(INDIRECT($C$4&\"!P14\"),\"\")","v":""},{"$f":"IFERROR(INDIRECT($C$4&\"!Q14\"),\"\")","v":""},{"$f":"IFERROR(INDIRECT($C$4&\"!R14\"),\"\")","v":""},{"$f":"IFERROR(INDIRECT($C$4&\"!S14\"),\"\")","v":""},{"$f":"IFERROR(INDIRECT($C$4&\"!T14\"),\"\")","v":""},{"$f":"IFERROR(INDIRECT($C$4&\"!U14\"),\"\")","v":""},{"$f":"IFERROR(INDIRECT($C$4&\"!V14\"),\"\")","v":""},{"$f":"IFERROR(INDIRECT($C$4&\"!W14\"),\"\")","v":""},{"$f":"IFERROR(INDIRECT($C$4&\"!X14\"),\"\")","v":""},{"$f":"IFERROR(INDIRECT($C$4&\"!Y14\"),\"\")","v":""},null,1]
[null,null,2,{"$f":"IFERROR(INDIRECT($C$4&\"!B15\"),\"\")","v":""},{"$f":"IFERROR(INDIRECT($C$4&\"!C15\"),\"\")","v":""},{"$f":"IFERROR(INDIRECT($C$4&\"!D15\"),\"\")","v":""},{"$f":"IFERROR(INDIRECT($C$4&\"!E15\"),\"\")","v":""},{"$f":"IFERROR(INDIRECT($C$4&\"!F15\"),\"\")","v":""},{"$f":"IFERROR(INDIRECT($C$4&\"!G15\"),\"\")","v":""},{"$f":"IFERROR(INDIRECT($C$4&\"!H15\"),\"\")","v":""},{"$f":"IFERROR(INDIRECT($C$4&\"!I15\"),\"\")","v":""},{"$f":"IFERROR(INDIRECT($C$4&\"!J15\"),\"\")","v":""},{"$f":"IFERROR(INDIRECT($C$4&\"!K15\"),\"\")","v":""},{"$f":"IFERROR(INDIRECT($C$4&\"!L15\"),\"\")","v":""},{"$f":"IFERROR(INDIRECT($C$4&\"!M15\"),\"\")","v":""},{"$f":"IFERROR(INDIRECT($C$4&\"!N15\"),\"\")","v":""},{"$f":"IFERROR(INDIRECT($C$4&\"!O15\"),\"\")","v":""},{"$f":"IFERROR(INDIRECT($C$4&\"!P15\"),\"\")","v":""},{"$f":"IFERROR(INDIRECT($C$4&\"!Q15\"),\"\")","v":""},{"$f":"IFERROR(INDIRECT($C$4&\"!R15\"),\"\")","v":""},{"$f":"IFERROR(INDIRECT($C$4&\"!S15\"),\"\")","v":""},{"$f":"IFERROR(INDIRECT($C$4&\"!T15\"),\"\")","v":""},{"$f":"IFERROR(INDIRECT($C$4&\"!U15\"),\"\")","v":""},{"$f":"IFERROR(INDIRECT($C$4&\"!V15\"),\"\")","v":""},{"$f":"IFERROR(INDIRECT($C$4&\"!W15\"),\"\")","v":""},{"$f":"IFERROR(INDIRECT($C$4&\"!X15\"),\"\")","v":""},{"$f":"IFERROR(INDIRECT($C$4&\"!Y15\"),\"\")","v":""},null,2]
[null,null,3,{"$f":"IFERROR(INDIRECT($C$4&\"!B16\"),\"\")","v":""},{"$f":"IFERROR(INDIRECT($C$4&\"!C16\"),\"\")","v":""},{"$f":"IFERROR(INDIRECT($C$4&\"!D16\"),\"\")","v":""},{"$f":"IFERROR(INDIRECT($C$4&\"!E16\"),\"\")","v":""},{"$f":"IFERROR(INDIRECT($C$4&\"!F16\"),\"\")","v":""},{"$f":"IFERROR(INDIRECT($C$4&\"!G16\"),\"\")","v":""},{"$f":"IFERROR(INDIRECT($C$4&\"!H16\"),\"\")","v":""},{"$f":"IFERROR(INDIRECT($C$4&\"!I16\"),\"\")","v":""},{"$f":"IFERROR(INDIRECT($C$4&\"!J16\"),\"\")","v":""},{"$f":"IFERROR(INDIRECT($C$4&\"!K16\"),\"\")","v":""},{"$f":"IFERROR(INDIRECT($C$4&\"!L16\"),\"\")","v":""},{"$f":"IFERROR(INDIRECT($C$4&\"!M16\"),\"\")","v":""},{"$f":"IFERROR(INDIRECT($C$4&\"!N16\"),\"\")","v":""},{"$f":"IFERROR(INDIRECT($C$4&\"!O16\"),\"\")","v":""},{"$f":"IFERROR(INDIRECT($C$4&\"!P16\"),\"\")","v":""},{"$f":"IFERROR(INDIRECT($C$4&\"!Q16\"),\"\")","v":""},{"$f":"IFERROR(INDIRECT($C$4&\"!R16\"),\"\")","v":""},{"$f":"IFERROR(INDIRECT($C$4&\"!S16\"),\"\")","v":""},{"$f":"IFERROR(INDIRECT($C$4&\"!T16\"),\"\")","v":""},{"$f":"IFERROR(INDIRECT($C$4&\"!U16\"),\"\")","v":""},{"$f":"IFERROR(INDIRECT($C$4&\"!V16\"),\"\")","v":""},{"$f":"IFERROR(INDIRECT($C$4&\"!W16\"),\"\")","v":""},{"$f":"IFERROR(INDIRECT($C$4&\"!X16\"),\"\")","v":""},{"$f":"IFERROR(INDIRECT($C$4&\"!Y16\"),\"\")","v":""},null,3]
[]
[null,null,null,null,null,null,null,null,null,null,null,null,null,null,null,null,null,null,null,"定格条件\n【外気温度】",null,"冷却","35℃",null,"定格条件\n【冷温水温度】",null,"冷却","入口温度","12℃","加熱","入口温度","40℃"]
[null,null,null,null,null,null,null,null,null,null,null,null,null,null,null,null,null,null,null,null,null,"加熱","7℃",null,null,null,null,"出口温度","7℃",null,"出口温度","45℃"]
[]
[null,null,null,"設備導入前",null,null,null,null,null,null,null,null,null,null,null,null,"前1","前2","前3"]
[null,null,null,null,"定格冷却能力",null,null,null,"空冷HPチラーの仕様を入力",null,null,null,null,null,null,"Φco",150,null,null,"kW"]
[null,null,null,null,"定格冷却消費電力",null,null,null,"空冷HPチラーの仕様を入力",null,null,null,null,null,null,"Pco",43,null,null,"kW"]
[null,null,null,null,"定格冷却COP",null,null,null,"自動計算",null,null,null,null,null,null,"σco",{"$f":"IFERROR(Q$29/Q$30,\"\")","v":3.4883720930232558},{"$f":"IFERROR(R$29/R$30,\"\")","v":""},{"$f":"IFERROR(S$29/S$30,\"\")","v":""},"σco＝Φco／Pco"]
[null,null,null,null,"定格加熱能力",null,null,null,"空冷HPチラーの仕様を入力",null,null,null,null,null,null,"Φwo",150,null,null,"kW"]
[null,null,null,null,"定格加熱消費電力",null,null,null,"空冷HPチラーの仕様を入力",null,null,null,null,null,null,"Pwo",41.2,null,null,"kW"]
[null,null,null,null,"定格加熱COP",null,null,null,"自動計算",null,null,null,null,null,null,"σwo",{"$f":"IFERROR(Q$32/Q$33,\"\")","v":3.6407766990291259},{"$f":"IFERROR(R$32/R$33,\"\")","v":""},{"$f":"IFERROR(S$32/S$33,\"\")","v":""},"σwo＝Φwo／Pwo"]
[null,null,null,null,"冷温水ポンプモータ定格出力",null,null,null,"空冷HPチラーの仕様を入力",null,null,null,null,null,null,"Pp2",3.7,null,null,"kW"]
[null,null,null,null,"最大冷却負荷",null,null,null,"設計時の値を入力（不明の際は空白のまま）",null,null,null,null,null,null,"Qc",null,null,null,"kW"]
[null,null,null,null,null,null,null,null,null,null,null,null,null,null,null,null,{"$f":"IF($Q$36=\"\",0.8,IF($Q$36=0,0.8,IF($Q$29<$Q$36,1,$Q$36/$Q$29)))","v":0.8},{"$f":"IF($R$36=\"\",0.8,IF($R$36=0,0.8,IF($R$29<$R$36,1,$R$36/$R$29)))","v":0.8},{"$f":"IF($S$36=\"\",0.8,IF($S$36=0,0.8,IF($S$29<$S$36,1,$S$36/$S$29)))","v":0.8}]
[]
[]
[]
[]
[null,null,null,"設備導入後",null,null,null,null,null,null,null,null,null,null,null,null,"後1","後2","後3"]
[null,null,null,null,"定格冷却能力",null,null,null,"空冷HPチラーの仕様を入力",null,null,null,null,null,null,"Φco",null,null,null,"kW"]
[null,null,null,null,"定格冷却消費電力",null,null,null,"空冷HPチラーの仕様を入力",null,null,null,null,null,null,"Pco",null,null,null,"kW"]
[null,null,null,null,"定格冷却COP",null,null,null,"自動計算",null,null,null,null,null,null,"σco",{"$f":"IFERROR(Q$43/Q$44,\"\")","v":""},{"$f":"IFERROR(R$43/R$44,\"\")","v":""},{"$f":"IFERROR(S$43/S$44,\"\")","v":""},"σco＝Φco／Pco"]
[null,null,null,null,"定格加熱能力",null,null,null,"空冷HPチラーの仕様を入力",null,null,null,null,null,null,"Φwo",null,null,null,"kW"]
[null,null,null,null,"定格加熱消費電力",null,null,null,"空冷HPチラーの仕様を入力",null,null,null,null,null,null,"Pwo",null,null,null,"kW"]
[null,null,null,null,"定格加熱COP",null,null,null,"自動計算",null,null,null,null,null,null,"σwo",{"$f":"IFERROR(Q$46/Q$47,\"\")","v":""},{"$f":"IFERROR(R$46/R$47,\"\")","v":""},{"$f":"IFERROR(S$46/S$47,\"\")","v":""},"σwo＝Φwo／Pwo"]
[null,null,null,null,"冷温水ポンプモータ定格出力",null,null,null,"空冷HPチラーの仕様を入力",null,null,null,null,null,null,"Pp2",null,null,null,"kW"]
[null,null,null,null,"最大冷却負荷",null,null,null,"設計時の値を入力（不明の際は空白のまま）",null,null,null,null,null,null,"Qc",null,null,null,"kW"]
[null,null,null,null,null,null,null,null,null,null,null,null,null,null,null,null,{"$f":"IF($Q$50=\"\",0.8,IF($Q$50=0,0.8,IF($Q$43<$Q$50,1,$Q$50/$Q$43)))","v":0.8},{"$f":"IF($R$50=\"\",0.8,IF($R$50=0,0.8,IF($R$43<$R$50,1,$R$50/$R$43)))","v":0.8},{"$f":"IF($S$50=\"\",0.8,IF($S$50=0,0.8,IF($S$43<$S$50,1,$S$50/$S$43)))","v":0.8}]
[]
[]
[]
[]
[null,null,"設備導入前年間電力使用量[kWh]"]
[null,null,null,"冷却(Ec)",null,"加熱(Ew)",null,"合計(Ecw)"]
[null,null,null,{"$f":"IFERROR($F$74+$M$74+$T$74,\"\")","v":0},null,{"$f":"IFERROR($I$74+$P$74+$W$74,\"\")","v":0},null,{"$f":"IFERROR($J$74+$Q$74+$X$74,\"\")","v":0}]
[]
[null,null,null,"前1",null,null,null,null,null,null,"前2",null,null,null,null,null,null,"前3"]
[null,null,"月    期間","主機(Ecc)","補機(Eaxc)","全体(Ec)","主機(Eww)","補機(Eaxw)","全体(Ew)","月合計","主機(Ecc)","補機(Eaxc)","全体(Ec)","主機(Eww)","補機(Eaxw)","全体(Ew)","月合計","主機(Ecc)","補機(Eaxc)","全体(Ec)","主機(Eww)","補機(Eaxw)","全体(Ew)","月合計"]
[null,null,4,{"$f":"IF($C$7=\"---\",\"\",IFERROR(AX149,\"\"))","v":""},{"$f":"IF($C$7=\"---\",\"\",IFERROR(AY149,\"\"))","v":""},"",{"$f":"IF($C$7=\"---\",\"\",IFERROR(AX170,\"\"))","v":""},{"$f":"IF($C$7=\"---\",\"\",IFERROR(AY170,\"\"))","v":""},{"$f":"IF($C$7=\"---\",\"\",IFERROR(AZ170,\"\"))","v":""},{"$f":"IFERROR(SUM(F62+I62),\"\")","v":""},{"$f":"IF($C$7=\"---\",\"\",IFERROR($BA149,\"\"))","v":""},{"$f":"IF($C$7=\"---\",\"\",IFERROR($BB149,\"\"))","v":""},{"$f":"IF($C$7=\"---\",\"\",IFERROR($BC149,\"\"))","v":""},{"$f":"IF($C$7=\"---\",\"\",IFERROR(BA170,\"\"))","v":""},{"$f":"IF($C$7=\"---\",\"\",IFERROR(BB170,\"\"))","v":""},{"$f":"IF($C$7=\"---\",\"\",IFERROR(BC170,\"\"))","v":""},{"$f":"IFERROR(SUM(M62+P62),\"\")","v":""},{"$f":"IF($C$7=\"---\",\"\",IFERROR($BD149,\"\"))","v":""},{"$f":"IF($C$7=\"---\",\"\",IFERROR($BE149,\"\"))","v":""},{"$f":"IF($C$7=\"---\",\"\",IFERROR($BF149,\"\"))","v":""},{"$f":"IF($C$7=\"---\",\"\",IFERROR(BD170,\"\"))","v":""},{"$f":"IF($C$7=\"---\",\"\",IFERROR(BE170,\"\"))","v":""},{"$f":"IF($C$7=\"---\",\"\",IFERROR(BF170,\"\"))","v":""},{"$f":"IFERROR(SUM(T62+W62),\"\")","v":""}]
[null,null,5,{"$f":"IF($C$7=\"---\",\"\",IFERROR($AX150,\"\"))","v":""},"","",{"$f":"IF($C$7=\"---\",\"\",IFERROR(AX171,\"\"))","v":""},"","",{"$f":"IFERROR(SUM(F63+I63),\"\")","v":""},{"$f":"IF($C$7=\"---\",\"\",IFERROR($BA150,\"\"))","v":""},{"$f":"IF($C$7=\"---\",\"\",IFERROR($BB150,\"\"))","v":""},{"$f":"IF($C$7=\"---\",\"\",IFERROR($BC150,\"\"))","v":""},{"$f":"IF($C$7=\"---\",\"\",IFERROR(BA171,\"\"))","v":""},"","",{"$f":"IFERROR(SUM(M63+P63),\"\")","v":""},{"$f":"IF($C$7=\"---\",\"\",IFERROR($BD150,\"\"))","v":""},{"$f":"IF($C$7=\"---\",\"\",IFERROR($BE150,\"\"))","v":""},{"$f":"IF($C$7=\"---\",\"\",IFERROR($BF150,\"\"))","v":""},{"$f":"IF($C$7=\"---\",\"\",IFERROR(BD171,\"\"))","v":""},"","",{"$f":"IFERROR(SUM(T63+W63),\"\")","v":""}]
[null,null,6,"","","","","","",{"$f":"IFERROR(SUM(F64+I64),\"\")","v":""},"","","","","","","","","","","","","",""]
[null,null,7,"","","","","","","","","","","","","","","","","","","","",""]
[null,null,8,"","","","","","","","","","","","","","","","","","","","",""]
[null,null,9,"","","","","","","","","","","","","","","","","","","","",""]
[null,null,10,"","","","","","","","","","","","","",{"$f":"IFERROR(SUM(M68+P68),\"\")","v":""},"","","","","","",{"$f":"IFERROR(SUM(T68+W68),\"\")","v":""}]
[null,null,11,"","","","","","","","","","","","","","","","","","","","",""]
[null,null,12,"","","","","","",{"$f":"IFERROR(SUM(F70+I70),\"\")","v":""},"","","","","","",{"$f":"IFERROR(SUM(M70+P70),\"\")","v":""},"","","","","","",{"$f":"IFERROR(SUM(T70+W70),\"\")","v":""}]
[null,null,1,"","","","","","","","","","","","","","","","","","","","",""]
[null,null,2,"","","","","","",{"$f":"IFERROR(SUM(F72+I72),\"\")","v":""},"","","","","","",{"$f":"IFERROR(SUM(M72+P72),\"\")","v":""},"","","","","","",""]
[null,null,3,"","","","","","",{"$f":"IFERROR(SUM(F73+I73),\"\")","v":""},"","","","","","","","","","","","","",""]
[null,null,"合計",{"$f":"IFERROR(SUM($D$62:$D$73),\"\")","v":0},{"$f":"IFERROR(SUM($E$62:$E$73),\"\")","v":0},{"$f":"IFERROR(SUM(F$62:F$73),\"\")","v":0},{"$f":"IFERROR(SUM(G$62:G$73),\"\")","v":0},{"$f":"IFERROR(SUM(H$62:H$73),\"\")","v":0},{"$f":"IFERROR(SUM(I$62:I$73),\"\")","v":0},0,0,0,0,0,0,0,0,0,0,{"$f":"IFERROR(SUM(T$62:T$73),\"\")","v":0},0,0,0,0]
[]
[]
[null,null,"設備導入後年間電力使用量[kWh]"]
[null,null,null,"冷却(Ec)",null,"加熱(Ew)",null,"合計(Ecw)"]
[null,null,null,{"$f":"IFERROR($F$95+$M$95+$T$95,\"\")","v":0},null,{"$f":"IFERROR($I$95+$P$95+$W$95,\"\")","v":0},null,{"$f":"IFERROR($J$95+$Q$95+$X$95,\"\")","v":0}]
[]
[null,null,null,"後1",null,null,null,null,null,null,"後2",null,null,null,null,null,null,"後3"]
[null,null,"月    期間","主機(Ecc)","補機(Eaxc)","全体(Ec)","主機(Eww)","補機(Eaxw)","全体(Ew)","月合計","主機(Ecc)","補機(Eaxc)","全体(Ec)","主機(Eww)","補機(Eaxw)","全体(Ew)","月合計","主機(Ecc)","補機(Eaxc)","全体(Ec)","主機(Eww)","補機(Eaxw)","全体(Ew)","月合計"]
[null,null,4,{"$f":"IF($C$7=\"---\",\"\",IFERROR($BH149,\"\"))","v":""},{"$f":"IF($C$7=\"---\",\"\",IFERROR($BI149,\"\"))","v":""},{"$f":"IF($C$7=\"---\",\"\",IFERROR($BJ149,\"\"))","v":""},{"$f":"IF($C$7=\"---\",\"\",IFERROR($BH170,\"\"))","v":""},{"$f":"IF($C$7=\"---\",\"\",IFERROR($BI170,\"\"))","v":""},{"$f":"IF($C$7=\"---\",\"\",IFERROR($BJ170,\"\"))","v":""},{"$f":"IFERROR(SUM(F83+I83),\"\")","v":""},{"$f":"IF($C$7=\"---\",\"\",IFERROR($BK149,\"\"))","v":""},{"$f":"IF($C$7=\"---\",\"\",IFERROR($BL149,\"\"))","v":""},{"$f":"IF($C$7=\"---\",\"\",IFERROR($BM149,\"\"))","v":""},{"$f":"IF($C$7=\"---\",\"\",IFERROR($BK170,\"\"))","v":""},{"$f":"IF($C$7=\"---\",\"\",IFERROR($BL170,\"\"))","v":""},{"$f":"IF($C$7=\"---\",\"\",IFERROR($BM170,\"\"))","v":""},{"$f":"IFERROR(SUM(M83+P83),\"\")","v":""},{"$f":"IF($C$7=\"---\",\"\",IFERROR($BN149,\"\"))","v":""},{"$f":"IF($C$7=\"---\",\"\",IFERROR($BO149,\"\"))","v":""},{"$f":"IF($C$7=\"---\",\"\",IFERROR($BP149,\"\"))","v":""},{"$f":"IF($C$7=\"---\",\"\",IFERROR($BN170,\"\"))","v":""},{"$f":"IF($C$7=\"---\",\"\",IFERROR($BO170,\"\"))","v":""},{"$f":"IF($C$7=\"---\",\"\",IFERROR($BP170,\"\"))","v":""},{"$f":"IFERROR(SUM(T83+W83),\"\")","v":""}]
[null,null,5,{"$f":"IF($C$7=\"---\",\"\",IFERROR($BH150,\"\"))","v":""},{"$f":"IF($C$7=\"---\",\"\",IFERROR($BI150,\"\"))","v":""},{"$f":"IF($C$7=\"---\",\"\",IFERROR($BJ150,\"\"))","v":""},{"$f":"IF($C$7=\"---\",\"\",IFERROR($BH171,\"\"))","v":""},{"$f":"IF($C$7=\"---\",\"\",IFERROR($BI171,\"\"))","v":""},{"$f":"IF($C$7=\"---\",\"\",IFERROR($BJ171,\"\"))","v":""},{"$f":"IFERROR(SUM(F84+I84),\"\")","v":""},{"$f":"IF($C$7=\"---\",\"\",IFERROR($BK150,\"\"))","v":""},{"$f":"IF($C$7=\"---\",\"\",IFERROR($BL150,\"\"))","v":""},{"$f":"IF($C$7=\"---\",\"\",IFERROR($BM150,\"\"))","v":""},{"$f":"IF($C$7=\"---\",\"\",IFERROR($BK171,\"\"))","v":""},{"$f":"IF($C$7=\"---\",\"\",IFERROR($BL171,\"\"))","v":""},{"$f":"IF($C$7=\"---\",\"\",IFERROR($BM171,\"\"))","v":""},{"$f":"IFERROR(SUM(M84+P84),\"\")","v":""},{"$f":"IF($C$7=\"---\",\"\",IFERROR($BN150,\"\"))","v":""},{"$f":"IF($C$7=\"---\",\"\",IFERROR($BO150,\"\"))","v":""},{"$f":"IF($C$7=\"---\",\"\",IFERROR($BP150,\"\"))","v":""},{"$f":"IF($C$7=\"---\",\"\",IFERROR($BN171,\"\"))","v":""},{"$f":"IF($C$7=\"---\",\"\",IFERROR($BO171,\"\"))","v":""},{"$f":"IF($C$7=\"---\",\"\",IFERROR($BP171,\"\"))","v":""},{"$f":"IFERROR(SUM(T84+W84),\"\")","v":""}]
[null,null,6,"","","","","","","","","","","","","",{"$f":"IFERROR(SUM(M85+P85),\"\")","v":""},"","","","","","",""]
[null,null,7,"","","","","","","","","","","","","","","","","","","","",""]
[null,null,8,"","","","","","","","","","","","","","","","","","","","",""]
[null,null,9,"","","","","","","","","","","","","","","","","","","","",""]
[null,null,10,"","","","","","","","","","","","","","","","","","","","",""]
[null,null,11,"","","","","","","","","","","","","","","","","","","","",{"$f":"IFERROR(SUM(T90+W90),\"\")","v":""}]
[null,null,12,"","","","","","",{"$f":"IFERROR(SUM(F91+I91),\"\")","v":""},"","","","","","",{"$f":"IFERROR(SUM(M91+P91),\"\")","v":""},"","","","","","",{"$f":"IFERROR(SUM(T91+W91),\"\")","v":""}]
[null,null,1,"","","","","","","","","","","","","","","","","","","","",""]
[null,null,2,"","","","","","","","","","","","","","","","","","","","",""]
[null,null,3,"","","","","","","","","","","","","","","","","","","","",""]
[null,null,"合計",{"$f":"IFERROR(SUM(D83:D94),\"\")","v":0},{"$f":"IFERROR(SUM(E83:E94),\"\")","v":0},0,0,0,0,0,0,0,0,0,0,0,0,0,0,0,0,0,0,0]
[]
[]
[null,null,"作業表1(青色のセルを「24」、オレンジ色のセルを「19」として抽出）"]
[null,null,null," 時刻"]
[null,null,"月",0,1,2,3,4,5,6,7,8,9,10,11,12,13,14,15,16,17,18,19,20,21,22,23,"月"]
[null,null,4,{"$f":"CELLCOLOR($D$12)","v":-4142},{"$f":"CELLCOLOR($E$12)","v":-4142},{"$f":"CELLCOLOR($F$12)","v":-4142},{"$f":"CELLCOLOR($G$12)","v":-4142},{"$f":"CELLCOLOR($H$12)","v":-4142},{"$f":"CELLCOLOR($I$12)","v":-4142},{"$f":"CELLCOLOR($J$12)","v":-4142},{"$f":"CELLCOLOR($K$12)","v":-4142},{"$f":"CELLCOLOR($L$12)","v":-4142},{"$f":"CELLCOLOR($M$12)","v":-4142},{"$f":"CELLCOLOR($N$12)","v":-4142},{"$f":"CELLCOLOR($O$12)","v":-4142},{"$f":"CELLCOLOR($P$12)","v":-4142},{"$f":"CELLCOLOR($Q$12)","v":-4142},{"$f":"CELLCOLOR($R$12)","v":-4142},{"$f":"CELLCOLOR($S$12)","v":-4142},{"$f":"CELLCOLOR($T$12)","v":-4142},{"$f":"CELLCOLOR($U$12)","v":-4142},{"$f":"CELLCOLOR($V$12)","v":-4142},{"$f":"CELLCOLOR($W$12)","v":-4142},{"$f":"CELLCOLOR($X$12)","v":-4142},{"$f":"CELLCOLOR($Y$12)","v":-4142},{"$f":"CELLCOLOR($Z$12)","v":-4142},{"$f":"CELLCOLOR($AA$12)","v":-4142},4]
[null,null,5,{"$f":"CELLCOLOR($D$13)","v":-4142},{"$f":"CELLCOLOR($E$13)","v":-4142},{"$f":"CELLCOLOR($F$13)","v":-4142},{"$f":"CELLCOLOR($G$13)","v":-4142},{"$f":"CELLCOLOR($H$13)","v":-4142},{"$f":"CELLCOLOR($I$13)","v":-4142},{"$f":"CELLCOLOR($J$13)","v":-4142},{"$f":"CELLCOLOR($K$13)","v":-4142},{"$f":"CELLCOLOR($L$13)","v":-4142},{"$f":"CELLCOLOR($M$13)","v":-4142},{"$f":"CELLCOLOR($N$13)","v":-4142},{"$f":"CELLCOLOR($O$13)","v":-4142},{"$f":"CELLCOLOR($P$13)","v":-4142},{"$f":"CELLCOLOR($Q$13)","v":-4142},{"$f":"CELLCOLOR($R$13)","v":-4142},{"$f":"CELLCOLOR($S$13)","v":-4142},{"$f":"CELLCOLOR($T$13)","v":-4142},{"$f":"CELLCOLOR($U$13)","v":-4142},{"$f":"CELLCOLOR($V$13)","v":-4142},{"$f":"CELLCOLOR($W$13)","v":-4142},{"$f":"CELLCOLOR($X$13)","v":-4142},{"$f":"CELLCOLOR($Y$13)","v":-4142},{"$f":"CELLCOLOR($Z$13)","v":-4142},{"$f":"CELLCOLOR($AA$13)","v":-4142},5]
[null,null,6,{"$f":"CELLCOLOR($D$14)","v":-4142},{"$f":"CELLCOLOR($E$14)","v":-4142},{"$f":"CELLCOLOR($F$14)","v":-4142},{"$f":"CELLCOLOR($G$14)","v":-4142},{"$f":"CELLCOLOR($H$14)","v":-4142},{"$f":"CELLCOLOR($I$14)","v":-4142},{"$f":"CELLCOLOR($J$14)","v":-4142},{"$f":"CELLCOLOR($K$14)","v":-4142},{"$f":"CELLCOLOR($L$14)","v":-4142},{"$f":"CELLCOLOR($M$14)","v":-4142},{"$f":"CELLCOLOR($N$14)","v":-4142},{"$f":"CELLCOLOR($O$14)","v":-4142},{"$f":"CELLCOLOR($P$14)","v":-4142},{"$f":"CELLCOLOR($Q$14)","v":-4142},{"$f":"CELLCOLOR($R$14)","v":-4142},{"$f":"CELLCOLOR($S$14)","v":-4142},{"$f":"CELLCOLOR($T$14)","v":-4142},{"$f":"CELLCOLOR($U$14)","v":-4142},{"$f":"CELLCOLOR($V$14)","v":-4142},{"$f":"CELLCOLOR($W$14)","v":-4142},{"$f":"CELLCOLOR($X$14)","v":-4142},{"$f":"CELLCOLOR($Y$14)","v":-4142},{"$f":"CELLCOLOR($Z$14)","v":-4142},{"$f":"CELLCOLOR($AA$14)","v":-4142},6]
[null,null,7,{"$f":"CELLCOLOR($D$15)","v":-4142},{"$f":"CELLCOLOR($E$15)","v":-4142},{"$f":"CELLCOLOR($F$15)","v":-4142},{"$f":"CELLCOLOR($G$15)","v":-4142},{"$f":"CELLCOLOR($H$15)","v":-4142},{"$f":"CELLCOLOR($I$15)","v":-4142},{"$f":"CELLCOLOR($J$15)","v":-4142},{"$f":"CELLCOLOR($K$15)","v":-4142},{"$f":"CELLCOLOR($L$15)","v":-4142},{"$f":"CELLCOLOR($M$15)","v":-4142},{"$f":"CELLCOLOR($N$15)","v":-4142},{"$f":"CELLCOLOR($O$15)","v":-4142},{"$f":"CELLCOLOR($P$15)","v":-4142},{"$f":"CELLCOLOR($Q$15)","v":-4142},{"$f":"CELLCOLOR($R$15)","v":-4142},{"$f":"CELLCOLOR($S$15)","v":-4142},{"$f":"CELLCOLOR($T$15)","v":-4142},{"$f":"CELLCOLOR($U$15)","v":-4142},{"$f":"CELLCOLOR($V$15)","v":-4142},{"$f":"CELLCOLOR($W$15)","v":-4142},{"$f":"CELLCOLOR($X$15)","v":-4142},{"$f":"CELLCOLOR($Y$15)","v":-4142},{"$f":"CELLCOLOR($Z$15)","v":-4142},{"$f":"CELLCOLOR($AA$15)","v":-4142},7]
[null,null,8,{"$f":"CELLCOLOR($D$16)","v":-4142},{"$f":"CELLCOLOR($E$16)","v":-4142},{"$f":"CELLCOLOR($F$16)","v":-4142},{"$f":"CELLCOLOR($G$16)","v":-4142},{"$f":"CELLCOLOR($H$16)","v":-4142},{"$f":"CELLCOLOR($I$16)","v":-4142},{"$f":"CELLCOLOR($J$16)","v":-4142},{"$f":"CELLCOLOR($K$16)","v":-4142},{"$f":"CELLCOLOR($L$16)","v":-4142},{"$f":"CELLCOLOR($M$16)","v":-4142},{"$f":"CELLCOLOR($N$16)","v":-4142},{"$f":"CELLCOLOR($O$16)","v":-4142},{"$f":"CELLCOLOR($P$16)","v":-4142},{"$f":"CELLCOLOR($Q$16)","v":-4142},{"$f":"CELLCOLOR($R$16)","v":-4142},{"$f":"CELLCOLOR($S$16)","v":-4142},{"$f":"CELLCOLOR($T$16)","v":-4142},{"$f":"CELLCOLOR($U$16)","v":-4142},{"$f":"CELLCOLOR($V$16)","v":-4142},{"$f":"CELLCOLOR($W$16)","v":-4142},{"$f":"CELLCOLOR($X$16)","v":-4142},{"$f":"CELLCOLOR($Y$16)","v":-4142},{"$f":"CELLCOLOR($Z$16)","v":-4142},{"$f":"CELLCOLOR($AA$16)","v":-4142},8]
[null,null,9,{"$f":"CELLCOLOR($D$17)","v":-4142},{"$f":"CELLCOLOR($E$17)","v":-4142},{"$f":"CELLCOLOR($F$17)","v":-4142},{"$f":"CELLCOLOR($G$17)","v":-4142},{"$f":"CELLCOLOR($H$17)","v":-4142},{"$f":"CELLCOLOR($I$17)","v":-4142},{"$f":"CELLCOLOR($J$17)","v":-4142},{"$f":"CELLCOLOR($K$17)","v":-4142},{"$f":"CELLCOLOR($L$17)","v":-4142},{"$f":"CELLCOLOR($M$17)","v":-4142},{"$f":"CELLCOLOR($N$17)","v":-4142},{"$f":"CELLCOLOR($O$17)","v":-4142},{"$f":"CELLCOLOR($P$17)","v":-4142},{"$f":"CELLCOLOR($Q$17)","v":-4142},{"$f":"CELLCOLOR($R$17)","v":-4142},{"$f":"CELLCOLOR($S$17)","v":-4142},{"$f":"CELLCOLOR($T$17)","v":-4142},{"$f":"CELLCOLOR($U$17)","v":-4142},{"$f":"CELLCOLOR($V$17)","v":-4142},{"$f":"CELLCOLOR($W$17)","v":-4142},{"$f":"CELLCOLOR($X$17)","v":-4142},{"$f":"CELLCOLOR($Y$17)","v":-4142},{"$f":"CELLCOLOR($Z$17)","v":-4142},{"$f":"CELLCOLOR($AA$17)","v":-4142},9]
[null,null,10,{"$f":"CELLCOLOR($D$18)","v":-4142},{"$f":"CELLCOLOR($E$18)","v":-4142},{"$f":"CELLCOLOR($F$18)","v":-4142},{"$f":"CELLCOLOR($G$18)","v":-4142},{"$f":"CELLCOLOR($H$18)","v":-4142},{"$f":"CELLCOLOR($I$18)","v":-4142},{"$f":"CELLCOLOR($J$18)","v":-4142},{"$f":"CELLCOLOR($K$18)","v":-4142},{"$f":"CELLCOLOR($L$18)","v":-4142},{"$f":"CELLCOLOR($M$18)","v":-4142},{"$f":"CELLCOLOR($N$18)","v":-4142},{"$f":"CELLCOLOR($O$18)","v":-4142},{"$f":"CELLCOLOR($P$18)","v":-4142},{"$f":"CELLCOLOR($Q$18)","v":-4142},{"$f":"CELLCOLOR($R$18)","v":-4142},{"$f":"CELLCOLOR($S$18)","v":-4142},{"$f":"CELLCOLOR($T$18)","v":-4142},{"$f":"CELLCOLOR($U$18)","v":-4142},{"$f":"CELLCOLOR($V$18)","v":-4142},{"$f":"CELLCOLOR($W$18)","v":-4142},{"$f":"CELLCOLOR($X$18)","v":-4142},{"$f":"CELLCOLOR($Y$18)","v":-4142},{"$f":"CELLCOLOR($Z$18)","v":-4142},{"$f":"CELLCOLOR($AA$18)","v":-4142},10]
[null,null,11,{"$f":"CELLCOLOR($D$19)","v":-4142},{"$f":"CELLCOLOR($E$19)","v":-4142},{"$f":"CELLCOLOR($F$19)","v":-4142},{"$f":"CELLCOLOR($G$19)","v":-4142},{"$f":"CELLCOLOR($H$19)","v":-4142},{"$f":"CELLCOLOR($I$19)","v":-4142},{"$f":"CELLCOLOR($J$19)","v":-4142},{"$f":"CELLCOLOR($K$19)","v":-4142},{"$f":"CELLCOLOR($L$19)","v":-4142},{"$f":"CELLCOLOR($M$19)","v":-4142},{"$f":"CELLCOLOR($N$19)","v":-4142},{"$f":"CELLCOLOR($O$19)","v":-4142},{"$f":"CELLCOLOR($P$19)","v":-4142},{"$f":"CELLCOLOR($Q$19)","v":-4142},{"$f":"CELLCOLOR($R$19)","v":-4142},{"$f":"CELLCOLOR($S$19)","v":-4142},{"$f":"CELLCOLOR($T$19)","v":-4142},{"$f":"CELLCOLOR($U$19)","v":-4142},{"$f":"CELLCOLOR($V$19)","v":-4142},{"$f":"CELLCOLOR($W$19)","v":-4142},{"$f":"CELLCOLOR($X$19)","v":-4142},{"$f":"CELLCOLOR($Y$19)","v":-4142},{"$f":"CELLCOLOR($Z$19)","v":-4142},{"$f":"CELLCOLOR($AA$19)","v":-4142},11]
[null,null,12,{"$f":"CELLCOLOR($D$20)","v":-4142},{"$f":"CELLCOLOR($E$20)","v":-4142},{"$f":"CELLCOLOR($F$20)","v":-4142},{"$f":"CELLCOLOR($G$20)","v":-4142},{"$f":"CELLCOLOR($H$20)","v":-4142},{"$f":"CELLCOLOR($I$20)","v":-4142},{"$f":"CELLCOLOR($J$20)","v":-4142},{"$f":"CELLCOLOR($K$20)","v":-4142},{"$f":"CELLCOLOR($L$20)","v":-4142},{"$f":"CELLCOLOR($M$20)","v":-4142},{"$f":"CELLCOLOR($N$20)","v":-4142},{"$f":"CELLCOLOR($O$20)","v":-4142},{"$f":"CELLCOLOR($P$20)","v":-4142},{"$f":"CELLCOLOR($Q$20)","v":-4142},{"$f":"CELLCOLOR($R$20)","v":-4142},{"$f":"CELLCOLOR($S$20)","v":-4142},{"$f":"CELLCOLOR($T$20)","v":-4142},{"$f":"CELLCOLOR($U$20)","v":-4142},{"$f":"CELLCOLOR($V$20)","v":-4142},{"$f":"CELLCOLOR($W$20)","v":-4142},{"$f":"CELLCOLOR($X$20)","v":-4142},{"$f":"CELLCOLOR($Y$20)","v":-4142},{"$f":"CELLCOLOR($Z$20)","v":-4142},{"$f":"CELLCOLOR($AA$20)","v":-4142},12]
[null,null,1,{"$f":"CELLCOLOR($D$21)","v":-4142},{"$f":"CELLCOLOR($E$21)","v":-4142},{"$f":"CELLCOLOR($F$21)","v":-4142},{"$f":"CELLCOLOR($G$21)","v":-4142},{"$f":"CELLCOLOR($H$21)","v":-4142},{"$f":"CELLCOLOR($I$21)","v":-4142},{"$f":"CELLCOLOR($J$21)","v":-4142},{"$f":"CELLCOLOR($K$21)","v":-4142},{"$f":"CELLCOLOR($L$21)","v":-4142},{"$f":"CELLCOLOR($M$21)","v":-4142},{"$f":"CELLCOLOR($N$21)","v":-4142},{"$f":"CELLCOLOR($O$21)","v":-4142},{"$f":"CELLCOLOR($P$21)","v":-4142},{"$f":"CELLCOLOR($Q$21)","v":-4142},{"$f":"CELLCOLOR($R$21)","v":-4142},{"$f":"CELLCOLOR($S$21)","v":-4142},{"$f":"CELLCOLOR($T$21)","v":-4142},{"$f":"CELLCOLOR($U$21)","v":-4142},{"$f":"CELLCOLOR($V$21)","v":-4142},{"$f":"CELLCOLOR($W$21)","v":-4142},{"$f":"CELLCOLOR($X$21)","v":-4142},{"$f":"CELLCOLOR($Y$21)","v":-4142},{"$f":"CELLCOLOR($Z$21)","v":-4142},{"$f":"CELLCOLOR($AA$21)","v":-4142},1]
[null,null,2,{"$f":"CELLCOLOR($D$22)","v":-4142},{"$f":"CELLCOLOR($E$22)","v":-4142},{"$f":"CELLCOLOR($F$22)","v":-4142},{"$f":"CELLCOLOR($G$22)","v":-4142},{"$f":"CELLCOLOR($H$22)","v":-4142},{"$f":"CELLCOLOR($I$22)","v":-4142},{"$f":"CELLCOLOR($J$22)","v":-4142},{"$f":"CELLCOLOR($K$22)","v":-4142},{"$f":"CELLCOLOR($L$22)","v":-4142},{"$f":"CELLCOLOR($M$22)","v":-4142},{"$f":"CELLCOLOR($N$22)","v":-4142},{"$f":"CELLCOLOR($O$22)","v":-4142},{"$f":"CELLCOLOR($P$22)","v":-4142},{"$f":"CELLCOLOR($Q$22)","v":-4142},{"$f":"CELLCOLOR($R$22)","v":-4142},{"$f":"CELLCOLOR($S$22)","v":-4142},{"$f":"CELLCOLOR($T$22)","v":-4142},{"$f":"CELLCOLOR($U$22)","v":-4142},{"$f":"CELLCOLOR($V$22)","v":-4142},{"$f":"CELLCOLOR($W$22)","v":-4142},{"$f":"CELLCOLOR($X$22)","v":-4142},{"$f":"CELLCOLOR($Y$22)","v":-4142},{"$f":"CELLCOLOR($Z$22)","v":-4142},{"$f":"CELLCOLOR($AA$22)","v":-4142},2]
[null,null,3,{"$f":"CELLCOLOR($D$23)","v":-4142},{"$f":"CELLCOLOR($E$23)","v":-4142},{"$f":"CELLCOLOR($F$23)","v":-4142},{"$f":"CELLCOLOR($G$23)","v":-4142},{"$f":"CELLCOLOR($H$23)","v":-4142},{"$f":"CELLCOLOR($I$23)","v":-4142},{"$f":"CELLCOLOR($J$23)","v":-4142},{"$f":"CELLCOLOR($K$23)","v":-4142},{"$f":"CELLCOLOR($L$23)","v":-4142},{"$f":"CELLCOLOR($M$23)","v":-4142},{"$f":"CELLCOLOR($N$23)","v":-4142},{"$f":"CELLCOLOR($O$23)","v":-4142},{"$f":"CELLCOLOR($P$23)","v":-4142},{"$f":"CELLCOLOR($Q$23)","v":-4142},{"$f":"CELLCOLOR($R$23)","v":-4142},{"$f":"CELLCOLOR($S$23)","v":-4142},{"$f":"CELLCOLOR($T$23)","v":-4142},{"$f":"CELLCOLOR($U$23)","v":-4142},{"$f":"CELLCOLOR($V$23)","v":-4142},{"$f":"CELLCOLOR($W$23)","v":-4142},{"$f":"CELLCOLOR($X$23)","v":-4142},{"$f":"CELLCOLOR($Y$23)","v":-4142},{"$f":"CELLCOLOR($Z$23)","v":-4142},{"$f":"CELLCOLOR($AA$23)","v":-4142},3]
[]
[null,null,"作業表2-1(冷却)",null,"●月▲時の平均気温(四捨五入で表示）"]
[null,null,null," 時刻"]
[null,null,"月",0,1,2,3,4,5,6,7,8,9,10,11,12,13,14,15,16,17,18,19,20,21,22,23,"月"]
[null,null,4,{"$f":"IF($D$101=24,ROUND($D$12,0),\"\")&\"\"","v":""},{"$f":"IF($E$101=24,ROUND($E$12,0),\"\")&\"\"","v":""},{"$f":"IF($F$101=24,ROUND($F$12,0),\"\")&\"\"","v":""},{"$f":"IF($G$101=24,ROUND($G$12,0),\"\")&\"\"","v":""},{"$f":"IF($H$101=24,ROUND($H$12,0),\"\")&\"\"","v":""},{"$f":"IF($I$101=24,ROUND($I$12,0),\"\")&\"\"","v":""},{"$f":"IF($J$101=24,ROUND($J$12,0),\"\")&\"\"","v":""},{"$f":"IF($K$101=24,ROUND($K$12,0),\"\")&\"\"","v":""},{"$f":"IF($L$101=24,ROUND($L$12,0),\"\")&\"\"","v":""},{"$f":"IF($M$101=24,ROUND($M$12,0),\"\")&\"\"","v":""},{"$f":"IF($N$101=24,ROUND($N$12,0),\"\")&\"\"","v":""},{"$f":"IF($O$101=24,ROUND($O$12,0),\"\")&\"\"","v":""},{"$f":"IF($P$101=24,ROUND($P$12,0),\"\")&\"\"","v":""},{"$f":"IF($Q$101=24,ROUND($Q$12,0),\"\")&\"\"","v":""},{"$f":"IF($R$101=24,ROUND($R$12,0),\"\")&\"\"","v":""},{"$f":"IF($S$101=24,ROUND($S$12,0),\"\")&\"\"","v":""},{"$f":"IF($T$101=24,ROUND($T$12,0),\"\")&\"\"","v":""},{"$f":"IF($U$101=24,ROUND($U$12,0),\"\")&\"\"","v":""},{"$f":"IF($V$101=24,ROUND($V$12,0),\"\")&\"\"","v":""},{"$f":"IF($W$101=24,ROUND($W$12,0),\"\")&\"\"","v":""},{"$f":"IF($X$101=24,ROUND($X$12,0),\"\")&\"\"","v":""},{"$f":"IF($Y$101=24,ROUND($Y$12,0),\"\")&\"\"","v":""},{"$f":"IF($Z$101=24,ROUND($Z$12,0),\"\")&\"\"","v":""},{"$f":"IF($AA$101=24,ROUND($AA$12,0),\"\")&\"\"","v":""},4]
[null,null,5,{"$f":"IF($D$102=24,ROUND($D$13,0),\"\")&\"\"","v":""},{"$f":"IF($E$102=24,ROUND($E$13,0),\"\")&\"\"","v":""},{"$f":"IF($F$102=24,ROUND($F$13,0),\"\")&\"\"","v":""},{"$f":"IF($G$102=24,ROUND($G$13,0),\"\")&\"\"","v":""},{"$f":"IF($H$102=24,ROUND($H$13,0),\"\")&\"\"","v":""},{"$f":"IF($I$102=24,ROUND($I$13,0),\"\")&\"\"","v":""},{"$f":"IF($J$102=24,ROUND($J$13,0),\"\")&\"\"","v":""},{"$f":"IF($K$102=24,ROUND($K$13,0),\"\")&\"\"","v":""},{"$f":"IF($L$102=24,ROUND($L$13,0),\"\")&\"\"","v":""},{"$f":"IF($M$102=24,ROUND($M$13,0),\"\")&\"\"","v":""},{"$f":"IF($N$102=24,ROUND($N$13,0),\"\")&\"\"","v":""},{"$f":"IF($O$102=24,ROUND($O$13,0),\"\")&\"\"","v":""},{"$f":"IF($P$102=24,ROUND($P$13,0),\"\")&\"\"","v":""},{"$f":"IF($Q$102=24,ROUND($Q$13,0),\"\")&\"\"","v":""},{"$f":"IF($R$102=24,ROUND($R$13,0),\"\")&\"\"","v":""},{"$f":"IF($S$102=24,ROUND($S$13,0),\"\")&\"\"","v":""},{"$f":"IF($T$102=24,ROUND($T$13,0),\"\")&\"\"","v":""},{"$f":"IF($U$102=24,ROUND($U$13,0),\"\")&\"\"","v":""},{"$f":"IF($V$102=24,ROUND($V$13,0),\"\")&\"\"","v":""},{"$f":"IF($W$102=24,ROUND($W$13,0),\"\")&\"\"","v":""},{"$f":"IF($X$102=24,ROUND($X$13,0),\"\")&\"\"","v":""},{"$f":"IF($Y$102=24,ROUND($Y$13,0),\"\")&\"\"","v":""},{"$f":"IF($Z$102=24,ROUND($Z$13,0),\"\")&\"\"","v":""},{"$f":"IF($AA$102=24,ROUND($AA$13,0),\"\")&\"\"","v":""},5]
[null,null,6,{"$f":"IF($D$103=24,ROUND($D$14,0),\"\")&\"\"","v":""},{"$f":"IF($E$103=24,ROUND($E$14,0),\"\")&\"\"","v":""},{"$f":"IF($F$103=24,ROUND($F$14,0),\"\")&\"\"","v":""},{"$f":"IF($G$103=24,ROUND($G$14,0),\"\")&\"\"","v":""},{"$f":"IF($H$103=24,ROUND($H$14,0),\"\")&\"\"","v":""},{"$f":"IF($I$103=24,ROUND($I$14,0),\"\")&\"\"","v":""},{"$f":"IF($J$103=24,ROUND($J$14,0),\"\")&\"\"","v":""},{"$f":"IF($K$103=24,ROUND($K$14,0),\"\")&\"\"","v":""},{"$f":"IF($L$103=24,ROUND($L$14,0),\"\")&\"\"","v":""},{"$f":"IF($M$103=24,ROUND($M$14,0),\"\")&\"\"","v":""},{"$f":"IF($N$103=24,ROUND($N$14,0),\"\")&\"\"","v":""},{"$f":"IF($O$103=24,ROUND($O$14,0),\"\")&\"\"","v":""},{"$f":"IF($P$103=24,ROUND($P$14,0),\"\")&\"\"","v":""},{"$f":"IF($Q$103=24,ROUND($Q$14,0),\"\")&\"\"","v":""},{"$f":"IF($R$103=24,ROUND($R$14,0),\"\")&\"\"","v":""},{"$f":"IF($S$103=24,ROUND($S$14,0),\"\")&\"\"","v":""},{"$f":"IF($T$103=24,ROUND($T$14,0),\"\")&\"\"","v":""},{"$f":"IF($U$103=24,ROUND($U$14,0),\"\")&\"\"","v":""},{"$f":"IF($V$103=24,ROUND($V$14,0),\"\")&\"\"","v":""},{"$f":"IF($W$103=24,ROUND($W$14,0),\"\")&\"\"","v":""},{"$f":"IF($X$103=24,ROUND($X$14,0),\"\")&\"\"","v":""},{"$f":"IF($Y$103=24,ROUND($Y$14,0),\"\")&\"\"","v":""},{"$f":"IF($Z$103=24,ROUND($Z$14,0),\"\")&\"\"","v":""},{"$f":"IF($AA$103=24,ROUND($AA$14,0),\"\")&\"\"","v":""},6]
[null,null,7,{"$f":"IF($D$104=24,ROUND($D$15,0),\"\")&\"\"","v":""},{"$f":"IF($E$104=24,ROUND($E$15,0),\"\")&\"\"","v":""},{"$f":"IF($F$104=24,ROUND($F$15,0),\"\")&\"\"","v":""},{"$f":"IF($G$104=24,ROUND($G$15,0),\"\")&\"\"","v":""},{"$f":"IF($H$104=24,ROUND($H$15,0),\"\")&\"\"","v":""},{"$f":"IF($I$104=24,ROUND($I$15,0),\"\")&\"\"","v":""},{"$f":"IF($J$104=24,ROUND($J$15,0),\"\")&\"\"","v":""},{"$f":"IF($K$104=24,ROUND($K$15,0),\"\")&\"\"","v":""},{"$f":"IF($L$104=24,ROUND($L$15,0),\"\")&\"\"","v":""},{"$f":"IF($M$104=24,ROUND($M$15,0),\"\")&\"\"","v":""},{"$f":"IF($N$104=24,ROUND($N$15,0),\"\")&\"\"","v":""},{"$f":"IF($O$104=24,ROUND($O$15,0),\"\")&\"\"","v":""},{"$f":"IF($P$104=24,ROUND($P$15,0),\"\")&\"\"","v":""},{"$f":"IF($Q$104=24,ROUND($Q$15,0),\"\")&\"\"","v":""},{"$f":"IF($R$104=24,ROUND($R$15,0),\"\")&\"\"","v":""},{"$f":"IF($S$104=24,ROUND($S$15,0),\"\")&\"\"","v":""},{"$f":"IF($T$104=24,ROUND($T$15,0),\"\")&\"\"","v":""},{"$f":"IF($U$104=24,ROUND($U$15,0),\"\")&\"\"","v":""},{"$f":"IF($V$104=24,ROUND($V$15,0),\"\")&\"\"","v":""},{"$f":"IF($W$104=24,ROUND($W$15,0),\"\")&\"\"","v":""},{"$f":"IF($X$104=24,ROUND($X$15,0),\"\")&\"\"","v":""},{"$f":"IF($Y$104=24,ROUND($Y$15,0),\"\")&\"\"","v":""},{"$f":"IF($Z$104=24,ROUND($Z$15,0),\"\")&\"\"","v":""},{"$f":"IF($AA$104=24,ROUND($AA$15,0),\"\")&\"\"","v":""},7]
[null,null,8,{"$f":"IF($D$105=24,ROUND($D$16,0),\"\")&\"\"","v":""},{"$f":"IF($E$105=24,ROUND($E$16,0),\"\")&\"\"","v":""},{"$f":"IF($F$105=24,ROUND($F$16,0),\"\")&\"\"","v":""},{"$f":"IF($G$105=24,ROUND($G$16,0),\"\")&\"\"","v":""},{"$f":"IF($H$105=24,ROUND($H$16,0),\"\")&\"\"","v":""},{"$f":"IF($I$105=24,ROUND($I$16,0),\"\")&\"\"","v":""},{"$f":"IF($J$105=24,ROUND($J$16,0),\"\")&\"\"","v":""},{"$f":"IF($K$105=24,ROUND($K$16,0),\"\")&\"\"","v":""},{"$f":"IF($L$105=24,ROUND($L$16,0),\"\")&\"\"","v":""},{"$f":"IF($M$105=24,ROUND($M$16,0),\"\")&\"\"","v":""},{"$f":"IF($N$105=24,ROUND($N$16,0),\"\")&\"\"","v":""},{"$f":"IF($O$105=24,ROUND($O$16,0),\"\")&\"\"","v":""},{"$f":"IF($P$105=24,ROUND($P$16,0),\"\")&\"\"","v":""},{"$f":"IF($Q$105=24,ROUND($Q$16,0),\"\")&\"\"","v":""},{"$f":"IF($R$105=24,ROUND($R$16,0),\"\")&\"\"","v":""},{"$f":"IF($S$105=24,ROUND($S$16,0),\"\")&\"\"","v":""},{"$f":"IF($T$105=24,ROUND($T$16,0),\"\")&\"\"","v":""},{"$f":"IF($U$105=24,ROUND($U$16,0),\"\")&\"\"","v":""},{"$f":"IF($V$105=24,ROUND($V$16,0),\"\")&\"\"","v":""},{"$f":"IF($W$105=24,ROUND($W$16,0),\"\")&\"\"","v":""},{"$f":"IF($X$105=24,ROUND($X$16,0),\"\")&\"\"","v":""},{"$f":"IF($Y$105=24,ROUND($Y$16,0),\"\")&\"\"","v":""},{"$f":"IF($Z$105=24,ROUND($Z$16,0),\"\")&\"\"","v":""},{"$f":"IF($AA$105=24,ROUND($AA$16,0),\"\")&\"\"","v":""},8]
[null,null,9,{"$f":"IF($D$106=24,ROUND($D$17,0),\"\")&\"\"","v":""},{"$f":"IF($E$106=24,ROUND($E$17,0),\"\")&\"\"","v":""},{"$f":"IF($F$106=24,ROUND($F$17,0),\"\")&\"\"","v":""},{"$f":"IF($G$106=24,ROUND($G$17,0),\"\")&\"\"","v":""},{"$f":"IF($H$106=24,ROUND($H$17,0),\"\")&\"\"","v":""},{"$f":"IF($I$106=24,ROUND($I$17,0),\"\")&\"\"","v":""},{"$f":"IF($J$106=24,ROUND($J$17,0),\"\")&\"\"","v":""},{"$f":"IF($K$106=24,ROUND($K$17,0),\"\")&\"\"","v":""},{"$f":"IF($L$106=24,ROUND($L$17,0),\"\")&\"\"","v":""},{"$f":"IF($M$106=24,ROUND($M$17,0),\"\")&\"\"","v":""},{"$f":"IF($N$106=24,ROUND($N$17,0),\"\")&\"\"","v":""},{"$f":"IF($O$106=24,ROUND($O$17,0),\"\")&\"\"","v":""},{"$f":"IF($P$106=24,ROUND($P$17,0),\"\")&\"\"","v":""},{"$f":"IF($Q$106=24,ROUND($Q$17,0),\"\")&\"\"","v":""},{"$f":"IF($R$106=24,ROUND($R$17,0),\"\")&\"\"","v":""},{"$f":"IF($S$106=24,ROUND($S$17,0),\"\")&\"\"","v":""},{"$f":"IF($T$106=24,ROUND($T$17,0),\"\")&\"\"","v":""},{"$f":"IF($U$106=24,ROUND($U$17,0),\"\")&\"\"","v":""},{"$f":"IF($V$106=24,ROUND($V$17,0),\"\")&\"\"","v":""},{"$f":"IF($W$106=24,ROUND($W$17,0),\"\")&\"\"","v":""},{"$f":"IF($X$106=24,ROUND($X$17,0),\"\")&\"\"","v":""},{"$f":"IF($Y$106=24,ROUND($Y$17,0),\"\")&\"\"","v":""},{"$f":"IF($Z$106=24,ROUND($Z$17,0),\"\")&\"\"","v":""},{"$f":"IF($AA$106=24,ROUND($AA$17,0),\"\")&\"\"","v":""},9]
[null,null,10,{"$f":"IF($D$107=24,ROUND($D$18,0),\"\")&\"\"","v":""},{"$f":"IF($E$107=24,ROUND($E$18,0),\"\")&\"\"","v":""},{"$f":"IF($F$107=24,ROUND($F$18,0),\"\")&\"\"","v":""},{"$f":"IF($G$107=24,ROUND($G$18,0),\"\")&\"\"","v":""},{"$f":"IF($H$107=24,ROUND($H$18,0),\"\")&\"\"","v":""},{"$f":"IF($I$107=24,ROUND($I$18,0),\"\")&\"\"","v":""},{"$f":"IF($J$107=24,ROUND($J$18,0),\"\")&\"\"","v":""},{"$f":"IF($K$107=24,ROUND($K$18,0),\"\")&\"\"","v":""},{"$f":"IF($L$107=24,ROUND($L$18,0),\"\")&\"\"","v":""},{"$f":"IF($M$107=24,ROUND($M$18,0),\"\")&\"\"","v":""},{"$f":"IF($N$107=24,ROUND($N$18,0),\"\")&\"\"","v":""},{"$f":"IF($O$107=24,ROUND($O$18,0),\"\")&\"\"","v":""},{"$f":"IF($P$107=24,ROUND($P$18,0),\"\")&\"\"","v":""},{"$f":"IF($Q$107=24,ROUND($Q$18,0),\"\")&\"\"","v":""},{"$f":"IF($R$107=24,ROUND($R$18,0),\"\")&\"\"","v":""},{"$f":"IF($S$107=24,ROUND($S$18,0),\"\")&\"\"","v":""},{"$f":"IF($T$107=24,ROUND($T$18,0),\"\")&\"\"","v":""},{"$f":"IF($U$107=24,ROUND($U$18,0),\"\")&\"\"","v":""},{"$f":"IF($V$107=24,ROUND($V$18,0),\"\")&\"\"","v":""},{"$f":"IF($W$107=24,ROUND($W$18,0),\"\")&\"\"","v":""},{"$f":"IF($X$107=24,ROUND($X$18,0),\"\")&\"\"","v":""},{"$f":"IF($Y$107=24,ROUND($Y$18,0),\"\")&\"\"","v":""},{"$f":"IF($Z$107=24,ROUND($Z$18,0),\"\")&\"\"","v":""},{"$f":"IF($AA$107=24,ROUND($AA$18,0),\"\")&\"\"","v":""},10]
[null,null,11,{"$f":"IF($D$108=24,ROUND($D$19,0),\"\")&\"\"","v":""},{"$f":"IF($E$108=24,ROUND($E$19,0),\"\")&\"\"","v":""},{"$f":"IF($F$108=24,ROUND($F$19,0),\"\")&\"\"","v":""},{"$f":"IF($G$108=24,ROUND($G$19,0),\"\")&\"\"","v":""},{"$f":"IF($H$108=24,ROUND($H$19,0),\"\")&\"\"","v":""},{"$f":"IF($I$108=24,ROUND($I$19,0),\"\")&\"\"","v":""},{"$f":"IF($J$108=24,ROUND($J$19,0),\"\")&\"\"","v":""},{"$f":"IF($K$108=24,ROUND($K$19,0),\"\")&\"\"","v":""},{"$f":"IF($L$108=24,ROUND($L$19,0),\"\")&\"\"","v":""},{"$f":"IF($M$108=24,ROUND($M$19,0),\"\")&\"\"","v":""},{"$f":"IF($N$108=24,ROUND($N$19,0),\"\")&\"\"","v":""},{"$f":"IF($O$108=24,ROUND($O$19,0),\"\")&\"\"","v":""},{"$f":"IF($P$108=24,ROUND($P$19,0),\"\")&\"\"","v":""},{"$f":"IF($Q$108=24,ROUND($Q$19,0),\"\")&\"\"","v":""},{"$f":"IF($R$108=24,ROUND($R$19,0),\"\")&\"\"","v":""},{"$f":"IF($S$108=24,ROUND($S$19,0),\"\")&\"\"","v":""},{"$f":"IF($T$108=24,ROUND($T$19,0),\"\")&\"\"","v":""},{"$f":"IF($U$108=24,ROUND($U$19,0),\"\")&\"\"","v":""},{"$f":"IF($V$108=24,ROUND($V$19,0),\"\")&\"\"","v":""},{"$f":"IF($W$108=24,ROUND($W$19,0),\"\")&\"\"","v":""},{"$f":"IF($X$108=24,ROUND($X$19,0),\"\")&\"\"","v":""},{"$f":"IF($Y$108=24,ROUND($Y$19,0),\"\")&\"\"","v":""},{"$f":"IF($Z$108=24,ROUND($Z$19,0),\"\")&\"\"","v":""},{"$f":"IF($AA$108=24,ROUND($AA$19,0),\"\")&\"\"","v":""},11]
[null,null,12,{"$f":"IF($D$109=24,ROUND($D$20,0),\"\")&\"\"","v":""},{"$f":"IF($E$109=24,ROUND($E$20,0),\"\")&\"\"","v":""},{"$f":"IF($F$109=24,ROUND($F$20,0),\"\")&\"\"","v":""},{"$f":"IF($G$109=24,ROUND($G$20,0),\"\")&\"\"","v":""},{"$f":"IF($H$109=24,ROUND($H$20,0),\"\")&\"\"","v":""},{"$f":"IF($I$109=24,ROUND($I$20,0),\"\")&\"\"","v":""},{"$f":"IF($J$109=24,ROUND($J$20,0),\"\")&\"\"","v":""},{"$f":"IF($K$109=24,ROUND($K$20,0),\"\")&\"\"","v":""},{"$f":"IF($L$109=24,ROUND($L$20,0),\"\")&\"\"","v":""},{"$f":"IF($M$109=24,ROUND($M$20,0),\"\")&\"\"","v":""},{"$f":"IF($N$109=24,ROUND($N$20,0),\"\")&\"\"","v":""},{"$f":"IF($O$109=24,ROUND($O$20,0),\"\")&\"\"","v":""},{"$f":"IF($P$109=24,ROUND($P$20,0),\"\")&\"\"","v":""},{"$f":"IF($Q$109=24,ROUND($Q$20,0),\"\")&\"\"","v":""},{"$f":"IF($R$109=24,ROUND($R$20,0),\"\")&\"\"","v":""},{"$f":"IF($S$109=24,ROUND($S$20,0),\"\")&\"\"","v":""},{"$f":"IF($T$109=24,ROUND($T$20,0),\"\")&\"\"","v":""},{"$f":"IF($U$109=24,ROUND($U$20,0),\"\")&\"\"","v":""},{"$f":"IF($V$109=24,ROUND($V$20,0),\"\")&\"\"","v":""},{"$f":"IF($W$109=24,ROUND($W$20,0),\"\")&\"\"","v":""},{"$f":"IF($X$109=24,ROUND($X$20,0),\"\")&\"\"","v":""},{"$f":"IF($Y$109=24,ROUND($Y$20,0),\"\")&\"\"","v":""},{"$f":"IF($Z$109=24,ROUND($Z$20,0),\"\")&\"\"","v":""},{"$f":"IF($AA$109=24,ROUND($AA$20,0),\"\")&\"\"","v":""},12]
[null,null,1,{"$f":"IF($D$110=24,ROUND($D$21,0),\"\")&\"\"","v":""},{"$f":"IF($E$110=24,ROUND($E$21,0),\"\")&\"\"","v":""},{"$f":"IF($F$110=24,ROUND($F$21,0),\"\")&\"\"","v":""},{"$f":"IF($G$110=24,ROUND($G$21,0),\"\")&\"\"","v":""},{"$f":"IF($H$110=24,ROUND($H$21,0),\"\")&\"\"","v":""},{"$f":"IF($I$110=24,ROUND($I$21,0),\"\")&\"\"","v":""},{"$f":"IF($J$110=24,ROUND($J$21,0),\"\")&\"\"","v":""},{"$f":"IF($K$110=24,ROUND($K$21,0),\"\")&\"\"","v":""},{"$f":"IF($L$110=24,ROUND($L$21,0),\"\")&\"\"","v":""},{"$f":"IF($M$110=24,ROUND($M$21,0),\"\")&\"\"","v":""},{"$f":"IF($N$110=24,ROUND($N$21,0),\"\")&\"\"","v":""},{"$f":"IF($O$110=24,ROUND($O$21,0),\"\")&\"\"","v":""},{"$f":"IF($P$110=24,ROUND($P$21,0),\"\")&\"\"","v":""},{"$f":"IF($Q$110=24,ROUND($Q$21,0),\"\")&\"\"","v":""},{"$f":"IF($R$110=24,ROUND($R$21,0),\"\")&\"\"","v":""},{"$f":"IF($S$110=24,ROUND($S$21,0),\"\")&\"\"","v":""},{"$f":"IF($T$110=24,ROUND($T$21,0),\"\")&\"\"","v":""},{"$f":"IF($U$110=24,ROUND($U$21,0),\"\")&\"\"","v":""},{"$f":"IF($V$110=24,ROUND($V$21,0),\"\")&\"\"","v":""},{"$f":"IF($W$110=24,ROUND($W$21,0),\"\")&\"\"","v":""},{"$f":"IF($X$110=24,ROUND($X$21,0),\"\")&\"\"","v":""},{"$f":"IF($Y$110=24,ROUND($Y$21,0),\"\")&\"\"","v":""},{"$f":"IF($Z$110=24,ROUND($Z$21,0),\"\")&\"\"","v":""},{"$f":"IF($AA$110=24,ROUND($AA$21,0),\"\")&\"\"","v":""},1]
[null,null,2,{"$f":"IF($D$111=24,ROUND($D$22,0),\"\")&\"\"","v":""},{"$f":"IF($E$111=24,ROUND($E$22,0),\"\")&\"\"","v":""},{"$f":"IF($F$111=24,ROUND($F$22,0),\"\")&\"\"","v":""},{"$f":"IF($G$111=24,ROUND($G$22,0),\"\")&\"\"","v":""},{"$f":"IF($H$111=24,ROUND($H$22,0),\"\")&\"\"","v":""},{"$f":"IF($I$111=24,ROUND($I$22,0),\"\")&\"\"","v":""},{"$f":"IF($J$111=24,ROUND($J$22,0),\"\")&\"\"","v":""},{"$f":"IF($K$111=24,ROUND($K$22,0),\"\")&\"\"","v":""},{"$f":"IF($L$111=24,ROUND($L$22,0),\"\")&\"\"","v":""},{"$f":"IF($M$111=24,ROUND($M$22,0),\"\")&\"\"","v":""},{"$f":"IF($N$111=24,ROUND($N$22,0),\"\")&\"\"","v":""},{"$f":"IF($O$111=24,ROUND($O$22,0),\"\")&\"\"","v":""},{"$f":"IF($P$111=24,ROUND($P$22,0),\"\")&\"\"","v":""},{"$f":"IF($Q$111=24,ROUND($Q$22,0),\"\")&\"\"","v":""},{"$f":"IF($R$111=24,ROUND($R$22,0),\"\")&\"\"","v":""},{"$f":"IF($S$111=24,ROUND($S$22,0),\"\")&\"\"","v":""},{"$f":"IF($T$111=24,ROUND($T$22,0),\"\")&\"\"","v":""},{"$f":"IF($U$111=24,ROUND($U$22,0),\"\")&\"\"","v":""},{"$f":"IF($V$111=24,ROUND($V$22,0),\"\")&\"\"","v":""},{"$f":"IF($W$111=24,ROUND($W$22,0),\"\")&\"\"","v":""},{"$f":"IF($X$111=24,ROUND($X$22,0),\"\")&\"\"","v":""},{"$f":"IF($Y$111=24,ROUND($Y$22,0),\"\")&\"\"","v":""},{"$f":"IF($Z$111=24,ROUND($Z$22,0),\"\")&\"\"","v":""},{"$f":"IF($AA$111=24,ROUND($AA$22,0),\"\")&\"\"","v":""},2]
[null,null,3,{"$f":"IF($D$112=24,ROUND($D$23,0),\"\")&\"\"","v":""},{"$f":"IF($E$112=24,ROUND($E$23,0),\"\")&\"\"","v":""},{"$f":"IF($F$112=24,ROUND($F$23,0),\"\")&\"\"","v":""},{"$f":"IF($G$112=24,ROUND($G$23,0),\"\")&\"\"","v":""},{"$f":"IF($H$112=24,ROUND($H$23,0),\"\")&\"\"","v":""},{"$f":"IF($I$112=24,ROUND($I$23,0),\"\")&\"\"","v":""},{"$f":"IF($J$112=24,ROUND($J$23,0),\"\")&\"\"","v":""},{"$f":"IF($K$112=24,ROUND($K$23,0),\"\")&\"\"","v":""},{"$f":"IF($L$112=24,ROUND($L$23,0),\"\")&\"\"","v":""},{"$f":"IF($M$112=24,ROUND($M$23,0),\"\")&\"\"","v":""},{"$f":"IF($N$112=24,ROUND($N$23,0),\"\")&\"\"","v":""},{"$f":"IF($O$112=24,ROUND($O$23,0),\"\")&\"\"","v":""},{"$f":"IF($P$112=24,ROUND($P$23,0),\"\")&\"\"","v":""},{"$f":"IF($Q$112=24,ROUND($Q$23,0),\"\")&\"\"","v":""},{"$f":"IF($R$112=24,ROUND($R$23,0),\"\")&\"\"","v":""},{"$f":"IF($S$112=24,ROUND($S$23,0),\"\")&\"\"","v":""},{"$f":"IF($T$112=24,ROUND($T$23,0),\"\")&\"\"","v":""},{"$f":"IF($U$112=24,ROUND($U$23,0),\"\")&\"\"","v":""},{"$f":"IF($V$112=24,ROUND($V$23,0),\"\")&\"\"","v":""},{"$f":"IF($W$112=24,ROUND($W$23,0),\"\")&\"\"","v":""},{"$f":"IF($X$112=24,ROUND($X$23,0),\"\")&\"\"","v":""},{"$f":"IF($Y$112=24,ROUND($Y$23,0),\"\")&\"\"","v":""},{"$f":"IF($Z$112=24,ROUND($Z$23,0),\"\")&\"\"","v":""},{"$f":"IF($AA$112=24,ROUND($AA$23,0),\"\")&\"\"","v":""},3]
[]
[null,null,"作業表2-2(加熱)",null,"●月▲時の平均気温(四捨五入で表示）"]
[null,null,null," 時刻"]
[null,null,"月",0,1,2,3,4,5,6,7,8,9,10,11,12,13,14,15,16,17,18,19,20,21,22,23,"月"]
[null,null,4,{"$f":"IF($D$101=19,ROUND($D$12,0),\"\")&\"\"","v":""},{"$f":"IF($E$101=19,ROUND($E$12,0),\"\")&\"\"","v":""},{"$f":"IF($F$101=19,ROUND($F$12,0),\"\")&\"\"","v":""},{"$f":"IF($G$101=19,ROUND($G$12,0),\"\")&\"\"","v":""},{"$f":"IF($H$101=19,ROUND($H$12,0),\"\")&\"\"","v":""},{"$f":"IF($I$101=19,ROUND($I$12,0),\"\")&\"\"","v":""},{"$f":"IF($J$101=19,ROUND($J$12,0),\"\")&\"\"","v":""},{"$f":"IF($K$101=19,ROUND($K$12,0),\"\")&\"\"","v":""},{"$f":"IF($L$101=19,ROUND($L$12,0),\"\")&\"\"","v":""},{"$f":"IF($M$101=19,ROUND($M$12,0),\"\")&\"\"","v":""},{"$f":"IF($N$101=19,ROUND($N$12,0),\"\")&\"\"","v":""},{"$f":"IF($O$101=19,ROUND($O$12,0),\"\")&\"\"","v":""},{"$f":"IF($P$101=19,ROUND($P$12,0),\"\")&\"\"","v":""},{"$f":"IF($Q$101=19,ROUND($Q$12,0),\"\")&\"\"","v":""},{"$f":"IF($R$101=19,ROUND($R$12,0),\"\")&\"\"","v":""},{"$f":"IF($S$101=19,ROUND($S$12,0),\"\")&\"\"","v":""},{"$f":"IF($T$101=19,ROUND($T$12,0),\"\")&\"\"","v":""},{"$f":"IF($U$101=19,ROUND($U$12,0),\"\")&\"\"","v":""},{"$f":"IF($V$101=19,ROUND($V$12,0),\"\")&\"\"","v":""},{"$f":"IF($W$101=19,ROUND($W$12,0),\"\")&\"\"","v":""},{"$f":"IF($X$101=19,ROUND($X$12,0),\"\")&\"\"","v":""},{"$f":"IF($Y$101=19,ROUND($Y$12,0),\"\")&\"\"","v":""},{"$f":"IF($Z$101=19,ROUND($Z$12,0),\"\")&\"\"","v":""},{"$f":"IF($AA$101=19,ROUND($AA$12,0),\"\")&\"\"","v":""},4]
[null,null,5,{"$f":"IF($D$102=19,ROUND($D$13,0),\"\")&\"\"","v":""},{"$f":"IF($E$102=19,ROUND($E$13,0),\"\")&\"\"","v":""},{"$f":"IF($F$102=19,ROUND($F$13,0),\"\")&\"\"","v":""},{"$f":"IF($G$102=19,ROUND($G$13,0),\"\")&\"\"","v":""},{"$f":"IF($H$102=19,ROUND($H$13,0),\"\")&\"\"","v":""},{"$f":"IF($I$102=19,ROUND($I$13,0),\"\")&\"\"","v":""},{"$f":"IF($J$102=19,ROUND($J$13,0),\"\")&\"\"","v":""},{"$f":"IF($K$102=19,ROUND($K$13,0),\"\")&\"\"","v":""},{"$f":"IF($L$102=19,ROUND($L$13,0),\"\")&\"\"","v":""},{"$f":"IF($M$102=19,ROUND($M$13,0),\"\")&\"\"","v":""},{"$f":"IF($N$102=19,ROUND($N$13,0),\"\")&\"\"","v":""},{"$f":"IF($O$102=19,ROUND($O$13,0),\"\")&\"\"","v":""},{"$f":"IF($P$102=19,ROUND($P$13,0),\"\")&\"\"","v":""},{"$f":"IF($Q$102=19,ROUND($Q$13,0),\"\")&\"\"","v":""},{"$f":"IF($R$102=19,ROUND($R$13,0),\"\")&\"\"","v":""},{"$f":"IF($S$102=19,ROUND($S$13,0),\"\")&\"\"","v":""},{"$f":"IF($T$102=19,ROUND($T$13,0),\"\")&\"\"","v":""},{"$f":"IF($U$102=19,ROUND($U$13,0),\"\")&\"\"","v":""},{"$f":"IF($V$102=19,ROUND($V$13,0),\"\")&\"\"","v":""},{"$f":"IF($W$102=19,ROUND($W$13,0),\"\")&\"\"","v":""},{"$f":"IF($X$102=19,ROUND($X$13,0),\"\")&\"\"","v":""},{"$f":"IF($Y$102=19,ROUND($Y$13,0),\"\")&\"\"","v":""},{"$f":"IF($Z$102=19,ROUND($Z$13,0),\"\")&\"\"","v":""},{"$f":"IF($AA$102=19,ROUND($AA$13,0),\"\")&\"\"","v":""},5]
[null,null,6,{"$f":"IF($D$103=19,ROUND($D$14,0),\"\")&\"\"","v":""},{"$f":"IF($E$103=19,ROUND($E$14,0),\"\")&\"\"","v":""},{"$f":"IF($F$103=19,ROUND($F$14,0),\"\")&\"\"","v":""},{"$f":"IF($G$103=19,ROUND($G$14,0),\"\")&\"\"","v":""},{"$f":"IF($H$103=19,ROUND($H$14,0),\"\")&\"\"","v":""},{"$f":"IF($I$103=19,ROUND($I$14,0),\"\")&\"\"","v":""},{"$f":"IF($J$103=19,ROUND($J$14,0),\"\")&\"\"","v":""},{"$f":"IF($K$103=19,ROUND($K$14,0),\"\")&\"\"","v":""},{"$f":"IF($L$103=19,ROUND($L$14,0),\"\")&\"\"","v":""},{"$f":"IF($M$103=19,ROUND($M$14,0),\"\")&\"\"","v":""},{"$f":"IF($N$103=19,ROUND($N$14,0),\"\")&\"\"","v":""},{"$f":"IF($O$103=19,ROUND($O$14,0),\"\")&\"\"","v":""},{"$f":"IF($P$103=19,ROUND($P$14,0),\"\")&\"\"","v":""},{"$f":"IF($Q$103=19,ROUND($Q$14,0),\"\")&\"\"","v":""},{"$f":"IF($R$103=19,ROUND($R$14,0),\"\")&\"\"","v":""},{"$f":"IF($S$103=19,ROUND($S$14,0),\"\")&\"\"","v":""},{"$f":"IF($T$103=19,ROUND($T$14,0),\"\")&\"\"","v":""},{"$f":"IF($U$103=19,ROUND($U$14,0),\"\")&\"\"","v":""},{"$f":"IF($V$103=19,ROUND($V$14,0),\"\")&\"\"","v":""},{"$f":"IF($W$103=19,ROUND($W$14,0),\"\")&\"\"","v":""},{"$f":"IF($X$103=19,ROUND($X$14,0),\"\")&\"\"","v":""},{"$f":"IF($Y$103=19,ROUND($Y$14,0),\"\")&\"\"","v":""},{"$f":"IF($Z$103=19,ROUND($Z$14,0),\"\")&\"\"","v":""},{"$f":"IF($AA$103=19,ROUND($AA$14,0),\"\")&\"\"","v":""},6]
[null,null,7,{"$f":"IF($D$104=19,ROUND($D$15,0),\"\")&\"\"","v":""},{"$f":"IF($E$104=19,ROUND($E$15,0),\"\")&\"\"","v":""},{"$f":"IF($F$104=19,ROUND($F$15,0),\"\")&\"\"","v":""},{"$f":"IF($G$104=19,ROUND($G$15,0),\"\")&\"\"","v":""},{"$f":"IF($H$104=19,ROUND($H$15,0),\"\")&\"\"","v":""},{"$f":"IF($I$104=19,ROUND($I$15,0),\"\")&\"\"","v":""},{"$f":"IF($J$104=19,ROUND($J$15,0),\"\")&\"\"","v":""},{"$f":"IF($K$104=19,ROUND($K$15,0),\"\")&\"\"","v":""},{"$f":"IF($L$104=19,ROUND($L$15,0),\"\")&\"\"","v":""},{"$f":"IF($M$104=19,ROUND($M$15,0),\"\")&\"\"","v":""},{"$f":"IF($N$104=19,ROUND($N$15,0),\"\")&\"\"","v":""},{"$f":"IF($O$104=19,ROUND($O$15,0),\"\")&\"\"","v":""},{"$f":"IF($P$104=19,ROUND($P$15,0),\"\")&\"\"","v":""},{"$f":"IF($Q$104=19,ROUND($Q$15,0),\"\")&\"\"","v":""},{"$f":"IF($R$104=19,ROUND($R$15,0),\"\")&\"\"","v":""},{"$f":"IF($S$104=19,ROUND($S$15,0),\"\")&\"\"","v":""},{"$f":"IF($T$104=19,ROUND($T$15,0),\"\")&\"\"","v":""},{"$f":"IF($U$104=19,ROUND($U$15,0),\"\")&\"\"","v":""},{"$f":"IF($V$104=19,ROUND($V$15,0),\"\")&\"\"","v":""},{"$f":"IF($W$104=19,ROUND($W$15,0),\"\")&\"\"","v":""},{"$f":"IF($X$104=19,ROUND($X$15,0),\"\")&\"\"","v":""},{"$f":"IF($Y$104=19,ROUND($Y$15,0),\"\")&\"\"","v":""},{"$f":"IF($Z$104=19,ROUND($Z$15,0),\"\")&\"\"","v":""},{"$f":"IF($AA$104=19,ROUND($AA$15,0),\"\")&\"\"","v":""},7]
[null,null,8,{"$f":"IF($D$105=19,ROUND($D$16,0),\"\")&\"\"","v":""},{"$f":"IF($E$105=19,ROUND($E$16,0),\"\")&\"\"","v":""},{"$f":"IF($F$105=19,ROUND($F$16,0),\"\")&\"\"","v":""},{"$f":"IF($G$105=19,ROUND($G$16,0),\"\")&\"\"","v":""},{"$f":"IF($H$105=19,ROUND($H$16,0),\"\")&\"\"","v":""},{"$f":"IF($I$105=19,ROUND($I$16,0),\"\")&\"\"","v":""},{"$f":"IF($J$105=19,ROUND($J$16,0),\"\")&\"\"","v":""},{"$f":"IF($K$105=19,ROUND($K$16,0),\"\")&\"\"","v":""},{"$f":"IF($L$105=19,ROUND($L$16,0),\"\")&\"\"","v":""},{"$f":"IF($M$105=19,ROUND($M$16,0),\"\")&\"\"","v":""},{"$f":"IF($N$105=19,ROUND($N$16,0),\"\")&\"\"","v":""},{"$f":"IF($O$105=19,ROUND($O$16,0),\"\")&\"\"","v":""},{"$f":"IF($P$105=19,ROUND($P$16,0),\"\")&\"\"","v":""},{"$f":"IF($Q$105=19,ROUND($Q$16,0),\"\")&\"\"","v":""},{"$f":"IF($R$105=19,ROUND($R$16,0),\"\")&\"\"","v":""},{"$f":"IF($S$105=19,ROUND($S$16,0),\"\")&\"\"","v":""},{"$f":"IF($T$105=19,ROUND($T$16,0),\"\")&\"\"","v":""},{"$f":"IF($U$105=19,ROUND($U$16,0),\"\")&\"\"","v":""},{"$f":"IF($V$105=19,ROUND($V$16,0),\"\")&\"\"","v":""},{"$f":"IF($W$105=19,ROUND($W$16,0),\"\")&\"\"","v":""},{"$f":"IF($X$105=19,ROUND($X$16,0),\"\")&\"\"","v":""},{"$f":"IF($Y$105=19,ROUND($Y$16,0),\"\")&\"\"","v":""},{"$f":"IF($Z$105=19,ROUND($Z$16,0),\"\")&\"\"","v":""},{"$f":"IF($AA$105=19,ROUND($AA$16,0),\"\")&\"\"","v":""},8]
[null,null,9,{"$f":"IF($D$106=19,ROUND($D$17,0),\"\")&\"\"","v":""},{"$f":"IF($E$106=19,ROUND($E$17,0),\"\")&\"\"","v":""},{"$f":"IF($F$106=19,ROUND($F$17,0),\"\")&\"\"","v":""},{"$f":"IF($G$106=19,ROUND($G$17,0),\"\")&\"\"","v":""},{"$f":"IF($H$106=19,ROUND($H$17,0),\"\")&\"\"","v":""},{"$f":"IF($I$106=19,ROUND($I$17,0),\"\")&\"\"","v":""},{"$f":"IF($J$106=19,ROUND($J$17,0),\"\")&\"\"","v":""},{"$f":"IF($K$106=19,ROUND($K$17,0),\"\")&\"\"","v":""},{"$f":"IF($L$106=19,ROUND($L$17,0),\"\")&\"\"","v":""},{"$f":"IF($M$106=19,ROUND($M$17,0),\"\")&\"\"","v":""},{"$f":"IF($N$106=19,ROUND($N$17,0),\"\")&\"\"","v":""},{"$f":"IF($O$106=19,ROUND($O$17,0),\"\")&\"\"","v":""},{"$f":"IF($P$106=19,ROUND($P$17,0),\"\")&\"\"","v":""},{"$f":"IF($Q$106=19,ROUND($Q$17,0),\"\")&\"\"","v":""},{"$f":"IF($R$106=19,ROUND($R$17,0),\"\")&\"\"","v":""},{"$f":"IF($S$106=19,ROUND($S$17,0),\"\")&\"\"","v":""},{"$f":"IF($T$106=19,ROUND($T$17,0),\"\")&\"\"","v":""},{"$f":"IF($U$106=19,ROUND($U$17,0),\"\")&\"\"","v":""},{"$f":"IF($V$106=19,ROUND($V$17,0),\"\")&\"\"","v":""},{"$f":"IF($W$106=19,ROUND($W$17,0),\"\")&\"\"","v":""},{"$f":"IF($X$106=19,ROUND($X$17,0),\"\")&\"\"","v":""},{"$f":"IF($Y$106=19,ROUND($Y$17,0),\"\")&\"\"","v":""},{"$f":"IF($Z$106=19,ROUND($Z$17,0),\"\")&\"\"","v":""},{"$f":"IF($AA$106=19,ROUND($AA$17,0),\"\")&\"\"","v":""},9]
[null,null,10,{"$f":"IF($D$107=19,ROUND($D$18,0),\"\")&\"\"","v":""},{"$f":"IF($E$107=19,ROUND($E$18,0),\"\")&\"\"","v":""},{"$f":"IF($F$107=19,ROUND($F$18,0),\"\")&\"\"","v":""},{"$f":"IF($G$107=19,ROUND($G$18,0),\"\")&\"\"","v":""},{"$f":"IF($H$107=19,ROUND($H$18,0),\"\")&\"\"","v":""},{"$f":"IF($I$107=19,ROUND($I$18,0),\"\")&\"\"","v":""},{"$f":"IF($J$107=19,ROUND($J$18,0),\"\")&\"\"","v":""},{"$f":"IF($K$107=19,ROUND($K$18,0),\"\")&\"\"","v":""},{"$f":"IF($L$107=19,ROUND($L$18,0),\"\")&\"\"","v":""},{"$f":"IF($M$107=19,ROUND($M$18,0),\"\")&\"\"","v":""},{"$f":"IF($N$107=19,ROUND($N$18,0),\"\")&\"\"","v":""},{"$f":"IF($O$107=19,ROUND($O$18,0),\"\")&\"\"","v":""},{"$f":"IF($P$107=19,ROUND($P$18,0),\"\")&\"\"","v":""},{"$f":"IF($Q$107=19,ROUND($Q$18,0),\"\")&\"\"","v":""},{"$f":"IF($R$107=19,ROUND($R$18,0),\"\")&\"\"","v":""},{"$f":"IF($S$107=19,ROUND($S$18,0),\"\")&\"\"","v":""},{"$f":"IF($T$107=19,ROUND($T$18,0),\"\")&\"\"","v":""},{"$f":"IF($U$107=19,ROUND($U$18,0),\"\")&\"\"","v":""},{"$f":"IF($V$107=19,ROUND($V$18,0),\"\")&\"\"","v":""},{"$f":"IF($W$107=19,ROUND($W$18,0),\"\")&\"\"","v":""},{"$f":"IF($X$107=19,ROUND($X$18,0),\"\")&\"\"","v":""},{"$f":"IF($Y$107=19,ROUND($Y$18,0),\"\")&\"\"","v":""},{"$f":"IF($Z$107=19,ROUND($Z$18,0),\"\")&\"\"","v":""},{"$f":"IF($AA$107=19,ROUND($AA$18,0),\"\")&\"\"","v":""},10]
[null,null,11,{"$f":"IF($D$108=19,ROUND($D$19,0),\"\")&\"\"","v":""},{"$f":"IF($E$108=19,ROUND($E$19,0),\"\")&\"\"","v":""},{"$f":"IF($F$108=19,ROUND($F$19,0),\"\")&\"\"","v":""},{"$f":"IF($G$108=19,ROUND($G$19,0),\"\")&\"\"","v":""},{"$f":"IF($H$108=19,ROUND($H$19,0),\"\")&\"\"","v":""},{"$f":"IF($I$108=19,ROUND($I$19,0),\"\")&\"\"","v":""},{"$f":"IF($J$108=19,ROUND($J$19,0),\"\")&\"\"","v":""},{"$f":"IF($K$108=19,ROUND($K$19,0),\"\")&\"\"","v":""},{"$f":"IF($L$108=19,ROUND($L$19,0),\"\")&\"\"","v":""},{"$f":"IF($M$108=19,ROUND($M$19,0),\"\")&\"\"","v":""},{"$f":"IF($N$108=19,ROUND($N$19,0),\"\")&\"\"","v":""},{"$f":"IF($O$108=19,ROUND($O$19,0),\"\")&\"\"","v":""},{"$f":"IF($P$108=19,ROUND($P$19,0),\"\")&\"\"","v":""},{"$f":"IF($Q$108=19,ROUND($Q$19,0),\"\")&\"\"","v":""},{"$f":"IF($R$108=19,ROUND($R$19,0),\"\")&\"\"","v":""},{"$f":"IF($S$108=19,ROUND($S$19,0),\"\")&\"\"","v":""},{"$f":"IF($T$108=19,ROUND($T$19,0),\"\")&\"\"","v":""},{"$f":"IF($U$108=19,ROUND($U$19,0),\"\")&\"\"","v":""},{"$f":"IF($V$108=19,ROUND($V$19,0),\"\")&\"\"","v":""},{"$f":"IF($W$108=19,ROUND($W$19,0),\"\")&\"\"","v":""},{"$f":"IF($X$108=19,ROUND($X$19,0),\"\")&\"\"","v":""},{"$f":"IF($Y$108=19,ROUND($Y$19,0),\"\")&\"\"","v":""},{"$f":"IF($Z$108=19,ROUND($Z$19,0),\"\")&\"\"","v":""},{"$f":"IF($AA$108=19,ROUND($AA$19,0),\"\")&\"\"","v":""},11]
[null,null,12,{"$f":"IF($D$109=19,ROUND($D$20,0),\"\")&\"\"","v":""},{"$f":"IF($E$109=19,ROUND($E$20,0),\"\")&\"\"","v":""},{"$f":"IF($F$109=19,ROUND($F$20,0),\"\")&\"\"","v":""},{"$f":"IF($G$109=19,ROUND($G$20,0),\"\")&\"\"","v":""},{"$f":"IF($H$109=19,ROUND($H$20,0),\"\")&\"\"","v":""},{"$f":"IF($I$109=19,ROUND($I$20,0),\"\")&\"\"","v":""},{"$f":"IF($J$109=19,ROUND($J$20,0),\"\")&\"\"","v":""},{"$f":"IF($K$109=19,ROUND($K$20,0),\"\")&\"\"","v":""},{"$f":"IF($L$109=19,ROUND($L$20,0),\"\")&\"\"","v":""},{"$f":"IF($M$109=19,ROUND($M$20,0),\"\")&\"\"","v":""},{"$f":"IF($N$109=19,ROUND($N$20,0),\"\")&\"\"","v":""},{"$f":"IF($O$109=19,ROUND($O$20,0),\"\")&\"\"","v":""},{"$f":"IF($P$109=19,ROUND($P$20,0),\"\")&\"\"","v":""},{"$f":"IF($Q$109=19,ROUND($Q$20,0),\"\")&\"\"","v":""},{"$f":"IF($R$109=19,ROUND($R$20,0),\"\")&\"\"","v":""},{"$f":"IF($S$109=19,ROUND($S$20,0),\"\")&\"\"","v":""},{"$f":"IF($T$109=19,ROUND($T$20,0),\"\")&\"\"","v":""},{"$f":"IF($U$109=19,ROUND($U$20,0),\"\")&\"\"","v":""},{"$f":"IF($V$109=19,ROUND($V$20,0),\"\")&\"\"","v":""},{"$f":"IF($W$109=19,ROUND($W$20,0),\"\")&\"\"","v":""},{"$f":"IF($X$109=19,ROUND($X$20,0),\"\")&\"\"","v":""},{"$f":"IF($Y$109=19,ROUND($Y$20,0),\"\")&\"\"","v":""},{"$f":"IF($Z$109=19,ROUND($Z$20,0),\"\")&\"\"","v":""},{"$f":"IF($AA$109=19,ROUND($AA$20,0),\"\")&\"\"","v":""},12]
[null,null,1,{"$f":"IF($D$110=19,ROUND($D$21,0),\"\")&\"\"","v":""},{"$f":"IF($E$110=19,ROUND($E$21,0),\"\")&\"\"","v":""},{"$f":"IF($F$110=19,ROUND($F$21,0),\"\")&\"\"","v":""},{"$f":"IF($G$110=19,ROUND($G$21,0),\"\")&\"\"","v":""},{"$f":"IF($H$110=19,ROUND($H$21,0),\"\")&\"\"","v":""},{"$f":"IF($I$110=19,ROUND($I$21,0),\"\")&\"\"","v":""},{"$f":"IF($J$110=19,ROUND($J$21,0),\"\")&\"\"","v":""},{"$f":"IF($K$110=19,ROUND($K$21,0),\"\")&\"\"","v":""},{"$f":"IF($L$110=19,ROUND($L$21,0),\"\")&\"\"","v":""},{"$f":"IF($M$110=19,ROUND($M$21,0),\"\")&\"\"","v":""},{"$f":"IF($N$110=19,ROUND($N$21,0),\"\")&\"\"","v":""},{"$f":"IF($O$110=19,ROUND($O$21,0),\"\")&\"\"","v":""},{"$f":"IF($P$110=19,ROUND($P$21,0),\"\")&\"\"","v":""},{"$f":"IF($Q$110=19,ROUND($Q$21,0),\"\")&\"\"","v":""},{"$f":"IF($R$110=19,ROUND($R$21,0),\"\")&\"\"","v":""},{"$f":"IF($S$110=19,ROUND($S$21,0),\"\")&\"\"","v":""},{"$f":"IF($T$110=19,ROUND($T$21,0),\"\")&\"\"","v":""},{"$f":"IF($U$110=19,ROUND($U$21,0),\"\")&\"\"","v":""},{"$f":"IF($V$110=19,ROUND($V$21,0),\"\")&\"\"","v":""},{"$f":"IF($W$110=19,ROUND($W$21,0),\"\")&\"\"","v":""},{"$f":"IF($X$110=19,ROUND($X$21,0),\"\")&\"\"","v":""},{"$f":"IF($Y$110=19,ROUND($Y$21,0),\"\")&\"\"","v":""},{"$f":"IF($Z$110=19,ROUND($Z$21,0),\"\")&\"\"","v":""},{"$f":"IF($AA$110=19,ROUND($AA$21,0),\"\")&\"\"","v":""},1]
[null,null,2,{"$f":"IF($D$111=19,ROUND($D$22,0),\"\")&\"\"","v":""},{"$f":"IF($E$111=19,ROUND($E$22,0),\"\")&\"\"","v":""},{"$f":"IF($F$111=19,ROUND($F$22,0),\"\")&\"\"","v":""},{"$f":"IF($G$111=19,ROUND($G$22,0),\"\")&\"\"","v":""},{"$f":"IF($H$111=19,ROUND($H$22,0),\"\")&\"\"","v":""},{"$f":"IF($I$111=19,ROUND($I$22,0),\"\")&\"\"","v":""},{"$f":"IF($J$111=19,ROUND($J$22,0),\"\")&\"\"","v":""},{"$f":"IF($K$111=19,ROUND($K$22,0),\"\")&\"\"","v":""},{"$f":"IF($L$111=19,ROUND($L$22,0),\"\")&\"\"","v":""},{"$f":"IF($M$111=19,ROUND($M$22,0),\"\")&\"\"","v":""},{"$f":"IF($N$111=19,ROUND($N$22,0),\"\")&\"\"","v":""},{"$f":"IF($O$111=19,ROUND($O$22,0),\"\")&\"\"","v":""},{"$f":"IF($P$111=19,ROUND($P$22,0),\"\")&\"\"","v":""},{"$f":"IF($Q$111=19,ROUND($Q$22,0),\"\")&\"\"","v":""},{"$f":"IF($R$111=19,ROUND($R$22,0),\"\")&\"\"","v":""},{"$f":"IF($S$111=19,ROUND($S$22,0),\"\")&\"\"","v":""},{"$f":"IF($T$111=19,ROUND($T$22,0),\"\")&\"\"","v":""},{"$f":"IF($U$111=19,ROUND($U$22,0),\"\")&\"\"","v":""},{"$f":"IF($V$111=19,ROUND($V$22,0),\"\")&\"\"","v":""},{"$f":"IF($W$111=19,ROUND($W$22,0),\"\")&\"\"","v":""},{"$f":"IF($X$111=19,ROUND($X$22,0),\"\")&\"\"","v":""},{"$f":"IF($Y$111=19,ROUND($Y$22,0),\"\")&\"\"","v":""},{"$f":"IF($Z$111=19,ROUND($Z$22,0),\"\")&\"\"","v":""},{"$f":"IF($AA$111=19,ROUND($AA$22,0),\"\")&\"\"","v":""},2]
[null,null,3,{"$f":"IF($D$112=19,ROUND($D$23,0),\"\")&\"\"","v":""},{"$f":"IF($E$112=19,ROUND($E$23,0),\"\")&\"\"","v":""},{"$f":"IF($F$112=19,ROUND($F$23,0),\"\")&\"\"","v":""},{"$f":"IF($G$112=19,ROUND($G$23,0),\"\")&\"\"","v":""},{"$f":"IF($H$112=19,ROUND($H$23,0),\"\")&\"\"","v":""},{"$f":"IF($I$112=19,ROUND($I$23,0),\"\")&\"\"","v":""},{"$f":"IF($J$112=19,ROUND($J$23,0),\"\")&\"\"","v":""},{"$f":"IF($K$112=19,ROUND($K$23,0),\"\")&\"\"","v":""},{"$f":"IF($L$112=19,ROUND($L$23,0),\"\")&\"\"","v":""},{"$f":"IF($M$112=19,ROUND($M$23,0),\"\")&\"\"","v":""},{"$f":"IF($N$112=19,ROUND($N$23,0),\"\")&\"\"","v":""},{"$f":"IF($O$112=19,ROUND($O$23,0),\"\")&\"\"","v":""},{"$f":"IF($P$112=19,ROUND($P$23,0),\"\")&\"\"","v":""},{"$f":"IF($Q$112=19,ROUND($Q$23,0),\"\")&\"\"","v":""},{"$f":"IF($R$112=19,ROUND($R$23,0),\"\")&\"\"","v":""},{"$f":"IF($S$112=19,ROUND($S$23,0),\"\")&\"\"","v":""},{"$f":"IF($T$112=19,ROUND($T$23,0),\"\")&\"\"","v":""},{"$f":"IF($U$112=19,ROUND($U$23,0),\"\")&\"\"","v":""},{"$f":"IF($V$112=19,ROUND($V$23,0),\"\")&\"\"","v":""},{"$f":"IF($W$112=19,ROUND($W$23,0),\"\")&\"\"","v":""},{"$f":"IF($X$112=19,ROUND($X$23,0),\"\")&\"\"","v":""},{"$f":"IF($Y$112=19,ROUND($Y$23,0),\"\")&\"\"","v":""},{"$f":"IF($Z$112=19,ROUND($Z$23,0),\"\")&\"\"","v":""},{"$f":"IF($AA$112=19,ROUND($AA$23,0),\"\")&\"\"","v":""},3]
[]
[null,null,"冷却期間中　外気温度(T)が発生する時間[hour]"]
[null,null,null," 外気温度(T)",null,null,null,null,null,null,null,null,null,null,null,null,null,null,null,null,null,null,null,null,null,null,null,null,null,null,null,null,null,null,null,null,null,null,null,null,null,null,null,null,null,null,null,"共通","共通","前1",null,null,"前2",null,null,"前3",null,null,null,"後1",null,null,"後2",null,null,"後3"]
[null,null,"月",-6,-5,-4,-3,-2,-1,0,1,2,3,4,5,6,7,8,9,10,11,12,13,14,15,16,17,18,19,20,21,22,23,24,25,26,27,28,29,30,31,32,33,34,35,"月",null,"EccのΣ","EaxcのΣ","Ecc","Eaxc","Ec","Ecc","Eaxc","Ec","Ecc","Eaxc","Ec",null,"Ecc","Eaxc","Ec","Ecc","Eaxc","Ec","Ecc","Eaxc","Ec"]
[null,null,4,{"$f":"COUNTIF($D$117:$AA$117,$D$148)*$AB$12","v":0},{"$f":"COUNTIF($D$117:$AA$117,$E$148)*$AB$12","v":0},{"$f":"COUNTIF($D$117:$AA$117,$F$148)*$AB$12","v":0},{"$f":"COUNTIF($D$117:$AA$117,$G$148)*$AB$12","v":0},{"$f":"COUNTIF($D$117:$AA$117,$H$148)*$AB$12","v":0},{"$f":"COUNTIF($D$117:$AA$117,$I$148)*$AB$12","v":0},{"$f":"COUNTIF($D$117:$AA$117,$J$148)*$AB$12","v":0},{"$f":"COUNTIF($D$117:$AA$117,$K$148)*$AB$12","v":0},{"$f":"COUNTIF($D$117:$AA$117,$L$148)*$AB$12","v":0},{"$f":"COUNTIF($D$117:$AA$117,$M$148)*$AB$12","v":0},{"$f":"COUNTIF($D$117:$AA$117,$N$148)*$AB$12","v":0},{"$f":"COUNTIF($D$117:$AA$117,$O$148)*$AB$12","v":0},{"$f":"COUNTIF($D$117:$AA$117,$P$148)*$AB$12","v":0},{"$f":"COUNTIF($D$117:$AA$117,$Q$148)*$AB$12","v":0},{"$f":"COUNTIF($D$117:$AA$117,$R$148)*$AB$12","v":0},{"$f":"COUNTIF($D$117:$AA$117,$S$148)*$AB$12","v":0},{"$f":"COUNTIF($D$117:$AA$117,$T$148)*$AB$12","v":0},{"$f":"COUNTIF($D$117:$AA$117,$U$148)*$AB$12","v":0},{"$f":"COUNTIF($D$117:$AA$117,$V$148)*$AB$12","v":0},{"$f":"COUNTIF($D$117:$AA$117,$W$148)*$AB$12","v":0},{"$f":"COUNTIF($D$117:$AA$117,$X$148)*$AB$12","v":0},{"$f":"COUNTIF($D$117:$AA$117,$Y$148)*$AB$12","v":0},{"$f":"COUNTIF($D$117:$AA$117,$Z$148)*$AB$12","v":0},{"$f":"COUNTIF($D$117:$AA$117,$AA$148)*$AB$12","v":0},{"$f":"COUNTIF($D$117:$AA$117,$AB$148)*$AB$12","v":0},{"$f":"COUNTIF($D$117:$AA$117,$AC$148)*$AB$12","v":0},{"$f":"COUNTIF($D$117:$AA$117,$AD$148)*$AB$12","v":0},{"$f":"COUNTIF($D$117:$AA$117,$AE$148)*$AB$12","v":0},{"$f":"COUNTIF($D$117:$AA$117,$AF$148)*$AB$12","v":0},{"$f":"COUNTIF($D$117:$AA$117,$AG$148)*$AB$12","v":0},{"$f":"COUNTIF($D$117:$AA$117,$AH$148)*$AB$12","v":0},{"$f":"COUNTIF($D$117:$AA$117,$AI$148)*$AB$12","v":0},{"$f":"COUNTIF($D$117:$AA$117,$AJ$148)*$AB$12","v":0},{"$f":"COUNTIF($D$117:$AA$117,$AK$148)*$AB$12","v":0},{"$f":"COUNTIF($D$117:$AA$117,$AL$148)*$AB$12","v":0},{"$f":"COUNTIF($D$117:$AA$117,$AM$148)*$AB$12","v":0},{"$f":"COUNTIF($D$117:$AA$117,$AN$148)*$AB$12","v":0},{"$f":"COUNTIF($D$117:$AA$117,$AO$148)*$AB$12","v":0},{"$f":"COUNTIF($D$117:$AA$117,$AP$148)*$AB$12","v":0},{"$f":"COUNTIF($D$117:$AA$117,$AQ$148)*$AB$12","v":0},{"$f":"COUNTIF($D$117:$AA$117,$AR$148)*$AB$12","v":0},{"$f":"COUNTIF($D$117:$AA$117,$AS$148)*$AB$12","v":0},4,null,{"$f":"SUMPRODUCT(D149:AS149,$D$162:$AS$162)","v":0},{"$f":"SUMPRODUCT(D149:AS149,$D$189:$AS$189)","v":0},{"$f":"$Q$29/$Q$31*AV149*$Q$37","v":0},{"$f":"$Q$35*AW149","v":0},{"$f":"SUM(AX149:AY149)","v":0},{"$f":"$R$29/$R$31*AV149*$R$37","v":{"$error":"#VALUE!"}},{"$f":"$R$35*AW149","v":0},{"$f":"SUM(BA149:BB149)","v":{"$error":"#VALUE!"}},{"$f":"$S$29/$S$31*AV149*$S$37","v":{"$error":"#VALUE!"}},{"$f":"$S$35*AW149","v":0},{"$f":"SUM(BD149:BE149)","v":{"$error":"#VALUE!"}},null,{"$f":"$Q$43/$Q$45*AV149*$Q$51","v":{"$error":"#VALUE!"}},{"$f":"$Q$49*AW149","v":0},{"$f":"SUM(BH149:BI149)","v":{"$error":"#VALUE!"}},{"$f":"$R$43/$R$45*AV149*$R$51","v":{"$error":"#VALUE!"}},{"$f":"$R$49*AW149","v":0},{"$f":"SUM(BK149:BL149)","v":{"$error":"#VALUE!"}},{"$f":"$S$43/$S$45*AV149*$S$51","v":{"$error":"#VALUE!"}},{"$f":"$S$49*AW149","v":0},{"$f":"SUM(BN149:BO149)","v":{"$error":"#VALUE!"}}]
[null,null,5,{"$f":"COUNTIF($D$118:$AA$118,$D$148)*$AB$13","v":0},{"$f":"COUNTIF($D$118:$AA$118,$E$148)*$AB$13","v":0},{"$f":"COUNTIF($D$118:$AA$118,$F$148)*$AB$13","v":0},{"$f":"COUNTIF($D$118:$AA$118,$G$148)*$AB$13","v":0},{"$f":"COUNTIF($D$118:$AA$118,$H$148)*$AB$13","v":0},{"$f":"COUNTIF($D$118:$AA$118,$I$148)*$AB$13","v":0},{"$f":"COUNTIF($D$118:$AA$118,$J$148)*$AB$13","v":0},{"$f":"COUNTIF($D$118:$AA$118,$K$148)*$AB$13","v":0},{"$f":"COUNTIF($D$118:$AA$118,$L$148)*$AB$13","v":0},{"$f":"COUNTIF($D$118:$AA$118,$M$148)*$AB$13","v":0},{"$f":"COUNTIF($D$118:$AA$118,$N$148)*$AB$13","v":0},{"$f":"COUNTIF($D$118:$AA$118,$O$148)*$AB$13","v":0},{"$f":"COUNTIF($D$118:$AA$118,$P$148)*$AB$13","v":0},{"$f":"COUNTIF($D$118:$AA$118,$Q$148)*$AB$13","v":0},{"$f":"COUNTIF($D$118:$AA$118,$R$148)*$AB$13","v":0},{"$f":"COUNTIF($D$118:$AA$118,$S$148)*$AB$13","v":0},{"$f":"COUNTIF($D$118:$AA$118,$T$148)*$AB$13","v":0},{"$f":"COUNTIF($D$118:$AA$118,$U$148)*$AB$13","v":0},{"$f":"COUNTIF($D$118:$AA$118,$V$148)*$AB$13","v":0},{"$f":"COUNTIF($D$118:$AA$118,$W$148)*$AB$13","v":0},{"$f":"COUNTIF($D$118:$AA$118,$X$148)*$AB$13","v":0},{"$f":"COUNTIF($D$118:$AA$118,$Y$148)*$AB$13","v":0},{"$f":"COUNTIF($D$118:$AA$118,$Z$148)*$AB$13","v":0},{"$f":"COUNTIF($D$118:$AA$118,$AA$148)*$AB$13","v":0},{"$f":"COUNTIF($D$118:$AA$118,$AB$148)*$AB$13","v":0},{"$f":"COUNTIF($D$118:$AA$118,$AC$148)*$AB$13","v":0},{"$f":"COUNTIF($D$118:$AA$118,$AD$148)*$AB$13","v":0},{"$f":"COUNTIF($D$118:$AA$118,$AE$148)*$AB$13","v":0},{"$f":"COUNTIF($D$118:$AA$118,$AF$148)*$AB$13","v":0},{"$f":"COUNTIF($D$118:$AA$118,$AG$148)*$AB$13","v":0},{"$f":"COUNTIF($D$118:$AA$118,$AH$148)*$AB$13","v":0},{"$f":"COUNTIF($D$118:$AA$118,$AI$148)*$AB$13","v":0},{"$f":"COUNTIF($D$118:$AA$118,$AJ$148)*$AB$13","v":0},{"$f":"COUNTIF($D$118:$AA$118,$AK$148)*$AB$13","v":0},{"$f":"COUNTIF($D$118:$AA$118,$AL$148)*$AB$13","v":0},{"$f":"COUNTIF($D$118:$AA$118,$AM$148)*$AB$13","v":0},{"$f":"COUNTIF($D$118:$AA$118,$AN$148)*$AB$13","v":0},{"$f":"COUNTIF($D$118:$AA$118,$AO$148)*$AB$13","v":0},{"$f":"COUNTIF($D$118:$AA$118,$AP$148)*$AB$13","v":0},{"$f":"COUNTIF($D$118:$AA$118,$AQ$148)*$AB$13","v":0},{"$f":"COUNTIF($D$118:$AA$118,$AR$148)*$AB$13","v":0},{"$f":"COUNTIF($D$118:$AA$118,$AS$148)*$AD$13","v":0},5,null,{"$f":"SUMPRODUCT(D150:AS150,$D$162:$AS$162)","v":0},{"$f":"SUMPRODUCT(D150:AS150,$D$189:$AS$189)","v":0},{"$f":"$Q$29/$Q$31*AV150*$Q$37","v":0},{"$f":"$Q$35*AW150","v":0},{"$f":"SUM(AX150:AY150)","v":0},{"$f":"$R$29/$R$31*AV150*$R$37","v":{"$error":"#VALUE!"}},{"$f":"$R$35*AW150","v":0},{"$f":"SUM(BA150:BB150)","v":{"$error":"#VALUE!"}},{"$f":"$S$29/$S$31*AV150*$S$37","v":{"$error":"#VALUE!"}},{"$f":"$S$35*AW150","v":0},{"$f":"SUM(BD150:BE150)","v":{"$error":"#VALUE!"}},null,{"$f":"$Q$43/$Q$45*AV150*$Q$51","v":{"$error":"#VALUE!"}},{"$f":"$Q$49*AW150","v":0},{"$f":"SUM(BH150:BI150)","v":{"$error":"#VALUE!"}},{"$f":"$R$43/$R$45*AV150*$R$51","v":{"$error":"#VALUE!"}},{"$f":"$R$49*AW150","v":0},{"$f":"SUM(BK150:BL150)","v":{"$error":"#VALUE!"}},{"$f":"$S$43/$S$45*AV150*$S$51","v":{"$error":"#VALUE!"}},{"$f":"$S$49*AW150","v":0},{"$f":"SUM(BN150:BO150)","v":{"$error":"#VALUE!"}}]
[null,null,6,{"$f":"COUNTIF($D$119:$AA$119,$D$148)*$AB$14","v":0},{"$f":"COUNTIF($D$119:$AA$119,$E$148)*$AB$14","v":0},{"$f":"COUNTIF($D$119:$AA$119,$F$148)*$AB$14","v":0},{"$f":"COUNTIF($D$119:$AA$119,$G$148)*$AB$14","v":0},{"$f":"COUNTIF($D$119:$AA$119,$H$148)*$AB$14","v":0},{"$f":"COUNTIF($D$119:$AA$119,$I$148)*$AB$14","v":0},{"$f":"COUNTIF($D$119:$AA$119,$J$148)*$AB$14","v":0},{"$f":"COUNTIF($D$119:$AA$119,$K$148)*$AB$14","v":0},{"$f":"COUNTIF($D$119:$AA$119,$L$148)*$AB$14","v":0},{"$f":"COUNTIF($D$119:$AA$119,$M$148)*$AB$14","v":0},{"$f":"COUNTIF($D$119:$AA$119,$N$148)*$AB$14","v":0},{"$f":"COUNTIF($D$119:$AA$119,$O$148)*$AB$14","v":0},{"$f":"COUNTIF($D$119:$AA$119,$P$148)*$AB$14","v":0},{"$f":"COUNTIF($D$119:$AA$119,$Q$148)*$AB$14","v":0},{"$f":"COUNTIF($D$119:$AA$119,$R$148)*$AB$14","v":0},{"$f":"COUNTIF($D$119:$AA$119,$S$148)*$AB$14","v":0},{"$f":"COUNTIF($D$119:$AA$119,$T$148)*$AB$14","v":0},{"$f":"COUNTIF($D$119:$AA$119,$U$148)*$AB$14","v":0},{"$f":"COUNTIF($D$119:$AA$119,$V$148)*$AB$14","v":0},{"$f":"COUNTIF($D$119:$AA$119,$W$148)*$AB$14","v":0},{"$f":"COUNTIF($D$119:$AA$119,$X$148)*$AB$14","v":0},{"$f":"COUNTIF($D$119:$AA$119,$Y$148)*$AB$14","v":0},{"$f":"COUNTIF($D$119:$AA$119,$Z$148)*$AB$14","v":0},{"$f":"COUNTIF($D$119:$AA$119,$AA$148)*$AB$14","v":0},{"$f":"COUNTIF($D$119:$AA$119,$AB$148)*$AB$14","v":0},{"$f":"COUNTIF($D$119:$AA$119,$AC$148)*$AB$14","v":0},{"$f":"COUNTIF($D$119:$AA$119,$AD$148)*$AB$14","v":0},{"$f":"COUNTIF($D$119:$AA$119,$AE$148)*$AB$14","v":0},{"$f":"COUNTIF($D$119:$AA$119,$AF$148)*$AB$14","v":0},{"$f":"COUNTIF($D$119:$AA$119,$AG$148)*$AB$14","v":0},{"$f":"COUNTIF($D$119:$AA$119,$AH$148)*$AB$14","v":0},{"$f":"COUNTIF($D$119:$AA$119,$AI$148)*$AB$14","v":0},{"$f":"COUNTIF($D$119:$AA$119,$AJ$148)*$AB$14","v":0},{"$f":"COUNTIF($D$119:$AA$119,$AK$148)*$AB$14","v":0},{"$f":"COUNTIF($D$119:$AA$119,$AL$148)*$AB$14","v":0},{"$f":"COUNTIF($D$119:$AA$119,$AM$148)*$AB$14","v":0},{"$f":"COUNTIF($D$119:$AA$119,$AN$148)*$AB$14","v":0},{"$f":"COUNTIF($D$119:$AA$119,$AO$148)*$AB$14","v":0},{"$f":"COUNTIF($D$119:$AA$119,$AP$148)*$AB$14","v":0},{"$f":"COUNTIF($D$119:$AA$119,$AQ$148)*$AB$14","v":0},{"$f":"COUNTIF($D$119:$AA$119,$AR$148)*$AB$14","v":0},{"$f":"COUNTIF($D$119:$AA$119,$AS$148)*$AB$14","v":0},6,null,0,0,0,0,{"$f":"SUM(AX151:AY151)","v":0},{"$error":"#VALUE!"},0,{"$error":"#VALUE!"},{"$error":"#VALUE!"},0,{"$error":"#VALUE!"},null,{"$error":"#VALUE!"},0,{"$error":"#VALUE!"},{"$error":"#VALUE!"},0,{"$error":"#VALUE!"},{"$error":"#VALUE!"},0,{"$error":"#VALUE!"}]
[null,null,7,{"$f":"COUNTIF($D$120:$AA$120,$D$148)*$AB$15","v":0},{"$f":"COUNTIF($D$120:$AA$120,$E$148)*$AB$15","v":0},{"$f":"COUNTIF($D$120:$AA$120,$F$148)*$AB$15","v":0},{"$f":"COUNTIF($D$120:$AA$120,$G$148)*$AB$15","v":0},{"$f":"COUNTIF($D$120:$AA$120,$H$148)*$AB$15","v":0},{"$f":"COUNTIF($D$120:$AA$120,$I$148)*$AB$15","v":0},{"$f":"COUNTIF($D$120:$AA$120,$J$148)*$AB$15","v":0},{"$f":"COUNTIF($D$120:$AA$120,$K$148)*$AB$15","v":0},{"$f":"COUNTIF($D$120:$AA$120,$L$148)*$AB$15","v":0},{"$f":"COUNTIF($D$120:$AA$120,$M$148)*$AB$15","v":0},{"$f":"COUNTIF($D$120:$AA$120,$N$148)*$AB$15","v":0},{"$f":"COUNTIF($D$120:$AA$120,$O$148)*$AB$15","v":0},{"$f":"COUNTIF($D$120:$AA$120,$P$148)*$AB$15","v":0},{"$f":"COUNTIF($D$120:$AA$120,$Q$148)*$AB$15","v":0},{"$f":"COUNTIF($D$120:$AA$120,$R$148)*$AB$15","v":0},{"$f":"COUNTIF($D$120:$AA$120,$S$148)*$AB$15","v":0},{"$f":"COUNTIF($D$120:$AA$120,$T$148)*$AB$15","v":0},{"$f":"COUNTIF($D$120:$AA$120,$U$148)*$AB$15","v":0},{"$f":"COUNTIF($D$120:$AA$120,$V$148)*$AB$15","v":0},{"$f":"COUNTIF($D$120:$AA$120,$W$148)*$AB$15","v":0},{"$f":"COUNTIF($D$120:$AA$120,$X$148)*$AB$15","v":0},{"$f":"COUNTIF($D$120:$AA$120,$Y$148)*$AB$15","v":0},{"$f":"COUNTIF($D$120:$AA$120,$Z$148)*$AB$15","v":0},{"$f":"COUNTIF($D$120:$AA$120,$AA$148)*$AB$15","v":0},{"$f":"COUNTIF($D$120:$AA$120,$AB$148)*$AB$15","v":0},{"$f":"COUNTIF($D$120:$AA$120,$AC$148)*$AB$15","v":0},{"$f":"COUNTIF($D$120:$AA$120,$AD$148)*$AB$15","v":0},{"$f":"COUNTIF($D$120:$AA$120,$AE$148)*$AB$15","v":0},{"$f":"COUNTIF($D$120:$AA$120,$AF$148)*$AB$15","v":0},{"$f":"COUNTIF($D$120:$AA$120,$AG$148)*$AB$15","v":0},{"$f":"COUNTIF($D$120:$AA$120,$AH$148)*$AB$15","v":0},{"$f":"COUNTIF($D$120:$AA$120,$AI$148)*$AB$15","v":0},{"$f":"COUNTIF($D$120:$AA$120,$AJ$148)*$AB$15","v":0},{"$f":"COUNTIF($D$120:$AA$120,$AK$148)*$AB$15","v":0},{"$f":"COUNTIF($D$120:$AA$120,$AL$148)*$AB$15","v":0},{"$f":"COUNTIF($D$120:$AA$120,$AM$148)*$AB$15","v":0},{"$f":"COUNTIF($D$120:$AA$120,$AN$148)*$AB$15","v":0},{"$f":"COUNTIF($D$120:$AA$120,$AO$148)*$AB$15","v":0},{"$f":"COUNTIF($D$120:$AA$120,$AP$148)*$AB$15","v":0},{"$f":"COUNTIF($D$120:$AA$120,$AQ$148)*$AB$15","v":0},{"$f":"COUNTIF($D$120:$AA$120,$AR$148)*$AB$15","v":0},{"$f":"COUNTIF($D$120:$AA$120,$AS$148)*$AB$15","v":0},7,null,0,0,0,0,0,{"$error":"#VALUE!"},0,{"$error":"#VALUE!"},{"$error":"#VALUE!"},0,{"$error":"#VALUE!"},null,{"$error":"#VALUE!"},0,{"$error":"#VALUE!"},{"$error":"#VALUE!"},0,{"$error":"#VALUE!"},{"$error":"#VALUE!"},0,{"$error":"#VALUE!"}]
[null,null,8,{"$f":"COUNTIF($D$121:$AA$121,$D$148)*$AB$16","v":0},{"$f":"COUNTIF($D$121:$AA$121,$E$148)*$AB$16","v":0},{"$f":"COUNTIF($D$121:$AA$121,$F$148)*$AB$16","v":0},{"$f":"COUNTIF($D$121:$AA$121,$G$148)*$AB$16","v":0},{"$f":"COUNTIF($D$121:$AA$121,$H$148)*$AB$16","v":0},{"$f":"COUNTIF($D$121:$AA$121,$I$148)*$AB$16","v":0},{"$f":"COUNTIF($D$121:$AA$121,$J$148)*$AB$16","v":0},{"$f":"COUNTIF($D$121:$AA$121,$K$148)*$AB$16","v":0},{"$f":"COUNTIF($D$121:$AA$121,$L$148)*$AB$16","v":0},{"$f":"COUNTIF($D$121:$AA$121,$M$148)*$AB$16","v":0},{"$f":"COUNTIF($D$121:$AA$121,$N$148)*$AB$16","v":0},{"$f":"COUNTIF($D$121:$AA$121,$O$148)*$AB$16","v":0},{"$f":"COUNTIF($D$121:$AA$121,$P$148)*$AB$16","v":0},{"$f":"COUNTIF($D$121:$AA$121,$Q$148)*$AB$16","v":0},{"$f":"COUNTIF($D$121:$AA$121,$R$148)*$AB$16","v":0},{"$f":"COUNTIF($D$121:$AA$121,$S$148)*$AB$16","v":0},{"$f":"COUNTIF($D$121:$AA$121,$T$148)*$AB$16","v":0},{"$f":"COUNTIF($D$121:$AA$121,$U$148)*$AB$16","v":0},{"$f":"COUNTIF($D$121:$AA$121,$V$148)*$AB$16","v":0},{"$f":"COUNTIF($D$121:$AA$121,$W$148)*$AB$16","v":0},{"$f":"COUNTIF($D$121:$AA$121,$X$148)*$AB$16","v":0},{"$f":"COUNTIF($D$121:$AA$121,$Y$148)*$AB$16","v":0},{"$f":"COUNTIF($D$121:$AA$121,$Z$148)*$AB$16","v":0},{"$f":"COUNTIF($D$121:$AA$121,$AA$148)*$AB$16","v":0},{"$f":"COUNTIF($D$121:$AA$121,$AB$148)*$AB$16","v":0},{"$f":"COUNTIF($D$121:$AA$121,$AC$148)*$AB$16","v":0},{"$f":"COUNTIF($D$121:$AA$121,$AD$148)*$AB$16","v":0},{"$f":"COUNTIF($D$121:$AA$121,$AE$148)*$AB$16","v":0},{"$f":"COUNTIF($D$121:$AA$121,$AF$148)*$AB$16","v":0},{"$f":"COUNTIF($D$121:$AA$121,$AG$148)*$AB$16","v":0},{"$f":"COUNTIF($D$121:$AA$121,$AH$148)*$AB$16","v":0},{"$f":"COUNTIF($D$121:$AA$121,$AI$148)*$AB$16","v":0},{"$f":"COUNTIF($D$121:$AA$121,$AJ$148)*$AB$16","v":0},{"$f":"COUNTIF($D$121:$AA$121,$AK$148)*$AB$16","v":0},{"$f":"COUNTIF($D$121:$AA$121,$AL$148)*$AB$16","v":0},{"$f":"COUNTIF($D$121:$AA$121,$AM$148)*$AB$16","v":0},{"$f":"COUNTIF($D$121:$AA$121,$AN$148)*$AB$16","v":0},{"$f":"COUNTIF($D$121:$AA$121,$AO$148)*$AB$16","v":0},{"$f":"COUNTIF($D$121:$AA$121,$AP$148)*$AB$16","v":0},{"$f":"COUNTIF($D$121:$AA$121,$AQ$148)*$AB$16","v":0},{"$f":"COUNTIF($D$121:$AA$121,$AR$148)*$AB$16","v":0},{"$f":"COUNTIF($D$121:$AA$121,$AS$148)*$AB$16","v":0},8,null,0,0,0,0,0,{"$error":"#VALUE!"},0,{"$error":"#VALUE!"},{"$error":"#VALUE!"},0,{"$error":"#VALUE!"},null,{"$error":"#VALUE!"},0,{"$error":"#VALUE!"},{"$error":"#VALUE!"},0,{"$error":"#VALUE!"},{"$error":"#VALUE!"},0,{"$error":"#VALUE!"}]
[null,null,9,{"$f":"COUNTIF($D$122:$AA$122,$D$148)*$AB$17","v":0},{"$f":"COUNTIF($D$122:$AA$122,$E$148)*$AB$17","v":0},{"$f":"COUNTIF($D$122:$AA$122,$F$148)*$AB$17","v":0},{"$f":"COUNTIF($D$122:$AA$122,$G$148)*$AB$17","v":0},{"$f":"COUNTIF($D$122:$AA$122,$H$148)*$AB$17","v":0},{"$f":"COUNTIF($D$122:$AA$122,$I$148)*$AB$17","v":0},{"$f":"COUNTIF($D$122:$AA$122,$J$148)*$AB$17","v":0},{"$f":"COUNTIF($D$122:$AA$122,$K$148)*$AB$17","v":0},{"$f":"COUNTIF($D$122:$AA$122,$L$148)*$AB$17","v":0},{"$f":"COUNTIF($D$122:$AA$122,$M$148)*$AB$17","v":0},{"$f":"COUNTIF($D$122:$AA$122,$N$148)*$AB$17","v":0},{"$f":"COUNTIF($D$122:$AA$122,$O$148)*$AB$17","v":0},{"$f":"COUNTIF($D$122:$AA$122,$P$148)*$AB$17","v":0},{"$f":"COUNTIF($D$122:$AA$122,$Q$148)*$AB$17","v":0},{"$f":"COUNTIF($D$122:$AA$122,$R$148)*$AB$17","v":0},{"$f":"COUNTIF($D$122:$AA$122,$S$148)*$AB$17","v":0},{"$f":"COUNTIF($D$122:$AA$122,$T$148)*$AB$17","v":0},{"$f":"COUNTIF($D$122:$AA$122,$U$148)*$AB$17","v":0},{"$f":"COUNTIF($D$122:$AA$122,$V$148)*$AB$17","v":0},{"$f":"COUNTIF($D$122:$AA$122,$W$148)*$AB$17","v":0},{"$f":"COUNTIF($D$122:$AA$122,$X$148)*$AB$17","v":0},{"$f":"COUNTIF($D$122:$AA$122,$Y$148)*$AB$17","v":0},{"$f":"COUNTIF($D$122:$AA$122,$Z$148)*$AB$17","v":0},{"$f":"COUNTIF($D$122:$AA$122,$AA$148)*$AB$17","v":0},{"$f":"COUNTIF($D$122:$AA$122,$AB$148)*$AB$17","v":0},{"$f":"COUNTIF($D$122:$AA$122,$AC$148)*$AB$17","v":0},{"$f":"COUNTIF($D$122:$AA$122,$AD$148)*$AB$17","v":0},{"$f":"COUNTIF($D$122:$AA$122,$AE$148)*$AB$17","v":0},{"$f":"COUNTIF($D$122:$AA$122,$AF$148)*$AB$17","v":0},{"$f":"COUNTIF($D$122:$AA$122,$AG$148)*$AB$17","v":0},{"$f":"COUNTIF($D$122:$AA$122,$AH$148)*$AB$17","v":0},{"$f":"COUNTIF($D$122:$AA$122,$AI$148)*$AB$17","v":0},{"$f":"COUNTIF($D$122:$AA$122,$AJ$148)*$AB$17","v":0},{"$f":"COUNTIF($D$122:$AA$122,$AK$148)*$AB$17","v":0},{"$f":"COUNTIF($D$122:$AA$122,$AL$148)*$AB$17","v":0},{"$f":"COUNTIF($D$122:$AA$122,$AM$148)*$AB$17","v":0},{"$f":"COUNTIF($D$122:$AA$122,$AN$148)*$AB$17","v":0},{"$f":"COUNTIF($D$122:$AA$122,$AO$148)*$AB$17","v":0},{"$f":"COUNTIF($D$122:$AA$122,$AP$148)*$AB$17","v":0},{"$f":"COUNTIF($D$122:$AA$122,$AQ$148)*$AB$17","v":0},{"$f":"COUNTIF($D$122:$AA$122,$AR$148)*$AB$17","v":0},{"$f":"COUNTIF($D$122:$AA$122,$AS$148)*$AB$17","v":0},9,null,0,{"$f":"SUMPRODUCT(D154:AS154,$D$189:$AS$189)","v":0},0,{"$f":"$Q$35*AW154","v":0},0,{"$error":"#VALUE!"},0,{"$error":"#VALUE!"},{"$error":"#VALUE!"},0,{"$error":"#VALUE!"},null,{"$error":"#VALUE!"},0,{"$error":"#VALUE!"},{"$error":"#VALUE!"},0,{"$error":"#VALUE!"},{"$error":"#VALUE!"},0,{"$f":"SUM(BN154:BO154)","v":{"$error":"#VALUE!"}}]
[null,null,10,{"$f":"COUNTIF($D$123:$AA$123,$D$148)*$AB$18","v":0},{"$f":"COUNTIF($D$123:$AA$123,$E$148)*$AB$18","v":0},{"$f":"COUNTIF($D$123:$AA$123,$F$148)*$AB$18","v":0},{"$f":"COUNTIF($D$123:$AA$123,$G$148)*$AB$18","v":0},{"$f":"COUNTIF($D$123:$AA$123,$H$148)*$AB$18","v":0},{"$f":"COUNTIF($D$123:$AA$123,$I$148)*$AB$18","v":0},{"$f":"COUNTIF($D$123:$AA$123,$J$148)*$AB$18","v":0},{"$f":"COUNTIF($D$123:$AA$123,$K$148)*$AB$18","v":0},{"$f":"COUNTIF($D$123:$AA$123,$L$148)*$AB$18","v":0},{"$f":"COUNTIF($D$123:$AA$123,$M$148)*$AB$18","v":0},{"$f":"COUNTIF($D$123:$AA$123,$N$148)*$AB$18","v":0},{"$f":"COUNTIF($D$123:$AA$123,$O$148)*$AB$18","v":0},{"$f":"COUNTIF($D$123:$AA$123,$P$148)*$AB$18","v":0},{"$f":"COUNTIF($D$123:$AA$123,$Q$148)*$AB$18","v":0},{"$f":"COUNTIF($D$123:$AA$123,$R$148)*$AB$18","v":0},{"$f":"COUNTIF($D$123:$AA$123,$S$148)*$AB$18","v":0},{"$f":"COUNTIF($D$123:$AA$123,$T$148)*$AB$18","v":0},{"$f":"COUNTIF($D$123:$AA$123,$U$148)*$AB$18","v":0},{"$f":"COUNTIF($D$123:$AA$123,$V$148)*$AB$18","v":0},{"$f":"COUNTIF($D$123:$AA$123,$W$148)*$AB$18","v":0},{"$f":"COUNTIF($D$123:$AA$123,$X$148)*$AB$18","v":0},{"$f":"COUNTIF($D$123:$AA$123,$Y$148)*$AB$18","v":0},{"$f":"COUNTIF($D$123:$AA$123,$Z$148)*$AB$18","v":0},{"$f":"COUNTIF($D$123:$AA$123,$AA$148)*$AB$18","v":0},{"$f":"COUNTIF($D$123:$AA$123,$AB$148)*$AB$18","v":0},{"$f":"COUNTIF($D$123:$AA$123,$AC$148)*$AB$18","v":0},{"$f":"COUNTIF($D$123:$AA$123,$AD$148)*$AB$18","v":0},{"$f":"COUNTIF($D$123:$AA$123,$AE$148)*$AB$18","v":0},{"$f":"COUNTIF($D$123:$AA$123,$AF$148)*$AB$18","v":0},{"$f":"COUNTIF($D$123:$AA$123,$AG$148)*$AB$18","v":0},{"$f":"COUNTIF($D$123:$AA$123,$AH$148)*$AB$18","v":0},{"$f":"COUNTIF($D$123:$AA$123,$AI$148)*$AB$18","v":0},{"$f":"COUNTIF($D$123:$AA$123,$AJ$148)*$AB$18","v":0},{"$f":"COUNTIF($D$123:$AA$123,$AK$148)*$AB$18","v":0},{"$f":"COUNTIF($D$123:$AA$123,$AL$148)*$AB$18","v":0},{"$f":"COUNTIF($D$123:$AA$123,$AM$148)*$AB$18","v":0},{"$f":"COUNTIF($D$123:$AA$123,$AN$148)*$AB$18","v":0},{"$f":"COUNTIF($D$123:$AA$123,$AO$148)*$AB$18","v":0},{"$f":"COUNTIF($D$123:$AA$123,$AP$148)*$AB$18","v":0},{"$f":"COUNTIF($D$123:$AA$123,$AQ$148)*$AB$18","v":0},{"$f":"COUNTIF($D$123:$AA$123,$AR$148)*$AB$18","v":0},{"$f":"COUNTIF($D$123:$AA$123,$AS$148)*$AB$18","v":0},10,null,0,0,0,0,0,{"$error":"#VALUE!"},0,{"$error":"#VALUE!"},{"$error":"#VALUE!"},0,{"$error":"#VALUE!"},null,{"$error":"#VALUE!"},0,{"$error":"#VALUE!"},{"$error":"#VALUE!"},0,{"$error":"#VALUE!"},{"$error":"#VALUE!"},0,{"$error":"#VALUE!"}]
[null,null,11,{"$f":"COUNTIF($D$124:$AA$124,$D$148)*$AB$19","v":0},{"$f":"COUNTIF($D$124:$AA$124,$E$148)*$AB$19","v":0},{"$f":"COUNTIF($D$124:$AA$124,$F$148)*$AB$19","v":0},{"$f":"COUNTIF($D$124:$AA$124,$G$148)*$AB$19","v":0},{"$f":"COUNTIF($D$124:$AA$124,$H$148)*$AB$19","v":0},{"$f":"COUNTIF($D$124:$AA$124,$I$148)*$AB$19","v":0},{"$f":"COUNTIF($D$124:$AA$124,$J$148)*$AB$19","v":0},{"$f":"COUNTIF($D$124:$AA$124,$K$148)*$AB$19","v":0},{"$f":"COUNTIF($D$124:$AA$124,$L$148)*$AB$19","v":0},{"$f":"COUNTIF($D$124:$AA$124,$M$148)*$AB$19","v":0},{"$f":"COUNTIF($D$124:$AA$124,$N$148)*$AB$19","v":0},{"$f":"COUNTIF($D$124:$AA$124,$O$148)*$AB$19","v":0},{"$f":"COUNTIF($D$124:$AA$124,$P$148)*$AB$19","v":0},{"$f":"COUNTIF($D$124:$AA$124,$Q$148)*$AB$19","v":0},{"$f":"COUNTIF($D$124:$AA$124,$R$148)*$AB$19","v":0},{"$f":"COUNTIF($D$124:$AA$124,$S$148)*$AB$19","v":0},{"$f":"COUNTIF($D$124:$AA$124,$T$148)*$AB$19","v":0},{"$f":"COUNTIF($D$124:$AA$124,$U$148)*$AB$19","v":0},{"$f":"COUNTIF($D$124:$AA$124,$V$148)*$AB$19","v":0},{"$f":"COUNTIF($D$124:$AA$124,$W$148)*$AB$19","v":0},{"$f":"COUNTIF($D$124:$AA$124,$X$148)*$AB$19","v":0},{"$f":"COUNTIF($D$124:$AA$124,$Y$148)*$AB$19","v":0},{"$f":"COUNTIF($D$124:$AA$124,$Z$148)*$AB$19","v":0},{"$f":"COUNTIF($D$124:$AA$124,$AA$148)*$AB$19","v":0},{"$f":"COUNTIF($D$124:$AA$124,$AB$148)*$AB$19","v":0},{"$f":"COUNTIF($D$124:$AA$124,$AC$148)*$AB$19","v":0},{"$f":"COUNTIF($D$124:$AA$124,$AD$148)*$AB$19","v":0},{"$f":"COUNTIF($D$124:$AA$124,$AE$148)*$AB$19","v":0},{"$f":"COUNTIF($D$124:$AA$124,$AF$148)*$AB$19","v":0},{"$f":"COUNTIF($D$124:$AA$124,$AG$148)*$AB$19","v":0},{"$f":"COUNTIF($D$124:$AA$124,$AH$148)*$AB$19","v":0},{"$f":"COUNTIF($D$124:$AA$124,$AI$148)*$AB$19","v":0},{"$f":"COUNTIF($D$124:$AA$124,$AJ$148)*$AB$19","v":0},{"$f":"COUNTIF($D$124:$AA$124,$AK$148)*$AB$19","v":0},{"$f":"COUNTIF($D$124:$AA$124,$AL$148)*$AB$19","v":0},{"$f":"COUNTIF($D$124:$AA$124,$AM$148)*$AB$19","v":0},{"$f":"COUNTIF($D$124:$AA$124,$AN$148)*$AB$19","v":0},{"$f":"COUNTIF($D$124:$AA$124,$AO$148)*$AB$19","v":0},{"$f":"COUNTIF($D$124:$AA$124,$AP$148)*$AB$19","v":0},{"$f":"COUNTIF($D$124:$AA$124,$AQ$148)*$AB$19","v":0},{"$f":"COUNTIF($D$124:$AA$124,$AR$148)*$AB$19","v":0},{"$f":"COUNTIF($D$124:$AA$124,$AS$148)*$AB$19","v":0},11,null,0,0,0,0,0,{"$error":"#VALUE!"},0,{"$f":"SUM(BA156:BB156)","v":{"$error":"#VALUE!"}},{"$error":"#VALUE!"},0,{"$error":"#VALUE!"},null,{"$error":"#VALUE!"},0,{"$error":"#VALUE!"},{"$error":"#VALUE!"},0,{"$error":"#VALUE!"},{"$error":"#VALUE!"},0,{"$error":"#VALUE!"}]
[null,null,12,{"$f":"COUNTIF($D$125:$AA$125,$D$148)*$AB$20","v":0},{"$f":"COUNTIF($D$125:$AA$125,$E$148)*$AB$20","v":0},{"$f":"COUNTIF($D$125:$AA$125,$F$148)*$AB$20","v":0},{"$f":"COUNTIF($D$125:$AA$125,$G$148)*$AB$20","v":0},{"$f":"COUNTIF($D$125:$AA$125,$H$148)*$AB$20","v":0},{"$f":"COUNTIF($D$125:$AA$125,$I$148)*$AB$20","v":0},{"$f":"COUNTIF($D$125:$AA$125,$J$148)*$AB$20","v":0},{"$f":"COUNTIF($D$125:$AA$125,$K$148)*$AB$20","v":0},{"$f":"COUNTIF($D$125:$AA$125,$L$148)*$AB$20","v":0},{"$f":"COUNTIF($D$125:$AA$125,$M$148)*$AB$20","v":0},{"$f":"COUNTIF($D$125:$AA$125,$N$148)*$AB$20","v":0},{"$f":"COUNTIF($D$125:$AA$125,$O$148)*$AB$20","v":0},{"$f":"COUNTIF($D$125:$AA$125,$P$148)*$AB$20","v":0},{"$f":"COUNTIF($D$125:$AA$125,$Q$148)*$AB$20","v":0},{"$f":"COUNTIF($D$125:$AA$125,$R$148)*$AB$20","v":0},{"$f":"COUNTIF($D$125:$AA$125,$S$148)*$AB$20","v":0},{"$f":"COUNTIF($D$125:$AA$125,$T$148)*$AB$20","v":0},{"$f":"COUNTIF($D$125:$AA$125,$U$148)*$AB$20","v":0},{"$f":"COUNTIF($D$125:$AA$125,$V$148)*$AB$20","v":0},{"$f":"COUNTIF($D$125:$AA$125,$W$148)*$AB$20","v":0},{"$f":"COUNTIF($D$125:$AA$125,$X$148)*$AB$20","v":0},{"$f":"COUNTIF($D$125:$AA$125,$Y$148)*$AB$20","v":0},{"$f":"COUNTIF($D$125:$AA$125,$Z$148)*$AB$20","v":0},{"$f":"COUNTIF($D$125:$AA$125,$AA$148)*$AB$20","v":0},{"$f":"COUNTIF($D$125:$AA$125,$AB$148)*$AB$20","v":0},{"$f":"COUNTIF($D$125:$AA$125,$AC$148)*$AB$20","v":0},{"$f":"COUNTIF($D$125:$AA$125,$AD$148)*$AB$20","v":0},{"$f":"COUNTIF($D$125:$AA$125,$AE$148)*$AB$20","v":0},{"$f":"COUNTIF($D$125:$AA$125,$AF$148)*$AB$20","v":0},{"$f":"COUNTIF($D$125:$AA$125,$AG$148)*$AB$20","v":0},{"$f":"COUNTIF($D$125:$AA$125,$AH$148)*$AB$20","v":0},{"$f":"COUNTIF($D$125:$AA$125,$AI$148)*$AB$20","v":0},{"$f":"COUNTIF($D$125:$AA$125,$AJ$148)*$AB$20","v":0},{"$f":"COUNTIF($D$125:$AA$125,$AK$148)*$AB$20","v":0},{"$f":"COUNTIF($D$125:$AA$125,$AL$148)*$AB$20","v":0},{"$f":"COUNTIF($D$125:$AA$125,$AM$148)*$AB$20","v":0},{"$f":"COUNTIF($D$125:$AA$125,$AN$148)*$AB$20","v":0},{"$f":"COUNTIF($D$125:$AA$125,$AO$148)*$AB$20","v":0},{"$f":"COUNTIF($D$125:$AA$125,$AP$148)*$AB$20","v":0},{"$f":"COUNTIF($D$125:$AA$125,$AQ$148)*$AB$20","v":0},{"$f":"COUNTIF($D$125:$AA$125,$AR$148)*$AB$20","v":0},{"$f":"COUNTIF($D$125:$AA$125,$AS$148)*$AB$20","v":0},12,null,0,0,0,0,{"$f":"SUM(AX157:AY157)","v":0},{"$error":"#VALUE!"},0,{"$error":"#VALUE!"},{"$error":"#VALUE!"},0,{"$f":"SUM(BD157:BE157)","v":{"$error":"#VALUE!"}},null,{"$error":"#VALUE!"},0,{"$error":"#VALUE!"},{"$error":"#VALUE!"},0,{"$f":"SUM(BK157:BL157)","v":{"$error":"#VALUE!"}},{"$error":"#VALUE!"},0,{"$error":"#VALUE!"}]
[null,null,1,{"$f":"COUNTIF($D$126:$AA$126,$D$148)*$AB$21","v":0},{"$f":"COUNTIF($D$126:$AA$126,$E$148)*$AB$21","v":0},{"$f":"COUNTIF($D$126:$AA$126,$F$148)*$AB$21","v":0},{"$f":"COUNTIF($D$126:$AA$126,$G$148)*$AB$21","v":0},{"$f":"COUNTIF($D$126:$AA$126,$H$148)*$AB$21","v":0},{"$f":"COUNTIF($D$126:$AA$126,$I$148)*$AB$21","v":0},{"$f":"COUNTIF($D$126:$AA$126,$J$148)*$AB$21","v":0},{"$f":"COUNTIF($D$126:$AA$126,$K$148)*$AB$21","v":0},{"$f":"COUNTIF($D$126:$AA$126,$L$148)*$AB$21","v":0},{"$f":"COUNTIF($D$126:$AA$126,$M$148)*$AB$21","v":0},{"$f":"COUNTIF($D$126:$AA$126,$N$148)*$AB$21","v":0},{"$f":"COUNTIF($D$126:$AA$126,$O$148)*$AB$21","v":0},{"$f":"COUNTIF($D$126:$AA$126,$P$148)*$AB$21","v":0},{"$f":"COUNTIF($D$126:$AA$126,$Q$148)*$AB$21","v":0},{"$f":"COUNTIF($D$126:$AA$126,$R$148)*$AB$21","v":0},{"$f":"COUNTIF($D$126:$AA$126,$S$148)*$AB$21","v":0},{"$f":"COUNTIF($D$126:$AA$126,$T$148)*$AB$21","v":0},{"$f":"COUNTIF($D$126:$AA$126,$U$148)*$AB$21","v":0},{"$f":"COUNTIF($D$126:$AA$126,$V$148)*$AB$21","v":0},{"$f":"COUNTIF($D$126:$AA$126,$W$148)*$AB$21","v":0},{"$f":"COUNTIF($D$126:$AA$126,$X$148)*$AB$21","v":0},{"$f":"COUNTIF($D$126:$AA$126,$Y$148)*$AB$21","v":0},{"$f":"COUNTIF($D$126:$AA$126,$Z$148)*$AB$21","v":0},{"$f":"COUNTIF($D$126:$AA$126,$AA$148)*$AB$21","v":0},{"$f":"COUNTIF($D$126:$AA$126,$AB$148)*$AB$21","v":0},{"$f":"COUNTIF($D$126:$AA$126,$AC$148)*$AB$21","v":0},{"$f":"COUNTIF($D$126:$AA$126,$AD$148)*$AB$21","v":0},{"$f":"COUNTIF($D$126:$AA$126,$AE$148)*$AB$21","v":0},{"$f":"COUNTIF($D$126:$AA$126,$AF$148)*$AB$21","v":0},{"$f":"COUNTIF($D$126:$AA$126,$AG$148)*$AB$21","v":0},{"$f":"COUNTIF($D$126:$AA$126,$AH$148)*$AB$21","v":0},{"$f":"COUNTIF($D$126:$AA$126,$AI$148)*$AB$21","v":0},{"$f":"COUNTIF($D$126:$AA$126,$AJ$148)*$AB$21","v":0},{"$f":"COUNTIF($D$126:$AA$126,$AK$148)*$AB$21","v":0},{"$f":"COUNTIF($D$126:$AA$126,$AL$148)*$AB$21","v":0},{"$f":"COUNTIF($D$126:$AA$126,$AM$148)*$AB$21","v":0},{"$f":"COUNTIF($D$126:$AA$126,$AN$148)*$AB$21","v":0},{"$f":"COUNTIF($D$126:$AA$126,$AO$148)*$AB$21","v":0},{"$f":"COUNTIF($D$126:$AA$126,$AP$148)*$AB$21","v":0},{"$f":"COUNTIF($D$126:$AA$126,$AQ$148)*$AB$21","v":0},{"$f":"COUNTIF($D$126:$AA$126,$AR$148)*$AB$21","v":0},{"$f":"COUNTIF($D$126:$AA$126,$AS$148)*$AB$21","v":0},1,null,0,0,0,0,0,{"$error":"#VALUE!"},0,{"$error":"#VALUE!"},{"$error":"#VALUE!"},0,{"$error":"#VALUE!"},null,{"$error":"#VALUE!"},0,{"$error":"#VALUE!"},{"$error":"#VALUE!"},0,{"$error":"#VALUE!"},{"$error":"#VALUE!"},0,{"$error":"#VALUE!"}]
[null,null,2,{"$f":"COUNTIF($D$127:$AA$127,$D$148)*$AB$22","v":0},{"$f":"COUNTIF($D$127:$AA$127,$E$148)*$AB$22","v":0},{"$f":"COUNTIF($D$127:$AA$127,$F$148)*$AB$22","v":0},{"$f":"COUNTIF($D$127:$AA$127,$G$148)*$AB$22","v":0},{"$f":"COUNTIF($D$127:$AA$127,$H$148)*$AB$22","v":0},{"$f":"COUNTIF($D$127:$AA$127,$I$148)*$AB$22","v":0},{"$f":"COUNTIF($D$127:$AA$127,$J$148)*$AB$22","v":0},{"$f":"COUNTIF($D$127:$AA$127,$K$148)*$AB$22","v":0},{"$f":"COUNTIF($D$127:$AA$127,$L$148)*$AB$22","v":0},{"$f":"COUNTIF($D$127:$AA$127,$M$148)*$AB$22","v":0},{"$f":"COUNTIF($D$127:$AA$127,$N$148)*$AB$22","v":0},{"$f":"COUNTIF($D$127:$AA$127,$O$148)*$AB$22","v":0},{"$f":"COUNTIF($D$127:$AA$127,$P$148)*$AB$22","v":0},{"$f":"COUNTIF($D$127:$AA$127,$Q$148)*$AB$22","v":0},{"$f":"COUNTIF($D$127:$AA$127,$R$148)*$AB$22","v":0},{"$f":"COUNTIF($D$127:$AA$127,$S$148)*$AB$22","v":0},{"$f":"COUNTIF($D$127:$AA$127,$T$148)*$AB$22","v":0},{"$f":"COUNTIF($D$127:$AA$127,$U$148)*$AB$22","v":0},{"$f":"COUNTIF($D$127:$AA$127,$V$148)*$AB$22","v":0},{"$f":"COUNTIF($D$127:$AA$127,$W$148)*$AB$22","v":0},{"$f":"COUNTIF($D$127:$AA$127,$X$148)*$AB$22","v":0},{"$f":"COUNTIF($D$127:$AA$127,$Y$148)*$AB$22","v":0},{"$f":"COUNTIF($D$127:$AA$127,$Z$148)*$AB$22","v":0},{"$f":"COUNTIF($D$127:$AA$127,$AA$148)*$AB$22","v":0},{"$f":"COUNTIF($D$127:$AA$127,$AB$148)*$AB$22","v":0},{"$f":"COUNTIF($D$127:$AA$127,$AC$148)*$AB$22","v":0},{"$f":"COUNTIF($D$127:$AA$127,$AD$148)*$AB$22","v":0},{"$f":"COUNTIF($D$127:$AA$127,$AE$148)*$AB$22","v":0},{"$f":"COUNTIF($D$127:$AA$127,$AF$148)*$AB$22","v":0},{"$f":"COUNTIF($D$127:$AA$127,$AG$148)*$AB$22","v":0},{"$f":"COUNTIF($D$127:$AA$127,$AH$148)*$AB$22","v":0},{"$f":"COUNTIF($D$127:$AA$127,$AI$148)*$AB$22","v":0},{"$f":"COUNTIF($D$127:$AA$127,$AJ$148)*$AB$22","v":0},{"$f":"COUNTIF($D$127:$AA$127,$AK$148)*$AB$22","v":0},{"$f":"COUNTIF($D$127:$AA$127,$AL$148)*$AB$22","v":0},{"$f":"COUNTIF($D$127:$AA$127,$AM$148)*$AB$22","v":0},{"$f":"COUNTIF($D$127:$AA$127,$AN$148)*$AB$22","v":0},{"$f":"COUNTIF($D$127:$AA$127,$AO$148)*$AB$22","v":0},{"$f":"COUNTIF($D$127:$AA$127,$AP$148)*$AB$22","v":0},{"$f":"COUNTIF($D$127:$AA$127,$AQ$148)*$AB$22","v":0},{"$f":"COUNTIF($D$127:$AA$127,$AR$148)*$AB$22","v":0},{"$f":"COUNTIF($D$127:$AA$127,$AS$148)*$AB$22","v":0},2,null,0,0,0,0,0,{"$error":"#VALUE!"},0,{"$error":"#VALUE!"},{"$error":"#VALUE!"},0,{"$error":"#VALUE!"},null,{"$error":"#VALUE!"},0,{"$f":"SUM(BH159:BI159)","v":{"$error":"#VALUE!"}},{"$error":"#VALUE!"},0,{"$error":"#VALUE!"},{"$error":"#VALUE!"},0,{"$error":"#VALUE!"}]
[null,null,3,{"$f":"COUNTIF($D$128:$AA$128,$D$148)*$AB$23","v":0},{"$f":"COUNTIF($D$128:$AA$128,$E$148)*$AB$23","v":0},{"$f":"COUNTIF($D$128:$AA$128,$F$148)*$AB$23","v":0},{"$f":"COUNTIF($D$128:$AA$128,$G$148)*$AB$23","v":0},{"$f":"COUNTIF($D$128:$AA$128,$H$148)*$AB$23","v":0},{"$f":"COUNTIF($D$128:$AA$128,$I$148)*$AB$23","v":0},{"$f":"COUNTIF($D$128:$AA$128,$J$148)*$AB$23","v":0},{"$f":"COUNTIF($D$128:$AA$128,$K$148)*$AB$23","v":0},{"$f":"COUNTIF($D$128:$AA$128,$L$148)*$AB$23","v":0},{"$f":"COUNTIF($D$128:$AA$128,$M$148)*$AB$23","v":0},{"$f":"COUNTIF($D$128:$AA$128,$N$148)*$AB$23","v":0},{"$f":"COUNTIF($D$128:$AA$128,$O$148)*$AB$23","v":0},{"$f":"COUNTIF($D$128:$AA$128,$P$148)*$AB$23","v":0},{"$f":"COUNTIF($D$128:$AA$128,$Q$148)*$AB$23","v":0},{"$f":"COUNTIF($D$128:$AA$128,$R$148)*$AB$23","v":0},{"$f":"COUNTIF($D$128:$AA$128,$S$148)*$AB$23","v":0},{"$f":"COUNTIF($D$128:$AA$128,$T$148)*$AB$23","v":0},{"$f":"COUNTIF($D$128:$AA$128,$U$148)*$AB$23","v":0},{"$f":"COUNTIF($D$128:$AA$128,$V$148)*$AB$23","v":0},{"$f":"COUNTIF($D$128:$AA$128,$W$148)*$AB$23","v":0},{"$f":"COUNTIF($D$128:$AA$128,$X$148)*$AB$23","v":0},{"$f":"COUNTIF($D$128:$AA$128,$Y$148)*$AB$23","v":0},{"$f":"COUNTIF($D$128:$AA$128,$Z$148)*$AB$23","v":0},{"$f":"COUNTIF($D$128:$AA$128,$AA$148)*$AB$23","v":0},{"$f":"COUNTIF($D$128:$AA$128,$AB$148)*$AB$23","v":0},{"$f":"COUNTIF($D$128:$AA$128,$AC$148)*$AB$23","v":0},{"$f":"COUNTIF($D$128:$AA$128,$AD$148)*$AB$23","v":0},{"$f":"COUNTIF($D$128:$AA$128,$AE$148)*$AB$23","v":0},{"$f":"COUNTIF($D$128:$AA$128,$AF$148)*$AB$23","v":0},{"$f":"COUNTIF($D$128:$AA$128,$AG$148)*$AB$23","v":0},{"$f":"COUNTIF($D$128:$AA$128,$AH$148)*$AB$23","v":0},{"$f":"COUNTIF($D$128:$AA$128,$AI$148)*$AB$23","v":0},{"$f":"COUNTIF($D$128:$AA$128,$AJ$148)*$AB$23","v":0},{"$f":"COUNTIF($D$128:$AA$128,$AK$148)*$AB$23","v":0},{"$f":"COUNTIF($D$128:$AA$128,$AL$148)*$AB$23","v":0},{"$f":"COUNTIF($D$128:$AA$128,$AM$148)*$AB$23","v":0},{"$f":"COUNTIF($D$128:$AA$128,$AN$148)*$AB$23","v":0},{"$f":"COUNTIF($D$128:$AA$128,$AO$148)*$AB$23","v":0},{"$f":"COUNTIF($D$128:$AA$128,$AP$148)*$AB$23","v":0},{"$f":"COUNTIF($D$128:$AA$128,$AQ$148)*$AB$23","v":0},{"$f":"COUNTIF($D$128:$AA$128,$AR$148)*$AB$23","v":0},{"$f":"COUNTIF($D$128:$AA$128,$AS$148)*$AB$23","v":0},3,null,0,0,0,0,{"$f":"SUM(AX160:AY160)","v":0},{"$error":"#VALUE!"},0,{"$f":"SUM(BA160:BB160)","v":{"$error":"#VALUE!"}},{"$error":"#VALUE!"},0,{"$f":"SUM(BD160:BE160)","v":{"$error":"#VALUE!"}},null,{"$error":"#VALUE!"},0,{"$f":"SUM(BH160:BI160)","v":{"$error":"#VALUE!"}},{"$error":"#VALUE!"},0,{"$f":"SUM(BK160:BL160)","v":{"$error":"#VALUE!"}},{"$error":"#VALUE!"},0,{"$f":"SUM(BN160:BO160)","v":{"$error":"#VALUE!"}}]
[null,"tc","冷却運転時間",{"$f":"SUM($D$149:$D$160)","v":0},{"$f":"SUM($E$149:$E$160)","v":0},{"$f":"SUM($F$149:$F$160)","v":0},{"$f":"SUM($G$149:$G$160)","v":0},{"$f":"SUM($H$149:$H$160)","v":0},{"$f":"SUM($I$149:$I$160)","v":0},{"$f":"SUM($J$149:$J$160)","v":0},{"$f":"SUM($K$149:$K$160)","v":0},{"$f":"SUM($L$149:$L$160)","v":0},{"$f":"SUM($M$149:$M$160)","v":0},{"$f":"SUM($N$149:$N$160)","v":0},{"$f":"SUM($O$149:$O$160)","v":0},{"$f":"SUM($P$149:$P$160)","v":0},{"$f":"SUM($Q$149:$Q$160)","v":0},{"$f":"SUM($R$149:$R$160)","v":0},{"$f":"SUM($S$149:$S$160)","v":0},{"$f":"SUM($T$149:$T$160)","v":0},{"$f":"SUM($U$149:$U$160)","v":0},{"$f":"SUM($V$149:$V$160)","v":0},{"$f":"SUM($W$149:$W$160)","v":0},{"$f":"SUM($X$149:$X$160)","v":0},{"$f":"SUM($Y$149:$Y$160)","v":0},{"$f":"SUM($Z$149:$Z$160)","v":0},{"$f":"SUM($AA$149:$AA$160)","v":0},{"$f":"SUM($AB$149:$AB$160)","v":0},{"$f":"SUM($AC$149:$AC$160)","v":0},{"$f":"SUM($AD$149:$AD$160)","v":0},{"$f":"SUM($AE$149:$AE$160)","v":0},{"$f":"SUM($AF$149:$AF$160)","v":0},{"$f":"SUM($AG$149:$AG$160)","v":0},{"$f":"SUM($AH$149:$AH$160)","v":0},{"$f":"SUM($AI$149:$AI$160)","v":0},{"$f":"SUM($AJ$149:$AJ$160)","v":0},{"$f":"SUM($AK$149:$AK$160)","v":0},{"$f":"SUM($AL$149:$AL$160)","v":0},{"$f":"SUM($AM$149:$AM$160)","v":0},{"$f":"SUM($AN$149:$AN$160)","v":0},{"$f":"SUM($AO$149:$AO$160)","v":0},{"$f":"SUM($AP$149:$AP$160)","v":0},{"$f":"SUM($AQ$149:$AQ$160)","v":0},{"$f":"SUM($AR$149:$AR$160)","v":0},{"$f":"SUM($AS$149:$AS$160)","v":0},"冷却運転時間",null,{"$f":"SUM(AV149:AV160)","v":0},{"$f":"SUM(AW149:AW160)","v":0},0,0,0,{"$error":"#VALUE!"},0,{"$error":"#VALUE!"},{"$error":"#VALUE!"},0,{"$error":"#VALUE!"},null,{"$error":"#VALUE!"},0,{"$error":"#VALUE!"},{"$error":"#VALUE!"},0,{"$error":"#VALUE!"},{"$error":"#VALUE!"},0,{"$error":"#VALUE!"}]
[null,"εc","冷却時消費電力比",{"$f":"$D$163/$D$164","v":0},{"$f":"$E$163/$E$164","v":0},{"$f":"$F$163/$F$164","v":0},{"$f":"$G$163/$G$164","v":0},{"$f":"$H$163/$H$164","v":0},{"$f":"$I$163/$I$164","v":0},{"$f":"$J$163/$J$164","v":0},{"$f":"$K$163/$K$164","v":0},{"$f":"$L$163/$L$164","v":0},{"$f":"$M$163/$M$164","v":0},{"$f":"$N$163/$N$164","v":0},{"$f":"$O$163/$O$164","v":0},{"$f":"$P$163/$P$164","v":0},{"$f":"$Q$163/$Q$164","v":0},{"$f":"$R$163/$R$164","v":0},{"$f":"$S$163/$S$164","v":0},{"$f":"$T$163/$T$164","v":0},{"$f":"$U$163/$U$164","v":0},{"$f":"$V$163/$V$164","v":0},{"$f":"$W$163/$W$164","v":0},{"$f":"$X$163/$X$164","v":0},{"$f":"$Y$163/$Y$164","v":0},{"$f":"$Z$163/$Z$164","v":2.7954950038913257E-2},{"$f":"$AA$163/$AA$164","v":5.7295984754684365E-2},{"$f":"$AB$163/$AB$164","v":8.8117734692774549E-2},{"$f":"$AC$163/$AC$164","v":0.1205235301100922},{"$f":"$AD$163/$AD$164","v":0.15462642256308759},{"$f":"$AE$163/$AE$164","v":0.19055035388376554},{"$f":"$AF$163/$AF$164","v":0.22843149796239107},{"$f":"$AG$163/$AG$164","v":0.26841980589221737},{"$f":"$AH$163/$AH$164","v":0.31068079136611182},{"$f":"$AI$163/$AI$164","v":0.35539760106619284},{"$f":"$AJ$163/$AJ$164","v":0.40277342457005777},{"$f":"$AK$163/$AK$164","v":0.45303431055350984},{"$f":"$AL$163/$AL$164","v":0.50643247151512127},{"$f":"$AM$163/$AM$164","v":0.56325017883193185},{"$f":"$AN$163/$AN$164","v":0.62380437494801644},{"$f":"$AO$163/$AO$164","v":0.68845216161070288},{"$f":"$AP$163/$AP$164","v":0.75759736463072036},{"$f":"$AQ$163/$AQ$164","v":0.83169842984577558},{"$f":"$AR$163/$AR$164","v":0.91127797623387052},{"$f":"$AS$163/$AS$164","v":0.99693442663808818},"冷却時消費電力比"]
[null,"αc","冷却空調負荷率",{"$f":"IF((1/20)*(D$148-35)+1<0,0,IF((1/20)*(D$148-35)+1>1,1,(1/20)*(D$148-35)+1))","v":0},{"$f":"IF((1/20)*(E$148-35)+1<0,0,IF((1/20)*(E$148-35)+1>1,1,(1/20)*(E$148-35)+1))","v":0},0,0,0,0,0,0,0,0,0,0,0,0,0,0,0,0,0,0,0,0,4.9999999999999933E-2,9.9999999999999978E-2,0.14999999999999991,0.19999999999999996,0.25,0.29999999999999993,0.35,0.39999999999999991,0.44999999999999996,0.5,0.55000000000000004,0.6,0.64999999999999991,0.7,0.75,0.8,0.85,0.9,0.95,1,"冷却空調負荷率"]
[null,"βc","冷却COP比",{"$f":"1.07/10000*D$148*D$148-0.0468*D$148+2.51","v":2.7946519999999997},{"$f":"1.07/10000*E$148*E$148-0.0468*E$148+2.51","v":2.7466749999999998},{"$f":"1.07/10000*F$148*F$148-0.0468*F$148+2.51","v":2.698912},2.6513629999999999,2.6040279999999996,2.5569069999999998,2.5099999999999998,2.4633069999999999,2.4168279999999998,2.3705629999999998,2.3245119999999999,2.2786749999999998,2.2330519999999998,2.1876429999999996,2.1424479999999999,2.097467,2.0526999999999997,{"$f":"1.07/10000*U$148*U$148-0.0468*U$148+2.51","v":2.0081469999999997},1.9638079999999998,1.9196829999999996,1.8757719999999998,1.8320749999999997,1.7885919999999997,1.745323,1.7022679999999997,{"$f":"1.07/10000*AC$148*AC$148-0.0468*AC$148+2.51","v":1.6594269999999998},1.6167999999999998,1.5743869999999998,1.5321879999999997,1.4902029999999997,1.4484319999999997,1.4068749999999999,1.3655319999999997,1.3244029999999998,1.2834879999999997,1.2427869999999999,1.2022999999999997,1.1620269999999997,1.1219679999999999,1.0821229999999997,1.0424919999999998,{"$f":"1.07/10000*AS$148*AS$148-0.0468*AS$148+2.51","v":1.0030749999999997},"冷却COP比"]
[null,null,"Σ",{"$f":"$D$161*$D$162","v":0},{"$f":"$E$161*$E$162","v":0},{"$f":"$F$161*$F$162","v":0},{"$f":"$G$161*$G$162","v":0},{"$f":"$H$161*$H$162","v":0},{"$f":"$I$161*$I$162","v":0},{"$f":"$J$161*$J$162","v":0},{"$f":"$K$161*$K$162","v":0},{"$f":"$L$161*$L$162","v":0},{"$f":"$M$161*$M$162","v":0},{"$f":"$N$161*$N$162","v":0},{"$f":"$O$161*$O$162","v":0},{"$f":"$P$161*$P$162","v":0},{"$f":"$Q$161*$Q$162","v":0},{"$f":"$R$161*$R$162","v":0},{"$f":"$S$161*$S$162","v":0},{"$f":"$T$161*$T$162","v":0},{"$f":"$U$161*$U$162","v":0},{"$f":"$V$161*$V$162","v":0},{"$f":"$W$161*$W$162","v":0},{"$f":"$X$161*$X$162","v":0},{"$f":"$Y$161*$Y$162","v":0},{"$f":"$Z$161*$Z$162","v":0},{"$f":"$AA$161*$AA$162","v":0},{"$f":"$AB$161*$AB$162","v":0},{"$f":"$AC$161*$AC$162","v":0},{"$f":"$AD$161*$AD$162","v":0},{"$f":"$AE$161*$AE$162","v":0},{"$f":"$AF$161*$AF$162","v":0},{"$f":"$AG$161*$AG$162","v":0},{"$f":"$AH$161*$AH$162","v":0},{"$f":"$AI$161*$AI$162","v":0},{"$f":"$AJ$161*$AJ$162","v":0},{"$f":"$AK$161*$AK$162","v":0},{"$f":"$AL$161*$AL$162","v":0},{"$f":"$AM$161*$AM$162","v":0},{"$f":"$AN$161*$AN$162","v":0},{"$f":"$AO$161*$AO$162","v":0},{"$f":"$AP$161*$AP$162","v":0},{"$f":"$AQ$161*$AQ$162","v":0},{"$f":"$AR$161*$AR$162","v":0},{"$f":"$AS$161*$AS$162","v":0},{"$f":"SUM($D$165:$AS$165)","v":0}]
[]
[null,null,"加熱期間中　外気温度(T)が発生する時間[hour]"]
[null,null,null," 外気温度(T)",null,null,null,null,null,null,null,null,null,null,null,null,null,null,null,null,null,null,null,null,null,null,null,null,null,null,null,null,null,null,null,null,null,null,null,null,null,null,null,null,null,null,null,"共通","共通","前1",null,null,"前2",null,null,"前3",null,null,null,"後1",null,null,"後2",null,null,"後3"]
[null,null,"月",-6,-5,-4,-3,-2,-1,0,1,2,3,4,5,6,7,8,9,10,11,12,13,14,15,16,17,18,19,20,21,22,23,24,25,26,27,28,29,30,31,32,33,34,35,"月",null,"EwwのΣ","EaxwのΣ","Eww","Eaxw","Ew","Eww","Eaxw","Ew","Eww","Eaxw","Ew",null,"Eww","Eaxw","Ew","Eww","Eaxw","Ew","Eww","Eaxw","Ew"]
[null,null,4,{"$f":"COUNTIF($D$133:$AA$133,$D$169)*$AB$12","v":0},{"$f":"COUNTIF($D$133:$AA$133,$E$169)*$AB$12","v":0},{"$f":"COUNTIF($D$133:$AA$133,$F$169)*$AB$12","v":0},{"$f":"COUNTIF($D$133:$AA$133,$G$169)*$AB$12","v":0},{"$f":"COUNTIF($D$133:$AA$133,$H$169)*$AB$12","v":0},{"$f":"COUNTIF($D$133:$AA$133,$I$169)*$AB$12","v":0},{"$f":"COUNTIF($D$133:$AA$133,$J$169)*$AB$12","v":0},{"$f":"COUNTIF($D$133:$AA$133,$K$169)*$AB$12","v":0},{"$f":"COUNTIF($D$133:$AA$133,$L$169)*$AB$12","v":0},{"$f":"COUNTIF($D$133:$AA$133,$M$169)*$AB$12","v":0},{"$f":"COUNTIF($D$133:$AA$133,$N$169)*$AB$12","v":0},{"$f":"COUNTIF($D$133:$AA$133,$O$169)*$AB$12","v":0},{"$f":"COUNTIF($D$133:$AA$133,$P$169)*$AB$12","v":0},{"$f":"COUNTIF($D$133:$AA$133,$Q$169)*$AB$12","v":0},{"$f":"COUNTIF($D$133:$AA$133,$R$169)*$AB$12","v":0},{"$f":"COUNTIF($D$133:$AA$133,$S$169)*$AB$12","v":0},{"$f":"COUNTIF($D$133:$AA$133,$T$169)*$AB$12","v":0},{"$f":"COUNTIF($D$133:$AA$133,$U$169)*$AB$12","v":0},{"$f":"COUNTIF($D$133:$AA$133,$V$169)*$AB$12","v":0},{"$f":"COUNTIF($D$133:$AA$133,$W$169)*$AB$12","v":0},{"$f":"COUNTIF($D$133:$AA$133,$X$169)*$AB$12","v":0},{"$f":"COUNTIF($D$133:$AA$133,$Y$169)*$AB$12","v":0},{"$f":"COUNTIF($D$133:$AA$133,$Z$169)*$AB$12","v":0},{"$f":"COUNTIF($D$133:$AA$133,$AA$169)*$AB$12","v":0},{"$f":"COUNTIF($D$133:$AA$133,$AB$169)*$AB$12","v":0},{"$f":"COUNTIF($D$133:$AA$133,$AC$169)*$AB$12","v":0},{"$f":"COUNTIF($D$133:$AA$133,$AD$169)*$AB$12","v":0},{"$f":"COUNTIF($D$133:$AA$133,$AE$169)*$AB$12","v":0},{"$f":"COUNTIF($D$133:$AA$133,$AF$169)*$AB$12","v":0},{"$f":"COUNTIF($D$133:$AA$133,$AG$169)*$AB$12","v":0},{"$f":"COUNTIF($D$133:$AA$133,$AH$169)*$AB$12","v":0},{"$f":"COUNTIF($D$133:$AA$133,$AI$169)*$AB$12","v":0},{"$f":"COUNTIF($D$133:$AA$133,$AJ$169)*$AB$12","v":0},{"$f":"COUNTIF($D$133:$AA$133,$AK$169)*$AB$12","v":0},{"$f":"COUNTIF($D$133:$AA$133,$AL$169)*$AB$12","v":0},{"$f":"COUNTIF($D$133:$AA$133,$AM$169)*$AB$12","v":0},{"$f":"COUNTIF($D$133:$AA$133,$AN$169)*$AB$12","v":0},{"$f":"COUNTIF($D$133:$AA$133,$AO$169)*$AB$12","v":0},{"$f":"COUNTIF($D$133:$AA$133,$AP$169)*$AB$12","v":0},{"$f":"COUNTIF($D$133:$AA$133,$AQ$169)*$AB$12","v":0},{"$f":"COUNTIF($D$133:$AA$133,$AR$169)*$AB$12","v":0},{"$f":"COUNTIF($D$133:$AA$133,$AS$169)*$AB$12","v":0},4,null,{"$f":"SUMPRODUCT(D170:AS170,$D$183:$AS$183)","v":0},{"$f":"SUMPRODUCT(D170:AS170,$D$192:$AS$192)","v":0},{"$f":"($Q$29*$C$7)/$Q$34*$AV170*$Q$37","v":{"$error":"#VALUE!"}},{"$f":"$Q$35*$AW170","v":0},{"$f":"SUM(AX170:AY170)","v":{"$error":"#VALUE!"}},{"$f":"($R$29*$C$7)/$R$34*$AV170*$R$37","v":{"$error":"#VALUE!"}},{"$f":"$R$35*$AW170","v":0},{"$f":"SUM(BA170:BB170)","v":{"$error":"#VALUE!"}},{"$f":"($S$29*$C$7)/$S$34*$AV170*$S$37","v":{"$error":"#VALUE!"}},{"$f":"$S$35*$AW170","v":0},{"$f":"SUM(BD170:BE170)","v":{"$error":"#VALUE!"}},null,{"$f":"($Q$43*$C$7)/$Q$48*$AV170*$Q$51","v":{"$error":"#VALUE!"}},{"$f":"$Q$49*$AW170","v":0},{"$f":"SUM(BH170:BI170)","v":{"$error":"#VALUE!"}},{"$f":"($R$43*$C$7)/$R$48*$AV170*$R$51","v":{"$error":"#VALUE!"}},{"$f":"$R$49*$AW170","v":0},{"$f":"SUM(BK170:BL170)","v":{"$error":"#VALUE!"}},{"$f":"($S$43*$C$7)/$S$48*$AV170*$S$51","v":{"$error":"#VALUE!"}},{"$f":"$S$49*$AW170","v":0},{"$f":"SUM(BN170:BO170)","v":{"$error":"#VALUE!"}}]
[null,null,5,{"$f":"COUNTIF($D$134:$AA$134,$D$169)*$AB$13","v":0},{"$f":"COUNTIF($D$134:$AA$134,$E$169)*$AB$13","v":0},{"$f":"COUNTIF($D$134:$AA$134,$F$169)*$AB$13","v":0},{"$f":"COUNTIF($D$134:$AA$134,$G$169)*$AB$13","v":0},{"$f":"COUNTIF($D$134:$AA$134,$H$169)*$AB$13","v":0},{"$f":"COUNTIF($D$134:$AA$134,$I$169)*$AB$13","v":0},{"$f":"COUNTIF($D$134:$AA$134,$J$169)*$AB$13","v":0},{"$f":"COUNTIF($D$134:$AA$134,$K$169)*$AB$13","v":0},{"$f":"COUNTIF($D$134:$AA$134,$L$169)*$AB$13","v":0},{"$f":"COUNTIF($D$134:$AA$134,$M$169)*$AB$13","v":0},{"$f":"COUNTIF($D$134:$AA$134,$N$169)*$AB$13","v":0},{"$f":"COUNTIF($D$134:$AA$134,$O$169)*$AB$13","v":0},{"$f":"COUNTIF($D$134:$AA$134,$P$169)*$AB$13","v":0},{"$f":"COUNTIF($D$134:$AA$134,$Q$169)*$AB$13","v":0},{"$f":"COUNTIF($D$134:$AA$134,$R$169)*$AB$13","v":0},{"$f":"COUNTIF($D$134:$AA$134,$S$169)*$AB$13","v":0},{"$f":"COUNTIF($D$134:$AA$134,$T$169)*$AB$13","v":0},{"$f":"COUNTIF($D$134:$AA$134,$U$169)*$AB$13","v":0},{"$f":"COUNTIF($D$134:$AA$134,$V$169)*$AB$13","v":0},{"$f":"COUNTIF($D$134:$AA$134,$W$169)*$AB$13","v":0},{"$f":"COUNTIF($D$134:$AA$134,$X$169)*$AB$13","v":0},{"$f":"COUNTIF($D$134:$AA$134,$Y$169)*$AB$13","v":0},{"$f":"COUNTIF($D$134:$AA$134,$Z$169)*$AB$13","v":0},{"$f":"COUNTIF($D$134:$AA$134,$AA$169)*$AB$13","v":0},{"$f":"COUNTIF($D$134:$AA$134,$AB$169)*$AB$13","v":0},{"$f":"COUNTIF($D$134:$AA$134,$AC$169)*$AB$13","v":0},{"$f":"COUNTIF($D$134:$AA$134,$AD$169)*$AB$13","v":0},{"$f":"COUNTIF($D$134:$AA$134,$AE$169)*$AB$13","v":0},{"$f":"COUNTIF($D$134:$AA$134,$AF$169)*$AB$13","v":0},{"$f":"COUNTIF($D$134:$AA$134,$AG$169)*$AB$13","v":0},{"$f":"COUNTIF($D$134:$AA$134,$AH$169)*$AB$13","v":0},{"$f":"COUNTIF($D$134:$AA$134,$AI$169)*$AB$13","v":0},{"$f":"COUNTIF($D$134:$AA$134,$AJ$169)*$AB$13","v":0},{"$f":"COUNTIF($D$134:$AA$134,$AK$169)*$AB$13","v":0},{"$f":"COUNTIF($D$134:$AA$134,$AL$169)*$AB$13","v":0},{"$f":"COUNTIF($D$134:$AA$134,$AM$169)*$AB$13","v":0},{"$f":"COUNTIF($D$134:$AA$134,$AN$169)*$AB$13","v":0},{"$f":"COUNTIF($D$134:$AA$134,$AO$169)*$AB$13","v":0},{"$f":"COUNTIF($D$134:$AA$134,$AP$169)*$AB$13","v":0},{"$f":"COUNTIF($D$134:$AA$134,$AQ$169)*$AB$13","v":0},{"$f":"COUNTIF($D$134:$AA$134,$AR$169)*$AB$13","v":0},{"$f":"COUNTIF($D$134:$AA$134,$AS$169)*$AB$13","v":0},5,null,{"$f":"SUMPRODUCT(D171:AS171,$D$183:$AS$183)","v":0},{"$f":"SUMPRODUCT(D171:AS171,$D$192:$AS$192)","v":0},{"$f":"($Q$29*$C$7)/$Q$34*$AV171*$Q$37","v":{"$error":"#VALUE!"}},{"$f":"$Q$35*$AW171","v":0},{"$f":"SUM(AX171:AY171)","v":{"$error":"#VALUE!"}},{"$f":"($R$29*$C$7)/$R$34*$AV171*$R$37","v":{"$error":"#VALUE!"}},{"$f":"$R$35*$AW171","v":0},{"$f":"SUM(BA171:BB171)","v":{"$error":"#VALUE!"}},{"$f":"($S$29*$C$7)/$S$34*$AV171*$S$37","v":{"$error":"#VALUE!"}},{"$f":"$S$35*$AW171","v":0},{"$f":"SUM(BD171:BE171)","v":{"$error":"#VALUE!"}},null,{"$f":"($Q$43*$C$7)/$Q$48*$AV171*$Q$51","v":{"$error":"#VALUE!"}},{"$f":"$Q$49*$AW171","v":0},{"$f":"SUM(BH171:BI171)","v":{"$error":"#VALUE!"}},{"$f":"($R$43*$C$7)/$R$48*$AV171*$R$51","v":{"$error":"#VALUE!"}},{"$f":"$R$49*$AW171","v":0},{"$f":"SUM(BK171:BL171)","v":{"$error":"#VALUE!"}},{"$f":"($S$43*$C$7)/$S$48*$AV171*$S$51","v":{"$error":"#VALUE!"}},{"$f":"$S$49*$AW171","v":0},{"$f":"SUM(BN171:BO171)","v":{"$error":"#VALUE!"}}]
[null,null,6,{"$f":"COUNTIF($D$135:$AA$135,$D$169)*$AB$14","v":0},{"$f":"COUNTIF($D$135:$AA$135,$E$169)*$AB$14","v":0},{"$f":"COUNTIF($D$135:$AA$135,$F$169)*$AB$14","v":0},{"$f":"COUNTIF($D$135:$AA$135,$G$169)*$AB$14","v":0},{"$f":"COUNTIF($D$135:$AA$135,$H$169)*$AB$14","v":0},{"$f":"COUNTIF($D$135:$AA$135,$I$169)*$AB$14","v":0},{"$f":"COUNTIF($D$135:$AA$135,$J$169)*$AB$14","v":0},{"$f":"COUNTIF($D$135:$AA$135,$K$169)*$AB$14","v":0},{"$f":"COUNTIF($D$135:$AA$135,$L$169)*$AB$14","v":0},{"$f":"COUNTIF($D$135:$AA$135,$M$169)*$AB$14","v":0},{"$f":"COUNTIF($D$135:$AA$135,$N$169)*$AB$14","v":0},{"$f":"COUNTIF($D$135:$AA$135,$O$169)*$AB$14","v":0},{"$f":"COUNTIF($D$135:$AA$135,$P$169)*$AB$14","v":0},{"$f":"COUNTIF($D$135:$AA$135,$Q$169)*$AB$14","v":0},{"$f":"COUNTIF($D$135:$AA$135,$R$169)*$AB$14","v":0},{"$f":"COUNTIF($D$135:$AA$135,$S$169)*$AB$14","v":0},{"$f":"COUNTIF($D$135:$AA$135,$T$169)*$AB$14","v":0},{"$f":"COUNTIF($D$135:$AA$135,$U$169)*$AB$14","v":0},{"$f":"COUNTIF($D$135:$AA$135,$V$169)*$AB$14","v":0},{"$f":"COUNTIF($D$135:$AA$135,$W$169)*$AB$14","v":0},{"$f":"COUNTIF($D$135:$AA$135,$X$169)*$AB$14","v":0},{"$f":"COUNTIF($D$135:$AA$135,$Y$169)*$AB$14","v":0},{"$f":"COUNTIF($D$135:$AA$135,$Z$169)*$AB$14","v":0},{"$f":"COUNTIF($D$135:$AA$135,$AA$169)*$AB$14","v":0},{"$f":"COUNTIF($D$135:$AA$135,$AB$169)*$AB$14","v":0},{"$f":"COUNTIF($D$135:$AA$135,$AC$169)*$AB$14","v":0},{"$f":"COUNTIF($D$135:$AA$135,$AD$169)*$AB$14","v":0},{"$f":"COUNTIF($D$135:$AA$135,$AE$169)*$AB$14","v":0},{"$f":"COUNTIF($D$135:$AA$135,$AF$169)*$AB$14","v":0},{"$f":"COUNTIF($D$135:$AA$135,$AG$169)*$AB$14","v":0},{"$f":"COUNTIF($D$135:$AA$135,$AH$169)*$AB$14","v":0},{"$f":"COUNTIF($D$135:$AA$135,$AI$169)*$AB$14","v":0},{"$f":"COUNTIF($D$135:$AA$135,$AJ$169)*$AB$14","v":0},{"$f":"COUNTIF($D$135:$AA$135,$AK$169)*$AB$14","v":0},{"$f":"COUNTIF($D$135:$AA$135,$AL$169)*$AB$14","v":0},{"$f":"COUNTIF($D$135:$AA$135,$AM$169)*$AB$14","v":0},{"$f":"COUNTIF($D$135:$AA$135,$AN$169)*$AB$14","v":0},{"$f":"COUNTIF($D$135:$AA$135,$AO$169)*$AB$14","v":0},{"$f":"COUNTIF($D$135:$AA$135,$AP$169)*$AB$14","v":0},{"$f":"COUNTIF($D$135:$AA$135,$AQ$169)*$AB$14","v":0},{"$f":"COUNTIF($D$135:$AA$135,$AR$169)*$AB$14","v":0},{"$f":"COUNTIF($D$135:$AA$135,$AS$169)*$AB$14","v":0},6,null,0,0,{"$error":"#VALUE!"},0,{"$f":"SUM(AX172:AY172)","v":{"$error":"#VALUE!"}},{"$error":"#VALUE!"},0,{"$error":"#VALUE!"},{"$error":"#VALUE!"},0,{"$error":"#VALUE!"},null,{"$error":"#VALUE!"},0,{"$error":"#VALUE!"},{"$error":"#VALUE!"},0,{"$error":"#VALUE!"},{"$error":"#VALUE!"},0,{"$error":"#VALUE!"}]
[null,null,7,{"$f":"COUNTIF($D$136:$AA$136,$D$169)*$AB$15","v":0},{"$f":"COUNTIF($D$136:$AA$136,$E$169)*$AB$15","v":0},{"$f":"COUNTIF($D$136:$AA$136,$F$169)*$AB$15","v":0},{"$f":"COUNTIF($D$136:$AA$136,$G$169)*$AB$15","v":0},{"$f":"COUNTIF($D$136:$AA$136,$H$169)*$AB$15","v":0},{"$f":"COUNTIF($D$136:$AA$136,$I$169)*$AB$15","v":0},{"$f":"COUNTIF($D$136:$AA$136,$J$169)*$AB$15","v":0},{"$f":"COUNTIF($D$136:$AA$136,$K$169)*$AB$15","v":0},{"$f":"COUNTIF($D$136:$AA$136,$L$169)*$AB$15","v":0},{"$f":"COUNTIF($D$136:$AA$136,$M$169)*$AB$15","v":0},{"$f":"COUNTIF($D$136:$AA$136,$N$169)*$AB$15","v":0},{"$f":"COUNTIF($D$136:$AA$136,$O$169)*$AB$15","v":0},{"$f":"COUNTIF($D$136:$AA$136,$P$169)*$AB$15","v":0},{"$f":"COUNTIF($D$136:$AA$136,$Q$169)*$AB$15","v":0},{"$f":"COUNTIF($D$136:$AA$136,$R$169)*$AB$15","v":0},{"$f":"COUNTIF($D$136:$AA$136,$S$169)*$AB$15","v":0},{"$f":"COUNTIF($D$136:$AA$136,$T$169)*$AB$15","v":0},{"$f":"COUNTIF($D$136:$AA$136,$U$169)*$AB$15","v":0},{"$f":"COUNTIF($D$136:$AA$136,$V$169)*$AB$15","v":0},{"$f":"COUNTIF($D$136:$AA$136,$W$169)*$AB$15","v":0},{"$f":"COUNTIF($D$136:$AA$136,$X$169)*$AB$15","v":0},{"$f":"COUNTIF($D$136:$AA$136,$Y$169)*$AB$15","v":0},{"$f":"COUNTIF($D$136:$AA$136,$Z$169)*$AB$15","v":0},{"$f":"COUNTIF($D$136:$AA$136,$AA$169)*$AB$15","v":0},{"$f":"COUNTIF($D$136:$AA$136,$AB$169)*$AB$15","v":0},{"$f":"COUNTIF($D$136:$AA$136,$AC$169)*$AB$15","v":0},{"$f":"COUNTIF($D$136:$AA$136,$AD$169)*$AB$15","v":0},{"$f":"COUNTIF($D$136:$AA$136,$AE$169)*$AB$15","v":0},{"$f":"COUNTIF($D$136:$AA$136,$AF$169)*$AB$15","v":0},{"$f":"COUNTIF($D$136:$AA$136,$AG$169)*$AB$15","v":0},{"$f":"COUNTIF($D$136:$AA$136,$AH$169)*$AB$15","v":0},{"$f":"COUNTIF($D$136:$AA$136,$AI$169)*$AB$15","v":0},{"$f":"COUNTIF($D$136:$AA$136,$AJ$169)*$AB$15","v":0},{"$f":"COUNTIF($D$136:$AA$136,$AK$169)*$AB$15","v":0},{"$f":"COUNTIF($D$136:$AA$136,$AL$169)*$AB$15","v":0},{"$f":"COUNTIF($D$136:$AA$136,$AM$169)*$AB$15","v":0},{"$f":"COUNTIF($D$136:$AA$136,$AN$169)*$AB$15","v":0},{"$f":"COUNTIF($D$136:$AA$136,$AO$169)*$AB$15","v":0},{"$f":"COUNTIF($D$136:$AA$136,$AP$169)*$AB$15","v":0},{"$f":"COUNTIF($D$136:$AA$136,$AQ$169)*$AB$15","v":0},{"$f":"COUNTIF($D$136:$AA$136,$AR$169)*$AB$15","v":0},{"$f":"COUNTIF($D$136:$AA$136,$AS$169)*$AB$15","v":0},7,null,0,0,{"$error":"#VALUE!"},0,{"$error":"#VALUE!"},{"$error":"#VALUE!"},0,{"$f":"SUM(BA173:BB173)","v":{"$error":"#VALUE!"}},{"$error":"#VALUE!"},0,{"$error":"#VALUE!"},null,{"$error":"#VALUE!"},0,{"$error":"#VALUE!"},{"$error":"#VALUE!"},0,{"$error":"#VALUE!"},{"$error":"#VALUE!"},0,{"$error":"#VALUE!"}]
[null,null,8,{"$f":"COUNTIF($D$137:$AA$137,$D$169)*$AB$16","v":0},{"$f":"COUNTIF($D$137:$AA$137,$E$169)*$AB$16","v":0},{"$f":"COUNTIF($D$137:$AA$137,$F$169)*$AB$16","v":0},{"$f":"COUNTIF($D$137:$AA$137,$G$169)*$AB$16","v":0},{"$f":"COUNTIF($D$137:$AA$137,$H$169)*$AB$16","v":0},{"$f":"COUNTIF($D$137:$AA$137,$I$169)*$AB$16","v":0},{"$f":"COUNTIF($D$137:$AA$137,$J$169)*$AB$16","v":0},{"$f":"COUNTIF($D$137:$AA$137,$K$169)*$AB$16","v":0},{"$f":"COUNTIF($D$137:$AA$137,$L$169)*$AB$16","v":0},{"$f":"COUNTIF($D$137:$AA$137,$M$169)*$AB$16","v":0},{"$f":"COUNTIF($D$137:$AA$137,$N$169)*$AB$16","v":0},{"$f":"COUNTIF($D$137:$AA$137,$O$169)*$AB$16","v":0},{"$f":"COUNTIF($D$137:$AA$137,$P$169)*$AB$16","v":0},{"$f":"COUNTIF($D$137:$AA$137,$Q$169)*$AB$16","v":0},{"$f":"COUNTIF($D$137:$AA$137,$R$169)*$AB$16","v":0},{"$f":"COUNTIF($D$137:$AA$137,$S$169)*$AB$16","v":0},{"$f":"COUNTIF($D$137:$AA$137,$T$169)*$AB$16","v":0},{"$f":"COUNTIF($D$137:$AA$137,$U$169)*$AB$16","v":0},{"$f":"COUNTIF($D$137:$AA$137,$V$169)*$AB$16","v":0},{"$f":"COUNTIF($D$137:$AA$137,$W$169)*$AB$16","v":0},{"$f":"COUNTIF($D$137:$AA$137,$X$169)*$AB$16","v":0},{"$f":"COUNTIF($D$137:$AA$137,$Y$169)*$AB$16","v":0},{"$f":"COUNTIF($D$137:$AA$137,$Z$169)*$AB$16","v":0},{"$f":"COUNTIF($D$137:$AA$137,$AA$169)*$AB$16","v":0},{"$f":"COUNTIF($D$137:$AA$137,$AB$169)*$AB$16","v":0},{"$f":"COUNTIF($D$137:$AA$137,$AC$169)*$AB$16","v":0},{"$f":"COUNTIF($D$137:$AA$137,$AD$169)*$AB$16","v":0},{"$f":"COUNTIF($D$137:$AA$137,$AE$169)*$AB$16","v":0},{"$f":"COUNTIF($D$137:$AA$137,$AF$169)*$AB$16","v":0},{"$f":"COUNTIF($D$137:$AA$137,$AG$169)*$AB$16","v":0},{"$f":"COUNTIF($D$137:$AA$137,$AH$169)*$AB$16","v":0},{"$f":"COUNTIF($D$137:$AA$137,$AI$169)*$AB$16","v":0},{"$f":"COUNTIF($D$137:$AA$137,$AJ$169)*$AB$16","v":0},{"$f":"COUNTIF($D$137:$AA$137,$AK$169)*$AB$16","v":0},{"$f":"COUNTIF($D$137:$AA$137,$AL$169)*$AB$16","v":0},{"$f":"COUNTIF($D$137:$AA$137,$AM$169)*$AB$16","v":0},{"$f":"COUNTIF($D$137:$AA$137,$AN$169)*$AB$16","v":0},{"$f":"COUNTIF($D$137:$AA$137,$AO$169)*$AB$16","v":0},{"$f":"COUNTIF($D$137:$AA$137,$AP$169)*$AB$16","v":0},{"$f":"COUNTIF($D$137:$AA$137,$AQ$169)*$AB$16","v":0},{"$f":"COUNTIF($D$137:$AA$137,$AR$169)*$AB$16","v":0},{"$f":"COUNTIF($D$137:$AA$137,$AS$169)*$AB$16","v":0},8,null,0,0,{"$error":"#VALUE!"},0,{"$error":"#VALUE!"},{"$error":"#VALUE!"},0,{"$error":"#VALUE!"},{"$error":"#VALUE!"},0,{"$error":"#VALUE!"},null,{"$error":"#VALUE!"},0,{"$error":"#VALUE!"},{"$error":"#VALUE!"},0,{"$error":"#VALUE!"},{"$error":"#VALUE!"},0,{"$error":"#VALUE!"}]
[null,null,9,{"$f":"COUNTIF($D$138:$AA$138,$D$169)*$AB$17","v":0},{"$f":"COUNTIF($D$138:$AA$138,$E$169)*$AB$17","v":0},{"$f":"COUNTIF($D$138:$AA$138,$F$169)*$AB$17","v":0},{"$f":"COUNTIF($D$138:$AA$138,$G$169)*$AB$17","v":0},{"$f":"COUNTIF($D$138:$AA$138,$H$169)*$AB$17","v":0},{"$f":"COUNTIF($D$138:$AA$138,$I$169)*$AB$17","v":0},{"$f":"COUNTIF($D$138:$AA$138,$J$169)*$AB$17","v":0},{"$f":"COUNTIF($D$138:$AA$138,$K$169)*$AB$17","v":0},{"$f":"COUNTIF($D$138:$AA$138,$L$169)*$AB$17","v":0},{"$f":"COUNTIF($D$138:$AA$138,$M$169)*$AB$17","v":0},{"$f":"COUNTIF($D$138:$AA$138,$N$169)*$AB$17","v":0},{"$f":"COUNTIF($D$138:$AA$138,$O$169)*$AB$17","v":0},{"$f":"COUNTIF($D$138:$AA$138,$P$169)*$AB$17","v":0},{"$f":"COUNTIF($D$138:$AA$138,$Q$169)*$AB$17","v":0},{"$f":"COUNTIF($D$138:$AA$138,$R$169)*$AB$17","v":0},{"$f":"COUNTIF($D$138:$AA$138,$S$169)*$AB$17","v":0},{"$f":"COUNTIF($D$138:$AA$138,$T$169)*$AB$17","v":0},{"$f":"COUNTIF($D$138:$AA$138,$U$169)*$AB$17","v":0},{"$f":"COUNTIF($D$138:$AA$138,$V$169)*$AB$17","v":0},{"$f":"COUNTIF($D$138:$AA$138,$W$169)*$AB$17","v":0},{"$f":"COUNTIF($D$138:$AA$138,$X$169)*$AB$17","v":0},{"$f":"COUNTIF($D$138:$AA$138,$Y$169)*$AB$17","v":0},{"$f":"COUNTIF($D$138:$AA$138,$Z$169)*$AB$17","v":0},{"$f":"COUNTIF($D$138:$AA$138,$AA$169)*$AB$17","v":0},{"$f":"COUNTIF($D$138:$AA$138,$AB$169)*$AB$17","v":0},{"$f":"COUNTIF($D$138:$AA$138,$AC$169)*$AB$17","v":0},{"$f":"COUNTIF($D$138:$AA$138,$AD$169)*$AB$17","v":0},{"$f":"COUNTIF($D$138:$AA$138,$AE$169)*$AB$17","v":0},{"$f":"COUNTIF($D$138:$AA$138,$AF$169)*$AB$17","v":0},{"$f":"COUNTIF($D$138:$AA$138,$AG$169)*$AB$17","v":0},{"$f":"COUNTIF($D$138:$AA$138,$AH$169)*$AB$17","v":0},{"$f":"COUNTIF($D$138:$AA$138,$AI$169)*$AB$17","v":0},{"$f":"COUNTIF($D$138:$AA$138,$AJ$169)*$AB$17","v":0},{"$f":"COUNTIF($D$138:$AA$138,$AK$169)*$AB$17","v":0},{"$f":"COUNTIF($D$138:$AA$138,$AL$169)*$AB$17","v":0},{"$f":"COUNTIF($D$138:$AA$138,$AM$169)*$AB$17","v":0},{"$f":"COUNTIF($D$138:$AA$138,$AN$169)*$AB$17","v":0},{"$f":"COUNTIF($D$138:$AA$138,$AO$169)*$AB$17","v":0},{"$f":"COUNTIF($D$138:$AA$138,$AP$169)*$AB$17","v":0},{"$f":"COUNTIF($D$138:$AA$138,$AQ$169)*$AB$17","v":0},{"$f":"COUNTIF($D$138:$AA$138,$AR$169)*$AB$17","v":0},{"$f":"COUNTIF($D$138:$AA$138,$AS$169)*$AB$17","v":0},9,null,0,0,{"$error":"#VALUE!"},0,{"$error":"#VALUE!"},{"$error":"#VALUE!"},0,{"$error":"#VALUE!"},{"$error":"#VALUE!"},0,{"$error":"#VALUE!"},null,{"$error":"#VALUE!"},0,{"$f":"SUM(BH175:BI175)","v":{"$error":"#VALUE!"}},{"$error":"#VALUE!"},0,{"$error":"#VALUE!"},{"$error":"#VALUE!"},0,{"$error":"#VALUE!"}]
[null,null,10,{"$f":"COUNTIF($D$139:$AA$139,$D$169)*$AB$18","v":0},{"$f":"COUNTIF($D$139:$AA$139,$E$169)*$AB$18","v":0},{"$f":"COUNTIF($D$139:$AA$139,$F$169)*$AB$18","v":0},{"$f":"COUNTIF($D$139:$AA$139,$G$169)*$AB$18","v":0},{"$f":"COUNTIF($D$139:$AA$139,$H$169)*$AB$18","v":0},{"$f":"COUNTIF($D$139:$AA$139,$I$169)*$AB$18","v":0},{"$f":"COUNTIF($D$139:$AA$139,$J$169)*$AB$18","v":0},{"$f":"COUNTIF($D$139:$AA$139,$K$169)*$AB$18","v":0},{"$f":"COUNTIF($D$139:$AA$139,$L$169)*$AB$18","v":0},{"$f":"COUNTIF($D$139:$AA$139,$M$169)*$AB$18","v":0},{"$f":"COUNTIF($D$139:$AA$139,$N$169)*$AB$18","v":0},{"$f":"COUNTIF($D$139:$AA$139,$O$169)*$AB$18","v":0},{"$f":"COUNTIF($D$139:$AA$139,$P$169)*$AB$18","v":0},{"$f":"COUNTIF($D$139:$AA$139,$Q$169)*$AB$18","v":0},{"$f":"COUNTIF($D$139:$AA$139,$R$169)*$AB$18","v":0},{"$f":"COUNTIF($D$139:$AA$139,$S$169)*$AB$18","v":0},{"$f":"COUNTIF($D$139:$AA$139,$T$169)*$AB$18","v":0},{"$f":"COUNTIF($D$139:$AA$139,$U$169)*$AB$18","v":0},{"$f":"COUNTIF($D$139:$AA$139,$V$169)*$AB$18","v":0},{"$f":"COUNTIF($D$139:$AA$139,$W$169)*$AB$18","v":0},{"$f":"COUNTIF($D$139:$AA$139,$X$169)*$AB$18","v":0},{"$f":"COUNTIF($D$139:$AA$139,$Y$169)*$AB$18","v":0},{"$f":"COUNTIF($D$139:$AA$139,$Z$169)*$AB$18","v":0},{"$f":"COUNTIF($D$139:$AA$139,$AA$169)*$AB$18","v":0},{"$f":"COUNTIF($D$139:$AA$139,$AB$169)*$AB$18","v":0},{"$f":"COUNTIF($D$139:$AA$139,$AC$169)*$AB$18","v":0},{"$f":"COUNTIF($D$139:$AA$139,$AD$169)*$AB$18","v":0},{"$f":"COUNTIF($D$139:$AA$139,$AE$169)*$AB$18","v":0},{"$f":"COUNTIF($D$139:$AA$139,$AF$169)*$AB$18","v":0},{"$f":"COUNTIF($D$139:$AA$139,$AG$169)*$AB$18","v":0},{"$f":"COUNTIF($D$139:$AA$139,$AH$169)*$AB$18","v":0},{"$f":"COUNTIF($D$139:$AA$139,$AI$169)*$AB$18","v":0},{"$f":"COUNTIF($D$139:$AA$139,$AJ$169)*$AB$18","v":0},{"$f":"COUNTIF($D$139:$AA$139,$AK$169)*$AB$18","v":0},{"$f":"COUNTIF($D$139:$AA$139,$AL$169)*$AB$18","v":0},{"$f":"COUNTIF($D$139:$AA$139,$AM$169)*$AB$18","v":0},{"$f":"COUNTIF($D$139:$AA$139,$AN$169)*$AB$18","v":0},{"$f":"COUNTIF($D$139:$AA$139,$AO$169)*$AB$18","v":0},{"$f":"COUNTIF($D$139:$AA$139,$AP$169)*$AB$18","v":0},{"$f":"COUNTIF($D$139:$AA$139,$AQ$169)*$AB$18","v":0},{"$f":"COUNTIF($D$139:$AA$139,$AR$169)*$AB$18","v":0},{"$f":"COUNTIF($D$139:$AA$139,$AS$169)*$AB$18","v":0},10,null,0,0,{"$error":"#VALUE!"},0,{"$error":"#VALUE!"},{"$error":"#VALUE!"},0,{"$error":"#VALUE!"},{"$error":"#VALUE!"},0,{"$error":"#VALUE!"},null,{"$error":"#VALUE!"},0,{"$error":"#VALUE!"},{"$error":"#VALUE!"},0,{"$error":"#VALUE!"},{"$error":"#VALUE!"},0,{"$error":"#VALUE!"}]
[null,null,11,{"$f":"COUNTIF($D$140:$AA$140,$D$169)*$AB$19","v":0},{"$f":"COUNTIF($D$140:$AA$140,$E$169)*$AB$19","v":0},{"$f":"COUNTIF($D$140:$AA$140,$F$169)*$AB$19","v":0},{"$f":"COUNTIF($D$140:$AA$140,$G$169)*$AB$19","v":0},{"$f":"COUNTIF($D$140:$AA$140,$H$169)*$AB$19","v":0},{"$f":"COUNTIF($D$140:$AA$140,$I$169)*$AB$19","v":0},{"$f":"COUNTIF($D$140:$AA$140,$J$169)*$AB$19","v":0},{"$f":"COUNTIF($D$140:$AA$140,$K$169)*$AB$19","v":0},{"$f":"COUNTIF($D$140:$AA$140,$L$169)*$AB$19","v":0},{"$f":"COUNTIF($D$140:$AA$140,$M$169)*$AB$19","v":0},{"$f":"COUNTIF($D$140:$AA$140,$N$169)*$AB$19","v":0},{"$f":"COUNTIF($D$140:$AA$140,$O$169)*$AB$19","v":0},{"$f":"COUNTIF($D$140:$AA$140,$P$169)*$AB$19","v":0},{"$f":"COUNTIF($D$140:$AA$140,$Q$169)*$AB$19","v":0},{"$f":"COUNTIF($D$140:$AA$140,$R$169)*$AB$19","v":0},{"$f":"COUNTIF($D$140:$AA$140,$S$169)*$AB$19","v":0},{"$f":"COUNTIF($D$140:$AA$140,$T$169)*$AB$19","v":0},{"$f":"COUNTIF($D$140:$AA$140,$U$169)*$AB$19","v":0},{"$f":"COUNTIF($D$140:$AA$140,$V$169)*$AB$19","v":0},{"$f":"COUNTIF($D$140:$AA$140,$W$169)*$AB$19","v":0},{"$f":"COUNTIF($D$140:$AA$140,$X$169)*$AB$19","v":0},{"$f":"COUNTIF($D$140:$AA$140,$Y$169)*$AB$19","v":0},{"$f":"COUNTIF($D$140:$AA$140,$Z$169)*$AB$19","v":0},{"$f":"COUNTIF($D$140:$AA$140,$AA$169)*$AB$19","v":0},{"$f":"COUNTIF($D$140:$AA$140,$AB$169)*$AB$19","v":0},{"$f":"COUNTIF($D$140:$AA$140,$AC$169)*$AB$19","v":0},{"$f":"COUNTIF($D$140:$AA$140,$AD$169)*$AB$19","v":0},{"$f":"COUNTIF($D$140:$AA$140,$AE$169)*$AB$19","v":0},{"$f":"COUNTIF($D$140:$AA$140,$AF$169)*$AB$19","v":0},{"$f":"COUNTIF($D$140:$AA$140,$AG$169)*$AB$19","v":0},{"$f":"COUNTIF($D$140:$AA$140,$AH$169)*$AB$19","v":0},{"$f":"COUNTIF($D$140:$AA$140,$AI$169)*$AB$19","v":0},{"$f":"COUNTIF($D$140:$AA$140,$AJ$169)*$AB$19","v":0},{"$f":"COUNTIF($D$140:$AA$140,$AK$169)*$AB$19","v":0},{"$f":"COUNTIF($D$140:$AA$140,$AL$169)*$AB$19","v":0},{"$f":"COUNTIF($D$140:$AA$140,$AM$169)*$AB$19","v":0},{"$f":"COUNTIF($D$140:$AA$140,$AN$169)*$AB$19","v":0},{"$f":"COUNTIF($D$140:$AA$140,$AO$169)*$AB$19","v":0},{"$f":"COUNTIF($D$140:$AA$140,$AP$169)*$AB$19","v":0},{"$f":"COUNTIF($D$140:$AA$140,$AQ$169)*$AB$19","v":0},{"$f":"COUNTIF($D$140:$AA$140,$AR$169)*$AB$19","v":0},{"$f":"COUNTIF($D$140:$AA$140,$AS$169)*$AB$19","v":0},11,null,0,0,{"$error":"#VALUE!"},0,{"$error":"#VALUE!"},{"$error":"#VALUE!"},0,{"$error":"#VALUE!"},{"$error":"#VALUE!"},0,{"$error":"#VALUE!"},null,{"$error":"#VALUE!"},0,{"$error":"#VALUE!"},{"$error":"#VALUE!"},0,{"$error":"#VALUE!"},{"$error":"#VALUE!"},0,{"$error":"#VALUE!"}]
[null,null,12,{"$f":"COUNTIF($D$141:$AA$141,$D$169)*$AB$20","v":0},{"$f":"COUNTIF($D$141:$AA$141,$E$169)*$AB$20","v":0},{"$f":"COUNTIF($D$141:$AA$141,$F$169)*$AB$20","v":0},{"$f":"COUNTIF($D$141:$AA$141,$G$169)*$AB$20","v":0},{"$f":"COUNTIF($D$141:$AA$141,$H$169)*$AB$20","v":0},{"$f":"COUNTIF($D$141:$AA$141,$I$169)*$AB$20","v":0},{"$f":"COUNTIF($D$141:$AA$141,$J$169)*$AB$20","v":0},{"$f":"COUNTIF($D$141:$AA$141,$K$169)*$AB$20","v":0},{"$f":"COUNTIF($D$141:$AA$141,$L$169)*$AB$20","v":0},{"$f":"COUNTIF($D$141:$AA$141,$M$169)*$AB$20","v":0},{"$f":"COUNTIF($D$141:$AA$141,$N$169)*$AB$20","v":0},{"$f":"COUNTIF($D$141:$AA$141,$O$169)*$AB$20","v":0},{"$f":"COUNTIF($D$141:$AA$141,$P$169)*$AB$20","v":0},{"$f":"COUNTIF($D$141:$AA$141,$Q$169)*$AB$20","v":0},{"$f":"COUNTIF($D$141:$AA$141,$R$169)*$AB$20","v":0},{"$f":"COUNTIF($D$141:$AA$141,$S$169)*$AB$20","v":0},{"$f":"COUNTIF($D$141:$AA$141,$T$169)*$AB$20","v":0},{"$f":"COUNTIF($D$141:$AA$141,$U$169)*$AB$20","v":0},{"$f":"COUNTIF($D$141:$AA$141,$V$169)*$AB$20","v":0},{"$f":"COUNTIF($D$141:$AA$141,$W$169)*$AB$20","v":0},{"$f":"COUNTIF($D$141:$AA$141,$X$169)*$AB$20","v":0},{"$f":"COUNTIF($D$141:$AA$141,$Y$169)*$AB$20","v":0},{"$f":"COUNTIF($D$141:$AA$141,$Z$169)*$AB$20","v":0},{"$f":"COUNTIF($D$141:$AA$141,$AA$169)*$AB$20","v":0},{"$f":"COUNTIF($D$141:$AA$141,$AB$169)*$AB$20","v":0},{"$f":"COUNTIF($D$141:$AA$141,$AC$169)*$AB$20","v":0},{"$f":"COUNTIF($D$141:$AA$141,$AD$169)*$AB$20","v":0},{"$f":"COUNTIF($D$141:$AA$141,$AE$169)*$AB$20","v":0},{"$f":"COUNTIF($D$141:$AA$141,$AF$169)*$AB$20","v":0},{"$f":"COUNTIF($D$141:$AA$141,$AG$169)*$AB$20","v":0},{"$f":"COUNTIF($D$141:$AA$141,$AH$169)*$AB$20","v":0},{"$f":"COUNTIF($D$141:$AA$141,$AI$169)*$AB$20","v":0},{"$f":"COUNTIF($D$141:$AA$141,$AJ$169)*$AB$20","v":0},{"$f":"COUNTIF($D$141:$AA$141,$AK$169)*$AB$20","v":0},{"$f":"COUNTIF($D$141:$AA$141,$AL$169)*$AB$20","v":0},{"$f":"COUNTIF($D$141:$AA$141,$AM$169)*$AB$20","v":0},{"$f":"COUNTIF($D$141:$AA$141,$AN$169)*$AB$20","v":0},{"$f":"COUNTIF($D$141:$AA$141,$AO$169)*$AB$20","v":0},{"$f":"COUNTIF($D$141:$AA$141,$AP$169)*$AB$20","v":0},{"$f":"COUNTIF($D$141:$AA$141,$AQ$169)*$AB$20","v":0},{"$f":"COUNTIF($D$141:$AA$141,$AR$169)*$AB$20","v":0},{"$f":"COUNTIF($D$141:$AA$141,$AS$169)*$AB$20","v":0},12,null,0,0,{"$error":"#VALUE!"},0,{"$error":"#VALUE!"},{"$error":"#VALUE!"},0,{"$error":"#VALUE!"},{"$error":"#VALUE!"},0,{"$error":"#VALUE!"},null,{"$error":"#VALUE!"},0,{"$error":"#VALUE!"},{"$error":"#VALUE!"},0,{"$error":"#VALUE!"},{"$error":"#VALUE!"},0,{"$error":"#VALUE!"}]
[null,null,1,{"$f":"COUNTIF($D$142:$AA$142,$D$169)*$AB$21","v":0},{"$f":"COUNTIF($D$142:$AA$142,$E$169)*$AB$21","v":0},{"$f":"COUNTIF($D$142:$AA$142,$F$169)*$AB$21","v":0},{"$f":"COUNTIF($D$142:$AA$142,$G$169)*$AB$21","v":0},{"$f":"COUNTIF($D$142:$AA$142,$H$169)*$AB$21","v":0},{"$f":"COUNTIF($D$142:$AA$142,$I$169)*$AB$21","v":0},{"$f":"COUNTIF($D$142:$AA$142,$J$169)*$AB$21","v":0},{"$f":"COUNTIF($D$142:$AA$142,$K$169)*$AB$21","v":0},{"$f":"COUNTIF($D$142:$AA$142,$L$169)*$AB$21","v":0},{"$f":"COUNTIF($D$142:$AA$142,$M$169)*$AB$21","v":0},{"$f":"COUNTIF($D$142:$AA$142,$N$169)*$AB$21","v":0},{"$f":"COUNTIF($D$142:$AA$142,$O$169)*$AB$21","v":0},{"$f":"COUNTIF($D$142:$AA$142,$P$169)*$AB$21","v":0},{"$f":"COUNTIF($D$142:$AA$142,$Q$169)*$AB$21","v":0},{"$f":"COUNTIF($D$142:$AA$142,$R$169)*$AB$21","v":0},{"$f":"COUNTIF($D$142:$AA$142,$S$169)*$AB$21","v":0},{"$f":"COUNTIF($D$142:$AA$142,$T$169)*$AB$21","v":0},{"$f":"COUNTIF($D$142:$AA$142,$U$169)*$AB$21","v":0},{"$f":"COUNTIF($D$142:$AA$142,$V$169)*$AB$21","v":0},{"$f":"COUNTIF($D$142:$AA$142,$W$169)*$AB$21","v":0},{"$f":"COUNTIF($D$142:$AA$142,$X$169)*$AB$21","v":0},{"$f":"COUNTIF($D$142:$AA$142,$Y$169)*$AB$21","v":0},{"$f":"COUNTIF($D$142:$AA$142,$Z$169)*$AB$21","v":0},{"$f":"COUNTIF($D$142:$AA$142,$AA$169)*$AB$21","v":0},{"$f":"COUNTIF($D$142:$AA$142,$AB$169)*$AB$21","v":0},{"$f":"COUNTIF($D$142:$AA$142,$AC$169)*$AB$21","v":0},{"$f":"COUNTIF($D$142:$AA$142,$AD$169)*$AB$21","v":0},{"$f":"COUNTIF($D$142:$AA$142,$AE$169)*$AB$21","v":0},{"$f":"COUNTIF($D$142:$AA$142,$AF$169)*$AB$21","v":0},{"$f":"COUNTIF($D$142:$AA$142,$AG$169)*$AB$21","v":0},{"$f":"COUNTIF($D$142:$AA$142,$AH$169)*$AB$21","v":0},{"$f":"COUNTIF($D$142:$AA$142,$AI$169)*$AB$21","v":0},{"$f":"COUNTIF($D$142:$AA$142,$AJ$169)*$AB$21","v":0},{"$f":"COUNTIF($D$142:$AA$142,$AK$169)*$AB$21","v":0},{"$f":"COUNTIF($D$142:$AA$142,$AL$169)*$AB$21","v":0},{"$f":"COUNTIF($D$142:$AA$142,$AM$169)*$AB$21","v":0},{"$f":"COUNTIF($D$142:$AA$142,$AN$169)*$AB$21","v":0},{"$f":"COUNTIF($D$142:$AA$142,$AO$169)*$AB$21","v":0},{"$f":"COUNTIF($D$142:$AA$142,$AP$169)*$AB$21","v":0},{"$f":"COUNTIF($D$142:$AA$142,$AQ$169)*$AB$21","v":0},{"$f":"COUNTIF($D$142:$AA$142,$AR$169)*$AB$21","v":0},{"$f":"COUNTIF($D$142:$AA$142,$AS$169)*$AB$21","v":0},1,null,0,0,{"$error":"#VALUE!"},0,{"$error":"#VALUE!"},{"$error":"#VALUE!"},0,{"$error":"#VALUE!"},{"$error":"#VALUE!"},0,{"$error":"#VALUE!"},null,{"$error":"#VALUE!"},0,{"$error":"#VALUE!"},{"$error":"#VALUE!"},0,{"$error":"#VALUE!"},{"$error":"#VALUE!"},0,{"$error":"#VALUE!"}]
[null,null,2,{"$f":"COUNTIF($D$143:$AA$143,$D$169)*$AB$22","v":0},{"$f":"COUNTIF($D$143:$AA$143,$E$169)*$AB$22","v":0},{"$f":"COUNTIF($D$143:$AA$143,$F$169)*$AB$22","v":0},{"$f":"COUNTIF($D$143:$AA$143,$G$169)*$AB$22","v":0},{"$f":"COUNTIF($D$143:$AA$143,$H$169)*$AB$22","v":0},{"$f":"COUNTIF($D$143:$AA$143,$I$169)*$AB$22","v":0},{"$f":"COUNTIF($D$143:$AA$143,$J$169)*$AB$22","v":0},{"$f":"COUNTIF($D$143:$AA$143,$K$169)*$AB$22","v":0},{"$f":"COUNTIF($D$143:$AA$143,$L$169)*$AB$22","v":0},{"$f":"COUNTIF($D$143:$AA$143,$M$169)*$AB$22","v":0},{"$f":"COUNTIF($D$143:$AA$143,$N$169)*$AB$22","v":0},{"$f":"COUNTIF($D$143:$AA$143,$O$169)*$AB$22","v":0},{"$f":"COUNTIF($D$143:$AA$143,$P$169)*$AB$22","v":0},{"$f":"COUNTIF($D$143:$AA$143,$Q$169)*$AB$22","v":0},{"$f":"COUNTIF($D$143:$AA$143,$R$169)*$AB$22","v":0},{"$f":"COUNTIF($D$143:$AA$143,$S$169)*$AB$22","v":0},{"$f":"COUNTIF($D$143:$AA$143,$T$169)*$AB$22","v":0},{"$f":"COUNTIF($D$143:$AA$143,$U$169)*$AB$22","v":0},{"$f":"COUNTIF($D$143:$AA$143,$V$169)*$AB$22","v":0},{"$f":"COUNTIF($D$143:$AA$143,$W$169)*$AB$22","v":0},{"$f":"COUNTIF($D$143:$AA$143,$X$169)*$AB$22","v":0},{"$f":"COUNTIF($D$143:$AA$143,$Y$169)*$AB$22","v":0},{"$f":"COUNTIF($D$143:$AA$143,$Z$169)*$AB$22","v":0},{"$f":"COUNTIF($D$143:$AA$143,$AA$169)*$AB$22","v":0},{"$f":"COUNTIF($D$143:$AA$143,$AB$169)*$AB$22","v":0},{"$f":"COUNTIF($D$143:$AA$143,$AC$169)*$AB$22","v":0},{"$f":"COUNTIF($D$143:$AA$143,$AD$169)*$AB$22","v":0},{"$f":"COUNTIF($D$143:$AA$143,$AE$169)*$AB$22","v":0},{"$f":"COUNTIF($D$143:$AA$143,$AF$169)*$AB$22","v":0},{"$f":"COUNTIF($D$143:$AA$143,$AG$169)*$AB$22","v":0},{"$f":"COUNTIF($D$143:$AA$143,$AH$169)*$AB$22","v":0},{"$f":"COUNTIF($D$143:$AA$143,$AI$169)*$AB$22","v":0},{"$f":"COUNTIF($D$143:$AA$143,$AJ$169)*$AB$22","v":0},{"$f":"COUNTIF($D$143:$AA$143,$AK$169)*$AB$22","v":0},{"$f":"COUNTIF($D$143:$AA$143,$AL$169)*$AB$22","v":0},{"$f":"COUNTIF($D$143:$AA$143,$AM$169)*$AB$22","v":0},{"$f":"COUNTIF($D$143:$AA$143,$AN$169)*$AB$22","v":0},{"$f":"COUNTIF($D$143:$AA$143,$AO$169)*$AB$22","v":0},{"$f":"COUNTIF($D$143:$AA$143,$AP$169)*$AB$22","v":0},{"$f":"COUNTIF($D$143:$AA$143,$AQ$169)*$AB$22","v":0},{"$f":"COUNTIF($D$143:$AA$143,$AR$169)*$AB$22","v":0},{"$f":"COUNTIF($D$143:$AA$143,$AS$169)*$AB$22","v":0},2,null,0,0,{"$error":"#VALUE!"},0,{"$error":"#VALUE!"},{"$error":"#VALUE!"},0,{"$error":"#VALUE!"},{"$error":"#VALUE!"},0,{"$error":"#VALUE!"},null,{"$error":"#VALUE!"},0,{"$error":"#VALUE!"},{"$error":"#VALUE!"},0,{"$error":"#VALUE!"},{"$error":"#VALUE!"},0,{"$error":"#VALUE!"}]
[null,null,3,{"$f":"COUNTIF($D$144:$AA$144,$D$169)*$AB$23","v":0},{"$f":"COUNTIF($D$144:$AA$144,$E$169)*$AB$23","v":0},{"$f":"COUNTIF($D$144:$AA$144,$F$169)*$AB$23","v":0},{"$f":"COUNTIF($D$144:$AA$144,$G$169)*$AB$23","v":0},{"$f":"COUNTIF($D$144:$AA$144,$H$169)*$AB$23","v":0},{"$f":"COUNTIF($D$144:$AA$144,$I$169)*$AB$23","v":0},{"$f":"COUNTIF($D$144:$AA$144,$J$169)*$AB$23","v":0},{"$f":"COUNTIF($D$144:$AA$144,$K$169)*$AB$23","v":0},{"$f":"COUNTIF($D$144:$AA$144,$L$169)*$AB$23","v":0},{"$f":"COUNTIF($D$144:$AA$144,$M$169)*$AB$23","v":0},{"$f":"COUNTIF($D$144:$AA$144,$N$169)*$AB$23","v":0},{"$f":"COUNTIF($D$144:$AA$144,$O$169)*$AB$23","v":0},{"$f":"COUNTIF($D$144:$AA$144,$P$169)*$AB$23","v":0},{"$f":"COUNTIF($D$144:$AA$144,$Q$169)*$AB$23","v":0},{"$f":"COUNTIF($D$144:$AA$144,$R$169)*$AB$23","v":0},{"$f":"COUNTIF($D$144:$AA$144,$S$169)*$AB$23","v":0},{"$f":"COUNTIF($D$144:$AA$144,$T$169)*$AB$23","v":0},{"$f":"COUNTIF($D$144:$AA$144,$U$169)*$AB$23","v":0},{"$f":"COUNTIF($D$144:$AA$144,$V$169)*$AB$23","v":0},{"$f":"COUNTIF($D$144:$AA$144,$W$169)*$AB$23","v":0},{"$f":"COUNTIF($D$144:$AA$144,$X$169)*$AB$23","v":0},{"$f":"COUNTIF($D$144:$AA$144,$Y$169)*$AB$23","v":0},{"$f":"COUNTIF($D$144:$AA$144,$Z$169)*$AB$23","v":0},{"$f":"COUNTIF($D$144:$AA$144,$AA$169)*$AB$23","v":0},{"$f":"COUNTIF($D$144:$AA$144,$AB$169)*$AB$23","v":0},{"$f":"COUNTIF($D$144:$AA$144,$AC$169)*$AB$23","v":0},{"$f":"COUNTIF($D$144:$AA$144,$AD$169)*$AB$23","v":0},{"$f":"COUNTIF($D$144:$AA$144,$AE$169)*$AB$23","v":0},{"$f":"COUNTIF($D$144:$AA$144,$AF$169)*$AB$23","v":0},{"$f":"COUNTIF($D$144:$AA$144,$AG$169)*$AB$23","v":0},{"$f":"COUNTIF($D$144:$AA$144,$AH$169)*$AB$23","v":0},{"$f":"COUNTIF($D$144:$AA$144,$AI$169)*$AB$23","v":0},{"$f":"COUNTIF($D$144:$AA$144,$AJ$169)*$AB$23","v":0},{"$f":"COUNTIF($D$144:$AA$144,$AK$169)*$AB$23","v":0},{"$f":"COUNTIF($D$144:$AA$144,$AL$169)*$AB$23","v":0},{"$f":"COUNTIF($D$144:$AA$144,$AM$169)*$AB$23","v":0},{"$f":"COUNTIF($D$144:$AA$144,$AN$169)*$AB$23","v":0},{"$f":"COUNTIF($D$144:$AA$144,$AO$169)*$AB$23","v":0},{"$f":"COUNTIF($D$144:$AA$144,$AP$169)*$AB$23","v":0},{"$f":"COUNTIF($D$144:$AA$144,$AQ$169)*$AB$23","v":0},{"$f":"COUNTIF($D$144:$AA$144,$AR$169)*$AB$23","v":0},{"$f":"COUNTIF($D$144:$AA$144,$AS$169)*$AB$23","v":0},3,null,0,0,{"$error":"#VALUE!"},0,{"$f":"SUM(AX181:AY181)","v":{"$error":"#VALUE!"}},{"$error":"#VALUE!"},0,{"$f":"SUM(BA181:BB181)","v":{"$error":"#VALUE!"}},{"$error":"#VALUE!"},0,{"$f":"SUM(BD181:BE181)","v":{"$error":"#VALUE!"}},null,{"$error":"#VALUE!"},0,{"$f":"SUM(BH181:BI181)","v":{"$error":"#VALUE!"}},{"$error":"#VALUE!"},0,{"$f":"SUM(BK181:BL181)","v":{"$error":"#VALUE!"}},{"$error":"#VALUE!"},0,{"$f":"SUM(BN181:BO181)","v":{"$error":"#VALUE!"}}]
[null,"tw","加熱運転時間",{"$f":"SUM($D$170:$D$181)","v":0},{"$f":"SUM($E$170:$E$181)","v":0},{"$f":"SUM($F$170:$F$181)","v":0},{"$f":"SUM($G$170:$G$181)","v":0},{"$f":"SUM($H$170:$H$181)","v":0},{"$f":"SUM($I$170:$I$181)","v":0},{"$f":"SUM($J$170:$J$181)","v":0},{"$f":"SUM($K$170:$K$181)","v":0},{"$f":"SUM($L$170:$L$181)","v":0},{"$f":"SUM($M$170:$M$181)","v":0},{"$f":"SUM($N$170:$N$181)","v":0},{"$f":"SUM($O$170:$O$181)","v":0},{"$f":"SUM($P$170:$P$181)","v":0},{"$f":"SUM($Q$170:$Q$181)","v":0},{"$f":"SUM($R$170:$R$181)","v":0},{"$f":"SUM($S$170:$S$181)","v":0},{"$f":"SUM($T$170:$T$181)","v":0},{"$f":"SUM($U$170:$U$181)","v":0},{"$f":"SUM($V$170:$V$181)","v":0},{"$f":"SUM($W$170:$W$181)","v":0},{"$f":"SUM($X$170:$X$181)","v":0},{"$f":"SUM($Y$170:$Y$181)","v":0},{"$f":"SUM($Z$170:$Z$181)","v":0},{"$f":"SUM($AA$170:$AA$181)","v":0},{"$f":"SUM($AB$170:$AB$181)","v":0},{"$f":"SUM($AC$170:$AC$181)","v":0},{"$f":"SUM($AD$170:$AD$181)","v":0},{"$f":"SUM($AE$170:$AE$181)","v":0},{"$f":"SUM($AF$170:$AF$181)","v":0},{"$f":"SUM($AG$170:$AG$181)","v":0},{"$f":"SUM($AH$170:$AH$181)","v":0},{"$f":"SUM($AI$170:$AI$181)","v":0},{"$f":"SUM($AJ$170:$AJ$181)","v":0},{"$f":"SUM($AK$170:$AK$181)","v":0},{"$f":"SUM($AL$170:$AL$181)","v":0},{"$f":"SUM($AM$170:$AM$181)","v":0},{"$f":"SUM($AN$170:$AN$181)","v":0},{"$f":"SUM($AO$170:$AO$181)","v":0},{"$f":"SUM($AP$170:$AP$181)","v":0},{"$f":"SUM($AQ$170:$AQ$181)","v":0},{"$f":"SUM($AR$170:$AR$181)","v":0},{"$f":"SUM($AS$170:$AS$181)","v":0},"加熱運転時間",null,{"$f":"SUM(AV170:AV181)","v":0},{"$f":"SUM(AW170:AW181)","v":0},{"$f":"SUM(AX170:AX181)","v":{"$error":"#VALUE!"}},0,{"$error":"#VALUE!"},{"$error":"#VALUE!"},0,{"$error":"#VALUE!"},{"$error":"#VALUE!"},0,{"$error":"#VALUE!"},null,{"$error":"#VALUE!"},0,{"$error":"#VALUE!"},{"$error":"#VALUE!"},0,{"$error":"#VALUE!"},{"$error":"#VALUE!"},0,{"$error":"#VALUE!"}]
[null,"εw","加熱時消費電力比",{"$f":"$D$184/$D$185","v":1.286497946749277},{"$f":"$E$184/$E$185","v":1.2993762993762994},{"$f":"$F$184/$F$185","v":1.3143644259381935},{"$f":"$G$184/$G$185","v":1.3316004772456111},{"$f":"$H$184/$H$185","v":1.3512490946631066},{"$f":"$I$184/$I$185","v":1.3735056258790437},{"$f":"$J$184/$J$185","v":1.3986013986013988},{"$f":"$K$184/$K$185","v":1.2242137410734597},{"$f":"$L$184/$L$185","v":1.0699900227545727},{"$f":"$M$184/$M$185","v":0.93267606096856781},{"$f":"$N$184/$N$185","v":0.8096817921114029},{"$f":"$O$184/$O$185","v":0.69892008110967552},{"$f":"$P$184/$P$185","v":0.60862568668193096},{"$f":"$Q$184/$Q$185","v":0.53252341846618811},{"$f":"$R$184/$R$185","v":0.45878366226811107},{"$f":"$S$184/$S$185","v":0.38729213184082562},{"$f":"$T$184/$T$185","v":0.31794177214384961},{"$f":"$U$184/$U$185","v":0.25063219621819199},{"$f":"$V$184/$V$185","v":0.18526917387734287},{"$f":"$W$184/$W$185","v":0.12176416673569171},{"$f":"$X$184/$X$185","v":6.0033904748045493E-2},{"$f":"$Y$184/$Y$185","v":0},{"$f":"$Z$184/$Z$185","v":0},{"$f":"$AA$184/$AA$185","v":0},{"$f":"$AB$184/$AB$185","v":0},{"$f":"$AC$184/$AC$185","v":0},{"$f":"$AD$184/$AD$185","v":0},{"$f":"$AE$184/$AE$185","v":0},{"$f":"$AF$184/$AF$185","v":0},{"$f":"$AG$184/$AG$185","v":0},{"$f":"$AH$184/$AH$185","v":0},{"$f":"$AI$184/$AI$185","v":0},{"$f":"$AJ$184/$AJ$185","v":0},{"$f":"$AK$184/$AK$185","v":0},{"$f":"$AL$184/$AL$185","v":0},{"$f":"$AM$184/$AM$185","v":0},{"$f":"$AN$184/$AN$185","v":0},{"$f":"$AO$184/$AO$185","v":0},{"$f":"$AP$184/$AP$185","v":0},{"$f":"$AQ$184/$AQ$185","v":0},{"$f":"$AR$184/$AR$185","v":0},{"$f":"$AS$184/$AS$185","v":0},"加熱時消費電力比"]
[null,"αw","加熱空調負荷率",{"$f":"IF((-1/15)*D$169+1<0,0,IF((-1/15)*D$169+1>1,1,(-1/15)*D$169+1))","v":1},{"$f":"IF((-1/15)*E$169+1<0,0,IF((-1/15)*E$169+1>1,1,(-1/15)*E$169+1))","v":1},1,1,1,1,1,0.93333333333333335,0.8666666666666667,0.8,0.73333333333333339,0.66666666666666674,0.6,0.53333333333333333,0.46666666666666667,0.4,0.33333333333333337,0.26666666666666672,0.19999999999999996,0.1333333333333333,6.6666666666666652E-2,0,{"$f":"IF((-1/15)*Z$169+1<0,0,IF((-1/15)*Z$169+1>1,1,(-1/15)*Z$169+1))","v":0},0,0,0,0,0,0,0,0,0,0,0,0,0,0,0,0,0,0,0,"加熱空調負荷率"]
[null,"βw","加熱COP比",{"$f":"-5.36/10000*D$169*D$169-0.0136*D$169+0.715","v":0.77730399999999999},{"$f":"-5.36/10000*E$169*E$169-0.0136*E$169+0.715","v":0.76959999999999995},0.76082399999999994,0.75097599999999998,0.74005599999999994,0.72806399999999993,{"$f":"9.41/100000*J$169*J$169+0.0473*J$169+0.715","v":0.71499999999999997},0.76239409999999996,0.80997639999999993,0.85774689999999998,0.9057056,0.95385249999999999,{"$f":"-1.59/100000*P$169*P$169+0.0159*P$169+0.891","v":0.98582760000000003},{"$f":"-1.59/100000*Q$169*Q$169+0.0159*Q$169+0.891","v":1.0015209},1.0171824,1.0328121000000001,1.0484100000000001,1.0639761000000001,1.0795104,1.0950129,1.1104836,1.1259224999999999,{"$f":"-1.59/100000*Z$169*Z$169+0.0159*Z$169+0.891","v":1.1413296000000002},1.1567049,1.1720484,1.1873601,{"$f":"-1.59/100000*AD$169*AD$169+0.0159*AD$169+0.891","v":1.2026400000000002},1.2178881000000001,1.2331044,1.2482888999999999,{"$f":"-1.59/100000*AH$169*AH$169+0.0159*AH$169+0.891","v":1.2634416000000002},1.2785625,1.2936516,1.3087089000000001,1.3237344,1.3387281,1.3536900000000001,1.3686201,1.3835184,1.3983848999999999,{"$f":"-1.59/100000*AR$169*AR$169+0.0159*AR$169+0.891","v":1.4132196000000001},1.4280225,"加熱COP比"]
[null,null,"Σ",{"$f":"$D$182*$D$183","v":0},{"$f":"$E$182*$E$183","v":0},{"$f":"$F$182*$F$183","v":0},{"$f":"$G$182*$G$183","v":0},{"$f":"$H$182*$H$183","v":0},{"$f":"$I$182*$I$183","v":0},{"$f":"$J$182*$J$183","v":0},{"$f":"$K$182*$K$183","v":0},{"$f":"$L$182*$L$183","v":0},{"$f":"$M$182*$M$183","v":0},{"$f":"$N$182*$N$183","v":0},{"$f":"$O$182*$O$183","v":0},{"$f":"$P$182*$P$183","v":0},{"$f":"$Q$182*$Q$183","v":0},{"$f":"$R$182*$R$183","v":0},{"$f":"$S$182*$S$183","v":0},{"$f":"$T$182*$T$183","v":0},{"$f":"$U$182*$U$183","v":0},{"$f":"$V$182*$V$183","v":0},{"$f":"$W$182*$W$183","v":0},{"$f":"$X$182*$X$183","v":0},{"$f":"$Y$182*$Y$183","v":0},{"$f":"$Z$182*$Z$183","v":0},{"$f":"$AA$182*$AA$183","v":0},{"$f":"$AB$182*$AB$183","v":0},{"$f":"$AC$182*$AC$183","v":0},{"$f":"$AD$182*$AD$183","v":0},{"$f":"$AE$182*$AE$183","v":0},{"$f":"$AF$182*$AF$183","v":0},{"$f":"$AG$182*$AG$183","v":0},{"$f":"$AH$182*$AH$183","v":0},{"$f":"$AI$182*$AI$183","v":0},{"$f":"$AJ$182*$AJ$183","v":0},{"$f":"$AK$182*$AK$183","v":0},{"$f":"$AL$182*$AL$183","v":0},{"$f":"$AM$182*$AM$183","v":0},{"$f":"$AN$182*$AN$183","v":0},{"$f":"$AO$182*$AO$183","v":0},{"$f":"$AP$182*$AP$183","v":0},{"$f":"$AQ$182*$AQ$183","v":0},{"$f":"$AR$182*$AR$183","v":0},{"$f":"$AS$182*$AS$183","v":0},{"$f":"SUM($D$186:$AS$186)","v":0}]
[null,null,null,"←着霜領域②",null,null,null,null,"着霜領域②→","←着霜領域①",null,null,null,null,"着霜領域①→","←非着霜領域",null,null,null,null,null,null,null,null,null,null,null,null,null,null,null,null,null,null,null,null,null,null,null,null,null,null,null,null,"非着霜領域→"]
[]
[null,null,"αc^0.6",{"$f":"D163^0.6","v":0},{"$f":"E163^0.6","v":0},0,0,0,0,0,0,0,0,0,0,0,0,0,0,0,0,0,0,0,0,0.16572270086699922,0.25118864315095801,0.3203721497536805,0.3807307877431757,0.43527528164806206,0.48559337483020382,0.53264864506035514,0.57707996236288528,0.61933768760000518,0.6597539553864471,0.69858235788737133,0.7360219228178333,0.77223239099174257,0.8073443754472972,0.84146635908464962,0.87468965915462249,0.90709203901925473,0.93874039335956938,0.96969278258768077,1,"αc^0.6"]
[null,null,"Σ",{"$f":"D161*D189","v":0},{"$f":"E161*E189","v":0},0,0,0,0,0,0,0,0,0,0,0,0,0,0,0,0,0,0,0,0,0,0,0,0,0,0,0,0,0,0,0,0,0,0,0,0,0,0,0,0,{"$f":"SUM(D190:AS190)","v":0}]
[]
[null,null,"αw^0.6",{"$f":"D184^0.6","v":1},{"$f":"E184^0.6","v":1},1,1,1,1,1,0.95944937873158653,0.91772223886856286,0.87468965915462249,0.83019641884114292,0.78405268168311582,0.7360219228178333,0.68580277290067215,0.63300052261123363,0.5770799623628855,0.51728185797178661,0.45246109203621188,0.3807307877431757,0.29851299512936197,0.19694512927085178,0,0,0,0,0,0,0,0,0,0,0,0,0,0,0,0,0,0,0,0,0,"αw^0.6"]
[null,null,"Σ",{"$f":"D182*D192","v":0},{"$f":"E182*E192","v":0},0,0,0,0,0,0,0,0,0,0,0,0,0,0,0,0,0,0,0,0,0,0,0,0,0,0,0,0,0,0,0,0,0,0,0,0,0,0,0,0,{"$f":"SUM(D193:AS193)","v":0}]

{"sheet":"寒冷地(γ個別入力)","index":4,"n_rows":193,"n_cols":68,"rows_kept":193,"cut":false,"hidden":false,"merged":[[4,33,4,34],[5,2,5,3],[6,2,6,3],[9,3,9,26],[78,3,78,4],[78,5,78,6],[78,7,78,8],[57,5,57,6],[57,7,57,8],[24,19,25,20],[24,24,25,25],[24,26,25,26],[24,29,25,29],[2,2,2,3],[3,2,3,3],[27,3,35,3],[41,3,49,3],[57,3,57,4],[98,3,98,26],[114,3,114,26],[130,3,130,26],[146,46,147,46],[167,46,168,46]]}
[]
[null,null,"空冷HPチラーの設置場所"]
[null,null,{"$f":"IF(必ずこのシートから始めてください!$L$8=\"\",\"\",必ずこのシートから始めてください!$L$8)","v":""},null,null,"手順1：空調を行う月、時間を下記の指定の色で塗る(指定の色以外で塗ると計算できません。)"]
[null,null,{"$f":"VLOOKUP($C$3,γ一覧表!$C$3:$E$50,2,FALSE)","v":{"$error":"#N/A"}},null,null,null,"冷却","青","【左から5列目、一番薄い色(アクセント1,白＋基本色80％)】"]
[null,null,null,null,null,null,"加熱","オレンジ","【左から6番目、一番薄い色(アクセント2,白＋基本色80％)】"]
[null,null,"使用するγ値",null,null,"手順2：各月の運転日数を入力する"]
[null,null,{"$f":"IF(必ずこのシートから始めてください!$L$22=\"\",\"---\",IF(必ずこのシートから始めてください!$L$22<=1,\"---\",必ずこのシートから始めてください!$L$22))","v":"---"},null,null,"手順3：Ctrl + Alt + F9を同時に押す",null,null,null,null,null,null,null,null,null,null,null,"●時刻別平均気温表記載の数値は、選択された都道府県の県庁所在地の月別、時刻別平均気温"]
[null,null,null,null,null,"手順4：黄色のセルに値を入力する(緑は自動計算)",null,null,null,null,null,null,null,null,null,null,null,"●本データは気象庁発表の1992年4月1日から2022年3月31日までの30年の1時間データを整理したもの"]
[null,null,"時刻別平均気温[℃]",null,null,null,null,null,null,null,null,null,null,null,null,null,null,"●2月はうるう日を含みます"]
[null,null,null," 時刻",null,null,null,null,null,null,null,null,null,null,null,null,null,null,null,null,null,null,null,null,null,null,null,{"$f":"SUM(AB12:AB23)","v":0},{"$f":"必ずこのシートから始めてください!$M$3","v":"Ver.1.0"}]
[null,null,"月",0,1,2,3,4,5,6,7,8,9,10,11,12,13,14,15,16,17,18,19,20,21,22,23,"運転日数","月"]
[null,null,4,{"$f":"IFERROR(INDIRECT($C$4&\"!B5\"),\"\")","v":""},{"$f":"IFERROR(INDIRECT($C$4&\"!C5\"),\"\")","v":""},{"$f":"IFERROR(INDIRECT($C$4&\"!D5\"),\"\")","v":""},{"$f":"IFERROR(INDIRECT($C$4&\"!E5\"),\"\")","v":""},{"$f":"IFERROR(INDIRECT($C$4&\"!F5\"),\"\")","v":""},{"$f":"IFERROR(INDIRECT($C$4&\"!G5\"),\"\")","v":""},{"$f":"IFERROR(INDIRECT($C$4&\"!H5\"),\"\")","v":""},{"$f":"IFERROR(INDIRECT($C$4&\"!I5\"),\"\")","v":""},{"$f":"IFERROR(INDIRECT($C$4&\"!J5\"),\"\")","v":""},{"$f":"IFERROR(INDIRECT($C$4&\"!K5\"),\"\")","v":""},{"$f":"IFERROR(INDIRECT($C$4&\"!L5\"),\"\")","v":""},{"$f":"IFERROR(INDIRECT($C$4&\"!M5\"),\"\")","v":""},{"$f":"IFERROR(INDIRECT($C$4&\"!N5\"),\"\")","v":""},{"$f":"IFERROR(INDIRECT($C$4&\"!O5\"),\"\")","v":""},{"$f":"IFERROR(INDIRECT($C$4&\"!P5\"),\"\")","v":""},{"$f":"IFERROR(INDIRECT($C$4&\"!Q5\"),\"\")","v":""},{"$f":"IFERROR(INDIRECT($C$4&\"!R5\"),\"\")","v":""},{"$f":"IFERROR(INDIRECT($C$4&\"!S5\"),\"\")","v":""},{"$f":"IFERROR(INDIRECT($C$4&\"!T5\"),\"\")","v":""},{"$f":"IFERROR(INDIRECT($C$4&\"!U5\"),\"\")","v":""},{"$f":"IFERROR(INDIRECT($C$4&\"!V5\"),\"\")","v":""},{"$f":"IFERROR(INDIRECT($C$4&\"!W5\"),\"\")","v":""},{"$f":"IFERROR(INDIRECT($C$4&\"!X5\"),\"\")","v":""},{"$f":"IFERROR(INDIRECT($C$4&\"!Y5\"),\"\")","v":""},null,4]
[null,null,5,{"$f":"IFERROR(INDIRECT($C$4&\"!B6\"),\"\")","v":""},{"$f":"IFERROR(INDIRECT($C$4&\"!C6\"),\"\")","v":""},{"$f":"IFERROR(INDIRECT($C$4&\"!D6\"),\"\")","v":""},{"$f":"IFERROR(INDIRECT($C$4&\"!E6\"),\"\")","v":""},{"$f":"IFERROR(INDIRECT($C$4&\"!F6\"),\"\")","v":""},{"$f":"IFERROR(INDIRECT($C$4&\"!G6\"),\"\")","v":""},{"$f":"IFERROR(INDIRECT($C$4&\"!H6\"),\"\")","v":""},{"$f":"IFERROR(INDIRECT($C$4&\"!I6\"),\"\")","v":""},{"$f":"IFERROR(INDIRECT($C$4&\"!J6\"),\"\")","v":""},{"$f":"IFERROR(INDIRECT($C$4&\"!K6\"),\"\")","v":""},{"$f":"IFERROR(INDIRECT($C$4&\"!L6\"),\"\")","v":""},{"$f":"IFERROR(INDIRECT($C$4&\"!M6\"),\"\")","v":""},{"$f":"IFERROR(INDIRECT($C$4&\"!N6\"),\"\")","v":""},{"$f":"IFERROR(INDIRECT($C$4&\"!O6\"),\"\")","v":""},{"$f":"IFERROR(INDIRECT($C$4&\"!P6\"),\"\")","v":""},{"$f":"IFERROR(INDIRECT($C$4&\"!Q6\"),\"\")","v":""},{"$f":"IFERROR(INDIRECT($C$4&\"!R6\"),\"\")","v":""},{"$f":"IFERROR(INDIRECT($C$4&\"!S6\"),\"\")","v":""},{"$f":"IFERROR(INDIRECT($C$4&\"!T6\"),\"\")","v":""},{"$f":"IFERROR(INDIRECT($C$4&\"!U6\"),\"\")","v":""},{"$f":"IFERROR(INDIRECT($C$4&\"!V6\"),\"\")","v":""},{"$f":"IFERROR(INDIRECT($C$4&\"!W6\"),\"\")","v":""},{"$f":"IFERROR(INDIRECT($C$4&\"!X6\"),\"\")","v":""},{"$f":"IFERROR(INDIRECT($C$4&\"!Y6\"),\"\")","v":""},null,5]
[null,null,6,{"$f":"IFERROR(INDIRECT($C$4&\"!B7\"),\"\")","v":""},{"$f":"IFERROR(INDIRECT($C$4&\"!C7\"),\"\")","v":""},{"$f":"IFERROR(INDIRECT($C$4&\"!D7\"),\"\")","v":""},{"$f":"IFERROR(INDIRECT($C$4&\"!E7\"),\"\")","v":""},{"$f":"IFERROR(INDIRECT($C$4&\"!F7\"),\"\")","v":""},{"$f":"IFERROR(INDIRECT($C$4&\"!G7\"),\"\")","v":""},{"$f":"IFERROR(INDIRECT($C$4&\"!H7\"),\"\")","v":""},{"$f":"IFERROR(INDIRECT($C$4&\"!I7\"),\"\")","v":""},{"$f":"IFERROR(INDIRECT($C$4&\"!J7\"),\"\")","v":""},{"$f":"IFERROR(INDIRECT($C$4&\"!K7\"),\"\")","v":""},{"$f":"IFERROR(INDIRECT($C$4&\"!L7\"),\"\")","v":""},{"$f":"IFERROR(INDIRECT($C$4&\"!M7\"),\"\")","v":""},{"$f":"IFERROR(INDIRECT($C$4&\"!N7\"),\"\")","v":""},{"$f":"IFERROR(INDIRECT($C$4&\"!O7\"),\"\")","v":""},{"$f":"IFERROR(INDIRECT($C$4&\"!P7\"),\"\")","v":""},{"$f":"IFERROR(INDIRECT($C$4&\"!Q7\"),\"\")","v":""},{"$f":"IFERROR(INDIRECT($C$4&\"!R7\"),\"\")","v":""},{"$f":"IFERROR(INDIRECT($C$4&\"!S7\"),\"\")","v":""},{"$f":"IFERROR(INDIRECT($C$4&\"!T7\"),\"\")","v":""},{"$f":"IFERROR(INDIRECT($C$4&\"!U7\"),\"\")","v":""},{"$f":"IFERROR(INDIRECT($C$4&\"!V7\"),\"\")","v":""},{"$f":"IFERROR(INDIRECT($C$4&\"!W7\"),\"\")","v":""},{"$f":"IFERROR(INDIRECT($C$4&\"!X7\"),\"\")","v":""},{"$f":"IFERROR(INDIRECT($C$4&\"!Y7\"),\"\")","v":""},null,6]
[null,null,7,{"$f":"IFERROR(INDIRECT($C$4&\"!B8\"),\"\")","v":""},{"$f":"IFERROR(INDIRECT($C$4&\"!C8\"),\"\")","v":""},{"$f":"IFERROR(INDIRECT($C$4&\"!D8\"),\"\")","v":""},{"$f":"IFERROR(INDIRECT($C$4&\"!E8\"),\"\")","v":""},{"$f":"IFERROR(INDIRECT($C$4&\"!F8\"),\"\")","v":""},{"$f":"IFERROR(INDIRECT($C$4&\"!G8\"),\"\")","v":""},{"$f":"IFERROR(INDIRECT($C$4&\"!H8\"),\"\")","v":""},{"$f":"IFERROR(INDIRECT($C$4&\"!I8\"),\"\")","v":""},{"$f":"IFERROR(INDIRECT($C$4&\"!J8\"),\"\")","v":""},{"$f":"IFERROR(INDIRECT($C$4&\"!K8\"),\"\")","v":""},{"$f":"IFERROR(INDIRECT($C$4&\"!L8\"),\"\")","v":""},{"$f":"IFERROR(INDIRECT($C$4&\"!M8\"),\"\")","v":""},{"$f":"IFERROR(INDIRECT($C$4&\"!N8\"),\"\")","v":""},{"$f":"IFERROR(INDIRECT($C$4&\"!O8\"),\"\")","v":""},{"$f":"IFERROR(INDIRECT($C$4&\"!P8\"),\"\")","v":""},{"$f":"IFERROR(INDIRECT($C$4&\"!Q8\"),\"\")","v":""},{"$f":"IFERROR(INDIRECT($C$4&\"!R8\"),\"\")","v":""},{"$f":"IFERROR(INDIRECT($C$4&\"!S8\"),\"\")","v":""},{"$f":"IFERROR(INDIRECT($C$4&\"!T8\"),\"\")","v":""},{"$f":"IFERROR(INDIRECT($C$4&\"!U8\"),\"\")","v":""},{"$f":"IFERROR(INDIRECT($C$4&\"!V8\"),\"\")","v":""},{"$f":"IFERROR(INDIRECT($C$4&\"!W8\"),\"\")","v":""},{"$f":"IFERROR(INDIRECT($C$4&\"!X8\"),\"\")","v":""},{"$f":"IFERROR(INDIRECT($C$4&\"!Y8\"),\"\")","v":""},null,7]
[null,null,8,{"$f":"IFERROR(INDIRECT($C$4&\"!B9\"),\"\")","v":""},{"$f":"IFERROR(INDIRECT($C$4&\"!C9\"),\"\")","v":""},{"$f":"IFERROR(INDIRECT($C$4&\"!D9\"),\"\")","v":""},{"$f":"IFERROR(INDIRECT($C$4&\"!E9\"),\"\")","v":""},{"$f":"IFERROR(INDIRECT($C$4&\"!F9\"),\"\")","v":""},{"$f":"IFERROR(INDIRECT($C$4&\"!G9\"),\"\")","v":""},{"$f":"IFERROR(INDIRECT($C$4&\"!H9\"),\"\")","v":""},{"$f":"IFERROR(INDIRECT($C$4&\"!I9\"),\"\")","v":""},{"$f":"IFERROR(INDIRECT($C$4&\"!J9\"),\"\")","v":""},{"$f":"IFERROR(INDIRECT($C$4&\"!K9\"),\"\")","v":""},{"$f":"IFERROR(INDIRECT($C$4&\"!L9\"),\"\")","v":""},{"$f":"IFERROR(INDIRECT($C$4&\"!M9\"),\"\")","v":""},{"$f":"IFERROR(INDIRECT($C$4&\"!N9\"),\"\")","v":""},{"$f":"IFERROR(INDIRECT($C$4&\"!O9\"),\"\")","v":""},{"$f":"IFERROR(INDIRECT($C$4&\"!P9\"),\"\")","v":""},{"$f":"IFERROR(INDIRECT($C$4&\"!Q9\"),\"\")","v":""},{"$f":"IFERROR(INDIRECT($C$4&\"!R9\"),\"\")","v":""},{"$f":"IFERROR(INDIRECT($C$4&\"!S9\"),\"\")","v":""},{"$f":"IFERROR(INDIRECT($C$4&\"!T9\"),\"\")","v":""},{"$f":"IFERROR(INDIRECT($C$4&\"!U9\"),\"\")","v":""},{"$f":"IFERROR(INDIRECT($C$4&\"!V9\"),\"\")","v":""},{"$f":"IFERROR(INDIRECT($C$4&\"!W9\"),\"\")","v":""},{"$f":"IFERROR(INDIRECT($C$4&\"!X9\"),\"\")","v":""},{"$f":"IFERROR(INDIRECT($C$4&\"!Y9\"),\"\")","v":""},null,8]
[null,null,9,{"$f":"IFERROR(INDIRECT($C$4&\"!B10\"),\"\")","v":""},{"$f":"IFERROR(INDIRECT($C$4&\"!C10\"),\"\")","v":""},{"$f":"IFERROR(INDIRECT($C$4&\"!D10\"),\"\")","v":""},{"$f":"IFERROR(INDIRECT($C$4&\"!E10\"),\"\")","v":""},{"$f":"IFERROR(INDIRECT($C$4&\"!F10\"),\"\")","v":""},{"$f":"IFERROR(INDIRECT($C$4&\"!G10\"),\"\")","v":""},{"$f":"IFERROR(INDIRECT($C$4&\"!H10\"),\"\")","v":""},{"$f":"IFERROR(INDIRECT($C$4&\"!I10\"),\"\")","v":""},{"$f":"IFERROR(INDIRECT($C$4&\"!J10\"),\"\")","v":""},{"$f":"IFERROR(INDIRECT($C$4&\"!K10\"),\"\")","v":""},{"$f":"IFERROR(INDIRECT($C$4&\"!L10\"),\"\")","v":""},{"$f":"IFERROR(INDIRECT($C$4&\"!M10\"),\"\")","v":""},{"$f":"IFERROR(INDIRECT($C$4&\"!N10\"),\"\")","v":""},{"$f":"IFERROR(INDIRECT($C$4&\"!O10\"),\"\")","v":""},{"$f":"IFERROR(INDIRECT($C$4&\"!P10\"),\"\")","v":""},{"$f":"IFERROR(INDIRECT($C$4&\"!Q10\"),\"\")","v":""},{"$f":"IFERROR(INDIRECT($C$4&\"!R10\"),\"\")","v":""},{"$f":"IFERROR(INDIRECT($C$4&\"!S10\"),\"\")","v":""},{"$f":"IFERROR(INDIRECT($C$4&\"!T10\"),\"\")","v":""},{"$f":"IFERROR(INDIRECT($C$4&\"!U10\"),\"\")","v":""},{"$f":"IFERROR(INDIRECT($C$4&\"!V10\"),\"\")","v":""},{"$f":"IFERROR(INDIRECT($C$4&\"!W10\"),\"\")","v":""},{"$f":"IFERROR(INDIRECT($C$4&\"!X10\"),\"\")","v":""},{"$f":"IFERROR(INDIRECT($C$4&\"!Y10\"),\"\")","v":""},null,9]
[null,null,10,{"$f":"IFERROR(INDIRECT($C$4&\"!B11\"),\"\")","v":""},{"$f":"IFERROR(INDIRECT($C$4&\"!C11\"),\"\")","v":""},{"$f":"IFERROR(INDIRECT($C$4&\"!D11\"),\"\")","v":""},{"$f":"IFERROR(INDIRECT($C$4&\"!E11\"),\"\")","v":""},{"$f":"IFERROR(INDIRECT($C$4&\"!F11\"),\"\")","v":""},{"$f":"IFERROR(INDIRECT($C$4&\"!G11\"),\"\")","v":""},{"$f":"IFERROR(INDIRECT($C$4&\"!H11\"),\"\")","v":""},{"$f":"IFERROR(INDIRECT($C$4&\"!I11\"),\"\")","v":""},{"$f":"IFERROR(INDIRECT($C$4&\"!J11\"),\"\")","v":""},{"$f":"IFERROR(INDIRECT($C$4&\"!K11\"),\"\")","v":""},{"$f":"IFERROR(INDIRECT($C$4&\"!L11\"),\"\")","v":""},{"$f":"IFERROR(INDIRECT($C$4&\"!M11\"),\"\")","v":""},{"$f":"IFERROR(INDIRECT($C$4&\"!N11\"),\"\")","v":""},{"$f":"IFERROR(INDIRECT($C$4&\"!O11\"),\"\")","v":""},{"$f":"IFERROR(INDIRECT($C$4&\"!P11\"),\"\")","v":""},{"$f":"IFERROR(INDIRECT($C$4&\"!Q11\"),\"\")","v":""},{"$f":"IFERROR(INDIRECT($C$4&\"!R11\"),\"\")","v":""},{"$f":"IFERROR(INDIRECT($C$4&\"!S11\"),\"\")","v":""},{"$f":"IFERROR(INDIRECT($C$4&\"!T11\"),\"\")","v":""},{"$f":"IFERROR(INDIRECT($C$4&\"!U11\"),\"\")","v":""},{"$f":"IFERROR(INDIRECT($C$4&\"!V11\"),\"\")","v":""},{"$f":"IFERROR(INDIRECT($C$4&\"!W11\"),\"\")","v":""},{"$f":"IFERROR(INDIRECT($C$4&\"!X11\"),\"\")","v":""},{"$f":"IFERROR(INDIRECT($C$4&\"!Y11\"),\"\")","v":""},null,10]
[null,null,11,{"$f":"IFERROR(INDIRECT($C$4&\"!B12\"),\"\")","v":""},{"$f":"IFERROR(INDIRECT($C$4&\"!C12\"),\"\")","v":""},{"$f":"IFERROR(INDIRECT($C$4&\"!D12\"),\"\")","v":""},{"$f":"IFERROR(INDIRECT($C$4&\"!E12\"),\"\")","v":""},{"$f":"IFERROR(INDIRECT($C$4&\"!F12\"),\"\")","v":""},{"$f":"IFERROR(INDIRECT($C$4&\"!G12\"),\"\")","v":""},{"$f":"IFERROR(INDIRECT($C$4&\"!H12\"),\"\")","v":""},{"$f":"IFERROR(INDIRECT($C$4&\"!I12\"),\"\")","v":""},{"$f":"IFERROR(INDIRECT($C$4&\"!J12\"),\"\")","v":""},{"$f":"IFERROR(INDIRECT($C$4&\"!K12\"),\"\")","v":""},{"$f":"IFERROR(INDIRECT($C$4&\"!L12\"),\"\")","v":""},{"$f":"IFERROR(INDIRECT($C$4&\"!M12\"),\"\")","v":""},{"$f":"IFERROR(INDIRECT($C$4&\"!N12\"),\"\")","v":""},{"$f":"IFERROR(INDIRECT($C$4&\"!O12\"),\"\")","v":""},{"$f":"IFERROR(INDIRECT($C$4&\"!P12\"),\"\")","v":""},{"$f":"IFERROR(INDIRECT($C$4&\"!Q12\"),\"\")","v":""},{"$f":"IFERROR(INDIRECT($C$4&\"!R12\"),\"\")","v":""},{"$f":"IFERROR(INDIRECT($C$4&\"!S12\"),\"\")","v":""},{"$f":"IFERROR(INDIRECT($C$4&\"!T12\"),\"\")","v":""},{"$f":"IFERROR(INDIRECT($C$4&\"!U12\"),\"\")","v":""},{"$f":"IFERROR(INDIRECT($C$4&\"!V12\"),\"\")","v":""},{"$f":"IFERROR(INDIRECT($C$4&\"!W12\"),\"\")","v":""},{"$f":"IFERROR(INDIRECT($C$4&\"!X12\"),\"\")","v":""},{"$f":"IFERROR(INDIRECT($C$4&\"!Y12\"),\"\")","v":""},null,11]
[null,null,12,{"$f":"IFERROR(INDIRECT($C$4&\"!B13\"),\"\")","v":""},{"$f":"IFERROR(INDIRECT($C$4&\"!C13\"),\"\")","v":""},{"$f":"IFERROR(INDIRECT($C$4&\"!D13\"),\"\")","v":""},{"$f":"IFERROR(INDIRECT($C$4&\"!E13\"),\"\")","v":""},{"$f":"IFERROR(INDIRECT($C$4&\"!F13\"),\"\")","v":""},{"$f":"IFERROR(INDIRECT($C$4&\"!G13\"),\"\")","v":""},{"$f":"IFERROR(INDIRECT($C$4&\"!H13\"),\"\")","v":""},{"$f":"IFERROR(INDIRECT($C$4&\"!I13\"),\"\")","v":""},{"$f":"IFERROR(INDIRECT($C$4&\"!J13\"),\"\")","v":""},{"$f":"IFERROR(INDIRECT($C$4&\"!K13\"),\"\")","v":""},{"$f":"IFERROR(INDIRECT($C$4&\"!L13\"),\"\")","v":""},{"$f":"IFERROR(INDIRECT($C$4&\"!M13\"),\"\")","v":""},{"$f":"IFERROR(INDIRECT($C$4&\"!N13\"),\"\")","v":""},{"$f":"IFERROR(INDIRECT($C$4&\"!O13\"),\"\")","v":""},{"$f":"IFERROR(INDIRECT($C$4&\"!P13\"),\"\")","v":""},{"$f":"IFERROR(INDIRECT($C$4&\"!Q13\"),\"\")","v":""},{"$f":"IFERROR(INDIRECT($C$4&\"!R13\"),\"\")","v":""},{"$f":"IFERROR(INDIRECT($C$4&\"!S13\"),\"\")","v":""},{"$f":"IFERROR(INDIRECT($C$4&\"!T13\"),\"\")","v":""},{"$f":"IFERROR(INDIRECT($C$4&\"!U13\"),\"\")","v":""},{"$f":"IFERROR(INDIRECT($C$4&\"!V13\"),\"\")","v":""},{"$f":"IFERROR(INDIRECT($C$4&\"!W13\"),\"\")","v":""},{"$f":"IFERROR(INDIRECT($C$4&\"!X13\"),\"\")","v":""},{"$f":"IFERROR(INDIRECT($C$4&\"!Y13\"),\"\")","v":""},null,12]
[null,null,1,{"$f":"IFERROR(INDIRECT($C$4&\"!B14\"),\"\")","v":""},{"$f":"IFERROR(INDIRECT($C$4&\"!C14\"),\"\")","v":""},{"$f":"IFERROR(INDIRECT($C$4&\"!D14\"),\"\")","v":""},{"$f":"IFERROR(INDIRECT($C$4&\"!E14\"),\"\")","v":""},{"$f":"IFERROR(INDIRECT($C$4&\"!F14\"),\"\")","v":""},{"$f":"IFERROR(INDIRECT($C$4&\"!G14\"),\"\")","v":""},{"$f":"IFERROR(INDIRECT($C$4&\"!H14\"),\"\")","v":""},{"$f":"IFERROR(INDIRECT($C$4&\"!I14\"),\"\")","v":""},{"$f":"IFERROR(INDIRECT($C$4&\"!J14\"),\"\")","v":""},{"$f":"IFERROR(INDIRECT($C$4&\"!K14\"),\"\")","v":""},{"$f":"IFERROR(INDIRECT($C$4&\"!L14\"),\"\")","v":""},{"$f":"IFERROR(INDIRECT($C$4&\"!M14\"),\"\")","v":""},{"$f":"IFERROR(INDIRECT($C$4&\"!N14\"),\"\")","v":""},{"$f":"IFERROR(INDIRECT($C$4&\"!O14\"),\"\")","v":""},{"$f":"IFERROR(INDIRECT($C$4&\"!P14\"),\"\")","v":""},{"$f":"IFERROR(INDIRECT($C$4&\"!Q14\"),\"\")","v":""},{"$f":"IFERROR(INDIRECT($C$4&\"!R14\"),\"\")","v":""},{"$f":"IFERROR(INDIRECT($C$4&\"!S14\"),\"\")","v":""},{"$f":"IFERROR(INDIRECT($C$4&\"!T14\"),\"\")","v":""},{"$f":"IFERROR(INDIRECT($C$4&\"!U14\"),\"\")","v":""},{"$f":"IFERROR(INDIRECT($C$4&\"!V14\"),\"\")","v":""},{"$f":"IFERROR(INDIRECT($C$4&\"!W14\"),\"\")","v":""},{"$f":"IFERROR(INDIRECT($C$4&\"!X14\"),\"\")","v":""},{"$f":"IFERROR(INDIRECT($C$4&\"!Y14\"),\"\")","v":""},null,1]
[null,null,2,{"$f":"IFERROR(INDIRECT($C$4&\"!B15\"),\"\")","v":""},{"$f":"IFERROR(INDIRECT($C$4&\"!C15\"),\"\")","v":""},{"$f":"IFERROR(INDIRECT($C$4&\"!D15\"),\"\")","v":""},{"$f":"IFERROR(INDIRECT($C$4&\"!E15\"),\"\")","v":""},{"$f":"IFERROR(INDIRECT($C$4&\"!F15\"),\"\")","v":""},{"$f":"IFERROR(INDIRECT($C$4&\"!G15\"),\"\")","v":""},{"$f":"IFERROR(INDIRECT($C$4&\"!H15\"),\"\")","v":""},{"$f":"IFERROR(INDIRECT($C$4&\"!I15\"),\"\")","v":""},{"$f":"IFERROR(INDIRECT($C$4&\"!J15\"),\"\")","v":""},{"$f":"IFERROR(INDIRECT($C$4&\"!K15\"),\"\")","v":""},{"$f":"IFERROR(INDIRECT($C$4&\"!L15\"),\"\")","v":""},{"$f":"IFERROR(INDIRECT($C$4&\"!M15\"),\"\")","v":""},{"$f":"IFERROR(INDIRECT($C$4&\"!N15\"),\"\")","v":""},{"$f":"IFERROR(INDIRECT($C$4&\"!O15\"),\"\")","v":""},{"$f":"IFERROR(INDIRECT($C$4&\"!P15\"),\"\")","v":""},{"$f":"IFERROR(INDIRECT($C$4&\"!Q15\"),\"\")","v":""},{"$f":"IFERROR(INDIRECT($C$4&\"!R15\"),\"\")","v":""},{"$f":"IFERROR(INDIRECT($C$4&\"!S15\"),\"\")","v":""},{"$f":"IFERROR(INDIRECT($C$4&\"!T15\"),\"\")","v":""},{"$f":"IFERROR(INDIRECT($C$4&\"!U15\"),\"\")","v":""},{"$f":"IFERROR(INDIRECT($C$4&\"!V15\"),\"\")","v":""},{"$f":"IFERROR(INDIRECT($C$4&\"!W15\"),\"\")","v":""},{"$f":"IFERROR(INDIRECT($C$4&\"!X15\"),\"\")","v":""},{"$f":"IFERROR(INDIRECT($C$4&\"!Y15\"),\"\")","v":""},null,2]
[null,null,3,{"$f":"IFERROR(INDIRECT($C$4&\"!B16\"),\"\")","v":""},{"$f":"IFERROR(INDIRECT($C$4&\"!C16\"),\"\")","v":""},{"$f":"IFERROR(INDIRECT($C$4&\"!D16\"),\"\")","v":""},{"$f":"IFERROR(INDIRECT($C$4&\"!E16\"),\"\")","v":""},{"$f":"IFERROR(INDIRECT($C$4&\"!F16\"),\"\")","v":""},{"$f":"IFERROR(INDIRECT($C$4&\"!G16\"),\"\")","v":""},{"$f":"IFERROR(INDIRECT($C$4&\"!H16\"),\"\")","v":""},{"$f":"IFERROR(INDIRECT($C$4&\"!I16\"),\"\")","v":""},{"$f":"IFERROR(INDIRECT($C$4&\"!J16\"),\"\")","v":""},{"$f":"IFERROR(INDIRECT($C$4&\"!K16\"),\"\")","v":""},{"$f":"IFERROR(INDIRECT($C$4&\"!L16\"),\"\")","v":""},{"$f":"IFERROR(INDIRECT($C$4&\"!M16\"),\"\")","v":""},{"$f":"IFERROR(INDIRECT($C$4&\"!N16\"),\"\")","v":""},{"$f":"IFERROR(INDIRECT($C$4&\"!O16\"),\"\")","v":""},{"$f":"IFERROR(INDIRECT($C$4&\"!P16\"),\"\")","v":""},{"$f":"IFERROR(INDIRECT($C$4&\"!Q16\"),\"\")","v":""},{"$f":"IFERROR(INDIRECT($C$4&\"!R16\"),\"\")","v":""},{"$f":"IFERROR(INDIRECT($C$4&\"!S16\"),\"\")","v":""},{"$f":"IFERROR(INDIRECT($C$4&\"!T16\"),\"\")","v":""},{"$f":"IFERROR(INDIRECT($C$4&\"!U16\"),\"\")","v":""},{"$f":"IFERROR(INDIRECT($C$4&\"!V16\"),\"\")","v":""},{"$f":"IFERROR(INDIRECT($C$4&\"!W16\"),\"\")","v":""},{"$f":"IFERROR(INDIRECT($C$4&\"!X16\"),\"\")","v":""},{"$f":"IFERROR(INDIRECT($C$4&\"!Y16\"),\"\")","v":""},null,3]
[]
[null,null,null,"共通","暖房設計外気温度",null,"設備設計時に最大暖房負荷計算を行った外気温度(JIS B8613のth100に相当)",null,null,null,null,null,null,null,null,"Td",-5,"℃",null,"定格条件\n【外気温度】",null,"冷却","35℃",null,"定格条件\n【冷温水温度】",null,"冷却","入口温度","12℃","加熱","入口温度","40℃"]
[null,null,null,null,null,null,null,null,null,null,null,null,null,null,null,null,null,null,null,null,null,"加熱","7℃",null,null,null,null,"出口温度","7℃",null,"出口温度","45℃"]
[]
[null,null,null,"設備導入前",null,null,null,null,null,null,null,null,null,null,null,null,"前1","前2","前3"]
[null,null,null,null,"設計加熱能力",null,"最大暖房負荷に対して選定した空冷HPチラーの暖房能力(原則、最大空調負荷に等しい)",null,null,null,null,null,null,null,null,"Φwd",150,null,null,"kW"]
[null,null,null,null,"定格冷却能力",null,null,null,"空冷HPチラーの仕様を入力",null,null,null,null,null,null,"Φco",250,null,null,"kW"]
[null,null,null,null,"定格冷却消費電力",null,null,null,"空冷HPチラーの仕様を入力",null,null,null,null,null,null,"Pco",71,null,null,"kW"]
[null,null,null,null,"定格冷却COP",null,null,null,"自動計算",null,null,null,null,null,null,"σco",{"$f":"IFERROR(Q$30/Q$31,\"\")","v":3.5211267605633805},{"$f":"IFERROR(R$30/R$31,\"\")","v":""},{"$f":"IFERROR(S$30/S$31,\"\")","v":""},"σco＝Φco／Pco"]
[null,null,null,null,"定格加熱能力",null,null,null,"空冷HPチラーの仕様を入力",null,null,null,null,null,null,"Φwo",250,null,null,"kW"]
[null,null,null,null,"定格加熱消費電力",null,null,null,"空冷HPチラーの仕様を入力",null,null,null,null,null,null,"Pwo",69,null,null,"kW"]
[null,null,null,null,"定格加熱COP",null,null,null,"自動計算",null,null,null,null,null,null,"σwo",{"$f":"IFERROR(Q$33/Q$34,\"\")","v":3.6231884057971016},{"$f":"IFERROR(R$33/R$34,\"\")","v":""},{"$f":"IFERROR(S$33/S$34,\"\")","v":""},"σwo＝Φwo／Pwo"]
[null,null,null,null,"冷温水ポンプモータ定格出力",null,null,null,"空冷HPチラーの仕様を入力",null,null,null,null,null,null,"Pp2",3.7,null,null,"kW"]
[]
[]
[]
[]
[]
[null,null,null,"設備導入後",null,null,null,null,null,null,null,null,null,null,null,null,"後1","後2","後3"]
[null,null,null,null,"設計加熱能力",null,"最大暖房負荷に対して選定した空冷HPチラーの暖房能力(原則、最大空調負荷に等しい)",null,null,null,null,null,null,null,null,"Φwd",null,null,null,"kW"]
[null,null,null,null,"定格冷却能力",null,null,null,"空冷HPチラーの仕様を入力",null,null,null,null,null,null,"Φco",null,null,null,"kW"]
[null,null,null,null,"定格冷却消費電力",null,null,null,"空冷HPチラーの仕様を入力",null,null,null,null,null,null,"Pco",null,null,null,"kW"]
[null,null,null,null,"定格冷却COP",null,null,null,"自動計算",null,null,null,null,null,null,"σco",{"$f":"IFERROR(Q$44/Q$45,\"\")","v":""},{"$f":"IFERROR(R$44/R$45,\"\")","v":""},{"$f":"IFERROR(S$44/S$45,\"\")","v":""},"σco＝Φco／Pco"]
[null,null,null,null,"定格加熱能力",null,null,null,"空冷HPチラーの仕様を入力",null,null,null,null,null,null,"Φwo",null,null,null,"kW"]
[null,null,null,null,"定格加熱消費電力",null,null,null,"空冷HPチラーの仕様を入力",null,null,null,null,null,null,"Pwo",null,null,null,"kW"]
[null,null,null,null,"定格加熱COP",null,null,null,"自動計算",null,null,null,null,null,null,"σwo",{"$f":"IFERROR(Q$47/Q$48,\"\")","v":""},{"$f":"IFERROR(R$47/R$48,\"\")","v":""},{"$f":"IFERROR(S$47/S$48,\"\")","v":""},"σwo＝Φwo／Pwo"]
[null,null,null,null,"冷温水ポンプモータ定格出力",null,null,null,"空冷HPチラーの仕様を入力",null,null,null,null,null,null,"Pp2",null,null,null,"kW"]
[]
[]
[]
[]
[]
[null,null,"設備導入前年間電力使用量[kWh]"]
[null,null,null,"冷却(Ec)",null,"加熱(Ew)",null,"合計(Ecw)"]
[null,null,null,{"$f":"IFERROR($F$74+$M$74+$T$74,\"\")","v":0},null,{"$f":"IFERROR($I$74+$P$74+$W$74,\"\")","v":0},null,{"$f":"IFERROR($J$74+$Q$74+$X$74,\"\")","v":0}]
[]
[null,null,null,"前1",null,null,null,null,null,null,"前2",null,null,null,null,null,null,"前3"]
[null,null,"月    期間","主機(Ecc)","補機(Eaxc)","全体(Ec)","主機(Eww)","補機(Eaxw)","全体(Ew)","月合計","主機(Ecc)","補機(Eaxc)","全体(Ec)","主機(Eww)","補機(Eaxw)","全体(Ew)","月合計","主機(Ecc)","補機(Eaxc)","全体(Ec)","主機(Eww)","補機(Eaxw)","全体(Ew)","月合計"]
[null,null,4,{"$f":"IF($C$7=\"---\",\"\",IFERROR($AX149,\"\"))","v":""},{"$f":"IF($C$7=\"---\",\"\",IFERROR($AY149,\"\"))","v":""},{"$f":"IF($C$7=\"---\",\"\",IFERROR($AZ149,\"\"))","v":""},{"$f":"IF($C$7=\"---\",\"\",IFERROR($AX170,\"\"))","v":""},{"$f":"IF($C$7=\"---\",\"\",IFERROR($AY170,\"\"))","v":""},{"$f":"IF($C$7=\"---\",\"\",IFERROR($AZ170,\"\"))","v":""},{"$f":"IFERROR(SUM(F62+I62),\"\")","v":""},{"$f":"IF($C$7=\"---\",\"\",IFERROR($BA149,\"\"))","v":""},{"$f":"IF($C$7=\"---\",\"\",IFERROR($BB149,\"\"))","v":""},{"$f":"IF($C$7=\"---\",\"\",IFERROR($BC149,\"\"))","v":""},{"$f":"IF($C$7=\"---\",\"\",IFERROR($BA170,\"\"))","v":""},{"$f":"IF($C$7=\"---\",\"\",IFERROR($BB170,\"\"))","v":""},{"$f":"IF($C$7=\"---\",\"\",IFERROR($BC170,\"\"))","v":""},{"$f":"IFERROR(SUM(M62+P62),\"\")","v":""},{"$f":"IF($C$7=\"---\",\"\",IFERROR($BD149,\"\"))","v":""},{"$f":"IF($C$7=\"---\",\"\",IFERROR($BE149,\"\"))","v":""},{"$f":"IF($C$7=\"---\",\"\",IFERROR($BF149,\"\"))","v":""},{"$f":"IF($C$7=\"---\",\"\",IFERROR($BD170,\"\"))","v":""},{"$f":"IF($C$7=\"---\",\"\",IFERROR($BE170,\"\"))","v":""},{"$f":"IF($C$7=\"---\",\"\",IFERROR($BF170,\"\"))","v":""},{"$f":"IFERROR(SUM(T62+W62),\"\")","v":""}]
[null,null,5,{"$f":"IF($C$7=\"---\",\"\",IFERROR($AX150,\"\"))","v":""},{"$f":"IF($C$7=\"---\",\"\",IFERROR($AY150,\"\"))","v":""},{"$f":"IF($C$7=\"---\",\"\",IFERROR($AZ150,\"\"))","v":""},{"$f":"IF($C$7=\"---\",\"\",IFERROR($AX171,\"\"))","v":""},{"$f":"IF($C$7=\"---\",\"\",IFERROR($AY171,\"\"))","v":""},{"$f":"IF($C$7=\"---\",\"\",IFERROR($AZ171,\"\"))","v":""},{"$f":"IFERROR(SUM(F63+I63),\"\")","v":""},{"$f":"IF($C$7=\"---\",\"\",IFERROR($BA150,\"\"))","v":""},{"$f":"IF($C$7=\"---\",\"\",IFERROR($BB150,\"\"))","v":""},{"$f":"IF($C$7=\"---\",\"\",IFERROR($BC150,\"\"))","v":""},{"$f":"IF($C$7=\"---\",\"\",IFERROR($BA171,\"\"))","v":""},{"$f":"IF($C$7=\"---\",\"\",IFERROR($BB171,\"\"))","v":""},{"$f":"IF($C$7=\"---\",\"\",IFERROR($BC171,\"\"))","v":""},{"$f":"IFERROR(SUM(M63+P63),\"\")","v":""},{"$f":"IF($C$7=\"---\",\"\",IFERROR($BD150,\"\"))","v":""},{"$f":"IF($C$7=\"---\",\"\",IFERROR($BE150,\"\"))","v":""},{"$f":"IF($C$7=\"---\",\"\",IFERROR($BF150,\"\"))","v":""},{"$f":"IF($C$7=\"---\",\"\",IFERROR($BD171,\"\"))","v":""},{"$f":"IF($C$7=\"---\",\"\",IFERROR($BE171,\"\"))","v":""},{"$f":"IF($C$7=\"---\",\"\",IFERROR($BF171,\"\"))","v":""},{"$f":"IFERROR(SUM(T63+W63),\"\")","v":""}]
[null,null,6,"","","","","","","","","","","","","","","","","","","","",""]
[null,null,7,"","","","","","","","","","","","","","","","","","","","",""]
[null,null,8,"","","","","","","","","","","","","","","","","","","","",""]
[null,null,9,"","","","","","","","","","","","","","","","","","","","",""]
[null,null,10,"","","","","","","","","","","","","","","","","","","","",""]
[null,null,11,"","","","","","","","","","","","","","","","","","","","",""]
[null,null,12,"","","","","","",{"$f":"IFERROR(SUM(F70+I70),\"\")","v":""},"","","","","","",{"$f":"IFERROR(SUM(M70+P70),\"\")","v":""},"","","","","","",{"$f":"IFERROR(SUM(T70+W70),\"\")","v":""}]
[null,null,1,"","","","","","","","","","","","","","","","","","","","",""]
[null,null,2,"","","","","","",{"$f":"IFERROR(SUM(F72+I72),\"\")","v":""},"","","","","","",{"$f":"IFERROR(SUM(M72+P72),\"\")","v":""},"","","","","","",""]
[null,null,3,"","","","","","","","","","","","","","","","","","","","",""]
[null,null,"合計",{"$f":"IFERROR(SUM($D$62:$D$73),\"\")","v":0},{"$f":"IFERROR(SUM($E$62:$E$73),\"\")","v":0},{"$f":"IFERROR(SUM(F$62:F$73),\"\")","v":0},0,0,0,0,0,0,0,0,0,0,0,0,0,0,0,0,0,0]
[]
[]
[null,null,"設備導入後年間電力使用量[kWh]"]
[null,null,null,"冷却(Ec)",null,"加熱(Ew)",null,"合計(Ecw)"]
[null,null,null,{"$f":"IFERROR($F$95+$M$95+$T$95,\"\")","v":0},null,{"$f":"IFERROR($I$95+$P$95+$W$95,\"\")","v":0},null,{"$f":"IFERROR($J$95+$Q$95+$X$95,\"\")","v":0}]
[]
[null,null,null,"後1",null,null,null,null,null,null,"後2",null,null,null,null,null,null,"後3"]
[null,null,"月    期間","主機(Ecc)","補機(Eaxc)","全体(Ec)","主機(Eww)","補機(Eaxw)","全体(Ew)","月合計","主機(Ecc)","補機(Eaxc)","全体(Ec)","主機(Eww)","補機(Eaxw)","全体(Ew)","月合計","主機(Ecc)","補機(Eaxc)","全体(Ec)","主機(Eww)","補機(Eaxw)","全体(Ew)","月合計"]
[null,null,4,{"$f":"IF($C$7=\"---\",\"\",IFERROR($BH149,\"\"))","v":""},{"$f":"IF($C$7=\"---\",\"\",IFERROR($BI149,\"\"))","v":""},{"$f":"IF($C$7=\"---\",\"\",IFERROR($BJ149,\"\"))","v":""},{"$f":"IF($C$7=\"---\",\"\",IFERROR($BH170,\"\"))","v":""},{"$f":"IF($C$7=\"---\",\"\",IFERROR($BI170,\"\"))","v":""},{"$f":"IF($C$7=\"---\",\"\",IFERROR($BJ170,\"\"))","v":""},{"$f":"IFERROR(SUM(F83+I83),\"\")","v":""},{"$f":"IF($C$7=\"---\",\"\",IFERROR($BK149,\"\"))","v":""},{"$f":"IF($C$7=\"---\",\"\",IFERROR($BL149,\"\"))","v":""},{"$f":"IF($C$7=\"---\",\"\",IFERROR($BM149,\"\"))","v":""},{"$f":"IF($C$7=\"---\",\"\",IFERROR($BK170,\"\"))","v":""},{"$f":"IF($C$7=\"---\",\"\",IFERROR($BL170,\"\"))","v":""},{"$f":"IF($C$7=\"---\",\"\",IFERROR($BM170,\"\"))","v":""},{"$f":"IFERROR(SUM(M83+P83),\"\")","v":""},{"$f":"IF($C$7=\"---\",\"\",IFERROR($BN149,\"\"))","v":""},{"$f":"IF($C$7=\"---\",\"\",IFERROR($BO149,\"\"))","v":""},{"$f":"IF($C$7=\"---\",\"\",IFERROR($BP149,\"\"))","v":""},{"$f":"IF($C$7=\"---\",\"\",IFERROR($BN170,\"\"))","v":""},{"$f":"IF($C$7=\"---\",\"\",IFERROR($BO170,\"\"))","v":""},{"$f":"IF($C$7=\"---\",\"\",IFERROR($BP170,\"\"))","v":""},{"$f":"IFERROR(SUM(T83+W83),\"\")","v":""}]
[null,null,5,{"$f":"IF($C$7=\"---\",\"\",IFERROR($BH150,\"\"))","v":""},{"$f":"IF($C$7=\"---\",\"\",IFERROR($BI150,\"\"))","v":""},{"$f":"IF($C$7=\"---\",\"\",IFERROR($BJ150,\"\"))","v":""},{"$f":"IF($C$7=\"---\",\"\",IFERROR($BH171,\"\"))","v":""},{"$f":"IF($C$7=\"---\",\"\",IFERROR($BI171,\"\"))","v":""},{"$f":"IF($C$7=\"---\",\"\",IFERROR($BJ171,\"\"))","v":""},{"$f":"IFERROR(SUM(F84+I84),\"\")","v":""},{"$f":"IF($C$7=\"---\",\"\",IFERROR($BK150,\"\"))","v":""},{"$f":"IF($C$7=\"---\",\"\",IFERROR($BL150,\"\"))","v":""},{"$f":"IF($C$7=\"---\",\"\",IFERROR($BM150,\"\"))","v":""},{"$f":"IF($C$7=\"---\",\"\",IFERROR($BK171,\"\"))","v":""},{"$f":"IF($C$7=\"---\",\"\",IFERROR($BL171,\"\"))","v":""},{"$f":"IF($C$7=\"---\",\"\",IFERROR($BM171,\"\"))","v":""},{"$f":"IFERROR(SUM(M84+P84),\"\")","v":""},{"$f":"IF($C$7=\"---\",\"\",IFERROR($BN150,\"\"))","v":""},{"$f":"IF($C$7=\"---\",\"\",IFERROR($BO150,\"\"))","v":""},{"$f":"IF($C$7=\"---\",\"\",IFERROR($BP150,\"\"))","v":""},{"$f":"IF($C$7=\"---\",\"\",IFERROR($BN171,\"\"))","v":""},{"$f":"IF($C$7=\"---\",\"\",IFERROR($BO171,\"\"))","v":""},{"$f":"IF($C$7=\"---\",\"\",IFERROR($BP171,\"\"))","v":""},{"$f":"IFERROR(SUM(T84+W84),\"\")","v":""}]
[null,null,6,"","","","","","","","","","","","","","","","","","","","",""]
[null,null,7,"","","","","","","","","","","","","","","","","","","","",""]
[null,null,8,"","","","","","","","","","","","","","","","","","","","",""]
[null,null,9,"","","","","","","","","","","","","","","","","","","","",""]
[null,null,10,"","","","","","","","","","","","","","","","","","","","",""]
[null,null,11,"","","","","","","","","","","","","","","","","","","","",{"$f":"IFERROR(SUM(T90+W90),\"\")","v":""}]
[null,null,12,"","","","","","",{"$f":"IFERROR(SUM(F91+I91),\"\")","v":""},"","","","","","",{"$f":"IFERROR(SUM(M91+P91),\"\")","v":""},"","","","","","",{"$f":"IFERROR(SUM(T91+W91),\"\")","v":""}]
[null,null,1,"","","","","","","","","","","","","","","","","","","","",""]
[null,null,2,"","","","","","","","","","","","","","","","","","","","",""]
[null,null,3,"","","","","","",{"$f":"IFERROR(SUM(F94+I94),\"\")","v":""},"","","","","","","","","","","","","",""]
[null,null,"合計",{"$f":"IFERROR(SUM(D83:D94),\"\")","v":0},0,0,0,0,0,0,0,0,0,0,0,0,0,0,0,0,0,0,0,0]
[]
[]
[null,null,"作業表1(青色のセルを「24」、オレンジ色のセルを「19」として抽出）"]
[null,null,null," 時刻"]
[null,null,"月",0,1,2,3,4,5,6,7,8,9,10,11,12,13,14,15,16,17,18,19,20,21,22,23,"月"]
[null,null,4,{"$f":"CELLCOLOR($D$12)","v":-4142},{"$f":"CELLCOLOR($E$12)","v":-4142},{"$f":"CELLCOLOR($F$12)","v":-4142},{"$f":"CELLCOLOR($G$12)","v":-4142},{"$f":"CELLCOLOR($H$12)","v":-4142},{"$f":"CELLCOLOR($I$12)","v":-4142},{"$f":"CELLCOLOR($J$12)","v":-4142},{"$f":"CELLCOLOR($K$12)","v":-4142},{"$f":"CELLCOLOR($L$12)","v":-4142},{"$f":"CELLCOLOR($M$12)","v":-4142},{"$f":"CELLCOLOR($N$12)","v":-4142},{"$f":"CELLCOLOR($O$12)","v":-4142},{"$f":"CELLCOLOR($P$12)","v":-4142},{"$f":"CELLCOLOR($Q$12)","v":-4142},{"$f":"CELLCOLOR($R$12)","v":-4142},{"$f":"CELLCOLOR($S$12)","v":-4142},{"$f":"CELLCOLOR($T$12)","v":-4142},{"$f":"CELLCOLOR($U$12)","v":-4142},{"$f":"CELLCOLOR($V$12)","v":-4142},{"$f":"CELLCOLOR($W$12)","v":-4142},{"$f":"CELLCOLOR($X$12)","v":-4142},{"$f":"CELLCOLOR($Y$12)","v":-4142},{"$f":"CELLCOLOR($Z$12)","v":-4142},{"$f":"CELLCOLOR($AA$12)","v":-4142},4]
[null,null,5,{"$f":"CELLCOLOR($D$13)","v":-4142},{"$f":"CELLCOLOR($E$13)","v":-4142},{"$f":"CELLCOLOR($F$13)","v":-4142},{"$f":"CELLCOLOR($G$13)","v":-4142},{"$f":"CELLCOLOR($H$13)","v":-4142},{"$f":"CELLCOLOR($I$13)","v":-4142},{"$f":"CELLCOLOR($J$13)","v":-4142},{"$f":"CELLCOLOR($K$13)","v":-4142},{"$f":"CELLCOLOR($L$13)","v":-4142},{"$f":"CELLCOLOR($M$13)","v":-4142},{"$f":"CELLCOLOR($N$13)","v":-4142},{"$f":"CELLCOLOR($O$13)","v":-4142},{"$f":"CELLCOLOR($P$13)","v":-4142},{"$f":"CELLCOLOR($Q$13)","v":-4142},{"$f":"CELLCOLOR($R$13)","v":-4142},{"$f":"CELLCOLOR($S$13)","v":-4142},{"$f":"CELLCOLOR($T$13)","v":-4142},{"$f":"CELLCOLOR($U$13)","v":-4142},{"$f":"CELLCOLOR($V$13)","v":-4142},{"$f":"CELLCOLOR($W$13)","v":-4142},{"$f":"CELLCOLOR($X$13)","v":-4142},{"$f":"CELLCOLOR($Y$13)","v":-4142},{"$f":"CELLCOLOR($Z$13)","v":-4142},{"$f":"CELLCOLOR($AA$13)","v":-4142},5]
[null,null,6,{"$f":"CELLCOLOR($D$14)","v":-4142},{"$f":"CELLCOLOR($E$14)","v":-4142},{"$f":"CELLCOLOR($F$14)","v":-4142},{"$f":"CELLCOLOR($G$14)","v":-4142},{"$f":"CELLCOLOR($H$14)","v":-4142},{"$f":"CELLCOLOR($I$14)","v":-4142},{"$f":"CELLCOLOR($J$14)","v":-4142},{"$f":"CELLCOLOR($K$14)","v":-4142},{"$f":"CELLCOLOR($L$14)","v":-4142},{"$f":"CELLCOLOR($M$14)","v":-4142},{"$f":"CELLCOLOR($N$14)","v":-4142},{"$f":"CELLCOLOR($O$14)","v":-4142},{"$f":"CELLCOLOR($P$14)","v":-4142},{"$f":"CELLCOLOR($Q$14)","v":-4142},{"$f":"CELLCOLOR($R$14)","v":-4142},{"$f":"CELLCOLOR($S$14)","v":-4142},{"$f":"CELLCOLOR($T$14)","v":-4142},{"$f":"CELLCOLOR($U$14)","v":-4142},{"$f":"CELLCOLOR($V$14)","v":-4142},{"$f":"CELLCOLOR($W$14)","v":-4142},{"$f":"CELLCOLOR($X$14)","v":-4142},{"$f":"CELLCOLOR($Y$14)","v":-4142},{"$f":"CELLCOLOR($Z$14)","v":-4142},{"$f":"CELLCOLOR($AA$14)","v":-4142},6]
[null,null,7,{"$f":"CELLCOLOR($D$15)","v":-4142},{"$f":"CELLCOLOR($E$15)","v":-4142},{"$f":"CELLCOLOR($F$15)","v":-4142},{"$f":"CELLCOLOR($G$15)","v":-4142},{"$f":"CELLCOLOR($H$15)","v":-4142},{"$f":"CELLCOLOR($I$15)","v":-4142},{"$f":"CELLCOLOR($J$15)","v":-4142},{"$f":"CELLCOLOR($K$15)","v":-4142},{"$f":"CELLCOLOR($L$15)","v":-4142},{"$f":"CELLCOLOR($M$15)","v":-4142},{"$f":"CELLCOLOR($N$15)","v":-4142},{"$f":"CELLCOLOR($O$15)","v":-4142},{"$f":"CELLCOLOR($P$15)","v":-4142},{"$f":"CELLCOLOR($Q$15)","v":-4142},{"$f":"CELLCOLOR($R$15)","v":-4142},{"$f":"CELLCOLOR($S$15)","v":-4142},{"$f":"CELLCOLOR($T$15)","v":-4142},{"$f":"CELLCOLOR($U$15)","v":-4142},{"$f":"CELLCOLOR($V$15)","v":-4142},{"$f":"CELLCOLOR($W$15)","v":-4142},{"$f":"CELLCOLOR($X$15)","v":-4142},{"$f":"CELLCOLOR($Y$15)","v":-4142},{"$f":"CELLCOLOR($Z$15)","v":-4142},{"$f":"CELLCOLOR($AA$15)","v":-4142},7]
[null,null,8,{"$f":"CELLCOLOR($D$16)","v":-4142},{"$f":"CELLCOLOR($E$16)","v":-4142},{"$f":"CELLCOLOR($F$16)","v":-4142},{"$f":"CELLCOLOR($G$16)","v":-4142},{"$f":"CELLCOLOR($H$16)","v":-4142},{"$f":"CELLCOLOR($I$16)","v":-4142},{"$f":"CELLCOLOR($J$16)","v":-4142},{"$f":"CELLCOLOR($K$16)","v":-4142},{"$f":"CELLCOLOR($L$16)","v":-4142},{"$f":"CELLCOLOR($M$16)","v":-4142},{"$f":"CELLCOLOR($N$16)","v":-4142},{"$f":"CELLCOLOR($O$16)","v":-4142},{"$f":"CELLCOLOR($P$16)","v":-4142},{"$f":"CELLCOLOR($Q$16)","v":-4142},{"$f":"CELLCOLOR($R$16)","v":-4142},{"$f":"CELLCOLOR($S$16)","v":-4142},{"$f":"CELLCOLOR($T$16)","v":-4142},{"$f":"CELLCOLOR($U$16)","v":-4142},{"$f":"CELLCOLOR($V$16)","v":-4142},{"$f":"CELLCOLOR($W$16)","v":-4142},{"$f":"CELLCOLOR($X$16)","v":-4142},{"$f":"CELLCOLOR($Y$16)","v":-4142},{"$f":"CELLCOLOR($Z$16)","v":-4142},{"$f":"CELLCOLOR($AA$16)","v":-4142},8]
[null,null,9,{"$f":"CELLCOLOR($D$17)","v":-4142},{"$f":"CELLCOLOR($E$17)","v":-4142},{"$f":"CELLCOLOR($F$17)","v":-4142},{"$f":"CELLCOLOR($G$17)","v":-4142},{"$f":"CELLCOLOR($H$17)","v":-4142},{"$f":"CELLCOLOR($I$17)","v":-4142},{"$f":"CELLCOLOR($J$17)","v":-4142},{"$f":"CELLCOLOR($K$17)","v":-4142},{"$f":"CELLCOLOR($L$17)","v":-4142},{"$f":"CELLCOLOR($M$17)","v":-4142},{"$f":"CELLCOLOR($N$17)","v":-4142},{"$f":"CELLCOLOR($O$17)","v":-4142},{"$f":"CELLCOLOR($P$17)","v":-4142},{"$f":"CELLCOLOR($Q$17)","v":-4142},{"$f":"CELLCOLOR($R$17)","v":-4142},{"$f":"CELLCOLOR($S$17)","v":-4142},{"$f":"CELLCOLOR($T$17)","v":-4142},{"$f":"CELLCOLOR($U$17)","v":-4142},{"$f":"CELLCOLOR($V$17)","v":-4142},{"$f":"CELLCOLOR($W$17)","v":-4142},{"$f":"CELLCOLOR($X$17)","v":-4142},{"$f":"CELLCOLOR($Y$17)","v":-4142},{"$f":"CELLCOLOR($Z$17)","v":-4142},{"$f":"CELLCOLOR($AA$17)","v":-4142},9]
[null,null,10,{"$f":"CELLCOLOR($D$18)","v":-4142},{"$f":"CELLCOLOR($E$18)","v":-4142},{"$f":"CELLCOLOR($F$18)","v":-4142},{"$f":"CELLCOLOR($G$18)","v":-4142},{"$f":"CELLCOLOR($H$18)","v":-4142},{"$f":"CELLCOLOR($I$18)","v":-4142},{"$f":"CELLCOLOR($J$18)","v":-4142},{"$f":"CELLCOLOR($K$18)","v":-4142},{"$f":"CELLCOLOR($L$18)","v":-4142},{"$f":"CELLCOLOR($M$18)","v":-4142},{"$f":"CELLCOLOR($N$18)","v":-4142},{"$f":"CELLCOLOR($O$18)","v":-4142},{"$f":"CELLCOLOR($P$18)","v":-4142},{"$f":"CELLCOLOR($Q$18)","v":-4142},{"$f":"CELLCOLOR($R$18)","v":-4142},{"$f":"CELLCOLOR($S$18)","v":-4142},{"$f":"CELLCOLOR($T$18)","v":-4142},{"$f":"CELLCOLOR($U$18)","v":-4142},{"$f":"CELLCOLOR($V$18)","v":-4142},{"$f":"CELLCOLOR($W$18)","v":-4142},{"$f":"CELLCOLOR($X$18)","v":-4142},{"$f":"CELLCOLOR($Y$18)","v":-4142},{"$f":"CELLCOLOR($Z$18)","v":-4142},{"$f":"CELLCOLOR($AA$18)","v":-4142},10]
[null,null,11,{"$f":"CELLCOLOR($D$19)","v":-4142},{"$f":"CELLCOLOR($E$19)","v":-4142},{"$f":"CELLCOLOR($F$19)","v":-4142},{"$f":"CELLCOLOR($G$19)","v":-4142},{"$f":"CELLCOLOR($H$19)","v":-4142},{"$f":"CELLCOLOR($I$19)","v":-4142},{"$f":"CELLCOLOR($J$19)","v":-4142},{"$f":"CELLCOLOR($K$19)","v":-4142},{"$f":"CELLCOLOR($L$19)","v":-4142},{"$f":"CELLCOLOR($M$19)","v":-4142},{"$f":"CELLCOLOR($N$19)","v":-4142},{"$f":"CELLCOLOR($O$19)","v":-4142},{"$f":"CELLCOLOR($P$19)","v":-4142},{"$f":"CELLCOLOR($Q$19)","v":-4142},{"$f":"CELLCOLOR($R$19)","v":-4142},{"$f":"CELLCOLOR($S$19)","v":-4142},{"$f":"CELLCOLOR($T$19)","v":-4142},{"$f":"CELLCOLOR($U$19)","v":-4142},{"$f":"CELLCOLOR($V$19)","v":-4142},{"$f":"CELLCOLOR($W$19)","v":-4142},{"$f":"CELLCOLOR($X$19)","v":-4142},{"$f":"CELLCOLOR($Y$19)","v":-4142},{"$f":"CELLCOLOR($Z$19)","v":-4142},{"$f":"CELLCOLOR($AA$19)","v":-4142},11]
[null,null,12,{"$f":"CELLCOLOR($D$20)","v":-4142},{"$f":"CELLCOLOR($E$20)","v":-4142},{"$f":"CELLCOLOR($F$20)","v":-4142},{"$f":"CELLCOLOR($G$20)","v":-4142},{"$f":"CELLCOLOR($H$20)","v":-4142},{"$f":"CELLCOLOR($I$20)","v":-4142},{"$f":"CELLCOLOR($J$20)","v":-4142},{"$f":"CELLCOLOR($K$20)","v":-4142},{"$f":"CELLCOLOR($L$20)","v":-4142},{"$f":"CELLCOLOR($M$20)","v":-4142},{"$f":"CELLCOLOR($N$20)","v":-4142},{"$f":"CELLCOLOR($O$20)","v":-4142},{"$f":"CELLCOLOR($P$20)","v":-4142},{"$f":"CELLCOLOR($Q$20)","v":-4142},{"$f":"CELLCOLOR($R$20)","v":-4142},{"$f":"CELLCOLOR($S$20)","v":-4142},{"$f":"CELLCOLOR($T$20)","v":-4142},{"$f":"CELLCOLOR($U$20)","v":-4142},{"$f":"CELLCOLOR($V$20)","v":-4142},{"$f":"CELLCOLOR($W$20)","v":-4142},{"$f":"CELLCOLOR($X$20)","v":-4142},{"$f":"CELLCOLOR($Y$20)","v":-4142},{"$f":"CELLCOLOR($Z$20)","v":-4142},{"$f":"CELLCOLOR($AA$20)","v":-4142},12]
[null,null,1,{"$f":"CELLCOLOR($D$21)","v":-4142},{"$f":"CELLCOLOR($E$21)","v":-4142},{"$f":"CELLCOLOR($F$21)","v":-4142},{"$f":"CELLCOLOR($G$21)","v":-4142},{"$f":"CELLCOLOR($H$21)","v":-4142},{"$f":"CELLCOLOR($I$21)","v":-4142},{"$f":"CELLCOLOR($J$21)","v":-4142},{"$f":"CELLCOLOR($K$21)","v":-4142},{"$f":"CELLCOLOR($L$21)","v":-4142},{"$f":"CELLCOLOR($M$21)","v":-4142},{"$f":"CELLCOLOR($N$21)","v":-4142},{"$f":"CELLCOLOR($O$21)","v":-4142},{"$f":"CELLCOLOR($P$21)","v":-4142},{"$f":"CELLCOLOR($Q$21)","v":-4142},{"$f":"CELLCOLOR($R$21)","v":-4142},{"$f":"CELLCOLOR($S$21)","v":-4142},{"$f":"CELLCOLOR($T$21)","v":-4142},{"$f":"CELLCOLOR($U$21)","v":-4142},{"$f":"CELLCOLOR($V$21)","v":-4142},{"$f":"CELLCOLOR($W$21)","v":-4142},{"$f":"CELLCOLOR($X$21)","v":-4142},{"$f":"CELLCOLOR($Y$21)","v":-4142},{"$f":"CELLCOLOR($Z$21)","v":-4142},{"$f":"CELLCOLOR($AA$21)","v":-4142},1]
[null,null,2,{"$f":"CELLCOLOR($D$22)","v":-4142},{"$f":"CELLCOLOR($E$22)","v":-4142},{"$f":"CELLCOLOR($F$22)","v":-4142},{"$f":"CELLCOLOR($G$22)","v":-4142},{"$f":"CELLCOLOR($H$22)","v":-4142},{"$f":"CELLCOLOR($I$22)","v":-4142},{"$f":"CELLCOLOR($J$22)","v":-4142},{"$f":"CELLCOLOR($K$22)","v":-4142},{"$f":"CELLCOLOR($L$22)","v":-4142},{"$f":"CELLCOLOR($M$22)","v":-4142},{"$f":"CELLCOLOR($N$22)","v":-4142},{"$f":"CELLCOLOR($O$22)","v":-4142},{"$f":"CELLCOLOR($P$22)","v":-4142},{"$f":"CELLCOLOR($Q$22)","v":-4142},{"$f":"CELLCOLOR($R$22)","v":-4142},{"$f":"CELLCOLOR($S$22)","v":-4142},{"$f":"CELLCOLOR($T$22)","v":-4142},{"$f":"CELLCOLOR($U$22)","v":-4142},{"$f":"CELLCOLOR($V$22)","v":-4142},{"$f":"CELLCOLOR($W$22)","v":-4142},{"$f":"CELLCOLOR($X$22)","v":-4142},{"$f":"CELLCOLOR($Y$22)","v":-4142},{"$f":"CELLCOLOR($Z$22)","v":-4142},{"$f":"CELLCOLOR($AA$22)","v":-4142},2]
[null,null,3,{"$f":"CELLCOLOR($D$23)","v":-4142},{"$f":"CELLCOLOR($E$23)","v":-4142},{"$f":"CELLCOLOR($F$23)","v":-4142},{"$f":"CELLCOLOR($G$23)","v":-4142},{"$f":"CELLCOLOR($H$23)","v":-4142},{"$f":"CELLCOLOR($I$23)","v":-4142},{"$f":"CELLCOLOR($J$23)","v":-4142},{"$f":"CELLCOLOR($K$23)","v":-4142},{"$f":"CELLCOLOR($L$23)","v":-4142},{"$f":"CELLCOLOR($M$23)","v":-4142},{"$f":"CELLCOLOR($N$23)","v":-4142},{"$f":"CELLCOLOR($O$23)","v":-4142},{"$f":"CELLCOLOR($P$23)","v":-4142},{"$f":"CELLCOLOR($Q$23)","v":-4142},{"$f":"CELLCOLOR($R$23)","v":-4142},{"$f":"CELLCOLOR($S$23)","v":-4142},{"$f":"CELLCOLOR($T$23)","v":-4142},{"$f":"CELLCOLOR($U$23)","v":-4142},{"$f":"CELLCOLOR($V$23)","v":-4142},{"$f":"CELLCOLOR($W$23)","v":-4142},{"$f":"CELLCOLOR($X$23)","v":-4142},{"$f":"CELLCOLOR($Y$23)","v":-4142},{"$f":"CELLCOLOR($Z$23)","v":-4142},{"$f":"CELLCOLOR($AA$23)","v":-4142},3]
[]
[null,null,"作業表2-1(冷却)",null,"●月▲時の平均気温(四捨五入で表示）"]
[null,null,null," 時刻"]
[null,null,"月",0,1,2,3,4,5,6,7,8,9,10,11,12,13,14,15,16,17,18,19,20,21,22,23,"月"]
[null,null,4,{"$f":"IF($D$101=24,ROUND($D$12,0),\"\")&\"\"","v":""},{"$f":"IF($E$101=24,ROUND($E$12,0),\"\")&\"\"","v":""},{"$f":"IF($F$101=24,ROUND($F$12,0),\"\")&\"\"","v":""},{"$f":"IF($G$101=24,ROUND($G$12,0),\"\")&\"\"","v":""},{"$f":"IF($H$101=24,ROUND($H$12,0),\"\")&\"\"","v":""},{"$f":"IF($I$101=24,ROUND($I$12,0),\"\")&\"\"","v":""},{"$f":"IF($J$101=24,ROUND($J$12,0),\"\")&\"\"","v":""},{"$f":"IF($K$101=24,ROUND($K$12,0),\"\")&\"\"","v":""},{"$f":"IF($L$101=24,ROUND($L$12,0),\"\")&\"\"","v":""},{"$f":"IF($M$101=24,ROUND($M$12,0),\"\")&\"\"","v":""},{"$f":"IF($N$101=24,ROUND($N$12,0),\"\")&\"\"","v":""},{"$f":"IF($O$101=24,ROUND($O$12,0),\"\")&\"\"","v":""},{"$f":"IF($P$101=24,ROUND($P$12,0),\"\")&\"\"","v":""},{"$f":"IF($Q$101=24,ROUND($Q$12,0),\"\")&\"\"","v":""},{"$f":"IF($R$101=24,ROUND($R$12,0),\"\")&\"\"","v":""},{"$f":"IF($S$101=24,ROUND($S$12,0),\"\")&\"\"","v":""},{"$f":"IF($T$101=24,ROUND($T$12,0),\"\")&\"\"","v":""},{"$f":"IF($U$101=24,ROUND($U$12,0),\"\")&\"\"","v":""},{"$f":"IF($V$101=24,ROUND($V$12,0),\"\")&\"\"","v":""},{"$f":"IF($W$101=24,ROUND($W$12,0),\"\")&\"\"","v":""},{"$f":"IF($X$101=24,ROUND($X$12,0),\"\")&\"\"","v":""},{"$f":"IF($Y$101=24,ROUND($Y$12,0),\"\")&\"\"","v":""},{"$f":"IF($Z$101=24,ROUND($Z$12,0),\"\")&\"\"","v":""},{"$f":"IF($AA$101=24,ROUND($AA$12,0),\"\")&\"\"","v":""},4]
[null,null,5,{"$f":"IF($D$102=24,ROUND($D$13,0),\"\")&\"\"","v":""},{"$f":"IF($E$102=24,ROUND($E$13,0),\"\")&\"\"","v":""},{"$f":"IF($F$102=24,ROUND($F$13,0),\"\")&\"\"","v":""},{"$f":"IF($G$102=24,ROUND($G$13,0),\"\")&\"\"","v":""},{"$f":"IF($H$102=24,ROUND($H$13,0),\"\")&\"\"","v":""},{"$f":"IF($I$102=24,ROUND($I$13,0),\"\")&\"\"","v":""},{"$f":"IF($J$102=24,ROUND($J$13,0),\"\")&\"\"","v":""},{"$f":"IF($K$102=24,ROUND($K$13,0),\"\")&\"\"","v":""},{"$f":"IF($L$102=24,ROUND($L$13,0),\"\")&\"\"","v":""},{"$f":"IF($M$102=24,ROUND($M$13,0),\"\")&\"\"","v":""},{"$f":"IF($N$102=24,ROUND($N$13,0),\"\")&\"\"","v":""},{"$f":"IF($O$102=24,ROUND($O$13,0),\"\")&\"\"","v":""},{"$f":"IF($P$102=24,ROUND($P$13,0),\"\")&\"\"","v":""},{"$f":"IF($Q$102=24,ROUND($Q$13,0),\"\")&\"\"","v":""},{"$f":"IF($R$102=24,ROUND($R$13,0),\"\")&\"\"","v":""},{"$f":"IF($S$102=24,ROUND($S$13,0),\"\")&\"\"","v":""},{"$f":"IF($T$102=24,ROUND($T$13,0),\"\")&\"\"","v":""},{"$f":"IF($U$102=24,ROUND($U$13,0),\"\")&\"\"","v":""},{"$f":"IF($V$102=24,ROUND($V$13,0),\"\")&\"\"","v":""},{"$f":"IF($W$102=24,ROUND($W$13,0),\"\")&\"\"","v":""},{"$f":"IF($X$102=24,ROUND($X$13,0),\"\")&\"\"","v":""},{"$f":"IF($Y$102=24,ROUND($Y$13,0),\"\")&\"\"","v":""},{"$f":"IF($Z$102=24,ROUND($Z$13,0),\"\")&\"\"","v":""},{"$f":"IF($AA$102=24,ROUND($AA$13,0),\"\")&\"\"","v":""},5]
[null,null,6,{"$f":"IF($D$103=24,ROUND($D$14,0),\"\")&\"\"","v":""},{"$f":"IF($E$103=24,ROUND($E$14,0),\"\")&\"\"","v":""},{"$f":"IF($F$103=24,ROUND($F$14,0),\"\")&\"\"","v":""},{"$f":"IF($G$103=24,ROUND($G$14,0),\"\")&\"\"","v":""},{"$f":"IF($H$103=24,ROUND($H$14,0),\"\")&\"\"","v":""},{"$f":"IF($I$103=24,ROUND($I$14,0),\"\")&\"\"","v":""},{"$f":"IF($J$103=24,ROUND($J$14,0),\"\")&\"\"","v":""},{"$f":"IF($K$103=24,ROUND($K$14,0),\"\")&\"\"","v":""},{"$f":"IF($L$103=24,ROUND($L$14,0),\"\")&\"\"","v":""},{"$f":"IF($M$103=24,ROUND($M$14,0),\"\")&\"\"","v":""},{"$f":"IF($N$103=24,ROUND($N$14,0),\"\")&\"\"","v":""},{"$f":"IF($O$103=24,ROUND($O$14,0),\"\")&\"\"","v":""},{"$f":"IF($P$103=24,ROUND($P$14,0),\"\")&\"\"","v":""},{"$f":"IF($Q$103=24,ROUND($Q$14,0),\"\")&\"\"","v":""},{"$f":"IF($R$103=24,ROUND($R$14,0),\"\")&\"\"","v":""},{"$f":"IF($S$103=24,ROUND($S$14,0),\"\")&\"\"","v":""},{"$f":"IF($T$103=24,ROUND($T$14,0),\"\")&\"\"","v":""},{"$f":"IF($U$103=24,ROUND($U$14,0),\"\")&\"\"","v":""},{"$f":"IF($V$103=24,ROUND($V$14,0),\"\")&\"\"","v":""},{"$f":"IF($W$103=24,ROUND($W$14,0),\"\")&\"\"","v":""},{"$f":"IF($X$103=24,ROUND($X$14,0),\"\")&\"\"","v":""},{"$f":"IF($Y$103=24,ROUND($Y$14,0),\"\")&\"\"","v":""},{"$f":"IF($Z$103=24,ROUND($Z$14,0),\"\")&\"\"","v":""},{"$f":"IF($AA$103=24,ROUND($AA$14,0),\"\")&\"\"","v":""},6]
[null,null,7,{"$f":"IF($D$104=24,ROUND($D$15,0),\"\")&\"\"","v":""},{"$f":"IF($E$104=24,ROUND($E$15,0),\"\")&\"\"","v":""},{"$f":"IF($F$104=24,ROUND($F$15,0),\"\")&\"\"","v":""},{"$f":"IF($G$104=24,ROUND($G$15,0),\"\")&\"\"","v":""},{"$f":"IF($H$104=24,ROUND($H$15,0),\"\")&\"\"","v":""},{"$f":"IF($I$104=24,ROUND($I$15,0),\"\")&\"\"","v":""},{"$f":"IF($J$104=24,ROUND($J$15,0),\"\")&\"\"","v":""},{"$f":"IF($K$104=24,ROUND($K$15,0),\"\")&\"\"","v":""},{"$f":"IF($L$104=24,ROUND($L$15,0),\"\")&\"\"","v":""},{"$f":"IF($M$104=24,ROUND($M$15,0),\"\")&\"\"","v":""},{"$f":"IF($N$104=24,ROUND($N$15,0),\"\")&\"\"","v":""},{"$f":"IF($O$104=24,ROUND($O$15,0),\"\")&\"\"","v":""},{"$f":"IF($P$104=24,ROUND($P$15,0),\"\")&\"\"","v":""},{"$f":"IF($Q$104=24,ROUND($Q$15,0),\"\")&\"\"","v":""},{"$f":"IF($R$104=24,ROUND($R$15,0),\"\")&\"\"","v":""},{"$f":"IF($S$104=24,ROUND($S$15,0),\"\")&\"\"","v":""},{"$f":"IF($T$104=24,ROUND($T$15,0),\"\")&\"\"","v":""},{"$f":"IF($U$104=24,ROUND($U$15,0),\"\")&\"\"","v":""},{"$f":"IF($V$104=24,ROUND($V$15,0),\"\")&\"\"","v":""},{"$f":"IF($W$104=24,ROUND($W$15,0),\"\")&\"\"","v":""},{"$f":"IF($X$104=24,ROUND($X$15,0),\"\")&\"\"","v":""},{"$f":"IF($Y$104=24,ROUND($Y$15,0),\"\")&\"\"","v":""},{"$f":"IF($Z$104=24,ROUND($Z$15,0),\"\")&\"\"","v":""},{"$f":"IF($AA$104=24,ROUND($AA$15,0),\"\")&\"\"","v":""},7]
[null,null,8,{"$f":"IF($D$105=24,ROUND($D$16,0),\"\")&\"\"","v":""},{"$f":"IF($E$105=24,ROUND($E$16,0),\"\")&\"\"","v":""},{"$f":"IF($F$105=24,ROUND($F$16,0),\"\")&\"\"","v":""},{"$f":"IF($G$105=24,ROUND($G$16,0),\"\")&\"\"","v":""},{"$f":"IF($H$105=24,ROUND($H$16,0),\"\")&\"\"","v":""},{"$f":"IF($I$105=24,ROUND($I$16,0),\"\")&\"\"","v":""},{"$f":"IF($J$105=24,ROUND($J$16,0),\"\")&\"\"","v":""},{"$f":"IF($K$105=24,ROUND($K$16,0),\"\")&\"\"","v":""},{"$f":"IF($L$105=24,ROUND($L$16,0),\"\")&\"\"","v":""},{"$f":"IF($M$105=24,ROUND($M$16,0),\"\")&\"\"","v":""},{"$f":"IF($N$105=24,ROUND($N$16,0),\"\")&\"\"","v":""},{"$f":"IF($O$105=24,ROUND($O$16,0),\"\")&\"\"","v":""},{"$f":"IF($P$105=24,ROUND($P$16,0),\"\")&\"\"","v":""},{"$f":"IF($Q$105=24,ROUND($Q$16,0),\"\")&\"\"","v":""},{"$f":"IF($R$105=24,ROUND($R$16,0),\"\")&\"\"","v":""},{"$f":"IF($S$105=24,ROUND($S$16,0),\"\")&\"\"","v":""},{"$f":"IF($T$105=24,ROUND($T$16,0),\"\")&\"\"","v":""},{"$f":"IF($U$105=24,ROUND($U$16,0),\"\")&\"\"","v":""},{"$f":"IF($V$105=24,ROUND($V$16,0),\"\")&\"\"","v":""},{"$f":"IF($W$105=24,ROUND($W$16,0),\"\")&\"\"","v":""},{"$f":"IF($X$105=24,ROUND($X$16,0),\"\")&\"\"","v":""},{"$f":"IF($Y$105=24,ROUND($Y$16,0),\"\")&\"\"","v":""},{"$f":"IF($Z$105=24,ROUND($Z$16,0),\"\")&\"\"","v":""},{"$f":"IF($AA$105=24,ROUND($AA$16,0),\"\")&\"\"","v":""},8]
[null,null,9,{"$f":"IF($D$106=24,ROUND($D$17,0),\"\")&\"\"","v":""},{"$f":"IF($E$106=24,ROUND($E$17,0),\"\")&\"\"","v":""},{"$f":"IF($F$106=24,ROUND($F$17,0),\"\")&\"\"","v":""},{"$f":"IF($G$106=24,ROUND($G$17,0),\"\")&\"\"","v":""},{"$f":"IF($H$106=24,ROUND($H$17,0),\"\")&\"\"","v":""},{"$f":"IF($I$106=24,ROUND($I$17,0),\"\")&\"\"","v":""},{"$f":"IF($J$106=24,ROUND($J$17,0),\"\")&\"\"","v":""},{"$f":"IF($K$106=24,ROUND($K$17,0),\"\")&\"\"","v":""},{"$f":"IF($L$106=24,ROUND($L$17,0),\"\")&\"\"","v":""},{"$f":"IF($M$106=24,ROUND($M$17,0),\"\")&\"\"","v":""},{"$f":"IF($N$106=24,ROUND($N$17,0),\"\")&\"\"","v":""},{"$f":"IF($O$106=24,ROUND($O$17,0),\"\")&\"\"","v":""},{"$f":"IF($P$106=24,ROUND($P$17,0),\"\")&\"\"","v":""},{"$f":"IF($Q$106=24,ROUND($Q$17,0),\"\")&\"\"","v":""},{"$f":"IF($R$106=24,ROUND($R$17,0),\"\")&\"\"","v":""},{"$f":"IF($S$106=24,ROUND($S$17,0),\"\")&\"\"","v":""},{"$f":"IF($T$106=24,ROUND($T$17,0),\"\")&\"\"","v":""},{"$f":"IF($U$106=24,ROUND($U$17,0),\"\")&\"\"","v":""},{"$f":"IF($V$106=24,ROUND($V$17,0),\"\")&\"\"","v":""},{"$f":"IF($W$106=24,ROUND($W$17,0),\"\")&\"\"","v":""},{"$f":"IF($X$106=24,ROUND($X$17,0),\"\")&\"\"","v":""},{"$f":"IF($Y$106=24,ROUND($Y$17,0),\"\")&\"\"","v":""},{"$f":"IF($Z$106=24,ROUND($Z$17,0),\"\")&\"\"","v":""},{"$f":"IF($AA$106=24,ROUND($AA$17,0),\"\")&\"\"","v":""},9]
[null,null,10,{"$f":"IF($D$107=24,ROUND($D$18,0),\"\")&\"\"","v":""},{"$f":"IF($E$107=24,ROUND($E$18,0),\"\")&\"\"","v":""},{"$f":"IF($F$107=24,ROUND($F$18,0),\"\")&\"\"","v":""},{"$f":"IF($G$107=24,ROUND($G$18,0),\"\")&\"\"","v":""},{"$f":"IF($H$107=24,ROUND($H$18,0),\"\")&\"\"","v":""},{"$f":"IF($I$107=24,ROUND($I$18,0),\"\")&\"\"","v":""},{"$f":"IF($J$107=24,ROUND($J$18,0),\"\")&\"\"","v":""},{"$f":"IF($K$107=24,ROUND($K$18,0),\"\")&\"\"","v":""},{"$f":"IF($L$107=24,ROUND($L$18,0),\"\")&\"\"","v":""},{"$f":"IF($M$107=24,ROUND($M$18,0),\"\")&\"\"","v":""},{"$f":"IF($N$107=24,ROUND($N$18,0),\"\")&\"\"","v":""},{"$f":"IF($O$107=24,ROUND($O$18,0),\"\")&\"\"","v":""},{"$f":"IF($P$107=24,ROUND($P$18,0),\"\")&\"\"","v":""},{"$f":"IF($Q$107=24,ROUND($Q$18,0),\"\")&\"\"","v":""},{"$f":"IF($R$107=24,ROUND($R$18,0),\"\")&\"\"","v":""},{"$f":"IF($S$107=24,ROUND($S$18,0),\"\")&\"\"","v":""},{"$f":"IF($T$107=24,ROUND($T$18,0),\"\")&\"\"","v":""},{"$f":"IF($U$107=24,ROUND($U$18,0),\"\")&\"\"","v":""},{"$f":"IF($V$107=24,ROUND($V$18,0),\"\")&\"\"","v":""},{"$f":"IF($W$107=24,ROUND($W$18,0),\"\")&\"\"","v":""},{"$f":"IF($X$107=24,ROUND($X$18,0),\"\")&\"\"","v":""},{"$f":"IF($Y$107=24,ROUND($Y$18,0),\"\")&\"\"","v":""},{"$f":"IF($Z$107=24,ROUND($Z$18,0),\"\")&\"\"","v":""},{"$f":"IF($AA$107=24,ROUND($AA$18,0),\"\")&\"\"","v":""},10]
[null,null,11,{"$f":"IF($D$108=24,ROUND($D$19,0),\"\")&\"\"","v":""},{"$f":"IF($E$108=24,ROUND($E$19,0),\"\")&\"\"","v":""},{"$f":"IF($F$108=24,ROUND($F$19,0),\"\")&\"\"","v":""},{"$f":"IF($G$108=24,ROUND($G$19,0),\"\")&\"\"","v":""},{"$f":"IF($H$108=24,ROUND($H$19,0),\"\")&\"\"","v":""},{"$f":"IF($I$108=24,ROUND($I$19,0),\"\")&\"\"","v":""},{"$f":"IF($J$108=24,ROUND($J$19,0),\"\")&\"\"","v":""},{"$f":"IF($K$108=24,ROUND($K$19,0),\"\")&\"\"","v":""},{"$f":"IF($L$108=24,ROUND($L$19,0),\"\")&\"\"","v":""},{"$f":"IF($M$108=24,ROUND($M$19,0),\"\")&\"\"","v":""},{"$f":"IF($N$108=24,ROUND($N$19,0),\"\")&\"\"","v":""},{"$f":"IF($O$108=24,ROUND($O$19,0),\"\")&\"\"","v":""},{"$f":"IF($P$108=24,ROUND($P$19,0),\"\")&\"\"","v":""},{"$f":"IF($Q$108=24,ROUND($Q$19,0),\"\")&\"\"","v":""},{"$f":"IF($R$108=24,ROUND($R$19,0),\"\")&\"\"","v":""},{"$f":"IF($S$108=24,ROUND($S$19,0),\"\")&\"\"","v":""},{"$f":"IF($T$108=24,ROUND($T$19,0),\"\")&\"\"","v":""},{"$f":"IF($U$108=24,ROUND($U$19,0),\"\")&\"\"","v":""},{"$f":"IF($V$108=24,ROUND($V$19,0),\"\")&\"\"","v":""},{"$f":"IF($W$108=24,ROUND($W$19,0),\"\")&\"\"","v":""},{"$f":"IF($X$108=24,ROUND($X$19,0),\"\")&\"\"","v":""},{"$f":"IF($Y$108=24,ROUND($Y$19,0),\"\")&\"\"","v":""},{"$f":"IF($Z$108=24,ROUND($Z$19,0),\"\")&\"\"","v":""},{"$f":"IF($AA$108=24,ROUND($AA$19,0),\"\")&\"\"","v":""},11]
[null,null,12,{"$f":"IF($D$109=24,ROUND($D$20,0),\"\")&\"\"","v":""},{"$f":"IF($E$109=24,ROUND($E$20,0),\"\")&\"\"","v":""},{"$f":"IF($F$109=24,ROUND($F$20,0),\"\")&\"\"","v":""},{"$f":"IF($G$109=24,ROUND($G$20,0),\"\")&\"\"","v":""},{"$f":"IF($H$109=24,ROUND($H$20,0),\"\")&\"\"","v":""},{"$f":"IF($I$109=24,ROUND($I$20,0),\"\")&\"\"","v":""},{"$f":"IF($J$109=24,ROUND($J$20,0),\"\")&\"\"","v":""},{"$f":"IF($K$109=24,ROUND($K$20,0),\"\")&\"\"","v":""},{"$f":"IF($L$109=24,ROUND($L$20,0),\"\")&\"\"","v":""},{"$f":"IF($M$109=24,ROUND($M$20,0),\"\")&\"\"","v":""},{"$f":"IF($N$109=24,ROUND($N$20,0),\"\")&\"\"","v":""},{"$f":"IF($O$109=24,ROUND($O$20,0),\"\")&\"\"","v":""},{"$f":"IF($P$109=24,ROUND($P$20,0),\"\")&\"\"","v":""},{"$f":"IF($Q$109=24,ROUND($Q$20,0),\"\")&\"\"","v":""},{"$f":"IF($R$109=24,ROUND($R$20,0),\"\")&\"\"","v":""},{"$f":"IF($S$109=24,ROUND($S$20,0),\"\")&\"\"","v":""},{"$f":"IF($T$109=24,ROUND($T$20,0),\"\")&\"\"","v":""},{"$f":"IF($U$109=24,ROUND($U$20,0),\"\")&\"\"","v":""},{"$f":"IF($V$109=24,ROUND($V$20,0),\"\")&\"\"","v":""},{"$f":"IF($W$109=24,ROUND($W$20,0),\"\")&\"\"","v":""},{"$f":"IF($X$109=24,ROUND($X$20,0),\"\")&\"\"","v":""},{"$f":"IF($Y$109=24,ROUND($Y$20,0),\"\")&\"\"","v":""},{"$f":"IF($Z$109=24,ROUND($Z$20,0),\"\")&\"\"","v":""},{"$f":"IF($AA$109=24,ROUND($AA$20,0),\"\")&\"\"","v":""},12]
[null,null,1,{"$f":"IF($D$110=24,ROUND($D$21,0),\"\")&\"\"","v":""},{"$f":"IF($E$110=24,ROUND($E$21,0),\"\")&\"\"","v":""},{"$f":"IF($F$110=24,ROUND($F$21,0),\"\")&\"\"","v":""},{"$f":"IF($G$110=24,ROUND($G$21,0),\"\")&\"\"","v":""},{"$f":"IF($H$110=24,ROUND($H$21,0),\"\")&\"\"","v":""},{"$f":"IF($I$110=24,ROUND($I$21,0),\"\")&\"\"","v":""},{"$f":"IF($J$110=24,ROUND($J$21,0),\"\")&\"\"","v":""},{"$f":"IF($K$110=24,ROUND($K$21,0),\"\")&\"\"","v":""},{"$f":"IF($L$110=24,ROUND($L$21,0),\"\")&\"\"","v":""},{"$f":"IF($M$110=24,ROUND($M$21,0),\"\")&\"\"","v":""},{"$f":"IF($N$110=24,ROUND($N$21,0),\"\")&\"\"","v":""},{"$f":"IF($O$110=24,ROUND($O$21,0),\"\")&\"\"","v":""},{"$f":"IF($P$110=24,ROUND($P$21,0),\"\")&\"\"","v":""},{"$f":"IF($Q$110=24,ROUND($Q$21,0),\"\")&\"\"","v":""},{"$f":"IF($R$110=24,ROUND($R$21,0),\"\")&\"\"","v":""},{"$f":"IF($S$110=24,ROUND($S$21,0),\"\")&\"\"","v":""},{"$f":"IF($T$110=24,ROUND($T$21,0),\"\")&\"\"","v":""},{"$f":"IF($U$110=24,ROUND($U$21,0),\"\")&\"\"","v":""},{"$f":"IF($V$110=24,ROUND($V$21,0),\"\")&\"\"","v":""},{"$f":"IF($W$110=24,ROUND($W$21,0),\"\")&\"\"","v":""},{"$f":"IF($X$110=24,ROUND($X$21,0),\"\")&\"\"","v":""},{"$f":"IF($Y$110=24,ROUND($Y$21,0),\"\")&\"\"","v":""},{"$f":"IF($Z$110=24,ROUND($Z$21,0),\"\")&\"\"","v":""},{"$f":"IF($AA$110=24,ROUND($AA$21,0),\"\")&\"\"","v":""},1]
[null,null,2,{"$f":"IF($D$111=24,ROUND($D$22,0),\"\")&\"\"","v":""},{"$f":"IF($E$111=24,ROUND($E$22,0),\"\")&\"\"","v":""},{"$f":"IF($F$111=24,ROUND($F$22,0),\"\")&\"\"","v":""},{"$f":"IF($G$111=24,ROUND($G$22,0),\"\")&\"\"","v":""},{"$f":"IF($H$111=24,ROUND($H$22,0),\"\")&\"\"","v":""},{"$f":"IF($I$111=24,ROUND($I$22,0),\"\")&\"\"","v":""},{"$f":"IF($J$111=24,ROUND($J$22,0),\"\")&\"\"","v":""},{"$f":"IF($K$111=24,ROUND($K$22,0),\"\")&\"\"","v":""},{"$f":"IF($L$111=24,ROUND($L$22,0),\"\")&\"\"","v":""},{"$f":"IF($M$111=24,ROUND($M$22,0),\"\")&\"\"","v":""},{"$f":"IF($N$111=24,ROUND($N$22,0),\"\")&\"\"","v":""},{"$f":"IF($O$111=24,ROUND($O$22,0),\"\")&\"\"","v":""},{"$f":"IF($P$111=24,ROUND($P$22,0),\"\")&\"\"","v":""},{"$f":"IF($Q$111=24,ROUND($Q$22,0),\"\")&\"\"","v":""},{"$f":"IF($R$111=24,ROUND($R$22,0),\"\")&\"\"","v":""},{"$f":"IF($S$111=24,ROUND($S$22,0),\"\")&\"\"","v":""},{"$f":"IF($T$111=24,ROUND($T$22,0),\"\")&\"\"","v":""},{"$f":"IF($U$111=24,ROUND($U$22,0),\"\")&\"\"","v":""},{"$f":"IF($V$111=24,ROUND($V$22,0),\"\")&\"\"","v":""},{"$f":"IF($W$111=24,ROUND($W$22,0),\"\")&\"\"","v":""},{"$f":"IF($X$111=24,ROUND($X$22,0),\"\")&\"\"","v":""},{"$f":"IF($Y$111=24,ROUND($Y$22,0),\"\")&\"\"","v":""},{"$f":"IF($Z$111=24,ROUND($Z$22,0),\"\")&\"\"","v":""},{"$f":"IF($AA$111=24,ROUND($AA$22,0),\"\")&\"\"","v":""},2]
[null,null,3,{"$f":"IF($D$112=24,ROUND($D$23,0),\"\")&\"\"","v":""},{"$f":"IF($E$112=24,ROUND($E$23,0),\"\")&\"\"","v":""},{"$f":"IF($F$112=24,ROUND($F$23,0),\"\")&\"\"","v":""},{"$f":"IF($G$112=24,ROUND($G$23,0),\"\")&\"\"","v":""},{"$f":"IF($H$112=24,ROUND($H$23,0),\"\")&\"\"","v":""},{"$f":"IF($I$112=24,ROUND($I$23,0),\"\")&\"\"","v":""},{"$f":"IF($J$112=24,ROUND($J$23,0),\"\")&\"\"","v":""},{"$f":"IF($K$112=24,ROUND($K$23,0),\"\")&\"\"","v":""},{"$f":"IF($L$112=24,ROUND($L$23,0),\"\")&\"\"","v":""},{"$f":"IF($M$112=24,ROUND($M$23,0),\"\")&\"\"","v":""},{"$f":"IF($N$112=24,ROUND($N$23,0),\"\")&\"\"","v":""},{"$f":"IF($O$112=24,ROUND($O$23,0),\"\")&\"\"","v":""},{"$f":"IF($P$112=24,ROUND($P$23,0),\"\")&\"\"","v":""},{"$f":"IF($Q$112=24,ROUND($Q$23,0),\"\")&\"\"","v":""},{"$f":"IF($R$112=24,ROUND($R$23,0),\"\")&\"\"","v":""},{"$f":"IF($S$112=24,ROUND($S$23,0),\"\")&\"\"","v":""},{"$f":"IF($T$112=24,ROUND($T$23,0),\"\")&\"\"","v":""},{"$f":"IF($U$112=24,ROUND($U$23,0),\"\")&\"\"","v":""},{"$f":"IF($V$112=24,ROUND($V$23,0),\"\")&\"\"","v":""},{"$f":"IF($W$112=24,ROUND($W$23,0),\"\")&\"\"","v":""},{"$f":"IF($X$112=24,ROUND($X$23,0),\"\")&\"\"","v":""},{"$f":"IF($Y$112=24,ROUND($Y$23,0),\"\")&\"\"","v":""},{"$f":"IF($Z$112=24,ROUND($Z$23,0),\"\")&\"\"","v":""},{"$f":"IF($AA$112=24,ROUND($AA$23,0),\"\")&\"\"","v":""},3]
[]
[null,null,"作業表2-2(加熱)",null,"●月▲時の平均気温"]
[null,null,null," 時刻"]
[null,null,"月",0,1,2,3,4,5,6,7,8,9,10,11,12,13,14,15,16,17,18,19,20,21,22,23,"月"]
[null,null,4,{"$f":"IF($D$101=19,ROUND($D$12,0),\"\")&\"\"","v":""},{"$f":"IF($E$101=19,ROUND($E$12,0),\"\")&\"\"","v":""},{"$f":"IF($F$101=19,ROUND($F$12,0),\"\")&\"\"","v":""},{"$f":"IF($G$101=19,ROUND($G$12,0),\"\")&\"\"","v":""},{"$f":"IF($H$101=19,ROUND($H$12,0),\"\")&\"\"","v":""},{"$f":"IF($I$101=19,ROUND($I$12,0),\"\")&\"\"","v":""},{"$f":"IF($J$101=19,ROUND($J$12,0),\"\")&\"\"","v":""},{"$f":"IF($K$101=19,ROUND($K$12,0),\"\")&\"\"","v":""},{"$f":"IF($L$101=19,ROUND($L$12,0),\"\")&\"\"","v":""},{"$f":"IF($M$101=19,ROUND($M$12,0),\"\")&\"\"","v":""},{"$f":"IF($N$101=19,ROUND($N$12,0),\"\")&\"\"","v":""},{"$f":"IF($O$101=19,ROUND($O$12,0),\"\")&\"\"","v":""},{"$f":"IF($P$101=19,ROUND($P$12,0),\"\")&\"\"","v":""},{"$f":"IF($Q$101=19,ROUND($Q$12,0),\"\")&\"\"","v":""},{"$f":"IF($R$101=19,ROUND($R$12,0),\"\")&\"\"","v":""},{"$f":"IF($S$101=19,ROUND($S$12,0),\"\")&\"\"","v":""},{"$f":"IF($T$101=19,ROUND($T$12,0),\"\")&\"\"","v":""},{"$f":"IF($U$101=19,ROUND($U$12,0),\"\")&\"\"","v":""},{"$f":"IF($V$101=19,ROUND($V$12,0),\"\")&\"\"","v":""},{"$f":"IF($W$101=19,ROUND($W$12,0),\"\")&\"\"","v":""},{"$f":"IF($X$101=19,ROUND($X$12,0),\"\")&\"\"","v":""},{"$f":"IF($Y$101=19,ROUND($Y$12,0),\"\")&\"\"","v":""},{"$f":"IF($Z$101=19,ROUND($Z$12,0),\"\")&\"\"","v":""},{"$f":"IF($AA$101=19,ROUND($AA$12,0),\"\")&\"\"","v":""},4]
[null,null,5,{"$f":"IF($D$102=19,ROUND($D$13,0),\"\")&\"\"","v":""},{"$f":"IF($E$102=19,ROUND($E$13,0),\"\")&\"\"","v":""},{"$f":"IF($F$102=19,ROUND($F$13,0),\"\")&\"\"","v":""},{"$f":"IF($G$102=19,ROUND($G$13,0),\"\")&\"\"","v":""},{"$f":"IF($H$102=19,ROUND($H$13,0),\"\")&\"\"","v":""},{"$f":"IF($I$102=19,ROUND($I$13,0),\"\")&\"\"","v":""},{"$f":"IF($J$102=19,ROUND($J$13,0),\"\")&\"\"","v":""},{"$f":"IF($K$102=19,ROUND($K$13,0),\"\")&\"\"","v":""},{"$f":"IF($L$102=19,ROUND($L$13,0),\"\")&\"\"","v":""},{"$f":"IF($M$102=19,ROUND($M$13,0),\"\")&\"\"","v":""},{"$f":"IF($N$102=19,ROUND($N$13,0),\"\")&\"\"","v":""},{"$f":"IF($O$102=19,ROUND($O$13,0),\"\")&\"\"","v":""},{"$f":"IF($P$102=19,ROUND($P$13,0),\"\")&\"\"","v":""},{"$f":"IF($Q$102=19,ROUND($Q$13,0),\"\")&\"\"","v":""},{"$f":"IF($R$102=19,ROUND($R$13,0),\"\")&\"\"","v":""},{"$f":"IF($S$102=19,ROUND($S$13,0),\"\")&\"\"","v":""},{"$f":"IF($T$102=19,ROUND($T$13,0),\"\")&\"\"","v":""},{"$f":"IF($U$102=19,ROUND($U$13,0),\"\")&\"\"","v":""},{"$f":"IF($V$102=19,ROUND($V$13,0),\"\")&\"\"","v":""},{"$f":"IF($W$102=19,ROUND($W$13,0),\"\")&\"\"","v":""},{"$f":"IF($X$102=19,ROUND($X$13,0),\"\")&\"\"","v":""},{"$f":"IF($Y$102=19,ROUND($Y$13,0),\"\")&\"\"","v":""},{"$f":"IF($Z$102=19,ROUND($Z$13,0),\"\")&\"\"","v":""},{"$f":"IF($AA$102=19,ROUND($AA$13,0),\"\")&\"\"","v":""},5]
[null,null,6,{"$f":"IF($D$103=19,ROUND($D$14,0),\"\")&\"\"","v":""},{"$f":"IF($E$103=19,ROUND($E$14,0),\"\")&\"\"","v":""},{"$f":"IF($F$103=19,ROUND($F$14,0),\"\")&\"\"","v":""},{"$f":"IF($G$103=19,ROUND($G$14,0),\"\")&\"\"","v":""},{"$f":"IF($H$103=19,ROUND($H$14,0),\"\")&\"\"","v":""},{"$f":"IF($I$103=19,ROUND($I$14,0),\"\")&\"\"","v":""},{"$f":"IF($J$103=19,ROUND($J$14,0),\"\")&\"\"","v":""},{"$f":"IF($K$103=19,ROUND($K$14,0),\"\")&\"\"","v":""},{"$f":"IF($L$103=19,ROUND($L$14,0),\"\")&\"\"","v":""},{"$f":"IF($M$103=19,ROUND($M$14,0),\"\")&\"\"","v":""},{"$f":"IF($N$103=19,ROUND($N$14,0),\"\")&\"\"","v":""},{"$f":"IF($O$103=19,ROUND($O$14,0),\"\")&\"\"","v":""},{"$f":"IF($P$103=19,ROUND($P$14,0),\"\")&\"\"","v":""},{"$f":"IF($Q$103=19,ROUND($Q$14,0),\"\")&\"\"","v":""},{"$f":"IF($R$103=19,ROUND($R$14,0),\"\")&\"\"","v":""},{"$f":"IF($S$103=19,ROUND($S$14,0),\"\")&\"\"","v":""},{"$f":"IF($T$103=19,ROUND($T$14,0),\"\")&\"\"","v":""},{"$f":"IF($U$103=19,ROUND($U$14,0),\"\")&\"\"","v":""},{"$f":"IF($V$103=19,ROUND($V$14,0),\"\")&\"\"","v":""},{"$f":"IF($W$103=19,ROUND($W$14,0),\"\")&\"\"","v":""},{"$f":"IF($X$103=19,ROUND($X$14,0),\"\")&\"\"","v":""},{"$f":"IF($Y$103=19,ROUND($Y$14,0),\"\")&\"\"","v":""},{"$f":"IF($Z$103=19,ROUND($Z$14,0),\"\")&\"\"","v":""},{"$f":"IF($AA$103=19,ROUND($AA$14,0),\"\")&\"\"","v":""},6]
[null,null,7,{"$f":"IF($D$104=19,ROUND($D$15,0),\"\")&\"\"","v":""},{"$f":"IF($E$104=19,ROUND($E$15,0),\"\")&\"\"","v":""},{"$f":"IF($F$104=19,ROUND($F$15,0),\"\")&\"\"","v":""},{"$f":"IF($G$104=19,ROUND($G$15,0),\"\")&\"\"","v":""},{"$f":"IF($H$104=19,ROUND($H$15,0),\"\")&\"\"","v":""},{"$f":"IF($I$104=19,ROUND($I$15,0),\"\")&\"\"","v":""},{"$f":"IF($J$104=19,ROUND($J$15,0),\"\")&\"\"","v":""},{"$f":"IF($K$104=19,ROUND($K$15,0),\"\")&\"\"","v":""},{"$f":"IF($L$104=19,ROUND($L$15,0),\"\")&\"\"","v":""},{"$f":"IF($M$104=19,ROUND($M$15,0),\"\")&\"\"","v":""},{"$f":"IF($N$104=19,ROUND($N$15,0),\"\")&\"\"","v":""},{"$f":"IF($O$104=19,ROUND($O$15,0),\"\")&\"\"","v":""},{"$f":"IF($P$104=19,ROUND($P$15,0),\"\")&\"\"","v":""},{"$f":"IF($Q$104=19,ROUND($Q$15,0),\"\")&\"\"","v":""},{"$f":"IF($R$104=19,ROUND($R$15,0),\"\")&\"\"","v":""},{"$f":"IF($S$104=19,ROUND($S$15,0),\"\")&\"\"","v":""},{"$f":"IF($T$104=19,ROUND($T$15,0),\"\")&\"\"","v":""},{"$f":"IF($U$104=19,ROUND($U$15,0),\"\")&\"\"","v":""},{"$f":"IF($V$104=19,ROUND($V$15,0),\"\")&\"\"","v":""},{"$f":"IF($W$104=19,ROUND($W$15,0),\"\")&\"\"","v":""},{"$f":"IF($X$104=19,ROUND($X$15,0),\"\")&\"\"","v":""},{"$f":"IF($Y$104=19,ROUND($Y$15,0),\"\")&\"\"","v":""},{"$f":"IF($Z$104=19,ROUND($Z$15,0),\"\")&\"\"","v":""},{"$f":"IF($AA$104=19,ROUND($AA$15,0),\"\")&\"\"","v":""},7]
[null,null,8,{"$f":"IF($D$105=19,ROUND($D$16,0),\"\")&\"\"","v":""},{"$f":"IF($E$105=19,ROUND($E$16,0),\"\")&\"\"","v":""},{"$f":"IF($F$105=19,ROUND($F$16,0),\"\")&\"\"","v":""},{"$f":"IF($G$105=19,ROUND($G$16,0),\"\")&\"\"","v":""},{"$f":"IF($H$105=19,ROUND($H$16,0),\"\")&\"\"","v":""},{"$f":"IF($I$105=19,ROUND($I$16,0),\"\")&\"\"","v":""},{"$f":"IF($J$105=19,ROUND($J$16,0),\"\")&\"\"","v":""},{"$f":"IF($K$105=19,ROUND($K$16,0),\"\")&\"\"","v":""},{"$f":"IF($L$105=19,ROUND($L$16,0),\"\")&\"\"","v":""},{"$f":"IF($M$105=19,ROUND($M$16,0),\"\")&\"\"","v":""},{"$f":"IF($N$105=19,ROUND($N$16,0),\"\")&\"\"","v":""},{"$f":"IF($O$105=19,ROUND($O$16,0),\"\")&\"\"","v":""},{"$f":"IF($P$105=19,ROUND($P$16,0),\"\")&\"\"","v":""},{"$f":"IF($Q$105=19,ROUND($Q$16,0),\"\")&\"\"","v":""},{"$f":"IF($R$105=19,ROUND($R$16,0),\"\")&\"\"","v":""},{"$f":"IF($S$105=19,ROUND($S$16,0),\"\")&\"\"","v":""},{"$f":"IF($T$105=19,ROUND($T$16,0),\"\")&\"\"","v":""},{"$f":"IF($U$105=19,ROUND($U$16,0),\"\")&\"\"","v":""},{"$f":"IF($V$105=19,ROUND($V$16,0),\"\")&\"\"","v":""},{"$f":"IF($W$105=19,ROUND($W$16,0),\"\")&\"\"","v":""},{"$f":"IF($X$105=19,ROUND($X$16,0),\"\")&\"\"","v":""},{"$f":"IF($Y$105=19,ROUND($Y$16,0),\"\")&\"\"","v":""},{"$f":"IF($Z$105=19,ROUND($Z$16,0),\"\")&\"\"","v":""},{"$f":"IF($AA$105=19,ROUND($AA$16,0),\"\")&\"\"","v":""},8]
[null,null,9,{"$f":"IF($D$106=19,ROUND($D$17,0),\"\")&\"\"","v":""},{"$f":"IF($E$106=19,ROUND($E$17,0),\"\")&\"\"","v":""},{"$f":"IF($F$106=19,ROUND($F$17,0),\"\")&\"\"","v":""},{"$f":"IF($G$106=19,ROUND($G$17,0),\"\")&\"\"","v":""},{"$f":"IF($H$106=19,ROUND($H$17,0),\"\")&\"\"","v":""},{"$f":"IF($I$106=19,ROUND($I$17,0),\"\")&\"\"","v":""},{"$f":"IF($J$106=19,ROUND($J$17,0),\"\")&\"\"","v":""},{"$f":"IF($K$106=19,ROUND($K$17,0),\"\")&\"\"","v":""},{"$f":"IF($L$106=19,ROUND($L$17,0),\"\")&\"\"","v":""},{"$f":"IF($M$106=19,ROUND($M$17,0),\"\")&\"\"","v":""},{"$f":"IF($N$106=19,ROUND($N$17,0),\"\")&\"\"","v":""},{"$f":"IF($O$106=19,ROUND($O$17,0),\"\")&\"\"","v":""},{"$f":"IF($P$106=19,ROUND($P$17,0),\"\")&\"\"","v":""},{"$f":"IF($Q$106=19,ROUND($Q$17,0),\"\")&\"\"","v":""},{"$f":"IF($R$106=19,ROUND($R$17,0),\"\")&\"\"","v":""},{"$f":"IF($S$106=19,ROUND($S$17,0),\"\")&\"\"","v":""},{"$f":"IF($T$106=19,ROUND($T$17,0),\"\")&\"\"","v":""},{"$f":"IF($U$106=19,ROUND($U$17,0),\"\")&\"\"","v":""},{"$f":"IF($V$106=19,ROUND($V$17,0),\"\")&\"\"","v":""},{"$f":"IF($W$106=19,ROUND($W$17,0),\"\")&\"\"","v":""},{"$f":"IF($X$106=19,ROUND($X$17,0),\"\")&\"\"","v":""},{"$f":"IF($Y$106=19,ROUND($Y$17,0),\"\")&\"\"","v":""},{"$f":"IF($Z$106=19,ROUND($Z$17,0),\"\")&\"\"","v":""},{"$f":"IF($AA$106=19,ROUND($AA$17,0),\"\")&\"\"","v":""},9]
[null,null,10,{"$f":"IF($D$107=19,ROUND($D$18,0),\"\")&\"\"","v":""},{"$f":"IF($E$107=19,ROUND($E$18,0),\"\")&\"\"","v":""},{"$f":"IF($F$107=19,ROUND($F$18,0),\"\")&\"\"","v":""},{"$f":"IF($G$107=19,ROUND($G$18,0),\"\")&\"\"","v":""},{"$f":"IF($H$107=19,ROUND($H$18,0),\"\")&\"\"","v":""},{"$f":"IF($I$107=19,ROUND($I$18,0),\"\")&\"\"","v":""},{"$f":"IF($J$107=19,ROUND($J$18,0),\"\")&\"\"","v":""},{"$f":"IF($K$107=19,ROUND($K$18,0),\"\")&\"\"","v":""},{"$f":"IF($L$107=19,ROUND($L$18,0),\"\")&\"\"","v":""},{"$f":"IF($M$107=19,ROUND($M$18,0),\"\")&\"\"","v":""},{"$f":"IF($N$107=19,ROUND($N$18,0),\"\")&\"\"","v":""},{"$f":"IF($O$107=19,ROUND($O$18,0),\"\")&\"\"","v":""},{"$f":"IF($P$107=19,ROUND($P$18,0),\"\")&\"\"","v":""},{"$f":"IF($Q$107=19,ROUND($Q$18,0),\"\")&\"\"","v":""},{"$f":"IF($R$107=19,ROUND($R$18,0),\"\")&\"\"","v":""},{"$f":"IF($S$107=19,ROUND($S$18,0),\"\")&\"\"","v":""},{"$f":"IF($T$107=19,ROUND($T$18,0),\"\")&\"\"","v":""},{"$f":"IF($U$107=19,ROUND($U$18,0),\"\")&\"\"","v":""},{"$f":"IF($V$107=19,ROUND($V$18,0),\"\")&\"\"","v":""},{"$f":"IF($W$107=19,ROUND($W$18,0),\"\")&\"\"","v":""},{"$f":"IF($X$107=19,ROUND($X$18,0),\"\")&\"\"","v":""},{"$f":"IF($Y$107=19,ROUND($Y$18,0),\"\")&\"\"","v":""},{"$f":"IF($Z$107=19,ROUND($Z$18,0),\"\")&\"\"","v":""},{"$f":"IF($AA$107=19,ROUND($AA$18,0),\"\")&\"\"","v":""},10]
[null,null,11,{"$f":"IF($D$108=19,ROUND($D$19,0),\"\")&\"\"","v":""},{"$f":"IF($E$108=19,ROUND($E$19,0),\"\")&\"\"","v":""},{"$f":"IF($F$108=19,ROUND($F$19,0),\"\")&\"\"","v":""},{"$f":"IF($G$108=19,ROUND($G$19,0),\"\")&\"\"","v":""},{"$f":"IF($H$108=19,ROUND($H$19,0),\"\")&\"\"","v":""},{"$f":"IF($I$108=19,ROUND($I$19,0),\"\")&\"\"","v":""},{"$f":"IF($J$108=19,ROUND($J$19,0),\"\")&\"\"","v":""},{"$f":"IF($K$108=19,ROUND($K$19,0),\"\")&\"\"","v":""},{"$f":"IF($L$108=19,ROUND($L$19,0),\"\")&\"\"","v":""},{"$f":"IF($M$108=19,ROUND($M$19,0),\"\")&\"\"","v":""},{"$f":"IF($N$108=19,ROUND($N$19,0),\"\")&\"\"","v":""},{"$f":"IF($O$108=19,ROUND($O$19,0),\"\")&\"\"","v":""},{"$f":"IF($P$108=19,ROUND($P$19,0),\"\")&\"\"","v":""},{"$f":"IF($Q$108=19,ROUND($Q$19,0),\"\")&\"\"","v":""},{"$f":"IF($R$108=19,ROUND($R$19,0),\"\")&\"\"","v":""},{"$f":"IF($S$108=19,ROUND($S$19,0),\"\")&\"\"","v":""},{"$f":"IF($T$108=19,ROUND($T$19,0),\"\")&\"\"","v":""},{"$f":"IF($U$108=19,ROUND($U$19,0),\"\")&\"\"","v":""},{"$f":"IF($V$108=19,ROUND($V$19,0),\"\")&\"\"","v":""},{"$f":"IF($W$108=19,ROUND($W$19,0),\"\")&\"\"","v":""},{"$f":"IF($X$108=19,ROUND($X$19,0),\"\")&\"\"","v":""},{"$f":"IF($Y$108=19,ROUND($Y$19,0),\"\")&\"\"","v":""},{"$f":"IF($Z$108=19,ROUND($Z$19,0),\"\")&\"\"","v":""},{"$f":"IF($AA$108=19,ROUND($AA$19,0),\"\")&\"\"","v":""},11]
[null,null,12,{"$f":"IF($D$109=19,ROUND($D$20,0),\"\")&\"\"","v":""},{"$f":"IF($E$109=19,ROUND($E$20,0),\"\")&\"\"","v":""},{"$f":"IF($F$109=19,ROUND($F$20,0),\"\")&\"\"","v":""},{"$f":"IF($G$109=19,ROUND($G$20,0),\"\")&\"\"","v":""},{"$f":"IF($H$109=19,ROUND($H$20,0),\"\")&\"\"","v":""},{"$f":"IF($I$109=19,ROUND($I$20,0),\"\")&\"\"","v":""},{"$f":"IF($J$109=19,ROUND($J$20,0),\"\")&\"\"","v":""},{"$f":"IF($K$109=19,ROUND($K$20,0),\"\")&\"\"","v":""},{"$f":"IF($L$109=19,ROUND($L$20,0),\"\")&\"\"","v":""},{"$f":"IF($M$109=19,ROUND($M$20,0),\"\")&\"\"","v":""},{"$f":"IF($N$109=19,ROUND($N$20,0),\"\")&\"\"","v":""},{"$f":"IF($O$109=19,ROUND($O$20,0),\"\")&\"\"","v":""},{"$f":"IF($P$109=19,ROUND($P$20,0),\"\")&\"\"","v":""},{"$f":"IF($Q$109=19,ROUND($Q$20,0),\"\")&\"\"","v":""},{"$f":"IF($R$109=19,ROUND($R$20,0),\"\")&\"\"","v":""},{"$f":"IF($S$109=19,ROUND($S$20,0),\"\")&\"\"","v":""},{"$f":"IF($T$109=19,ROUND($T$20,0),\"\")&\"\"","v":""},{"$f":"IF($U$109=19,ROUND($U$20,0),\"\")&\"\"","v":""},{"$f":"IF($V$109=19,ROUND($V$20,0),\"\")&\"\"","v":""},{"$f":"IF($W$109=19,ROUND($W$20,0),\"\")&\"\"","v":""},{"$f":"IF($X$109=19,ROUND($X$20,0),\"\")&\"\"","v":""},{"$f":"IF($Y$109=19,ROUND($Y$20,0),\"\")&\"\"","v":""},{"$f":"IF($Z$109=19,ROUND($Z$20,0),\"\")&\"\"","v":""},{"$f":"IF($AA$109=19,ROUND($AA$20,0),\"\")&\"\"","v":""},12]
[null,null,1,{"$f":"IF($D$110=19,ROUND($D$21,0),\"\")&\"\"","v":""},{"$f":"IF($E$110=19,ROUND($E$21,0),\"\")&\"\"","v":""},{"$f":"IF($F$110=19,ROUND($F$21,0),\"\")&\"\"","v":""},{"$f":"IF($G$110=19,ROUND($G$21,0),\"\")&\"\"","v":""},{"$f":"IF($H$110=19,ROUND($H$21,0),\"\")&\"\"","v":""},{"$f":"IF($I$110=19,ROUND($I$21,0),\"\")&\"\"","v":""},{"$f":"IF($J$110=19,ROUND($J$21,0),\"\")&\"\"","v":""},{"$f":"IF($K$110=19,ROUND($K$21,0),\"\")&\"\"","v":""},{"$f":"IF($L$110=19,ROUND($L$21,0),\"\")&\"\"","v":""},{"$f":"IF($M$110=19,ROUND($M$21,0),\"\")&\"\"","v":""},{"$f":"IF($N$110=19,ROUND($N$21,0),\"\")&\"\"","v":""},{"$f":"IF($O$110=19,ROUND($O$21,0),\"\")&\"\"","v":""},{"$f":"IF($P$110=19,ROUND($P$21,0),\"\")&\"\"","v":""},{"$f":"IF($Q$110=19,ROUND($Q$21,0),\"\")&\"\"","v":""},{"$f":"IF($R$110=19,ROUND($R$21,0),\"\")&\"\"","v":""},{"$f":"IF($S$110=19,ROUND($S$21,0),\"\")&\"\"","v":""},{"$f":"IF($T$110=19,ROUND($T$21,0),\"\")&\"\"","v":""},{"$f":"IF($U$110=19,ROUND($U$21,0),\"\")&\"\"","v":""},{"$f":"IF($V$110=19,ROUND($V$21,0),\"\")&\"\"","v":""},{"$f":"IF($W$110=19,ROUND($W$21,0),\"\")&\"\"","v":""},{"$f":"IF($X$110=19,ROUND($X$21,0),\"\")&\"\"","v":""},{"$f":"IF($Y$110=19,ROUND($Y$21,0),\"\")&\"\"","v":""},{"$f":"IF($Z$110=19,ROUND($Z$21,0),\"\")&\"\"","v":""},{"$f":"IF($AA$110=19,ROUND($AA$21,0),\"\")&\"\"","v":""},1]
[null,null,2,{"$f":"IF($D$111=19,ROUND($D$22,0),\"\")&\"\"","v":""},{"$f":"IF($E$111=19,ROUND($E$22,0),\"\")&\"\"","v":""},{"$f":"IF($F$111=19,ROUND($F$22,0),\"\")&\"\"","v":""},{"$f":"IF($G$111=19,ROUND($G$22,0),\"\")&\"\"","v":""},{"$f":"IF($H$111=19,ROUND($H$22,0),\"\")&\"\"","v":""},{"$f":"IF($I$111=19,ROUND($I$22,0),\"\")&\"\"","v":""},{"$f":"IF($J$111=19,ROUND($J$22,0),\"\")&\"\"","v":""},{"$f":"IF($K$111=19,ROUND($K$22,0),\"\")&\"\"","v":""},{"$f":"IF($L$111=19,ROUND($L$22,0),\"\")&\"\"","v":""},{"$f":"IF($M$111=19,ROUND($M$22,0),\"\")&\"\"","v":""},{"$f":"IF($N$111=19,ROUND($N$22,0),\"\")&\"\"","v":""},{"$f":"IF($O$111=19,ROUND($O$22,0),\"\")&\"\"","v":""},{"$f":"IF($P$111=19,ROUND($P$22,0),\"\")&\"\"","v":""},{"$f":"IF($Q$111=19,ROUND($Q$22,0),\"\")&\"\"","v":""},{"$f":"IF($R$111=19,ROUND($R$22,0),\"\")&\"\"","v":""},{"$f":"IF($S$111=19,ROUND($S$22,0),\"\")&\"\"","v":""},{"$f":"IF($T$111=19,ROUND($T$22,0),\"\")&\"\"","v":""},{"$f":"IF($U$111=19,ROUND($U$22,0),\"\")&\"\"","v":""},{"$f":"IF($V$111=19,ROUND($V$22,0),\"\")&\"\"","v":""},{"$f":"IF($W$111=19,ROUND($W$22,0),\"\")&\"\"","v":""},{"$f":"IF($X$111=19,ROUND($X$22,0),\"\")&\"\"","v":""},{"$f":"IF($Y$111=19,ROUND($Y$22,0),\"\")&\"\"","v":""},{"$f":"IF($Z$111=19,ROUND($Z$22,0),\"\")&\"\"","v":""},{"$f":"IF($AA$111=19,ROUND($AA$22,0),\"\")&\"\"","v":""},2]
[null,null,3,{"$f":"IF($D$112=19,ROUND($D$23,0),\"\")&\"\"","v":""},{"$f":"IF($E$112=19,ROUND($E$23,0),\"\")&\"\"","v":""},{"$f":"IF($F$112=19,ROUND($F$23,0),\"\")&\"\"","v":""},{"$f":"IF($G$112=19,ROUND($G$23,0),\"\")&\"\"","v":""},{"$f":"IF($H$112=19,ROUND($H$23,0),\"\")&\"\"","v":""},{"$f":"IF($I$112=19,ROUND($I$23,0),\"\")&\"\"","v":""},{"$f":"IF($J$112=19,ROUND($J$23,0),\"\")&\"\"","v":""},{"$f":"IF($K$112=19,ROUND($K$23,0),\"\")&\"\"","v":""},{"$f":"IF($L$112=19,ROUND($L$23,0),\"\")&\"\"","v":""},{"$f":"IF($M$112=19,ROUND($M$23,0),\"\")&\"\"","v":""},{"$f":"IF($N$112=19,ROUND($N$23,0),\"\")&\"\"","v":""},{"$f":"IF($O$112=19,ROUND($O$23,0),\"\")&\"\"","v":""},{"$f":"IF($P$112=19,ROUND($P$23,0),\"\")&\"\"","v":""},{"$f":"IF($Q$112=19,ROUND($Q$23,0),\"\")&\"\"","v":""},{"$f":"IF($R$112=19,ROUND($R$23,0),\"\")&\"\"","v":""},{"$f":"IF($S$112=19,ROUND($S$23,0),\"\")&\"\"","v":""},{"$f":"IF($T$112=19,ROUND($T$23,0),\"\")&\"\"","v":""},{"$f":"IF($U$112=19,ROUND($U$23,0),\"\")&\"\"","v":""},{"$f":"IF($V$112=19,ROUND($V$23,0),\"\")&\"\"","v":""},{"$f":"IF($W$112=19,ROUND($W$23,0),\"\")&\"\"","v":""},{"$f":"IF($X$112=19,ROUND($X$23,0),\"\")&\"\"","v":""},{"$f":"IF($Y$112=19,ROUND($Y$23,0),\"\")&\"\"","v":""},{"$f":"IF($Z$112=19,ROUND($Z$23,0),\"\")&\"\"","v":""},{"$f":"IF($AA$112=19,ROUND($AA$23,0),\"\")&\"\"","v":""},3]
[]
[null,null,"冷却期間中　外気温度(T)が発生する時間[hour]"]
[null,null,null," 外気温度(T)",null,null,null,null,null,null,null,null,null,null,null,null,null,null,null,null,null,null,null,null,null,null,null,null,null,null,null,null,null,null,null,null,null,null,null,null,null,null,null,null,null,null,"月単位","共通","共通","前1",null,null,"前2",null,null,"前3",null,null,null,"後1",null,null,"後2",null,null,"後3"]
[null,null,"月",-6,-5,-4,-3,-2,-1,0,1,2,3,4,5,6,7,8,9,10,11,12,13,14,15,16,17,18,19,20,21,22,23,24,25,26,27,28,29,30,31,32,33,34,35,"月",null,"EccのΣ","EaxcのΣ","Ecc","Eaxc","Ec","Ecc","Eaxc","Ec","Ecc","Eaxc","Ec",null,"Ecc","Eaxc","Ec","Ecc","Eaxc","Ec","Ecc","Eaxc","Ec"]
[null,null,4,{"$f":"COUNTIF($D$117:$AA$117,$D$148)*$AB$12","v":0},{"$f":"COUNTIF($D$117:$AA$117,$E$148)*$AB$12","v":0},{"$f":"COUNTIF($D$117:$AA$117,$F$148)*$AB$12","v":0},{"$f":"COUNTIF($D$117:$AA$117,$G$148)*$AB$12","v":0},{"$f":"COUNTIF($D$117:$AA$117,$H$148)*$AB$12","v":0},{"$f":"COUNTIF($D$117:$AA$117,$I$148)*$AB$12","v":0},{"$f":"COUNTIF($D$117:$AA$117,$J$148)*$AB$12","v":0},{"$f":"COUNTIF($D$117:$AA$117,$K$148)*$AB$12","v":0},{"$f":"COUNTIF($D$117:$AA$117,$L$148)*$AB$12","v":0},{"$f":"COUNTIF($D$117:$AA$117,$M$148)*$AB$12","v":0},{"$f":"COUNTIF($D$117:$AA$117,$N$148)*$AB$12","v":0},{"$f":"COUNTIF($D$117:$AA$117,$O$148)*$AB$12","v":0},{"$f":"COUNTIF($D$117:$AA$117,$P$148)*$AB$12","v":0},{"$f":"COUNTIF($D$117:$AA$117,$Q$148)*$AB$12","v":0},{"$f":"COUNTIF($D$117:$AA$117,$R$148)*$AB$12","v":0},{"$f":"COUNTIF($D$117:$AA$117,$S$148)*$AB$12","v":0},{"$f":"COUNTIF($D$117:$AA$117,$T$148)*$AB$12","v":0},{"$f":"COUNTIF($D$117:$AA$117,$U$148)*$AB$12","v":0},{"$f":"COUNTIF($D$117:$AA$117,$V$148)*$AB$12","v":0},{"$f":"COUNTIF($D$117:$AA$117,$W$148)*$AB$12","v":0},{"$f":"COUNTIF($D$117:$AA$117,$X$148)*$AB$12","v":0},{"$f":"COUNTIF($D$117:$AA$117,$Y$148)*$AB$12","v":0},{"$f":"COUNTIF($D$117:$AA$117,$Z$148)*$AB$12","v":0},{"$f":"COUNTIF($D$117:$AA$117,$AA$148)*$AB$12","v":0},{"$f":"COUNTIF($D$117:$AA$117,$AB$148)*$AB$12","v":0},{"$f":"COUNTIF($D$117:$AA$117,$AC$148)*$AB$12","v":0},{"$f":"COUNTIF($D$117:$AA$117,$AD$148)*$AB$12","v":0},{"$f":"COUNTIF($D$117:$AA$117,$AE$148)*$AB$12","v":0},{"$f":"COUNTIF($D$117:$AA$117,$AF$148)*$AB$12","v":0},{"$f":"COUNTIF($D$117:$AA$117,$AG$148)*$AB$12","v":0},{"$f":"COUNTIF($D$117:$AA$117,$AH$148)*$AB$12","v":0},{"$f":"COUNTIF($D$117:$AA$117,$AI$148)*$AB$12","v":0},{"$f":"COUNTIF($D$117:$AA$117,$AJ$148)*$AB$12","v":0},{"$f":"COUNTIF($D$117:$AA$117,$AK$148)*$AB$12","v":0},{"$f":"COUNTIF($D$117:$AA$117,$AL$148)*$AB$12","v":0},{"$f":"COUNTIF($D$117:$AA$117,$AM$148)*$AB$12","v":0},{"$f":"COUNTIF($D$117:$AA$117,$AN$148)*$AB$12","v":0},{"$f":"COUNTIF($D$117:$AA$117,$AO$148)*$AB$12","v":0},{"$f":"COUNTIF($D$117:$AA$117,$AP$148)*$AB$12","v":0},{"$f":"COUNTIF($D$117:$AA$117,$AQ$148)*$AB$12","v":0},{"$f":"COUNTIF($D$117:$AA$117,$AR$148)*$AB$12","v":0},{"$f":"COUNTIF($D$117:$AA$117,$AS$148)*$AB$12","v":0},4,null,{"$f":"SUMPRODUCT(D149:AS149,$D$162:$AS$162)","v":0},{"$f":"SUMPRODUCT(D149:AS149,$D$189:$AS$189)","v":0},{"$f":"$Q$29/($C$7*$Q$32)*$AV149","v":{"$error":"#VALUE!"}},{"$f":"$Q$36*$AW149","v":0},{"$f":"SUM(AX149:AY149)","v":{"$error":"#VALUE!"}},{"$f":"$R$29/($C$7*$R$32)*$AV149","v":{"$error":"#VALUE!"}},{"$f":"$R$36*$AW149","v":0},{"$f":"SUM(BA149:BB149)","v":{"$error":"#VALUE!"}},{"$f":"$S$29/($C$7*$S$32)*$AV149","v":{"$error":"#VALUE!"}},{"$f":"$S$36*$AW149","v":0},{"$f":"SUM(BD149:BE149)","v":{"$error":"#VALUE!"}},null,{"$f":"$Q$43/($C$7*$Q$46)*$AV149","v":{"$error":"#VALUE!"}},{"$f":"$Q$50*$AW149","v":0},{"$f":"SUM(BH149:BI149)","v":{"$error":"#VALUE!"}},{"$f":"$R$43/($C$7*$R$46)*$AV149","v":{"$error":"#VALUE!"}},{"$f":"$R$50*$AW149","v":0},{"$f":"SUM(BK149:BL149)","v":{"$error":"#VALUE!"}},{"$f":"$S$43/($C$7*$S$46)*$AV149","v":{"$error":"#VALUE!"}},{"$f":"$S$50*$AW149","v":0},{"$f":"SUM(BN149:BO149)","v":{"$error":"#VALUE!"}}]
[null,null,5,{"$f":"COUNTIF($D$118:$AA$118,$D$148)*$AB$13","v":0},{"$f":"COUNTIF($D$118:$AA$118,$E$148)*$AB$13","v":0},{"$f":"COUNTIF($D$118:$AA$118,$F$148)*$AB$13","v":0},{"$f":"COUNTIF($D$118:$AA$118,$G$148)*$AB$13","v":0},{"$f":"COUNTIF($D$118:$AA$118,$H$148)*$AB$13","v":0},{"$f":"COUNTIF($D$118:$AA$118,$I$148)*$AB$13","v":0},{"$f":"COUNTIF($D$118:$AA$118,$J$148)*$AB$13","v":0},{"$f":"COUNTIF($D$118:$AA$118,$K$148)*$AB$13","v":0},{"$f":"COUNTIF($D$118:$AA$118,$L$148)*$AB$13","v":0},{"$f":"COUNTIF($D$118:$AA$118,$M$148)*$AB$13","v":0},{"$f":"COUNTIF($D$118:$AA$118,$N$148)*$AB$13","v":0},{"$f":"COUNTIF($D$118:$AA$118,$O$148)*$AB$13","v":0},{"$f":"COUNTIF($D$118:$AA$118,$P$148)*$AB$13","v":0},{"$f":"COUNTIF($D$118:$AA$118,$Q$148)*$AB$13","v":0},{"$f":"COUNTIF($D$118:$AA$118,$R$148)*$AB$13","v":0},{"$f":"COUNTIF($D$118:$AA$118,$S$148)*$AB$13","v":0},{"$f":"COUNTIF($D$118:$AA$118,$T$148)*$AB$13","v":0},{"$f":"COUNTIF($D$118:$AA$118,$U$148)*$AB$13","v":0},{"$f":"COUNTIF($D$118:$AA$118,$V$148)*$AB$13","v":0},{"$f":"COUNTIF($D$118:$AA$118,$W$148)*$AB$13","v":0},{"$f":"COUNTIF($D$118:$AA$118,$X$148)*$AB$13","v":0},{"$f":"COUNTIF($D$118:$AA$118,$Y$148)*$AB$13","v":0},{"$f":"COUNTIF($D$118:$AA$118,$Z$148)*$AB$13","v":0},{"$f":"COUNTIF($D$118:$AA$118,$AA$148)*$AB$13","v":0},{"$f":"COUNTIF($D$118:$AA$118,$AB$148)*$AB$13","v":0},{"$f":"COUNTIF($D$118:$AA$118,$AC$148)*$AB$13","v":0},{"$f":"COUNTIF($D$118:$AA$118,$AD$148)*$AB$13","v":0},{"$f":"COUNTIF($D$118:$AA$118,$AE$148)*$AB$13","v":0},{"$f":"COUNTIF($D$118:$AA$118,$AF$148)*$AB$13","v":0},{"$f":"COUNTIF($D$118:$AA$118,$AG$148)*$AB$13","v":0},{"$f":"COUNTIF($D$118:$AA$118,$AH$148)*$AB$13","v":0},{"$f":"COUNTIF($D$118:$AA$118,$AI$148)*$AB$13","v":0},{"$f":"COUNTIF($D$118:$AA$118,$AJ$148)*$AB$13","v":0},{"$f":"COUNTIF($D$118:$AA$118,$AK$148)*$AB$13","v":0},{"$f":"COUNTIF($D$118:$AA$118,$AL$148)*$AB$13","v":0},{"$f":"COUNTIF($D$118:$AA$118,$AM$148)*$AB$13","v":0},{"$f":"COUNTIF($D$118:$AA$118,$AN$148)*$AB$13","v":0},{"$f":"COUNTIF($D$118:$AA$118,$AO$148)*$AB$13","v":0},{"$f":"COUNTIF($D$118:$AA$118,$AP$148)*$AB$13","v":0},{"$f":"COUNTIF($D$118:$AA$118,$AQ$148)*$AB$13","v":0},{"$f":"COUNTIF($D$118:$AA$118,$AR$148)*$AB$13","v":0},{"$f":"COUNTIF($D$118:$AA$118,$AS$148)*$AD$13","v":0},5,null,{"$f":"SUMPRODUCT(D150:AS150,$D$162:$AS$162)","v":0},{"$f":"SUMPRODUCT(D150:AS150,$D$189:$AS$189)","v":0},{"$f":"$Q$29/($C$7*$Q$32)*$AV150","v":{"$error":"#VALUE!"}},{"$f":"$Q$36*$AW150","v":0},{"$f":"SUM(AX150:AY150)","v":{"$error":"#VALUE!"}},{"$f":"$R$29/($C$7*$R$32)*$AV150","v":{"$error":"#VALUE!"}},{"$f":"$R$36*$AW150","v":0},{"$f":"SUM(BA150:BB150)","v":{"$error":"#VALUE!"}},{"$f":"$S$29/($C$7*$S$32)*$AV150","v":{"$error":"#VALUE!"}},{"$f":"$S$36*$AW150","v":0},{"$f":"SUM(BD150:BE150)","v":{"$error":"#VALUE!"}},null,{"$f":"$Q$43/($C$7*$Q$46)*$AV150","v":{"$error":"#VALUE!"}},{"$f":"$Q$50*$AW150","v":0},{"$f":"SUM(BH150:BI150)","v":{"$error":"#VALUE!"}},{"$f":"$R$43/($C$7*$R$46)*$AV150","v":{"$error":"#VALUE!"}},{"$f":"$R$50*$AW150","v":0},{"$f":"SUM(BK150:BL150)","v":{"$error":"#VALUE!"}},{"$f":"$S$43/($C$7*$S$46)*$AV150","v":{"$error":"#VALUE!"}},{"$f":"$S$50*$AW150","v":0},{"$f":"SUM(BN150:BO150)","v":{"$error":"#VALUE!"}}]
[null,null,6,{"$f":"COUNTIF($D$119:$AA$119,$D$148)*$AB$14","v":0},{"$f":"COUNTIF($D$119:$AA$119,$E$148)*$AB$14","v":0},{"$f":"COUNTIF($D$119:$AA$119,$F$148)*$AB$14","v":0},{"$f":"COUNTIF($D$119:$AA$119,$G$148)*$AB$14","v":0},{"$f":"COUNTIF($D$119:$AA$119,$H$148)*$AB$14","v":0},{"$f":"COUNTIF($D$119:$AA$119,$I$148)*$AB$14","v":0},{"$f":"COUNTIF($D$119:$AA$119,$J$148)*$AB$14","v":0},{"$f":"COUNTIF($D$119:$AA$119,$K$148)*$AB$14","v":0},{"$f":"COUNTIF($D$119:$AA$119,$L$148)*$AB$14","v":0},{"$f":"COUNTIF($D$119:$AA$119,$M$148)*$AB$14","v":0},{"$f":"COUNTIF($D$119:$AA$119,$N$148)*$AB$14","v":0},{"$f":"COUNTIF($D$119:$AA$119,$O$148)*$AB$14","v":0},{"$f":"COUNTIF($D$119:$AA$119,$P$148)*$AB$14","v":0},{"$f":"COUNTIF($D$119:$AA$119,$Q$148)*$AB$14","v":0},{"$f":"COUNTIF($D$119:$AA$119,$R$148)*$AB$14","v":0},{"$f":"COUNTIF($D$119:$AA$119,$S$148)*$AB$14","v":0},{"$f":"COUNTIF($D$119:$AA$119,$T$148)*$AB$14","v":0},{"$f":"COUNTIF($D$119:$AA$119,$U$148)*$AB$14","v":0},{"$f":"COUNTIF($D$119:$AA$119,$V$148)*$AB$14","v":0},{"$f":"COUNTIF($D$119:$AA$119,$W$148)*$AB$14","v":0},{"$f":"COUNTIF($D$119:$AA$119,$X$148)*$AB$14","v":0},{"$f":"COUNTIF($D$119:$AA$119,$Y$148)*$AB$14","v":0},{"$f":"COUNTIF($D$119:$AA$119,$Z$148)*$AB$14","v":0},{"$f":"COUNTIF($D$119:$AA$119,$AA$148)*$AB$14","v":0},{"$f":"COUNTIF($D$119:$AA$119,$AB$148)*$AB$14","v":0},{"$f":"COUNTIF($D$119:$AA$119,$AC$148)*$AB$14","v":0},{"$f":"COUNTIF($D$119:$AA$119,$AD$148)*$AB$14","v":0},{"$f":"COUNTIF($D$119:$AA$119,$AE$148)*$AB$14","v":0},{"$f":"COUNTIF($D$119:$AA$119,$AF$148)*$AB$14","v":0},{"$f":"COUNTIF($D$119:$AA$119,$AG$148)*$AB$14","v":0},{"$f":"COUNTIF($D$119:$AA$119,$AH$148)*$AB$14","v":0},{"$f":"COUNTIF($D$119:$AA$119,$AI$148)*$AB$14","v":0},{"$f":"COUNTIF($D$119:$AA$119,$AJ$148)*$AB$14","v":0},{"$f":"COUNTIF($D$119:$AA$119,$AK$148)*$AB$14","v":0},{"$f":"COUNTIF($D$119:$AA$119,$AL$148)*$AB$14","v":0},{"$f":"COUNTIF($D$119:$AA$119,$AM$148)*$AB$14","v":0},{"$f":"COUNTIF($D$119:$AA$119,$AN$148)*$AB$14","v":0},{"$f":"COUNTIF($D$119:$AA$119,$AO$148)*$AB$14","v":0},{"$f":"COUNTIF($D$119:$AA$119,$AP$148)*$AB$14","v":0},{"$f":"COUNTIF($D$119:$AA$119,$AQ$148)*$AB$14","v":0},{"$f":"COUNTIF($D$119:$AA$119,$AR$148)*$AB$14","v":0},{"$f":"COUNTIF($D$119:$AA$119,$AS$148)*$AB$14","v":0},6,null,0,0,{"$error":"#VALUE!"},0,{"$error":"#VALUE!"},{"$error":"#VALUE!"},0,{"$error":"#VALUE!"},{"$error":"#VALUE!"},0,{"$error":"#VALUE!"},null,{"$error":"#VALUE!"},0,{"$error":"#VALUE!"},{"$error":"#VALUE!"},0,{"$error":"#VALUE!"},{"$error":"#VALUE!"},0,{"$error":"#VALUE!"}]
[null,null,7,{"$f":"COUNTIF($D$120:$AA$120,$D$148)*$AB$15","v":0},{"$f":"COUNTIF($D$120:$AA$120,$E$148)*$AB$15","v":0},{"$f":"COUNTIF($D$120:$AA$120,$F$148)*$AB$15","v":0},{"$f":"COUNTIF($D$120:$AA$120,$G$148)*$AB$15","v":0},{"$f":"COUNTIF($D$120:$AA$120,$H$148)*$AB$15","v":0},{"$f":"COUNTIF($D$120:$AA$120,$I$148)*$AB$15","v":0},{"$f":"COUNTIF($D$120:$AA$120,$J$148)*$AB$15","v":0},{"$f":"COUNTIF($D$120:$AA$120,$K$148)*$AB$15","v":0},{"$f":"COUNTIF($D$120:$AA$120,$L$148)*$AB$15","v":0},{"$f":"COUNTIF($D$120:$AA$120,$M$148)*$AB$15","v":0},{"$f":"COUNTIF($D$120:$AA$120,$N$148)*$AB$15","v":0},{"$f":"COUNTIF($D$120:$AA$120,$O$148)*$AB$15","v":0},{"$f":"COUNTIF($D$120:$AA$120,$P$148)*$AB$15","v":0},{"$f":"COUNTIF($D$120:$AA$120,$Q$148)*$AB$15","v":0},{"$f":"COUNTIF($D$120:$AA$120,$R$148)*$AB$15","v":0},{"$f":"COUNTIF($D$120:$AA$120,$S$148)*$AB$15","v":0},{"$f":"COUNTIF($D$120:$AA$120,$T$148)*$AB$15","v":0},{"$f":"COUNTIF($D$120:$AA$120,$U$148)*$AB$15","v":0},{"$f":"COUNTIF($D$120:$AA$120,$V$148)*$AB$15","v":0},{"$f":"COUNTIF($D$120:$AA$120,$W$148)*$AB$15","v":0},{"$f":"COUNTIF($D$120:$AA$120,$X$148)*$AB$15","v":0},{"$f":"COUNTIF($D$120:$AA$120,$Y$148)*$AB$15","v":0},{"$f":"COUNTIF($D$120:$AA$120,$Z$148)*$AB$15","v":0},{"$f":"COUNTIF($D$120:$AA$120,$AA$148)*$AB$15","v":0},{"$f":"COUNTIF($D$120:$AA$120,$AB$148)*$AB$15","v":0},{"$f":"COUNTIF($D$120:$AA$120,$AC$148)*$AB$15","v":0},{"$f":"COUNTIF($D$120:$AA$120,$AD$148)*$AB$15","v":0},{"$f":"COUNTIF($D$120:$AA$120,$AE$148)*$AB$15","v":0},{"$f":"COUNTIF($D$120:$AA$120,$AF$148)*$AB$15","v":0},{"$f":"COUNTIF($D$120:$AA$120,$AG$148)*$AB$15","v":0},{"$f":"COUNTIF($D$120:$AA$120,$AH$148)*$AB$15","v":0},{"$f":"COUNTIF($D$120:$AA$120,$AI$148)*$AB$15","v":0},{"$f":"COUNTIF($D$120:$AA$120,$AJ$148)*$AB$15","v":0},{"$f":"COUNTIF($D$120:$AA$120,$AK$148)*$AB$15","v":0},{"$f":"COUNTIF($D$120:$AA$120,$AL$148)*$AB$15","v":0},{"$f":"COUNTIF($D$120:$AA$120,$AM$148)*$AB$15","v":0},{"$f":"COUNTIF($D$120:$AA$120,$AN$148)*$AB$15","v":0},{"$f":"COUNTIF($D$120:$AA$120,$AO$148)*$AB$15","v":0},{"$f":"COUNTIF($D$120:$AA$120,$AP$148)*$AB$15","v":0},{"$f":"COUNTIF($D$120:$AA$120,$AQ$148)*$AB$15","v":0},{"$f":"COUNTIF($D$120:$AA$120,$AR$148)*$AB$15","v":0},{"$f":"COUNTIF($D$120:$AA$120,$AS$148)*$AB$15","v":0},7,null,0,0,{"$error":"#VALUE!"},0,{"$error":"#VALUE!"},{"$error":"#VALUE!"},0,{"$error":"#VALUE!"},{"$error":"#VALUE!"},0,{"$error":"#VALUE!"},null,{"$error":"#VALUE!"},0,{"$error":"#VALUE!"},{"$error":"#VALUE!"},0,{"$error":"#VALUE!"},{"$error":"#VALUE!"},0,{"$error":"#VALUE!"}]
[null,null,8,{"$f":"COUNTIF($D$121:$AA$121,$D$148)*$AB$16","v":0},{"$f":"COUNTIF($D$121:$AA$121,$E$148)*$AB$16","v":0},{"$f":"COUNTIF($D$121:$AA$121,$F$148)*$AB$16","v":0},{"$f":"COUNTIF($D$121:$AA$121,$G$148)*$AB$16","v":0},{"$f":"COUNTIF($D$121:$AA$121,$H$148)*$AB$16","v":0},{"$f":"COUNTIF($D$121:$AA$121,$I$148)*$AB$16","v":0},{"$f":"COUNTIF($D$121:$AA$121,$J$148)*$AB$16","v":0},{"$f":"COUNTIF($D$121:$AA$121,$K$148)*$AB$16","v":0},{"$f":"COUNTIF($D$121:$AA$121,$L$148)*$AB$16","v":0},{"$f":"COUNTIF($D$121:$AA$121,$M$148)*$AB$16","v":0},{"$f":"COUNTIF($D$121:$AA$121,$N$148)*$AB$16","v":0},{"$f":"COUNTIF($D$121:$AA$121,$O$148)*$AB$16","v":0},{"$f":"COUNTIF($D$121:$AA$121,$P$148)*$AB$16","v":0},{"$f":"COUNTIF($D$121:$AA$121,$Q$148)*$AB$16","v":0},{"$f":"COUNTIF($D$121:$AA$121,$R$148)*$AB$16","v":0},{"$f":"COUNTIF($D$121:$AA$121,$S$148)*$AB$16","v":0},{"$f":"COUNTIF($D$121:$AA$121,$T$148)*$AB$16","v":0},{"$f":"COUNTIF($D$121:$AA$121,$U$148)*$AB$16","v":0},{"$f":"COUNTIF($D$121:$AA$121,$V$148)*$AB$16","v":0},{"$f":"COUNTIF($D$121:$AA$121,$W$148)*$AB$16","v":0},{"$f":"COUNTIF($D$121:$AA$121,$X$148)*$AB$16","v":0},{"$f":"COUNTIF($D$121:$AA$121,$Y$148)*$AB$16","v":0},{"$f":"COUNTIF($D$121:$AA$121,$Z$148)*$AB$16","v":0},{"$f":"COUNTIF($D$121:$AA$121,$AA$148)*$AB$16","v":0},{"$f":"COUNTIF($D$121:$AA$121,$AB$148)*$AB$16","v":0},{"$f":"COUNTIF($D$121:$AA$121,$AC$148)*$AB$16","v":0},{"$f":"COUNTIF($D$121:$AA$121,$AD$148)*$AB$16","v":0},{"$f":"COUNTIF($D$121:$AA$121,$AE$148)*$AB$16","v":0},{"$f":"COUNTIF($D$121:$AA$121,$AF$148)*$AB$16","v":0},{"$f":"COUNTIF($D$121:$AA$121,$AG$148)*$AB$16","v":0},{"$f":"COUNTIF($D$121:$AA$121,$AH$148)*$AB$16","v":0},{"$f":"COUNTIF($D$121:$AA$121,$AI$148)*$AB$16","v":0},{"$f":"COUNTIF($D$121:$AA$121,$AJ$148)*$AB$16","v":0},{"$f":"COUNTIF($D$121:$AA$121,$AK$148)*$AB$16","v":0},{"$f":"COUNTIF($D$121:$AA$121,$AL$148)*$AB$16","v":0},{"$f":"COUNTIF($D$121:$AA$121,$AM$148)*$AB$16","v":0},{"$f":"COUNTIF($D$121:$AA$121,$AN$148)*$AB$16","v":0},{"$f":"COUNTIF($D$121:$AA$121,$AO$148)*$AB$16","v":0},{"$f":"COUNTIF($D$121:$AA$121,$AP$148)*$AB$16","v":0},{"$f":"COUNTIF($D$121:$AA$121,$AQ$148)*$AB$16","v":0},{"$f":"COUNTIF($D$121:$AA$121,$AR$148)*$AB$16","v":0},{"$f":"COUNTIF($D$121:$AA$121,$AS$148)*$AB$16","v":0},8,null,0,0,{"$error":"#VALUE!"},0,{"$error":"#VALUE!"},{"$error":"#VALUE!"},0,{"$error":"#VALUE!"},{"$error":"#VALUE!"},0,{"$error":"#VALUE!"},null,{"$error":"#VALUE!"},0,{"$error":"#VALUE!"},{"$error":"#VALUE!"},0,{"$error":"#VALUE!"},{"$error":"#VALUE!"},0,{"$error":"#VALUE!"}]
[null,null,9,{"$f":"COUNTIF($D$122:$AA$122,$D$148)*$AB$17","v":0},{"$f":"COUNTIF($D$122:$AA$122,$E$148)*$AB$17","v":0},{"$f":"COUNTIF($D$122:$AA$122,$F$148)*$AB$17","v":0},{"$f":"COUNTIF($D$122:$AA$122,$G$148)*$AB$17","v":0},{"$f":"COUNTIF($D$122:$AA$122,$H$148)*$AB$17","v":0},{"$f":"COUNTIF($D$122:$AA$122,$I$148)*$AB$17","v":0},{"$f":"COUNTIF($D$122:$AA$122,$J$148)*$AB$17","v":0},{"$f":"COUNTIF($D$122:$AA$122,$K$148)*$AB$17","v":0},{"$f":"COUNTIF($D$122:$AA$122,$L$148)*$AB$17","v":0},{"$f":"COUNTIF($D$122:$AA$122,$M$148)*$AB$17","v":0},{"$f":"COUNTIF($D$122:$AA$122,$N$148)*$AB$17","v":0},{"$f":"COUNTIF($D$122:$AA$122,$O$148)*$AB$17","v":0},{"$f":"COUNTIF($D$122:$AA$122,$P$148)*$AB$17","v":0},{"$f":"COUNTIF($D$122:$AA$122,$Q$148)*$AB$17","v":0},{"$f":"COUNTIF($D$122:$AA$122,$R$148)*$AB$17","v":0},{"$f":"COUNTIF($D$122:$AA$122,$S$148)*$AB$17","v":0},{"$f":"COUNTIF($D$122:$AA$122,$T$148)*$AB$17","v":0},{"$f":"COUNTIF($D$122:$AA$122,$U$148)*$AB$17","v":0},{"$f":"COUNTIF($D$122:$AA$122,$V$148)*$AB$17","v":0},{"$f":"COUNTIF($D$122:$AA$122,$W$148)*$AB$17","v":0},{"$f":"COUNTIF($D$122:$AA$122,$X$148)*$AB$17","v":0},{"$f":"COUNTIF($D$122:$AA$122,$Y$148)*$AB$17","v":0},{"$f":"COUNTIF($D$122:$AA$122,$Z$148)*$AB$17","v":0},{"$f":"COUNTIF($D$122:$AA$122,$AA$148)*$AB$17","v":0},{"$f":"COUNTIF($D$122:$AA$122,$AB$148)*$AB$17","v":0},{"$f":"COUNTIF($D$122:$AA$122,$AC$148)*$AB$17","v":0},{"$f":"COUNTIF($D$122:$AA$122,$AD$148)*$AB$17","v":0},{"$f":"COUNTIF($D$122:$AA$122,$AE$148)*$AB$17","v":0},{"$f":"COUNTIF($D$122:$AA$122,$AF$148)*$AB$17","v":0},{"$f":"COUNTIF($D$122:$AA$122,$AG$148)*$AB$17","v":0},{"$f":"COUNTIF($D$122:$AA$122,$AH$148)*$AB$17","v":0},{"$f":"COUNTIF($D$122:$AA$122,$AI$148)*$AB$17","v":0},{"$f":"COUNTIF($D$122:$AA$122,$AJ$148)*$AB$17","v":0},{"$f":"COUNTIF($D$122:$AA$122,$AK$148)*$AB$17","v":0},{"$f":"COUNTIF($D$122:$AA$122,$AL$148)*$AB$17","v":0},{"$f":"COUNTIF($D$122:$AA$122,$AM$148)*$AB$17","v":0},{"$f":"COUNTIF($D$122:$AA$122,$AN$148)*$AB$17","v":0},{"$f":"COUNTIF($D$122:$AA$122,$AO$148)*$AB$17","v":0},{"$f":"COUNTIF($D$122:$AA$122,$AP$148)*$AB$17","v":0},{"$f":"COUNTIF($D$122:$AA$122,$AQ$148)*$AB$17","v":0},{"$f":"COUNTIF($D$122:$AA$122,$AR$148)*$AB$17","v":0},{"$f":"COUNTIF($D$122:$AA$122,$AS$148)*$AB$17","v":0},9,null,0,0,{"$error":"#VALUE!"},0,{"$error":"#VALUE!"},{"$error":"#VALUE!"},0,{"$f":"SUM(BA154:BB154)","v":{"$error":"#VALUE!"}},{"$error":"#VALUE!"},{"$f":"$S$36*$AW154","v":0},{"$error":"#VALUE!"},null,{"$error":"#VALUE!"},0,{"$error":"#VALUE!"},{"$error":"#VALUE!"},0,{"$error":"#VALUE!"},{"$error":"#VALUE!"},0,{"$error":"#VALUE!"}]
[null,null,10,{"$f":"COUNTIF($D$123:$AA$123,$D$148)*$AB$18","v":0},{"$f":"COUNTIF($D$123:$AA$123,$E$148)*$AB$18","v":0},{"$f":"COUNTIF($D$123:$AA$123,$F$148)*$AB$18","v":0},{"$f":"COUNTIF($D$123:$AA$123,$G$148)*$AB$18","v":0},{"$f":"COUNTIF($D$123:$AA$123,$H$148)*$AB$18","v":0},{"$f":"COUNTIF($D$123:$AA$123,$I$148)*$AB$18","v":0},{"$f":"COUNTIF($D$123:$AA$123,$J$148)*$AB$18","v":0},{"$f":"COUNTIF($D$123:$AA$123,$K$148)*$AB$18","v":0},{"$f":"COUNTIF($D$123:$AA$123,$L$148)*$AB$18","v":0},{"$f":"COUNTIF($D$123:$AA$123,$M$148)*$AB$18","v":0},{"$f":"COUNTIF($D$123:$AA$123,$N$148)*$AB$18","v":0},{"$f":"COUNTIF($D$123:$AA$123,$O$148)*$AB$18","v":0},{"$f":"COUNTIF($D$123:$AA$123,$P$148)*$AB$18","v":0},{"$f":"COUNTIF($D$123:$AA$123,$Q$148)*$AB$18","v":0},{"$f":"COUNTIF($D$123:$AA$123,$R$148)*$AB$18","v":0},{"$f":"COUNTIF($D$123:$AA$123,$S$148)*$AB$18","v":0},{"$f":"COUNTIF($D$123:$AA$123,$T$148)*$AB$18","v":0},{"$f":"COUNTIF($D$123:$AA$123,$U$148)*$AB$18","v":0},{"$f":"COUNTIF($D$123:$AA$123,$V$148)*$AB$18","v":0},{"$f":"COUNTIF($D$123:$AA$123,$W$148)*$AB$18","v":0},{"$f":"COUNTIF($D$123:$AA$123,$X$148)*$AB$18","v":0},{"$f":"COUNTIF($D$123:$AA$123,$Y$148)*$AB$18","v":0},{"$f":"COUNTIF($D$123:$AA$123,$Z$148)*$AB$18","v":0},{"$f":"COUNTIF($D$123:$AA$123,$AA$148)*$AB$18","v":0},{"$f":"COUNTIF($D$123:$AA$123,$AB$148)*$AB$18","v":0},{"$f":"COUNTIF($D$123:$AA$123,$AC$148)*$AB$18","v":0},{"$f":"COUNTIF($D$123:$AA$123,$AD$148)*$AB$18","v":0},{"$f":"COUNTIF($D$123:$AA$123,$AE$148)*$AB$18","v":0},{"$f":"COUNTIF($D$123:$AA$123,$AF$148)*$AB$18","v":0},{"$f":"COUNTIF($D$123:$AA$123,$AG$148)*$AB$18","v":0},{"$f":"COUNTIF($D$123:$AA$123,$AH$148)*$AB$18","v":0},{"$f":"COUNTIF($D$123:$AA$123,$AI$148)*$AB$18","v":0},{"$f":"COUNTIF($D$123:$AA$123,$AJ$148)*$AB$18","v":0},{"$f":"COUNTIF($D$123:$AA$123,$AK$148)*$AB$18","v":0},{"$f":"COUNTIF($D$123:$AA$123,$AL$148)*$AB$18","v":0},{"$f":"COUNTIF($D$123:$AA$123,$AM$148)*$AB$18","v":0},{"$f":"COUNTIF($D$123:$AA$123,$AN$148)*$AB$18","v":0},{"$f":"COUNTIF($D$123:$AA$123,$AO$148)*$AB$18","v":0},{"$f":"COUNTIF($D$123:$AA$123,$AP$148)*$AB$18","v":0},{"$f":"COUNTIF($D$123:$AA$123,$AQ$148)*$AB$18","v":0},{"$f":"COUNTIF($D$123:$AA$123,$AR$148)*$AB$18","v":0},{"$f":"COUNTIF($D$123:$AA$123,$AS$148)*$AB$18","v":0},10,null,0,0,{"$error":"#VALUE!"},0,{"$error":"#VALUE!"},{"$error":"#VALUE!"},0,{"$error":"#VALUE!"},{"$error":"#VALUE!"},0,{"$error":"#VALUE!"},null,{"$error":"#VALUE!"},0,{"$error":"#VALUE!"},{"$error":"#VALUE!"},0,{"$error":"#VALUE!"},{"$error":"#VALUE!"},0,{"$error":"#VALUE!"}]
[null,null,11,{"$f":"COUNTIF($D$124:$AA$124,$D$148)*$AB$19","v":0},{"$f":"COUNTIF($D$124:$AA$124,$E$148)*$AB$19","v":0},{"$f":"COUNTIF($D$124:$AA$124,$F$148)*$AB$19","v":0},{"$f":"COUNTIF($D$124:$AA$124,$G$148)*$AB$19","v":0},{"$f":"COUNTIF($D$124:$AA$124,$H$148)*$AB$19","v":0},{"$f":"COUNTIF($D$124:$AA$124,$I$148)*$AB$19","v":0},{"$f":"COUNTIF($D$124:$AA$124,$J$148)*$AB$19","v":0},{"$f":"COUNTIF($D$124:$AA$124,$K$148)*$AB$19","v":0},{"$f":"COUNTIF($D$124:$AA$124,$L$148)*$AB$19","v":0},{"$f":"COUNTIF($D$124:$AA$124,$M$148)*$AB$19","v":0},{"$f":"COUNTIF($D$124:$AA$124,$N$148)*$AB$19","v":0},{"$f":"COUNTIF($D$124:$AA$124,$O$148)*$AB$19","v":0},{"$f":"COUNTIF($D$124:$AA$124,$P$148)*$AB$19","v":0},{"$f":"COUNTIF($D$124:$AA$124,$Q$148)*$AB$19","v":0},{"$f":"COUNTIF($D$124:$AA$124,$R$148)*$AB$19","v":0},{"$f":"COUNTIF($D$124:$AA$124,$S$148)*$AB$19","v":0},{"$f":"COUNTIF($D$124:$AA$124,$T$148)*$AB$19","v":0},{"$f":"COUNTIF($D$124:$AA$124,$U$148)*$AB$19","v":0},{"$f":"COUNTIF($D$124:$AA$124,$V$148)*$AB$19","v":0},{"$f":"COUNTIF($D$124:$AA$124,$W$148)*$AB$19","v":0},{"$f":"COUNTIF($D$124:$AA$124,$X$148)*$AB$19","v":0},{"$f":"COUNTIF($D$124:$AA$124,$Y$148)*$AB$19","v":0},{"$f":"COUNTIF($D$124:$AA$124,$Z$148)*$AB$19","v":0},{"$f":"COUNTIF($D$124:$AA$124,$AA$148)*$AB$19","v":0},{"$f":"COUNTIF($D$124:$AA$124,$AB$148)*$AB$19","v":0},{"$f":"COUNTIF($D$124:$AA$124,$AC$148)*$AB$19","v":0},{"$f":"COUNTIF($D$124:$AA$124,$AD$148)*$AB$19","v":0},{"$f":"COUNTIF($D$124:$AA$124,$AE$148)*$AB$19","v":0},{"$f":"COUNTIF($D$124:$AA$124,$AF$148)*$AB$19","v":0},{"$f":"COUNTIF($D$124:$AA$124,$AG$148)*$AB$19","v":0},{"$f":"COUNTIF($D$124:$AA$124,$AH$148)*$AB$19","v":0},{"$f":"COUNTIF($D$124:$AA$124,$AI$148)*$AB$19","v":0},{"$f":"COUNTIF($D$124:$AA$124,$AJ$148)*$AB$19","v":0},{"$f":"COUNTIF($D$124:$AA$124,$AK$148)*$AB$19","v":0},{"$f":"COUNTIF($D$124:$AA$124,$AL$148)*$AB$19","v":0},{"$f":"COUNTIF($D$124:$AA$124,$AM$148)*$AB$19","v":0},{"$f":"COUNTIF($D$124:$AA$124,$AN$148)*$AB$19","v":0},{"$f":"COUNTIF($D$124:$AA$124,$AO$148)*$AB$19","v":0},{"$f":"COUNTIF($D$124:$AA$124,$AP$148)*$AB$19","v":0},{"$f":"COUNTIF($D$124:$AA$124,$AQ$148)*$AB$19","v":0},{"$f":"COUNTIF($D$124:$AA$124,$AR$148)*$AB$19","v":0},{"$f":"COUNTIF($D$124:$AA$124,$AS$148)*$AB$19","v":0},11,null,0,0,{"$error":"#VALUE!"},0,{"$error":"#VALUE!"},{"$error":"#VALUE!"},0,{"$error":"#VALUE!"},{"$error":"#VALUE!"},0,{"$f":"SUM(BD156:BE156)","v":{"$error":"#VALUE!"}},null,{"$error":"#VALUE!"},0,{"$error":"#VALUE!"},{"$error":"#VALUE!"},0,{"$error":"#VALUE!"},{"$error":"#VALUE!"},0,{"$error":"#VALUE!"}]
[null,null,12,{"$f":"COUNTIF($D$125:$AA$125,$D$148)*$AB$20","v":0},{"$f":"COUNTIF($D$125:$AA$125,$E$148)*$AB$20","v":0},{"$f":"COUNTIF($D$125:$AA$125,$F$148)*$AB$20","v":0},{"$f":"COUNTIF($D$125:$AA$125,$G$148)*$AB$20","v":0},{"$f":"COUNTIF($D$125:$AA$125,$H$148)*$AB$20","v":0},{"$f":"COUNTIF($D$125:$AA$125,$I$148)*$AB$20","v":0},{"$f":"COUNTIF($D$125:$AA$125,$J$148)*$AB$20","v":0},{"$f":"COUNTIF($D$125:$AA$125,$K$148)*$AB$20","v":0},{"$f":"COUNTIF($D$125:$AA$125,$L$148)*$AB$20","v":0},{"$f":"COUNTIF($D$125:$AA$125,$M$148)*$AB$20","v":0},{"$f":"COUNTIF($D$125:$AA$125,$N$148)*$AB$20","v":0},{"$f":"COUNTIF($D$125:$AA$125,$O$148)*$AB$20","v":0},{"$f":"COUNTIF($D$125:$AA$125,$P$148)*$AB$20","v":0},{"$f":"COUNTIF($D$125:$AA$125,$Q$148)*$AB$20","v":0},{"$f":"COUNTIF($D$125:$AA$125,$R$148)*$AB$20","v":0},{"$f":"COUNTIF($D$125:$AA$125,$S$148)*$AB$20","v":0},{"$f":"COUNTIF($D$125:$AA$125,$T$148)*$AB$20","v":0},{"$f":"COUNTIF($D$125:$AA$125,$U$148)*$AB$20","v":0},{"$f":"COUNTIF($D$125:$AA$125,$V$148)*$AB$20","v":0},{"$f":"COUNTIF($D$125:$AA$125,$W$148)*$AB$20","v":0},{"$f":"COUNTIF($D$125:$AA$125,$X$148)*$AB$20","v":0},{"$f":"COUNTIF($D$125:$AA$125,$Y$148)*$AB$20","v":0},{"$f":"COUNTIF($D$125:$AA$125,$Z$148)*$AB$20","v":0},{"$f":"COUNTIF($D$125:$AA$125,$AA$148)*$AB$20","v":0},{"$f":"COUNTIF($D$125:$AA$125,$AB$148)*$AB$20","v":0},{"$f":"COUNTIF($D$125:$AA$125,$AC$148)*$AB$20","v":0},{"$f":"COUNTIF($D$125:$AA$125,$AD$148)*$AB$20","v":0},{"$f":"COUNTIF($D$125:$AA$125,$AE$148)*$AB$20","v":0},{"$f":"COUNTIF($D$125:$AA$125,$AF$148)*$AB$20","v":0},{"$f":"COUNTIF($D$125:$AA$125,$AG$148)*$AB$20","v":0},{"$f":"COUNTIF($D$125:$AA$125,$AH$148)*$AB$20","v":0},{"$f":"COUNTIF($D$125:$AA$125,$AI$148)*$AB$20","v":0},{"$f":"COUNTIF($D$125:$AA$125,$AJ$148)*$AB$20","v":0},{"$f":"COUNTIF($D$125:$AA$125,$AK$148)*$AB$20","v":0},{"$f":"COUNTIF($D$125:$AA$125,$AL$148)*$AB$20","v":0},{"$f":"COUNTIF($D$125:$AA$125,$AM$148)*$AB$20","v":0},{"$f":"COUNTIF($D$125:$AA$125,$AN$148)*$AB$20","v":0},{"$f":"COUNTIF($D$125:$AA$125,$AO$148)*$AB$20","v":0},{"$f":"COUNTIF($D$125:$AA$125,$AP$148)*$AB$20","v":0},{"$f":"COUNTIF($D$125:$AA$125,$AQ$148)*$AB$20","v":0},{"$f":"COUNTIF($D$125:$AA$125,$AR$148)*$AB$20","v":0},{"$f":"COUNTIF($D$125:$AA$125,$AS$148)*$AB$20","v":0},12,null,0,0,{"$error":"#VALUE!"},0,{"$error":"#VALUE!"},{"$error":"#VALUE!"},0,{"$error":"#VALUE!"},{"$error":"#VALUE!"},0,{"$error":"#VALUE!"},null,{"$error":"#VALUE!"},0,{"$error":"#VALUE!"},{"$error":"#VALUE!"},0,{"$error":"#VALUE!"},{"$error":"#VALUE!"},0,{"$error":"#VALUE!"}]
[null,null,1,{"$f":"COUNTIF($D$126:$AA$126,$D$148)*$AB$21","v":0},{"$f":"COUNTIF($D$126:$AA$126,$E$148)*$AB$21","v":0},{"$f":"COUNTIF($D$126:$AA$126,$F$148)*$AB$21","v":0},{"$f":"COUNTIF($D$126:$AA$126,$G$148)*$AB$21","v":0},{"$f":"COUNTIF($D$126:$AA$126,$H$148)*$AB$21","v":0},{"$f":"COUNTIF($D$126:$AA$126,$I$148)*$AB$21","v":0},{"$f":"COUNTIF($D$126:$AA$126,$J$148)*$AB$21","v":0},{"$f":"COUNTIF($D$126:$AA$126,$K$148)*$AB$21","v":0},{"$f":"COUNTIF($D$126:$AA$126,$L$148)*$AB$21","v":0},{"$f":"COUNTIF($D$126:$AA$126,$M$148)*$AB$21","v":0},{"$f":"COUNTIF($D$126:$AA$126,$N$148)*$AB$21","v":0},{"$f":"COUNTIF($D$126:$AA$126,$O$148)*$AB$21","v":0},{"$f":"COUNTIF($D$126:$AA$126,$P$148)*$AB$21","v":0},{"$f":"COUNTIF($D$126:$AA$126,$Q$148)*$AB$21","v":0},{"$f":"COUNTIF($D$126:$AA$126,$R$148)*$AB$21","v":0},{"$f":"COUNTIF($D$126:$AA$126,$S$148)*$AB$21","v":0},{"$f":"COUNTIF($D$126:$AA$126,$T$148)*$AB$21","v":0},{"$f":"COUNTIF($D$126:$AA$126,$U$148)*$AB$21","v":0},{"$f":"COUNTIF($D$126:$AA$126,$V$148)*$AB$21","v":0},{"$f":"COUNTIF($D$126:$AA$126,$W$148)*$AB$21","v":0},{"$f":"COUNTIF($D$126:$AA$126,$X$148)*$AB$21","v":0},{"$f":"COUNTIF($D$126:$AA$126,$Y$148)*$AB$21","v":0},{"$f":"COUNTIF($D$126:$AA$126,$Z$148)*$AB$21","v":0},{"$f":"COUNTIF($D$126:$AA$126,$AA$148)*$AB$21","v":0},{"$f":"COUNTIF($D$126:$AA$126,$AB$148)*$AB$21","v":0},{"$f":"COUNTIF($D$126:$AA$126,$AC$148)*$AB$21","v":0},{"$f":"COUNTIF($D$126:$AA$126,$AD$148)*$AB$21","v":0},{"$f":"COUNTIF($D$126:$AA$126,$AE$148)*$AB$21","v":0},{"$f":"COUNTIF($D$126:$AA$126,$AF$148)*$AB$21","v":0},{"$f":"COUNTIF($D$126:$AA$126,$AG$148)*$AB$21","v":0},{"$f":"COUNTIF($D$126:$AA$126,$AH$148)*$AB$21","v":0},{"$f":"COUNTIF($D$126:$AA$126,$AI$148)*$AB$21","v":0},{"$f":"COUNTIF($D$126:$AA$126,$AJ$148)*$AB$21","v":0},{"$f":"COUNTIF($D$126:$AA$126,$AK$148)*$AB$21","v":0},{"$f":"COUNTIF($D$126:$AA$126,$AL$148)*$AB$21","v":0},{"$f":"COUNTIF($D$126:$AA$126,$AM$148)*$AB$21","v":0},{"$f":"COUNTIF($D$126:$AA$126,$AN$148)*$AB$21","v":0},{"$f":"COUNTIF($D$126:$AA$126,$AO$148)*$AB$21","v":0},{"$f":"COUNTIF($D$126:$AA$126,$AP$148)*$AB$21","v":0},{"$f":"COUNTIF($D$126:$AA$126,$AQ$148)*$AB$21","v":0},{"$f":"COUNTIF($D$126:$AA$126,$AR$148)*$AB$21","v":0},{"$f":"COUNTIF($D$126:$AA$126,$AS$148)*$AB$21","v":0},1,null,0,0,{"$error":"#VALUE!"},0,{"$error":"#VALUE!"},{"$error":"#VALUE!"},0,{"$error":"#VALUE!"},{"$error":"#VALUE!"},0,{"$error":"#VALUE!"},null,{"$error":"#VALUE!"},0,{"$error":"#VALUE!"},{"$error":"#VALUE!"},0,{"$error":"#VALUE!"},{"$error":"#VALUE!"},0,{"$error":"#VALUE!"}]
[null,null,2,{"$f":"COUNTIF($D$127:$AA$127,$D$148)*$AB$22","v":0},{"$f":"COUNTIF($D$127:$AA$127,$E$148)*$AB$22","v":0},{"$f":"COUNTIF($D$127:$AA$127,$F$148)*$AB$22","v":0},{"$f":"COUNTIF($D$127:$AA$127,$G$148)*$AB$22","v":0},{"$f":"COUNTIF($D$127:$AA$127,$H$148)*$AB$22","v":0},{"$f":"COUNTIF($D$127:$AA$127,$I$148)*$AB$22","v":0},{"$f":"COUNTIF($D$127:$AA$127,$J$148)*$AB$22","v":0},{"$f":"COUNTIF($D$127:$AA$127,$K$148)*$AB$22","v":0},{"$f":"COUNTIF($D$127:$AA$127,$L$148)*$AB$22","v":0},{"$f":"COUNTIF($D$127:$AA$127,$M$148)*$AB$22","v":0},{"$f":"COUNTIF($D$127:$AA$127,$N$148)*$AB$22","v":0},{"$f":"COUNTIF($D$127:$AA$127,$O$148)*$AB$22","v":0},{"$f":"COUNTIF($D$127:$AA$127,$P$148)*$AB$22","v":0},{"$f":"COUNTIF($D$127:$AA$127,$Q$148)*$AB$22","v":0},{"$f":"COUNTIF($D$127:$AA$127,$R$148)*$AB$22","v":0},{"$f":"COUNTIF($D$127:$AA$127,$S$148)*$AB$22","v":0},{"$f":"COUNTIF($D$127:$AA$127,$T$148)*$AB$22","v":0},{"$f":"COUNTIF($D$127:$AA$127,$U$148)*$AB$22","v":0},{"$f":"COUNTIF($D$127:$AA$127,$V$148)*$AB$22","v":0},{"$f":"COUNTIF($D$127:$AA$127,$W$148)*$AB$22","v":0},{"$f":"COUNTIF($D$127:$AA$127,$X$148)*$AB$22","v":0},{"$f":"COUNTIF($D$127:$AA$127,$Y$148)*$AB$22","v":0},{"$f":"COUNTIF($D$127:$AA$127,$Z$148)*$AB$22","v":0},{"$f":"COUNTIF($D$127:$AA$127,$AA$148)*$AB$22","v":0},{"$f":"COUNTIF($D$127:$AA$127,$AB$148)*$AB$22","v":0},{"$f":"COUNTIF($D$127:$AA$127,$AC$148)*$AB$22","v":0},{"$f":"COUNTIF($D$127:$AA$127,$AD$148)*$AB$22","v":0},{"$f":"COUNTIF($D$127:$AA$127,$AE$148)*$AB$22","v":0},{"$f":"COUNTIF($D$127:$AA$127,$AF$148)*$AB$22","v":0},{"$f":"COUNTIF($D$127:$AA$127,$AG$148)*$AB$22","v":0},{"$f":"COUNTIF($D$127:$AA$127,$AH$148)*$AB$22","v":0},{"$f":"COUNTIF($D$127:$AA$127,$AI$148)*$AB$22","v":0},{"$f":"COUNTIF($D$127:$AA$127,$AJ$148)*$AB$22","v":0},{"$f":"COUNTIF($D$127:$AA$127,$AK$148)*$AB$22","v":0},{"$f":"COUNTIF($D$127:$AA$127,$AL$148)*$AB$22","v":0},{"$f":"COUNTIF($D$127:$AA$127,$AM$148)*$AB$22","v":0},{"$f":"COUNTIF($D$127:$AA$127,$AN$148)*$AB$22","v":0},{"$f":"COUNTIF($D$127:$AA$127,$AO$148)*$AB$22","v":0},{"$f":"COUNTIF($D$127:$AA$127,$AP$148)*$AB$22","v":0},{"$f":"COUNTIF($D$127:$AA$127,$AQ$148)*$AB$22","v":0},{"$f":"COUNTIF($D$127:$AA$127,$AR$148)*$AB$22","v":0},{"$f":"COUNTIF($D$127:$AA$127,$AS$148)*$AB$22","v":0},2,null,0,0,{"$error":"#VALUE!"},0,{"$error":"#VALUE!"},{"$error":"#VALUE!"},0,{"$error":"#VALUE!"},{"$error":"#VALUE!"},0,{"$error":"#VALUE!"},null,{"$error":"#VALUE!"},0,{"$error":"#VALUE!"},{"$error":"#VALUE!"},0,{"$error":"#VALUE!"},{"$error":"#VALUE!"},0,{"$error":"#VALUE!"}]
[null,null,3,{"$f":"COUNTIF($D$128:$AA$128,$D$148)*$AB$23","v":0},{"$f":"COUNTIF($D$128:$AA$128,$E$148)*$AB$23","v":0},{"$f":"COUNTIF($D$128:$AA$128,$F$148)*$AB$23","v":0},{"$f":"COUNTIF($D$128:$AA$128,$G$148)*$AB$23","v":0},{"$f":"COUNTIF($D$128:$AA$128,$H$148)*$AB$23","v":0},{"$f":"COUNTIF($D$128:$AA$128,$I$148)*$AB$23","v":0},{"$f":"COUNTIF($D$128:$AA$128,$J$148)*$AB$23","v":0},{"$f":"COUNTIF($D$128:$AA$128,$K$148)*$AB$23","v":0},{"$f":"COUNTIF($D$128:$AA$128,$L$148)*$AB$23","v":0},{"$f":"COUNTIF($D$128:$AA$128,$M$148)*$AB$23","v":0},{"$f":"COUNTIF($D$128:$AA$128,$N$148)*$AB$23","v":0},{"$f":"COUNTIF($D$128:$AA$128,$O$148)*$AB$23","v":0},{"$f":"COUNTIF($D$128:$AA$128,$P$148)*$AB$23","v":0},{"$f":"COUNTIF($D$128:$AA$128,$Q$148)*$AB$23","v":0},{"$f":"COUNTIF($D$128:$AA$128,$R$148)*$AB$23","v":0},{"$f":"COUNTIF($D$128:$AA$128,$S$148)*$AB$23","v":0},{"$f":"COUNTIF($D$128:$AA$128,$T$148)*$AB$23","v":0},{"$f":"COUNTIF($D$128:$AA$128,$U$148)*$AB$23","v":0},{"$f":"COUNTIF($D$128:$AA$128,$V$148)*$AB$23","v":0},{"$f":"COUNTIF($D$128:$AA$128,$W$148)*$AB$23","v":0},{"$f":"COUNTIF($D$128:$AA$128,$X$148)*$AB$23","v":0},{"$f":"COUNTIF($D$128:$AA$128,$Y$148)*$AB$23","v":0},{"$f":"COUNTIF($D$128:$AA$128,$Z$148)*$AB$23","v":0},{"$f":"COUNTIF($D$128:$AA$128,$AA$148)*$AB$23","v":0},{"$f":"COUNTIF($D$128:$AA$128,$AB$148)*$AB$23","v":0},{"$f":"COUNTIF($D$128:$AA$128,$AC$148)*$AB$23","v":0},{"$f":"COUNTIF($D$128:$AA$128,$AD$148)*$AB$23","v":0},{"$f":"COUNTIF($D$128:$AA$128,$AE$148)*$AB$23","v":0},{"$f":"COUNTIF($D$128:$AA$128,$AF$148)*$AB$23","v":0},{"$f":"COUNTIF($D$128:$AA$128,$AG$148)*$AB$23","v":0},{"$f":"COUNTIF($D$128:$AA$128,$AH$148)*$AB$23","v":0},{"$f":"COUNTIF($D$128:$AA$128,$AI$148)*$AB$23","v":0},{"$f":"COUNTIF($D$128:$AA$128,$AJ$148)*$AB$23","v":0},{"$f":"COUNTIF($D$128:$AA$128,$AK$148)*$AB$23","v":0},{"$f":"COUNTIF($D$128:$AA$128,$AL$148)*$AB$23","v":0},{"$f":"COUNTIF($D$128:$AA$128,$AM$148)*$AB$23","v":0},{"$f":"COUNTIF($D$128:$AA$128,$AN$148)*$AB$23","v":0},{"$f":"COUNTIF($D$128:$AA$128,$AO$148)*$AB$23","v":0},{"$f":"COUNTIF($D$128:$AA$128,$AP$148)*$AB$23","v":0},{"$f":"COUNTIF($D$128:$AA$128,$AQ$148)*$AB$23","v":0},{"$f":"COUNTIF($D$128:$AA$128,$AR$148)*$AB$23","v":0},{"$f":"COUNTIF($D$128:$AA$128,$AS$148)*$AB$23","v":0},3,null,0,0,{"$error":"#VALUE!"},0,{"$f":"SUM(AX160:AY160)","v":{"$error":"#VALUE!"}},{"$error":"#VALUE!"},0,{"$f":"SUM(BA160:BB160)","v":{"$error":"#VALUE!"}},{"$error":"#VALUE!"},0,{"$f":"SUM(BD160:BE160)","v":{"$error":"#VALUE!"}},null,{"$error":"#VALUE!"},0,{"$f":"SUM(BH160:BI160)","v":{"$error":"#VALUE!"}},{"$error":"#VALUE!"},0,{"$f":"SUM(BK160:BL160)","v":{"$error":"#VALUE!"}},{"$error":"#VALUE!"},0,{"$f":"SUM(BN160:BO160)","v":{"$error":"#VALUE!"}}]
[null,"tc","冷却運転時間",{"$f":"SUM($D$149:$D$160)","v":0},{"$f":"SUM($E$149:$E$160)","v":0},{"$f":"SUM($F$149:$F$160)","v":0},{"$f":"SUM($G$149:$G$160)","v":0},{"$f":"SUM($H$149:$H$160)","v":0},{"$f":"SUM($I$149:$I$160)","v":0},{"$f":"SUM($J$149:$J$160)","v":0},{"$f":"SUM($K$149:$K$160)","v":0},{"$f":"SUM($L$149:$L$160)","v":0},{"$f":"SUM($M$149:$M$160)","v":0},{"$f":"SUM($N$149:$N$160)","v":0},{"$f":"SUM($O$149:$O$160)","v":0},{"$f":"SUM($P$149:$P$160)","v":0},{"$f":"SUM($Q$149:$Q$160)","v":0},{"$f":"SUM($R$149:$R$160)","v":0},{"$f":"SUM($S$149:$S$160)","v":0},{"$f":"SUM($T$149:$T$160)","v":0},{"$f":"SUM($U$149:$U$160)","v":0},{"$f":"SUM($V$149:$V$160)","v":0},{"$f":"SUM($W$149:$W$160)","v":0},{"$f":"SUM($X$149:$X$160)","v":0},{"$f":"SUM($Y$149:$Y$160)","v":0},{"$f":"SUM($Z$149:$Z$160)","v":0},{"$f":"SUM($AA$149:$AA$160)","v":0},{"$f":"SUM($AB$149:$AB$160)","v":0},{"$f":"SUM($AC$149:$AC$160)","v":0},{"$f":"SUM($AD$149:$AD$160)","v":0},{"$f":"SUM($AE$149:$AE$160)","v":0},{"$f":"SUM($AF$149:$AF$160)","v":0},{"$f":"SUM($AG$149:$AG$160)","v":0},{"$f":"SUM($AH$149:$AH$160)","v":0},{"$f":"SUM($AI$149:$AI$160)","v":0},{"$f":"SUM($AJ$149:$AJ$160)","v":0},{"$f":"SUM($AK$149:$AK$160)","v":0},{"$f":"SUM($AL$149:$AL$160)","v":0},{"$f":"SUM($AM$149:$AM$160)","v":0},{"$f":"SUM($AN$149:$AN$160)","v":0},{"$f":"SUM($AO$149:$AO$160)","v":0},{"$f":"SUM($AP$149:$AP$160)","v":0},{"$f":"SUM($AQ$149:$AQ$160)","v":0},{"$f":"SUM($AR$149:$AR$160)","v":0},{"$f":"SUM($AS$149:$AS$160)","v":0},"冷却運転時間",null,{"$f":"SUM(AV149:AV160)","v":0},{"$f":"SUM(AW149:AW160)","v":0},{"$error":"#VALUE!"},0,{"$error":"#VALUE!"},{"$error":"#VALUE!"},0,{"$error":"#VALUE!"},{"$error":"#VALUE!"},0,{"$error":"#VALUE!"},null,{"$error":"#VALUE!"},0,{"$error":"#VALUE!"},{"$error":"#VALUE!"},0,{"$f":"SUM(BM149:BM160)","v":{"$error":"#VALUE!"}},{"$f":"SUM(BN149:BN160)","v":{"$error":"#VALUE!"}},0,{"$error":"#VALUE!"}]
[null,"εc","冷却時消費電力比",{"$f":"$D$163/$D$164","v":0},{"$f":"$E$163/$E$164","v":0},{"$f":"$F$163/$F$164","v":0},{"$f":"$G$163/$G$164","v":0},{"$f":"$H$163/$H$164","v":0},{"$f":"$I$163/$I$164","v":0},{"$f":"$J$163/$J$164","v":0},{"$f":"$K$163/$K$164","v":0},{"$f":"$L$163/$L$164","v":0},{"$f":"$M$163/$M$164","v":0},{"$f":"$N$163/$N$164","v":0},{"$f":"$O$163/$O$164","v":0},{"$f":"$P$163/$P$164","v":0},{"$f":"$Q$163/$Q$164","v":0},{"$f":"$R$163/$R$164","v":0},{"$f":"$S$163/$S$164","v":0},{"$f":"$T$163/$T$164","v":0},{"$f":"$U$163/$U$164","v":0},{"$f":"$V$163/$V$164","v":0},{"$f":"$W$163/$W$164","v":0},{"$f":"$X$163/$X$164","v":0},{"$f":"$Y$163/$Y$164","v":0},{"$f":"$Z$163/$Z$164","v":2.7954950038913257E-2},{"$f":"$AA$163/$AA$164","v":5.7295984754684365E-2},{"$f":"$AB$163/$AB$164","v":8.8117734692774549E-2},{"$f":"$AC$163/$AC$164","v":0.1205235301100922},{"$f":"$AD$163/$AD$164","v":0.15462642256308759},{"$f":"$AE$163/$AE$164","v":0.19055035388376554},{"$f":"$AF$163/$AF$164","v":0.22843149796239107},{"$f":"$AG$163/$AG$164","v":0.26841980589221737},{"$f":"$AH$163/$AH$164","v":0.31068079136611182},{"$f":"$AI$163/$AI$164","v":0.35539760106619284},{"$f":"$AJ$163/$AJ$164","v":0.40277342457005777},{"$f":"$AK$163/$AK$164","v":0.45303431055350984},{"$f":"$AL$163/$AL$164","v":0.50643247151512127},{"$f":"$AM$163/$AM$164","v":0.56325017883193185},{"$f":"$AN$163/$AN$164","v":0.62380437494801644},{"$f":"$AO$163/$AO$164","v":0.68845216161070288},{"$f":"$AP$163/$AP$164","v":0.75759736463072036},{"$f":"$AQ$163/$AQ$164","v":0.83169842984577558},{"$f":"$AR$163/$AR$164","v":0.91127797623387052},{"$f":"$AS$163/$AS$164","v":0.99693442663808818},"冷却時消費電力比"]
[null,"αc","冷却空調負荷率",{"$f":"IF((1/20)*(D$148-35)+1<0,0,IF((1/20)*(D$148-35)+1>1,1,(1/20)*(D$148-35)+1))","v":0},{"$f":"IF((1/20)*(E$148-35)+1<0,0,IF((1/20)*(E$148-35)+1>1,1,(1/20)*(E$148-35)+1))","v":0},{"$f":"IF((1/20)*(F$148-35)+1<0,0,IF((1/20)*(F$148-35)+1>1,1,(1/20)*(F$148-35)+1))","v":0},0,0,0,0,0,0,0,0,0,0,0,0,0,0,0,0,0,0,0,4.9999999999999933E-2,9.9999999999999978E-2,0.14999999999999991,0.19999999999999996,{"$f":"IF((1/20)*(AD$148-35)+1<0,0,IF((1/20)*(AD$148-35)+1>1,1,(1/20)*(AD$148-35)+1))","v":0.25},0.29999999999999993,0.35,0.39999999999999991,0.44999999999999996,0.5,0.55000000000000004,0.6,0.64999999999999991,0.7,0.75,0.8,0.85,0.9,0.95,{"$f":"IF((1/20)*(AS$148-35)+1<0,0,IF((1/20)*(AS$148-35)+1>1,1,(1/20)*(AS$148-35)+1))","v":1},"冷却空調負荷率"]
[null,"βc","冷却COP比",{"$f":"1.07/10000*D$148*D$148-0.0468*D$148+2.51","v":2.7946519999999997},{"$f":"1.07/10000*E$148*E$148-0.0468*E$148+2.51","v":2.7466749999999998},2.698912,2.6513629999999999,2.6040279999999996,2.5569069999999998,2.5099999999999998,2.4633069999999999,2.4168279999999998,2.3705629999999998,2.3245119999999999,2.2786749999999998,2.2330519999999998,2.1876429999999996,2.1424479999999999,2.097467,2.0526999999999997,2.0081469999999997,1.9638079999999998,1.9196829999999996,1.8757719999999998,1.8320749999999997,1.7885919999999997,1.745323,1.7022679999999997,1.6594269999999998,1.6167999999999998,1.5743869999999998,1.5321879999999997,1.4902029999999997,1.4484319999999997,1.4068749999999999,1.3655319999999997,1.3244029999999998,1.2834879999999997,1.2427869999999999,1.2022999999999997,1.1620269999999997,1.1219679999999999,1.0821229999999997,1.0424919999999998,1.0030749999999997,"冷却COP比"]
[null,null,"Σ",{"$f":"$D$161*$D$162","v":0},{"$f":"$E$161*$E$162","v":0},{"$f":"$F$161*$F$162","v":0},{"$f":"$G$161*$G$162","v":0},{"$f":"$H$161*$H$162","v":0},{"$f":"$I$161*$I$162","v":0},{"$f":"$J$161*$J$162","v":0},{"$f":"$K$161*$K$162","v":0},{"$f":"$L$161*$L$162","v":0},{"$f":"$M$161*$M$162","v":0},{"$f":"$N$161*$N$162","v":0},{"$f":"$O$161*$O$162","v":0},{"$f":"$P$161*$P$162","v":0},{"$f":"$Q$161*$Q$162","v":0},{"$f":"$R$161*$R$162","v":0},{"$f":"$S$161*$S$162","v":0},{"$f":"$T$161*$T$162","v":0},{"$f":"$U$161*$U$162","v":0},{"$f":"$V$161*$V$162","v":0},{"$f":"$W$161*$W$162","v":0},{"$f":"$X$161*$X$162","v":0},{"$f":"$Y$161*$Y$162","v":0},{"$f":"$Z$161*$Z$162","v":0},{"$f":"$AA$161*$AA$162","v":0},{"$f":"$AB$161*$AB$162","v":0},{"$f":"$AC$161*$AC$162","v":0},{"$f":"$AD$161*$AD$162","v":0},{"$f":"$AE$161*$AE$162","v":0},{"$f":"$AF$161*$AF$162","v":0},{"$f":"$AG$161*$AG$162","v":0},{"$f":"$AH$161*$AH$162","v":0},{"$f":"$AI$161*$AI$162","v":0},{"$f":"$AJ$161*$AJ$162","v":0},{"$f":"$AK$161*$AK$162","v":0},{"$f":"$AL$161*$AL$162","v":0},{"$f":"$AM$161*$AM$162","v":0},{"$f":"$AN$161*$AN$162","v":0},{"$f":"$AO$161*$AO$162","v":0},{"$f":"$AP$161*$AP$162","v":0},{"$f":"$AQ$161*$AQ$162","v":0},{"$f":"$AR$161*$AR$162","v":0},{"$f":"$AS$161*$AS$162","v":0},{"$f":"SUM($D$165:$AS$165)","v":0}]
[]
[null,null,"加熱期間中　外気温度(T)が発生する時間[hour]"]
[null,null,null," 外気温度(T)",null,null,null,null,null,null,null,null,null,null,null,null,null,null,null,null,null,null,null,null,null,null,null,null,null,null,null,null,null,null,null,null,null,null,null,null,null,null,null,null,null,null,"月単位","共通","共通","前1",null,null,"前2",null,null,"前3",null,null,null,"後1",null,null,"後2",null,null,"後3"]
[null,null,"月",-6,-5,-4,-3,-2,-1,0,1,2,3,4,5,6,7,8,9,10,11,12,13,14,15,16,17,18,19,20,21,22,23,24,25,26,27,28,29,30,31,32,33,34,35,"月",null,"EwwのΣ","EaxwのΣ","Eww","Eaxw","Ew","Eww","Eaxw","Ew","Eww","Eaxw","Ew",null,"Eww","Eaxw","Ew","Eww","Eaxw","Ew","Eww","Eaxw","Ew"]
[null,null,4,{"$f":"COUNTIF($D$133:$AA$133,$D$169)*$AB$12","v":0},{"$f":"COUNTIF($D$133:$AA$133,$E$169)*$AB$12","v":0},{"$f":"COUNTIF($D$133:$AA$133,$F$169)*$AB$12","v":0},{"$f":"COUNTIF($D$133:$AA$133,$G$169)*$AB$12","v":0},{"$f":"COUNTIF($D$133:$AA$133,$H$169)*$AB$12","v":0},{"$f":"COUNTIF($D$133:$AA$133,$I$169)*$AB$12","v":0},{"$f":"COUNTIF($D$133:$AA$133,$J$169)*$AB$12","v":0},{"$f":"COUNTIF($D$133:$AA$133,$K$169)*$AB$12","v":0},{"$f":"COUNTIF($D$133:$AA$133,$L$169)*$AB$12","v":0},{"$f":"COUNTIF($D$133:$AA$133,$M$169)*$AB$12","v":0},{"$f":"COUNTIF($D$133:$AA$133,$N$169)*$AB$12","v":0},{"$f":"COUNTIF($D$133:$AA$133,$O$169)*$AB$12","v":0},{"$f":"COUNTIF($D$133:$AA$133,$P$169)*$AB$12","v":0},{"$f":"COUNTIF($D$133:$AA$133,$Q$169)*$AB$12","v":0},{"$f":"COUNTIF($D$133:$AA$133,$R$169)*$AB$12","v":0},{"$f":"COUNTIF($D$133:$AA$133,$S$169)*$AB$12","v":0},{"$f":"COUNTIF($D$133:$AA$133,$T$169)*$AB$12","v":0},{"$f":"COUNTIF($D$133:$AA$133,$U$169)*$AB$12","v":0},{"$f":"COUNTIF($D$133:$AA$133,$V$169)*$AB$12","v":0},{"$f":"COUNTIF($D$133:$AA$133,$W$169)*$AB$12","v":0},{"$f":"COUNTIF($D$133:$AA$133,$X$169)*$AB$12","v":0},{"$f":"COUNTIF($D$133:$AA$133,$Y$169)*$AB$12","v":0},{"$f":"COUNTIF($D$133:$AA$133,$Z$169)*$AB$12","v":0},{"$f":"COUNTIF($D$133:$AA$133,$AA$169)*$AB$12","v":0},{"$f":"COUNTIF($D$133:$AA$133,$AB$169)*$AB$12","v":0},{"$f":"COUNTIF($D$133:$AA$133,$AC$169)*$AB$12","v":0},{"$f":"COUNTIF($D$133:$AA$133,$AD$169)*$AB$12","v":0},{"$f":"COUNTIF($D$133:$AA$133,$AE$169)*$AB$12","v":0},{"$f":"COUNTIF($D$133:$AA$133,$AF$169)*$AB$12","v":0},{"$f":"COUNTIF($D$133:$AA$133,$AG$169)*$AB$12","v":0},{"$f":"COUNTIF($D$133:$AA$133,$AH$169)*$AB$12","v":0},{"$f":"COUNTIF($D$133:$AA$133,$AI$169)*$AB$12","v":0},{"$f":"COUNTIF($D$133:$AA$133,$AJ$169)*$AB$12","v":0},{"$f":"COUNTIF($D$133:$AA$133,$AK$169)*$AB$12","v":0},{"$f":"COUNTIF($D$133:$AA$133,$AL$169)*$AB$12","v":0},{"$f":"COUNTIF($D$133:$AA$133,$AM$169)*$AB$12","v":0},{"$f":"COUNTIF($D$133:$AA$133,$AN$169)*$AB$12","v":0},{"$f":"COUNTIF($D$133:$AA$133,$AO$169)*$AB$12","v":0},{"$f":"COUNTIF($D$133:$AA$133,$AP$169)*$AB$12","v":0},{"$f":"COUNTIF($D$133:$AA$133,$AQ$169)*$AB$12","v":0},{"$f":"COUNTIF($D$133:$AA$133,$AR$169)*$AB$12","v":0},{"$f":"COUNTIF($D$133:$AA$133,$AS$169)*$AB$12","v":0},4,null,{"$f":"SUMPRODUCT(D170:AS170,$D$183:$AS$183)","v":0},{"$f":"SUMPRODUCT(D170:AS170,$D$192:$AS$192)","v":0},{"$f":"$Q$29/$Q$35*$AV170","v":0},{"$f":"$Q$36*$AW170","v":0},{"$f":"SUM(AX170:AY170)","v":0},{"$f":"$R$29/$R$35*$AV170","v":{"$error":"#VALUE!"}},{"$f":"$R$36*$AW170","v":0},{"$f":"SUM(BA170:BB170)","v":{"$error":"#VALUE!"}},{"$f":"$S$29/$S$35*$AV170","v":{"$error":"#VALUE!"}},{"$f":"$S$36*$AW170","v":0},{"$f":"SUM(BD170:BE170)","v":{"$error":"#VALUE!"}},null,{"$f":"$Q$43/$Q$49*$AV170","v":{"$error":"#VALUE!"}},{"$f":"$Q$50*$AW170","v":0},{"$f":"SUM(BH170:BI170)","v":{"$error":"#VALUE!"}},{"$f":"$R$43/$R$49*$AV170","v":{"$error":"#VALUE!"}},{"$f":"$R$50*$AW170","v":0},{"$f":"SUM(BK170:BL170)","v":{"$error":"#VALUE!"}},{"$f":"$S$43/$S$49*$AV170","v":{"$error":"#VALUE!"}},{"$f":"$S$50*$AW170","v":0},{"$f":"SUM(BN170:BO170)","v":{"$error":"#VALUE!"}}]
[null,null,5,{"$f":"COUNTIF($D$134:$AA$134,$D$169)*$AB$13","v":0},{"$f":"COUNTIF($D$134:$AA$134,$E$169)*$AB$13","v":0},{"$f":"COUNTIF($D$134:$AA$134,$F$169)*$AB$13","v":0},{"$f":"COUNTIF($D$134:$AA$134,$G$169)*$AB$13","v":0},{"$f":"COUNTIF($D$134:$AA$134,$H$169)*$AB$13","v":0},{"$f":"COUNTIF($D$134:$AA$134,$I$169)*$AB$13","v":0},{"$f":"COUNTIF($D$134:$AA$134,$J$169)*$AB$13","v":0},{"$f":"COUNTIF($D$134:$AA$134,$K$169)*$AB$13","v":0},{"$f":"COUNTIF($D$134:$AA$134,$L$169)*$AB$13","v":0},{"$f":"COUNTIF($D$134:$AA$134,$M$169)*$AB$13","v":0},{"$f":"COUNTIF($D$134:$AA$134,$N$169)*$AB$13","v":0},{"$f":"COUNTIF($D$134:$AA$134,$O$169)*$AB$13","v":0},{"$f":"COUNTIF($D$134:$AA$134,$P$169)*$AB$13","v":0},{"$f":"COUNTIF($D$134:$AA$134,$Q$169)*$AB$13","v":0},{"$f":"COUNTIF($D$134:$AA$134,$R$169)*$AB$13","v":0},{"$f":"COUNTIF($D$134:$AA$134,$S$169)*$AB$13","v":0},{"$f":"COUNTIF($D$134:$AA$134,$T$169)*$AB$13","v":0},{"$f":"COUNTIF($D$134:$AA$134,$U$169)*$AB$13","v":0},{"$f":"COUNTIF($D$134:$AA$134,$V$169)*$AB$13","v":0},{"$f":"COUNTIF($D$134:$AA$134,$W$169)*$AB$13","v":0},{"$f":"COUNTIF($D$134:$AA$134,$X$169)*$AB$13","v":0},{"$f":"COUNTIF($D$134:$AA$134,$Y$169)*$AB$13","v":0},{"$f":"COUNTIF($D$134:$AA$134,$Z$169)*$AB$13","v":0},{"$f":"COUNTIF($D$134:$AA$134,$AA$169)*$AB$13","v":0},{"$f":"COUNTIF($D$134:$AA$134,$AB$169)*$AB$13","v":0},{"$f":"COUNTIF($D$134:$AA$134,$AC$169)*$AB$13","v":0},{"$f":"COUNTIF($D$134:$AA$134,$AD$169)*$AB$13","v":0},{"$f":"COUNTIF($D$134:$AA$134,$AE$169)*$AB$13","v":0},{"$f":"COUNTIF($D$134:$AA$134,$AF$169)*$AB$13","v":0},{"$f":"COUNTIF($D$134:$AA$134,$AG$169)*$AB$13","v":0},{"$f":"COUNTIF($D$134:$AA$134,$AH$169)*$AB$13","v":0},{"$f":"COUNTIF($D$134:$AA$134,$AI$169)*$AB$13","v":0},{"$f":"COUNTIF($D$134:$AA$134,$AJ$169)*$AB$13","v":0},{"$f":"COUNTIF($D$134:$AA$134,$AK$169)*$AB$13","v":0},{"$f":"COUNTIF($D$134:$AA$134,$AL$169)*$AB$13","v":0},{"$f":"COUNTIF($D$134:$AA$134,$AM$169)*$AB$13","v":0},{"$f":"COUNTIF($D$134:$AA$134,$AN$169)*$AB$13","v":0},{"$f":"COUNTIF($D$134:$AA$134,$AO$169)*$AB$13","v":0},{"$f":"COUNTIF($D$134:$AA$134,$AP$169)*$AB$13","v":0},{"$f":"COUNTIF($D$134:$AA$134,$AQ$169)*$AB$13","v":0},{"$f":"COUNTIF($D$134:$AA$134,$AR$169)*$AB$13","v":0},{"$f":"COUNTIF($D$134:$AA$134,$AS$169)*$AB$13","v":0},5,null,{"$f":"SUMPRODUCT(D171:AS171,$D$183:$AS$183)","v":0},{"$f":"SUMPRODUCT(D171:AS171,$D$192:$AS$192)","v":0},{"$f":"$Q$29/$Q$35*$AV171","v":0},{"$f":"$Q$36*$AW171","v":0},{"$f":"SUM(AX171:AY171)","v":0},{"$f":"$R$29/$R$35*$AV171","v":{"$error":"#VALUE!"}},{"$f":"$R$36*$AW171","v":0},{"$f":"SUM(BA171:BB171)","v":{"$error":"#VALUE!"}},{"$f":"$S$29/$S$35*$AV171","v":{"$error":"#VALUE!"}},{"$f":"$S$36*$AW171","v":0},{"$f":"SUM(BD171:BE171)","v":{"$error":"#VALUE!"}},null,{"$f":"$Q$43/$Q$49*$AV171","v":{"$error":"#VALUE!"}},{"$f":"$Q$50*$AW171","v":0},{"$f":"SUM(BH171:BI171)","v":{"$error":"#VALUE!"}},{"$f":"$R$43/$R$49*$AV171","v":{"$error":"#VALUE!"}},{"$f":"$R$50*$AW171","v":0},{"$f":"SUM(BK171:BL171)","v":{"$error":"#VALUE!"}},{"$f":"$S$43/$S$49*$AV171","v":{"$error":"#VALUE!"}},{"$f":"$S$50*$AW171","v":0},{"$f":"SUM(BN171:BO171)","v":{"$error":"#VALUE!"}}]
[null,null,6,{"$f":"COUNTIF($D$135:$AA$135,$D$169)*$AB$14","v":0},{"$f":"COUNTIF($D$135:$AA$135,$E$169)*$AB$14","v":0},{"$f":"COUNTIF($D$135:$AA$135,$F$169)*$AB$14","v":0},{"$f":"COUNTIF($D$135:$AA$135,$G$169)*$AB$14","v":0},{"$f":"COUNTIF($D$135:$AA$135,$H$169)*$AB$14","v":0},{"$f":"COUNTIF($D$135:$AA$135,$I$169)*$AB$14","v":0},{"$f":"COUNTIF($D$135:$AA$135,$J$169)*$AB$14","v":0},{"$f":"COUNTIF($D$135:$AA$135,$K$169)*$AB$14","v":0},{"$f":"COUNTIF($D$135:$AA$135,$L$169)*$AB$14","v":0},{"$f":"COUNTIF($D$135:$AA$135,$M$169)*$AB$14","v":0},{"$f":"COUNTIF($D$135:$AA$135,$N$169)*$AB$14","v":0},{"$f":"COUNTIF($D$135:$AA$135,$O$169)*$AB$14","v":0},{"$f":"COUNTIF($D$135:$AA$135,$P$169)*$AB$14","v":0},{"$f":"COUNTIF($D$135:$AA$135,$Q$169)*$AB$14","v":0},{"$f":"COUNTIF($D$135:$AA$135,$R$169)*$AB$14","v":0},{"$f":"COUNTIF($D$135:$AA$135,$S$169)*$AB$14","v":0},{"$f":"COUNTIF($D$135:$AA$135,$T$169)*$AB$14","v":0},{"$f":"COUNTIF($D$135:$AA$135,$U$169)*$AB$14","v":0},{"$f":"COUNTIF($D$135:$AA$135,$V$169)*$AB$14","v":0},{"$f":"COUNTIF($D$135:$AA$135,$W$169)*$AB$14","v":0},{"$f":"COUNTIF($D$135:$AA$135,$X$169)*$AB$14","v":0},{"$f":"COUNTIF($D$135:$AA$135,$Y$169)*$AB$14","v":0},{"$f":"COUNTIF($D$135:$AA$135,$Z$169)*$AB$14","v":0},{"$f":"COUNTIF($D$135:$AA$135,$AA$169)*$AB$14","v":0},{"$f":"COUNTIF($D$135:$AA$135,$AB$169)*$AB$14","v":0},{"$f":"COUNTIF($D$135:$AA$135,$AC$169)*$AB$14","v":0},{"$f":"COUNTIF($D$135:$AA$135,$AD$169)*$AB$14","v":0},{"$f":"COUNTIF($D$135:$AA$135,$AE$169)*$AB$14","v":0},{"$f":"COUNTIF($D$135:$AA$135,$AF$169)*$AB$14","v":0},{"$f":"COUNTIF($D$135:$AA$135,$AG$169)*$AB$14","v":0},{"$f":"COUNTIF($D$135:$AA$135,$AH$169)*$AB$14","v":0},{"$f":"COUNTIF($D$135:$AA$135,$AI$169)*$AB$14","v":0},{"$f":"COUNTIF($D$135:$AA$135,$AJ$169)*$AB$14","v":0},{"$f":"COUNTIF($D$135:$AA$135,$AK$169)*$AB$14","v":0},{"$f":"COUNTIF($D$135:$AA$135,$AL$169)*$AB$14","v":0},{"$f":"COUNTIF($D$135:$AA$135,$AM$169)*$AB$14","v":0},{"$f":"COUNTIF($D$135:$AA$135,$AN$169)*$AB$14","v":0},{"$f":"COUNTIF($D$135:$AA$135,$AO$169)*$AB$14","v":0},{"$f":"COUNTIF($D$135:$AA$135,$AP$169)*$AB$14","v":0},{"$f":"COUNTIF($D$135:$AA$135,$AQ$169)*$AB$14","v":0},{"$f":"COUNTIF($D$135:$AA$135,$AR$169)*$AB$14","v":0},{"$f":"COUNTIF($D$135:$AA$135,$AS$169)*$AB$14","v":0},6,null,0,0,0,0,0,{"$error":"#VALUE!"},0,{"$error":"#VALUE!"},{"$error":"#VALUE!"},0,{"$error":"#VALUE!"},null,{"$error":"#VALUE!"},0,{"$error":"#VALUE!"},{"$error":"#VALUE!"},0,{"$error":"#VALUE!"},{"$error":"#VALUE!"},0,{"$error":"#VALUE!"}]
[null,null,7,{"$f":"COUNTIF($D$136:$AA$136,$D$169)*$AB$15","v":0},{"$f":"COUNTIF($D$136:$AA$136,$E$169)*$AB$15","v":0},{"$f":"COUNTIF($D$136:$AA$136,$F$169)*$AB$15","v":0},{"$f":"COUNTIF($D$136:$AA$136,$G$169)*$AB$15","v":0},{"$f":"COUNTIF($D$136:$AA$136,$H$169)*$AB$15","v":0},{"$f":"COUNTIF($D$136:$AA$136,$I$169)*$AB$15","v":0},{"$f":"COUNTIF($D$136:$AA$136,$J$169)*$AB$15","v":0},{"$f":"COUNTIF($D$136:$AA$136,$K$169)*$AB$15","v":0},{"$f":"COUNTIF($D$136:$AA$136,$L$169)*$AB$15","v":0},{"$f":"COUNTIF($D$136:$AA$136,$M$169)*$AB$15","v":0},{"$f":"COUNTIF($D$136:$AA$136,$N$169)*$AB$15","v":0},{"$f":"COUNTIF($D$136:$AA$136,$O$169)*$AB$15","v":0},{"$f":"COUNTIF($D$136:$AA$136,$P$169)*$AB$15","v":0},{"$f":"COUNTIF($D$136:$AA$136,$Q$169)*$AB$15","v":0},{"$f":"COUNTIF($D$136:$AA$136,$R$169)*$AB$15","v":0},{"$f":"COUNTIF($D$136:$AA$136,$S$169)*$AB$15","v":0},{"$f":"COUNTIF($D$136:$AA$136,$T$169)*$AB$15","v":0},{"$f":"COUNTIF($D$136:$AA$136,$U$169)*$AB$15","v":0},{"$f":"COUNTIF($D$136:$AA$136,$V$169)*$AB$15","v":0},{"$f":"COUNTIF($D$136:$AA$136,$W$169)*$AB$15","v":0},{"$f":"COUNTIF($D$136:$AA$136,$X$169)*$AB$15","v":0},{"$f":"COUNTIF($D$136:$AA$136,$Y$169)*$AB$15","v":0},{"$f":"COUNTIF($D$136:$AA$136,$Z$169)*$AB$15","v":0},{"$f":"COUNTIF($D$136:$AA$136,$AA$169)*$AB$15","v":0},{"$f":"COUNTIF($D$136:$AA$136,$AB$169)*$AB$15","v":0},{"$f":"COUNTIF($D$136:$AA$136,$AC$169)*$AB$15","v":0},{"$f":"COUNTIF($D$136:$AA$136,$AD$169)*$AB$15","v":0},{"$f":"COUNTIF($D$136:$AA$136,$AE$169)*$AB$15","v":0},{"$f":"COUNTIF($D$136:$AA$136,$AF$169)*$AB$15","v":0},{"$f":"COUNTIF($D$136:$AA$136,$AG$169)*$AB$15","v":0},{"$f":"COUNTIF($D$136:$AA$136,$AH$169)*$AB$15","v":0},{"$f":"COUNTIF($D$136:$AA$136,$AI$169)*$AB$15","v":0},{"$f":"COUNTIF($D$136:$AA$136,$AJ$169)*$AB$15","v":0},{"$f":"COUNTIF($D$136:$AA$136,$AK$169)*$AB$15","v":0},{"$f":"COUNTIF($D$136:$AA$136,$AL$169)*$AB$15","v":0},{"$f":"COUNTIF($D$136:$AA$136,$AM$169)*$AB$15","v":0},{"$f":"COUNTIF($D$136:$AA$136,$AN$169)*$AB$15","v":0},{"$f":"COUNTIF($D$136:$AA$136,$AO$169)*$AB$15","v":0},{"$f":"COUNTIF($D$136:$AA$136,$AP$169)*$AB$15","v":0},{"$f":"COUNTIF($D$136:$AA$136,$AQ$169)*$AB$15","v":0},{"$f":"COUNTIF($D$136:$AA$136,$AR$169)*$AB$15","v":0},{"$f":"COUNTIF($D$136:$AA$136,$AS$169)*$AB$15","v":0},7,null,0,0,0,0,0,{"$error":"#VALUE!"},0,{"$error":"#VALUE!"},{"$error":"#VALUE!"},0,{"$error":"#VALUE!"},null,{"$error":"#VALUE!"},0,{"$error":"#VALUE!"},{"$error":"#VALUE!"},0,{"$error":"#VALUE!"},{"$error":"#VALUE!"},0,{"$error":"#VALUE!"}]
[null,null,8,{"$f":"COUNTIF($D$137:$AA$137,$D$169)*$AB$16","v":0},{"$f":"COUNTIF($D$137:$AA$137,$E$169)*$AB$16","v":0},{"$f":"COUNTIF($D$137:$AA$137,$F$169)*$AB$16","v":0},{"$f":"COUNTIF($D$137:$AA$137,$G$169)*$AB$16","v":0},{"$f":"COUNTIF($D$137:$AA$137,$H$169)*$AB$16","v":0},{"$f":"COUNTIF($D$137:$AA$137,$I$169)*$AB$16","v":0},{"$f":"COUNTIF($D$137:$AA$137,$J$169)*$AB$16","v":0},{"$f":"COUNTIF($D$137:$AA$137,$K$169)*$AB$16","v":0},{"$f":"COUNTIF($D$137:$AA$137,$L$169)*$AB$16","v":0},{"$f":"COUNTIF($D$137:$AA$137,$M$169)*$AB$16","v":0},{"$f":"COUNTIF($D$137:$AA$137,$N$169)*$AB$16","v":0},{"$f":"COUNTIF($D$137:$AA$137,$O$169)*$AB$16","v":0},{"$f":"COUNTIF($D$137:$AA$137,$P$169)*$AB$16","v":0},{"$f":"COUNTIF($D$137:$AA$137,$Q$169)*$AB$16","v":0},{"$f":"COUNTIF($D$137:$AA$137,$R$169)*$AB$16","v":0},{"$f":"COUNTIF($D$137:$AA$137,$S$169)*$AB$16","v":0},{"$f":"COUNTIF($D$137:$AA$137,$T$169)*$AB$16","v":0},{"$f":"COUNTIF($D$137:$AA$137,$U$169)*$AB$16","v":0},{"$f":"COUNTIF($D$137:$AA$137,$V$169)*$AB$16","v":0},{"$f":"COUNTIF($D$137:$AA$137,$W$169)*$AB$16","v":0},{"$f":"COUNTIF($D$137:$AA$137,$X$169)*$AB$16","v":0},{"$f":"COUNTIF($D$137:$AA$137,$Y$169)*$AB$16","v":0},{"$f":"COUNTIF($D$137:$AA$137,$Z$169)*$AB$16","v":0},{"$f":"COUNTIF($D$137:$AA$137,$AA$169)*$AB$16","v":0},{"$f":"COUNTIF($D$137:$AA$137,$AB$169)*$AB$16","v":0},{"$f":"COUNTIF($D$137:$AA$137,$AC$169)*$AB$16","v":0},{"$f":"COUNTIF($D$137:$AA$137,$AD$169)*$AB$16","v":0},{"$f":"COUNTIF($D$137:$AA$137,$AE$169)*$AB$16","v":0},{"$f":"COUNTIF($D$137:$AA$137,$AF$169)*$AB$16","v":0},{"$f":"COUNTIF($D$137:$AA$137,$AG$169)*$AB$16","v":0},{"$f":"COUNTIF($D$137:$AA$137,$AH$169)*$AB$16","v":0},{"$f":"COUNTIF($D$137:$AA$137,$AI$169)*$AB$16","v":0},{"$f":"COUNTIF($D$137:$AA$137,$AJ$169)*$AB$16","v":0},{"$f":"COUNTIF($D$137:$AA$137,$AK$169)*$AB$16","v":0},{"$f":"COUNTIF($D$137:$AA$137,$AL$169)*$AB$16","v":0},{"$f":"COUNTIF($D$137:$AA$137,$AM$169)*$AB$16","v":0},{"$f":"COUNTIF($D$137:$AA$137,$AN$169)*$AB$16","v":0},{"$f":"COUNTIF($D$137:$AA$137,$AO$169)*$AB$16","v":0},{"$f":"COUNTIF($D$137:$AA$137,$AP$169)*$AB$16","v":0},{"$f":"COUNTIF($D$137:$AA$137,$AQ$169)*$AB$16","v":0},{"$f":"COUNTIF($D$137:$AA$137,$AR$169)*$AB$16","v":0},{"$f":"COUNTIF($D$137:$AA$137,$AS$169)*$AB$16","v":0},8,null,0,0,0,0,0,{"$error":"#VALUE!"},0,{"$error":"#VALUE!"},{"$error":"#VALUE!"},0,{"$error":"#VALUE!"},null,{"$error":"#VALUE!"},0,{"$error":"#VALUE!"},{"$error":"#VALUE!"},0,{"$error":"#VALUE!"},{"$error":"#VALUE!"},0,{"$error":"#VALUE!"}]
[null,null,9,{"$f":"COUNTIF($D$138:$AA$138,$D$169)*$AB$17","v":0},{"$f":"COUNTIF($D$138:$AA$138,$E$169)*$AB$17","v":0},{"$f":"COUNTIF($D$138:$AA$138,$F$169)*$AB$17","v":0},{"$f":"COUNTIF($D$138:$AA$138,$G$169)*$AB$17","v":0},{"$f":"COUNTIF($D$138:$AA$138,$H$169)*$AB$17","v":0},{"$f":"COUNTIF($D$138:$AA$138,$I$169)*$AB$17","v":0},{"$f":"COUNTIF($D$138:$AA$138,$J$169)*$AB$17","v":0},{"$f":"COUNTIF($D$138:$AA$138,$K$169)*$AB$17","v":0},{"$f":"COUNTIF($D$138:$AA$138,$L$169)*$AB$17","v":0},{"$f":"COUNTIF($D$138:$AA$138,$M$169)*$AB$17","v":0},{"$f":"COUNTIF($D$138:$AA$138,$N$169)*$AB$17","v":0},{"$f":"COUNTIF($D$138:$AA$138,$O$169)*$AB$17","v":0},{"$f":"COUNTIF($D$138:$AA$138,$P$169)*$AB$17","v":0},{"$f":"COUNTIF($D$138:$AA$138,$Q$169)*$AB$17","v":0},{"$f":"COUNTIF($D$138:$AA$138,$R$169)*$AB$17","v":0},{"$f":"COUNTIF($D$138:$AA$138,$S$169)*$AB$17","v":0},{"$f":"COUNTIF($D$138:$AA$138,$T$169)*$AB$17","v":0},{"$f":"COUNTIF($D$138:$AA$138,$U$169)*$AB$17","v":0},{"$f":"COUNTIF($D$138:$AA$138,$V$169)*$AB$17","v":0},{"$f":"COUNTIF($D$138:$AA$138,$W$169)*$AB$17","v":0},{"$f":"COUNTIF($D$138:$AA$138,$X$169)*$AB$17","v":0},{"$f":"COUNTIF($D$138:$AA$138,$Y$169)*$AB$17","v":0},{"$f":"COUNTIF($D$138:$AA$138,$Z$169)*$AB$17","v":0},{"$f":"COUNTIF($D$138:$AA$138,$AA$169)*$AB$17","v":0},{"$f":"COUNTIF($D$138:$AA$138,$AB$169)*$AB$17","v":0},{"$f":"COUNTIF($D$138:$AA$138,$AC$169)*$AB$17","v":0},{"$f":"COUNTIF($D$138:$AA$138,$AD$169)*$AB$17","v":0},{"$f":"COUNTIF($D$138:$AA$138,$AE$169)*$AB$17","v":0},{"$f":"COUNTIF($D$138:$AA$138,$AF$169)*$AB$17","v":0},{"$f":"COUNTIF($D$138:$AA$138,$AG$169)*$AB$17","v":0},{"$f":"COUNTIF($D$138:$AA$138,$AH$169)*$AB$17","v":0},{"$f":"COUNTIF($D$138:$AA$138,$AI$169)*$AB$17","v":0},{"$f":"COUNTIF($D$138:$AA$138,$AJ$169)*$AB$17","v":0},{"$f":"COUNTIF($D$138:$AA$138,$AK$169)*$AB$17","v":0},{"$f":"COUNTIF($D$138:$AA$138,$AL$169)*$AB$17","v":0},{"$f":"COUNTIF($D$138:$AA$138,$AM$169)*$AB$17","v":0},{"$f":"COUNTIF($D$138:$AA$138,$AN$169)*$AB$17","v":0},{"$f":"COUNTIF($D$138:$AA$138,$AO$169)*$AB$17","v":0},{"$f":"COUNTIF($D$138:$AA$138,$AP$169)*$AB$17","v":0},{"$f":"COUNTIF($D$138:$AA$138,$AQ$169)*$AB$17","v":0},{"$f":"COUNTIF($D$138:$AA$138,$AR$169)*$AB$17","v":0},{"$f":"COUNTIF($D$138:$AA$138,$AS$169)*$AB$17","v":0},9,null,0,0,0,0,0,{"$error":"#VALUE!"},0,{"$error":"#VALUE!"},{"$error":"#VALUE!"},0,{"$error":"#VALUE!"},null,{"$error":"#VALUE!"},0,{"$error":"#VALUE!"},{"$error":"#VALUE!"},0,{"$error":"#VALUE!"},{"$error":"#VALUE!"},0,{"$error":"#VALUE!"}]
[null,null,10,{"$f":"COUNTIF($D$139:$AA$139,$D$169)*$AB$18","v":0},{"$f":"COUNTIF($D$139:$AA$139,$E$169)*$AB$18","v":0},{"$f":"COUNTIF($D$139:$AA$139,$F$169)*$AB$18","v":0},{"$f":"COUNTIF($D$139:$AA$139,$G$169)*$AB$18","v":0},{"$f":"COUNTIF($D$139:$AA$139,$H$169)*$AB$18","v":0},{"$f":"COUNTIF($D$139:$AA$139,$I$169)*$AB$18","v":0},{"$f":"COUNTIF($D$139:$AA$139,$J$169)*$AB$18","v":0},{"$f":"COUNTIF($D$139:$AA$139,$K$169)*$AB$18","v":0},{"$f":"COUNTIF($D$139:$AA$139,$L$169)*$AB$18","v":0},{"$f":"COUNTIF($D$139:$AA$139,$M$169)*$AB$18","v":0},{"$f":"COUNTIF($D$139:$AA$139,$N$169)*$AB$18","v":0},{"$f":"COUNTIF($D$139:$AA$139,$O$169)*$AB$18","v":0},{"$f":"COUNTIF($D$139:$AA$139,$P$169)*$AB$18","v":0},{"$f":"COUNTIF($D$139:$AA$139,$Q$169)*$AB$18","v":0},{"$f":"COUNTIF($D$139:$AA$139,$R$169)*$AB$18","v":0},{"$f":"COUNTIF($D$139:$AA$139,$S$169)*$AB$18","v":0},{"$f":"COUNTIF($D$139:$AA$139,$T$169)*$AB$18","v":0},{"$f":"COUNTIF($D$139:$AA$139,$U$169)*$AB$18","v":0},{"$f":"COUNTIF($D$139:$AA$139,$V$169)*$AB$18","v":0},{"$f":"COUNTIF($D$139:$AA$139,$W$169)*$AB$18","v":0},{"$f":"COUNTIF($D$139:$AA$139,$X$169)*$AB$18","v":0},{"$f":"COUNTIF($D$139:$AA$139,$Y$169)*$AB$18","v":0},{"$f":"COUNTIF($D$139:$AA$139,$Z$169)*$AB$18","v":0},{"$f":"COUNTIF($D$139:$AA$139,$AA$169)*$AB$18","v":0},{"$f":"COUNTIF($D$139:$AA$139,$AB$169)*$AB$18","v":0},{"$f":"COUNTIF($D$139:$AA$139,$AC$169)*$AB$18","v":0},{"$f":"COUNTIF($D$139:$AA$139,$AD$169)*$AB$18","v":0},{"$f":"COUNTIF($D$139:$AA$139,$AE$169)*$AB$18","v":0},{"$f":"COUNTIF($D$139:$AA$139,$AF$169)*$AB$18","v":0},{"$f":"COUNTIF($D$139:$AA$139,$AG$169)*$AB$18","v":0},{"$f":"COUNTIF($D$139:$AA$139,$AH$169)*$AB$18","v":0},{"$f":"COUNTIF($D$139:$AA$139,$AI$169)*$AB$18","v":0},{"$f":"COUNTIF($D$139:$AA$139,$AJ$169)*$AB$18","v":0},{"$f":"COUNTIF($D$139:$AA$139,$AK$169)*$AB$18","v":0},{"$f":"COUNTIF($D$139:$AA$139,$AL$169)*$AB$18","v":0},{"$f":"COUNTIF($D$139:$AA$139,$AM$169)*$AB$18","v":0},{"$f":"COUNTIF($D$139:$AA$139,$AN$169)*$AB$18","v":0},{"$f":"COUNTIF($D$139:$AA$139,$AO$169)*$AB$18","v":0},{"$f":"COUNTIF($D$139:$AA$139,$AP$169)*$AB$18","v":0},{"$f":"COUNTIF($D$139:$AA$139,$AQ$169)*$AB$18","v":0},{"$f":"COUNTIF($D$139:$AA$139,$AR$169)*$AB$18","v":0},{"$f":"COUNTIF($D$139:$AA$139,$AS$169)*$AB$18","v":0},10,null,0,0,0,0,0,{"$error":"#VALUE!"},0,{"$error":"#VALUE!"},{"$error":"#VALUE!"},0,{"$error":"#VALUE!"},null,{"$error":"#VALUE!"},0,{"$error":"#VALUE!"},{"$error":"#VALUE!"},0,{"$error":"#VALUE!"},{"$error":"#VALUE!"},0,{"$error":"#VALUE!"}]
[null,null,11,{"$f":"COUNTIF($D$140:$AA$140,$D$169)*$AB$19","v":0},{"$f":"COUNTIF($D$140:$AA$140,$E$169)*$AB$19","v":0},{"$f":"COUNTIF($D$140:$AA$140,$F$169)*$AB$19","v":0},{"$f":"COUNTIF($D$140:$AA$140,$G$169)*$AB$19","v":0},{"$f":"COUNTIF($D$140:$AA$140,$H$169)*$AB$19","v":0},{"$f":"COUNTIF($D$140:$AA$140,$I$169)*$AB$19","v":0},{"$f":"COUNTIF($D$140:$AA$140,$J$169)*$AB$19","v":0},{"$f":"COUNTIF($D$140:$AA$140,$K$169)*$AB$19","v":0},{"$f":"COUNTIF($D$140:$AA$140,$L$169)*$AB$19","v":0},{"$f":"COUNTIF($D$140:$AA$140,$M$169)*$AB$19","v":0},{"$f":"COUNTIF($D$140:$AA$140,$N$169)*$AB$19","v":0},{"$f":"COUNTIF($D$140:$AA$140,$O$169)*$AB$19","v":0},{"$f":"COUNTIF($D$140:$AA$140,$P$169)*$AB$19","v":0},{"$f":"COUNTIF($D$140:$AA$140,$Q$169)*$AB$19","v":0},{"$f":"COUNTIF($D$140:$AA$140,$R$169)*$AB$19","v":0},{"$f":"COUNTIF($D$140:$AA$140,$S$169)*$AB$19","v":0},{"$f":"COUNTIF($D$140:$AA$140,$T$169)*$AB$19","v":0},{"$f":"COUNTIF($D$140:$AA$140,$U$169)*$AB$19","v":0},{"$f":"COUNTIF($D$140:$AA$140,$V$169)*$AB$19","v":0},{"$f":"COUNTIF($D$140:$AA$140,$W$169)*$AB$19","v":0},{"$f":"COUNTIF($D$140:$AA$140,$X$169)*$AB$19","v":0},{"$f":"COUNTIF($D$140:$AA$140,$Y$169)*$AB$19","v":0},{"$f":"COUNTIF($D$140:$AA$140,$Z$169)*$AB$19","v":0},{"$f":"COUNTIF($D$140:$AA$140,$AA$169)*$AB$19","v":0},{"$f":"COUNTIF($D$140:$AA$140,$AB$169)*$AB$19","v":0},{"$f":"COUNTIF($D$140:$AA$140,$AC$169)*$AB$19","v":0},{"$f":"COUNTIF($D$140:$AA$140,$AD$169)*$AB$19","v":0},{"$f":"COUNTIF($D$140:$AA$140,$AE$169)*$AB$19","v":0},{"$f":"COUNTIF($D$140:$AA$140,$AF$169)*$AB$19","v":0},{"$f":"COUNTIF($D$140:$AA$140,$AG$169)*$AB$19","v":0},{"$f":"COUNTIF($D$140:$AA$140,$AH$169)*$AB$19","v":0},{"$f":"COUNTIF($D$140:$AA$140,$AI$169)*$AB$19","v":0},{"$f":"COUNTIF($D$140:$AA$140,$AJ$169)*$AB$19","v":0},{"$f":"COUNTIF($D$140:$AA$140,$AK$169)*$AB$19","v":0},{"$f":"COUNTIF($D$140:$AA$140,$AL$169)*$AB$19","v":0},{"$f":"COUNTIF($D$140:$AA$140,$AM$169)*$AB$19","v":0},{"$f":"COUNTIF($D$140:$AA$140,$AN$169)*$AB$19","v":0},{"$f":"COUNTIF($D$140:$AA$140,$AO$169)*$AB$19","v":0},{"$f":"COUNTIF($D$140:$AA$140,$AP$169)*$AB$19","v":0},{"$f":"COUNTIF($D$140:$AA$140,$AQ$169)*$AB$19","v":0},{"$f":"COUNTIF($D$140:$AA$140,$AR$169)*$AB$19","v":0},{"$f":"COUNTIF($D$140:$AA$140,$AS$169)*$AB$19","v":0},11,null,0,{"$f":"SUMPRODUCT(D177:AS177,$D$192:$AS$192)","v":0},0,0,0,{"$error":"#VALUE!"},0,{"$error":"#VALUE!"},{"$error":"#VALUE!"},0,{"$error":"#VALUE!"},null,{"$error":"#VALUE!"},0,{"$error":"#VALUE!"},{"$error":"#VALUE!"},0,{"$error":"#VALUE!"},{"$error":"#VALUE!"},0,{"$error":"#VALUE!"}]
[null,null,12,{"$f":"COUNTIF($D$141:$AA$141,$D$169)*$AB$20","v":0},{"$f":"COUNTIF($D$141:$AA$141,$E$169)*$AB$20","v":0},{"$f":"COUNTIF($D$141:$AA$141,$F$169)*$AB$20","v":0},{"$f":"COUNTIF($D$141:$AA$141,$G$169)*$AB$20","v":0},{"$f":"COUNTIF($D$141:$AA$141,$H$169)*$AB$20","v":0},{"$f":"COUNTIF($D$141:$AA$141,$I$169)*$AB$20","v":0},{"$f":"COUNTIF($D$141:$AA$141,$J$169)*$AB$20","v":0},{"$f":"COUNTIF($D$141:$AA$141,$K$169)*$AB$20","v":0},{"$f":"COUNTIF($D$141:$AA$141,$L$169)*$AB$20","v":0},{"$f":"COUNTIF($D$141:$AA$141,$M$169)*$AB$20","v":0},{"$f":"COUNTIF($D$141:$AA$141,$N$169)*$AB$20","v":0},{"$f":"COUNTIF($D$141:$AA$141,$O$169)*$AB$20","v":0},{"$f":"COUNTIF($D$141:$AA$141,$P$169)*$AB$20","v":0},{"$f":"COUNTIF($D$141:$AA$141,$Q$169)*$AB$20","v":0},{"$f":"COUNTIF($D$141:$AA$141,$R$169)*$AB$20","v":0},{"$f":"COUNTIF($D$141:$AA$141,$S$169)*$AB$20","v":0},{"$f":"COUNTIF($D$141:$AA$141,$T$169)*$AB$20","v":0},{"$f":"COUNTIF($D$141:$AA$141,$U$169)*$AB$20","v":0},{"$f":"COUNTIF($D$141:$AA$141,$V$169)*$AB$20","v":0},{"$f":"COUNTIF($D$141:$AA$141,$W$169)*$AB$20","v":0},{"$f":"COUNTIF($D$141:$AA$141,$X$169)*$AB$20","v":0},{"$f":"COUNTIF($D$141:$AA$141,$Y$169)*$AB$20","v":0},{"$f":"COUNTIF($D$141:$AA$141,$Z$169)*$AB$20","v":0},{"$f":"COUNTIF($D$141:$AA$141,$AA$169)*$AB$20","v":0},{"$f":"COUNTIF($D$141:$AA$141,$AB$169)*$AB$20","v":0},{"$f":"COUNTIF($D$141:$AA$141,$AC$169)*$AB$20","v":0},{"$f":"COUNTIF($D$141:$AA$141,$AD$169)*$AB$20","v":0},{"$f":"COUNTIF($D$141:$AA$141,$AE$169)*$AB$20","v":0},{"$f":"COUNTIF($D$141:$AA$141,$AF$169)*$AB$20","v":0},{"$f":"COUNTIF($D$141:$AA$141,$AG$169)*$AB$20","v":0},{"$f":"COUNTIF($D$141:$AA$141,$AH$169)*$AB$20","v":0},{"$f":"COUNTIF($D$141:$AA$141,$AI$169)*$AB$20","v":0},{"$f":"COUNTIF($D$141:$AA$141,$AJ$169)*$AB$20","v":0},{"$f":"COUNTIF($D$141:$AA$141,$AK$169)*$AB$20","v":0},{"$f":"COUNTIF($D$141:$AA$141,$AL$169)*$AB$20","v":0},{"$f":"COUNTIF($D$141:$AA$141,$AM$169)*$AB$20","v":0},{"$f":"COUNTIF($D$141:$AA$141,$AN$169)*$AB$20","v":0},{"$f":"COUNTIF($D$141:$AA$141,$AO$169)*$AB$20","v":0},{"$f":"COUNTIF($D$141:$AA$141,$AP$169)*$AB$20","v":0},{"$f":"COUNTIF($D$141:$AA$141,$AQ$169)*$AB$20","v":0},{"$f":"COUNTIF($D$141:$AA$141,$AR$169)*$AB$20","v":0},{"$f":"COUNTIF($D$141:$AA$141,$AS$169)*$AB$20","v":0},12,null,0,0,0,0,0,{"$error":"#VALUE!"},0,{"$error":"#VALUE!"},{"$error":"#VALUE!"},0,{"$error":"#VALUE!"},null,{"$error":"#VALUE!"},0,{"$error":"#VALUE!"},{"$error":"#VALUE!"},0,{"$error":"#VALUE!"},{"$error":"#VALUE!"},0,{"$error":"#VALUE!"}]
[null,null,1,{"$f":"COUNTIF($D$142:$AA$142,$D$169)*$AB$21","v":0},{"$f":"COUNTIF($D$142:$AA$142,$E$169)*$AB$21","v":0},{"$f":"COUNTIF($D$142:$AA$142,$F$169)*$AB$21","v":0},{"$f":"COUNTIF($D$142:$AA$142,$G$169)*$AB$21","v":0},{"$f":"COUNTIF($D$142:$AA$142,$H$169)*$AB$21","v":0},{"$f":"COUNTIF($D$142:$AA$142,$I$169)*$AB$21","v":0},{"$f":"COUNTIF($D$142:$AA$142,$J$169)*$AB$21","v":0},{"$f":"COUNTIF($D$142:$AA$142,$K$169)*$AB$21","v":0},{"$f":"COUNTIF($D$142:$AA$142,$L$169)*$AB$21","v":0},{"$f":"COUNTIF($D$142:$AA$142,$M$169)*$AB$21","v":0},{"$f":"COUNTIF($D$142:$AA$142,$N$169)*$AB$21","v":0},{"$f":"COUNTIF($D$142:$AA$142,$O$169)*$AB$21","v":0},{"$f":"COUNTIF($D$142:$AA$142,$P$169)*$AB$21","v":0},{"$f":"COUNTIF($D$142:$AA$142,$Q$169)*$AB$21","v":0},{"$f":"COUNTIF($D$142:$AA$142,$R$169)*$AB$21","v":0},{"$f":"COUNTIF($D$142:$AA$142,$S$169)*$AB$21","v":0},{"$f":"COUNTIF($D$142:$AA$142,$T$169)*$AB$21","v":0},{"$f":"COUNTIF($D$142:$AA$142,$U$169)*$AB$21","v":0},{"$f":"COUNTIF($D$142:$AA$142,$V$169)*$AB$21","v":0},{"$f":"COUNTIF($D$142:$AA$142,$W$169)*$AB$21","v":0},{"$f":"COUNTIF($D$142:$AA$142,$X$169)*$AB$21","v":0},{"$f":"COUNTIF($D$142:$AA$142,$Y$169)*$AB$21","v":0},{"$f":"COUNTIF($D$142:$AA$142,$Z$169)*$AB$21","v":0},{"$f":"COUNTIF($D$142:$AA$142,$AA$169)*$AB$21","v":0},{"$f":"COUNTIF($D$142:$AA$142,$AB$169)*$AB$21","v":0},{"$f":"COUNTIF($D$142:$AA$142,$AC$169)*$AB$21","v":0},{"$f":"COUNTIF($D$142:$AA$142,$AD$169)*$AB$21","v":0},{"$f":"COUNTIF($D$142:$AA$142,$AE$169)*$AB$21","v":0},{"$f":"COUNTIF($D$142:$AA$142,$AF$169)*$AB$21","v":0},{"$f":"COUNTIF($D$142:$AA$142,$AG$169)*$AB$21","v":0},{"$f":"COUNTIF($D$142:$AA$142,$AH$169)*$AB$21","v":0},{"$f":"COUNTIF($D$142:$AA$142,$AI$169)*$AB$21","v":0},{"$f":"COUNTIF($D$142:$AA$142,$AJ$169)*$AB$21","v":0},{"$f":"COUNTIF($D$142:$AA$142,$AK$169)*$AB$21","v":0},{"$f":"COUNTIF($D$142:$AA$142,$AL$169)*$AB$21","v":0},{"$f":"COUNTIF($D$142:$AA$142,$AM$169)*$AB$21","v":0},{"$f":"COUNTIF($D$142:$AA$142,$AN$169)*$AB$21","v":0},{"$f":"COUNTIF($D$142:$AA$142,$AO$169)*$AB$21","v":0},{"$f":"COUNTIF($D$142:$AA$142,$AP$169)*$AB$21","v":0},{"$f":"COUNTIF($D$142:$AA$142,$AQ$169)*$AB$21","v":0},{"$f":"COUNTIF($D$142:$AA$142,$AR$169)*$AB$21","v":0},{"$f":"COUNTIF($D$142:$AA$142,$AS$169)*$AB$21","v":0},1,null,0,0,0,0,0,{"$error":"#VALUE!"},0,{"$error":"#VALUE!"},{"$error":"#VALUE!"},0,{"$error":"#VALUE!"},null,{"$error":"#VALUE!"},0,{"$error":"#VALUE!"},{"$error":"#VALUE!"},0,{"$error":"#VALUE!"},{"$error":"#VALUE!"},0,{"$error":"#VALUE!"}]
[null,null,2,{"$f":"COUNTIF($D$143:$AA$143,$D$169)*$AB$22","v":0},{"$f":"COUNTIF($D$143:$AA$143,$E$169)*$AB$22","v":0},{"$f":"COUNTIF($D$143:$AA$143,$F$169)*$AB$22","v":0},{"$f":"COUNTIF($D$143:$AA$143,$G$169)*$AB$22","v":0},{"$f":"COUNTIF($D$143:$AA$143,$H$169)*$AB$22","v":0},{"$f":"COUNTIF($D$143:$AA$143,$I$169)*$AB$22","v":0},{"$f":"COUNTIF($D$143:$AA$143,$J$169)*$AB$22","v":0},{"$f":"COUNTIF($D$143:$AA$143,$K$169)*$AB$22","v":0},{"$f":"COUNTIF($D$143:$AA$143,$L$169)*$AB$22","v":0},{"$f":"COUNTIF($D$143:$AA$143,$M$169)*$AB$22","v":0},{"$f":"COUNTIF($D$143:$AA$143,$N$169)*$AB$22","v":0},{"$f":"COUNTIF($D$143:$AA$143,$O$169)*$AB$22","v":0},{"$f":"COUNTIF($D$143:$AA$143,$P$169)*$AB$22","v":0},{"$f":"COUNTIF($D$143:$AA$143,$Q$169)*$AB$22","v":0},{"$f":"COUNTIF($D$143:$AA$143,$R$169)*$AB$22","v":0},{"$f":"COUNTIF($D$143:$AA$143,$S$169)*$AB$22","v":0},{"$f":"COUNTIF($D$143:$AA$143,$T$169)*$AB$22","v":0},{"$f":"COUNTIF($D$143:$AA$143,$U$169)*$AB$22","v":0},{"$f":"COUNTIF($D$143:$AA$143,$V$169)*$AB$22","v":0},{"$f":"COUNTIF($D$143:$AA$143,$W$169)*$AB$22","v":0},{"$f":"COUNTIF($D$143:$AA$143,$X$169)*$AB$22","v":0},{"$f":"COUNTIF($D$143:$AA$143,$Y$169)*$AB$22","v":0},{"$f":"COUNTIF($D$143:$AA$143,$Z$169)*$AB$22","v":0},{"$f":"COUNTIF($D$143:$AA$143,$AA$169)*$AB$22","v":0},{"$f":"COUNTIF($D$143:$AA$143,$AB$169)*$AB$22","v":0},{"$f":"COUNTIF($D$143:$AA$143,$AC$169)*$AB$22","v":0},{"$f":"COUNTIF($D$143:$AA$143,$AD$169)*$AB$22","v":0},{"$f":"COUNTIF($D$143:$AA$143,$AE$169)*$AB$22","v":0},{"$f":"COUNTIF($D$143:$AA$143,$AF$169)*$AB$22","v":0},{"$f":"COUNTIF($D$143:$AA$143,$AG$169)*$AB$22","v":0},{"$f":"COUNTIF($D$143:$AA$143,$AH$169)*$AB$22","v":0},{"$f":"COUNTIF($D$143:$AA$143,$AI$169)*$AB$22","v":0},{"$f":"COUNTIF($D$143:$AA$143,$AJ$169)*$AB$22","v":0},{"$f":"COUNTIF($D$143:$AA$143,$AK$169)*$AB$22","v":0},{"$f":"COUNTIF($D$143:$AA$143,$AL$169)*$AB$22","v":0},{"$f":"COUNTIF($D$143:$AA$143,$AM$169)*$AB$22","v":0},{"$f":"COUNTIF($D$143:$AA$143,$AN$169)*$AB$22","v":0},{"$f":"COUNTIF($D$143:$AA$143,$AO$169)*$AB$22","v":0},{"$f":"COUNTIF($D$143:$AA$143,$AP$169)*$AB$22","v":0},{"$f":"COUNTIF($D$143:$AA$143,$AQ$169)*$AB$22","v":0},{"$f":"COUNTIF($D$143:$AA$143,$AR$169)*$AB$22","v":0},{"$f":"COUNTIF($D$143:$AA$143,$AS$169)*$AB$22","v":0},2,null,0,0,0,0,0,{"$f":"$R$29/$R$35*$AV180","v":{"$error":"#VALUE!"}},0,{"$error":"#VALUE!"},{"$error":"#VALUE!"},0,{"$error":"#VALUE!"},null,{"$error":"#VALUE!"},0,{"$error":"#VALUE!"},{"$error":"#VALUE!"},0,{"$error":"#VALUE!"},{"$error":"#VALUE!"},0,{"$error":"#VALUE!"}]
[null,null,3,{"$f":"COUNTIF($D$144:$AA$144,$D$169)*$AB$23","v":0},{"$f":"COUNTIF($D$144:$AA$144,$E$169)*$AB$23","v":0},{"$f":"COUNTIF($D$144:$AA$144,$F$169)*$AB$23","v":0},{"$f":"COUNTIF($D$144:$AA$144,$G$169)*$AB$23","v":0},{"$f":"COUNTIF($D$144:$AA$144,$H$169)*$AB$23","v":0},{"$f":"COUNTIF($D$144:$AA$144,$I$169)*$AB$23","v":0},{"$f":"COUNTIF($D$144:$AA$144,$J$169)*$AB$23","v":0},{"$f":"COUNTIF($D$144:$AA$144,$K$169)*$AB$23","v":0},{"$f":"COUNTIF($D$144:$AA$144,$L$169)*$AB$23","v":0},{"$f":"COUNTIF($D$144:$AA$144,$M$169)*$AB$23","v":0},{"$f":"COUNTIF($D$144:$AA$144,$N$169)*$AB$23","v":0},{"$f":"COUNTIF($D$144:$AA$144,$O$169)*$AB$23","v":0},{"$f":"COUNTIF($D$144:$AA$144,$P$169)*$AB$23","v":0},{"$f":"COUNTIF($D$144:$AA$144,$Q$169)*$AB$23","v":0},{"$f":"COUNTIF($D$144:$AA$144,$R$169)*$AB$23","v":0},{"$f":"COUNTIF($D$144:$AA$144,$S$169)*$AB$23","v":0},{"$f":"COUNTIF($D$144:$AA$144,$T$169)*$AB$23","v":0},{"$f":"COUNTIF($D$144:$AA$144,$U$169)*$AB$23","v":0},{"$f":"COUNTIF($D$144:$AA$144,$V$169)*$AB$23","v":0},{"$f":"COUNTIF($D$144:$AA$144,$W$169)*$AB$23","v":0},{"$f":"COUNTIF($D$144:$AA$144,$X$169)*$AB$23","v":0},{"$f":"COUNTIF($D$144:$AA$144,$Y$169)*$AB$23","v":0},{"$f":"COUNTIF($D$144:$AA$144,$Z$169)*$AB$23","v":0},{"$f":"COUNTIF($D$144:$AA$144,$AA$169)*$AB$23","v":0},{"$f":"COUNTIF($D$144:$AA$144,$AB$169)*$AB$23","v":0},{"$f":"COUNTIF($D$144:$AA$144,$AC$169)*$AB$23","v":0},{"$f":"COUNTIF($D$144:$AA$144,$AD$169)*$AB$23","v":0},{"$f":"COUNTIF($D$144:$AA$144,$AE$169)*$AB$23","v":0},{"$f":"COUNTIF($D$144:$AA$144,$AF$169)*$AB$23","v":0},{"$f":"COUNTIF($D$144:$AA$144,$AG$169)*$AB$23","v":0},{"$f":"COUNTIF($D$144:$AA$144,$AH$169)*$AB$23","v":0},{"$f":"COUNTIF($D$144:$AA$144,$AI$169)*$AB$23","v":0},{"$f":"COUNTIF($D$144:$AA$144,$AJ$169)*$AB$23","v":0},{"$f":"COUNTIF($D$144:$AA$144,$AK$169)*$AB$23","v":0},{"$f":"COUNTIF($D$144:$AA$144,$AL$169)*$AB$23","v":0},{"$f":"COUNTIF($D$144:$AA$144,$AM$169)*$AB$23","v":0},{"$f":"COUNTIF($D$144:$AA$144,$AN$169)*$AB$23","v":0},{"$f":"COUNTIF($D$144:$AA$144,$AO$169)*$AB$23","v":0},{"$f":"COUNTIF($D$144:$AA$144,$AP$169)*$AB$23","v":0},{"$f":"COUNTIF($D$144:$AA$144,$AQ$169)*$AB$23","v":0},{"$f":"COUNTIF($D$144:$AA$144,$AR$169)*$AB$23","v":0},{"$f":"COUNTIF($D$144:$AA$144,$AS$169)*$AB$23","v":0},3,null,0,0,0,{"$f":"$Q$36*$AW181","v":0},{"$f":"SUM(AX181:AY181)","v":0},{"$error":"#VALUE!"},{"$f":"$R$36*$AW181","v":0},{"$f":"SUM(BA181:BB181)","v":{"$error":"#VALUE!"}},{"$error":"#VALUE!"},0,{"$f":"SUM(BD181:BE181)","v":{"$error":"#VALUE!"}},null,{"$error":"#VALUE!"},0,{"$f":"SUM(BH181:BI181)","v":{"$error":"#VALUE!"}},{"$error":"#VALUE!"},0,{"$f":"SUM(BK181:BL181)","v":{"$error":"#VALUE!"}},{"$error":"#VALUE!"},0,{"$f":"SUM(BN181:BO181)","v":{"$error":"#VALUE!"}}]
[null,"tw","加熱運転時間",{"$f":"SUM($D$170:$D$181)","v":0},{"$f":"SUM($E$170:$E$181)","v":0},{"$f":"SUM($F$170:$F$181)","v":0},{"$f":"SUM($G$170:$G$181)","v":0},{"$f":"SUM($H$170:$H$181)","v":0},{"$f":"SUM($I$170:$I$181)","v":0},{"$f":"SUM($J$170:$J$181)","v":0},{"$f":"SUM($K$170:$K$181)","v":0},{"$f":"SUM($L$170:$L$181)","v":0},{"$f":"SUM($M$170:$M$181)","v":0},{"$f":"SUM($N$170:$N$181)","v":0},{"$f":"SUM($O$170:$O$181)","v":0},{"$f":"SUM($P$170:$P$181)","v":0},{"$f":"SUM($Q$170:$Q$181)","v":0},{"$f":"SUM($R$170:$R$181)","v":0},{"$f":"SUM($S$170:$S$181)","v":0},{"$f":"SUM($T$170:$T$181)","v":0},{"$f":"SUM($U$170:$U$181)","v":0},{"$f":"SUM($V$170:$V$181)","v":0},{"$f":"SUM($W$170:$W$181)","v":0},{"$f":"SUM($X$170:$X$181)","v":0},{"$f":"SUM($Y$170:$Y$181)","v":0},{"$f":"SUM($Z$170:$Z$181)","v":0},{"$f":"SUM($AA$170:$AA$181)","v":0},{"$f":"SUM($AB$170:$AB$181)","v":0},{"$f":"SUM($AC$170:$AC$181)","v":0},{"$f":"SUM($AD$170:$AD$181)","v":0},{"$f":"SUM($AE$170:$AE$181)","v":0},{"$f":"SUM($AF$170:$AF$181)","v":0},{"$f":"SUM($AG$170:$AG$181)","v":0},{"$f":"SUM($AH$170:$AH$181)","v":0},{"$f":"SUM($AI$170:$AI$181)","v":0},{"$f":"SUM($AJ$170:$AJ$181)","v":0},{"$f":"SUM($AK$170:$AK$181)","v":0},{"$f":"SUM($AL$170:$AL$181)","v":0},{"$f":"SUM($AM$170:$AM$181)","v":0},{"$f":"SUM($AN$170:$AN$181)","v":0},{"$f":"SUM($AO$170:$AO$181)","v":0},{"$f":"SUM($AP$170:$AP$181)","v":0},{"$f":"SUM($AQ$170:$AQ$181)","v":0},{"$f":"SUM($AR$170:$AR$181)","v":0},{"$f":"SUM($AS$170:$AS$181)","v":0},"加熱運転時間",null,{"$f":"SUM(AV170:AV181)","v":0},{"$f":"SUM(AW170:AW181)","v":0},0,0,0,{"$error":"#VALUE!"},0,{"$error":"#VALUE!"},{"$error":"#VALUE!"},0,{"$error":"#VALUE!"},null,{"$error":"#VALUE!"},0,{"$error":"#VALUE!"},{"$error":"#VALUE!"},0,{"$error":"#VALUE!"},{"$error":"#VALUE!"},0,{"$error":"#VALUE!"}]
[null,"εw","加熱時消費電力比",{"$f":"$D$184/$D$185","v":1.286497946749277},{"$f":"$E$184/$E$185","v":1.2993762993762994},{"$f":"$F$184/$F$185","v":1.2486462046412836},{"$f":"$G$184/$G$185","v":1.19844042952105},{"$f":"$H$184/$H$185","v":1.1485617304636406},{"$f":"$I$184/$I$185","v":1.098804500703235},{"$f":"$J$184/$J$185","v":1.048951048951049},{"$f":"$K$184/$K$185","v":0.91816030580509478},{"$f":"$L$184/$L$185","v":0.80249251706592939},{"$f":"$M$184/$M$185","v":0.69950704572642586},{"$f":"$N$184/$N$185","v":0.60726134408355215},{"$f":"$O$184/$O$185","v":0.52419006083225661},{"$f":"$P$184/$P$185","v":0.45646926501144819},{"$f":"$Q$184/$Q$185","v":0.39939256384964106},{"$f":"$R$184/$R$185","v":0.34408774670108327},{"$f":"$S$184/$S$185","v":0.29046909888061923},{"$f":"$T$184/$T$185","v":0.23845632910788717},{"$f":"$U$184/$U$185","v":0.18797414716364394},{"$f":"$V$184/$V$185","v":0.13895188040800721},{"$f":"$W$184/$W$185","v":9.1323125051768775E-2},{"$f":"$X$184/$X$185","v":4.502542856103417E-2},{"$f":"$Y$184/$Y$185","v":0},{"$f":"$Z$184/$Z$185","v":0},{"$f":"$AA$184/$AA$185","v":0},{"$f":"$AB$184/$AB$185","v":0},{"$f":"$AC$184/$AC$185","v":0},{"$f":"$AD$184/$AD$185","v":0},{"$f":"$AE$184/$AE$185","v":0},{"$f":"$AF$184/$AF$185","v":0},{"$f":"$AG$184/$AG$185","v":0},{"$f":"$AH$184/$AH$185","v":0},{"$f":"$AI$184/$AI$185","v":0},{"$f":"$AJ$184/$AJ$185","v":0},{"$f":"$AK$184/$AK$185","v":0},{"$f":"$AL$184/$AL$185","v":0},{"$f":"$AM$184/$AM$185","v":0},{"$f":"$AN$184/$AN$185","v":0},{"$f":"$AO$184/$AO$185","v":0},{"$f":"$AP$184/$AP$185","v":0},{"$f":"$AQ$184/$AQ$185","v":0},{"$f":"$AR$184/$AR$185","v":0},{"$f":"$AS$184/$AS$185","v":0},"加熱時消費電力比"]
[null,"αw","加熱空調負荷率",{"$f":"IF((D$169-$Q$25)/($Q$25-15)+1<0,0,IF((D$169-$Q$25)/($Q$25-15)+1>1,1,((D$169-$Q$25)/($Q$25-15)+1)))","v":1},{"$f":"IF((E$169-$Q$25)/($Q$25-15)+1<0,0,IF((E$169-$Q$25)/($Q$25-15)+1>1,1,((E$169-$Q$25)/($Q$25-15)+1)))","v":1},0.95,0.9,0.85,0.8,{"$f":"IF((J$169-$Q$25)/($Q$25-15)+1<0,0,IF((J$169-$Q$25)/($Q$25-15)+1>1,1,((J$169-$Q$25)/($Q$25-15)+1)))","v":0.75},0.7,0.65,0.6,0.55000000000000004,{"$f":"IF((O$169-$Q$25)/($Q$25-15)+1<0,0,IF((O$169-$Q$25)/($Q$25-15)+1>1,1,((O$169-$Q$25)/($Q$25-15)+1)))","v":0.5},0.44999999999999996,0.4,{"$f":"IF((R$169-$Q$25)/($Q$25-15)+1<0,0,IF((R$169-$Q$25)/($Q$25-15)+1>1,1,((R$169-$Q$25)/($Q$25-15)+1)))","v":0.35},0.30000000000000004,0.25,0.19999999999999996,0.15000000000000002,{"$f":"IF((W$169-$Q$25)/($Q$25-15)+1<0,0,IF((W$169-$Q$25)/($Q$25-15)+1>1,1,((W$169-$Q$25)/($Q$25-15)+1)))","v":9.9999999999999978E-2},5.0000000000000044E-2,0,0,0,0,{"$f":"IF((AC$169-$Q$25)/($Q$25-15)+1<0,0,IF((AC$169-$Q$25)/($Q$25-15)+1>1,1,((AC$169-$Q$25)/($Q$25-15)+1)))","v":0},{"$f":"IF((AD$169-$Q$25)/($Q$25-15)+1<0,0,IF((AD$169-$Q$25)/($Q$25-15)+1>1,1,((AD$169-$Q$25)/($Q$25-15)+1)))","v":0},{"$f":"IF((AE$169-$Q$25)/($Q$25-15)+1<0,0,IF((AE$169-$Q$25)/($Q$25-15)+1>1,1,((AE$169-$Q$25)/($Q$25-15)+1)))","v":0},0,0,0,0,{"$f":"IF((AJ$169-$Q$25)/($Q$25-15)+1<0,0,IF((AJ$169-$Q$25)/($Q$25-15)+1>1,1,((AJ$169-$Q$25)/($Q$25-15)+1)))","v":0},0,0,0,0,{"$f":"IF((AO$169-$Q$25)/($Q$25-15)+1<0,0,IF((AO$169-$Q$25)/($Q$25-15)+1>1,1,((AO$169-$Q$25)/($Q$25-15)+1)))","v":0},0,0,{"$f":"IF((AR$169-$Q$25)/($Q$25-15)+1<0,0,IF((AR$169-$Q$25)/($Q$25-15)+1>1,1,((AR$169-$Q$25)/($Q$25-15)+1)))","v":0},0,"加熱空調負荷率"]
[null,"βw","加熱COP比",{"$f":"-5.36/10000*D$169*D$169-0.0136*D$169+0.715","v":0.77730399999999999},{"$f":"-5.36/10000*E$169*E$169-0.0136*E$169+0.715","v":0.76959999999999995},0.76082399999999994,0.75097599999999998,0.74005599999999994,0.72806399999999993,{"$f":"9.41/100000*J$169*J$169+0.0473*J$169+0.715","v":0.71499999999999997},{"$f":"9.41/100000*K$169*K$169+0.0473*K$169+0.715","v":0.76239409999999996},0.80997639999999993,0.85774689999999998,0.9057056,{"$f":"9.41/100000*O$169*O$169+0.0473*O$169+0.715","v":0.95385249999999999},{"$f":"-1.59/100000*P$169*P$169+0.0159*P$169+0.891","v":0.98582760000000003},{"$f":"-1.59/100000*Q$169*Q$169+0.0159*Q$169+0.891","v":1.0015209},1.0171824,1.0328121000000001,1.0484100000000001,1.0639761000000001,1.0795104,1.0950129,1.1104836,1.1259224999999999,1.1413296000000002,1.1567049,1.1720484,1.1873601,1.2026400000000002,1.2178881000000001,1.2331044,1.2482888999999999,1.2634416000000002,1.2785625,1.2936516,1.3087089000000001,1.3237344,1.3387281,1.3536900000000001,1.3686201,1.3835184,1.3983848999999999,1.4132196000000001,1.4280225,"加熱COP比"]
[null,null,"Σ",{"$f":"D$182*D$183","v":0},{"$f":"E$182*E$183","v":0},0,0,0,0,0,0,0,0,0,0,0,0,0,0,0,0,0,0,0,0,0,0,0,0,0,0,0,0,0,0,0,0,0,0,0,0,0,0,0,0,{"$f":"SUM($D$186:$AS$186)","v":0}]
[null,null,null,"←着霜領域②",null,null,null,null,"着霜領域②→","←着霜領域①",null,null,null,null,"着霜領域①→","←非着霜領域",null,null,null,null,null,null,null,null,null,null,null,null,null,null,null,null,null,null,null,null,null,null,null,null,null,null,null,null,"非着霜領域→"]
[]
[null,null,"αc^0.6",{"$f":"D163^0.6","v":0},{"$f":"E163^0.6","v":0},0,0,0,0,0,0,0,0,0,0,0,0,0,0,0,0,0,0,0,0,0.16572270086699922,0.25118864315095801,0.3203721497536805,0.3807307877431757,0.43527528164806206,0.48559337483020382,0.53264864506035514,0.57707996236288528,0.61933768760000518,0.6597539553864471,0.69858235788737133,0.7360219228178333,0.77223239099174257,0.8073443754472972,0.84146635908464962,0.87468965915462249,0.90709203901925473,0.93874039335956938,0.96969278258768077,1,"αc^0.6"]
[null,null,"Σ",{"$f":"D161*D189","v":0},{"$f":"E161*E189","v":0},0,0,0,0,0,0,0,0,0,0,0,0,0,0,0,0,0,0,0,0,0,0,0,0,0,0,0,0,0,0,0,0,0,0,0,0,0,0,0,0,{"$f":"SUM(D190:AS190)","v":0}]
[]
[null,null,"αw^0.6",{"$f":"D184^0.6","v":1},{"$f":"E184^0.6","v":1},0.96969278258768077,0.93874039335956938,0.90709203901925473,0.87468965915462249,0.84146635908464962,0.8073443754472972,0.77223239099174268,0.7360219228178333,0.69858235788737133,0.6597539553864471,0.61933768760000518,0.5770799623628855,0.53264864506035514,0.48559337483020387,0.43527528164806206,0.3807307877431757,0.32037214975368061,0.25118864315095801,0.16572270086699945,0,0,0,0,0,0,0,0,0,0,0,0,0,0,0,0,0,0,0,0,0,"αw^0.6"]
[null,null,"Σ",{"$f":"D182*D192","v":0},{"$f":"E182*E192","v":0},0,0,0,0,0,0,0,0,0,0,0,0,0,0,0,0,0,0,0,0,0,0,0,0,0,0,0,0,0,0,0,0,0,0,0,0,0,0,0,0,{"$f":"SUM(D193:AS193)","v":0}]

{"sheet":"管理","index":5,"n_rows":43,"n_cols":10,"rows_kept":43,"cut":false,"hidden":true,"merged":[]}
[]
[null,"管理番号","起票日","起票者","区分","状態","内容","担当者","対応日","対応内容"]
[null,0,"2023-02-01","●●●","バグ／課題／要望","発生／完了／対応なし","発生状況等","■■■","2023-02-05"]
[null,1,"2023-10-27","hayakawa","課題","完了","月別の数値表示","hayakawa","2023-10-27","月別の数値表示"]
[null,2,"2023-11-01","hayakawa","課題","完了","微修正","hayakawa","2023-11-21","微修正"]
[null,3,"2024-03-26","hayakawa","ツール名","完了","変更","hayakawa","2024-03-26","変更"]
[null,4,"2025-01-23","hayakawa","Ver.1.0","完了","バージョン変更","hayakawa","2025-01-23","内容変更"]
[null,5]
[null,6]
[null,7]
[null,8]
[null,9]
[null,10]
[null,11]
[null,12]
[null,13]
[null,14]
[null,15]
[null,16]
[null,17]
[null,18]
[null,19]
[null,20]
[null,21]
[null,22]
[null,23]
[null,24]
[null,25]
[null,26]
[null,27]
[null,28]
[null,29]
[null,30]
[null,31]
[null,32]
[null,33]
[null,34]
[null,35]
[null,36]
[null,37]
[null,38]
[null,39]
[null,40]

{"sheet":"γ一覧表","index":6,"n_rows":104,"n_cols":10,"rows_kept":104,"cut":false,"hidden":true,"merged":[[1,7,1,9],[1,1,1,5]]}
[]
[null,"都道府県",null,null,null,null,null,"個別対応用"]
[null,null,"都道府県名","県庁所在都市名","γ","シート名",null,null,"γ","シート名"]
[null,1,"北海道","札幌",2,"寒冷地(γ既定値)",null,1,0,"温暖地(γ個別入力)"]
[null,2,"青森","青森",1.5,"寒冷地(γ既定値)",null,2,0.1,"温暖地(γ個別入力)"]
[null,3,"岩手","盛岡",1.5,"寒冷地(γ既定値)",null,3,0.2,"温暖地(γ個別入力)"]
[null,4,"宮城","仙台",1,"温暖地(γ既定値)",null,4,0.3,"温暖地(γ個別入力)"]
[null,5,"秋田","秋田",1.5,"寒冷地(γ既定値)",null,5,0.4,"温暖地(γ個別入力)"]
[null,6,"山形","山形",1,"温暖地(γ既定値)",null,6,0.5,"温暖地(γ個別入力)"]
[null,7,"福島","福島",1,"温暖地(γ既定値)",null,7,0.6,"温暖地(γ個別入力)"]
[null,8,"茨城","水戸",0.8,"温暖地(γ既定値)",null,8,0.7,"温暖地(γ個別入力)"]
[null,9,"栃木","宇都宮",1,"温暖地(γ既定値)",null,9,0.8,"温暖地(γ個別入力)"]
[null,10,"群馬","前橋",0.6,"温暖地(γ既定値)",null,10,0.9,"温暖地(γ個別入力)"]
[null,11,"埼玉","さいたま",0.6,"温暖地(γ既定値)",null,11,1,"温暖地(γ個別入力)"]
[null,12,"千葉","千葉",0.6,"温暖地(γ既定値)",null,12,1.1000000000000001,"寒冷地(γ個別入力)"]
[null,13,"東京","東京",0.6,"温暖地(γ既定値)",null,13,1.2,"寒冷地(γ個別入力)"]
[null,14,"神奈川","横浜",0.6,"温暖地(γ既定値)",null,14,1.3,"寒冷地(γ個別入力)"]
[null,15,"新潟","新潟",1,"温暖地(γ既定値)",null,15,1.4,"寒冷地(γ個別入力)"]
[null,16,"富山","富山",0.8,"温暖地(γ既定値)",null,16,1.5,"寒冷地(γ個別入力)"]
[null,17,"石川","金沢",0.6,"温暖地(γ既定値)",null,17,1.6,"寒冷地(γ個別入力)"]
[null,18,"福井","福井",0.6,"温暖地(γ既定値)",null,18,1.7,"寒冷地(γ個別入力)"]
[null,19,"山梨","甲府",0.6,"温暖地(γ既定値)",null,19,1.8,"寒冷地(γ個別入力)"]
[null,20,"長野","長野",1,"温暖地(γ既定値)",null,20,1.9,"寒冷地(γ個別入力)"]
[null,21,"岐阜","岐阜",0.6,"温暖地(γ既定値)",null,21,2,"寒冷地(γ個別入力)"]
[null,22,"静岡","静岡",0.6,"温暖地(γ既定値)",null,22,2.1,"寒冷地(γ個別入力)"]
[null,23,"愛知","名古屋",0.6,"温暖地(γ既定値)",null,23,2.2000000000000002,"寒冷地(γ個別入力)"]
[null,24,"三重","津",0.6,"温暖地(γ既定値)",null,24,2.2999999999999998,"寒冷地(γ個別入力)"]
[null,25,"滋賀","大津",0.8,"温暖地(γ既定値)",null,25,2.4,"寒冷地(γ個別入力)"]
[null,26,"京都","京都",0.6,"温暖地(γ既定値)",null,26,2.5,"寒冷地(γ個別入力)"]
[null,27,"大阪","大阪",0.6,"温暖地(γ既定値)",null,27,2.6,"寒冷地(γ個別入力)"]
[null,28,"兵庫","神戸",0.6,"温暖地(γ既定値)",null,28,2.7,"寒冷地(γ個別入力)"]
[null,29,"奈良","奈良",0.6,"温暖地(γ既定値)",null,29,2.8,"寒冷地(γ個別入力)"]
[null,30,"和歌山","和歌山",0.6,"温暖地(γ既定値)",null,30,2.9,"寒冷地(γ個別入力)"]
[null,31,"鳥取","鳥取",0.6,"温暖地(γ既定値)",null,31,3,"寒冷地(γ個別入力)"]
[null,32,"島根","松江",0.6,"温暖地(γ既定値)",null,32,3.1,"寒冷地(γ個別入力)"]
[null,33,"岡山","岡山",0.6,"温暖地(γ既定値)",null,33,3.2,"寒冷地(γ個別入力)"]
[null,34,"広島","広島",0.6,"温暖地(γ既定値)",null,34,3.3,"寒冷地(γ個別入力)"]
[null,35,"山口","山口",0.6,"温暖地(γ既定値)",null,35,3.4,"寒冷地(γ個別入力)"]
[null,36,"徳島","徳島",0.6,"温暖地(γ既定値)",null,36,3.5,"寒冷地(γ個別入力)"]
[null,37,"香川","高松",0.6,"温暖地(γ既定値)",null,37,3.6,"寒冷地(γ個別入力)"]
[null,38,"愛媛","松山",0.6,"温暖地(γ既定値)",null,38,3.7,"寒冷地(γ個別入力)"]
[null,39,"高知","高知",0.6,"温暖地(γ既定値)",null,39,3.8,"寒冷地(γ個別入力)"]
[null,40,"福岡","福岡",0.6,"温暖地(γ既定値)",null,40,3.9,"寒冷地(γ個別入力)"]
[null,41,"佐賀","佐賀",0.6,"温暖地(γ既定値)",null,41,4,"寒冷地(γ個別入力)"]
[null,42,"長崎","長崎",0.6,"温暖地(γ既定値)",null,42,4.0999999999999996,"寒冷地(γ個別入力)"]
[null,43,"熊本","熊本",0.6,"温暖地(γ既定値)",null,43,4.2,"寒冷地(γ個別入力)"]
[null,44,"大分","大分",0.6,"温暖地(γ既定値)",null,44,4.3,"寒冷地(γ個別入力)"]
[null,45,"宮崎","宮崎",0.4,"温暖地(γ既定値)",null,45,4.4000000000000004,"寒冷地(γ個別入力)"]
[null,46,"鹿児島","鹿児島",0.4,"温暖地(γ既定値)",null,46,4.5,"寒冷地(γ個別入力)"]
[null,47,"沖縄","那覇",0,"温暖地(γ既定値)",null,47,4.5999999999999996,"寒冷地(γ個別入力)"]
[null,null,null,null,null,null,null,48,4.7,"寒冷地(γ個別入力)"]
[null,null,null,null,null,null,null,49,4.8,"寒冷地(γ個別入力)"]
[null,null,null,null,null,null,null,50,4.9000000000000004,"寒冷地(γ個別入力)"]
[null,null,null,null,null,null,null,51,5,"寒冷地(γ個別入力)"]
[null,null,null,null,null,null,null,52,5.0999999999999996,"寒冷地(γ個別入力)"]
[null,null,null,null,null,null,null,53,5.2,"寒冷地(γ個別入力)"]
[null,null,null,null,null,null,null,54,5.3,"寒冷地(γ個別入力)"]
[null,null,null,null,null,null,null,55,5.4,"寒冷地(γ個別入力)"]
[null,null,null,null,null,null,null,56,5.5,"寒冷地(γ個別入力)"]
[null,null,null,null,null,null,null,57,5.6,"寒冷地(γ個別入力)"]
[null,null,null,null,null,null,null,58,5.7,"寒冷地(γ個別入力)"]
[null,null,null,null,null,null,null,59,5.8,"寒冷地(γ個別入力)"]
[null,null,null,null,null,null,null,60,5.9,"寒冷地(γ個別入力)"]
[null,null,null,null,null,null,null,61,6,"寒冷地(γ個別入力)"]
[null,null,null,null,null,null,null,62,6.1,"寒冷地(γ個別入力)"]
[null,null,null,null,null,null,null,63,6.2,"寒冷地(γ個別入力)"]
[null,null,null,null,null,null,null,64,6.3,"寒冷地(γ個別入力)"]
[null,null,null,null,null,null,null,65,6.4,"寒冷地(γ個別入力)"]
[null,null,null,null,null,null,null,66,6.5,"寒冷地(γ個別入力)"]
[null,null,null,null,null,null,null,67,6.6,"寒冷地(γ個別入力)"]
[null,null,null,null,null,null,null,68,6.7,"寒冷地(γ個別入力)"]
[null,null,null,null,null,null,null,69,6.8000000000000096,"寒冷地(γ個別入力)"]
[null,null,null,null,null,null,null,70,6.9000000000000101,"寒冷地(γ個別入力)"]
[null,null,null,null,null,null,null,71,7.0000000000000098,"寒冷地(γ個別入力)"]
[null,null,null,null,null,null,null,72,7.1000000000000103,"寒冷地(γ個別入力)"]
[null,null,null,null,null,null,null,73,7.2000000000000099,"寒冷地(γ個別入力)"]
[null,null,null,null,null,null,null,74,7.3000000000000096,"寒冷地(γ個別入力)"]
[null,null,null,null,null,null,null,75,7.4000000000000101,"寒冷地(γ個別入力)"]
[null,null,null,null,null,null,null,76,7.5000000000000098,"寒冷地(γ個別入力)"]
[null,null,null,null,null,null,null,77,7.6000000000000103,"寒冷地(γ個別入力)"]
[null,null,null,null,null,null,null,78,7.7000000000000099,"寒冷地(γ個別入力)"]
[null,null,null,null,null,null,null,79,7.8000000000000096,"寒冷地(γ個別入力)"]
[null,null,null,null,null,null,null,80,7.9000000000000101,"寒冷地(γ個別入力)"]
[null,null,null,null,null,null,null,81,8.0000000000000107,"寒冷地(γ個別入力)"]
[null,null,null,null,null,null,null,82,8.1000000000000103,"寒冷地(γ個別入力)"]
[null,null,null,null,null,null,null,83,8.2000000000000099,"寒冷地(γ個別入力)"]
[null,null,null,null,null,null,null,84,8.3000000000000096,"寒冷地(γ個別入力)"]
[null,null,null,null,null,null,null,85,8.4000000000000092,"寒冷地(γ個別入力)"]
[null,null,null,null,null,null,null,86,8.5000000000000195,"寒冷地(γ個別入力)"]
[null,null,null,null,null,null,null,87,8.6000000000000192,"寒冷地(γ個別入力)"]
[null,null,null,null,null,null,null,88,8.7000000000000206,"寒冷地(γ個別入力)"]
[null,null,null,null,null,null,null,89,8.8000000000000203,"寒冷地(γ個別入力)"]
[null,null,null,null,null,null,null,90,8.9000000000000199,"寒冷地(γ個別入力)"]
[null,null,null,null,null,null,null,91,9.0000000000000195,"寒冷地(γ個別入力)"]
[null,null,null,null,null,null,null,92,9.1000000000000192,"寒冷地(γ個別入力)"]
[null,null,null,null,null,null,null,93,9.2000000000000206,"寒冷地(γ個別入力)"]
[null,null,null,null,null,null,null,94,9.3000000000000203,"寒冷地(γ個別入力)"]
[null,null,null,null,null,null,null,95,9.4000000000000199,"寒冷地(γ個別入力)"]
[null,null,null,null,null,null,null,96,9.5000000000000195,"寒冷地(γ個別入力)"]
[null,null,null,null,null,null,null,97,9.6000000000000192,"寒冷地(γ個別入力)"]
[null,null,null,null,null,null,null,98,9.7000000000000206,"寒冷地(γ個別入力)"]
[null,null,null,null,null,null,null,99,9.8000000000000203,"寒冷地(γ個別入力)"]
[null,null,null,null,null,null,null,100,9.9000000000000199,"寒冷地(γ個別入力)"]
[null,null,null,null,null,null,null,101,10,"寒冷地(γ個別入力)"]

{"sheet":"札幌","index":7,"n_rows":16,"n_cols":25,"rows_kept":16,"cut":false,"hidden":true,"merged":[]}
["気象データ"]
[{"$f":"RIGHT(CELL(\"filename\",A2),LEN(CELL(\"filename\",A2))-FIND(\"]\",CELL(\"filename\",A2)))","v":"札幌"},{"$f":"VLOOKUP(A2,γ一覧表!$D$4:$E$50,2,FALSE)","v":2},"暖・冷房負荷比(γ)"]
["時刻別平均気温"]
["時刻",0,1,2,3,4,5,6,7,8,9,10,11,12,13,14,15,16,17,18,19,20,21,22,23]
["4月",5.5,5.3,5.0999999999999996,4.8,4.5999999999999996,4.5,4.8,5.7,7,8.1,9,9.6999999999999993,10.1,10.3,10.199999999999999,9.9,9.4,8.6999999999999993,8,7.4,7,6.7,6.3,6]
["5月",10.9,10.7,10.4,10.199999999999999,10,10,10.7,11.8,13,14.1,15.1,15.8,16.2,16.3,16.100000000000001,15.8,15.2,14.6,13.8,13,12.5,12.1,11.8,11.4]
["6月",15.1,14.8,14.6,14.3,14.2,14.3,14.9,15.9,17.100000000000001,18.2,19.100000000000001,19.8,20.2,20.3,20.2,19.7,19.2,18.5,17.8,17.100000000000001,16.5,16.100000000000001,15.8,15.5]
["7月",19.399999999999999,19.2,19,18.8,18.600000000000001,18.7,19.2,20.100000000000001,21.1,22.1,23,23.6,24.1,24.2,24.1,23.8,23.2,22.6,21.9,21.2,20.7,20.399999999999999,20.100000000000001,19.8]
["8月",20.8,20.6,20.399999999999999,20.2,20,19.899999999999999,20.2,21.1,22.2,23.2,24.1,24.7,25.1,25.3,25.2,24.8,24.3,23.7,23,22.4,22,21.6,21.3,21]
["9月",17.100000000000001,16.8,16.5,16.3,16.100000000000001,15.9,16,17,18.399999999999999,19.7,20.6,21.2,21.5,21.7,21.6,21.3,20.7,20,19.3,18.7,18.3,17.899999999999999,17.5,17.2]
["10月",10.7,10.5,10.199999999999999,10,9.8000000000000007,9.6999999999999993,9.6,10.199999999999999,11.6,13,14,14.7,15.1,15.2,15.1,14.7,14.1,13.3,12.6,12.1,11.7,11.4,11,10.8]
["11月",4.4000000000000004,4.3,4.2,4,3.9,3.8,3.8,3.9,4.5999999999999996,5.7,6.4,7,7.3,7.4,7.2,6.8,6.4,5.8,5.5,5.2,4.9000000000000004,4.7,4.5,4.3]
["12月",-1.5,-1.7,-1.7,-1.8,-1.9,-2,-2,-2,-1.7,-0.9,-0.2,0.3,0.6,0.7,0.6,0.3,-0.1,-0.4,-0.7,-0.9,-1.1000000000000001,-1.2,-1.4,-1.5]
["1月",-4,-4.2,-4.3,-4.4000000000000004,-4.5,-4.5999999999999996,-4.5999999999999996,-4.7,-4.4000000000000004,-3.5,-2.8,-2.1,-1.8,-1.6,-1.7,-1.9,-2.2000000000000002,-2.6,-2.9,-3.1,-3.4,-3.6,-3.7,-3.9]
["2月",-3.5,-3.7,-3.9,-4.0999999999999996,-4.3,-4.4000000000000004,-4.5,-4.5,-3.8,-2.7,-1.9,-1.3,-1,-0.8,-0.8,-0.9,-1.3,-1.8,-2.1,-2.4,-2.6,-2.8,-3,-3.2]
["3月",0.1,-0.1,-0.3,-0.4,-0.6,-0.7,-0.8,-0.3,0.7,1.7,2.5,3,3.3,3.4,3.4,3.1,2.8,2.2999999999999998,1.8,1.5,1.2,1,0.7,0.5]

{"sheet":"青森","index":8,"n_rows":16,"n_cols":25,"rows_kept":16,"cut":false,"hidden":true,"merged":[]}
["気象データ"]
[{"$f":"RIGHT(CELL(\"filename\",A2),LEN(CELL(\"filename\",A2))-FIND(\"]\",CELL(\"filename\",A2)))","v":"青森"},{"$f":"VLOOKUP(A2,γ一覧表!$D$4:$E$50,2,FALSE)","v":1.5},"暖・冷房負荷比(γ)"]
["時刻別平均気温"]
["時刻",0,1,2,3,4,5,6,7,8,9,10,11,12,13,14,15,16,17,18,19,20,21,22,23]
["4月",6.4,6.1,5.9,5.6,5.4,5.3,5.7,7.2,8.6,9.6999999999999993,10.6,11.2,11.7,11.9,11.9,11.6,11.2,10.4,9.6,8.9,8.3000000000000007,7.8,7.3,6.9]
["5月",11.5,11.2,10.9,10.7,10.5,10.5,11.4,12.7,13.9,14.9,15.7,16.3,16.7,16.899999999999999,16.899999999999999,16.7,16.3,15.6,14.8,14,13.4,12.9,12.4,12]
["6月",15.7,15.4,15.1,14.9,14.7,14.9,15.6,16.600000000000001,17.5,18.399999999999999,19.2,19.7,20.100000000000001,20.3,20.3,20.2,19.899999999999999,19.3,18.600000000000001,17.899999999999999,17.399999999999999,16.899999999999999,16.5,16.2]
["7月",20.100000000000001,19.899999999999999,19.7,19.5,19.399999999999999,19.399999999999999,19.899999999999999,20.8,21.7,22.6,23.3,23.9,24.3,24.4,24.3,24.2,23.9,23.4,22.8,22.1,21.6,21.2,20.8,20.5]
["8月",21.9,21.6,21.4,21.2,21,20.9,21.3,22.4,23.5,24.4,25.1,25.7,26.1,26.4,26.3,26.1,25.7,25.1,24.4,23.7,23.2,22.8,22.5,22.1]
["9月",17.899999999999999,17.7,17.399999999999999,17.2,17,16.8,16.899999999999999,18.100000000000001,19.899999999999999,21.2,22.1,22.7,23.1,23.3,23.3,23,22.4,21.7,20.8,20.100000000000001,19.5,19,18.5,18.100000000000001]
["10月",11.6,11.4,11.1,11,10.8,10.7,10.6,11.4,13.3,14.9,15.9,16.5,16.899999999999999,17.100000000000001,17,16.7,16,15.1,14.2,13.4,12.9,12.5,12.1,11.7]
["11月",6.1,5.9,5.8,5.6,5.5,5.4,5.4,5.6,6.6,7.9,8.9,9.4,9.6999999999999993,9.9,9.6999999999999993,9.4,8.8000000000000007,8.1,7.5,7,6.7,6.5,6.2,6.1]
["12月",0.6,0.5,0.5,0.4,0.3,0.3,0.3,0.3,0.7,1.4,2.2000000000000002,2.7,3,3,2.9,2.7,2.2999999999999998,1.8,1.5,1.3,1.1000000000000001,0.9,0.8,0.7]
["1月",-1.6,-1.7,-1.8,-1.9,-2,-2,-2.1,-2,-1.7,-1.1000000000000001,-0.4,0.1,0.4,0.5,0.5,0.3,-0.1,-0.5,-0.8,-1,-1.2,-1.4,-1.5,-1.6]
["2月",-1.4,-1.5,-1.6,-1.7,-1.7,-1.8,-1.8,-1.8,-1.1000000000000001,-0.2,0.5,1.1000000000000001,1.4,1.5,1.5,1.3,0.9,0.4,0,-0.3,-0.6,-0.8,-1,-1.2]
["3月",1.5,1.3,1.1000000000000001,0.9,0.8,0.7,0.7,1.3,2.6,3.7,4.4000000000000004,4.9000000000000004,5.3,5.5,5.5,5.3,4.9000000000000004,4.3,3.6,3.1,2.7,2.4,2.1,1.8]

{"sheet":"盛岡","index":9,"n_rows":16,"n_cols":25,"rows_kept":16,"cut":false,"hidden":true,"merged":[]}
["気象データ"]
[{"$f":"RIGHT(CELL(\"filename\",A2),LEN(CELL(\"filename\",A2))-FIND(\"]\",CELL(\"filename\",A2)))","v":"盛岡"},{"$f":"VLOOKUP(A2,γ一覧表!$D$4:$E$50,2,FALSE)","v":1.5},"暖・冷房負荷比(γ)"]
["時刻別平均気温"]
["時刻",0,1,2,3,4,5,6,7,8,9,10,11,12,13,14,15,16,17,18,19,20,21,22,23]
["4月",6.1,5.6,5.3,4.9000000000000004,4.7,4.4000000000000004,4.7,6.1,7.6,9.1999999999999993,10.5,11.6,12.4,12.8,13,12.9,12.5,11.7,10.7,9.6999999999999993,8.8000000000000007,8,7.3,6.8]
["5月",11.8,11.4,11,10.6,10.3,10.199999999999999,11,12.3,13.7,15.1,16.3,17.5,18.3,18.8,19,18.899999999999999,18.5,17.8,16.8,15.7,14.7,13.8,13.1,12.5]
["6月",16.3,15.9,15.5,15.2,15,15,15.8,16.899999999999999,18.100000000000001,19.3,20.399999999999999,21.4,22.2,22.6,22.9,22.9,22.5,21.8,20.9,19.899999999999999,19,18.2,17.5,16.899999999999999]
["7月",20.5,20.2,19.899999999999999,19.7,19.5,19.399999999999999,19.899999999999999,20.8,21.8,22.9,23.9,24.7,25.4,25.9,26,26,25.7,25.1,24.2,23.3,22.5,21.9,21.4,20.9]
["8月",21.6,21.3,21.1,20.8,20.7,20.5,20.8,21.7,22.8,24,25.1,26,26.7,27.1,27.2,27.1,26.7,26.1,25.1,24,23.3,22.8,22.2,21.9]
["9月",17.3,17,16.8,16.600000000000001,16.3,16.2,16.2,17.100000000000001,18.399999999999999,19.8,21,22,22.7,23.1,23.2,23,22.5,21.6,20.399999999999999,19.5,18.8,18.3,17.8,17.5]
["10月",10.7,10.4,10.199999999999999,9.9,9.6999999999999993,9.5,9.3000000000000007,9.9,11.4,13,14.5,15.6,16.399999999999999,16.8,16.899999999999999,16.7,16,14.7,13.6,12.8,12.2,11.7,11.2,10.8]
["11月",4.9000000000000004,4.5999999999999996,4.4000000000000004,4.2,4,3.9,3.7,3.8,4.9000000000000004,6.3,7.6,8.6,9.4,9.6999999999999993,9.8000000000000007,9.6,8.8000000000000007,7.8,7,6.5,5.9,5.6,5.2,4.9000000000000004]
["12月",0,-0.2,-0.4,-0.5,-0.7,-0.8,-0.9,-1,-0.5,0.6,1.6,2.4,3,3.3,3.3,3.1,2.4,1.7,1.3,0.9,0.6,0.4,0.2,0]
["1月",-2.8,-3,-3.2,-3.3,-3.5,-3.6,-3.8,-3.8,-3.3,-2.1,-1,-0.1,0.5,0.8,0.9,0.7,0.2,-0.5,-1,-1.3,-1.7,-2,-2.2999999999999998,-2.6]
["2月",-2.2000000000000002,-2.4,-2.6,-2.9,-3.1,-3.3,-3.5,-3.4,-2.5,-1.1000000000000001,0,0.9,1.6,2,2,2,1.5,0.8,0.2,-0.3,-0.7,-1.1000000000000001,-1.4,-1.7]
["3月",1,0.6,0.4,0.1,-0.1,-0.3,-0.4,0.2,1.5,2.9,4.0999999999999996,5,5.7,6.1,6.3,6.1,5.7,4.9000000000000004,4.0999999999999996,3.4,2.8,2.2000000000000002,1.8,1.4]

{"sheet":"仙台","index":10,"n_rows":16,"n_cols":25,"rows_kept":16,"cut":false,"hidden":true,"merged":[]}
["気象データ"]
[{"$f":"RIGHT(CELL(\"filename\",A2),LEN(CELL(\"filename\",A2))-FIND(\"]\",CELL(\"filename\",A2)))","v":"仙台"},{"$f":"VLOOKUP(A2,γ一覧表!$D$4:$E$50,2,FALSE)","v":1},"暖・冷房負荷比(γ)"]
["時刻別平均気温"]
["時刻",0,1,2,3,4,5,6,7,8,9,10,11,12,13,14,15,16,17,18,19,20,21,22,23]
["4月",8.8000000000000007,8.5,8.3000000000000007,8,7.7,7.5,7.8,8.8000000000000007,10.3,11.6,12.7,13.4,13.7,13.9,13.8,13.5,13.1,12.4,11.5,10.9,10.5,10.1,9.6999999999999993,9.4]
["5月",13.8,13.6,13.3,13,12.8,12.7,13.3,14.3,15.7,16.899999999999999,17.8,18.3,18.5,18.600000000000001,18.5,18.2,17.8,17.2,16.399999999999999,15.7,15.2,14.8,14.5,14.2]
["6月",17.600000000000001,17.399999999999999,17.2,17,16.899999999999999,16.899999999999999,17.3,18.100000000000001,19.2,20.100000000000001,20.9,21.3,21.5,21.6,21.5,21.2,20.9,20.399999999999999,19.8,19.2,18.8,18.5,18.2,18]
["7月",21.6,21.4,21.2,21.1,20.9,20.9,21.2,21.9,22.8,23.7,24.4,24.9,25.1,25.3,25.2,24.9,24.5,24.1,23.5,23,22.6,22.3,22.1,21.9]
["8月",23.3,23.1,22.8,22.6,22.5,22.4,22.6,23.2,24.2,25.2,26,26.6,26.9,26.9,26.8,26.6,26.2,25.6,25,24.5,24.2,23.9,23.7,23.4]
["9月",20,19.8,19.5,19.3,19,18.899999999999999,18.899999999999999,19.5,20.7,21.8,22.7,23.3,23.6,23.8,23.7,23.4,23,22.3,21.7,21.4,21,20.7,20.5,20.2]
["10月",14.4,14,13.8,13.5,13.3,13.1,13,13.5,14.8,16.100000000000001,17.3,18.100000000000001,18.600000000000001,18.8,18.7,18.3,17.7,17,16.399999999999999,16,15.6,15.2,14.8,14.5]
["11月",8.6,8.3000000000000007,8.1,7.9,7.7,7.5,7.4,7.6,8.6,10,11.2,12.2,12.7,13,12.9,12.5,11.8,11,10.5,10.1,9.6999999999999993,9.3000000000000007,9,8.6]
["12月",3.4,3.3,3.1,2.9,2.8,2.7,2.5,2.6,3.2,4.4000000000000004,5.4,6.3,6.9,7.1,7.1,6.7,6.1,5.4,5,4.5999999999999996,4.3,4,3.8,3.5]
["1月",0.9,0.7,0.5,0.3,0.2,0.1,0,-0.1,0.6,1.7,2.8,3.7,4.2,4.4000000000000004,4.4000000000000004,4.2,3.6,2.9,2.4,2.1,1.8,1.5,1.3,1.1000000000000001]
["2月",1.2,1,0.8,0.6,0.4,0.3,0.2,0.3,1.2,2.5,3.6,4.5,5,5.3,5.3,5,4.5,3.8,3.2,2.8,2.4,2.1,1.9,1.6]
["3月",4.0999999999999996,3.8,3.6,3.3,3.1,2.9,2.9,3.5,4.7,6,7.2,7.9,8.4,8.6,8.6,8.4,7.9,7.2,6.4,6,5.6,5.2,4.8,4.5]

{"sheet":"秋田","index":11,"n_rows":16,"n_cols":25,"rows_kept":16,"cut":false,"hidden":true,"merged":[]}
["気象データ"]
[{"$f":"RIGHT(CELL(\"filename\",A2),LEN(CELL(\"filename\",A2))-FIND(\"]\",CELL(\"filename\",A2)))","v":"秋田"},{"$f":"VLOOKUP(A2,γ一覧表!$D$4:$E$50,2,FALSE)","v":1.5},"暖・冷房負荷比(γ)"]
["時刻別平均気温"]
["時刻",0,1,2,3,4,5,6,7,8,9,10,11,12,13,14,15,16,17,18,19,20,21,22,23]
["4月",7.8,7.5,7.2,6.9,6.7,6.5,6.7,7.6,9.1,10.5,11.5,12.1,12.4,12.6,12.5,12.3,11.9,11.4,10.7,10.1,9.6999999999999993,9.1999999999999993,8.6999999999999993,8.3000000000000007]
["5月",13.3,12.9,12.6,12.4,12.2,12.1,12.5,13.6,15,16.2,17.100000000000001,17.8,18,18.100000000000001,18,17.8,17.5,17,16.3,15.6,15.2,14.7,14.2,13.8]
["6月",17.7,17.399999999999999,17.2,16.899999999999999,16.7,16.7,17.2,18.2,19.5,20.6,21.4,22,22.3,22.4,22.4,22.2,21.9,21.4,20.8,20.100000000000001,19.5,19.100000000000001,18.600000000000001,18.2]
["7月",22,21.7,21.5,21.3,21.1,21,21.4,22.3,23.3,24.3,25.1,25.6,25.9,26,26,25.9,25.6,25.2,24.6,24,23.5,23.1,22.8,22.4]
["8月",23.5,23.2,22.9,22.7,22.5,22.3,22.5,23.4,24.7,25.9,26.8,27.4,27.8,28,28,27.8,27.4,26.9,26.2,25.6,25.1,24.6,24.1,23.7]
["9月",19.3,19,18.7,18.5,18.3,18.100000000000001,18.100000000000001,18.8,20.100000000000001,21.5,22.7,23.5,24,24.3,24.3,24,23.6,22.9,22.1,21.4,20.8,20.2,19.8,19.399999999999999]
["10月",12.9,12.7,12.4,12.2,12,11.8,11.7,12.1,13.3,14.8,16.100000000000001,17.100000000000001,17.600000000000001,17.899999999999999,17.899999999999999,17.600000000000001,17.100000000000001,16.3,15.6,14.9,14.3,13.7,13.3,13]
["11月",7.4,7.2,7.1,6.9,6.8,6.6,6.5,6.6,7.1,8.1999999999999993,9.3000000000000007,10.1,10.5,10.8,10.8,10.6,10.1,9.5,9,8.5,8.1,7.8,7.6,7.3]
["12月",2.2999999999999998,2.2000000000000002,2.1,2,2,1.9,1.8,1.8,1.9,2.5,3.1,3.6,4,4.2,4.2,4.0999999999999996,3.7,3.4,3.2,2.9,2.7,2.6,2.4,2.2999999999999998]
["1月",-0.1,-0.3,-0.3,-0.4,-0.5,-0.5,-0.6,-0.6,-0.4,0,0.5,1.1000000000000001,1.4,1.6,1.6,1.5,1.2,0.8,0.7,0.5,0.3,0.2,0,-0.1]
["2月",0.1,0,-0.1,-0.2,-0.3,-0.4,-0.5,-0.5,-0.1,0.6,1.4,2,2.4,2.5,2.6,2.5,2.2000000000000002,1.8,1.4,1.1000000000000001,0.9,0.7,0.5,0.3]
["3月",2.8,2.6,2.5,2.2999999999999998,2.1,2.1,2,2.2999999999999998,3.2,4.4000000000000004,5.3,6,6.4,6.6,6.6,6.4,6,5.5,5,4.7,4.2,3.9,3.5,3.2]

{"sheet":"山形","index":12,"n_rows":16,"n_cols":25,"rows_kept":16,"cut":false,"hidden":true,"merged":[]}
["気象データ"]
[{"$f":"RIGHT(CELL(\"filename\",A2),LEN(CELL(\"filename\",A2))-FIND(\"]\",CELL(\"filename\",A2)))","v":"山形"},{"$f":"VLOOKUP(A2,γ一覧表!$D$4:$E$50,2,FALSE)","v":1},"暖・冷房負荷比(γ)"]
["時刻別平均気温"]
["時刻",0,1,2,3,4,5,6,7,8,9,10,11,12,13,14,15,16,17,18,19,20,21,22,23]
["4月",7.6,7.2,6.8,6.4,6.1,5.8,6,7.1,8.6,10.3,11.8,13.1,14.1,14.7,15,14.8,14.3,13.5,12.3,11.2,10.4,9.6,8.9,8.3000000000000007]
["5月",13.5,13,12.6,12.2,11.8,11.7,12.3,13.4,14.8,16.399999999999999,17.899999999999999,19.3,20.3,21,21.2,21.1,20.5,19.600000000000001,18.5,17.3,16.3,15.4,14.7,14.1]
["6月",17.8,17.399999999999999,17,16.7,16.399999999999999,16.399999999999999,17,17.899999999999999,19.2,20.5,21.8,22.9,23.9,24.4,24.6,24.5,24.1,23.3,22.3,21.3,20.399999999999999,19.7,19,18.5]
["7月",21.8,21.5,21.2,21,20.8,20.7,21.1,21.9,23,24.3,25.4,26.4,27.2,27.7,27.8,27.6,27.2,26.5,25.6,24.6,23.9,23.3,22.8,22.3]
["8月",23,22.7,22.4,22.1,21.9,21.7,22,22.8,24,25.4,26.7,27.8,28.5,29,29.2,28.9,28.4,27.6,26.6,25.6,24.9,24.3,23.8,23.3]
["9月",18.7,18.399999999999999,18.2,17.899999999999999,17.600000000000001,17.399999999999999,17.5,18.2,19.3,20.7,22,23.1,23.9,24.4,24.6,24.5,23.9,23,21.9,21.1,20.5,19.899999999999999,19.399999999999999,18.899999999999999]
["10月",12.3,12,11.8,11.5,11.3,11.1,10.9,11.5,12.6,14,15.5,16.7,17.600000000000001,18.2,18.3,18.2,17.399999999999999,16.2,15.3,14.5,13.9,13.3,12.9,12.5]
["11月",6.4,6.2,6,5.8,5.6,5.4,5.3,5.4,6.3,7.5,8.8000000000000007,9.9,10.7,11.3,11.4,11.2,10.4,9.3000000000000007,8.6,8.1,7.6,7.2,6.8,6.5]
["12月",1.5,1.3,1.2,1.1000000000000001,0.9,0.8,0.7,0.7,1.2,2.1,3,3.8,4.4000000000000004,4.7,4.8,4.5999999999999996,4,3.3,2.8,2.5,2.2000000000000002,2,1.8,1.6]
["1月",-1,-1.1000000000000001,-1.3,-1.4,-1.5,-1.7,-1.7,-1.8,-1.4,-0.5,0.4,1.1000000000000001,1.6,2,2,1.8,1.4,0.8,0.3,0,-0.3,-0.5,-0.7,-0.9]
["2月",-0.7,-0.9,-1.2,-1.4,-1.5,-1.7,-1.8,-1.7,-1,0.1,1.2,2.1,2.6,3,3.1,3,2.6,1.9,1.3,0.8,0.4,0.1,-0.1,-0.4]
["3月",2.2999999999999998,2,1.7,1.4,1.2,1,0.9,1.4,2.6,3.9,5.2,6.3,7,7.6,7.8,7.7,7.3,6.5,5.5,4.7,4.0999999999999996,3.6,3.2,2.8]

{"sheet":"福島","index":13,"n_rows":16,"n_cols":25,"rows_kept":16,"cut":false,"hidden":true,"merged":[]}
["気象データ"]
[{"$f":"RIGHT(CELL(\"filename\",A2),LEN(CELL(\"filename\",A2))-FIND(\"]\",CELL(\"filename\",A2)))","v":"福島"},{"$f":"VLOOKUP(A2,γ一覧表!$D$4:$E$50,2,FALSE)","v":1},"暖・冷房負荷比(γ)"]
["時刻別平均気温"]
["時刻",0,1,2,3,4,5,6,7,8,9,10,11,12,13,14,15,16,17,18,19,20,21,22,23]
["4月",9.4,9,8.6,8.1999999999999993,7.9,7.6,7.8,8.6999999999999993,10.3,11.9,13.4,14.6,15.4,16,16.3,16.100000000000001,15.5,14.6,13.4,12.5,11.7,11.1,10.6,10.1]
["5月",14.7,14.3,13.9,13.5,13.2,13,13.5,14.6,16.100000000000001,17.600000000000001,19,20.2,21.1,21.7,21.8,21.6,21,20.2,19.100000000000001,18,17.100000000000001,16.399999999999999,15.9,15.3]
["6月",18.5,18.2,17.899999999999999,17.600000000000001,17.3,17.3,17.7,18.600000000000001,19.7,20.9,22.2,23.2,24,24.5,24.6,24.5,24,23.3,22.3,21.4,20.6,20,19.5,19]
["7月",22.4,22.1,21.9,21.7,21.5,21.4,21.7,22.5,23.5,24.6,25.7,26.6,27.4,27.8,27.9,27.7,27.3,26.6,25.7,24.9,24.1,23.6,23.2,22.8]
["8月",23.7,23.4,23.2,23,22.8,22.6,22.8,23.4,24.5,25.7,26.9,28,28.8,29.2,29.4,29.1,28.6,27.8,26.8,25.9,25.3,24.8,24.3,24]
["9月",20,19.600000000000001,19.399999999999999,19.2,19,18.8,18.7,19.3,20.399999999999999,21.6,22.8,23.8,24.5,25,25.1,24.9,24.4,23.5,22.6,21.8,21.3,20.9,20.5,20.100000000000001]
["10月",14.1,13.8,13.5,13.2,13,12.8,12.6,13,14.1,15.6,16.899999999999999,18.100000000000001,18.899999999999999,19.3,19.5,19.3,18.600000000000001,17.5,16.7,16,15.5,15,14.6,14.2]
["11月",8.1999999999999993,7.9,7.6,7.3,7.1,6.9,6.7,6.8,7.7,9,10.4,11.7,12.6,13.2,13.3,13.1,12.3,11.3,10.6,10.1,9.6,9.1,8.6999999999999993,8.4]
["12月",3.3,3.1,2.9,2.7,2.5,2.4,2.2000000000000002,2.2000000000000002,2.6,3.6,4.8,5.8,6.7,7.1,7.3,7,6.4,5.7,5.0999999999999996,4.7,4.3,4,3.7,3.4]
["1月",0.7,0.5,0.3,0.1,0,-0.1,-0.2,-0.2,0.2,1.2,2.2999999999999998,3.3,4.2,4.5,4.5999999999999996,4.3,3.7,3,2.6,2.2000000000000002,1.8,1.5,1.2,1]
["2月",1.3,1,0.7,0.5,0.4,0.2,0.1,0.1,0.8,2,3.3,4.4000000000000004,5.2,5.7,5.9,5.7,5.0999999999999996,4.3,3.6,3.1,2.7,2.2999999999999998,2,1.7]
["3月",4.2,3.8,3.5,3.2,3,2.8,2.7,3.1,4.4000000000000004,5.8,7.2,8.4,9.1999999999999993,9.8000000000000007,10,9.8000000000000007,9.1999999999999993,8.3000000000000007,7.3,6.6,6.1,5.6,5.0999999999999996,4.7]

{"sheet":"水戸","index":14,"n_rows":16,"n_cols":25,"rows_kept":16,"cut":false,"hidden":true,"merged":[]}
["気象データ"]
[{"$f":"RIGHT(CELL(\"filename\",A2),LEN(CELL(\"filename\",A2))-FIND(\"]\",CELL(\"filename\",A2)))","v":"水戸"},{"$f":"VLOOKUP(A2,γ一覧表!$D$4:$E$50,2,FALSE)","v":0.8},"暖・冷房負荷比(γ)"]
["時刻別平均気温"]
["時刻",0,1,2,3,4,5,6,7,8,9,10,11,12,13,14,15,16,17,18,19,20,21,22,23]
["4月",10,9.5,9.1,8.8000000000000007,8.4,8.1999999999999993,8.4,9.6999999999999993,11.7,13.6,14.9,15.7,16.2,16.399999999999999,16.2,15.9,15.3,14.5,13.7,13,12.5,12,11.3,10.8]
["5月",15,14.6,14.2,13.9,13.7,13.5,14,15.3,17,18.399999999999999,19.399999999999999,20.100000000000001,20.5,20.6,20.5,20.100000000000001,19.5,18.899999999999999,18.100000000000001,17.399999999999999,16.899999999999999,16.5,16.100000000000001,15.6]
["6月",18.7,18.399999999999999,18.2,17.899999999999999,17.7,17.7,18.100000000000001,19.100000000000001,20.3,21.4,22.1,22.7,23,23.1,23,22.7,22.2,21.6,21,20.3,19.899999999999999,19.600000000000001,19.399999999999999,19.100000000000001]
["7月",22.5,22.3,22.1,21.9,21.8,21.7,22.1,23,24.1,25.2,26.1,26.7,27,27.1,27.1,26.7,26.2,25.6,24.9,24.2,23.7,23.3,23.1,22.8]
["8月",24,23.7,23.5,23.3,23.1,22.9,23.2,24.2,25.5,26.7,27.7,28.3,28.7,28.9,28.7,28.3,27.8,27.1,26.2,25.6,25.2,24.9,24.6,24.2]
["9月",20.399999999999999,20.2,19.899999999999999,19.7,19.600000000000001,19.399999999999999,19.399999999999999,20.3,21.7,23.1,24.2,24.8,25.1,25.2,25.1,24.7,24.1,23.4,22.7,22.2,21.9,21.5,21.1,20.6]
["10月",14.7,14.5,14.2,14,13.8,13.6,13.5,14.1,15.6,17.399999999999999,18.8,19.7,20.100000000000001,20.3,20.2,19.8,19.100000000000001,18.2,17.600000000000001,17,16.3,15.7,15.3,14.9]
["11月",8.8000000000000007,8.4,8.1999999999999993,7.9,7.6,7.4,7.2,7.4,8.8000000000000007,11,13.1,14.5,15.2,15.6,15.5,15,14.2,13.2,12.3,11.4,10.6,9.9,9.4,8.9]
["12月",3.4,3,2.7,2.5,2.2999999999999998,2.1,1.9,1.8,2.9,4.9000000000000004,7.3,9,10.1,10.6,10.6,10.199999999999999,9.3000000000000007,8.1999999999999993,7.3,6.2,5.4,4.7,4.0999999999999996,3.6]
["1月",1.1000000000000001,0.7,0.4,0.1,-0.2,-0.4,-0.6,-0.7,0.3,2.4,4.8,6.6,7.6,8.1999999999999993,8.3000000000000007,8,7.2,6.1,5.0999999999999996,4.2,3.3,2.6,2,1.5]
["2月",1.8,1.4,1.1000000000000001,0.7,0.5,0.3,0.1,0.2,1.6,3.8,5.9,7.4,8.1999999999999993,8.6999999999999993,8.8000000000000007,8.5,7.8,6.9,6,5.0999999999999996,4.4000000000000004,3.6,3,2.4]
["3月",5.3,4.8,4.5,4.0999999999999996,3.8,3.6,3.4,4.0999999999999996,5.9,8,9.6999999999999993,10.8,11.4,11.7,11.7,11.4,10.8,10,9.1,8.4,7.8,7.2,6.5,5.9]

{"sheet":"宇都宮","index":15,"n_rows":16,"n_cols":25,"rows_kept":16,"cut":false,"hidden":true,"merged":[]}
["気象データ"]
[{"$f":"RIGHT(CELL(\"filename\",A2),LEN(CELL(\"filename\",A2))-FIND(\"]\",CELL(\"filename\",A2)))","v":"宇都宮"},{"$f":"VLOOKUP(A2,γ一覧表!$D$4:$E$50,2,FALSE)","v":1},"暖・冷房負荷比(γ)"]
["時刻別平均気温"]
["時刻",0,1,2,3,4,5,6,7,8,9,10,11,12,13,14,15,16,17,18,19,20,21,22,23]
["4月",10.3,9.9,9.4,9,8.6999999999999993,8.4,8.6,9.9,11.5,13.1,14.5,15.6,16.5,17.100000000000001,17.399999999999999,17.3,16.899999999999999,15.9,14.7,13.6,12.8,12.1,11.6,11]
["5月",15.5,15.1,14.7,14.4,14.1,13.9,14.5,15.6,17,18.3,19.399999999999999,20.5,21.2,21.8,22,22,21.5,20.7,19.600000000000001,18.5,17.7,17.100000000000001,16.5,16]
["6月",19.2,18.899999999999999,18.600000000000001,18.399999999999999,18.100000000000001,18.100000000000001,18.600000000000001,19.399999999999999,20.399999999999999,21.5,22.4,23.3,24,24.5,24.6,24.5,24.2,23.6,22.7,21.8,21,20.5,20,19.600000000000001]
["7月",22.9,22.7,22.5,22.3,22.1,22,22.3,23.1,24,25.1,26.1,26.9,27.6,28.1,28.3,28.2,27.9,27.2,26.3,25.3,24.6,24.1,23.7,23.3]
["8月",24.1,23.9,23.7,23.5,23.3,23.2,23.4,24.2,25.2,26.3,27.4,28.3,29.1,29.6,29.7,29.6,29.1,28.3,27.2,26.3,25.6,25.1,24.7,24.4]
["9月",20.7,20.399999999999999,20.2,20,19.8,19.600000000000001,19.600000000000001,20.3,21.5,22.7,23.7,24.6,25.3,25.7,25.8,25.7,25.2,24.3,23.3,22.5,22,21.6,21.2,20.9]
["10月",15,14.7,14.4,14.1,13.9,13.6,13.5,14.2,15.6,17,18.3,19.3,20,20.399999999999999,20.5,20.3,19.600000000000001,18.600000000000001,17.7,17,16.399999999999999,15.9,15.5,15.1]
["11月",8.6999999999999993,8.3000000000000007,7.9,7.6,7.3,7.1,6.8,7.2,8.9,10.9,12.4,13.7,14.6,15.1,15.2,14.9,14.1,12.8,12,11.2,10.5,9.8000000000000007,9.4,8.9]
["12月",3.1,2.7,2.4,2.1,1.8,1.5,1.3,1.3,2.6,5,6.8,8.1999999999999993,9.1999999999999993,9.8000000000000007,10,9.6999999999999993,8.9,7.6,6.7,5.8,5,4.4000000000000004,3.8,3.3]
["1月",0.7,0.3,-0.1,-0.4,-0.7,-1,-1.3,-1.4,-0.1,2.2999999999999998,4.2,5.6,6.7,7.4,7.6,7.5,6.9,5.6,4.5999999999999996,3.7,2.9,2.2000000000000002,1.6,1.1000000000000001]
["2月",1.7,1.2,0.9,0.5,0.2,-0.1,-0.3,-0.2,1.5,3.6,5.3,6.7,7.6,8.3000000000000007,8.6999999999999993,8.6999999999999993,8.1,7.1,5.9,4.9000000000000004,4.2,3.5,2.9,2.2999999999999998]
["3月",5.4,4.9000000000000004,4.5,4.0999999999999996,3.8,3.5,3.3,4.0999999999999996,5.9,7.6,9.1,10.3,11.2,11.9,12.2,12.2,11.8,10.9,9.6,8.6,7.8,7.1,6.6,6]

{"sheet":"前橋","index":16,"n_rows":16,"n_cols":25,"rows_kept":16,"cut":false,"hidden":true,"merged":[]}
["気象データ"]
[{"$f":"RIGHT(CELL(\"filename\",A2),LEN(CELL(\"filename\",A2))-FIND(\"]\",CELL(\"filename\",A2)))","v":"前橋"},{"$f":"VLOOKUP(A2,γ一覧表!$D$4:$E$50,2,FALSE)","v":0.6},"暖・冷房負荷比(γ)"]
["時刻別平均気温"]
["時刻",0,1,2,3,4,5,6,7,8,9,10,11,12,13,14,15,16,17,18,19,20,21,22,23]
["4月",11,10.5,10.1,9.8000000000000007,9.5,9.1999999999999993,9.3000000000000007,10.6,12.3,13.9,15.2,16.2,17.100000000000001,17.7,18,17.899999999999999,17.399999999999999,16.600000000000001,15.4,14.4,13.5,12.9,12.3,11.7]
["5月",16.100000000000001,15.7,15.3,14.9,14.6,14.4,14.9,16.2,17.7,19,20.3,21.3,22.2,22.7,23,22.9,22.5,21.7,20.7,19.600000000000001,18.7,18,17.3,16.8]
["6月",20,19.7,19.3,19,18.7,18.600000000000001,19,19.899999999999999,21,22.1,23.2,24.2,24.9,25.4,25.7,25.6,25.4,24.8,24,23.1,22.3,21.7,21.1,20.6]
["7月",23.8,23.5,23.2,23,22.7,22.6,22.9,23.7,24.7,25.8,26.8,27.8,28.6,29.1,29.4,29.4,29.1,28.5,27.7,26.8,25.9,25.3,24.8,24.3]
["8月",24.9,24.6,24.3,24.1,23.8,23.6,23.8,24.7,25.7,26.9,28,29,29.8,30.4,30.7,30.7,30.3,29.6,28.7,27.6,26.8,26.2,25.6,25.2]
["9月",21.2,20.9,20.6,20.399999999999999,20.2,20,20,20.7,21.8,23,24,25,25.6,26.1,26.3,26.1,25.7,25,24.1,23.4,22.7,22.2,21.8,21.4]
["10月",15.4,15.1,14.8,14.6,14.4,14.2,14,14.6,16,17.5,18.8,19.7,20.399999999999999,20.8,20.8,20.6,19.899999999999999,18.899999999999999,18.100000000000001,17.3,16.7,16.3,15.9,15.5]
["11月",9.4,9.1999999999999993,8.9,8.6999999999999993,8.5,8.1999999999999993,8,8.1999999999999993,9.8000000000000007,11.6,13.2,14.3,15.1,15.5,15.5,15.1,14.2,13,12.1,11.4,10.8,10.4,10,9.6]
["12月",4.4000000000000004,4.0999999999999996,3.9,3.7,3.5,3.3,3.1,3,4.2,6.2,7.9,9.1999999999999993,10,10.5,10.5,10,9,7.8,6.9,6.2,5.6,5.2,4.8,4.5]
["1月",1.9,1.6,1.4,1.1000000000000001,1,0.8,0.6,0.5,1.5,3.5,5.3,6.6,7.5,7.9,8,7.6,6.8,5.6,4.7,4,3.4,2.9,2.5,2.2000000000000002]
["2月",2.6,2.2999999999999998,2,1.7,1.5,1.3,1,1.1000000000000001,2.6,4.5,6.2,7.4,8.1999999999999993,8.6999999999999993,8.9,8.6999999999999993,8,6.9,5.8,5,4.4000000000000004,3.9,3.5,3.1]
["3月",5.9,5.5,5.2,4.9000000000000004,4.7,4.4000000000000004,4.2,4.9000000000000004,6.6,8.3000000000000007,9.6999999999999993,10.8,11.6,12.1,12.3,12.2,11.7,10.7,9.6,8.6999999999999993,8,7.5,6.9,6.4]

{"sheet":"さいたま","index":17,"n_rows":16,"n_cols":25,"rows_kept":16,"cut":false,"hidden":true,"merged":[]}
["気象データ"]
[{"$f":"RIGHT(CELL(\"filename\",A2),LEN(CELL(\"filename\",A2))-FIND(\"]\",CELL(\"filename\",A2)))","v":"さいたま"},{"$f":"VLOOKUP(A2,γ一覧表!$D$4:$E$50,2,FALSE)","v":0.6},"暖・冷房負荷比(γ)"]
["時刻別平均気温"]
["時刻",0,1,2,3,4,5,6,7,8,9,10,11,12,13,14,15,16,17,18,19,20,21,22,23]
["4月",11.5,11,10.6,10.199999999999999,9.9,9.6,9.6999999999999993,10.9,12.3,13.7,15,16.100000000000001,17.100000000000001,17.7,18.100000000000001,18,17.600000000000001,16.899999999999999,15.7,14.8,14.1,13.4,12.8,12.3]
["5月",16.5,16.100000000000001,15.7,15.3,15,14.8,15.3,16.3,17.5,18.8,20,21,21.8,22.4,22.7,22.6,22.2,21.4,20.399999999999999,19.5,18.7,18.2,17.600000000000001,17.100000000000001]
["6月",20.3,19.899999999999999,19.600000000000001,19.3,19.100000000000001,19,19.399999999999999,20.2,21,22,22.9,23.8,24.5,25,25.3,25.3,25,24.4,23.6,22.8,22.1,21.6,21.2,20.8]
["7月",24,23.7,23.4,23.2,22.9,22.8,23.3,24,24.9,25.9,26.9,27.8,28.6,29.1,29.5,29.3,28.9,28.3,27.4,26.5,25.8,25.3,24.8,24.5]
["8月",25.2,24.9,24.6,24.4,24.2,24,24.3,25.1,26.1,27.1,28.2,29.1,30,30.6,30.9,30.7,30.2,29.4,28.4,27.5,26.9,26.4,26,25.6]
["9月",21.7,21.4,21.1,20.8,20.6,20.399999999999999,20.399999999999999,21.2,22.2,23.3,24.3,25.1,25.8,26.3,26.5,26.5,26.1,25.3,24.3,23.6,23.1,22.7,22.3,21.9]
["10月",16,15.6,15.3,15.1,14.9,14.6,14.4,15,16.2,17.5,18.7,19.600000000000001,20.3,20.8,21.1,21,20.5,19.5,18.7,18.100000000000001,17.600000000000001,17,16.600000000000001,16.100000000000001]
["11月",9.6999999999999993,9.4,9.1,8.8000000000000007,8.5,8.1999999999999993,8,8.1,9.6,11.2,12.7,14,14.9,15.5,15.9,15.8,15,13.7,12.8,12.1,11.5,10.9,10.4,10]
["12月",4.3,4,3.7,3.4,3.1,2.9,2.7,2.6,3.7,5.6,7.4,8.8000000000000007,9.9,10.6,10.9,10.8,10,8.6,7.6,6.8,6.2,5.5,5,4.5999999999999996]
["1月",2,1.7,1.4,1,0.7,0.4,0.2,0.1,1.2,3.1,5,6.5,7.5,8.1999999999999993,8.6,8.6,8,6.7,5.6,4.5999999999999996,4,3.4,2.8,2.4]
["2月",3.1,2.6,2.2999999999999998,2,1.7,1.4,1.2,1.1000000000000001,2.6,4.4000000000000004,6,7.2,8.1999999999999993,8.9,9.4,9.4,9.1,8.1999999999999993,7,6.1,5.4,4.7,4.2,3.6]
["3月",6.7,6.3,5.9,5.5,5.2,4.9000000000000004,4.5999999999999996,5.2,6.7,8.1,9.5,10.7,11.6,12.3,12.8,12.9,12.6,11.9,10.8,9.8000000000000007,9.1999999999999993,8.5,7.9,7.4]

{"sheet":"千葉","index":18,"n_rows":16,"n_cols":25,"rows_kept":16,"cut":false,"hidden":true,"merged":[]}
["気象データ"]
[{"$f":"RIGHT(CELL(\"filename\",A2),LEN(CELL(\"filename\",A2))-FIND(\"]\",CELL(\"filename\",A2)))","v":"千葉"},{"$f":"VLOOKUP(A2,γ一覧表!$D$4:$E$50,2,FALSE)","v":0.6},"暖・冷房負荷比(γ)"]
["時刻別平均気温"]
["時刻",0,1,2,3,4,5,6,7,8,9,10,11,12,13,14,15,16,17,18,19,20,21,22,23]
["4月",13,12.8,12.5,12.2,12,11.8,11.8,12.6,13.8,14.8,15.7,16.399999999999999,16.899999999999999,17.3,17.3,17.2,16.8,16.2,15.5,14.9,14.5,14.1,13.8,13.5]
["5月",17.399999999999999,17.100000000000001,16.899999999999999,16.7,16.5,16.399999999999999,16.8,17.600000000000001,18.600000000000001,19.5,20.2,20.9,21.4,21.6,21.7,21.5,21.1,20.5,19.8,19.2,18.7,18.3,18,17.7]
["6月",20.5,20.3,20.100000000000001,20,19.8,19.8,20.100000000000001,20.8,21.6,22.4,23,23.6,24,24.3,24.3,24.2,23.9,23.3,22.8,22.2,21.7,21.3,21.1,20.8]
["7月",24.3,24.1,24,23.8,23.7,23.7,23.9,24.6,25.3,26.1,26.8,27.5,27.9,28.1,28.2,28.1,27.7,27.2,26.6,26,25.5,25.1,24.8,24.6]
["8月",25.8,25.6,25.4,25.3,25.2,25,25.2,26,26.9,27.7,28.4,29.1,29.5,29.8,29.9,29.7,29.3,28.7,27.9,27.2,26.7,26.4,26.1,25.9]
["9月",22.6,22.4,22.2,22.1,21.9,21.7,21.7,22.4,23.4,24.3,25,25.6,26,26.3,26.3,26.1,25.7,25,24.3,23.8,23.4,23.1,22.9,22.7]
["10月",17.600000000000001,17.399999999999999,17.100000000000001,16.899999999999999,16.7,16.5,16.3,16.7,17.7,18.8,19.8,20.399999999999999,20.9,21.2,21.3,21.1,20.6,19.899999999999999,19.3,18.899999999999999,18.5,18.2,18,17.7]
["11月",12.5,12.2,11.9,11.5,11.2,11,10.8,10.9,11.8,13.1,14.3,15.2,15.8,16.3,16.5,16.3,15.8,15.2,14.7,14.2,13.8,13.4,13.1,12.7]
["12月",7.5,7.2,6.9,6.6,6.3,6.1,5.9,5.8,6.7,8,9.3000000000000007,10.3,11,11.4,11.6,11.5,11,10.4,9.9,9.4,8.9,8.5,8.1,7.7]
["1月",4.9000000000000004,4.5,4.3,4,3.7,3.5,3.3,3.2,4,5.3,6.6,7.6,8.3000000000000007,8.8000000000000007,9.1,9.1,8.6999999999999993,8.1,7.5,6.9,6.4,6,5.6,5.2]
["2月",5.5,5.2,4.9000000000000004,4.5999999999999996,4.3,4,3.9,3.9,4.8,6.1,7.3,8.1999999999999993,8.9,9.4,9.6999999999999993,9.6,9.3000000000000007,8.6999999999999993,8.1,7.6,7.1,6.7,6.3,6]
["3月",8.6999999999999993,8.3000000000000007,8,7.7,7.4,7.2,7,7.3,8.5,9.6,10.6,11.4,12,12.4,12.6,12.6,12.3,11.7,11,10.5,10.1,9.6999999999999993,9.4,9.1]

{"sheet":"東京","index":19,"n_rows":16,"n_cols":25,"rows_kept":16,"cut":false,"hidden":true,"merged":[]}
["気象データ"]
[{"$f":"RIGHT(CELL(\"filename\",A2),LEN(CELL(\"filename\",A2))-FIND(\"]\",CELL(\"filename\",A2)))","v":"東京"},{"$f":"VLOOKUP(A2,γ一覧表!$D$4:$E$50,2,FALSE)","v":0.6},"暖・冷房負荷比(γ)"]
["時刻別平均気温"]
["時刻",0,1,2,3,4,5,6,7,8,9,10,11,12,13,14,15,16,17,18,19,20,21,22,23]
["4月",13.3,13,12.7,12.4,12.1,11.9,12,12.8,13.7,14.9,15.9,16.7,17.399999999999999,17.8,17.8,17.600000000000001,17.3,16.8,16,15.4,14.9,14.5,14.1,13.8]
["5月",17.8,17.5,17.3,17,16.8,16.7,17,17.8,18.8,19.7,20.6,21.4,21.9,22.2,22.2,22,21.6,21.1,20.399999999999999,19.7,19.2,18.8,18.5,18.2]
["6月",21,20.8,20.6,20.399999999999999,20.2,20.2,20.5,21.1,21.8,22.6,23.3,24,24.4,24.8,24.9,24.7,24.4,24,23.5,22.8,22.3,22,21.7,21.4]
["7月",24.8,24.6,24.4,24.3,24.1,24,24.3,25,25.7,26.6,27.4,28,28.5,28.8,28.9,28.7,28.3,27.9,27.3,26.6,26.1,25.7,25.4,25.2]
["8月",26.3,26.1,25.9,25.7,25.5,25.4,25.6,26.2,27,27.9,28.8,29.5,30,30.4,30.4,30.1,29.7,29.2,28.5,27.8,27.3,27,26.7,26.5]
["9月",23,22.8,22.6,22.4,22.2,22,22,22.5,23.3,24.2,25,25.6,26.1,26.5,26.4,26.3,26,25.4,24.8,24.3,23.9,23.6,23.4,23.1]
["10月",17.899999999999999,17.600000000000001,17.399999999999999,17.100000000000001,16.899999999999999,16.7,16.5,16.899999999999999,17.600000000000001,18.600000000000001,19.5,20.3,20.9,21.2,21.2,21.1,20.8,20.2,19.7,19.3,18.899999999999999,18.600000000000001,18.3,18]
["11月",12.6,12.3,11.9,11.6,11.4,11.1,11,11.1,11.8,12.9,14,15,15.7,16.2,16.3,16.100000000000001,15.7,15.1,14.7,14.3,13.9,13.5,13.1,12.8]
["12月",7.5,7.2,6.9,6.6,6.3,6.2,6.1,6,6.6,7.8,9,9.9,10.8,11.3,11.5,11.2,10.8,10.1,9.6999999999999993,9.3000000000000007,8.9,8.5,8.1999999999999993,7.8]
["1月",4.9000000000000004,4.5999999999999996,4.3,4,3.8,3.6,3.4,3.4,4,5.2,6.4,7.5,8.3000000000000007,8.9,9.1,8.9,8.5,7.9,7.3,6.9,6.5,6,5.7,5.3]
["2月",5.6,5.3,5,4.5999999999999996,4.4000000000000004,4.2,4,4.0999999999999996,4.9000000000000004,6,7.1,8.1999999999999993,8.9,9.5,9.8000000000000007,9.6999999999999993,9.4,8.9,8.1999999999999993,7.7,7.2,6.8,6.5,6.1]
["3月",8.9,8.5,8.1,7.7,7.5,7.3,7.1,7.6,8.4,9.5,10.5,11.5,12.2,12.7,12.9,12.8,12.6,12.1,11.4,10.9,10.4,10,9.6999999999999993,9.3000000000000007]

{"sheet":"横浜","index":20,"n_rows":16,"n_cols":25,"rows_kept":16,"cut":false,"hidden":true,"merged":[]}
["気象データ"]
[{"$f":"RIGHT(CELL(\"filename\",A2),LEN(CELL(\"filename\",A2))-FIND(\"]\",CELL(\"filename\",A2)))","v":"横浜"},{"$f":"VLOOKUP(A2,γ一覧表!$D$4:$E$50,2,FALSE)","v":0.6},"暖・冷房負荷比(γ)"]
["時刻別平均気温"]
["時刻",0,1,2,3,4,5,6,7,8,9,10,11,12,13,14,15,16,17,18,19,20,21,22,23]
["4月",13.1,12.8,12.6,12.3,12.1,11.8,11.9,12.5,13.6,14.7,15.7,16.399999999999999,17,17.399999999999999,17.600000000000001,17.399999999999999,17,16.2,15.4,14.9,14.5,14.1,13.8,13.6]
["5月",17.399999999999999,17.100000000000001,16.899999999999999,16.7,16.5,16.399999999999999,16.7,17.399999999999999,18.5,19.399999999999999,20.2,20.8,21.4,21.7,21.8,21.6,21.1,20.399999999999999,19.600000000000001,18.899999999999999,18.5,18.2,18,17.7]
["6月",20.5,20.3,20.100000000000001,20,19.8,19.8,20.100000000000001,20.7,21.4,22.2,22.9,23.4,23.9,24.2,24.3,24.1,23.8,23.2,22.6,22,21.6,21.3,21,20.8]
["7月",24.2,24,23.9,23.8,23.6,23.6,23.8,24.4,25.3,26.1,26.8,27.4,27.9,28.2,28.2,28.1,27.6,27,26.3,25.6,25.2,24.9,24.7,24.5]
["8月",25.7,25.5,25.4,25.3,25.1,25,25.2,25.8,26.7,27.5,28.4,29,29.6,29.9,30,29.7,29.2,28.4,27.6,26.9,26.6,26.3,26.1,25.9]
["9月",22.7,22.5,22.3,22.1,22,21.8,21.8,22.3,23,23.9,24.7,25.3,25.8,26.1,26.1,25.9,25.5,24.8,24.1,23.7,23.4,23.2,22.9,22.7]
["10月",17.7,17.5,17.2,17,16.8,16.600000000000001,16.399999999999999,16.600000000000001,17.399999999999999,18.5,19.399999999999999,20.100000000000001,20.6,20.9,21,20.8,20.399999999999999,19.7,19.2,18.899999999999999,18.600000000000001,18.3,18.100000000000001,17.8]
["11月",12.6,12.3,12,11.7,11.5,11.2,11,11.1,11.8,13,14.1,15,15.7,16.100000000000001,16.2,16,15.4,14.8,14.5,14.1,13.8,13.5,13.2,12.8]
["12月",7.7,7.3,7,6.8,6.6,6.4,6.3,6.2,6.7,7.9,9.1999999999999993,10.199999999999999,11,11.4,11.6,11.4,10.8,10.1,9.6999999999999993,9.4,9,8.6,8.1999999999999993,7.9]
["1月",5.0999999999999996,4.8,4.5,4.2,3.9,3.7,3.6,3.5,4.0999999999999996,5.3,6.6,7.7,8.4,8.9,9.1,9,8.6,7.8,7.3,6.9,6.6,6.1,5.7,5.4]
["2月",5.7,5.4,5.0999999999999996,4.8,4.5,4.3,4.0999999999999996,4.0999999999999996,4.8,6,7.2,8.1999999999999993,8.9,9.3000000000000007,9.6,9.6,9.3000000000000007,8.6999999999999993,8,7.6,7.2,6.9,6.5,6.2]
["3月",8.9,8.5,8.1999999999999993,7.9,7.6,7.4,7.2,7.4,8.3000000000000007,9.5,10.5,11.3,12,12.4,12.7,12.7,12.4,11.8,11.1,10.6,10.199999999999999,9.9,9.6,9.3000000000000007]

{"sheet":"新潟","index":21,"n_rows":16,"n_cols":25,"rows_kept":16,"cut":false,"hidden":true,"merged":[]}
["気象データ"]
[{"$f":"RIGHT(CELL(\"filename\",A2),LEN(CELL(\"filename\",A2))-FIND(\"]\",CELL(\"filename\",A2)))","v":"新潟"},{"$f":"VLOOKUP(A2,γ一覧表!$D$4:$E$50,2,FALSE)","v":1},"暖・冷房負荷比(γ)"]
["時刻別平均気温"]
["時刻",0,1,2,3,4,5,6,7,8,9,10,11,12,13,14,15,16,17,18,19,20,21,22,23]
["4月",9.8000000000000007,9.4,9.1999999999999993,8.9,8.6999999999999993,8.5,8.6999999999999993,9.6,11,12.4,13.4,14.1,14.4,14.4,14.3,14,13.6,12.9,12.2,11.7,11.4,11.1,10.7,10.4]
["5月",15.2,14.9,14.7,14.4,14.2,14.1,14.6,15.6,16.8,18,18.899999999999999,19.5,19.8,19.8,19.7,19.3,18.8,18.3,17.5,16.899999999999999,16.5,16.2,15.9,15.6]
["6月",19.399999999999999,19.2,19,18.8,18.600000000000001,18.600000000000001,19.100000000000001,20,21,21.9,22.6,23.1,23.3,23.4,23.3,23,22.6,22.1,21.5,20.8,20.5,20.3,20,19.8]
["7月",23.6,23.4,23.2,23,22.9,22.8,23.1,23.9,24.8,25.7,26.4,26.9,27.2,27.3,27.3,27.1,26.7,26.2,25.7,25.1,24.7,24.5,24.2,24]
["8月",25.3,25,24.8,24.5,24.3,24.2,24.3,25.2,26.3,27.5,28.3,28.8,29.2,29.3,29.2,28.9,28.5,28,27.3,26.8,26.5,26.2,25.9,25.6]
["9月",21.5,21.2,20.9,20.7,20.5,20.399999999999999,20.3,21,22.2,23.4,24.3,24.9,25.3,25.3,25.3,25,24.6,24,23.4,23.1,22.8,22.4,22,21.6]
["10月",15.5,15.2,15,14.8,14.7,14.5,14.4,14.8,15.9,17.3,18.3,19,19.399999999999999,19.600000000000001,19.5,19.2,18.7,18,17.600000000000001,17.3,16.8,16.399999999999999,16,15.6]
["11月",9.8000000000000007,9.6,9.5,9.3000000000000007,9.1999999999999993,9.1,8.9,9,9.6999999999999993,10.7,11.7,12.5,12.9,13.1,13.2,12.9,12.5,11.9,11.5,11.2,10.8,10.4,10.1,9.9]
["12月",5,4.8,4.7,4.5999999999999996,4.5,4.5,4.4000000000000004,4.3,4.5999999999999996,5.2,5.9,6.4,6.8,7,7,6.8,6.5,6.2,6,5.7,5.6,5.4,5.0999999999999996,5]
["1月",2.2999999999999998,2.2000000000000002,2.2000000000000002,2.1,2,2,2,1.9,2.1,2.6,3.2,3.7,4,4.2,4.2,4,3.8,3.5,3.3,3.1,2.9,2.7,2.6,2.4]
["2月",2.2999999999999998,2.1,2,2,1.9,1.8,1.7,1.7,2.2000000000000002,2.9,3.6,4.2,4.7,5,5,4.9000000000000004,4.5999999999999996,4.2,3.9,3.6,3.4,3.1,2.8,2.6]
["3月",5,4.7,4.5,4.3,4.2,4,3.9,4.3,5.3,6.4,7.4,8.1999999999999993,8.6,8.9,8.8000000000000007,8.6,8.1999999999999993,7.6,7.1,6.8,6.5,6.1,5.8,5.4]

{"sheet":"富山","index":22,"n_rows":16,"n_cols":25,"rows_kept":16,"cut":false,"hidden":true,"merged":[]}
["気象データ"]
[{"$f":"RIGHT(CELL(\"filename\",A2),LEN(CELL(\"filename\",A2))-FIND(\"]\",CELL(\"filename\",A2)))","v":"富山"},{"$f":"VLOOKUP(A2,γ一覧表!$D$4:$E$50,2,FALSE)","v":0.8},"暖・冷房負荷比(γ)"]
["時刻別平均気温"]
["時刻",0,1,2,3,4,5,6,7,8,9,10,11,12,13,14,15,16,17,18,19,20,21,22,23]
["4月",10,9.8000000000000007,9.6,9.4,9.3000000000000007,9.1,9.3000000000000007,10.4,12,13.5,14.5,15.2,15.6,15.8,15.8,15.4,14.9,14.1,13.2,12.4,11.9,11.4,10.9,10.5]
["5月",15.4,15.2,14.9,14.7,14.6,14.5,15.1,16.399999999999999,17.8,19,19.899999999999999,20.5,20.9,21,21,20.7,20.100000000000001,19.399999999999999,18.399999999999999,17.5,16.899999999999999,16.5,16.100000000000001,15.7]
["6月",19.5,19.3,19.100000000000001,18.899999999999999,18.7,18.7,19.3,20.3,21.5,22.4,23.2,23.7,24,24.2,24.2,23.9,23.5,22.9,22.2,21.4,20.9,20.5,20.3,20]
["7月",23.9,23.7,23.5,23.3,23.2,23.1,23.5,24.4,25.6,26.5,27.3,27.9,28.3,28.4,28.3,28.1,27.6,27.1,26.3,25.6,25.1,24.8,24.5,24.3]
["8月",25.3,25,24.8,24.6,24.4,24.2,24.5,25.7,27.1,28.3,29.1,29.7,30,30.1,30,29.6,29.1,28.4,27.6,26.9,26.5,26.2,25.8,25.5]
["9月",21.2,21,20.7,20.6,20.399999999999999,20.3,20.3,21.2,22.5,23.8,24.7,25.3,25.6,25.7,25.6,25.3,24.8,24.1,23.3,22.9,22.5,22,21.6,21.3]
["10月",15.3,15.1,15,14.8,14.6,14.4,14.3,14.9,16.399999999999999,18,19.100000000000001,19.899999999999999,20.3,20.399999999999999,20.2,19.899999999999999,19.2,18.399999999999999,17.7,17.2,16.600000000000001,16.100000000000001,15.7,15.4]
["11月",9.8000000000000007,9.6,9.5,9.3000000000000007,9.1999999999999993,9.1,9,9.1999999999999993,10.199999999999999,11.5,12.8,13.8,14.2,14.4,14.3,13.9,13.2,12.4,11.8,11.2,10.7,10.4,10.1,9.9]
["12月",4.8,4.7,4.5999999999999996,4.5,4.4000000000000004,4.3,4.3,4.3,4.7,5.6,6.6,7.4,7.8,8,8,7.7,7.2,6.5,6.1,5.7,5.3,5.0999999999999996,4.9000000000000004,4.7]
["1月",2.1,1.9,1.8,1.7,1.7,1.6,1.6,1.5,1.8,2.6,3.5,4.3,4.7,5,5,4.8,4.4000000000000004,3.8,3.4,3,2.7,2.5,2.2999999999999998,2.1]
["2月",2.1,2,1.9,1.8,1.7,1.6,1.5,1.5,2.2000000000000002,3.3,4.3,5.0999999999999996,5.7,6,6,5.9,5.5,4.9000000000000004,4.3,3.8,3.3,2.9,2.7,2.4]
["3月",5.3,5.0999999999999996,4.9000000000000004,4.7,4.5999999999999996,4.4000000000000004,4.3,4.8,6.1,7.5,8.6999999999999993,9.5,10,10.3,10.3,10,9.5,8.8000000000000007,8,7.4,6.8,6.3,5.9,5.6]

{"sheet":"金沢","index":23,"n_rows":16,"n_cols":25,"rows_kept":16,"cut":false,"hidden":true,"merged":[]}
["気象データ"]
[{"$f":"RIGHT(CELL(\"filename\",A2),LEN(CELL(\"filename\",A2))-FIND(\"]\",CELL(\"filename\",A2)))","v":"金沢"},{"$f":"VLOOKUP(A2,γ一覧表!$D$4:$E$50,2,FALSE)","v":0.6},"暖・冷房負荷比(γ)"]
["時刻別平均気温"]
["時刻",0,1,2,3,4,5,6,7,8,9,10,11,12,13,14,15,16,17,18,19,20,21,22,23]
["4月",10.8,10.5,10.3,10,9.9,9.6999999999999993,9.6999999999999993,10.6,12.3,13.6,14.6,15.2,15.5,15.5,15.4,15.2,14.9,14.3,13.7,13.1,12.6,12.1,11.7,11.3]
["5月",16,15.7,15.3,15.1,14.9,14.7,15,16.2,17.8,19,19.8,20.3,20.5,20.5,20.5,20.3,20,19.5,18.899999999999999,18.2,17.7,17.2,16.8,16.399999999999999]
["6月",20,19.8,19.5,19.399999999999999,19.2,19.100000000000001,19.5,20.3,21.6,22.6,23.3,23.7,24,24.1,24,23.8,23.5,23.1,22.6,22,21.5,21.1,20.8,20.5]
["7月",24.5,24.3,24.1,23.9,23.8,23.7,23.9,24.6,25.8,26.7,27.3,27.9,28.1,28.1,28.1,27.9,27.6,27.2,26.7,26.1,25.7,25.4,25.1,24.8]
["8月",25.9,25.7,25.5,25.3,25,24.9,24.9,25.7,27.2,28.4,29.2,29.7,30,30,29.9,29.7,29.4,28.9,28.2,27.6,27.2,26.7,26.4,26.1]
["9月",21.8,21.6,21.4,21.2,21,20.8,20.7,21.3,22.7,24,24.8,25.5,25.8,25.9,25.8,25.6,25.2,24.6,23.9,23.4,22.9,22.6,22.2,21.9]
["10月",16.100000000000001,15.8,15.7,15.5,15.3,15.1,15,15.4,16.8,18.3,19.5,20.2,20.5,20.6,20.5,20.2,19.8,19.100000000000001,18.399999999999999,17.8,17.3,16.899999999999999,16.5,16.2]
["11月",10.7,10.5,10.3,10.199999999999999,10.1,10,9.9,10,10.9,12.1,13.3,14.1,14.5,14.6,14.5,14.2,13.8,13.2,12.6,12.1,11.6,11.3,11,10.8]
["12月",5.9,5.8,5.7,5.6,5.6,5.6,5.5,5.5,5.8,6.5,7.5,8.1,8.4,8.5,8.5,8.3000000000000007,8,7.6,7.1,6.8,6.5,6.3,6.1,6]
["1月",3.3,3.2,3.1,3,2.9,2.8,2.8,2.7,3,3.6,4.4000000000000004,5,5.3,5.5,5.5,5.4,5.0999999999999996,4.7,4.4000000000000004,4.0999999999999996,3.9,3.6,3.5,3.4]
["2月",3.3,3.1,3,2.9,2.8,2.7,2.6,2.6,3.2,4.0999999999999996,5,5.8,6.2,6.4,6.4,6.2,6,5.5,5.0999999999999996,4.7,4.3,4,3.8,3.6]
["3月",6,5.8,5.6,5.4,5.2,5.0999999999999996,5,5.3,6.5,7.9,8.9,9.6,10,10.199999999999999,10.199999999999999,9.9,9.6,9.1,8.5,8,7.5,7,6.7,6.4]

{"sheet":"福井","index":24,"n_rows":16,"n_cols":25,"rows_kept":16,"cut":false,"hidden":true,"merged":[]}
["気象データ"]
[{"$f":"RIGHT(CELL(\"filename\",A2),LEN(CELL(\"filename\",A2))-FIND(\"]\",CELL(\"filename\",A2)))","v":"福井"},{"$f":"VLOOKUP(A2,γ一覧表!$D$4:$E$50,2,FALSE)","v":0.6},"暖・冷房負荷比(γ)"]
["時刻別平均気温"]
["時刻",0,1,2,3,4,5,6,7,8,9,10,11,12,13,14,15,16,17,18,19,20,21,22,23]
["4月",10.6,10.3,10,9.6,9.4,9.1,9.1,9.9,11.4,13.2,14.7,15.8,16.399999999999999,16.7,16.7,16.399999999999999,16,15.4,14.5,13.6,12.9,12.3,11.7,11.3]
["5月",16,15.6,15.2,14.9,14.7,14.5,14.7,15.7,17.2,18.7,20.100000000000001,21.1,21.7,21.9,21.8,21.5,21.2,20.5,19.7,18.8,18.100000000000001,17.5,16.899999999999999,16.5]
["6月",20.100000000000001,19.8,19.5,19.3,19.100000000000001,18.899999999999999,19.2,20.100000000000001,21.3,22.5,23.7,24.5,25,25.2,25.1,24.9,24.5,24,23.3,22.5,21.9,21.4,21,20.6]
["7月",24.4,24.1,23.9,23.7,23.5,23.3,23.5,24.3,25.4,26.6,27.6,28.4,28.9,29.2,29.2,29.1,28.7,28.1,27.4,26.6,26,25.5,25.1,24.8]
["8月",25.6,25.2,25,24.7,24.5,24.3,24.4,25.2,26.6,28.1,29.3,30.2,30.8,31,31,30.7,30.3,29.7,28.7,27.9,27.2,26.7,26.2,25.8]
["9月",21.4,21.1,20.9,20.7,20.5,20.3,20.2,20.7,21.9,23.4,24.8,25.7,26.3,26.6,26.5,26.2,25.8,25.1,24.3,23.5,22.9,22.3,21.9,21.5]
["10月",15.4,15.1,14.9,14.6,14.4,14.3,14.1,14.3,15.5,17.100000000000001,18.8,20.100000000000001,20.8,21.1,21.1,20.8,20.2,19.399999999999999,18.399999999999999,17.600000000000001,16.899999999999999,16.399999999999999,15.9,15.5]
["11月",9.9,9.6,9.4,9.1999999999999993,9,8.9,8.6999999999999993,8.6999999999999993,9.5,10.8,12.2,13.6,14.5,14.9,15,14.7,14.1,13.2,12.3,11.6,11.1,10.7,10.3,10]
["12月",5,4.8,4.5999999999999996,4.5,4.4000000000000004,4.3,4.2,4.2,4.5,5.2,6.2,7.2,7.9,8.4,8.5,8.3000000000000007,7.9,7.2,6.6,6.1,5.8,5.5,5.2,5]
["1月",2.2999999999999998,2.2000000000000002,2.1,1.9,1.8,1.7,1.6,1.6,1.8,2.4,3.3,4.2,4.9000000000000004,5.3,5.4,5.4,5,4.5,3.9,3.5,3.2,2.9,2.6,2.5]
["2月",2.5,2.2999999999999998,2.1,1.9,1.8,1.7,1.6,1.5,2,2.9,4.0999999999999996,5.2,5.9,6.4,6.6,6.5,6.3,5.7,5,4.4000000000000004,3.8,3.4,3.1,2.8]
["3月",5.6,5.3,5,4.8,4.5,4.3,4.2,4.4000000000000004,5.4,7,8.5,9.8000000000000007,10.5,10.8,10.9,10.8,10.4,9.6999999999999993,8.9,8.1999999999999993,7.5,6.9,6.4,6]

{"sheet":"甲府","index":25,"n_rows":16,"n_cols":25,"rows_kept":16,"cut":false,"hidden":true,"merged":[]}
["気象データ"]
[{"$f":"RIGHT(CELL(\"filename\",A2),LEN(CELL(\"filename\",A2))-FIND(\"]\",CELL(\"filename\",A2)))","v":"甲府"},{"$f":"VLOOKUP(A2,γ一覧表!$D$4:$E$50,2,FALSE)","v":0.6},"暖・冷房負荷比(γ)"]
["時刻別平均気温"]
["時刻",0,1,2,3,4,5,6,7,8,9,10,11,12,13,14,15,16,17,18,19,20,21,22,23]
["4月",11.6,11.1,10.6,10.1,9.6,9.1999999999999993,9.4,10.5,11.8,13.5,15.1,16.7,18,19,19.5,19.399999999999999,18.600000000000001,17.5,16.2,15.1,14.4,13.7,13.1,12.4]
["5月",16.399999999999999,15.9,15.4,15,14.6,14.4,14.9,15.9,17.100000000000001,18.600000000000001,20.2,21.6,22.9,23.8,24.1,23.8,23.1,22.1,20.8,19.7,18.899999999999999,18.2,17.600000000000001,17]
["6月",20.2,19.8,19.5,19.2,18.899999999999999,18.8,19.2,19.899999999999999,20.9,22.1,23.4,24.6,25.6,26.4,26.6,26.3,25.7,24.9,23.9,22.9,22.2,21.6,21.2,20.7]
["7月",24,23.7,23.4,23.2,22.9,22.8,23,23.7,24.7,25.9,27.2,28.4,29.4,30.1,30.4,30.1,29.4,28.5,27.5,26.5,25.8,25.3,24.8,24.4]
["8月",25.1,24.8,24.5,24.2,24,23.8,23.9,24.5,25.6,26.9,28.3,29.7,30.8,31.6,31.9,31.5,30.5,29.4,28.2,27.4,26.8,26.2,25.8,25.4]
["9月",21.6,21.2,20.9,20.6,20.399999999999999,20.100000000000001,20.100000000000001,20.6,21.6,22.8,24.1,25.4,26.4,27.1,27.5,27.3,26.6,25.5,24.4,23.7,23.2,22.7,22.2,21.8]
["10月",15.5,15.2,14.8,14.5,14.2,13.9,13.7,14.2,15.2,16.5,17.899999999999999,19.2,20.3,21.1,21.6,21.6,20.9,19.600000000000001,18.7,18,17.3,16.7,16.2,15.7]
["11月",9.1,8.6,8.1999999999999993,7.8,7.4,7.1,6.8,7,8.1999999999999993,9.8000000000000007,11.4,13,14.3,15.4,16,15.9,15.2,13.8,12.8,11.9,11.1,10.5,9.9,9.4]
["12月",3.6,3.2,2.7,2.2999999999999998,2,1.7,1.4,1.3,2.2999999999999998,4,5.8,7.4,8.9,9.9,10.5,10.5,9.8000000000000007,8.5,7.5,6.6,5.8,5.0999999999999996,4.5,3.9]
["1月",1.3,0.9,0.4,0,-0.4,-0.8,-1.1000000000000001,-1.3,-0.3,1.4,3.2,4.8,6.2,7.3,8,8.1999999999999993,7.7,6.4,5.4,4.5,3.8,3.1,2.4,1.8]
["2月",2.8,2.2999999999999998,1.8,1.4,1.1000000000000001,0.7,0.4,0.3,1.7,3.2,4.9000000000000004,6.5,7.9,9,9.8000000000000007,10,9.6,8.5,7.3,6.4,5.6,4.9000000000000004,4.2,3.5]
["3月",6.7,6.2,5.7,5.2,4.8,4.4000000000000004,4.0999999999999996,4.8,6.1,7.7,9.3000000000000007,10.9,12.3,13.3,13.9,14,13.4,12.3,11,10.1,9.4,8.6999999999999993,8.1,7.4]

{"sheet":"長野","index":26,"n_rows":16,"n_cols":25,"rows_kept":16,"cut":false,"hidden":true,"merged":[]}
["気象データ"]
[{"$f":"RIGHT(CELL(\"filename\",A2),LEN(CELL(\"filename\",A2))-FIND(\"]\",CELL(\"filename\",A2)))","v":"長野"},{"$f":"VLOOKUP(A2,γ一覧表!$D$4:$E$50,2,FALSE)","v":1},"暖・冷房負荷比(γ)"]
["時刻別平均気温"]
["時刻",0,1,2,3,4,5,6,7,8,9,10,11,12,13,14,15,16,17,18,19,20,21,22,23]
["4月",8,7.5,7.1,6.7,6.4,6.1,6.3,7.4,8.9,10.7,12.4,13.9,15,15.7,15.9,15.5,14.7,13.5,12.3,11.2,10.4,9.6999999999999993,9.1999999999999993,8.6999999999999993]
["5月",13.8,13.4,13,12.6,12.2,11.9,12.5,13.7,15.2,16.899999999999999,18.399999999999999,19.899999999999999,21,21.6,21.7,21.3,20.399999999999999,19.399999999999999,18.100000000000001,17,16.100000000000001,15.3,14.8,14.3]
["6月",18.100000000000001,17.8,17.5,17.2,16.899999999999999,16.8,17.3,18.2,19.5,20.9,22.2,23.3,24.2,24.7,24.7,24.3,23.6,22.7,21.7,20.7,20,19.399999999999999,18.899999999999999,18.600000000000001]
["7月",22.2,22,21.7,21.5,21.3,21.1,21.5,22.2,23.3,24.6,25.9,27,27.9,28.4,28.5,28,27.3,26.4,25.4,24.5,23.9,23.4,22.9,22.6]
["8月",23.4,23.2,22.9,22.6,22.4,22.1,22.3,23.2,24.4,25.8,27.1,28.3,29.2,29.8,29.9,29.3,28.5,27.4,26.3,25.4,24.8,24.3,23.9,23.6]
["9月",19.399999999999999,19.100000000000001,18.8,18.600000000000001,18.3,18.100000000000001,18.100000000000001,18.7,19.899999999999999,21.2,22.4,23.5,24.3,24.8,24.9,24.5,23.7,22.6,21.7,21,20.5,20.100000000000001,19.7,19.5]
["10月",12.9,12.6,12.3,12,11.8,11.5,11.3,11.8,13,14.4,15.7,17,18,18.600000000000001,18.7,18.3,17.3,16.100000000000001,15.3,14.6,14.1,13.7,13.4,13]
["11月",6.5,6.1,5.8,5.5,5.2,5,4.8,4.9000000000000004,5.9,7.3,8.8000000000000007,10.199999999999999,11.3,12.1,12.4,12.1,11.1,9.9,9.1,8.4,7.9,7.5,7,6.7]
["12月",1.2,0.9,0.6,0.4,0.2,0,-0.1,-0.2,0.3,1.4,2.6,3.8,4.7,5.5,5.8,5.6,4.9000000000000004,3.9,3.2,2.7,2.2000000000000002,1.9,1.6,1.2]
["1月",-1.5,-1.8,-2,-2.2000000000000002,-2.4,-2.6,-2.8,-2.9,-2.4,-1.4,-0.3,0.8,1.7,2.2999999999999998,2.7,2.7,2.2000000000000002,1.3,0.6,0.1,-0.3,-0.6,-1,-1.3]
["2月",-1,-1.3,-1.6,-1.9,-2.1,-2.2999999999999998,-2.5,-2.5,-1.6,-0.5,0.8,2.1,3.1,3.9,4.3,4.2,3.6,2.6,1.7,1.1000000000000001,0.6,0.2,-0.2,-0.5]
["3月",2.4,2.1,1.8,1.5,1.2,1,0.8,1.3,2.5,3.9,5.4,6.9,8,8.8000000000000007,9.1,8.9,8.1999999999999993,7,5.8,5,4.3,3.7,3.3,2.9]

{"sheet":"岐阜","index":27,"n_rows":16,"n_cols":25,"rows_kept":16,"cut":false,"hidden":true,"merged":[]}
["気象データ"]
[{"$f":"RIGHT(CELL(\"filename\",A2),LEN(CELL(\"filename\",A2))-FIND(\"]\",CELL(\"filename\",A2)))","v":"岐阜"},{"$f":"VLOOKUP(A2,γ一覧表!$D$4:$E$50,2,FALSE)","v":0.6},"暖・冷房負荷比(γ)"]
["時刻別平均気温"]
["時刻",0,1,2,3,4,5,6,7,8,9,10,11,12,13,14,15,16,17,18,19,20,21,22,23]
["4月",12.4,12,11.6,11.2,10.9,10.5,10.6,11.6,13,14.4,15.8,17,17.899999999999999,18.5,18.8,18.7,18.2,17.399999999999999,16.3,15.4,14.7,14.1,13.6,13.1]
["5月",17.399999999999999,16.899999999999999,16.5,16.2,15.8,15.5,16,17,18.3,19.600000000000001,20.9,21.9,22.7,23.3,23.6,23.5,23,22.3,21.3,20.3,19.5,18.899999999999999,18.399999999999999,17.899999999999999]
["6月",21.3,21,20.7,20.399999999999999,20.100000000000001,20,20.399999999999999,21.2,22.2,23.2,24.3,25.2,25.9,26.4,26.7,26.6,26.3,25.6,24.8,23.9,23.2,22.6,22.2,21.8]
["7月",25.3,25.1,24.8,24.6,24.3,24.1,24.4,25.1,26,27,28,28.9,29.6,30.1,30.4,30.4,30.1,29.4,28.6,27.7,27,26.5,26.1,25.8]
["8月",26.5,26.2,26,25.7,25.5,25.3,25.4,26.1,27.2,28.3,29.5,30.6,31.4,32,32.299999999999997,32.1,31.6,30.8,29.7,28.7,28.1,27.6,27.2,26.8]
["9月",23,22.6,22.4,22.1,21.8,21.6,21.5,22.2,23.3,24.5,25.6,26.6,27.3,27.8,28,28,27.5,26.6,25.5,24.8,24.2,23.8,23.4,23.1]
["10月",17.100000000000001,16.8,16.5,16.2,15.9,15.6,15.4,16,17.3,18.7,20,21.2,22.1,22.6,22.7,22.5,21.8,20.8,19.8,19.2,18.600000000000001,18.100000000000001,17.7,17.3]
["11月",11,10.7,10.3,10.1,9.8000000000000007,9.6,9.4,9.5,10.8,12.3,13.7,14.9,15.9,16.399999999999999,16.600000000000001,16.399999999999999,15.6,14.5,13.8,13.1,12.5,12,11.6,11.2]
["12月",5.7,5.5,5.2,4.9000000000000004,4.7,4.5,4.3,4.2,5,6.4,7.8,9,9.8000000000000007,10.4,10.6,10.3,9.6999999999999993,8.6999999999999993,8,7.5,7,6.6,6.2,5.9]
["1月",3.3,3,2.7,2.4,2.2000000000000002,2,1.9,1.7,2.4,3.8,5.2,6.4,7.2,7.8,8,7.9,7.3,6.4,5.7,5.2,4.7,4.3,3.9,3.6]
["2月",4,3.6,3.3,3.1,2.8,2.6,2.4,2.2999999999999998,3.4,4.8,6.1,7.4,8.4,9,9.3000000000000007,9.1999999999999993,8.6999999999999993,7.8,6.9,6.2,5.7,5.2,4.8,4.5]
["3月",7.3,6.9,6.6,6.2,5.9,5.7,5.4,6,7.3,8.6999999999999993,10.1,11.3,12.3,12.9,13.1,13.1,12.7,11.8,10.7,10,9.3000000000000007,8.8000000000000007,8.3000000000000007,7.8]

{"sheet":"静岡","index":28,"n_rows":16,"n_cols":25,"rows_kept":16,"cut":false,"hidden":true,"merged":[]}
["気象データ"]
[{"$f":"RIGHT(CELL(\"filename\",A2),LEN(CELL(\"filename\",A2))-FIND(\"]\",CELL(\"filename\",A2)))","v":"静岡"},{"$f":"VLOOKUP(A2,γ一覧表!$D$4:$E$50,2,FALSE)","v":0.6},"暖・冷房負荷比(γ)"]
["時刻別平均気温"]
["時刻",0,1,2,3,4,5,6,7,8,9,10,11,12,13,14,15,16,17,18,19,20,21,22,23]
["4月",13.2,12.8,12.5,12.2,11.9,11.6,11.8,13.1,14.7,16,16.899999999999999,17.600000000000001,18,18.3,18.399999999999999,18.2,17.899999999999999,17.3,16.600000000000001,16,15.4,14.9,14.3,13.9]
["5月",17.5,17.100000000000001,16.7,16.399999999999999,16.2,16,16.600000000000001,17.899999999999999,19.3,20.3,21,21.6,21.9,22.1,22,21.9,21.5,21,20.5,19.899999999999999,19.399999999999999,18.899999999999999,18.399999999999999,18]
["6月",20.9,20.6,20.399999999999999,20.100000000000001,19.899999999999999,19.8,20.3,21.3,22.3,23.1,23.8,24.2,24.6,24.7,24.7,24.5,24.2,23.8,23.3,22.8,22.4,22.1,21.7,21.4]
["7月",24.7,24.5,24.2,24,23.8,23.7,24.1,24.9,25.9,26.8,27.5,27.9,28.2,28.4,28.4,28.2,27.9,27.5,26.9,26.4,26,25.7,25.4,25.1]
["8月",26,25.7,25.5,25.2,25,24.8,25.1,26.1,27.2,28.3,29,29.6,29.9,30.1,30.1,29.8,29.4,28.8,28.2,27.7,27.3,27,26.7,26.3]
["9月",23.1,22.8,22.5,22.3,22.1,21.9,21.9,22.8,24,25.2,26.1,26.6,27,27.2,27.1,26.9,26.4,25.9,25.3,24.8,24.4,24,23.6,23.2]
["10月",17.899999999999999,17.7,17.399999999999999,17.100000000000001,16.899999999999999,16.8,16.600000000000001,17.3,18.8,20.2,21.3,21.9,22.4,22.6,22.6,22.3,21.8,21.1,20.399999999999999,19.8,19.3,18.8,18.5,18.100000000000001]
["11月",12.7,12.4,12.1,11.8,11.6,11.4,11.2,11.4,13,14.8,16.2,17.100000000000001,17.7,18,18,17.7,17,16.100000000000001,15.3,14.6,14,13.6,13.2,12.9]
["12月",7.6,7.3,7,6.7,6.5,6.3,6.1,6,7.2,9.1999999999999993,11,12.2,12.8,13.2,13.3,12.9,12.2,11.2,10.3,9.6,9.1,8.6,8.1999999999999993,7.8]
["1月",5.2,4.9000000000000004,4.5,4.2,4,3.7,3.5,3.4,4.4000000000000004,6.5,8.4,9.5,10.199999999999999,10.7,10.9,10.7,10.1,9.1,8.1999999999999993,7.5,6.9,6.4,6,5.6]
["2月",6,5.7,5.3,5,4.7,4.5,4.3,4.3,5.8,7.8,9.3000000000000007,10.3,11,11.4,11.5,11.5,11,10.3,9.5,8.6999999999999993,8,7.5,7,6.5]
["3月",9.1,8.6999999999999993,8.3000000000000007,8,7.7,7.4,7.3,8.1,9.6999999999999993,11.3,12.4,13.2,13.8,14.2,14.3,14.2,13.9,13.2,12.5,11.8,11.1,10.6,10.1,9.6]

{"sheet":"名古屋","index":29,"n_rows":16,"n_cols":25,"rows_kept":16,"cut":false,"hidden":true,"merged":[]}
["気象データ"]
[{"$f":"RIGHT(CELL(\"filename\",A2),LEN(CELL(\"filename\",A2))-FIND(\"]\",CELL(\"filename\",A2)))","v":"名古屋"},{"$f":"VLOOKUP(A2,γ一覧表!$D$4:$E$50,2,FALSE)","v":0.6},"暖・冷房負荷比(γ)"]
["時刻別平均気温"]
["時刻",0,1,2,3,4,5,6,7,8,9,10,11,12,13,14,15,16,17,18,19,20,21,22,23]
["4月",12.5,12.1,11.7,11.4,11.1,10.7,10.8,11.8,13.2,14.7,16.100000000000001,17.2,18.100000000000001,18.600000000000001,18.8,18.600000000000001,18.100000000000001,17.2,16.2,15.3,14.6,14,13.5,13.1]
["5月",17.3,16.899999999999999,16.600000000000001,16.2,15.9,15.7,16.2,17.2,18.5,19.899999999999999,21,22.1,22.8,23.3,23.4,23.2,22.7,21.9,20.9,20,19.2,18.7,18.2,17.8]
["6月",21.1,20.9,20.6,20.399999999999999,20.100000000000001,20,20.399999999999999,21.2,22.2,23.3,24.3,25.1,25.8,26.2,26.3,26.2,25.8,25.1,24.3,23.5,22.8,22.3,21.9,21.6]
["7月",25.2,24.9,24.7,24.5,24.3,24.1,24.4,25.2,26.1,27.1,28.1,28.9,29.5,29.9,30.2,30.1,29.7,29,28.2,27.4,26.7,26.2,25.9,25.5]
["8月",26.4,26.1,25.9,25.7,25.5,25.3,25.4,26.3,27.4,28.5,29.7,30.6,31.4,31.8,31.9,31.7,31.1,30.3,29.3,28.4,27.8,27.3,27,26.6]
["9月",23,22.7,22.5,22.2,22,21.8,21.7,22.4,23.4,24.6,25.7,26.6,27.3,27.8,27.9,27.7,27.1,26.3,25.4,24.7,24.2,23.8,23.4,23.1]
["10月",17.2,16.899999999999999,16.600000000000001,16.3,16.100000000000001,15.9,15.6,16.100000000000001,17.3,18.7,20,21.1,21.9,22.3,22.4,22.1,21.5,20.6,19.8,19.100000000000001,18.600000000000001,18.100000000000001,17.7,17.3]
["11月",11.2,10.8,10.5,10.199999999999999,10,9.6999999999999993,9.6,9.6999999999999993,10.8,12.3,13.7,14.9,15.8,16.3,16.5,16.2,15.5,14.5,13.7,13.1,12.6,12.2,11.7,11.4]
["12月",6,5.7,5.4,5.0999999999999996,4.9000000000000004,4.7,4.5,4.4000000000000004,5.2,6.5,8,9.1999999999999993,10,10.5,10.7,10.4,9.6999999999999993,8.8000000000000007,8.1,7.6,7.2,6.8,6.4,6.1]
["1月",3.5,3.2,2.9,2.6,2.4,2.2000000000000002,2,1.9,2.6,4,5.4,6.6,7.5,8,8.1999999999999993,8,7.4,6.5,5.8,5.3,4.9000000000000004,4.5,4.0999999999999996,3.8]
["2月",4.0999999999999996,3.8,3.5,3.2,2.9,2.7,2.4,2.4,3.4,4.9000000000000004,6.4,7.6,8.6,9.1999999999999993,9.5,9.4,8.8000000000000007,7.9,6.9,6.3,5.8,5.3,5,4.5999999999999996]
["3月",7.5,7.1,6.7,6.4,6.1,5.8,5.6,6.1,7.4,8.9,10.4,11.6,12.6,13.1,13.3,13.2,12.7,11.8,10.8,10,9.4,8.9,8.4,8]

{"sheet":"津","index":30,"n_rows":16,"n_cols":25,"rows_kept":16,"cut":false,"hidden":true,"merged":[]}
["気象データ"]
[{"$f":"RIGHT(CELL(\"filename\",A2),LEN(CELL(\"filename\",A2))-FIND(\"]\",CELL(\"filename\",A2)))","v":"津"},{"$f":"VLOOKUP(A2,γ一覧表!$D$4:$E$50,2,FALSE)","v":0.6},"暖・冷房負荷比(γ)"]
["時刻別平均気温"]
["時刻",0,1,2,3,4,5,6,7,8,9,10,11,12,13,14,15,16,17,18,19,20,21,22,23]
["4月",12.5,12.2,11.9,11.6,11.4,11.2,11.2,12.1,13.4,14.3,15.1,15.8,16.399999999999999,16.899999999999999,17.100000000000001,17.2,16.899999999999999,16.5,15.8,15.1,14.6,14.1,13.6,13.1]
["5月",17.5,17.100000000000001,16.8,16.600000000000001,16.399999999999999,16.2,16.5,17.5,18.5,19.3,19.899999999999999,20.6,21.2,21.6,21.7,21.7,21.5,21.1,20.5,19.899999999999999,19.399999999999999,18.899999999999999,18.399999999999999,18]
["6月",21.4,21.1,20.8,20.6,20.5,20.399999999999999,20.6,21.4,22.2,22.9,23.5,24.1,24.5,24.8,24.9,24.9,24.8,24.4,24,23.4,23,22.6,22.2,21.9]
["7月",25.5,25.3,25,24.8,24.7,24.5,24.7,25.4,26.2,26.9,27.5,28.1,28.5,28.9,29,29.1,28.9,28.6,28.1,27.5,27.1,26.7,26.3,26]
["8月",26.6,26.3,26.1,25.9,25.7,25.6,25.6,26.3,27.3,28.2,28.9,29.5,30,30.3,30.5,30.4,30.2,29.8,29.2,28.5,28.1,27.7,27.3,26.9]
["9月",23.2,22.9,22.7,22.5,22.4,22.2,22.2,22.7,23.7,24.6,25.4,25.9,26.4,26.7,26.9,26.8,26.4,25.9,25.3,24.8,24.4,24,23.6,23.3]
["10月",17.5,17.3,17.100000000000001,16.899999999999999,16.8,16.7,16.5,16.8,18,19.2,20.100000000000001,20.7,21.2,21.5,21.7,21.6,21.2,20.5,19.899999999999999,19.399999999999999,18.8,18.3,18,17.600000000000001]
["11月",11.8,11.6,11.4,11.2,11.1,10.9,10.8,10.8,12,13.4,14.5,15.2,15.7,16.100000000000001,16.2,16,15.6,14.8,14.2,13.6,13.1,12.6,12.3,12]
["12月",6.9,6.7,6.5,6.3,6.2,6.1,6,5.9,6.6,8,9.1999999999999993,10,10.5,10.8,10.9,10.8,10.199999999999999,9.5,8.9,8.3000000000000007,7.9,7.5,7.2,6.9]
["1月",4.5,4.3,4.0999999999999996,3.9,3.8,3.7,3.6,3.5,4,5.4,6.5,7.3,7.9,8.1999999999999993,8.3000000000000007,8.1999999999999993,7.8,7,6.5,6,5.5,5.2,4.9000000000000004,4.5999999999999996]
["2月",4.7,4.4000000000000004,4.2,4,3.9,3.8,3.7,3.6,4.5,5.9,7,7.7,8.1999999999999993,8.5,8.8000000000000007,8.6999999999999993,8.4,7.8,7.1,6.6,6.1,5.7,5.4,5]
["3月",7.6,7.3,7.1,6.8,6.6,6.5,6.3,6.7,7.9,9.1999999999999993,10.1,10.8,11.3,11.7,12,12.1,11.8,11.2,10.5,9.9,9.4,8.9,8.5,8.1]

{"sheet":"大津","index":31,"n_rows":16,"n_cols":25,"rows_kept":16,"cut":false,"hidden":true,"merged":[]}
["気象データ"]
[{"$f":"RIGHT(CELL(\"filename\",A2),LEN(CELL(\"filename\",A2))-FIND(\"]\",CELL(\"filename\",A2)))","v":"大津"},{"$f":"VLOOKUP(A2,γ一覧表!$D$4:$E$50,2,FALSE)","v":0.8},"暖・冷房負荷比(γ)"]
["時刻別平均気温"]
["時刻",0,1,2,3,4,5,6,7,8,9,10,11,12,13,14,15,16,17,18,19,20,21,22,23]
["4月",10.9,10.5,10.1,9.6999999999999993,9.5,9.1999999999999993,9.1999999999999993,10.3,11.8,12.9,14.1,15.2,16.2,16.8,17.2,17.2,16.899999999999999,16.2,15.2,14.2,13.5,12.8,12.2,11.6]
["5月",16,15.6,15.2,14.9,14.6,14.3,14.8,16.100000000000001,17.3,18.399999999999999,19.5,20.5,21.3,22,22.2,22.2,21.9,21.3,20.399999999999999,19.399999999999999,18.5,17.899999999999999,17.2,16.7]
["6月",20.2,19.8,19.5,19.3,19.100000000000001,18.899999999999999,19.399999999999999,20.399999999999999,21.4,22.2,23.1,23.9,24.7,25.2,25.5,25.5,25.3,24.8,24,23.1,22.3,21.7,21.2,20.8]
["7月",24.4,24.1,23.8,23.6,23.4,23.3,23.6,24.6,25.6,26.5,27.3,28.1,28.8,29.3,29.6,29.5,29.1,28.6,27.8,26.8,26.1,25.6,25.2,24.9]
["8月",25.4,25,24.8,24.5,24.3,24.1,24.3,25.4,26.7,27.7,28.8,29.6,30.4,30.9,31.2,31.1,30.7,29.9,28.8,27.7,27,26.6,26.1,25.7]
["9月",21.6,21.3,21.1,20.8,20.6,20.5,20.399999999999999,21.3,22.6,23.8,24.7,25.5,26.2,26.6,26.8,26.8,26.3,25.4,24.4,23.6,23.1,22.6,22.2,21.8]
["10月",15.7,15.4,15.2,15,14.7,14.6,14.4,14.9,16.399999999999999,17.899999999999999,18.899999999999999,19.8,20.5,21,21.3,21.1,20.6,19.600000000000001,18.600000000000001,17.899999999999999,17.3,16.7,16.2,15.8]
["11月",10,9.6999999999999993,9.5,9.3000000000000007,9.1,8.9,8.8000000000000007,8.9,10,11.6,12.8,13.7,14.4,15,15.2,15.1,14.5,13.5,12.8,12,11.4,10.9,10.5,10.199999999999999]
["12月",5.3,5.0999999999999996,4.8,4.7,4.5,4.4000000000000004,4.3,4.3,4.8,6.1,7.3,8.1,8.8000000000000007,9.1999999999999993,9.5,9.4,8.9,8.1,7.5,6.9,6.4,6,5.6,5.4]
["1月",2.9,2.7,2.5,2.2999999999999998,2.2000000000000002,2.1,2,1.9,2.2999999999999998,3.5,4.7,5.5,6.1,6.5,6.8,6.8,6.4,5.7,5.0999999999999996,4.5999999999999996,4.2,3.8,3.4,3.1]
["2月",3,2.8,2.6,2.4,2.2000000000000002,2.1,2,2,2.8,4,5.0999999999999996,6,6.7,7.2,7.5,7.5,7.2,6.6,5.8,5.3,4.8,4.3,3.8,3.5]
["3月",6,5.6,5.3,5,4.8,4.7,4.5,4.9000000000000004,6.1,7.5,8.5,9.5,10.5,11,11.4,11.4,11.1,10.4,9.5,8.6999999999999993,8.1999999999999993,7.6,7.1,6.6]

{"sheet":"京都","index":32,"n_rows":16,"n_cols":25,"rows_kept":16,"cut":false,"hidden":true,"merged":[]}
["気象データ"]
[{"$f":"RIGHT(CELL(\"filename\",A2),LEN(CELL(\"filename\",A2))-FIND(\"]\",CELL(\"filename\",A2)))","v":"京都"},{"$f":"VLOOKUP(A2,γ一覧表!$D$4:$E$50,2,FALSE)","v":0.6},"暖・冷房負荷比(γ)"]
["時刻別平均気温"]
["時刻",0,1,2,3,4,5,6,7,8,9,10,11,12,13,14,15,16,17,18,19,20,21,22,23]
["4月",12.1,11.7,11.3,10.9,10.7,10.4,10.3,11.2,12.6,14.2,15.7,16.899999999999999,17.8,18.399999999999999,18.8,18.8,18.399999999999999,17.600000000000001,16.600000000000001,15.5,14.7,13.9,13.3,12.8]
["5月",17.100000000000001,16.7,16.3,16,15.7,15.5,15.8,16.899999999999999,18.2,19.600000000000001,20.9,22.1,23,23.6,23.9,23.8,23.4,22.7,21.7,20.6,19.7,19,18.3,17.7]
["6月",21.3,20.9,20.5,20.3,20.100000000000001,19.899999999999999,20.2,21.1,22.2,23.3,24.4,25.3,26,26.6,26.9,26.9,26.6,26,25.2,24.3,23.5,22.8,22.3,21.8]
["7月",25.5,25.2,24.9,24.6,24.4,24.2,24.4,25.2,26.2,27.3,28.3,29.2,29.9,30.5,30.8,30.8,30.5,29.9,29,28.1,27.4,26.8,26.4,26]
["8月",26.7,26.3,26,25.7,25.5,25.3,25.3,26.1,27.3,28.6,29.7,30.8,31.6,32.200000000000003,32.5,32.4,32,31.2,30.2,29.1,28.4,27.9,27.4,27]
["9月",22.8,22.5,22.2,21.9,21.7,21.5,21.4,22.1,23.3,24.6,25.7,26.7,27.4,27.8,28.1,27.9,27.4,26.6,25.6,24.8,24.2,23.7,23.3,22.9]
["10月",16.8,16.5,16.3,16,15.7,15.5,15.4,15.7,16.899999999999999,18.5,19.899999999999999,21,21.8,22.3,22.4,22.3,21.7,20.7,19.600000000000001,18.899999999999999,18.3,17.8,17.399999999999999,17]
["11月",11,10.7,10.4,10.1,9.9,9.6999999999999993,9.5,9.6,10.5,12,13.5,14.8,15.7,16.2,16.5,16.3,15.7,14.7,13.7,13,12.4,11.9,11.5,11.2]
["12月",5.9,5.6,5.4,5.2,5,4.8,4.7,4.5,5,6.2,7.6,8.9,9.8000000000000007,10.4,10.6,10.5,10,9.1,8.3000000000000007,7.7,7.1,6.7,6.3,6]
["1月",3.6,3.3,3.1,2.9,2.7,2.6,2.5,2.2999999999999998,2.7,3.8,5.0999999999999996,6.3,7.2,7.8,8,7.9,7.5,6.8,6,5.4,4.9000000000000004,4.5,4.2,3.9]
["2月",4,3.7,3.5,3.3,3.1,2.9,2.8,2.7,3.3,4.5999999999999996,6,7.2,8.1,8.6999999999999993,9,9,8.6,7.8,7,6.3,5.7,5.2,4.8,4.4000000000000004]
["3月",7.1,6.8,6.5,6.2,5.9,5.7,5.5,5.8,6.9,8.3000000000000007,9.8000000000000007,11.1,12,12.6,12.9,12.9,12.5,11.7,10.7,9.9,9.1999999999999993,8.6,8,7.6]

{"sheet":"大阪","index":33,"n_rows":16,"n_cols":25,"rows_kept":16,"cut":false,"hidden":true,"merged":[]}
["気象データ"]
[{"$f":"RIGHT(CELL(\"filename\",A2),LEN(CELL(\"filename\",A2))-FIND(\"]\",CELL(\"filename\",A2)))","v":"大阪"},{"$f":"VLOOKUP(A2,γ一覧表!$D$4:$E$50,2,FALSE)","v":0.6},"暖・冷房負荷比(γ)"]
["時刻別平均気温"]
["時刻",0,1,2,3,4,5,6,7,8,9,10,11,12,13,14,15,16,17,18,19,20,21,22,23]
["4月",13.7,13.3,12.9,12.6,12.2,12,11.9,12.5,13.6,14.9,16.2,17.2,17.899999999999999,18.399999999999999,18.600000000000001,18.5,18.100000000000001,17.5,16.8,16.100000000000001,15.5,15.1,14.6,14.3]
["5月",18.399999999999999,18.100000000000001,17.7,17.399999999999999,17.100000000000001,16.8,17.100000000000001,17.8,19,20.2,21.4,22.3,22.9,23.3,23.5,23.4,22.9,22.3,21.6,20.8,20.2,19.7,19.3,18.899999999999999]
["6月",22.1,21.8,21.6,21.3,21.1,20.9,21.1,21.8,22.7,23.7,24.6,25.4,26,26.4,26.6,26.5,26.1,25.5,24.9,24.2,23.7,23.2,22.8,22.5]
["7月",26.2,26,25.8,25.6,25.4,25.2,25.4,26,26.8,27.8,28.6,29.4,30,30.4,30.6,30.4,30,29.5,28.9,28.2,27.6,27.2,26.9,26.6]
["8月",27.5,27.3,27,26.8,26.6,26.4,26.4,27.1,28.1,29.2,30.2,31.1,31.8,32.200000000000003,32.299999999999997,32.1,31.5,30.8,30.1,29.4,28.8,28.4,28,27.7]
["9月",23.8,23.6,23.3,23.1,22.9,22.7,22.6,23.1,24,25.1,26.2,27.1,27.7,28.1,28.2,28,27.6,26.9,26.2,25.5,25,24.6,24.3,24]
["10月",18.3,18,17.7,17.399999999999999,17.2,17,16.8,17.100000000000001,18.100000000000001,19.399999999999999,20.5,21.5,22.2,22.5,22.7,22.6,22,21.3,20.6,20.100000000000001,19.600000000000001,19.100000000000001,18.7,18.399999999999999]
["11月",12.8,12.4,12.1,11.9,11.6,11.4,11.3,11.3,12.1,13.3,14.6,15.6,16.399999999999999,16.7,16.899999999999999,16.7,16.2,15.6,15.1,14.7,14.1,13.7,13.3,13]
["12月",7.7,7.5,7.2,7,6.8,6.5,6.4,6.4,6.8,7.9,9.1,10.1,10.8,11.1,11.2,11.1,10.6,10.1,9.6999999999999993,9.3000000000000007,8.9,8.5,8.1999999999999993,7.9]
["1月",5.3,5,4.8,4.5,4.3,4.2,4,4,4.3,5.4,6.5,7.5,8,8.4,8.6,8.5,8.1999999999999993,7.7,7.2,6.8,6.5,6.1,5.8,5.5]
["2月",5.6,5.3,5,4.8,4.5999999999999996,4.4000000000000004,4.2,4.3,4.9000000000000004,6,7.1,8.1,8.6999999999999993,9.1,9.4,9.4,9.1,8.5,7.9,7.5,7.1,6.7,6.3,6]
["3月",8.6999999999999993,8.4,8.1,7.8,7.5,7.3,7.1,7.3,8.1999999999999993,9.4,10.6,11.6,12.3,12.8,13,13,12.7,12.2,11.4,10.9,10.4,9.9,9.5,9.1999999999999993]

{"sheet":"神戸","index":34,"n_rows":16,"n_cols":25,"rows_kept":16,"cut":false,"hidden":true,"merged":[]}
["気象データ"]
[{"$f":"RIGHT(CELL(\"filename\",A2),LEN(CELL(\"filename\",A2))-FIND(\"]\",CELL(\"filename\",A2)))","v":"神戸"},{"$f":"VLOOKUP(A2,γ一覧表!$D$4:$E$50,2,FALSE)","v":0.6},"暖・冷房負荷比(γ)"]
["時刻別平均気温"]
["時刻",0,1,2,3,4,5,6,7,8,9,10,11,12,13,14,15,16,17,18,19,20,21,22,23]
["4月",13.6,13.3,13,12.7,12.4,12.2,12.2,13,13.9,14.7,15.6,16.3,16.899999999999999,17.399999999999999,17.7,17.7,17.399999999999999,17,16.399999999999999,15.6,15.1,14.8,14.4,14.1]
["5月",18.3,18,17.7,17.5,17.3,17.100000000000001,17.399999999999999,18.2,19,19.8,20.5,21.2,21.7,22.1,22.4,22.3,22.1,21.6,21,20.3,19.8,19.399999999999999,19,18.7]
["6月",21.9,21.7,21.5,21.3,21.2,21,21.3,21.9,22.6,23.2,23.8,24.4,24.8,25.3,25.5,25.5,25.2,24.8,24.3,23.6,23.2,22.8,22.6,22.3]
["7月",25.9,25.7,25.5,25.4,25.2,25.1,25.3,25.9,26.5,27.1,27.7,28.3,28.8,29.1,29.3,29.3,28.9,28.5,27.9,27.3,26.9,26.6,26.4,26.2]
["8月",27.3,27.1,26.9,26.7,26.6,26.5,26.5,27.2,27.9,28.7,29.4,30,30.5,30.9,31.1,31,30.6,30,29.3,28.6,28.2,27.9,27.7,27.5]
["9月",24.1,23.9,23.7,23.5,23.3,23.2,23.1,23.7,24.5,25.3,26,26.6,27,27.4,27.5,27.4,27.1,26.6,25.8,25.3,25,24.7,24.4,24.2]
["10月",18.7,18.399999999999999,18.2,18,17.8,17.600000000000001,17.5,17.899999999999999,18.899999999999999,19.8,20.6,21.3,21.8,22.1,22.2,22.1,21.8,21,20.2,19.8,19.5,19.2,19,18.7]
["11月",13,12.8,12.6,12.4,12.2,12,11.9,11.9,13,14,14.9,15.6,16.100000000000001,16.399999999999999,16.5,16.5,16,15.2,14.5,14.2,13.9,13.7,13.4,13.1]
["12月",7.7,7.5,7.4,7.2,7,6.9,6.8,6.7,7.3,8.4,9.3000000000000007,10,10.5,10.8,11,10.9,10.5,9.6999999999999993,9.1,8.6999999999999993,8.5,8.1999999999999993,8,7.7]
["1月",5.0999999999999996,4.8,4.7,4.5,4.4000000000000004,4.3,4.2,4.0999999999999996,4.5999999999999996,5.7,6.6,7.3,7.8,8.1999999999999993,8.3000000000000007,8.3000000000000007,8,7.4,6.8,6.3,6,5.8,5.5,5.3]
["2月",5.5,5.2,5.0999999999999996,4.8,4.7,4.5999999999999996,4.4000000000000004,4.4000000000000004,5.2,6.2,7.1,7.8,8.4,8.8000000000000007,9,9,8.8000000000000007,8.3000000000000007,7.6,7.1,6.7,6.4,6.1,5.8]
["3月",8.6,8.4,8.1,7.9,7.7,7.5,7.3,7.6,8.6,9.5,10.4,11.1,11.7,12.1,12.3,12.4,12.2,11.8,11.1,10.4,10,9.6999999999999993,9.3000000000000007,9]

{"sheet":"奈良","index":35,"n_rows":16,"n_cols":25,"rows_kept":16,"cut":false,"hidden":true,"merged":[]}
["気象データ"]
[{"$f":"RIGHT(CELL(\"filename\",A2),LEN(CELL(\"filename\",A2))-FIND(\"]\",CELL(\"filename\",A2)))","v":"奈良"},{"$f":"VLOOKUP(A2,γ一覧表!$D$4:$E$50,2,FALSE)","v":0.6},"暖・冷房負荷比(γ)"]
["時刻別平均気温"]
["時刻",0,1,2,3,4,5,6,7,8,9,10,11,12,13,14,15,16,17,18,19,20,21,22,23]
["4月",10.7,10.3,9.9,9.6,9.3000000000000007,9.1,9,10.3,12.1,13.9,15.5,16.8,17.7,18.3,18.5,18.5,18,17.2,16,14.6,13.6,12.8,12,11.4]
["5月",15.7,15.3,14.9,14.5,14.3,14,14.5,16,17.600000000000001,19.2,20.6,21.8,22.6,23.1,23.4,23.2,22.8,22,20.9,19.600000000000001,18.399999999999999,17.600000000000001,16.899999999999999,16.3]
["6月",19.8,19.5,19.2,18.899999999999999,18.7,18.600000000000001,19.100000000000001,20.100000000000001,21.4,22.7,23.8,24.7,25.3,25.8,26.1,26,25.7,25.1,24.2,23.2,22.2,21.5,20.9,20.399999999999999]
["7月",24,23.7,23.4,23.2,23,22.9,23.2,24.3,25.5,26.7,27.7,28.6,29.3,29.8,30,29.9,29.5,28.9,28,27.1,26.2,25.5,24.9,24.5]
["8月",24.9,24.6,24.4,24.1,23.9,23.7,23.8,25,26.5,27.9,29.2,30.3,31,31.4,31.6,31.5,31,30.1,28.9,27.8,27,26.3,25.7,25.3]
["9月",21.2,20.9,20.7,20.399999999999999,20.2,20.100000000000001,20,20.9,22.3,23.7,25,26,26.7,27.1,27.2,27,26.4,25.6,24.4,23.4,22.7,22.2,21.7,21.3]
["10月",15.2,15,14.7,14.5,14.3,14.1,14,14.4,16,17.600000000000001,19.100000000000001,20.3,21.1,21.5,21.6,21.4,20.8,19.600000000000001,18.3,17.5,16.8,16.2,15.7,15.4]
["11月",9.6,9.3000000000000007,9.1,8.8000000000000007,8.6,8.4,8.3000000000000007,8.3000000000000007,9.6999999999999993,11.4,13,14.4,15.3,15.7,15.8,15.5,14.8,13.5,12.5,11.7,11.1,10.6,10.1,9.8000000000000007]
["12月",4.8,4.5999999999999996,4.4000000000000004,4.2,4,3.9,3.7,3.7,4.4000000000000004,6,7.5,8.8000000000000007,9.6999999999999993,10.1,10.199999999999999,10,9.4,8.1999999999999993,7.3,6.7,6.1,5.7,5.3,5]
["1月",2.6,2.4,2.2000000000000002,2.1,1.9,1.7,1.6,1.5,2,3.6,5.0999999999999996,6.3,7.1,7.6,7.7,7.6,7,6.2,5.2,4.5,4,3.5,3.2,2.8]
["2月",2.8,2.6,2.2999999999999998,2.1,2,1.8,1.7,1.6,2.7,4.3,5.8,7.1,8,8.5,8.6999999999999993,8.6999999999999993,8.1999999999999993,7.4,6.3,5.4,4.7,4.0999999999999996,3.6,3.2]
["3月",5.9,5.5,5.2,4.9000000000000004,4.7,4.5,4.3,4.7,6.3,8,9.6999999999999993,11,11.9,12.5,12.7,12.6,12.2,11.3,10.199999999999999,9,8.1999999999999993,7.5,6.9,6.4]

{"sheet":"和歌山","index":36,"n_rows":16,"n_cols":25,"rows_kept":16,"cut":false,"hidden":true,"merged":[]}
["気象データ"]
[{"$f":"RIGHT(CELL(\"filename\",A2),LEN(CELL(\"filename\",A2))-FIND(\"]\",CELL(\"filename\",A2)))","v":"和歌山"},{"$f":"VLOOKUP(A2,γ一覧表!$D$4:$E$50,2,FALSE)","v":0.6},"暖・冷房負荷比(γ)"]
["時刻別平均気温"]
["時刻",0,1,2,3,4,5,6,7,8,9,10,11,12,13,14,15,16,17,18,19,20,21,22,23]
["4月",13.6,13.1,12.7,12.3,12,11.7,11.5,12.1,13.5,15.2,16.3,17.100000000000001,17.600000000000001,18.100000000000001,18.399999999999999,18.3,18.100000000000001,17.600000000000001,16.8,16.2,15.7,15.3,14.8,14.3]
["5月",18.3,17.8,17.399999999999999,17,16.7,16.399999999999999,16.5,17.399999999999999,18.899999999999999,20.3,21.2,21.9,22.4,22.7,22.9,22.8,22.5,22,21.3,20.6,20.100000000000001,19.7,19.3,18.8]
["6月",22,21.6,21.3,21,20.8,20.6,20.7,21.4,22.6,23.6,24.4,25,25.4,25.6,25.7,25.6,25.3,24.8,24.3,23.7,23.3,23,22.8,22.5]
["7月",26.1,25.8,25.5,25.3,25,24.8,24.9,25.6,26.7,27.7,28.4,28.9,29.4,29.6,29.7,29.6,29.3,28.8,28.1,27.5,27.1,26.9,26.6,26.4]
["8月",27.2,26.8,26.5,26.2,25.9,25.7,25.6,26.3,27.6,29,29.9,30.6,31,31.3,31.3,31.1,30.7,30.1,29.3,28.7,28.3,28,27.7,27.5]
["9月",23.7,23.3,23,22.7,22.5,22.2,22.1,22.5,23.7,25,26.1,26.9,27.4,27.6,27.8,27.7,27.3,26.7,26,25.5,25.1,24.7,24.3,23.9]
["10月",18,17.600000000000001,17.3,17,16.7,16.5,16.399999999999999,16.5,17.7,19.3,20.6,21.5,22.1,22.4,22.5,22.4,22,21.4,20.7,20.2,19.600000000000001,19.100000000000001,18.600000000000001,18.2]
["11月",12.5,12.1,11.9,11.6,11.4,11.2,11.1,11,11.8,13.3,14.8,15.9,16.600000000000001,16.899999999999999,17,16.899999999999999,16.399999999999999,15.8,15.2,14.7,14.1,13.5,13.1,12.7]
["12月",7.5,7.3,7.1,6.9,6.7,6.5,6.4,6.3,6.7,7.8,9.1999999999999993,10.3,11,11.3,11.4,11.3,10.9,10.3,9.9,9.4,8.9,8.4,8,7.7]
["1月",5.0999999999999996,4.9000000000000004,4.7,4.5,4.2,4.0999999999999996,4,3.9,4.2,5.2,6.5,7.6,8.1999999999999993,8.6,8.8000000000000007,8.6999999999999993,8.5,7.9,7.4,7.1,6.6,6.2,5.8,5.4]
["2月",5.5,5.2,5,4.7,4.5,4.3,4.0999999999999996,4.0999999999999996,4.7,6,7.4,8.4,9,9.4,9.6,9.6,9.4,8.9,8.1999999999999993,7.8,7.3,6.8,6.4,6]
["3月",8.6999999999999993,8.3000000000000007,8,7.7,7.4,7.1,6.9,7.1,8.1,9.6,10.9,11.8,12.4,12.9,13.1,13.2,12.9,12.4,11.7,11.2,10.7,10.199999999999999,9.6999999999999993,9.1999999999999993]

{"sheet":"鳥取","index":37,"n_rows":16,"n_cols":25,"rows_kept":16,"cut":false,"hidden":true,"merged":[]}
["気象データ"]
[{"$f":"RIGHT(CELL(\"filename\",A2),LEN(CELL(\"filename\",A2))-FIND(\"]\",CELL(\"filename\",A2)))","v":"鳥取"},{"$f":"VLOOKUP(A2,γ一覧表!$D$4:$E$50,2,FALSE)","v":0.6},"暖・冷房負荷比(γ)"]
["時刻別平均気温"]
["時刻",0,1,2,3,4,5,6,7,8,9,10,11,12,13,14,15,16,17,18,19,20,21,22,23]
["4月",10.5,10.199999999999999,9.9,9.6999999999999993,9.5,9.3000000000000007,9.3000000000000007,10.4,12.3,14.3,15.8,16.7,17.100000000000001,17.2,17.2,16.899999999999999,16.399999999999999,15.8,14.9,14,13,12.2,11.6,11.2]
["5月",15.5,15.2,15,14.7,14.5,14.3,14.6,16,17.899999999999999,19.7,21,21.7,22.1,22.1,22,21.8,21.3,20.6,19.899999999999999,18.899999999999999,17.8,17,16.399999999999999,16]
["6月",19.8,19.600000000000001,19.399999999999999,19.100000000000001,19,18.8,19.100000000000001,20.2,21.6,23,24.1,24.8,25.2,25.4,25.3,25,24.6,24,23.3,22.6,21.8,21.2,20.7,20.3]
["7月",24.3,24,23.8,23.6,23.5,23.4,23.5,24.5,25.8,27.1,28.2,28.8,29.2,29.3,29.3,29,28.6,28,27.3,26.6,25.9,25.4,25,24.6]
["8月",25.2,25,24.8,24.5,24.3,24.1,24.2,25.2,26.7,28.4,29.7,30.5,31,31.2,31.1,30.7,30.1,29.5,28.6,27.7,26.9,26.3,25.9,25.5]
["9月",21,20.8,20.6,20.399999999999999,20.2,20.100000000000001,20,20.6,22,23.5,24.9,25.8,26.3,26.5,26.4,26.1,25.7,24.9,24.1,23.2,22.5,21.9,21.5,21.1]
["10月",15.2,15,14.8,14.6,14.4,14.3,14.1,14.4,15.8,17.600000000000001,19.399999999999999,20.5,21.1,21.3,21.3,21,20.399999999999999,19.600000000000001,18.5,17.399999999999999,16.7,16.2,15.7,15.4]
["11月",10.3,10,9.9,9.6999999999999993,9.6,9.5,9.4,9.4,10.4,11.9,13.5,14.8,15.4,15.6,15.6,15.3,14.8,13.9,12.8,12,11.3,11,10.6,10.3]
["12月",5.6,5.4,5.3,5.2,5.0999999999999996,5,5,4.9000000000000004,5.3,6.3,7.5,8.5,9.1999999999999993,9.5,9.6,9.4,8.9,8.1999999999999993,7.4,6.8,6.4,6.1,5.8,5.6]
["1月",3.1,2.9,2.8,2.8,2.7,2.6,2.6,2.6,2.8,3.6,4.7,5.7,6.4,6.7,6.7,6.6,6.3,5.7,4.9000000000000004,4.3,3.9,3.6,3.4,3.2]
["2月",3.3,3.2,3,2.9,2.8,2.7,2.7,2.6,3.2,4.3,5.6,6.6,7.3,7.6,7.7,7.7,7.3,6.8,6,5.2,4.5999999999999996,4.0999999999999996,3.8,3.6]
["3月",6,5.7,5.6,5.4,5.2,5.0999999999999996,5,5.3,6.6,8.1999999999999993,9.8000000000000007,10.7,11.3,11.6,11.6,11.5,11.1,10.5,9.6999999999999993,8.8000000000000007,7.9,7.3,6.8,6.4]

{"sheet":"松江","index":38,"n_rows":16,"n_cols":25,"rows_kept":16,"cut":false,"hidden":true,"merged":[]}
["気象データ"]
[{"$f":"RIGHT(CELL(\"filename\",A2),LEN(CELL(\"filename\",A2))-FIND(\"]\",CELL(\"filename\",A2)))","v":"松江"},{"$f":"VLOOKUP(A2,γ一覧表!$D$4:$E$50,2,FALSE)","v":0.6},"暖・冷房負荷比(γ)"]
["時刻別平均気温"]
["時刻",0,1,2,3,4,5,6,7,8,9,10,11,12,13,14,15,16,17,18,19,20,21,22,23]
["4月",10.9,10.6,10.4,10.1,9.9,9.8000000000000007,9.6999999999999993,10.8,12.4,14,15.4,16.3,16.899999999999999,17,16.899999999999999,16.5,15.9,15.1,14.3,13.5,13,12.4,12,11.5]
["5月",15.9,15.5,15.3,15,14.8,14.7,15,16.3,17.8,19.2,20.399999999999999,21.2,21.6,21.8,21.6,21.3,20.7,20,19.100000000000001,18.3,17.7,17.2,16.7,16.3]
["6月",19.899999999999999,19.7,19.5,19.3,19.100000000000001,18.899999999999999,19.3,20.3,21.4,22.6,23.6,24.3,24.7,24.8,24.6,24.2,23.8,23.2,22.5,21.8,21.3,20.9,20.6,20.3]
["7月",24.3,24.1,23.9,23.8,23.6,23.5,23.7,24.6,25.6,26.6,27.4,28,28.4,28.5,28.3,28.1,27.7,27.1,26.5,25.9,25.4,25.1,24.8,24.6]
["8月",25.5,25.3,25.1,24.9,24.7,24.5,24.6,25.6,26.9,28,29,29.7,30.2,30.3,30.1,29.7,29.2,28.5,27.8,27.1,26.7,26.3,26,25.8]
["9月",21.6,21.3,21.1,20.9,20.7,20.5,20.399999999999999,21.1,22.3,23.6,24.6,25.3,25.7,25.8,25.7,25.4,24.9,24.2,23.6,23,22.7,22.3,22,21.7]
["10月",15.8,15.5,15.2,15,14.9,14.7,14.6,14.9,16.2,17.8,19.100000000000001,20.100000000000001,20.7,20.9,20.8,20.399999999999999,19.8,19.100000000000001,18.399999999999999,17.7,17.2,16.8,16.3,15.9]
["11月",10.5,10.3,10.1,10,9.8000000000000007,9.6999999999999993,9.6,9.6,10.5,11.9,13.2,14.3,15,15.3,15.2,14.9,14.3,13.5,12.8,12.2,11.8,11.3,11,10.6]
["12月",6,5.9,5.7,5.6,5.5,5.4,5.2,5.2,5.5,6.5,7.5,8.5,9.1,9.4,9.4,9.1,8.6,8,7.5,7.2,6.9,6.6,6.3,6.1]
["1月",3.7,3.6,3.4,3.3,3.2,3.1,3.1,3,3.2,4.0999999999999996,5,5.9,6.4,6.7,6.8,6.6,6.2,5.6,5.2,4.8,4.5,4.2,4,3.8]
["2月",3.9,3.7,3.5,3.3,3.1,3,2.9,2.9,3.4,4.5999999999999996,5.8,6.8,7.4,7.8,7.8,7.6,7.2,6.6,6,5.5,5.0999999999999996,4.8,4.5,4.2]
["3月",6.4,6.1,5.9,5.7,5.5,5.4,5.3,5.5,6.9,8.4,9.8000000000000007,10.8,11.4,11.6,11.6,11.3,10.7,10.1,9.3000000000000007,8.6999999999999993,8.1999999999999993,7.7,7.2,6.9]

{"sheet":"岡山","index":39,"n_rows":16,"n_cols":25,"rows_kept":16,"cut":false,"hidden":true,"merged":[]}
["気象データ"]
[{"$f":"RIGHT(CELL(\"filename\",A2),LEN(CELL(\"filename\",A2))-FIND(\"]\",CELL(\"filename\",A2)))","v":"岡山"},{"$f":"VLOOKUP(A2,γ一覧表!$D$4:$E$50,2,FALSE)","v":0.6},"暖・冷房負荷比(γ)"]
["時刻別平均気温"]
["時刻",0,1,2,3,4,5,6,7,8,9,10,11,12,13,14,15,16,17,18,19,20,21,22,23]
["4月",12.6,12.1,11.5,11.1,10.7,10.4,10.199999999999999,10.8,12.2,14.2,15.7,16.899999999999999,17.8,18.3,18.600000000000001,18.7,18.600000000000001,18.100000000000001,17.2,16.3,15.4,14.7,14,13.4]
["5月",17.600000000000001,17.100000000000001,16.600000000000001,16.2,15.8,15.5,15.6,16.399999999999999,17.899999999999999,19.5,20.9,22,22.8,23.3,23.6,23.7,23.5,23,22.2,21.3,20.399999999999999,19.600000000000001,18.899999999999999,18.3]
["6月",21.6,21.2,20.8,20.5,20.2,20,20.100000000000001,20.9,22.1,23.2,24.3,25.2,25.8,26.3,26.5,26.5,26.4,25.9,25.4,24.6,23.9,23.3,22.7,22.2]
["7月",25.7,25.4,25.1,24.8,24.6,24.4,24.4,25.1,26.1,27.3,28.3,29.1,29.7,30.1,30.4,30.5,30.3,29.8,29.1,28.4,27.7,27.2,26.7,26.3]
["8月",26.9,26.5,26.2,25.9,25.7,25.4,25.4,26,27.1,28.5,29.6,30.5,31.2,31.6,31.8,31.8,31.6,31.1,30.3,29.5,28.8,28.2,27.7,27.3]
["9月",23,22.7,22.3,22.1,21.8,21.6,21.4,21.8,22.8,24.4,25.6,26.5,27.1,27.4,27.6,27.6,27.4,26.9,26.1,25.4,24.7,24.2,23.7,23.2]
["10月",17,16.600000000000001,16.2,15.9,15.7,15.4,15.2,15.3,16.5,18.2,19.8,20.9,21.7,21.9,22.2,22.2,21.9,21.2,20.3,19.5,18.8,18.2,17.7,17.2]
["11月",11,10.6,10.3,10,9.6999999999999993,9.5,9.3000000000000007,9.1999999999999993,9.9,11.7,13.4,14.9,15.8,16.100000000000001,16.3,16.3,15.9,15.1,14.3,13.5,12.8,12.3,11.7,11.2]
["12月",5.9,5.5,5.2,5,4.7,4.5,4.3,4.2,4.5999999999999996,6,7.8,9.3000000000000007,10.199999999999999,10.6,10.7,10.7,10.3,9.5,8.8000000000000007,8.1999999999999993,7.5,7,6.5,6.1]
["1月",3.6,3.2,2.9,2.7,2.4,2.2000000000000002,2,1.9,2.2000000000000002,3.7,5.4,6.9,7.9,8.1999999999999993,8.4,8.5,8.1999999999999993,7.5,6.7,6,5.4,4.9000000000000004,4.4000000000000004,4]
["2月",4.2,3.8,3.5,3.1,2.9,2.6,2.4,2.4,2.9,4.5999999999999996,6.4,7.8,8.6999999999999993,9.1,9.3000000000000007,9.4,9.1999999999999993,8.6,7.8,7,6.4,5.8,5.3,4.8]
["3月",7.5,7,6.6,6.2,5.9,5.6,5.3,5.4,6.5,8.4,10.1,11.3,12.2,12.7,13,13.1,12.9,12.3,11.5,10.7,9.9,9.3000000000000007,8.6999999999999993,8.1999999999999993]

{"sheet":"広島","index":40,"n_rows":16,"n_cols":25,"rows_kept":16,"cut":false,"hidden":true,"merged":[]}
["気象データ"]
[{"$f":"RIGHT(CELL(\"filename\",A2),LEN(CELL(\"filename\",A2))-FIND(\"]\",CELL(\"filename\",A2)))","v":"広島"},{"$f":"VLOOKUP(A2,γ一覧表!$D$4:$E$50,2,FALSE)","v":0.6},"暖・冷房負荷比(γ)"]
["時刻別平均気温"]
["時刻",0,1,2,3,4,5,6,7,8,9,10,11,12,13,14,15,16,17,18,19,20,21,22,23]
["4月",13,12.5,12,11.6,11.3,11,10.8,11.1,12.3,13.9,15.7,16.8,17.600000000000001,18.100000000000001,18.399999999999999,18.5,18.3,17.899999999999999,17.2,16.399999999999999,15.8,15.2,14.5,13.9]
["5月",18,17.5,17,16.5,16.2,15.9,15.8,16.399999999999999,17.8,19.399999999999999,20.8,21.7,22.4,22.8,23.1,23.1,22.9,22.5,21.9,21.2,20.6,20,19.3,18.7]
["6月",21.9,21.5,21.1,20.8,20.5,20.2,20.3,20.8,21.9,23.1,24.2,24.9,25.4,25.7,25.9,25.9,25.7,25.4,24.9,24.4,23.8,23.4,22.9,22.5]
["7月",26,25.6,25.3,25.1,24.8,24.6,24.6,25,26,27,27.9,28.6,29.1,29.5,29.7,29.8,29.6,29.3,28.8,28.2,27.7,27.3,26.9,26.5]
["8月",27.2,26.8,26.5,26.2,25.9,25.7,25.5,25.9,26.9,28.1,29.4,30.2,30.8,31.3,31.5,31.4,31.1,30.6,29.9,29.3,28.8,28.4,27.9,27.5]
["9月",23.3,22.9,22.6,22.3,22.1,21.9,21.7,21.8,22.7,24,25.5,26.6,27.3,27.7,27.9,27.8,27.5,26.9,26.2,25.6,25.1,24.5,24,23.5]
["10月",17.3,17,16.600000000000001,16.3,16,15.8,15.6,15.6,16.399999999999999,17.899999999999999,19.7,21.1,22,22.5,22.8,22.7,22.3,21.6,20.9,20.2,19.3,18.600000000000001,18,17.5]
["11月",11.4,11.1,10.8,10.5,10.3,10,9.9,9.8000000000000007,10.3,11.5,13.3,14.8,15.9,16.5,16.7,16.7,16.2,15.6,14.9,14.1,13.3,12.7,12.1,11.7]
["12月",6.3,6,5.7,5.5,5.2,5,4.9000000000000004,4.8,5,6,7.4,8.9,10.1,10.7,11,10.9,10.5,9.9,9.1999999999999993,8.6,8,7.4,6.9,6.5]
["1月",4.0999999999999996,3.7,3.5,3.3,3,2.9,2.8,2.7,2.9,3.8,5.2,6.7,7.8,8.4,8.8000000000000007,8.8000000000000007,8.4,7.8,7.2,6.6,6,5.4,4.9000000000000004,4.5]
["2月",4.8,4.5,4.0999999999999996,3.8,3.6,3.4,3.3,3.2,3.6,4.7,6.2,7.8,8.8000000000000007,9.4,9.8000000000000007,9.8000000000000007,9.5,8.8000000000000007,8.1999999999999993,7.6,7,6.5,5.9,5.4]
["3月",8.1999999999999993,7.7,7.3,6.9,6.6,6.3,6.1,6.1,6.8,8.1999999999999993,10,11.4,12.3,12.9,13.2,13.3,13.1,12.5,11.8,11.2,10.6,10,9.4,8.8000000000000007]

{"sheet":"山口","index":41,"n_rows":16,"n_cols":25,"rows_kept":16,"cut":false,"hidden":true,"merged":[]}
["気象データ"]
[{"$f":"RIGHT(CELL(\"filename\",A2),LEN(CELL(\"filename\",A2))-FIND(\"]\",CELL(\"filename\",A2)))","v":"山口"},{"$f":"VLOOKUP(A2,γ一覧表!$D$4:$E$50,2,FALSE)","v":0.6},"暖・冷房負荷比(γ)"]
["時刻別平均気温"]
["時刻",0,1,2,3,4,5,6,7,8,9,10,11,12,13,14,15,16,17,18,19,20,21,22,23]
["4月",11.5,11.1,10.7,10.3,10,9.6999999999999993,9.6,10.199999999999999,11.8,14.1,16.100000000000001,17.5,18.3,18.8,19,18.899999999999999,18.5,17.7,16.600000000000001,15.4,14.4,13.6,12.9,12.2]
["5月",16.399999999999999,15.9,15.5,15.2,14.9,14.6,14.7,15.6,17.399999999999999,19.399999999999999,21.1,22.2,23,23.5,23.7,23.6,23.2,22.5,21.5,20.3,19.2,18.3,17.600000000000001,17]
["6月",20.6,20.3,20,19.7,19.5,19.3,19.399999999999999,20.2,21.5,22.9,24.1,25,25.7,26.1,26.2,26.2,25.9,25.3,24.6,23.6,22.8,22.1,21.6,21.2]
["7月",24.7,24.4,24.1,23.9,23.7,23.5,23.6,24.3,25.5,26.7,27.8,28.6,29.2,29.7,29.8,29.8,29.5,29,28.2,27.3,26.6,26,25.5,25.1]
["8月",25.6,25.3,25.1,24.8,24.6,24.4,24.4,25,26.4,27.9,29.2,30.1,30.8,31.1,31.2,31,30.5,29.9,29,28,27.3,26.8,26.3,25.9]
["9月",21.9,21.6,21.3,21,20.8,20.6,20.5,20.8,22.1,23.9,25.5,26.5,27.2,27.5,27.6,27.4,26.9,26.1,25.1,24.2,23.6,23,22.5,22.1]
["10月",15.8,15.4,15.1,14.8,14.5,14.3,14.1,14.2,15.5,17.600000000000001,19.8,21.3,22.2,22.6,22.7,22.4,21.8,20.8,19.5,18.5,17.7,17,16.5,16]
["11月",9.9,9.6,9.3000000000000007,9.1,8.9,8.6999999999999993,8.6,8.5,9.3000000000000007,11,13.2,15.1,16.100000000000001,16.600000000000001,16.7,16.5,15.9,14.8,13.4,12.5,11.7,11,10.5,10.1]
["12月",5,4.7,4.5,4.3,4.0999999999999996,3.9,3.8,3.7,3.9,5.2,6.9,8.8000000000000007,10.1,10.6,10.7,10.6,10.1,9.1999999999999993,8,7.2,6.5,6,5.6,5.2]
["1月",2.8,2.6,2.2999999999999998,2.1,2,1.9,1.8,1.7,1.9,3,4.7,6.5,7.7,8.1999999999999993,8.4,8.4,7.9,7.2,6.2,5.2,4.5,4,3.5,3.1]
["2月",3.7,3.4,3.2,2.9,2.7,2.5,2.4,2.2999999999999998,2.8,4.3,6.2,7.9,9,9.5,9.8000000000000007,9.8000000000000007,9.4,8.6999999999999993,7.7,6.7,5.9,5.2,4.7,4.2]
["3月",6.9,6.5,6.2,5.9,5.6,5.4,5.2,5.2,6.3,8.1999999999999993,10.4,11.9,12.8,13.3,13.5,13.5,13.2,12.5,11.4,10.3,9.4,8.6,8,7.4]

{"sheet":"徳島","index":42,"n_rows":16,"n_cols":25,"rows_kept":16,"cut":false,"hidden":true,"merged":[]}
["気象データ"]
[{"$f":"RIGHT(CELL(\"filename\",A2),LEN(CELL(\"filename\",A2))-FIND(\"]\",CELL(\"filename\",A2)))","v":"徳島"},{"$f":"VLOOKUP(A2,γ一覧表!$D$4:$E$50,2,FALSE)","v":0.6},"暖・冷房負荷比(γ)"]
["時刻別平均気温"]
["時刻",0,1,2,3,4,5,6,7,8,9,10,11,12,13,14,15,16,17,18,19,20,21,22,23]
["4月",13.4,13,12.6,12.3,12,11.7,11.6,12.3,13.7,15,16,16.7,17.399999999999999,17.899999999999999,18.2,18.3,18.100000000000001,17.5,16.8,16,15.5,14.9,14.4,14]
["5月",18,17.600000000000001,17.3,17,16.7,16.399999999999999,16.600000000000001,17.600000000000001,18.8,20,20.8,21.5,22.1,22.5,22.6,22.6,22.4,21.9,21.3,20.5,19.899999999999999,19.399999999999999,19,18.5]
["6月",21.6,21.4,21.1,20.8,20.6,20.399999999999999,20.6,21.4,22.3,23.2,23.9,24.5,25,25.3,25.4,25.4,25.2,24.8,24.3,23.6,23.1,22.7,22.4,22.1]
["7月",25.5,25.3,25,24.8,24.6,24.4,24.6,25.3,26.2,27.2,27.9,28.5,28.9,29.2,29.3,29.3,29.1,28.6,28,27.3,26.8,26.5,26.2,25.8]
["8月",26.7,26.5,26.2,25.9,25.7,25.5,25.5,26.2,27.3,28.5,29.4,30,30.6,30.9,31.1,31,30.6,30,29.3,28.5,28,27.7,27.3,27]
["9月",23.6,23.3,23,22.8,22.6,22.4,22.3,22.7,23.7,24.9,25.8,26.5,27,27.2,27.4,27.3,27,26.4,25.8,25.3,24.8,24.4,24,23.7]
["10月",18.100000000000001,17.8,17.5,17.3,17.100000000000001,17,16.8,17.100000000000001,18.100000000000001,19.5,20.6,21.4,21.9,22.2,22.3,22.2,21.8,21.1,20.5,20,19.399999999999999,19,18.600000000000001,18.2]
["11月",12.5,12.2,12,11.8,11.6,11.5,11.4,11.4,12.2,13.6,14.9,15.8,16.399999999999999,16.8,16.8,16.600000000000001,16.2,15.5,14.9,14.4,13.8,13.4,13,12.7]
["12月",7.5,7.3,7.1,6.9,6.8,6.7,6.6,6.5,7,8.1999999999999993,9.4,10.4,11.1,11.4,11.5,11.2,10.8,10.1,9.5,9.1,8.6,8.1999999999999993,7.9,7.6]
["1月",5.0999999999999996,4.9000000000000004,4.7,4.5,4.4000000000000004,4.2,4.2,4.0999999999999996,4.5,5.6,6.8,7.8,8.5,8.9,9,8.9,8.5,7.9,7.3,6.9,6.4,6,5.7,5.4]
["2月",5.5,5.2,5,4.8,4.5999999999999996,4.4000000000000004,4.3,4.3,4.9000000000000004,6.3,7.5,8.5,9.1,9.5,9.8000000000000007,9.6999999999999993,9.3000000000000007,8.8000000000000007,8.1,7.6,7.1,6.7,6.3,5.9]
["3月",8.6,8.3000000000000007,7.9,7.7,7.5,7.3,7.1,7.3,8.4,9.6999999999999993,10.9,11.8,12.4,12.8,13.1,13.1,12.9,12.3,11.6,11,10.5,10,9.5,9.1]

{"sheet":"高松","index":43,"n_rows":16,"n_cols":25,"rows_kept":16,"cut":false,"hidden":true,"merged":[]}
["気象データ"]
[{"$f":"RIGHT(CELL(\"filename\",A2),LEN(CELL(\"filename\",A2))-FIND(\"]\",CELL(\"filename\",A2)))","v":"高松"},{"$f":"VLOOKUP(A2,γ一覧表!$D$4:$E$50,2,FALSE)","v":0.6},"暖・冷房負荷比(γ)"]
["時刻別平均気温"]
["時刻",0,1,2,3,4,5,6,7,8,9,10,11,12,13,14,15,16,17,18,19,20,21,22,23]
["4月",12.8,12.3,11.9,11.5,11.2,10.9,10.8,11.7,13.3,14.7,15.8,16.600000000000001,17.399999999999999,18,18.5,18.7,18.5,18,17.100000000000001,16.2,15.4,14.7,14.1,13.5]
["5月",17.8,17.3,16.899999999999999,16.5,16.2,15.9,16.2,17.3,18.7,19.899999999999999,20.9,21.7,22.4,23,23.4,23.5,23.4,23,22.2,21.2,20.3,19.600000000000001,19,18.399999999999999]
["6月",21.8,21.4,21.1,20.8,20.5,20.3,20.6,21.4,22.4,23.3,24.1,24.8,25.4,25.9,26.2,26.3,26.2,25.9,25.2,24.5,23.8,23.3,22.8,22.3]
["7月",25.9,25.6,25.3,25,24.8,24.6,24.7,25.5,26.5,27.5,28.3,29,29.6,30,30.3,30.4,30.3,29.9,29.2,28.5,27.8,27.3,26.8,26.4]
["8月",27.1,26.7,26.4,26.1,25.8,25.6,25.6,26.4,27.7,28.8,29.7,30.4,31,31.5,31.8,31.8,31.6,31.1,30.3,29.5,28.8,28.3,27.8,27.4]
["9月",23.4,23,22.7,22.5,22.3,22.1,21.9,22.5,23.8,25,25.9,26.5,27,27.4,27.6,27.6,27.4,26.9,26.1,25.4,24.9,24.4,24,23.5]
["10月",17.600000000000001,17.2,16.899999999999999,16.7,16.399999999999999,16.2,16.100000000000001,16.399999999999999,17.8,19.5,20.6,21.3,21.8,22.1,22.3,22.3,21.9,21.3,20.5,19.8,19.100000000000001,18.600000000000001,18.2,17.7]
["11月",11.7,11.4,11.1,10.9,10.7,10.6,10.4,10.4,11.5,13.3,14.8,15.7,16.2,16.5,16.600000000000001,16.5,16,15.3,14.5,13.9,13.3,12.8,12.4,12]
["12月",6.8,6.6,6.4,6.2,6,5.9,5.7,5.6,6.2,7.7,9.4,10.3,10.8,11,11.1,11,10.5,9.8000000000000007,9.1999999999999993,8.6,8.1,7.8,7.4,7]
["1月",4.5999999999999996,4.3,4.0999999999999996,3.9,3.7,3.6,3.5,3.4,3.9,5.3,6.7,7.7,8.1999999999999993,8.5,8.6999999999999993,8.6,8.3000000000000007,7.7,7,6.5,6,5.6,5.2,4.8]
["2月",4.9000000000000004,4.5999999999999996,4.3,4,3.8,3.7,3.5,3.4,4.3,5.9,7.3,8.1999999999999993,8.8000000000000007,9.1999999999999993,9.4,9.5,9.1999999999999993,8.6999999999999993,7.9,7.3,6.7,6.2,5.8,5.4]
["3月",7.9,7.5,7.2,6.9,6.6,6.4,6.2,6.4,7.8,9.4,10.5,11.4,12,12.6,12.9,13.1,12.9,12.5,11.6,10.8,10.1,9.5,9,8.5]

{"sheet":"松山","index":44,"n_rows":16,"n_cols":25,"rows_kept":16,"cut":false,"hidden":true,"merged":[]}
["気象データ"]
[{"$f":"RIGHT(CELL(\"filename\",A2),LEN(CELL(\"filename\",A2))-FIND(\"]\",CELL(\"filename\",A2)))","v":"松山"},{"$f":"VLOOKUP(A2,γ一覧表!$D$4:$E$50,2,FALSE)","v":0.6},"暖・冷房負荷比(γ)"]
["時刻別平均気温"]
["時刻",0,1,2,3,4,5,6,7,8,9,10,11,12,13,14,15,16,17,18,19,20,21,22,23]
["4月",12.9,12.5,12.2,11.9,11.6,11.4,11.3,12.1,13.7,15.3,16.399999999999999,17.100000000000001,17.600000000000001,17.899999999999999,18.2,18.3,18,17.600000000000001,16.899999999999999,16.100000000000001,15.2,14.5,13.9,13.5]
["5月",17.5,17.100000000000001,16.7,16.399999999999999,16.2,15.9,16.100000000000001,17.2,18.8,20.100000000000001,21.1,21.8,22.2,22.5,22.7,22.7,22.5,22.1,21.5,20.7,19.8,19,18.5,18]
["6月",21.2,21,20.7,20.5,20.3,20.100000000000001,20.3,21.1,22.2,23.3,24,24.7,25.1,25.5,25.6,25.6,25.3,25,24.4,23.8,23.1,22.5,22.1,21.7]
["7月",25.5,25.3,25,24.8,24.6,24.4,24.5,25.3,26.4,27.5,28.3,28.8,29.3,29.6,29.8,29.7,29.6,29.2,28.6,28,27.3,26.7,26.3,25.9]
["8月",26.5,26.2,25.9,25.6,25.4,25.2,25.2,25.9,27.4,28.7,29.7,30.4,30.8,31.1,31.2,31.1,30.8,30.3,29.6,28.8,28.2,27.6,27.2,26.8]
["9月",23,22.7,22.5,22.2,22,21.9,21.7,22.2,23.6,25,26.1,26.9,27.4,27.7,27.8,27.8,27.4,26.8,26,25.2,24.5,24,23.6,23.2]
["10月",17.399999999999999,17.100000000000001,16.899999999999999,16.7,16.5,16.3,16.100000000000001,16.399999999999999,17.8,19.7,21,21.9,22.4,22.8,22.9,22.7,22.3,21.5,20.5,19.5,18.8,18.3,17.899999999999999,17.5]
["11月",12,11.8,11.6,11.4,11.2,11,10.9,10.9,11.9,13.7,15.3,16.2,16.8,17.100000000000001,17.100000000000001,17,16.600000000000001,15.8,14.7,13.9,13.3,12.8,12.4,12.1]
["12月",7.2,7,6.8,6.7,6.5,6.4,6.2,6.1,6.6,8,9.6,10.6,11.1,11.4,11.5,11.4,10.9,10.3,9.4,8.8000000000000007,8.3000000000000007,7.9,7.5,7.3]
["1月",4.8,4.5999999999999996,4.5,4.3,4.2,4,3.9,3.9,4.2,5.4,7.1,8,8.6,8.9,9.1,9,8.6999999999999993,8.1999999999999993,7.5,6.7,6.2,5.8,5.4,5.0999999999999996]
["2月",5.3,5,4.8,4.5999999999999996,4.5,4.3,4.2,4.0999999999999996,4.8,6.4,7.9,8.8000000000000007,9.4,9.8000000000000007,9.9,10,9.6999999999999993,9.1999999999999993,8.5,7.7,7,6.5,6.1,5.8]
["3月",8.3000000000000007,8.1,7.8,7.5,7.3,7.1,7,7.1,8.4,10.1,11.3,12.1,12.7,13.1,13.3,13.3,13.1,12.6,11.9,11.2,10.3,9.6999999999999993,9.1999999999999993,8.8000000000000007]

{"sheet":"高知","index":45,"n_rows":16,"n_cols":25,"rows_kept":16,"cut":false,"hidden":true,"merged":[]}
["気象データ"]
[{"$f":"RIGHT(CELL(\"filename\",A2),LEN(CELL(\"filename\",A2))-FIND(\"]\",CELL(\"filename\",A2)))","v":"高知"},{"$f":"VLOOKUP(A2,γ一覧表!$D$4:$E$50,2,FALSE)","v":0.6},"暖・冷房負荷比(γ)"]
["時刻別平均気温"]
["時刻",0,1,2,3,4,5,6,7,8,9,10,11,12,13,14,15,16,17,18,19,20,21,22,23]
["4月",13.6,13.2,12.7,12.4,12,11.8,11.7,12.5,14.3,16.2,17.899999999999999,18.8,19.3,19.5,19.600000000000001,19.5,19.100000000000001,18.600000000000001,17.899999999999999,17,16.2,15.6,14.9,14.3]
["5月",18,17.600000000000001,17.2,16.8,16.5,16.2,16.3,17.399999999999999,19.2,21,22.4,23.1,23.4,23.5,23.4,23.2,22.9,22.4,21.8,21.1,20.3,19.7,19.100000000000001,18.600000000000001]
["6月",21.5,21.2,20.9,20.6,20.399999999999999,20.100000000000001,20.3,21.2,22.5,23.8,24.9,25.4,25.6,25.8,25.7,25.5,25.2,24.8,24.3,23.8,23.3,22.8,22.4,22.1]
["7月",25.5,25.2,24.9,24.6,24.4,24.2,24.3,25.1,26.4,27.7,28.7,29.1,29.4,29.5,29.4,29.2,28.9,28.5,28,27.5,27,26.6,26.3,26]
["8月",26.4,26,25.7,25.4,25.2,25,24.9,25.6,27.1,28.8,30,30.6,30.8,30.8,30.7,30.4,30,29.5,28.9,28.3,27.9,27.5,27.1,26.7]
["9月",23.4,23.1,22.8,22.5,22.3,22.1,21.9,22.4,23.8,25.4,26.8,27.7,28.2,28.3,28.2,27.9,27.5,26.9,26.2,25.5,25,24.5,24,23.6]
["10月",18.100000000000001,17.7,17.399999999999999,17.100000000000001,16.8,16.600000000000001,16.399999999999999,16.600000000000001,18.2,20.100000000000001,21.8,23.1,23.8,24,24,23.7,23.1,22.3,21.2,20.5,19.8,19.2,18.7,18.2]
["11月",12.3,11.9,11.6,11.3,11,10.9,10.7,10.7,12,13.8,15.8,17.3,18.2,18.7,18.7,18.399999999999999,17.8,16.7,15.5,14.8,14.1,13.5,13,12.6]
["12月",6.9,6.5,6.2,5.9,5.7,5.5,5.3,5.2,5.8,7.9,10,11.7,12.8,13.3,13.5,13.1,12.5,11.4,10.199999999999999,9.4,8.6999999999999993,8.1,7.6,7.1]
["1月",4.8,4.4000000000000004,4.0999999999999996,3.8,3.5,3.3,3.1,3,3.5,5.5,7.6,9.3000000000000007,10.4,11,11.3,11.1,10.6,9.6999999999999993,8.5,7.6,6.9,6.3,5.7,5.3]
["2月",6,5.6,5.2,4.9000000000000004,4.5999999999999996,4.4000000000000004,4.2,4.0999999999999996,5,7,9,10.5,11.5,12,12.2,12.1,11.7,10.9,9.9,9,8.3000000000000007,7.7,7.1,6.6]
["3月",9.4,8.9,8.5,8.1999999999999993,7.9,7.6,7.4,7.5,9,11,12.7,14,14.7,15.1,15.2,15.1,14.8,14.2,13.3,12.4,11.7,11.1,10.5,9.9]

{"sheet":"福岡","index":46,"n_rows":16,"n_cols":25,"rows_kept":16,"cut":false,"hidden":true,"merged":[]}
["気象データ"]
[{"$f":"RIGHT(CELL(\"filename\",A2),LEN(CELL(\"filename\",A2))-FIND(\"]\",CELL(\"filename\",A2)))","v":"福岡"},{"$f":"VLOOKUP(A2,γ一覧表!$D$4:$E$50,2,FALSE)","v":0.6},"暖・冷房負荷比(γ)"]
["時刻別平均気温"]
["時刻",0,1,2,3,4,5,6,7,8,9,10,11,12,13,14,15,16,17,18,19,20,21,22,23]
["4月",13.9,13.7,13.4,13.2,12.9,12.8,12.6,13.1,14.3,15.7,16.899999999999999,17.7,18.2,18.5,18.5,18.3,17.899999999999999,17.3,16.7,16,15.6,15.2,14.8,14.5]
["5月",18.5,18.2,17.899999999999999,17.600000000000001,17.3,17.100000000000001,17.2,18,19.2,20.5,21.6,22.3,22.7,22.9,22.9,22.7,22.4,21.8,21.1,20.399999999999999,19.899999999999999,19.600000000000001,19.2,18.899999999999999]
["6月",22.1,21.9,21.7,21.4,21.3,21.1,21.2,21.7,22.7,23.6,24.5,25.1,25.5,25.7,25.7,25.5,25.1,24.7,24.1,23.6,23.1,22.9,22.7,22.5]
["7月",26.3,26.1,25.9,25.7,25.5,25.4,25.4,25.9,26.8,27.8,28.6,29.2,29.6,29.7,29.8,29.6,29.3,28.8,28.2,27.7,27.2,27,26.8,26.6]
["8月",27.3,27,26.8,26.6,26.4,26.2,26.1,26.6,27.6,28.7,29.7,30.5,30.8,31,31,30.8,30.4,29.8,29.2,28.6,28.2,28,27.7,27.5]
["9月",23.6,23.4,23.2,22.9,22.7,22.5,22.4,22.7,23.8,25,26,26.8,27.2,27.4,27.3,27.1,26.7,26.1,25.4,24.9,24.6,24.3,24,23.7]
["10月",18.399999999999999,18.100000000000001,17.8,17.5,17.3,17.2,17.100000000000001,17.2,18.3,19.8,21,21.9,22.5,22.8,22.7,22.5,22,21.3,20.6,20.2,19.7,19.3,18.899999999999999,18.5]
["11月",13,12.8,12.6,12.4,12.2,12.1,12,11.9,12.6,13.9,15.3,16.2,16.8,17.100000000000001,17.100000000000001,16.899999999999999,16.399999999999999,15.7,15.2,14.7,14.2,13.8,13.4,13.1]
["12月",8.1999999999999993,8,7.8,7.6,7.4,7.3,7.3,7.2,7.5,8.3000000000000007,9.4,10.4,11,11.3,11.4,11.3,10.9,10.3,9.9,9.5,9.1999999999999993,8.8000000000000007,8.6,8.3000000000000007]
["1月",6.1,5.9,5.7,5.5,5.4,5.3,5.2,5.2,5.3,6,7.1,8,8.6,8.9,9.1,9,8.6999999999999993,8.1999999999999993,7.7,7.4,7.1,6.8,6.6,6.3]
["2月",6.8,6.6,6.4,6.2,6.1,6,5.9,5.8,6.2,7.1,8.3000000000000007,9.1999999999999993,9.9,10.199999999999999,10.4,10.3,9.9,9.4,8.9,8.5,8.1999999999999993,7.8,7.5,7.2]
["3月",9.8000000000000007,9.5,9.1999999999999993,9,8.8000000000000007,8.6,8.5,8.6,9.4,10.7,11.8,12.8,13.4,13.8,13.7,13.6,13.3,12.7,12.1,11.6,11.2,10.9,10.5,10.199999999999999]

{"sheet":"佐賀","index":47,"n_rows":16,"n_cols":25,"rows_kept":16,"cut":false,"hidden":true,"merged":[]}
["気象データ"]
[{"$f":"RIGHT(CELL(\"filename\",A2),LEN(CELL(\"filename\",A2))-FIND(\"]\",CELL(\"filename\",A2)))","v":"佐賀"},{"$f":"VLOOKUP(A2,γ一覧表!$D$4:$E$50,2,FALSE)","v":0.6},"暖・冷房負荷比(γ)"]
["時刻別平均気温"]
["時刻",0,1,2,3,4,5,6,7,8,9,10,11,12,13,14,15,16,17,18,19,20,21,22,23]
["4月",13.1,12.7,12.3,12,11.7,11.5,11.3,11.8,13.2,14.8,16.3,17.600000000000001,18.600000000000001,19.2,19.600000000000001,19.7,19.399999999999999,18.7,17.8,16.7,15.8,15.1,14.4,13.8]
["5月",17.899999999999999,17.399999999999999,17,16.7,16.399999999999999,16.100000000000001,16.100000000000001,17,18.399999999999999,19.899999999999999,21.3,22.5,23.4,24,24.4,24.5,24.3,23.6,22.7,21.6,20.6,19.8,19.100000000000001,18.5]
["6月",21.9,21.6,21.3,21.1,20.8,20.6,20.7,21.3,22.3,23.3,24.4,25.3,26,26.5,26.8,26.8,26.6,26.1,25.5,24.7,23.9,23.3,22.9,22.5]
["7月",25.8,25.6,25.3,25.1,24.9,24.7,24.7,25.3,26.2,27.2,28.1,29,29.6,30.1,30.3,30.4,30.2,29.7,29,28.3,27.5,27,26.6,26.3]
["8月",26.6,26.3,26,25.8,25.5,25.3,25.2,25.8,26.9,28.1,29.2,30.1,30.8,31.4,31.6,31.6,31.3,30.6,29.8,28.9,28.2,27.7,27.3,26.9]
["9月",23,22.7,22.4,22.2,21.9,21.8,21.6,21.9,23.1,24.5,25.7,26.8,27.6,28.1,28.2,28.1,27.7,27,26,25,24.5,24,23.6,23.2]
["10月",17.399999999999999,17,16.7,16.399999999999999,16.2,16,15.8,15.9,17.100000000000001,18.899999999999999,20.5,21.9,22.7,23.3,23.5,23.4,22.9,22,20.7,19.899999999999999,19.2,18.600000000000001,18.100000000000001,17.600000000000001]
["11月",11.7,11.3,11.1,10.8,10.6,10.4,10.3,10.199999999999999,11,12.5,14.1,15.5,16.600000000000001,17.2,17.5,17.3,16.899999999999999,16,15,14.2,13.5,12.9,12.4,11.9]
["12月",6.5,6.2,6,5.8,5.6,5.4,5.3,5.2,5.5,6.6,8,9.4,10.4,11,11.4,11.3,11,10.199999999999999,9.5,8.6999999999999993,8.1,7.6,7.1,6.7]
["1月",4.4000000000000004,4.0999999999999996,3.9,3.7,3.6,3.4,3.3,3.2,3.4,4.5,5.9,7.2,8.1,8.8000000000000007,9.1999999999999993,9.1999999999999993,8.9,8.3000000000000007,7.5,6.9,6.3,5.7,5.3,4.8]
["2月",5.6,5.2,4.9000000000000004,4.7,4.5,4.4000000000000004,4.2,4.0999999999999996,4.5999999999999996,5.9,7.4,8.6999999999999993,9.6999999999999993,10.4,10.8,10.9,10.6,10,9.1,8.3000000000000007,7.7,7.1,6.6,6.1]
["3月",8.6999999999999993,8.4,8,7.8,7.5,7.3,7.1,7.1,8.1,9.6999999999999993,11.2,12.4,13.3,14,14.4,14.4,14.2,13.6,12.7,11.8,11.1,10.4,9.9,9.3000000000000007]

{"sheet":"長崎","index":48,"n_rows":16,"n_cols":25,"rows_kept":16,"cut":false,"hidden":true,"merged":[]}
["気象データ"]
[{"$f":"RIGHT(CELL(\"filename\",A2),LEN(CELL(\"filename\",A2))-FIND(\"]\",CELL(\"filename\",A2)))","v":"長崎"},{"$f":"VLOOKUP(A2,γ一覧表!$D$4:$E$50,2,FALSE)","v":0.6},"暖・冷房負荷比(γ)"]
["時刻別平均気温"]
["時刻",0,1,2,3,4,5,6,7,8,9,10,11,12,13,14,15,16,17,18,19,20,21,22,23]
["4月",14,13.8,13.5,13.3,13.1,13,12.8,13.3,14.2,15.7,16.8,17.600000000000001,18.2,18.5,18.7,18.5,18.2,17.7,17,16.2,15.7,15.2,14.8,14.5]
["5月",18.100000000000001,17.8,17.600000000000001,17.399999999999999,17.3,17.100000000000001,17.100000000000001,17.7,18.899999999999999,20.100000000000001,21.1,21.8,22.2,22.5,22.5,22.4,22.2,21.7,21.1,20.3,19.7,19.2,18.8,18.5]
["6月",21.8,21.6,21.4,21.2,21.1,21,21.1,21.5,22.3,23.2,23.9,24.5,24.8,25,25.1,25,24.8,24.5,24,23.4,22.9,22.6,22.4,22.2]
["7月",25.8,25.6,25.5,25.4,25.3,25.2,25.1,25.5,26.3,27.1,27.8,28.4,28.7,29,29.1,29,28.7,28.4,27.9,27.2,26.8,26.5,26.3,26.1]
["8月",26.9,26.7,26.5,26.4,26.2,26.1,26,26.4,27.2,28.3,29.1,29.8,30.3,30.5,30.6,30.6,30.3,29.8,29.1,28.4,27.9,27.6,27.3,27.1]
["9月",23.8,23.5,23.3,23.1,22.9,22.8,22.7,23,23.8,25,26,26.8,27.3,27.6,27.7,27.6,27.4,26.8,26,25.2,24.8,24.4,24.1,23.8]
["10月",18.600000000000001,18.399999999999999,18.100000000000001,18,17.8,17.7,17.5,17.600000000000001,18.5,20,21.3,22.2,22.8,23.2,23.3,23.2,22.9,22.2,21.2,20.5,20,19.5,19.100000000000001,18.8]
["11月",13.2,13,12.9,12.8,12.6,12.6,12.5,12.4,13,14.2,15.6,16.5,17,17.399999999999999,17.5,17.5,17.100000000000001,16.3,15.4,14.8,14.3,13.9,13.6,13.3]
["12月",8.4,8.1999999999999993,8.1,7.9,7.8,7.7,7.7,7.6,7.8,8.6999999999999993,9.9,10.8,11.4,11.7,11.9,11.8,11.5,10.9,10.1,9.6,9.1999999999999993,8.9,8.6,8.4]
["1月",6.1,6,5.9,5.8,5.7,5.6,5.5,5.5,5.6,6.4,7.5,8.4,9,9.3000000000000007,9.5,9.5,9.3000000000000007,8.8000000000000007,8.1,7.6,7.2,6.9,6.6,6.4]
["2月",7,6.8,6.6,6.5,6.4,6.2,6.1,6.1,6.4,7.4,8.6,9.5,10.199999999999999,10.6,10.8,10.9,10.6,10.199999999999999,9.4,8.8000000000000007,8.4,8,7.7,7.4]
["3月",10,9.8000000000000007,9.5,9.4,9.1999999999999993,9,8.9,8.9,9.6999999999999993,10.9,12.1,12.9,13.5,13.9,14.1,14,13.8,13.4,12.7,12,11.4,11,10.7,10.3]

{"sheet":"熊本","index":49,"n_rows":16,"n_cols":25,"rows_kept":16,"cut":false,"hidden":true,"merged":[]}
["気象データ"]
[{"$f":"RIGHT(CELL(\"filename\",A2),LEN(CELL(\"filename\",A2))-FIND(\"]\",CELL(\"filename\",A2)))","v":"熊本"},{"$f":"VLOOKUP(A2,γ一覧表!$D$4:$E$50,2,FALSE)","v":0.6},"暖・冷房負荷比(γ)"]
["時刻別平均気温"]
["時刻",0,1,2,3,4,5,6,7,8,9,10,11,12,13,14,15,16,17,18,19,20,21,22,23]
["4月",13.8,13.3,12.9,12.4,12.1,11.7,11.5,12.1,13.7,15.5,17.100000000000001,18.3,19.2,19.899999999999999,20.2,20.3,20,19.3,18.3,17.2,16.399999999999999,15.8,15.2,14.6]
["5月",18.5,18,17.600000000000001,17.2,16.8,16.5,16.5,17.399999999999999,18.899999999999999,20.5,21.9,23,23.9,24.5,24.8,24.8,24.5,23.9,22.9,21.7,20.9,20.3,19.7,19.2]
["6月",22.3,21.9,21.6,21.3,21.1,20.9,20.9,21.5,22.5,23.6,24.6,25.5,26.1,26.6,26.8,26.8,26.6,26.1,25.4,24.6,23.9,23.5,23.1,22.8]
["7月",26,25.7,25.5,25.2,25,24.8,24.8,25.4,26.4,27.5,28.5,29.3,29.9,30.3,30.6,30.6,30.3,29.7,28.9,28.1,27.4,27,26.7,26.4]
["8月",26.8,26.5,26.2,25.9,25.7,25.4,25.3,25.9,27.2,28.5,29.6,30.6,31.3,31.8,32,31.9,31.5,30.8,29.8,28.9,28.3,27.8,27.4,27.1]
["9月",23.6,23.2,22.9,22.6,22.3,22,21.8,22.2,23.5,25,26.4,27.5,28.2,28.8,29,28.9,28.5,27.8,26.7,25.8,25.2,24.6,24.2,23.8]
["10月",17.8,17.399999999999999,17,16.7,16.399999999999999,16.100000000000001,15.9,16,17.399999999999999,19.3,21,22.4,23.3,23.9,24.1,24.1,23.6,22.6,21.4,20.5,19.8,19.100000000000001,18.600000000000001,18.100000000000001]
["11月",11.8,11.4,11.1,10.7,10.5,10.3,10.1,9.9,10.9,12.7,14.6,16.100000000000001,17.100000000000001,17.600000000000001,17.899999999999999,17.899999999999999,17.399999999999999,16.3,15.2,14.4,13.7,13.1,12.6,12.1]
["12月",6.5,6.1,5.8,5.5,5.2,5,4.8,4.7,5.0999999999999996,6.5,8.4,10,11,11.6,11.9,11.9,11.5,10.6,9.6,8.9,8.3000000000000007,7.7,7.2,6.7]
["1月",4.5,4.0999999999999996,3.7,3.5,3.3,3.1,2.9,2.8,3,4.4000000000000004,6.1,7.7,8.6999999999999993,9.3000000000000007,9.6999999999999993,9.8000000000000007,9.5,8.8000000000000007,7.9,7.1,6.5,5.9,5.4,5]
["2月",5.8,5.4,5.0999999999999996,4.7,4.5,4.2,4,3.9,4.5,6,7.8,9.3000000000000007,10.3,10.9,11.3,11.4,11.3,10.6,9.6,8.6999999999999993,8.1,7.5,6.9,6.4]
["3月",9.1999999999999993,8.8000000000000007,8.3000000000000007,8,7.6,7.3,7.1,7.1,8.3000000000000007,10.1,11.8,13.2,14.1,14.7,15,15.1,14.9,14.3,13.3,12.3,11.6,11,10.4,9.9]

{"sheet":"大分","index":50,"n_rows":16,"n_cols":25,"rows_kept":16,"cut":false,"hidden":true,"merged":[]}
["気象データ"]
[{"$f":"RIGHT(CELL(\"filename\",A2),LEN(CELL(\"filename\",A2))-FIND(\"]\",CELL(\"filename\",A2)))","v":"大分"},{"$f":"VLOOKUP(A2,γ一覧表!$D$4:$E$50,2,FALSE)","v":0.6},"暖・冷房負荷比(γ)"]
["時刻別平均気温"]
["時刻",0,1,2,3,4,5,6,7,8,9,10,11,12,13,14,15,16,17,18,19,20,21,22,23]
["4月",13.1,12.7,12.2,11.9,11.6,11.3,11.2,11.8,13.4,15,16.2,17,17.7,18.100000000000001,18.2,18.2,17.899999999999999,17.5,16.7,16,15.4,14.9,14.4,13.8]
["5月",17.7,17.2,16.8,16.5,16.100000000000001,15.9,15.9,16.8,18.399999999999999,19.899999999999999,20.8,21.6,22.1,22.4,22.6,22.5,22.3,21.8,21.2,20.399999999999999,19.8,19.3,18.8,18.3]
["6月",21.4,21,20.7,20.399999999999999,20.2,20,20.100000000000001,20.8,21.8,22.8,23.5,24.1,24.6,24.9,25.1,25,24.8,24.4,24,23.4,22.9,22.6,22.2,21.8]
["7月",25.4,25.1,24.8,24.6,24.4,24.1,24.2,24.8,25.9,27,27.7,28.5,29.1,29.4,29.4,29.3,29,28.5,27.9,27.4,26.8,26.5,26.2,25.9]
["8月",26.3,26,25.6,25.4,25.1,24.9,24.8,25.5,26.8,28.1,29,29.7,30.4,30.7,30.8,30.7,30.4,29.8,29,28.3,27.8,27.4,27,26.6]
["9月",22.9,22.6,22.4,22.1,21.9,21.7,21.6,22,23.2,24.5,25.4,26.1,26.6,27,27.1,27,26.7,26.2,25.5,24.9,24.5,24,23.6,23.1]
["10月",17.600000000000001,17.3,17,16.8,16.5,16.399999999999999,16.2,16.399999999999999,17.7,19.3,20.7,21.5,22,22.4,22.5,22.5,22.1,21.5,20.7,20.100000000000001,19.3,18.8,18.3,17.8]
["11月",12.2,11.9,11.6,11.4,11.2,11,10.9,10.9,11.8,13.4,15.1,16.2,16.8,17.2,17.3,17.2,16.7,16,15.3,14.7,14,13.4,12.9,12.4]
["12月",7.3,7,6.7,6.5,6.3,6.2,6.1,6,6.4,7.8,9.5,10.8,11.5,11.9,12,11.9,11.5,10.7,10.1,9.5,8.9,8.3000000000000007,7.9,7.5]
["1月",5.0999999999999996,4.8,4.5999999999999996,4.4000000000000004,4.2,4.0999999999999996,4.0999999999999996,4,4.2,5.5,7.2,8.4,9.1,9.5,9.6999999999999993,9.6,9.3000000000000007,8.6,8,7.5,6.9,6.4,5.9,5.4]
["2月",5.8,5.5,5.3,5,4.9000000000000004,4.7,4.5999999999999996,4.5,5.0999999999999996,6.5,8.1,9.1,9.8000000000000007,10.199999999999999,10.5,10.5,10.199999999999999,9.6,8.9,8.3000000000000007,7.8,7.3,6.8,6.4]
["3月",8.9,8.5,8.1999999999999993,7.8,7.6,7.3,7.1,7.2,8.4,10.1,11.4,12.3,12.9,13.3,13.5,13.4,13.2,12.7,12,11.4,10.9,10.4,9.9,9.4]

{"sheet":"宮崎","index":51,"n_rows":16,"n_cols":25,"rows_kept":16,"cut":false,"hidden":true,"merged":[]}
["気象データ"]
[{"$f":"RIGHT(CELL(\"filename\",A2),LEN(CELL(\"filename\",A2))-FIND(\"]\",CELL(\"filename\",A2)))","v":"宮崎"},{"$f":"VLOOKUP(A2,γ一覧表!$D$4:$E$50,2,FALSE)","v":0.4},"暖・冷房負荷比(γ)"]
["時刻別平均気温"]
["時刻",0,1,2,3,4,5,6,7,8,9,10,11,12,13,14,15,16,17,18,19,20,21,22,23]
["4月",14.5,14.1,13.7,13.4,13.1,12.9,12.7,13.3,14.8,16.7,18.2,19.100000000000001,19.600000000000001,19.899999999999999,20,19.899999999999999,19.7,19.2,18.5,17.7,17.100000000000001,16.3,15.6,15.1]
["5月",18.600000000000001,18.2,18,17.7,17.399999999999999,17.2,17.2,18,19.600000000000001,21.2,22.4,23.1,23.4,23.5,23.5,23.4,23.1,22.7,22.1,21.4,20.8,20.2,19.600000000000001,19.100000000000001]
["6月",21.9,21.6,21.4,21.2,21.1,20.9,21,21.6,22.7,23.8,24.6,25,25.2,25.4,25.4,25.3,25.2,24.8,24.4,23.9,23.4,23,22.7,22.4]
["7月",25.8,25.6,25.4,25.2,25,24.8,24.8,25.6,26.8,27.9,28.8,29.4,29.6,29.8,29.9,29.8,29.5,29.1,28.5,27.8,27.3,26.9,26.6,26.2]
["8月",26.3,26,25.8,25.6,25.4,25.2,25.1,25.8,27.1,28.5,29.5,30.1,30.3,30.5,30.5,30.4,30.1,29.7,29,28.3,27.8,27.4,27,26.6]
["9月",23.5,23.2,22.9,22.7,22.5,22.3,22.1,22.5,23.7,25.3,26.6,27.3,27.6,27.8,27.7,27.5,27.1,26.7,26.1,25.6,25.1,24.6,24.1,23.7]
["10月",18.399999999999999,18,17.7,17.399999999999999,17.2,17,16.8,16.899999999999999,18.2,20.2,21.9,23,23.5,23.8,23.8,23.6,23.3,22.6,21.8,21,20.2,19.600000000000001,19,18.600000000000001]
["11月",12.9,12.6,12.3,12,11.8,11.6,11.4,11.3,12.3,14.1,16.2,17.8,18.600000000000001,18.899999999999999,19,18.899999999999999,18.399999999999999,17.5,16.5,15.4,14.6,14,13.5,13.1]
["12月",7.8,7.5,7.2,7,6.7,6.5,6.3,6.2,6.7,8.5,10.6,12.3,13.3,13.9,14.1,14,13.5,12.5,11.3,10.199999999999999,9.5,8.9,8.4,8]
["1月",6,5.7,5.4,5.0999999999999996,4.9000000000000004,4.7,4.5,4.4000000000000004,4.8,6.4,8.5,10.199999999999999,11.3,11.9,12.2,12.2,11.8,10.9,9.8000000000000007,8.6999999999999993,7.9,7.3,6.8,6.4]
["2月",7.3,6.9,6.7,6.4,6.2,5.9,5.7,5.6,6.3,8,9.9,11.4,12.3,12.9,13.2,13.1,12.8,12.2,11.3,10.4,9.5,8.8000000000000007,8.3000000000000007,7.8]
["3月",10.3,10,9.6999999999999993,9.3000000000000007,9,8.8000000000000007,8.6,8.6,9.8000000000000007,11.7,13.4,14.6,15.4,15.8,15.9,15.9,15.6,15.1,14.3,13.5,12.7,11.9,11.3,10.9]

{"sheet":"鹿児島","index":52,"n_rows":16,"n_cols":25,"rows_kept":16,"cut":false,"hidden":true,"merged":[]}
["気象データ"]
[{"$f":"RIGHT(CELL(\"filename\",A2),LEN(CELL(\"filename\",A2))-FIND(\"]\",CELL(\"filename\",A2)))","v":"鹿児島"},{"$f":"VLOOKUP(A2,γ一覧表!$D$4:$E$50,2,FALSE)","v":0.4},"暖・冷房負荷比(γ)"]
["時刻別平均気温"]
["時刻",0,1,2,3,4,5,6,7,8,9,10,11,12,13,14,15,16,17,18,19,20,21,22,23]
["4月",15.4,15,14.7,14.4,14.2,14,13.9,14.3,15.6,16.899999999999999,18.100000000000001,19.100000000000001,19.7,20.2,20.399999999999999,20.399999999999999,20.100000000000001,19.5,18.8,17.899999999999999,17.3,16.899999999999999,16.399999999999999,16]
["5月",19.5,19.100000000000001,18.8,18.600000000000001,18.399999999999999,18.2,18.2,18.899999999999999,20.100000000000001,21.2,22.3,23.1,23.6,23.9,24.1,24.1,23.8,23.4,22.6,21.7,21.1,20.7,20.3,19.899999999999999]
["6月",23,22.7,22.5,22.4,22.2,22.1,22.1,22.7,23.4,24.1,24.8,25.3,25.7,25.9,26.1,26.1,25.9,25.6,25.1,24.6,24.1,23.8,23.6,23.3]
["7月",26.8,26.6,26.4,26.2,26.1,26,26,26.5,27.4,28.2,28.9,29.5,30,30.3,30.5,30.4,30.2,29.8,29.3,28.5,27.9,27.6,27.3,27.1]
["8月",27.6,27.4,27.2,27,26.8,26.6,26.5,27,28,28.9,29.7,30.4,30.9,31.3,31.4,31.3,31,30.6,29.9,29.2,28.7,28.3,28.1,27.9]
["9月",25.1,24.8,24.6,24.3,24.1,24,23.9,24.2,25.2,26.3,27.2,28,28.5,28.9,29,29,28.6,28.1,27.3,26.7,26.3,25.9,25.6,25.3]
["10月",20.3,19.899999999999999,19.7,19.399999999999999,19.2,19,18.899999999999999,19,20.2,21.6,22.7,23.7,24.3,24.8,25,24.9,24.4,23.7,22.9,22.2,21.7,21.2,20.8,20.399999999999999]
["11月",14.7,14.4,14.2,13.9,13.7,13.6,13.5,13.5,14.3,16,17.3,18.2,18.899999999999999,19.399999999999999,19.600000000000001,19.5,19,18.2,17.399999999999999,16.7,16.2,15.7,15.3,14.9]
["12月",9.5,9.1999999999999993,9,8.8000000000000007,8.6,8.5,8.4,8.3000000000000007,8.6999999999999993,10.199999999999999,11.7,12.7,13.5,13.9,14.1,14,13.5,12.8,12,11.4,10.8,10.3,9.9,9.6]
["1月",7.3,7,6.8,6.7,6.5,6.4,6.3,6.3,6.5,7.8,9.3000000000000007,10.4,11.1,11.6,11.9,11.9,11.5,10.9,10.1,9.5,8.9,8.4,8,7.7]
["2月",8.5,8.1999999999999993,8,7.7,7.6,7.4,7.3,7.3,7.8,9.1999999999999993,10.6,11.7,12.5,13,13.3,13.3,13,12.3,11.6,10.9,10.3,9.8000000000000007,9.4,9]
["3月",11.4,11.1,10.8,10.5,10.3,10.1,10,10,11,12.5,13.7,14.7,15.5,16,16.3,16.3,16,15.3,14.5,13.8,13.2,12.8,12.3,11.8]

{"sheet":"那覇","index":53,"n_rows":16,"n_cols":25,"rows_kept":16,"cut":false,"hidden":true,"merged":[]}
["気象データ"]
[{"$f":"RIGHT(CELL(\"filename\",A2),LEN(CELL(\"filename\",A2))-FIND(\"]\",CELL(\"filename\",A2)))","v":"那覇"},{"$f":"VLOOKUP(A2,γ一覧表!$D$4:$E$50,2,FALSE)","v":0},"暖・冷房負荷比(γ)"]
["時刻別平均気温"]
["時刻",0,1,2,3,4,5,6,7,8,9,10,11,12,13,14,15,16,17,18,19,20,21,22,23]
["4月",20.6,20.5,20.399999999999999,20.3,20.2,20.100000000000001,20.100000000000001,20.399999999999999,21.1,21.9,22.4,22.8,23.1,23.2,23.1,23,22.7,22.3,21.8,21.4,21.2,21.1,21,20.8]
["5月",23.4,23.3,23.2,23.1,23,23,23,23.4,24.1,24.7,25.3,25.6,25.8,25.9,25.9,25.7,25.5,25.1,24.6,24.2,24,23.8,23.7,23.6]
["6月",26.2,26.1,26,25.9,25.9,25.9,25.9,26.3,27,27.6,28.1,28.4,28.6,28.7,28.7,28.6,28.3,27.9,27.5,27,26.7,26.6,26.5,26.4]
["7月",28.1,28,27.8,27.7,27.6,27.6,27.5,28,28.9,29.5,30,30.4,30.7,30.8,30.8,30.7,30.5,30.1,29.5,29,28.6,28.5,28.4,28.2]
["8月",28.1,28,27.8,27.7,27.6,27.5,27.5,27.8,28.7,29.4,29.9,30.3,30.5,30.7,30.6,30.5,30.3,29.9,29.3,28.8,28.6,28.5,28.4,28.2]
["9月",27.2,27,26.9,26.8,26.7,26.6,26.5,26.8,27.6,28.4,29,29.4,29.6,29.6,29.6,29.4,29.1,28.6,28.1,27.8,27.6,27.5,27.4,27.3]
["10月",24.9,24.7,24.6,24.5,24.4,24.3,24.2,24.3,25.1,26,26.6,27,27.2,27.2,27.1,27,26.7,26.2,25.7,25.5,25.3,25.2,25,24.9]
["11月",21.9,21.8,21.7,21.6,21.5,21.4,21.4,21.4,21.9,22.8,23.4,23.9,24.1,24.2,24.1,23.9,23.5,23.1,22.7,22.5,22.3,22.2,22,21.9]
["12月",18.399999999999999,18.3,18.2,18.100000000000001,18.100000000000001,18,17.899999999999999,18,18.3,19.100000000000001,19.8,20.2,20.399999999999999,20.5,20.5,20.3,20,19.600000000000001,19.2,19,18.899999999999999,18.7,18.600000000000001,18.5]
["1月",16.600000000000001,16.5,16.399999999999999,16.3,16.2,16.2,16.2,16.2,16.399999999999999,17.2,17.899999999999999,18.399999999999999,18.600000000000001,18.7,18.7,18.5,18.3,18,17.600000000000001,17.3,17.2,17,16.899999999999999,16.8]
["2月",16.899999999999999,16.8,16.7,16.600000000000001,16.5,16.399999999999999,16.399999999999999,16.399999999999999,16.8,17.7,18.3,18.8,19.100000000000001,19.2,19.2,19,18.8,18.399999999999999,18,17.7,17.5,17.3,17.2,17.100000000000001]
["3月",18.3,18.2,18.100000000000001,18,17.899999999999999,17.8,17.8,17.8,18.5,19.3,19.899999999999999,20.3,20.6,20.7,20.7,20.6,20.3,19.899999999999999,19.5,19.100000000000001,18.899999999999999,18.8,18.7,18.5]