{"text_format":"1","workbook":"xlsx","n_sheets":52,"sheets":["必ずこのシートから始めてください","検証場所","燃料選択","管理","都道府県庁所在地等一覧表","札幌","青森","盛岡","仙台","秋田","山形","福島","水戸","宇都宮","前橋","熊谷","千葉","東京","横浜","新潟","富山","金沢","福井","甲府","長野","岐阜","静岡","名古屋","津","彦根","京都","大阪","神戸","奈良","和歌山","鳥取","松江","岡山","広島","山口","徳島","高松","松山","高知","福岡","佐賀","長崎","熊本","大分","宮崎","鹿児島","那覇"],"not_rendered":{"charts":0,"images":0,"macros":1,"external_links":0,"defined_names":5,"comments":0,"pivot_tables":0},"unopened":[],"bounds":{"document_bytes":16777216,"sheet_cells":100000,"rows_first":2000,"rows_last":500,"rows_between":2000,"halvings":0,"cell_chars":16384,"cell_head_chars":4096},"cells_cut":0,"cells_raw":0,"read":"whole","date_system":"1900"}

{"sheet":"必ずこのシートから始めてください","index":0,"n_rows":18,"n_cols":13,"rows_kept":18,"cut":false,"hidden":false,"merged":[[11,3,11,12],[16,4,16,12],[17,4,17,12],[2,12,3,13],[15,4,15,13],[15,3,16,3],[4,2,5,13],[7,11,8,12],[9,11,10,12],[7,10,8,10],[9,10,10,10],[7,3,8,9],[9,3,10,9],[2,3,3,11],[12,7,13,8]]}
[]
[]
[null,null,null,"空調年間活動量算定ツール(吸収式冷凍機版)",null,null,null,null,null,null,null,null,"Ver. 1.1"]
[]
[null,null,"吸収式冷凍機の年間燃料使用量および電力使用量の算定"]
[]
[]
[null,null,null,"吸収式冷凍機を設置する都道府県を選択",null,null,null,null,null,null,"選択"]
[]
[null,null,null,"選択した都道府県庁所在地等\n（埼玉県は熊谷市、滋賀県は彦根市よりデータ取得）",null,null,null,null,null,null,"自動表示",{"$f":"IF($L$8=\"\",\"\",VLOOKUP($L$8,都道府県庁所在地等一覧表!$C$3:$D$50,2,FALSE))","v":""}]
[]
[null,null,null,"検証場所セルを押下するとシートが開く"]
[null,null,null,null,null,null,null,"検証場所"]
[]
[]
[null,null,null,"注意事項","● 本ツールは、設備更新の効果を簡易的に把握するために開発されたものであり、他の目的に利用することは想定されていません。"]
[null,null,null,null,"● あらゆる入力に対して正しい計算結果が得られることを保証するものではありません。"]
[null,null,null,null,"    計算結果の取り扱いについては、自己責任でお願いします。"]

{"sheet":"検証場所","index":1,"n_rows":191,"n_cols":92,"rows_kept":191,"cut":false,"hidden":false,"merged":[[27,3,38,3],[28,16,28,18],[2,2,2,3],[3,2,3,3],[9,3,9,26],[24,3,25,4],[24,12,25,13],[41,3,52,3],[42,16,42,18],[55,11,64,12],[57,2,58,2],[57,3,58,3],[57,4,58,5],[57,6,58,6],[57,7,58,8],[57,9,58,10],[61,2,62,2],[57,27,57,28],[57,29,57,30],[59,2,60,2],[59,3,60,3],[59,4,60,5],[59,6,60,6],[59,7,60,8],[59,9,60,10],[71,11,73,12],[61,3,62,3],[61,4,62,5],[61,6,62,6],[61,7,62,8],[61,9,62,10],[67,3,68,3],[67,4,68,5],[67,6,68,6],[67,7,68,8],[67,9,68,10],[69,3,70,3],[69,4,70,5],[69,6,70,6],[69,7,70,8],[69,9,70,10],[76,11,85,12],[78,2,79,2],[78,3,79,3],[78,4,79,5],[78,6,79,6],[78,7,79,8],[78,9,79,10],[80,2,81,2],[80,3,81,3],[80,4,81,5],[80,6,81,6],[80,7,81,8],[80,9,81,10],[82,2,83,2],[82,3,83,3],[82,4,83,5],[82,6,83,6],[82,7,83,8],[82,9,83,10],[90,3,91,3],[90,4,91,5],[90,6,91,6],[90,7,91,8],[90,9,91,10],[88,3,89,3],[88,4,89,5],[88,6,89,6],[88,7,89,8],[88,9,89,10],[92,11,94,12],[98,3,98,26],[114,3,114,26],[130,3,130,26],[171,3,171,44]]}
[]
[null,null,"吸収式冷凍機の設置場所"]
[null,null,{"$f":"IF(必ずこのシートから始めてください!$L$8=\"\",\"\",必ずこのシートから始めてください!$L$8)","v":""},null,null,"手順1：空調を行う月、時間を下記の指定の色で塗る(指定の色以外で塗ると計算できません。)"]
[null,null,{"$f":"VLOOKUP($C$3,都道府県庁所在地等一覧表!$C$3:$D$50,2,FALSE)","v":{"$error":"#N/A"}},null,null,null,"冷却","青","【左から5列目、一番薄い色(アクセント1,白＋基本色80％)】"]
[null,null,null,null,null,null,"加熱","オレンジ","【左から6番目、一番薄い色(アクセント2,白＋基本色80％)】"]
[null,null,null,null,null,"手順2：各月の運転日数を入力する"]
[null,null,null,null,null,"手順3：Ctrl + Alt + F9を同時に押す",null,null,null,null,null,null,null,null,null,null,null,"●時刻別平均外気湿球温度表記載の数値は、選択された都道府県の県庁所在地等の月別、時刻別平均外気湿球温度"]
[null,null,null,null,null,"手順4：黄色のセルに値を入力する(緑は自動計算)",null,null,null,null,null,null,null,null,null,null,null,"●本データは気象庁発表の1992年4月1日から2022年3月31日までの30年の1時間データを整理したもの"]
[null,null,"時刻別平均外気湿球温度[℃]",null,null,null,null,null,null,null,null,null,null,null,null,null,null,"●2月はうるう日を含みます"]
[null,null,null," 時刻",null,null,null,null,null,null,null,null,null,null,null,null,null,null,null,null,null,null,null,null,null,null,null,{"$f":"SUM(AB12:AB23)","v":0},{"$f":"必ずこのシートから始めてください!M3","v":"Ver. 1.1"}]
[null,null,"月",0,1,2,3,4,5,6,7,8,9,10,11,12,13,14,15,16,17,18,19,20,21,22,23,"運転日数","月"]
[null,null,4,{"$f":"IFERROR(INDIRECT($C$4&\"!B5\"),\"\")","v":""},{"$f":"IFERROR(INDIRECT($C$4&\"!C5\"),\"\")","v":""},{"$f":"IFERROR(INDIRECT($C$4&\"!D5\"),\"\")","v":""},{"$f":"IFERROR(INDIRECT($C$4&\"!E5\"),\"\")","v":""},{"$f":"IFERROR(INDIRECT($C$4&\"!F5\"),\"\")","v":""},{"$f":"IFERROR(INDIRECT($C$4&\"!G5\"),\"\")","v":""},{"$f":"IFERROR(INDIRECT($C$4&\"!H5\"),\"\")","v":""},{"$f":"IFERROR(INDIRECT($C$4&\"!I5\"),\"\")","v":""},{"$f":"IFERROR(INDIRECT($C$4&\"!J5\"),\"\")","v":""},{"$f":"IFERROR(INDIRECT($C$4&\"!K5\"),\"\")","v":""},{"$f":"IFERROR(INDIRECT($C$4&\"!L5\"),\"\")","v":""},{"$f":"IFERROR(INDIRECT($C$4&\"!M5\"),\"\")","v":""},{"$f":"IFERROR(INDIRECT($C$4&\"!N5\"),\"\")","v":""},{"$f":"IFERROR(INDIRECT($C$4&\"!O5\"),\"\")","v":""},{"$f":"IFERROR(INDIRECT($C$4&\"!P5\"),\"\")","v":""},{"$f":"IFERROR(INDIRECT($C$4&\"!Q5\"),\"\")","v":""},{"$f":"IFERROR(INDIRECT($C$4&\"!R5\"),\"\")","v":""},{"$f":"IFERROR(INDIRECT($C$4&\"!S5\"),\"\")","v":""},{"$f":"IFERROR(INDIRECT($C$4&\"!T5\"),\"\")","v":""},{"$f":"IFERROR(INDIRECT($C$4&\"!U5\"),\"\")","v":""},{"$f":"IFERROR(INDIRECT($C$4&\"!V5\"),\"\")","v":""},{"$f":"IFERROR(INDIRECT($C$4&\"!W5\"),\"\")","v":""},{"$f":"IFERROR(INDIRECT($C$4&\"!X5\"),\"\")","v":""},{"$f":"IFERROR(INDIRECT($C$4&\"!Y5\"),\"\")","v":""},null,4]
[null,null,5,{"$f":"IFERROR(INDIRECT($C$4&\"!B6\"),\"\")","v":""},{"$f":"IFERROR(INDIRECT($C$4&\"!C6\"),\"\")","v":""},{"$f":"IFERROR(INDIRECT($C$4&\"!D6\"),\"\")","v":""},{"$f":"IFERROR(INDIRECT($C$4&\"!E6\"),\"\")","v":""},{"$f":"IFERROR(INDIRECT($C$4&\"!F6\"),\"\")","v":""},{"$f":"IFERROR(INDIRECT($C$4&\"!G6\"),\"\")","v":""},{"$f":"IFERROR(INDIRECT($C$4&\"!H6\"),\"\")","v":""},{"$f":"IFERROR(INDIRECT($C$4&\"!I6\"),\"\")","v":""},{"$f":"IFERROR(INDIRECT($C$4&\"!J6\"),\"\")","v":""},{"$f":"IFERROR(INDIRECT($C$4&\"!K6\"),\"\")","v":""},{"$f":"IFERROR(INDIRECT($C$4&\"!L6\"),\"\")","v":""},{"$f":"IFERROR(INDIRECT($C$4&\"!M6\"),\"\")","v":""},{"$f":"IFERROR(INDIRECT($C$4&\"!N6\"),\"\")","v":""},{"$f":"IFERROR(INDIRECT($C$4&\"!O6\"),\"\")","v":""},{"$f":"IFERROR(INDIRECT($C$4&\"!P6\"),\"\")","v":""},{"$f":"IFERROR(INDIRECT($C$4&\"!Q6\"),\"\")","v":""},{"$f":"IFERROR(INDIRECT($C$4&\"!R6\"),\"\")","v":""},{"$f":"IFERROR(INDIRECT($C$4&\"!S6\"),\"\")","v":""},{"$f":"IFERROR(INDIRECT($C$4&\"!T6\"),\"\")","v":""},{"$f":"IFERROR(INDIRECT($C$4&\"!U6\"),\"\")","v":""},{"$f":"IFERROR(INDIRECT($C$4&\"!V6\"),\"\")","v":""},{"$f":"IFERROR(INDIRECT($C$4&\"!W6\"),\"\")","v":""},{"$f":"IFERROR(INDIRECT($C$4&\"!X6\"),\"\")","v":""},{"$f":"IFERROR(INDIRECT($C$4&\"!Y6\"),\"\")","v":""},null,5]
[null,null,6,{"$f":"IFERROR(INDIRECT($C$4&\"!B7\"),\"\")","v":""},{"$f":"IFERROR(INDIRECT($C$4&\"!C7\"),\"\")","v":""},{"$f":"IFERROR(INDIRECT($C$4&\"!D7\"),\"\")","v":""},{"$f":"IFERROR(INDIRECT($C$4&\"!E7\"),\"\")","v":""},{"$f":"IFERROR(INDIRECT($C$4&\"!F7\"),\"\")","v":""},{"$f":"IFERROR(INDIRECT($C$4&\"!G7\"),\"\")","v":""},{"$f":"IFERROR(INDIRECT($C$4&\"!H7\"),\"\")","v":""},{"$f":"IFERROR(INDIRECT($C$4&\"!I7\"),\"\")","v":""},{"$f":"IFERROR(INDIRECT($C$4&\"!J7\"),\"\")","v":""},{"$f":"IFERROR(INDIRECT($C$4&\"!K7\"),\"\")","v":""},{"$f":"IFERROR(INDIRECT($C$4&\"!L7\"),\"\")","v":""},{"$f":"IFERROR(INDIRECT($C$4&\"!M7\"),\"\")","v":""},{"$f":"IFERROR(INDIRECT($C$4&\"!N7\"),\"\")","v":""},{"$f":"IFERROR(INDIRECT($C$4&\"!O7\"),\"\")","v":""},{"$f":"IFERROR(INDIRECT($C$4&\"!P7\"),\"\")","v":""},{"$f":"IFERROR(INDIRECT($C$4&\"!Q7\"),\"\")","v":""},{"$f":"IFERROR(INDIRECT($C$4&\"!R7\"),\"\")","v":""},{"$f":"IFERROR(INDIRECT($C$4&\"!S7\"),\"\")","v":""},{"$f":"IFERROR(INDIRECT($C$4&\"!T7\"),\"\")","v":""},{"$f":"IFERROR(INDIRECT($C$4&\"!U7\"),\"\")","v":""},{"$f":"IFERROR(INDIRECT($C$4&\"!V7\"),\"\")","v":""},{"$f":"IFERROR(INDIRECT($C$4&\"!W7\"),\"\")","v":""},{"$f":"IFERROR(INDIRECT($C$4&\"!X7\"),\"\")","v":""},{"$f":"IFERROR(INDIRECT($C$4&\"!Y7\"),\"\")","v":""},null,6]
[null,null,7,{"$f":"IFERROR(INDIRECT($C$4&\"!B8\"),\"\")","v":""},{"$f":"IFERROR(INDIRECT($C$4&\"!C8\"),\"\")","v":""},{"$f":"IFERROR(INDIRECT($C$4&\"!D8\"),\"\")","v":""},{"$f":"IFERROR(INDIRECT($C$4&\"!E8\"),\"\")","v":""},{"$f":"IFERROR(INDIRECT($C$4&\"!F8\"),\"\")","v":""},{"$f":"IFERROR(INDIRECT($C$4&\"!G8\"),\"\")","v":""},{"$f":"IFERROR(INDIRECT($C$4&\"!H8\"),\"\")","v":""},{"$f":"IFERROR(INDIRECT($C$4&\"!I8\"),\"\")","v":""},{"$f":"IFERROR(INDIRECT($C$4&\"!J8\"),\"\")","v":""},{"$f":"IFERROR(INDIRECT($C$4&\"!K8\"),\"\")","v":""},{"$f":"IFERROR(INDIRECT($C$4&\"!L8\"),\"\")","v":""},{"$f":"IFERROR(INDIRECT($C$4&\"!M8\"),\"\")","v":""},{"$f":"IFERROR(INDIRECT($C$4&\"!N8\"),\"\")","v":""},{"$f":"IFERROR(INDIRECT($C$4&\"!O8\"),\"\")","v":""},{"$f":"IFERROR(INDIRECT($C$4&\"!P8\"),\"\")","v":""},{"$f":"IFERROR(INDIRECT($C$4&\"!Q8\"),\"\")","v":""},{"$f":"IFERROR(INDIRECT($C$4&\"!R8\"),\"\")","v":""},{"$f":"IFERROR(INDIRECT($C$4&\"!S8\"),\"\")","v":""},{"$f":"IFERROR(INDIRECT($C$4&\"!T8\"),\"\")","v":""},{"$f":"IFERROR(INDIRECT($C$4&\"!U8\"),\"\")","v":""},{"$f":"IFERROR(INDIRECT($C$4&\"!V8\"),\"\")","v":""},{"$f":"IFERROR(INDIRECT($C$4&\"!W8\"),\"\")","v":""},{"$f":"IFERROR(INDIRECT($C$4&\"!X8\"),\"\")","v":""},{"$f":"IFERROR(INDIRECT($C$4&\"!Y8\"),\"\")","v":""},null,7]
[null,null,8,{"$f":"IFERROR(INDIRECT($C$4&\"!B9\"),\"\")","v":""},{"$f":"IFERROR(INDIRECT($C$4&\"!C9\"),\"\")","v":""},{"$f":"IFERROR(INDIRECT($C$4&\"!D9\"),\"\")","v":""},{"$f":"IFERROR(INDIRECT($C$4&\"!E9\"),\"\")","v":""},{"$f":"IFERROR(INDIRECT($C$4&\"!F9\"),\"\")","v":""},{"$f":"IFERROR(INDIRECT($C$4&\"!G9\"),\"\")","v":""},{"$f":"IFERROR(INDIRECT($C$4&\"!H9\"),\"\")","v":""},{"$f":"IFERROR(INDIRECT($C$4&\"!I9\"),\"\")","v":""},{"$f":"IFERROR(INDIRECT($C$4&\"!J9\"),\"\")","v":""},{"$f":"IFERROR(INDIRECT($C$4&\"!K9\"),\"\")","v":""},{"$f":"IFERROR(INDIRECT($C$4&\"!L9\"),\"\")","v":""},{"$f":"IFERROR(INDIRECT($C$4&\"!M9\"),\"\")","v":""},{"$f":"IFERROR(INDIRECT($C$4&\"!N9\"),\"\")","v":""},{"$f":"IFERROR(INDIRECT($C$4&\"!O9\"),\"\")","v":""},{"$f":"IFERROR(INDIRECT($C$4&\"!P9\"),\"\")","v":""},{"$f":"IFERROR(INDIRECT($C$4&\"!Q9\"),\"\")","v":""},{"$f":"IFERROR(INDIRECT($C$4&\"!R9\"),\"\")","v":""},{"$f":"IFERROR(INDIRECT($C$4&\"!S9\"),\"\")","v":""},{"$f":"IFERROR(INDIRECT($C$4&\"!T9\"),\"\")","v":""},{"$f":"IFERROR(INDIRECT($C$4&\"!U9\"),\"\")","v":""},{"$f":"IFERROR(INDIRECT($C$4&\"!V9\"),\"\")","v":""},{"$f":"IFERROR(INDIRECT($C$4&\"!W9\"),\"\")","v":""},{"$f":"IFERROR(INDIRECT($C$4&\"!X9\"),\"\")","v":""},{"$f":"IFERROR(INDIRECT($C$4&\"!Y9\"),\"\")","v":""},null,8]
[null,null,9,{"$f":"IFERROR(INDIRECT($C$4&\"!B10\"),\"\")","v":""},{"$f":"IFERROR(INDIRECT($C$4&\"!C10\"),\"\")","v":""},{"$f":"IFERROR(INDIRECT($C$4&\"!D10\"),\"\")","v":""},{"$f":"IFERROR(INDIRECT($C$4&\"!E10\"),\"\")","v":""},{"$f":"IFERROR(INDIRECT($C$4&\"!F10\"),\"\")","v":""},{"$f":"IFERROR(INDIRECT($C$4&\"!G10\"),\"\")","v":""},{"$f":"IFERROR(INDIRECT($C$4&\"!H10\"),\"\")","v":""},{"$f":"IFERROR(INDIRECT($C$4&\"!I10\"),\"\")","v":""},{"$f":"IFERROR(INDIRECT($C$4&\"!J10\"),\"\")","v":""},{"$f":"IFERROR(INDIRECT($C$4&\"!K10\"),\"\")","v":""},{"$f":"IFERROR(INDIRECT($C$4&\"!L10\"),\"\")","v":""},{"$f":"IFERROR(INDIRECT($C$4&\"!M10\"),\"\")","v":""},{"$f":"IFERROR(INDIRECT($C$4&\"!N10\"),\"\")","v":""},{"$f":"IFERROR(INDIRECT($C$4&\"!O10\"),\"\")","v":""},{"$f":"IFERROR(INDIRECT($C$4&\"!P10\"),\"\")","v":""},{"$f":"IFERROR(INDIRECT($C$4&\"!Q10\"),\"\")","v":""},{"$f":"IFERROR(INDIRECT($C$4&\"!R10\"),\"\")","v":""},{"$f":"IFERROR(INDIRECT($C$4&\"!S10\"),\"\")","v":""},{"$f":"IFERROR(INDIRECT($C$4&\"!T10\"),\"\")","v":""},{"$f":"IFERROR(INDIRECT($C$4&\"!U10\"),\"\")","v":""},{"$f":"IFERROR(INDIRECT($C$4&\"!V10\"),\"\")","v":""},{"$f":"IFERROR(INDIRECT($C$4&\"!W10\"),\"\")","v":""},{"$f":"IFERROR(INDIRECT($C$4&\"!X10\"),\"\")","v":""},{"$f":"IFERROR(INDIRECT($C$4&\"!Y10\"),\"\")","v":""},null,9]
[null,null,10,{"$f":"IFERROR(INDIRECT($C$4&\"!B11\"),\"\")","v":""},{"$f":"IFERROR(INDIRECT($C$4&\"!C11\"),\"\")","v":""},{"$f":"IFERROR(INDIRECT($C$4&\"!D11\"),\"\")","v":""},{"$f":"IFERROR(INDIRECT($C$4&\"!E11\"),\"\")","v":""},{"$f":"IFERROR(INDIRECT($C$4&\"!F11\"),\"\")","v":""},{"$f":"IFERROR(INDIRECT($C$4&\"!G11\"),\"\")","v":""},{"$f":"IFERROR(INDIRECT($C$4&\"!H11\"),\"\")","v":""},{"$f":"IFERROR(INDIRECT($C$4&\"!I11\"),\"\")","v":""},{"$f":"IFERROR(INDIRECT($C$4&\"!J11\"),\"\")","v":""},{"$f":"IFERROR(INDIRECT($C$4&\"!K11\"),\"\")","v":""},{"$f":"IFERROR(INDIRECT($C$4&\"!L11\"),\"\")","v":""},{"$f":"IFERROR(INDIRECT($C$4&\"!M11\"),\"\")","v":""},{"$f":"IFERROR(INDIRECT($C$4&\"!N11\"),\"\")","v":""},{"$f":"IFERROR(INDIRECT($C$4&\"!O11\"),\"\")","v":""},{"$f":"IFERROR(INDIRECT($C$4&\"!P11\"),\"\")","v":""},{"$f":"IFERROR(INDIRECT($C$4&\"!Q11\"),\"\")","v":""},{"$f":"IFERROR(INDIRECT($C$4&\"!R11\"),\"\")","v":""},{"$f":"IFERROR(INDIRECT($C$4&\"!S11\"),\"\")","v":""},{"$f":"IFERROR(INDIRECT($C$4&\"!T11\"),\"\")","v":""},{"$f":"IFERROR(INDIRECT($C$4&\"!U11\"),\"\")","v":""},{"$f":"IFERROR(INDIRECT($C$4&\"!V11\"),\"\")","v":""},{"$f":"IFERROR(INDIRECT($C$4&\"!W11\"),\"\")","v":""},{"$f":"IFERROR(INDIRECT($C$4&\"!X11\"),\"\")","v":""},{"$f":"IFERROR(INDIRECT($C$4&\"!Y11\"),\"\")","v":""},null,10]
[null,null,11,{"$f":"IFERROR(INDIRECT($C$4&\"!B12\"),\"\")","v":""},{"$f":"IFERROR(INDIRECT($C$4&\"!C12\"),\"\")","v":""},{"$f":"IFERROR(INDIRECT($C$4&\"!D12\"),\"\")","v":""},{"$f":"IFERROR(INDIRECT($C$4&\"!E12\"),\"\")","v":""},{"$f":"IFERROR(INDIRECT($C$4&\"!F12\"),\"\")","v":""},{"$f":"IFERROR(INDIRECT($C$4&\"!G12\"),\"\")","v":""},{"$f":"IFERROR(INDIRECT($C$4&\"!H12\"),\"\")","v":""},{"$f":"IFERROR(INDIRECT($C$4&\"!I12\"),\"\")","v":""},{"$f":"IFERROR(INDIRECT($C$4&\"!J12\"),\"\")","v":""},{"$f":"IFERROR(INDIRECT($C$4&\"!K12\"),\"\")","v":""},{"$f":"IFERROR(INDIRECT($C$4&\"!L12\"),\"\")","v":""},{"$f":"IFERROR(INDIRECT($C$4&\"!M12\"),\"\")","v":""},{"$f":"IFERROR(INDIRECT($C$4&\"!N12\"),\"\")","v":""},{"$f":"IFERROR(INDIRECT($C$4&\"!O12\"),\"\")","v":""},{"$f":"IFERROR(INDIRECT($C$4&\"!P12\"),\"\")","v":""},{"$f":"IFERROR(INDIRECT($C$4&\"!Q12\"),\"\")","v":""},{"$f":"IFERROR(INDIRECT($C$4&\"!R12\"),\"\")","v":""},{"$f":"IFERROR(INDIRECT($C$4&\"!S12\"),\"\")","v":""},{"$f":"IFERROR(INDIRECT($C$4&\"!T12\"),\"\")","v":""},{"$f":"IFERROR(INDIRECT($C$4&\"!U12\"),\"\")","v":""},{"$f":"IFERROR(INDIRECT($C$4&\"!V12\"),\"\")","v":""},{"$f":"IFERROR(INDIRECT($C$4&\"!W12\"),\"\")","v":""},{"$f":"IFERROR(INDIRECT($C$4&\"!X12\"),\"\")","v":""},{"$f":"IFERROR(INDIRECT($C$4&\"!Y12\"),\"\")","v":""},null,11]
[null,null,12,{"$f":"IFERROR(INDIRECT($C$4&\"!B13\"),\"\")","v":""},{"$f":"IFERROR(INDIRECT($C$4&\"!C13\"),\"\")","v":""},{"$f":"IFERROR(INDIRECT($C$4&\"!D13\"),\"\")","v":""},{"$f":"IFERROR(INDIRECT($C$4&\"!E13\"),\"\")","v":""},{"$f":"IFERROR(INDIRECT($C$4&\"!F13\"),\"\")","v":""},{"$f":"IFERROR(INDIRECT($C$4&\"!G13\"),\"\")","v":""},{"$f":"IFERROR(INDIRECT($C$4&\"!H13\"),\"\")","v":""},{"$f":"IFERROR(INDIRECT($C$4&\"!I13\"),\"\")","v":""},{"$f":"IFERROR(INDIRECT($C$4&\"!J13\"),\"\")","v":""},{"$f":"IFERROR(INDIRECT($C$4&\"!K13\"),\"\")","v":""},{"$f":"IFERROR(INDIRECT($C$4&\"!L13\"),\"\")","v":""},{"$f":"IFERROR(INDIRECT($C$4&\"!M13\"),\"\")","v":""},{"$f":"IFERROR(INDIRECT($C$4&\"!N13\"),\"\")","v":""},{"$f":"IFERROR(INDIRECT($C$4&\"!O13\"),\"\")","v":""},{"$f":"IFERROR(INDIRECT($C$4&\"!P13\"),\"\")","v":""},{"$f":"IFERROR(INDIRECT($C$4&\"!Q13\"),\"\")","v":""},{"$f":"IFERROR(INDIRECT($C$4&\"!R13\"),\"\")","v":""},{"$f":"IFERROR(INDIRECT($C$4&\"!S13\"),\"\")","v":""},{"$f":"IFERROR(INDIRECT($C$4&\"!T13\"),\"\")","v":""},{"$f":"IFERROR(INDIRECT($C$4&\"!U13\"),\"\")","v":""},{"$f":"IFERROR(INDIRECT($C$4&\"!V13\"),\"\")","v":""},{"$f":"IFERROR(INDIRECT($C$4&\"!W13\"),\"\")","v":""},{"$f":"IFERROR(INDIRECT($C$4&\"!X13\"),\"\")","v":""},{"$f":"IFERROR(INDIRECT($C$4&\"!Y13\"),\"\")","v":""},null,12]
[null,null,1,{"$f":"IFERROR(INDIRECT($C$4&\"!B14\"),\"\")","v":""},{"$f":"IFERROR(INDIRECT($C$4&\"!C14\"),\"\")","v":""},{"$f":"IFERROR(INDIRECT($C$4&\"!D14\"),\"\")","v":""},{"$f":"IFERROR(INDIRECT($C$4&\"!E14\"),\"\")","v":""},{"$f":"IFERROR(INDIRECT($C$4&\"!F14\"),\"\")","v":""},{"$f":"IFERROR(INDIRECT($C$4&\"!G14\"),\"\")","v":""},{"$f":"IFERROR(INDIRECT($C$4&\"!H14\"),\"\")","v":""},{"$f":"IFERROR(INDIRECT($C$4&\"!I14\"),\"\")","v":""},{"$f":"IFERROR(INDIRECT($C$4&\"!J14\"),\"\")","v":""},{"$f":"IFERROR(INDIRECT($C$4&\"!K14\"),\"\")","v":""},{"$f":"IFERROR(INDIRECT($C$4&\"!L14\"),\"\")","v":""},{"$f":"IFERROR(INDIRECT($C$4&\"!M14\"),\"\")","v":""},{"$f":"IFERROR(INDIRECT($C$4&\"!N14\"),\"\")","v":""},{"$f":"IFERROR(INDIRECT($C$4&\"!O14\"),\"\")","v":""},{"$f":"IFERROR(INDIRECT($C$4&\"!P14\"),\"\")","v":""},{"$f":"IFERROR(INDIRECT($C$4&\"!Q14\"),\"\")","v":""},{"$f":"IFERROR(INDIRECT($C$4&\"!R14\"),\"\")","v":""},{"$f":"IFERROR(INDIRECT($C$4&\"!S14\"),\"\")","v":""},{"$f":"IFERROR(INDIRECT($C$4&\"!T14\"),\"\")","v":""},{"$f":"IFERROR(INDIRECT($C$4&\"!U14\"),\"\")","v":""},{"$f":"IFERROR(INDIRECT($C$4&\"!V14\"),\"\")","v":""},{"$f":"IFERROR(INDIRECT($C$4&\"!W14\"),\"\")","v":""},{"$f":"IFERROR(INDIRECT($C$4&\"!X14\"),\"\")","v":""},{"$f":"IFERROR(INDIRECT($C$4&\"!Y14\"),\"\")","v":""},null,1]
[null,null,2,{"$f":"IFERROR(INDIRECT($C$4&\"!B15\"),\"\")","v":""},{"$f":"IFERROR(INDIRECT($C$4&\"!C15\"),\"\")","v":""},{"$f":"IFERROR(INDIRECT($C$4&\"!D15\"),\"\")","v":""},{"$f":"IFERROR(INDIRECT($C$4&\"!E15\"),\"\")","v":""},{"$f":"IFERROR(INDIRECT($C$4&\"!F15\"),\"\")","v":""},{"$f":"IFERROR(INDIRECT($C$4&\"!G15\"),\"\")","v":""},{"$f":"IFERROR(INDIRECT($C$4&\"!H15\"),\"\")","v":""},{"$f":"IFERROR(INDIRECT($C$4&\"!I15\"),\"\")","v":""},{"$f":"IFERROR(INDIRECT($C$4&\"!J15\"),\"\")","v":""},{"$f":"IFERROR(INDIRECT($C$4&\"!K15\"),\"\")","v":""},{"$f":"IFERROR(INDIRECT($C$4&\"!L15\"),\"\")","v":""},{"$f":"IFERROR(INDIRECT($C$4&\"!M15\"),\"\")","v":""},{"$f":"IFERROR(INDIRECT($C$4&\"!N15\"),\"\")","v":""},{"$f":"IFERROR(INDIRECT($C$4&\"!O15\"),\"\")","v":""},{"$f":"IFERROR(INDIRECT($C$4&\"!P15\"),\"\")","v":""},{"$f":"IFERROR(INDIRECT($C$4&\"!Q15\"),\"\")","v":""},{"$f":"IFERROR(INDIRECT($C$4&\"!R15\"),\"\")","v":""},{"$f":"IFERROR(INDIRECT($C$4&\"!S15\"),\"\")","v":""},{"$f":"IFERROR(INDIRECT($C$4&\"!T15\"),\"\")","v":""},{"$f":"IFERROR(INDIRECT($C$4&\"!U15\"),\"\")","v":""},{"$f":"IFERROR(INDIRECT($C$4&\"!V15\"),\"\")","v":""},{"$f":"IFERROR(INDIRECT($C$4&\"!W15\"),\"\")","v":""},{"$f":"IFERROR(INDIRECT($C$4&\"!X15\"),\"\")","v":""},{"$f":"IFERROR(INDIRECT($C$4&\"!Y15\"),\"\")","v":""},null,2]
[null,null,3,{"$f":"IFERROR(INDIRECT($C$4&\"!B16\"),\"\")","v":""},{"$f":"IFERROR(INDIRECT($C$4&\"!C16\"),\"\")","v":""},{"$f":"IFERROR(INDIRECT($C$4&\"!D16\"),\"\")","v":""},{"$f":"IFERROR(INDIRECT($C$4&\"!E16\"),\"\")","v":""},{"$f":"IFERROR(INDIRECT($C$4&\"!F16\"),\"\")","v":""},{"$f":"IFERROR(INDIRECT($C$4&\"!G16\"),\"\")","v":""},{"$f":"IFERROR(INDIRECT($C$4&\"!H16\"),\"\")","v":""},{"$f":"IFERROR(INDIRECT($C$4&\"!I16\"),\"\")","v":""},{"$f":"IFERROR(INDIRECT($C$4&\"!J16\"),\"\")","v":""},{"$f":"IFERROR(INDIRECT($C$4&\"!K16\"),\"\")","v":""},{"$f":"IFERROR(INDIRECT($C$4&\"!L16\"),\"\")","v":""},{"$f":"IFERROR(INDIRECT($C$4&\"!M16\"),\"\")","v":""},{"$f":"IFERROR(INDIRECT($C$4&\"!N16\"),\"\")","v":""},{"$f":"IFERROR(INDIRECT($C$4&\"!O16\"),\"\")","v":""},{"$f":"IFERROR(INDIRECT($C$4&\"!P16\"),\"\")","v":""},{"$f":"IFERROR(INDIRECT($C$4&\"!Q16\"),\"\")","v":""},{"$f":"IFERROR(INDIRECT($C$4&\"!R16\"),\"\")","v":""},{"$f":"IFERROR(INDIRECT($C$4&\"!S16\"),\"\")","v":""},{"$f":"IFERROR(INDIRECT($C$4&\"!T16\"),\"\")","v":""},{"$f":"IFERROR(INDIRECT($C$4&\"!U16\"),\"\")","v":""},{"$f":"IFERROR(INDIRECT($C$4&\"!V16\"),\"\")","v":""},{"$f":"IFERROR(INDIRECT($C$4&\"!W16\"),\"\")","v":""},{"$f":"IFERROR(INDIRECT($C$4&\"!X16\"),\"\")","v":""},{"$f":"IFERROR(INDIRECT($C$4&\"!Y16\"),\"\")","v":""},null,3]
[]
[null,null,null,"定格条件\n【冷却】",null,"冷却水","入口温度","32","冷水","入口温度","12",null,"定格条件\n【加熱】",null,"温水","出口温度","55"]
[null,null,null,null,null,null,"出口温度","37.5",null,"出口温度","7"]
[]
[null,null,null,"設備導入前",null,null,null,null,null,null,null,null,null,null,null,null,"前1","前2","前3"]
[null,null,null,null,"燃料種類",null,null,null,"吸収式冷凍機の燃料の種類を選択（プルダウン）",null,null,null,null,null,null,null,null,null,null,{"$f":"VLOOKUP($Q$29,燃料選択!$B$3:$D$10,3,FALSE)","v":{"$error":"#N/A"}}]
[null,null,null,null,"定格冷却能力",null,null,null,"吸収式冷凍機の仕様を入力",null,null,null,null,null,null,"Φco",null,null,null,"kW"]
[null,null,null,null,"定格冷却燃料消費量",null,null,null,"吸収式冷凍機の仕様を入力（入力単位に気を付けてください）",null,null,null,null,null,null,"Pco",null,null,null,{"$f":"IFERROR(VLOOKUP($Q$29,燃料選択!$B$3:$D$10,2,FALSE),\"---\")","v":"---"},"←入力単位"]
[null,null,null,null,"定格冷却COP",null,null,null,"自動計算","(ep=",2.4,")",null,null,null,"σco",{"$f":"IFERROR(Q30/(Q31*$T$29/3.6),\"\")","v":""},{"$f":"IFERROR(R30/(R31*$T$29/3.6),\"\")","v":""},{"$f":"IFERROR(S30/(S31*$T$29/3.6),\"\")","v":""},"σco＝Φco／Pco"]
[null,null,null,null,"定格加熱能力",null,null,null,"吸収式冷凍機の仕様を入力",null,null,null,null,null,null,"Φwo",null,null,null,"kW"]
[null,null,null,null,"定格加熱燃料消費量",null,null,null,"吸収式冷凍機の仕様を入力（入力単位に気を付けてください）",null,null,null,null,null,null,"Pwo",null,null,null,{"$f":"IFERROR(VLOOKUP($Q$29,燃料選択!$B$3:$D$10,2,FALSE),\"---\")","v":"---"},"←入力単位"]
[null,null,null,null,"定格加熱COP",null,null,null,"自動計算",null,null,null,null,null,null,"σwo",{"$f":"IFERROR(Q33/(Q34*$T$29/3.6),\"\")","v":""},{"$f":"IFERROR(R33/(R34*$T$29/3.6),\"\")","v":""},{"$f":"IFERROR(S33/(S34*$T$29/3.6),\"\")","v":""},"σwo＝Φwo／Pwo"]
[null,null,null,null,"冷却塔ファンモータ定格出力",null,null,null,"吸収式冷凍機の仕様を入力",null,null,null,null,null,null,"Pf",null,null,null,"kW"]
[null,null,null,null,"冷却水ポンプモータ定格出力",null,null,null,"吸収式冷凍機の仕様を入力",null,null,null,null,null,null,"Pp1",null,null,null,"kW"]
[null,null,null,null,"冷温水ポンプモータ定格出力",null,null,null,"吸収式冷凍機の仕様を入力",null,null,null,null,null,null,"Pp2",null,null,null,"kW"]
[null,null,null,null,"最大冷却負荷",null,null,null,"設計時の値を入力（不明の際は空白のまま）",null,null,null,null,null,null,"Qc",null,null,null,"kW"]
[null,null,null,null,null,null,null,null,null,null,null,null,null,null,null,null,{"$f":"IF($Q$39=\"\",0.8,IF($Q$39=0,0.8,IF($Q$30<$Q$39,1,$Q$39/$Q$30)))","v":0.8},{"$f":"IF($R$39=\"\",0.8,IF($R$39=0,0.8,IF($R$30<$R$39,1,$R$39/$R$30)))","v":0.8},{"$f":"IF($S$39=\"\",0.8,IF($S$39=0,0.8,IF($S$30<$S$39,1,$S$39/$S$30)))","v":0.8}]
[]
[null,null,null,"設備導入後",null,null,null,null,null,null,null,null,null,null,null,null,"後1","後2","後3"]
[null,null,null,null,"燃料種類",null,null,null,"吸収式冷凍機の燃料の種類を選択（プルダウン）",null,null,null,null,null,null,null,null,null,null,{"$f":"VLOOKUP($Q$43,燃料選択!$B$3:$D$10,3,FALSE)","v":{"$error":"#N/A"}}]
[null,null,null,null,"定格冷却能力",null,null,null,"吸収式冷凍機の仕様を入力",null,null,null,null,null,null,"Φco",null,null,null,"kW"]
[null,null,null,null,"定格冷却燃料消費量",null,null,null,"吸収式冷凍機の仕様を入力（入力単位に気を付けてください）",null,null,null,null,null,null,"Pco",null,null,null,{"$f":"IFERROR(VLOOKUP($Q$43,燃料選択!$B$3:$D$10,2,FALSE),\"---\")","v":"---"},"←入力単位"]
[null,null,null,null,"定格冷却COP",null,null,null,"自動計算","(ep=",2.4,")",null,null,null,"σco",{"$f":"IFERROR(Q44/(Q45*$T$43/3.6),\"\")","v":""},{"$f":"IFERROR(R44/(R45*$T$43/3.6),\"\")","v":""},{"$f":"IFERROR(S44/(S45*$T$43/3.6),\"\")","v":""},"σco＝Φco／Pco"]
[null,null,null,null,"定格加熱能力",null,null,null,"吸収式冷凍機の仕様を入力",null,null,null,null,null,null,"Φwo",null,null,null,"kW"]
[null,null,null,null,"定格加熱燃料消費量",null,null,null,"吸収式冷凍機の仕様を入力（入力単位に気を付けてください）",null,null,null,null,null,null,"Pwo",null,null,null,{"$f":"IFERROR(VLOOKUP($Q$43,燃料選択!$B$3:$D$10,2,FALSE),\"---\")","v":"---"},"←入力単位"]
[null,null,null,null,"定格加熱COP",null,null,null,"自動計算",null,null,null,null,null,null,"σwo",{"$f":"IFERROR(Q47/(Q48*$T$43/3.6),\"\")","v":""},{"$f":"IFERROR(R47/(R48*$T$43/3.6),\"\")","v":""},{"$f":"IFERROR(S47/(S48*$T$43/3.6),\"\")","v":""},"σwo＝Φwo／Pwo"]
[null,null,null,null,"冷却塔ファンモータ定格出力",null,null,null,"吸収式冷凍機の仕様を入力",null,null,null,null,null,null,"Pf",null,null,null,"kW"]
[null,null,null,null,"冷却水ポンプモータ定格出力",null,null,null,"吸収式冷凍機の仕様を入力",null,null,null,null,null,null,"Pp1",null,null,null,"kW"]
[null,null,null,null,"冷温水ポンプモータ定格出力",null,null,null,"吸収式冷凍機の仕様を入力",null,null,null,null,null,null,"Pp2",null,null,null,"kW"]
[null,null,null,null,"最大冷却負荷",null,null,null,"設計時の値を入力（不明の際は空白のまま）",null,null,null,null,null,null,"Qc",null,null,null,"kW"]
[null,null,null,null,null,null,null,null,null,null,null,null,null,null,null,null,{"$f":"IF($Q$53=\"\",0.8,IF($Q$53=0,0.8,IF($Q$44<$Q$53,1,$Q$53/$Q$44)))","v":0.8},{"$f":"IF($R$53=\"\",0.8,IF($R$53=0,0.8,IF($R$44<$R$53,1,$R$53/$R$44)))","v":0.8},{"$f":"IF($S$53=\"\",0.8,IF($S$53=0,0.8,IF($S$44<$S$53,1,$S$53/$S$44)))","v":0.8}]
[]
[null,null,"設備導入前年間エネルギー使用量[GJ]",null,null,null,null,null,null,null,null,null,null,"設備導入前燃料使用量[千Nm3、t、kL]、電力使用量[千kWh]"]
[null,null,null,"冷却",null,null,"加熱",null,null,"合計",null,null,null,null,"前1",null,null,null,"前2",null,null,null,"前3"]
[null,null,"主機","Ecc’",{"$f":"IFERROR($AY$161+$BF$161+$BM$161,\"\")","v":0},null,"Eww’",{"$f":"IFERROR($AY$186+$BF$186+$BM$186,\"\")","v":0},null,{"$f":"IFERROR(E58+H58,\"\")","v":0},null,null,null,null,"冷却",null,"加熱",null,"冷却",null,"加熱",null,"冷却",null,"加熱"]
[null,null,null,null,null,null,null,null,null,null,null,null,null,null,"主機","補機","主機","補機","主機","補機","主機","補機","主機","補機","主機","補機"]
[null,null,"補機","Eaxc’",{"$f":"IFERROR($BB$161+$BI$161+$BP$161,\"\")","v":0},null,"Eaxw’",{"$f":"IFERROR($BB$186+$BI$186+$BP$186,\"\")","v":0},null,{"$f":"IFERROR(E60+H60,\"\")","v":0},null,null,null,null,"燃料","電力","燃料","電力","燃料","電力","燃料","電力","燃料","電力","燃料","電力"]
[null,null,null,null,null,null,null,null,null,null,null,null,null,"月    期間","[※1]","[千kWh]","[※1]","[千kWh]","[※1]","[千kWh]","[※1]","[千kWh]","[※1]","[千kWh]","[※1]","[千kWh]"]
[null,null,"システム","Ec",{"$f":"IFERROR($BD$161+$BK$161+$BR$161,\"\")","v":0},null,"Ew",{"$f":"IFERROR($BD$186+$BK$186+$BR$186,\"\")","v":0},null,{"$f":"IFERROR(E62+H62,\"\")","v":0},null,null,null,4,{"$f":"IFERROR(IF($AE101=\"冷却\",$AZ149,\"\"),\"\")","v":""},{"$f":"IFERROR(IF($AE101=\"冷却\",$BC149,\"\"),\"\")","v":""},{"$f":"IFERROR(IF($AG101=\"加熱\",$AZ174,\"\"),\"\")","v":""},{"$f":"IFERROR(IF($AG101=\"加熱\",$BC174,\"\"),\"\")","v":""},{"$f":"IFERROR(IF($AE101=\"冷却\",$BG149,\"\"),\"\")","v":""},{"$f":"IFERROR(IF($AE101=\"冷却\",$BJ149,\"\"),\"\")","v":""},{"$f":"IFERROR(IF($AG101=\"加熱\",$BG174,\"\"),\"\")","v":""},{"$f":"IFERROR(IF($AG101=\"加熱\",$BJ174,\"\"),\"\")","v":""},{"$f":"IFERROR(IF($AE101=\"冷却\",$BN149,\"\"),\"\")","v":""},{"$f":"IFERROR(IF($AE101=\"冷却\",$BQ149,\"\"),\"\")","v":""},{"$f":"IFERROR(IF($AG101=\"加熱\",$BN174,\"\"),\"\")","v":""},{"$f":"IFERROR(IF($AG101=\"加熱\",$BQ174,\"\"),\"\")","v":""}]
[null,null,null,null,null,null,null,null,null,null,null,null,null,5,{"$f":"IFERROR(IF($AE102=\"冷却\",$AZ150,\"\"),\"\")","v":""},{"$f":"IFERROR(IF($AE102=\"冷却\",$BC150,\"\"),\"\")","v":""},{"$f":"IFERROR(IF($AG102=\"加熱\",$AZ175,\"\"),\"\")","v":""},{"$f":"IFERROR(IF($AG102=\"加熱\",$BC175,\"\"),\"\")","v":""},{"$f":"IFERROR(IF($AE102=\"冷却\",$BG150,\"\"),\"\")","v":""},{"$f":"IFERROR(IF($AE102=\"冷却\",$BJ150,\"\"),\"\")","v":""},{"$f":"IFERROR(IF($AG102=\"加熱\",$BG175,\"\"),\"\")","v":""},{"$f":"IFERROR(IF($AG102=\"加熱\",$BJ175,\"\"),\"\")","v":""},{"$f":"IFERROR(IF($AE102=\"冷却\",$BN150,\"\"),\"\")","v":""},{"$f":"IFERROR(IF($AE102=\"冷却\",$BQ150,\"\"),\"\")","v":""},{"$f":"IFERROR(IF($AG102=\"加熱\",$BN175,\"\"),\"\")","v":""},{"$f":"IFERROR(IF($AG102=\"加熱\",$BQ175,\"\"),\"\")","v":""}]
[null,null,null,null,null,null,null,null,null,null,null,null,null,6,"","","","","","","","","","","",""]
[null,null,null,null,null,null,null,null,null,null,null,null,null,7,"","","","","","","","","","","",""]
[null,null,"設備導入前年間燃料使用量[千Nm3、t、kL]、電力使用量[千kWh]",null,null,null,null,null,null,null,null,null,null,8,"","","","","","","","","","","",""]
[null,null,null,"冷却",null,null,"加熱",null,null,"合計",null,null,null,9,"","","","","","","","","","","",""]
[null,null,"主機","Ecc’’",{"$f":"IFERROR($AZ$161+$BG$161+$BN$161,\"\")","v":0},null,"Eww’’",{"$f":"IFERROR($AZ$186+$BG$186+$BN$186,\"\")","v":0},null,{"$f":"IFERROR(E68+H68,\"\")","v":0},null,null,null,10,"","","","","","","","","","","",""]
[null,null,"[※1]",null,null,null,null,null,null,null,null,null,null,11,"","","","","","","","","","","",""]
[null,null,"補機","Eaxc’’",{"$f":"IFERROR($BC$161+$BJ$161+$BQ$161,\"\")","v":0},null,"Eaxw’’",{"$f":"IFERROR($BC$186+$BJ$186+$BQ$186,\"\")","v":0},null,{"$f":"IFERROR(E70+H70,\"\")","v":0},null,null,null,12,"","","","","","","","","","","",""]
[null,null,"[千kWh]",null,null,null,null,null,null,null,null,null,null,1,"","","","","","","","","","","",""]
[null,null,null,"※1:千Nm3、t、kL",null,null,null,null,null,null,null,null,null,2,"","","","","","","","","","","",""]
[null,null,null,null,null,null,null,null,null,null,null,null,null,3,"","","","","","","","","","","",""]
[null,null,null,null,null,null,null,null,null,null,null,null,null,"合計",{"$f":"SUM(O62:O73)","v":0},{"$f":"SUM(P62:P73)","v":0},0,0,0,0,0,0,0,0,0,0]
[null,null,null,"",null,""]
[]
[null,null,"設備導入後年間エネルギー使用量[GJ]",null,null,null,null,null,null,null,null,null,null,"設備導入後燃料使用量[千Nm3、t、kL]、電力使用量[千kWh]"]
[null,null,null,"冷却",null,null,"加熱",null,null,"合計",null,null,null,null,"後1",null,null,null,"後2",null,null,null,"後3"]
[null,null,"主機","Ecc’",{"$f":"IFERROR($BU$161+$CB$161+$CI$161,\"\")","v":0},null,"Eww’",{"$f":"IFERROR($BU$186+$CB$186+$CI$186,\"\")","v":0},null,{"$f":"IFERROR(E79+H79,\"\")","v":0},null,null,null,null,"冷却",null,"加熱",null,"冷却",null,"加熱",null,"冷却",null,"加熱"]
[null,null,null,null,null,null,null,null,null,null,null,null,null,null,"主機","補機","主機","補機","主機","補機","主機","補機","主機","補機","主機","補機"]
[null,null,"補機","Eaxc’",{"$f":"IFERROR($BX$161+$CE$161+$CL$161,\"\")","v":0},null,"Eaxw’",{"$f":"IFERROR($BX$186+$CE$186+$CL$186,\"\")","v":0},null,{"$f":"IFERROR(E81+H81,\"\")","v":0},null,null,null,null,"燃料","電力","燃料","電力","燃料","電力","燃料","電力","燃料","電力","燃料","電力"]
[null,null,null,null,null,null,null,null,null,null,null,null,null,"月    期間","[※1]","[千kWh]","[※1]","[千kWh]","[※1]","[千kWh]","[※1]","[千kWh]","[※1]","[千kWh]","[※1]","[千kWh]"]
[null,null,"システム","Ec",{"$f":"IFERROR($BZ$161+$CG$161+$CN$161,\"\")","v":0},null,"Ew",{"$f":"IFERROR($BZ$186+$CG$186+$CN$186,\"\")","v":0},null,{"$f":"IFERROR(E83+H83,\"\")","v":0},null,null,null,4,{"$f":"IFERROR(IF($AE101=\"冷却\",$BV149,\"\"),\"\")","v":""},{"$f":"IFERROR(IF($AE101=\"冷却\",$BY149,\"\"),\"\")","v":""},{"$f":"IFERROR(IF($AG101=\"加熱\",$BV174,\"\"),\"\")","v":""},{"$f":"IFERROR(IF($AG101=\"加熱\",$BY174,\"\"),\"\")","v":""},{"$f":"IFERROR(IF($AE101=\"冷却\",$CC149,\"\"),\"\")","v":""},{"$f":"IFERROR(IF($AE101=\"冷却\",$CF149,\"\"),\"\")","v":""},{"$f":"IFERROR(IF($AG101=\"加熱\",$CC174,\"\"),\"\")","v":""},{"$f":"IFERROR(IF($AG101=\"加熱\",$CF174,\"\"),\"\")","v":""},{"$f":"IFERROR(IF($AE101=\"冷却\",$CJ149,\"\"),\"\")","v":""},{"$f":"IFERROR(IF($AE101=\"冷却\",$CM149,\"\"),\"\")","v":""},{"$f":"IFERROR(IF($AG101=\"加熱\",$CJ174,\"\"),\"\")","v":""},{"$f":"IFERROR(IF($AG101=\"加熱\",$CM174,\"\"),\"\")","v":""}]
[null,null,null,null,null,null,null,null,null,null,null,null,null,5,{"$f":"IFERROR(IF($AE102=\"冷却\",$BV150,\"\"),\"\")","v":""},{"$f":"IFERROR(IF($AE102=\"冷却\",$BY150,\"\"),\"\")","v":""},{"$f":"IFERROR(IF($AG102=\"加熱\",$BV175,\"\"),\"\")","v":""},{"$f":"IFERROR(IF($AG102=\"加熱\",$BY175,\"\"),\"\")","v":""},{"$f":"IFERROR(IF($AE102=\"冷却\",$CC150,\"\"),\"\")","v":""},{"$f":"IFERROR(IF($AE102=\"冷却\",$CF150,\"\"),\"\")","v":""},{"$f":"IFERROR(IF($AG102=\"加熱\",$CC175,\"\"),\"\")","v":""},{"$f":"IFERROR(IF($AG102=\"加熱\",$CF175,\"\"),\"\")","v":""},{"$f":"IFERROR(IF($AE102=\"冷却\",$CJ150,\"\"),\"\")","v":""},{"$f":"IFERROR(IF($AE102=\"冷却\",$CM150,\"\"),\"\")","v":""},{"$f":"IFERROR(IF($AG102=\"加熱\",$CJ175,\"\"),\"\")","v":""},{"$f":"IFERROR(IF($AG102=\"加熱\",$CM175,\"\"),\"\")","v":""}]
[null,null,null,null,null,null,null,null,null,null,null,null,null,6,"","","","","","","","","","","",""]
[null,null,null,null,null,null,null,null,null,null,null,null,null,7,"","","","","","","","","","","",""]
[null,null,"設備導入後年間燃料使用量[千Nm3、t、kL]、電力使用量[千kWh]",null,null,null,null,null,null,null,null,null,null,8,"","","","","","","","","","","",""]
[null,null,null,"冷却",null,null,"加熱",null,null,"合計",null,null,null,9,"","","","","","","","","","","",""]
[null,null,"主機","Ecc’’",{"$f":"IFERROR($BV$161+$CC$161+$CJ$161,\"\")","v":0},null,"Eww’’",{"$f":"IFERROR($BV$186+$CC$186+$CJ$186,\"\")","v":0},null,{"$f":"IFERROR(E89+H89,\"\")","v":0},null,null,null,10,"","","","","","","","","","","",""]
[null,null,"[※1]",null,null,null,null,null,null,null,null,null,null,11,"","","","","","","","","","","",""]
[null,null,"補機","Eaxc’’",{"$f":"IFERROR($BY$161+$CF$161+$CM$161,\"\")","v":0},null,"Eaxw’’",{"$f":"IFERROR($BY$186+$CF$186+$CM$186,\"\")","v":0},null,{"$f":"IFERROR(E91+H91,\"\")","v":0},null,null,null,12,"","","","","","","","","","","",""]
[null,null,"[千kWh]",null,null,null,null,null,null,null,null,null,null,1,"","","","","","","","","","","",""]
[null,null,null,"※1:千Nm3、t、kL",null,null,null,null,null,null,null,null,null,2,"","","","","","","","","","","",""]
[null,null,null,null,null,null,null,null,null,null,null,null,null,3,"","","","","","","","","","","",""]
[null,null,null,null,null,null,null,null,null,null,null,null,null,"合計",{"$f":"SUM(O83:O94)","v":0},{"$f":"SUM(P83:P94)","v":0},0,0,0,0,0,0,0,0,0,0]
[null,null,null,null,"",null,""]
[]
[null,null,"作業表1(青色のセルを「24」、オレンジ色のセルを「19」として抽出）"]
[null,null,null," 時刻",null,null,null,null,null,null,null,null,null,null,null,null,null,null,null,null,null,null,null,null,null,null,null,null,null,"空調を行う時間計"]
[null,null,"月",0,1,2,3,4,5,6,7,8,9,10,11,12,13,14,15,16,17,18,19,20,21,22,23,"月",null,24,null,19]
[null,null,4,{"$f":"CELLCOLOR($D$12)","v":-4142},{"$f":"CELLCOLOR($E$12)","v":-4142},{"$f":"CELLCOLOR($F$12)","v":-4142},{"$f":"CELLCOLOR($G$12)","v":-4142},{"$f":"CELLCOLOR($H$12)","v":-4142},{"$f":"CELLCOLOR($I$12)","v":-4142},{"$f":"CELLCOLOR($J$12)","v":-4142},{"$f":"CELLCOLOR($K$12)","v":-4142},{"$f":"CELLCOLOR($L$12)","v":-4142},{"$f":"CELLCOLOR($M$12)","v":-4142},{"$f":"CELLCOLOR($N$12)","v":-4142},{"$f":"CELLCOLOR($O$12)","v":-4142},{"$f":"CELLCOLOR($P$12)","v":-4142},{"$f":"CELLCOLOR($Q$12)","v":-4142},{"$f":"CELLCOLOR($R$12)","v":-4142},{"$f":"CELLCOLOR($S$12)","v":-4142},{"$f":"CELLCOLOR($T$12)","v":-4142},{"$f":"CELLCOLOR($U$12)","v":-4142},{"$f":"CELLCOLOR($V$12)","v":-4142},{"$f":"CELLCOLOR($W$12)","v":-4142},{"$f":"CELLCOLOR($X$12)","v":-4142},{"$f":"CELLCOLOR($Y$12)","v":-4142},{"$f":"CELLCOLOR($Z$12)","v":-4142},{"$f":"CELLCOLOR($AA$12)","v":-4142},4,null,{"$f":"COUNTIF(D101:AA101,$AD$100)","v":0},{"$f":"IF(AD101<>0,\"冷却\",IF(AD101=0,\"\"))","v":""},{"$f":"COUNTIF(D101:AA101,$AF$100)","v":0},{"$f":"IF(AF101<>0,\"加熱\",IF(AF101=0,\"\"))","v":""}]
[null,null,5,{"$f":"CELLCOLOR($D$13)","v":-4142},{"$f":"CELLCOLOR($E$13)","v":-4142},{"$f":"CELLCOLOR($F$13)","v":-4142},{"$f":"CELLCOLOR($G$13)","v":-4142},{"$f":"CELLCOLOR($H$13)","v":-4142},{"$f":"CELLCOLOR($I$13)","v":-4142},{"$f":"CELLCOLOR($J$13)","v":-4142},{"$f":"CELLCOLOR($K$13)","v":-4142},{"$f":"CELLCOLOR($L$13)","v":-4142},{"$f":"CELLCOLOR($M$13)","v":-4142},{"$f":"CELLCOLOR($N$13)","v":-4142},{"$f":"CELLCOLOR($O$13)","v":-4142},{"$f":"CELLCOLOR($P$13)","v":-4142},{"$f":"CELLCOLOR($Q$13)","v":-4142},{"$f":"CELLCOLOR($R$13)","v":-4142},{"$f":"CELLCOLOR($S$13)","v":-4142},{"$f":"CELLCOLOR($T$13)","v":-4142},{"$f":"CELLCOLOR($U$13)","v":-4142},{"$f":"CELLCOLOR($V$13)","v":-4142},{"$f":"CELLCOLOR($W$13)","v":-4142},{"$f":"CELLCOLOR($X$13)","v":-4142},{"$f":"CELLCOLOR($Y$13)","v":-4142},{"$f":"CELLCOLOR($Z$13)","v":-4142},{"$f":"CELLCOLOR($AA$13)","v":-4142},5,null,0,{"$f":"IF(AD102<>0,\"冷却\",IF(AD102=0,\"\"))","v":""},0,{"$f":"IF(AF102<>0,\"加熱\",IF(AF102=0,\"\"))","v":""}]
[null,null,6,{"$f":"CELLCOLOR($D$14)","v":-4142},{"$f":"CELLCOLOR($E$14)","v":-4142},{"$f":"CELLCOLOR($F$14)","v":-4142},{"$f":"CELLCOLOR($G$14)","v":-4142},{"$f":"CELLCOLOR($H$14)","v":-4142},{"$f":"CELLCOLOR($I$14)","v":-4142},{"$f":"CELLCOLOR($J$14)","v":-4142},{"$f":"CELLCOLOR($K$14)","v":-4142},{"$f":"CELLCOLOR($L$14)","v":-4142},{"$f":"CELLCOLOR($M$14)","v":-4142},{"$f":"CELLCOLOR($N$14)","v":-4142},{"$f":"CELLCOLOR($O$14)","v":-4142},{"$f":"CELLCOLOR($P$14)","v":-4142},{"$f":"CELLCOLOR($Q$14)","v":-4142},{"$f":"CELLCOLOR($R$14)","v":-4142},{"$f":"CELLCOLOR($S$14)","v":-4142},{"$f":"CELLCOLOR($T$14)","v":-4142},{"$f":"CELLCOLOR($U$14)","v":-4142},{"$f":"CELLCOLOR($V$14)","v":-4142},{"$f":"CELLCOLOR($W$14)","v":-4142},{"$f":"CELLCOLOR($X$14)","v":-4142},{"$f":"CELLCOLOR($Y$14)","v":-4142},{"$f":"CELLCOLOR($Z$14)","v":-4142},{"$f":"CELLCOLOR($AA$14)","v":-4142},6,null,0,"",0,""]
[null,null,7,{"$f":"CELLCOLOR($D$15)","v":-4142},{"$f":"CELLCOLOR($E$15)","v":-4142},{"$f":"CELLCOLOR($F$15)","v":-4142},{"$f":"CELLCOLOR($G$15)","v":-4142},{"$f":"CELLCOLOR($H$15)","v":-4142},{"$f":"CELLCOLOR($I$15)","v":-4142},{"$f":"CELLCOLOR($J$15)","v":-4142},{"$f":"CELLCOLOR($K$15)","v":-4142},{"$f":"CELLCOLOR($L$15)","v":-4142},{"$f":"CELLCOLOR($M$15)","v":-4142},{"$f":"CELLCOLOR($N$15)","v":-4142},{"$f":"CELLCOLOR($O$15)","v":-4142},{"$f":"CELLCOLOR($P$15)","v":-4142},{"$f":"CELLCOLOR($Q$15)","v":-4142},{"$f":"CELLCOLOR($R$15)","v":-4142},{"$f":"CELLCOLOR($S$15)","v":-4142},{"$f":"CELLCOLOR($T$15)","v":-4142},{"$f":"CELLCOLOR($U$15)","v":-4142},{"$f":"CELLCOLOR($V$15)","v":-4142},{"$f":"CELLCOLOR($W$15)","v":-4142},{"$f":"CELLCOLOR($X$15)","v":-4142},{"$f":"CELLCOLOR($Y$15)","v":-4142},{"$f":"CELLCOLOR($Z$15)","v":-4142},{"$f":"CELLCOLOR($AA$15)","v":-4142},7,null,0,"",0,""]
[null,null,8,{"$f":"CELLCOLOR($D$16)","v":-4142},{"$f":"CELLCOLOR($E$16)","v":-4142},{"$f":"CELLCOLOR($F$16)","v":-4142},{"$f":"CELLCOLOR($G$16)","v":-4142},{"$f":"CELLCOLOR($H$16)","v":-4142},{"$f":"CELLCOLOR($I$16)","v":-4142},{"$f":"CELLCOLOR($J$16)","v":-4142},{"$f":"CELLCOLOR($K$16)","v":-4142},{"$f":"CELLCOLOR($L$16)","v":-4142},{"$f":"CELLCOLOR($M$16)","v":-4142},{"$f":"CELLCOLOR($N$16)","v":-4142},{"$f":"CELLCOLOR($O$16)","v":-4142},{"$f":"CELLCOLOR($P$16)","v":-4142},{"$f":"CELLCOLOR($Q$16)","v":-4142},{"$f":"CELLCOLOR($R$16)","v":-4142},{"$f":"CELLCOLOR($S$16)","v":-4142},{"$f":"CELLCOLOR($T$16)","v":-4142},{"$f":"CELLCOLOR($U$16)","v":-4142},{"$f":"CELLCOLOR($V$16)","v":-4142},{"$f":"CELLCOLOR($W$16)","v":-4142},{"$f":"CELLCOLOR($X$16)","v":-4142},{"$f":"CELLCOLOR($Y$16)","v":-4142},{"$f":"CELLCOLOR($Z$16)","v":-4142},{"$f":"CELLCOLOR($AA$16)","v":-4142},8,null,0,"",0,""]
[null,null,9,{"$f":"CELLCOLOR($D$17)","v":-4142},{"$f":"CELLCOLOR($E$17)","v":-4142},{"$f":"CELLCOLOR($F$17)","v":-4142},{"$f":"CELLCOLOR($G$17)","v":-4142},{"$f":"CELLCOLOR($H$17)","v":-4142},{"$f":"CELLCOLOR($I$17)","v":-4142},{"$f":"CELLCOLOR($J$17)","v":-4142},{"$f":"CELLCOLOR($K$17)","v":-4142},{"$f":"CELLCOLOR($L$17)","v":-4142},{"$f":"CELLCOLOR($M$17)","v":-4142},{"$f":"CELLCOLOR($N$17)","v":-4142},{"$f":"CELLCOLOR($O$17)","v":-4142},{"$f":"CELLCOLOR($P$17)","v":-4142},{"$f":"CELLCOLOR($Q$17)","v":-4142},{"$f":"CELLCOLOR($R$17)","v":-4142},{"$f":"CELLCOLOR($S$17)","v":-4142},{"$f":"CELLCOLOR($T$17)","v":-4142},{"$f":"CELLCOLOR($U$17)","v":-4142},{"$f":"CELLCOLOR($V$17)","v":-4142},{"$f":"CELLCOLOR($W$17)","v":-4142},{"$f":"CELLCOLOR($X$17)","v":-4142},{"$f":"CELLCOLOR($Y$17)","v":-4142},{"$f":"CELLCOLOR($Z$17)","v":-4142},{"$f":"CELLCOLOR($AA$17)","v":-4142},9,null,0,"",0,""]
[null,null,10,{"$f":"CELLCOLOR($D$18)","v":-4142},{"$f":"CELLCOLOR($E$18)","v":-4142},{"$f":"CELLCOLOR($F$18)","v":-4142},{"$f":"CELLCOLOR($G$18)","v":-4142},{"$f":"CELLCOLOR($H$18)","v":-4142},{"$f":"CELLCOLOR($I$18)","v":-4142},{"$f":"CELLCOLOR($J$18)","v":-4142},{"$f":"CELLCOLOR($K$18)","v":-4142},{"$f":"CELLCOLOR($L$18)","v":-4142},{"$f":"CELLCOLOR($M$18)","v":-4142},{"$f":"CELLCOLOR($N$18)","v":-4142},{"$f":"CELLCOLOR($O$18)","v":-4142},{"$f":"CELLCOLOR($P$18)","v":-4142},{"$f":"CELLCOLOR($Q$18)","v":-4142},{"$f":"CELLCOLOR($R$18)","v":-4142},{"$f":"CELLCOLOR($S$18)","v":-4142},{"$f":"CELLCOLOR($T$18)","v":-4142},{"$f":"CELLCOLOR($U$18)","v":-4142},{"$f":"CELLCOLOR($V$18)","v":-4142},{"$f":"CELLCOLOR($W$18)","v":-4142},{"$f":"CELLCOLOR($X$18)","v":-4142},{"$f":"CELLCOLOR($Y$18)","v":-4142},{"$f":"CELLCOLOR($Z$18)","v":-4142},{"$f":"CELLCOLOR($AA$18)","v":-4142},10,null,0,"",0,""]
[null,null,11,{"$f":"CELLCOLOR($D$19)","v":-4142},{"$f":"CELLCOLOR($E$19)","v":-4142},{"$f":"CELLCOLOR($F$19)","v":-4142},{"$f":"CELLCOLOR($G$19)","v":-4142},{"$f":"CELLCOLOR($H$19)","v":-4142},{"$f":"CELLCOLOR($I$19)","v":-4142},{"$f":"CELLCOLOR($J$19)","v":-4142},{"$f":"CELLCOLOR($K$19)","v":-4142},{"$f":"CELLCOLOR($L$19)","v":-4142},{"$f":"CELLCOLOR($M$19)","v":-4142},{"$f":"CELLCOLOR($N$19)","v":-4142},{"$f":"CELLCOLOR($O$19)","v":-4142},{"$f":"CELLCOLOR($P$19)","v":-4142},{"$f":"CELLCOLOR($Q$19)","v":-4142},{"$f":"CELLCOLOR($R$19)","v":-4142},{"$f":"CELLCOLOR($S$19)","v":-4142},{"$f":"CELLCOLOR($T$19)","v":-4142},{"$f":"CELLCOLOR($U$19)","v":-4142},{"$f":"CELLCOLOR($V$19)","v":-4142},{"$f":"CELLCOLOR($W$19)","v":-4142},{"$f":"CELLCOLOR($X$19)","v":-4142},{"$f":"CELLCOLOR($Y$19)","v":-4142},{"$f":"CELLCOLOR($Z$19)","v":-4142},{"$f":"CELLCOLOR($AA$19)","v":-4142},11,null,0,"",0,""]
[null,null,12,{"$f":"CELLCOLOR($D$20)","v":-4142},{"$f":"CELLCOLOR($E$20)","v":-4142},{"$f":"CELLCOLOR($F$20)","v":-4142},{"$f":"CELLCOLOR($G$20)","v":-4142},{"$f":"CELLCOLOR($H$20)","v":-4142},{"$f":"CELLCOLOR($I$20)","v":-4142},{"$f":"CELLCOLOR($J$20)","v":-4142},{"$f":"CELLCOLOR($K$20)","v":-4142},{"$f":"CELLCOLOR($L$20)","v":-4142},{"$f":"CELLCOLOR($M$20)","v":-4142},{"$f":"CELLCOLOR($N$20)","v":-4142},{"$f":"CELLCOLOR($O$20)","v":-4142},{"$f":"CELLCOLOR($P$20)","v":-4142},{"$f":"CELLCOLOR($Q$20)","v":-4142},{"$f":"CELLCOLOR($R$20)","v":-4142},{"$f":"CELLCOLOR($S$20)","v":-4142},{"$f":"CELLCOLOR($T$20)","v":-4142},{"$f":"CELLCOLOR($U$20)","v":-4142},{"$f":"CELLCOLOR($V$20)","v":-4142},{"$f":"CELLCOLOR($W$20)","v":-4142},{"$f":"CELLCOLOR($X$20)","v":-4142},{"$f":"CELLCOLOR($Y$20)","v":-4142},{"$f":"CELLCOLOR($Z$20)","v":-4142},{"$f":"CELLCOLOR($AA$20)","v":-4142},12,null,0,"",0,""]
[null,null,1,{"$f":"CELLCOLOR($D$21)","v":-4142},{"$f":"CELLCOLOR($E$21)","v":-4142},{"$f":"CELLCOLOR($F$21)","v":-4142},{"$f":"CELLCOLOR($G$21)","v":-4142},{"$f":"CELLCOLOR($H$21)","v":-4142},{"$f":"CELLCOLOR($I$21)","v":-4142},{"$f":"CELLCOLOR($J$21)","v":-4142},{"$f":"CELLCOLOR($K$21)","v":-4142},{"$f":"CELLCOLOR($L$21)","v":-4142},{"$f":"CELLCOLOR($M$21)","v":-4142},{"$f":"CELLCOLOR($N$21)","v":-4142},{"$f":"CELLCOLOR($O$21)","v":-4142},{"$f":"CELLCOLOR($P$21)","v":-4142},{"$f":"CELLCOLOR($Q$21)","v":-4142},{"$f":"CELLCOLOR($R$21)","v":-4142},{"$f":"CELLCOLOR($S$21)","v":-4142},{"$f":"CELLCOLOR($T$21)","v":-4142},{"$f":"CELLCOLOR($U$21)","v":-4142},{"$f":"CELLCOLOR($V$21)","v":-4142},{"$f":"CELLCOLOR($W$21)","v":-4142},{"$f":"CELLCOLOR($X$21)","v":-4142},{"$f":"CELLCOLOR($Y$21)","v":-4142},{"$f":"CELLCOLOR($Z$21)","v":-4142},{"$f":"CELLCOLOR($AA$21)","v":-4142},1,null,0,"",0,""]
[null,null,2,{"$f":"CELLCOLOR($D$22)","v":-4142},{"$f":"CELLCOLOR($E$22)","v":-4142},{"$f":"CELLCOLOR($F$22)","v":-4142},{"$f":"CELLCOLOR($G$22)","v":-4142},{"$f":"CELLCOLOR($H$22)","v":-4142},{"$f":"CELLCOLOR($I$22)","v":-4142},{"$f":"CELLCOLOR($J$22)","v":-4142},{"$f":"CELLCOLOR($K$22)","v":-4142},{"$f":"CELLCOLOR($L$22)","v":-4142},{"$f":"CELLCOLOR($M$22)","v":-4142},{"$f":"CELLCOLOR($N$22)","v":-4142},{"$f":"CELLCOLOR($O$22)","v":-4142},{"$f":"CELLCOLOR($P$22)","v":-4142},{"$f":"CELLCOLOR($Q$22)","v":-4142},{"$f":"CELLCOLOR($R$22)","v":-4142},{"$f":"CELLCOLOR($S$22)","v":-4142},{"$f":"CELLCOLOR($T$22)","v":-4142},{"$f":"CELLCOLOR($U$22)","v":-4142},{"$f":"CELLCOLOR($V$22)","v":-4142},{"$f":"CELLCOLOR($W$22)","v":-4142},{"$f":"CELLCOLOR($X$22)","v":-4142},{"$f":"CELLCOLOR($Y$22)","v":-4142},{"$f":"CELLCOLOR($Z$22)","v":-4142},{"$f":"CELLCOLOR($AA$22)","v":-4142},2,null,0,"",0,""]
[null,null,3,{"$f":"CELLCOLOR($D$23)","v":-4142},{"$f":"CELLCOLOR($E$23)","v":-4142},{"$f":"CELLCOLOR($F$23)","v":-4142},{"$f":"CELLCOLOR($G$23)","v":-4142},{"$f":"CELLCOLOR($H$23)","v":-4142},{"$f":"CELLCOLOR($I$23)","v":-4142},{"$f":"CELLCOLOR($J$23)","v":-4142},{"$f":"CELLCOLOR($K$23)","v":-4142},{"$f":"CELLCOLOR($L$23)","v":-4142},{"$f":"CELLCOLOR($M$23)","v":-4142},{"$f":"CELLCOLOR($N$23)","v":-4142},{"$f":"CELLCOLOR($O$23)","v":-4142},{"$f":"CELLCOLOR($P$23)","v":-4142},{"$f":"CELLCOLOR($Q$23)","v":-4142},{"$f":"CELLCOLOR($R$23)","v":-4142},{"$f":"CELLCOLOR($S$23)","v":-4142},{"$f":"CELLCOLOR($T$23)","v":-4142},{"$f":"CELLCOLOR($U$23)","v":-4142},{"$f":"CELLCOLOR($V$23)","v":-4142},{"$f":"CELLCOLOR($W$23)","v":-4142},{"$f":"CELLCOLOR($X$23)","v":-4142},{"$f":"CELLCOLOR($Y$23)","v":-4142},{"$f":"CELLCOLOR($Z$23)","v":-4142},{"$f":"CELLCOLOR($AA$23)","v":-4142},3,null,0,"",0,""]
[]
[null,null,"作業表2-1(冷却)●月▲時の平均外気湿球温度(四捨五入で表示）"]
[null,null,null," 時刻"]
[null,null,"月",0,1,2,3,4,5,6,7,8,9,10,11,12,13,14,15,16,17,18,19,20,21,22,23,"月"]
[null,null,4,{"$f":"IF($D$101=24,ROUND($D$12,0),\"\")&\"\"","v":""},{"$f":"IF($E$101=24,ROUND($E$12,0),\"\")&\"\"","v":""},{"$f":"IF($F$101=24,ROUND($F$12,0),\"\")&\"\"","v":""},{"$f":"IF($G$101=24,ROUND($G$12,0),\"\")&\"\"","v":""},{"$f":"IF($H$101=24,ROUND($H$12,0),\"\")&\"\"","v":""},{"$f":"IF($I$101=24,ROUND($I$12,0),\"\")&\"\"","v":""},{"$f":"IF($J$101=24,ROUND($J$12,0),\"\")&\"\"","v":""},{"$f":"IF($K$101=24,ROUND($K$12,0),\"\")&\"\"","v":""},{"$f":"IF($L$101=24,ROUND($L$12,0),\"\")&\"\"","v":""},{"$f":"IF($M$101=24,ROUND($M$12,0),\"\")&\"\"","v":""},{"$f":"IF($N$101=24,ROUND($N$12,0),\"\")&\"\"","v":""},{"$f":"IF($O$101=24,ROUND($O$12,0),\"\")&\"\"","v":""},{"$f":"IF($P$101=24,ROUND($P$12,0),\"\")&\"\"","v":""},{"$f":"IF($Q$101=24,ROUND($Q$12,0),\"\")&\"\"","v":""},{"$f":"IF($R$101=24,ROUND($R$12,0),\"\")&\"\"","v":""},{"$f":"IF($S$101=24,ROUND($S$12,0),\"\")&\"\"","v":""},{"$f":"IF($T$101=24,ROUND($T$12,0),\"\")&\"\"","v":""},{"$f":"IF($U$101=24,ROUND($U$12,0),\"\")&\"\"","v":""},{"$f":"IF($V$101=24,ROUND($V$12,0),\"\")&\"\"","v":""},{"$f":"IF($W$101=24,ROUND($W$12,0),\"\")&\"\"","v":""},{"$f":"IF($X$101=24,ROUND($X$12,0),\"\")&\"\"","v":""},{"$f":"IF($Y$101=24,ROUND($Y$12,0),\"\")&\"\"","v":""},{"$f":"IF($Z$101=24,ROUND($Z$12,0),\"\")&\"\"","v":""},{"$f":"IF($AA$101=24,ROUND($AA$12,0),\"\")&\"\"","v":""},4]
[null,null,5,{"$f":"IF($D$102=24,ROUND($D$13,0),\"\")&\"\"","v":""},{"$f":"IF($E$102=24,ROUND($E$13,0),\"\")&\"\"","v":""},{"$f":"IF($F$102=24,ROUND($F$13,0),\"\")&\"\"","v":""},{"$f":"IF($G$102=24,ROUND($G$13,0),\"\")&\"\"","v":""},{"$f":"IF($H$102=24,ROUND($H$13,0),\"\")&\"\"","v":""},{"$f":"IF($I$102=24,ROUND($I$13,0),\"\")&\"\"","v":""},{"$f":"IF($J$102=24,ROUND($J$13,0),\"\")&\"\"","v":""},{"$f":"IF($K$102=24,ROUND($K$13,0),\"\")&\"\"","v":""},{"$f":"IF($L$102=24,ROUND($L$13,0),\"\")&\"\"","v":""},{"$f":"IF($M$102=24,ROUND($M$13,0),\"\")&\"\"","v":""},{"$f":"IF($N$102=24,ROUND($N$13,0),\"\")&\"\"","v":""},{"$f":"IF($O$102=24,ROUND($O$13,0),\"\")&\"\"","v":""},{"$f":"IF($P$102=24,ROUND($P$13,0),\"\")&\"\"","v":""},{"$f":"IF($Q$102=24,ROUND($Q$13,0),\"\")&\"\"","v":""},{"$f":"IF($R$102=24,ROUND($R$13,0),\"\")&\"\"","v":""},{"$f":"IF($S$102=24,ROUND($S$13,0),\"\")&\"\"","v":""},{"$f":"IF($T$102=24,ROUND($T$13,0),\"\")&\"\"","v":""},{"$f":"IF($U$102=24,ROUND($U$13,0),\"\")&\"\"","v":""},{"$f":"IF($V$102=24,ROUND($V$13,0),\"\")&\"\"","v":""},{"$f":"IF($W$102=24,ROUND($W$13,0),\"\")&\"\"","v":""},{"$f":"IF($X$102=24,ROUND($X$13,0),\"\")&\"\"","v":""},{"$f":"IF($Y$102=24,ROUND($Y$13,0),\"\")&\"\"","v":""},{"$f":"IF($Z$102=24,ROUND($Z$13,0),\"\")&\"\"","v":""},{"$f":"IF($AA$102=24,ROUND($AA$13,0),\"\")&\"\"","v":""},5]
[null,null,6,{"$f":"IF($D$103=24,ROUND($D$14,0),\"\")&\"\"","v":""},{"$f":"IF($E$103=24,ROUND($E$14,0),\"\")&\"\"","v":""},{"$f":"IF($F$103=24,ROUND($F$14,0),\"\")&\"\"","v":""},{"$f":"IF($G$103=24,ROUND($G$14,0),\"\")&\"\"","v":""},{"$f":"IF($H$103=24,ROUND($H$14,0),\"\")&\"\"","v":""},{"$f":"IF($I$103=24,ROUND($I$14,0),\"\")&\"\"","v":""},{"$f":"IF($J$103=24,ROUND($J$14,0),\"\")&\"\"","v":""},{"$f":"IF($K$103=24,ROUND($K$14,0),\"\")&\"\"","v":""},{"$f":"IF($L$103=24,ROUND($L$14,0),\"\")&\"\"","v":""},{"$f":"IF($M$103=24,ROUND($M$14,0),\"\")&\"\"","v":""},{"$f":"IF($N$103=24,ROUND($N$14,0),\"\")&\"\"","v":""},{"$f":"IF($O$103=24,ROUND($O$14,0),\"\")&\"\"","v":""},{"$f":"IF($P$103=24,ROUND($P$14,0),\"\")&\"\"","v":""},{"$f":"IF($Q$103=24,ROUND($Q$14,0),\"\")&\"\"","v":""},{"$f":"IF($R$103=24,ROUND($R$14,0),\"\")&\"\"","v":""},{"$f":"IF($S$103=24,ROUND($S$14,0),\"\")&\"\"","v":""},{"$f":"IF($T$103=24,ROUND($T$14,0),\"\")&\"\"","v":""},{"$f":"IF($U$103=24,ROUND($U$14,0),\"\")&\"\"","v":""},{"$f":"IF($V$103=24,ROUND($V$14,0),\"\")&\"\"","v":""},{"$f":"IF($W$103=24,ROUND($W$14,0),\"\")&\"\"","v":""},{"$f":"IF($X$103=24,ROUND($X$14,0),\"\")&\"\"","v":""},{"$f":"IF($Y$103=24,ROUND($Y$14,0),\"\")&\"\"","v":""},{"$f":"IF($Z$103=24,ROUND($Z$14,0),\"\")&\"\"","v":""},{"$f":"IF($AA$103=24,ROUND($AA$14,0),\"\")&\"\"","v":""},6]
[null,null,7,{"$f":"IF($D$104=24,ROUND($D$15,0),\"\")&\"\"","v":""},{"$f":"IF($E$104=24,ROUND($E$15,0),\"\")&\"\"","v":""},{"$f":"IF($F$104=24,ROUND($F$15,0),\"\")&\"\"","v":""},{"$f":"IF($G$104=24,ROUND($G$15,0),\"\")&\"\"","v":""},{"$f":"IF($H$104=24,ROUND($H$15,0),\"\")&\"\"","v":""},{"$f":"IF($I$104=24,ROUND($I$15,0),\"\")&\"\"","v":""},{"$f":"IF($J$104=24,ROUND($J$15,0),\"\")&\"\"","v":""},{"$f":"IF($K$104=24,ROUND($K$15,0),\"\")&\"\"","v":""},{"$f":"IF($L$104=24,ROUND($L$15,0),\"\")&\"\"","v":""},{"$f":"IF($M$104=24,ROUND($M$15,0),\"\")&\"\"","v":""},{"$f":"IF($N$104=24,ROUND($N$15,0),\"\")&\"\"","v":""},{"$f":"IF($O$104=24,ROUND($O$15,0),\"\")&\"\"","v":""},{"$f":"IF($P$104=24,ROUND($P$15,0),\"\")&\"\"","v":""},{"$f":"IF($Q$104=24,ROUND($Q$15,0),\"\")&\"\"","v":""},{"$f":"IF($R$104=24,ROUND($R$15,0),\"\")&\"\"","v":""},{"$f":"IF($S$104=24,ROUND($S$15,0),\"\")&\"\"","v":""},{"$f":"IF($T$104=24,ROUND($T$15,0),\"\")&\"\"","v":""},{"$f":"IF($U$104=24,ROUND($U$15,0),\"\")&\"\"","v":""},{"$f":"IF($V$104=24,ROUND($V$15,0),\"\")&\"\"","v":""},{"$f":"IF($W$104=24,ROUND($W$15,0),\"\")&\"\"","v":""},{"$f":"IF($X$104=24,ROUND($X$15,0),\"\")&\"\"","v":""},{"$f":"IF($Y$104=24,ROUND($Y$15,0),\"\")&\"\"","v":""},{"$f":"IF($Z$104=24,ROUND($Z$15,0),\"\")&\"\"","v":""},{"$f":"IF($AA$104=24,ROUND($AA$15,0),\"\")&\"\"","v":""},7]
[null,null,8,{"$f":"IF($D$105=24,ROUND($D$16,0),\"\")&\"\"","v":""},{"$f":"IF($E$105=24,ROUND($E$16,0),\"\")&\"\"","v":""},{"$f":"IF($F$105=24,ROUND($F$16,0),\"\")&\"\"","v":""},{"$f":"IF($G$105=24,ROUND($G$16,0),\"\")&\"\"","v":""},{"$f":"IF($H$105=24,ROUND($H$16,0),\"\")&\"\"","v":""},{"$f":"IF($I$105=24,ROUND($I$16,0),\"\")&\"\"","v":""},{"$f":"IF($J$105=24,ROUND($J$16,0),\"\")&\"\"","v":""},{"$f":"IF($K$105=24,ROUND($K$16,0),\"\")&\"\"","v":""},{"$f":"IF($L$105=24,ROUND($L$16,0),\"\")&\"\"","v":""},{"$f":"IF($M$105=24,ROUND($M$16,0),\"\")&\"\"","v":""},{"$f":"IF($N$105=24,ROUND($N$16,0),\"\")&\"\"","v":""},{"$f":"IF($O$105=24,ROUND($O$16,0),\"\")&\"\"","v":""},{"$f":"IF($P$105=24,ROUND($P$16,0),\"\")&\"\"","v":""},{"$f":"IF($Q$105=24,ROUND($Q$16,0),\"\")&\"\"","v":""},{"$f":"IF($R$105=24,ROUND($R$16,0),\"\")&\"\"","v":""},{"$f":"IF($S$105=24,ROUND($S$16,0),\"\")&\"\"","v":""},{"$f":"IF($T$105=24,ROUND($T$16,0),\"\")&\"\"","v":""},{"$f":"IF($U$105=24,ROUND($U$16,0),\"\")&\"\"","v":""},{"$f":"IF($V$105=24,ROUND($V$16,0),\"\")&\"\"","v":""},{"$f":"IF($W$105=24,ROUND($W$16,0),\"\")&\"\"","v":""},{"$f":"IF($X$105=24,ROUND($X$16,0),\"\")&\"\"","v":""},{"$f":"IF($Y$105=24,ROUND($Y$16,0),\"\")&\"\"","v":""},{"$f":"IF($Z$105=24,ROUND($Z$16,0),\"\")&\"\"","v":""},{"$f":"IF($AA$105=24,ROUND($AA$16,0),\"\")&\"\"","v":""},8]
[null,null,9,{"$f":"IF($D$106=24,ROUND($D$17,0),\"\")&\"\"","v":""},{"$f":"IF($E$106=24,ROUND($E$17,0),\"\")&\"\"","v":""},{"$f":"IF($F$106=24,ROUND($F$17,0),\"\")&\"\"","v":""},{"$f":"IF($G$106=24,ROUND($G$17,0),\"\")&\"\"","v":""},{"$f":"IF($H$106=24,ROUND($H$17,0),\"\")&\"\"","v":""},{"$f":"IF($I$106=24,ROUND($I$17,0),\"\")&\"\"","v":""},{"$f":"IF($J$106=24,ROUND($J$17,0),\"\")&\"\"","v":""},{"$f":"IF($K$106=24,ROUND($K$17,0),\"\")&\"\"","v":""},{"$f":"IF($L$106=24,ROUND($L$17,0),\"\")&\"\"","v":""},{"$f":"IF($M$106=24,ROUND($M$17,0),\"\")&\"\"","v":""},{"$f":"IF($N$106=24,ROUND($N$17,0),\"\")&\"\"","v":""},{"$f":"IF($O$106=24,ROUND($O$17,0),\"\")&\"\"","v":""},{"$f":"IF($P$106=24,ROUND($P$17,0),\"\")&\"\"","v":""},{"$f":"IF($Q$106=24,ROUND($Q$17,0),\"\")&\"\"","v":""},{"$f":"IF($R$106=24,ROUND($R$17,0),\"\")&\"\"","v":""},{"$f":"IF($S$106=24,ROUND($S$17,0),\"\")&\"\"","v":""},{"$f":"IF($T$106=24,ROUND($T$17,0),\"\")&\"\"","v":""},{"$f":"IF($U$106=24,ROUND($U$17,0),\"\")&\"\"","v":""},{"$f":"IF($V$106=24,ROUND($V$17,0),\"\")&\"\"","v":""},{"$f":"IF($W$106=24,ROUND($W$17,0),\"\")&\"\"","v":""},{"$f":"IF($X$106=24,ROUND($X$17,0),\"\")&\"\"","v":""},{"$f":"IF($Y$106=24,ROUND($Y$17,0),\"\")&\"\"","v":""},{"$f":"IF($Z$106=24,ROUND($Z$17,0),\"\")&\"\"","v":""},{"$f":"IF($AA$106=24,ROUND($AA$17,0),\"\")&\"\"","v":""},9]
[null,null,10,{"$f":"IF($D$107=24,ROUND($D$18,0),\"\")&\"\"","v":""},{"$f":"IF($E$107=24,ROUND($E$18,0),\"\")&\"\"","v":""},{"$f":"IF($F$107=24,ROUND($F$18,0),\"\")&\"\"","v":""},{"$f":"IF($G$107=24,ROUND($G$18,0),\"\")&\"\"","v":""},{"$f":"IF($H$107=24,ROUND($H$18,0),\"\")&\"\"","v":""},{"$f":"IF($I$107=24,ROUND($I$18,0),\"\")&\"\"","v":""},{"$f":"IF($J$107=24,ROUND($J$18,0),\"\")&\"\"","v":""},{"$f":"IF($K$107=24,ROUND($K$18,0),\"\")&\"\"","v":""},{"$f":"IF($L$107=24,ROUND($L$18,0),\"\")&\"\"","v":""},{"$f":"IF($M$107=24,ROUND($M$18,0),\"\")&\"\"","v":""},{"$f":"IF($N$107=24,ROUND($N$18,0),\"\")&\"\"","v":""},{"$f":"IF($O$107=24,ROUND($O$18,0),\"\")&\"\"","v":""},{"$f":"IF($P$107=24,ROUND($P$18,0),\"\")&\"\"","v":""},{"$f":"IF($Q$107=24,ROUND($Q$18,0),\"\")&\"\"","v":""},{"$f":"IF($R$107=24,ROUND($R$18,0),\"\")&\"\"","v":""},{"$f":"IF($S$107=24,ROUND($S$18,0),\"\")&\"\"","v":""},{"$f":"IF($T$107=24,ROUND($T$18,0),\"\")&\"\"","v":""},{"$f":"IF($U$107=24,ROUND($U$18,0),\"\")&\"\"","v":""},{"$f":"IF($V$107=24,ROUND($V$18,0),\"\")&\"\"","v":""},{"$f":"IF($W$107=24,ROUND($W$18,0),\"\")&\"\"","v":""},{"$f":"IF($X$107=24,ROUND($X$18,0),\"\")&\"\"","v":""},{"$f":"IF($Y$107=24,ROUND($Y$18,0),\"\")&\"\"","v":""},{"$f":"IF($Z$107=24,ROUND($Z$18,0),\"\")&\"\"","v":""},{"$f":"IF($AA$107=24,ROUND($AA$18,0),\"\")&\"\"","v":""},10]
[null,null,11,{"$f":"IF($D$108=24,ROUND($D$19,0),\"\")&\"\"","v":""},{"$f":"IF($E$108=24,ROUND($E$19,0),\"\")&\"\"","v":""},{"$f":"IF($F$108=24,ROUND($F$19,0),\"\")&\"\"","v":""},{"$f":"IF($G$108=24,ROUND($G$19,0),\"\")&\"\"","v":""},{"$f":"IF($H$108=24,ROUND($H$19,0),\"\")&\"\"","v":""},{"$f":"IF($I$108=24,ROUND($I$19,0),\"\")&\"\"","v":""},{"$f":"IF($J$108=24,ROUND($J$19,0),\"\")&\"\"","v":""},{"$f":"IF($K$108=24,ROUND($K$19,0),\"\")&\"\"","v":""},{"$f":"IF($L$108=24,ROUND($L$19,0),\"\")&\"\"","v":""},{"$f":"IF($M$108=24,ROUND($M$19,0),\"\")&\"\"","v":""},{"$f":"IF($N$108=24,ROUND($N$19,0),\"\")&\"\"","v":""},{"$f":"IF($O$108=24,ROUND($O$19,0),\"\")&\"\"","v":""},{"$f":"IF($P$108=24,ROUND($P$19,0),\"\")&\"\"","v":""},{"$f":"IF($Q$108=24,ROUND($Q$19,0),\"\")&\"\"","v":""},{"$f":"IF($R$108=24,ROUND($R$19,0),\"\")&\"\"","v":""},{"$f":"IF($S$108=24,ROUND($S$19,0),\"\")&\"\"","v":""},{"$f":"IF($T$108=24,ROUND($T$19,0),\"\")&\"\"","v":""},{"$f":"IF($U$108=24,ROUND($U$19,0),\"\")&\"\"","v":""},{"$f":"IF($V$108=24,ROUND($V$19,0),\"\")&\"\"","v":""},{"$f":"IF($W$108=24,ROUND($W$19,0),\"\")&\"\"","v":""},{"$f":"IF($X$108=24,ROUND($X$19,0),\"\")&\"\"","v":""},{"$f":"IF($Y$108=24,ROUND($Y$19,0),\"\")&\"\"","v":""},{"$f":"IF($Z$108=24,ROUND($Z$19,0),\"\")&\"\"","v":""},{"$f":"IF($AA$108=24,ROUND($AA$19,0),\"\")&\"\"","v":""},11]
[null,null,12,{"$f":"IF($D$109=24,ROUND($D$20,0),\"\")&\"\"","v":""},{"$f":"IF($E$109=24,ROUND($E$20,0),\"\")&\"\"","v":""},{"$f":"IF($F$109=24,ROUND($F$20,0),\"\")&\"\"","v":""},{"$f":"IF($G$109=24,ROUND($G$20,0),\"\")&\"\"","v":""},{"$f":"IF($H$109=24,ROUND($H$20,0),\"\")&\"\"","v":""},{"$f":"IF($I$109=24,ROUND($I$20,0),\"\")&\"\"","v":""},{"$f":"IF($J$109=24,ROUND($J$20,0),\"\")&\"\"","v":""},{"$f":"IF($K$109=24,ROUND($K$20,0),\"\")&\"\"","v":""},{"$f":"IF($L$109=24,ROUND($L$20,0),\"\")&\"\"","v":""},{"$f":"IF($M$109=24,ROUND($M$20,0),\"\")&\"\"","v":""},{"$f":"IF($N$109=24,ROUND($N$20,0),\"\")&\"\"","v":""},{"$f":"IF($O$109=24,ROUND($O$20,0),\"\")&\"\"","v":""},{"$f":"IF($P$109=24,ROUND($P$20,0),\"\")&\"\"","v":""},{"$f":"IF($Q$109=24,ROUND($Q$20,0),\"\")&\"\"","v":""},{"$f":"IF($R$109=24,ROUND($R$20,0),\"\")&\"\"","v":""},{"$f":"IF($S$109=24,ROUND($S$20,0),\"\")&\"\"","v":""},{"$f":"IF($T$109=24,ROUND($T$20,0),\"\")&\"\"","v":""},{"$f":"IF($U$109=24,ROUND($U$20,0),\"\")&\"\"","v":""},{"$f":"IF($V$109=24,ROUND($V$20,0),\"\")&\"\"","v":""},{"$f":"IF($W$109=24,ROUND($W$20,0),\"\")&\"\"","v":""},{"$f":"IF($X$109=24,ROUND($X$20,0),\"\")&\"\"","v":""},{"$f":"IF($Y$109=24,ROUND($Y$20,0),\"\")&\"\"","v":""},{"$f":"IF($Z$109=24,ROUND($Z$20,0),\"\")&\"\"","v":""},{"$f":"IF($AA$109=24,ROUND($AA$20,0),\"\")&\"\"","v":""},12]
[null,null,1,{"$f":"IF($D$110=24,ROUND($D$21,0),\"\")&\"\"","v":""},{"$f":"IF($E$110=24,ROUND($E$21,0),\"\")&\"\"","v":""},{"$f":"IF($F$110=24,ROUND($F$21,0),\"\")&\"\"","v":""},{"$f":"IF($G$110=24,ROUND($G$21,0),\"\")&\"\"","v":""},{"$f":"IF($H$110=24,ROUND($H$21,0),\"\")&\"\"","v":""},{"$f":"IF($I$110=24,ROUND($I$21,0),\"\")&\"\"","v":""},{"$f":"IF($J$110=24,ROUND($J$21,0),\"\")&\"\"","v":""},{"$f":"IF($K$110=24,ROUND($K$21,0),\"\")&\"\"","v":""},{"$f":"IF($L$110=24,ROUND($L$21,0),\"\")&\"\"","v":""},{"$f":"IF($M$110=24,ROUND($M$21,0),\"\")&\"\"","v":""},{"$f":"IF($N$110=24,ROUND($N$21,0),\"\")&\"\"","v":""},{"$f":"IF($O$110=24,ROUND($O$21,0),\"\")&\"\"","v":""},{"$f":"IF($P$110=24,ROUND($P$21,0),\"\")&\"\"","v":""},{"$f":"IF($Q$110=24,ROUND($Q$21,0),\"\")&\"\"","v":""},{"$f":"IF($R$110=24,ROUND($R$21,0),\"\")&\"\"","v":""},{"$f":"IF($S$110=24,ROUND($S$21,0),\"\")&\"\"","v":""},{"$f":"IF($T$110=24,ROUND($T$21,0),\"\")&\"\"","v":""},{"$f":"IF($U$110=24,ROUND($U$21,0),\"\")&\"\"","v":""},{"$f":"IF($V$110=24,ROUND($V$21,0),\"\")&\"\"","v":""},{"$f":"IF($W$110=24,ROUND($W$21,0),\"\")&\"\"","v":""},{"$f":"IF($X$110=24,ROUND($X$21,0),\"\")&\"\"","v":""},{"$f":"IF($Y$110=24,ROUND($Y$21,0),\"\")&\"\"","v":""},{"$f":"IF($Z$110=24,ROUND($Z$21,0),\"\")&\"\"","v":""},{"$f":"IF($AA$110=24,ROUND($AA$21,0),\"\")&\"\"","v":""},1]
[null,null,2,{"$f":"IF($D$111=24,ROUND($D$22,0),\"\")&\"\"","v":""},{"$f":"IF($E$111=24,ROUND($E$22,0),\"\")&\"\"","v":""},{"$f":"IF($F$111=24,ROUND($F$22,0),\"\")&\"\"","v":""},{"$f":"IF($G$111=24,ROUND($G$22,0),\"\")&\"\"","v":""},{"$f":"IF($H$111=24,ROUND($H$22,0),\"\")&\"\"","v":""},{"$f":"IF($I$111=24,ROUND($I$22,0),\"\")&\"\"","v":""},{"$f":"IF($J$111=24,ROUND($J$22,0),\"\")&\"\"","v":""},{"$f":"IF($K$111=24,ROUND($K$22,0),\"\")&\"\"","v":""},{"$f":"IF($L$111=24,ROUND($L$22,0),\"\")&\"\"","v":""},{"$f":"IF($M$111=24,ROUND($M$22,0),\"\")&\"\"","v":""},{"$f":"IF($N$111=24,ROUND($N$22,0),\"\")&\"\"","v":""},{"$f":"IF($O$111=24,ROUND($O$22,0),\"\")&\"\"","v":""},{"$f":"IF($P$111=24,ROUND($P$22,0),\"\")&\"\"","v":""},{"$f":"IF($Q$111=24,ROUND($Q$22,0),\"\")&\"\"","v":""},{"$f":"IF($R$111=24,ROUND($R$22,0),\"\")&\"\"","v":""},{"$f":"IF($S$111=24,ROUND($S$22,0),\"\")&\"\"","v":""},{"$f":"IF($T$111=24,ROUND($T$22,0),\"\")&\"\"","v":""},{"$f":"IF($U$111=24,ROUND($U$22,0),\"\")&\"\"","v":""},{"$f":"IF($V$111=24,ROUND($V$22,0),\"\")&\"\"","v":""},{"$f":"IF($W$111=24,ROUND($W$22,0),\"\")&\"\"","v":""},{"$f":"IF($X$111=24,ROUND($X$22,0),\"\")&\"\"","v":""},{"$f":"IF($Y$111=24,ROUND($Y$22,0),\"\")&\"\"","v":""},{"$f":"IF($Z$111=24,ROUND($Z$22,0),\"\")&\"\"","v":""},{"$f":"IF($AA$111=24,ROUND($AA$22,0),\"\")&\"\"","v":""},2]
[null,null,3,{"$f":"IF($D$112=24,ROUND($D$23,0),\"\")&\"\"","v":""},{"$f":"IF($E$112=24,ROUND($E$23,0),\"\")&\"\"","v":""},{"$f":"IF($F$112=24,ROUND($F$23,0),\"\")&\"\"","v":""},{"$f":"IF($G$112=24,ROUND($G$23,0),\"\")&\"\"","v":""},{"$f":"IF($H$112=24,ROUND($H$23,0),\"\")&\"\"","v":""},{"$f":"IF($I$112=24,ROUND($I$23,0),\"\")&\"\"","v":""},{"$f":"IF($J$112=24,ROUND($J$23,0),\"\")&\"\"","v":""},{"$f":"IF($K$112=24,ROUND($K$23,0),\"\")&\"\"","v":""},{"$f":"IF($L$112=24,ROUND($L$23,0),\"\")&\"\"","v":""},{"$f":"IF($M$112=24,ROUND($M$23,0),\"\")&\"\"","v":""},{"$f":"IF($N$112=24,ROUND($N$23,0),\"\")&\"\"","v":""},{"$f":"IF($O$112=24,ROUND($O$23,0),\"\")&\"\"","v":""},{"$f":"IF($P$112=24,ROUND($P$23,0),\"\")&\"\"","v":""},{"$f":"IF($Q$112=24,ROUND($Q$23,0),\"\")&\"\"","v":""},{"$f":"IF($R$112=24,ROUND($R$23,0),\"\")&\"\"","v":""},{"$f":"IF($S$112=24,ROUND($S$23,0),\"\")&\"\"","v":""},{"$f":"IF($T$112=24,ROUND($T$23,0),\"\")&\"\"","v":""},{"$f":"IF($U$112=24,ROUND($U$23,0),\"\")&\"\"","v":""},{"$f":"IF($V$112=24,ROUND($V$23,0),\"\")&\"\"","v":""},{"$f":"IF($W$112=24,ROUND($W$23,0),\"\")&\"\"","v":""},{"$f":"IF($X$112=24,ROUND($X$23,0),\"\")&\"\"","v":""},{"$f":"IF($Y$112=24,ROUND($Y$23,0),\"\")&\"\"","v":""},{"$f":"IF($Z$112=24,ROUND($Z$23,0),\"\")&\"\"","v":""},{"$f":"IF($AA$112=24,ROUND($AA$23,0),\"\")&\"\"","v":""},3]
[]
[null,null,"作業表2-2(加熱)●月▲時の平均外気湿球温度(四捨五入で表示）"]
[null,null,null," 時刻"]
[null,null,"月",0,1,2,3,4,5,6,7,8,9,10,11,12,13,14,15,16,17,18,19,20,21,22,23,"月"]
[null,null,4,{"$f":"IF($D$101=19,ROUND($D$12,0),\"\")&\"\"","v":""},{"$f":"IF($E$101=19,ROUND($E$12,0),\"\")&\"\"","v":""},{"$f":"IF($F$101=19,ROUND($F$12,0),\"\")&\"\"","v":""},{"$f":"IF($G$101=19,ROUND($G$12,0),\"\")&\"\"","v":""},{"$f":"IF($H$101=19,ROUND($H$12,0),\"\")&\"\"","v":""},{"$f":"IF($I$101=19,ROUND($I$12,0),\"\")&\"\"","v":""},{"$f":"IF($J$101=19,ROUND($J$12,0),\"\")&\"\"","v":""},{"$f":"IF($K$101=19,ROUND($K$12,0),\"\")&\"\"","v":""},{"$f":"IF($L$101=19,ROUND($L$12,0),\"\")&\"\"","v":""},{"$f":"IF($M$101=19,ROUND($M$12,0),\"\")&\"\"","v":""},{"$f":"IF($N$101=19,ROUND($N$12,0),\"\")&\"\"","v":""},{"$f":"IF($O$101=19,ROUND($O$12,0),\"\")&\"\"","v":""},{"$f":"IF($P$101=19,ROUND($P$12,0),\"\")&\"\"","v":""},{"$f":"IF($Q$101=19,ROUND($Q$12,0),\"\")&\"\"","v":""},{"$f":"IF($R$101=19,ROUND($R$12,0),\"\")&\"\"","v":""},{"$f":"IF($S$101=19,ROUND($S$12,0),\"\")&\"\"","v":""},{"$f":"IF($T$101=19,ROUND($T$12,0),\"\")&\"\"","v":""},{"$f":"IF($U$101=19,ROUND($U$12,0),\"\")&\"\"","v":""},{"$f":"IF($V$101=19,ROUND($V$12,0),\"\")&\"\"","v":""},{"$f":"IF($W$101=19,ROUND($W$12,0),\"\")&\"\"","v":""},{"$f":"IF($X$101=19,ROUND($X$12,0),\"\")&\"\"","v":""},{"$f":"IF($Y$101=19,ROUND($Y$12,0),\"\")&\"\"","v":""},{"$f":"IF($Z$101=19,ROUND($Z$12,0),\"\")&\"\"","v":""},{"$f":"IF($AA$101=19,ROUND($AA$12,0),\"\")&\"\"","v":""},4]
[null,null,5,{"$f":"IF($D$102=19,ROUND($D$13,0),\"\")&\"\"","v":""},{"$f":"IF($E$102=19,ROUND($E$13,0),\"\")&\"\"","v":""},{"$f":"IF($F$102=19,ROUND($F$13,0),\"\")&\"\"","v":""},{"$f":"IF($G$102=19,ROUND($G$13,0),\"\")&\"\"","v":""},{"$f":"IF($H$102=19,ROUND($H$13,0),\"\")&\"\"","v":""},{"$f":"IF($I$102=19,ROUND($I$13,0),\"\")&\"\"","v":""},{"$f":"IF($J$102=19,ROUND($J$13,0),\"\")&\"\"","v":""},{"$f":"IF($K$102=19,ROUND($K$13,0),\"\")&\"\"","v":""},{"$f":"IF($L$102=19,ROUND($L$13,0),\"\")&\"\"","v":""},{"$f":"IF($M$102=19,ROUND($M$13,0),\"\")&\"\"","v":""},{"$f":"IF($N$102=19,ROUND($N$13,0),\"\")&\"\"","v":""},{"$f":"IF($O$102=19,ROUND($O$13,0),\"\")&\"\"","v":""},{"$f":"IF($P$102=19,ROUND($P$13,0),\"\")&\"\"","v":""},{"$f":"IF($Q$102=19,ROUND($Q$13,0),\"\")&\"\"","v":""},{"$f":"IF($R$102=19,ROUND($R$13,0),\"\")&\"\"","v":""},{"$f":"IF($S$102=19,ROUND($S$13,0),\"\")&\"\"","v":""},{"$f":"IF($T$102=19,ROUND($T$13,0),\"\")&\"\"","v":""},{"$f":"IF($U$102=19,ROUND($U$13,0),\"\")&\"\"","v":""},{"$f":"IF($V$102=19,ROUND($V$13,0),\"\")&\"\"","v":""},{"$f":"IF($W$102=19,ROUND($W$13,0),\"\")&\"\"","v":""},{"$f":"IF($X$102=19,ROUND($X$13,0),\"\")&\"\"","v":""},{"$f":"IF($Y$102=19,ROUND($Y$13,0),\"\")&\"\"","v":""},{"$f":"IF($Z$102=19,ROUND($Z$13,0),\"\")&\"\"","v":""},{"$f":"IF($AA$102=19,ROUND($AA$13,0),\"\")&\"\"","v":""},5]
[null,null,6,{"$f":"IF($D$103=19,ROUND($D$14,0),\"\")&\"\"","v":""},{"$f":"IF($E$103=19,ROUND($E$14,0),\"\")&\"\"","v":""},{"$f":"IF($F$103=19,ROUND($F$14,0),\"\")&\"\"","v":""},{"$f":"IF($G$103=19,ROUND($G$14,0),\"\")&\"\"","v":""},{"$f":"IF($H$103=19,ROUND($H$14,0),\"\")&\"\"","v":""},{"$f":"IF($I$103=19,ROUND($I$14,0),\"\")&\"\"","v":""},{"$f":"IF($J$103=19,ROUND($J$14,0),\"\")&\"\"","v":""},{"$f":"IF($K$103=19,ROUND($K$14,0),\"\")&\"\"","v":""},{"$f":"IF($L$103=19,ROUND($L$14,0),\"\")&\"\"","v":""},{"$f":"IF($M$103=19,ROUND($M$14,0),\"\")&\"\"","v":""},{"$f":"IF($N$103=19,ROUND($N$14,0),\"\")&\"\"","v":""},{"$f":"IF($O$103=19,ROUND($O$14,0),\"\")&\"\"","v":""},{"$f":"IF($P$103=19,ROUND($P$14,0),\"\")&\"\"","v":""},{"$f":"IF($Q$103=19,ROUND($Q$14,0),\"\")&\"\"","v":""},{"$f":"IF($R$103=19,ROUND($R$14,0),\"\")&\"\"","v":""},{"$f":"IF($S$103=19,ROUND($S$14,0),\"\")&\"\"","v":""},{"$f":"IF($T$103=19,ROUND($T$14,0),\"\")&\"\"","v":""},{"$f":"IF($U$103=19,ROUND($U$14,0),\"\")&\"\"","v":""},{"$f":"IF($V$103=19,ROUND($V$14,0),\"\")&\"\"","v":""},{"$f":"IF($W$103=19,ROUND($W$14,0),\"\")&\"\"","v":""},{"$f":"IF($X$103=19,ROUND($X$14,0),\"\")&\"\"","v":""},{"$f":"IF($Y$103=19,ROUND($Y$14,0),\"\")&\"\"","v":""},{"$f":"IF($Z$103=19,ROUND($Z$14,0),\"\")&\"\"","v":""},{"$f":"IF($AA$103=19,ROUND($AA$14,0),\"\")&\"\"","v":""},6]
[null,null,7,{"$f":"IF($D$104=19,ROUND($D$15,0),\"\")&\"\"","v":""},{"$f":"IF($E$104=19,ROUND($E$15,0),\"\")&\"\"","v":""},{"$f":"IF($F$104=19,ROUND($F$15,0),\"\")&\"\"","v":""},{"$f":"IF($G$104=19,ROUND($G$15,0),\"\")&\"\"","v":""},{"$f":"IF($H$104=19,ROUND($H$15,0),\"\")&\"\"","v":""},{"$f":"IF($I$104=19,ROUND($I$15,0),\"\")&\"\"","v":""},{"$f":"IF($J$104=19,ROUND($J$15,0),\"\")&\"\"","v":""},{"$f":"IF($K$104=19,ROUND($K$15,0),\"\")&\"\"","v":""},{"$f":"IF($L$104=19,ROUND($L$15,0),\"\")&\"\"","v":""},{"$f":"IF($M$104=19,ROUND($M$15,0),\"\")&\"\"","v":""},{"$f":"IF($N$104=19,ROUND($N$15,0),\"\")&\"\"","v":""},{"$f":"IF($O$104=19,ROUND($O$15,0),\"\")&\"\"","v":""},{"$f":"IF($P$104=19,ROUND($P$15,0),\"\")&\"\"","v":""},{"$f":"IF($Q$104=19,ROUND($Q$15,0),\"\")&\"\"","v":""},{"$f":"IF($R$104=19,ROUND($R$15,0),\"\")&\"\"","v":""},{"$f":"IF($S$104=19,ROUND($S$15,0),\"\")&\"\"","v":""},{"$f":"IF($T$104=19,ROUND($T$15,0),\"\")&\"\"","v":""},{"$f":"IF($U$104=19,ROUND($U$15,0),\"\")&\"\"","v":""},{"$f":"IF($V$104=19,ROUND($V$15,0),\"\")&\"\"","v":""},{"$f":"IF($W$104=19,ROUND($W$15,0),\"\")&\"\"","v":""},{"$f":"IF($X$104=19,ROUND($X$15,0),\"\")&\"\"","v":""},{"$f":"IF($Y$104=19,ROUND($Y$15,0),\"\")&\"\"","v":""},{"$f":"IF($Z$104=19,ROUND($Z$15,0),\"\")&\"\"","v":""},{"$f":"IF($AA$104=19,ROUND($AA$15,0),\"\")&\"\"","v":""},7]
[null,null,8,{"$f":"IF($D$105=19,ROUND($D$16,0),\"\")&\"\"","v":""},{"$f":"IF($E$105=19,ROUND($E$16,0),\"\")&\"\"","v":""},{"$f":"IF($F$105=19,ROUND($F$16,0),\"\")&\"\"","v":""},{"$f":"IF($G$105=19,ROUND($G$16,0),\"\")&\"\"","v":""},{"$f":"IF($H$105=19,ROUND($H$16,0),\"\")&\"\"","v":""},{"$f":"IF($I$105=19,ROUND($I$16,0),\"\")&\"\"","v":""},{"$f":"IF($J$105=19,ROUND($J$16,0),\"\")&\"\"","v":""},{"$f":"IF($K$105=19,ROUND($K$16,0),\"\")&\"\"","v":""},{"$f":"IF($L$105=19,ROUND($L$16,0),\"\")&\"\"","v":""},{"$f":"IF($M$105=19,ROUND($M$16,0),\"\")&\"\"","v":""},{"$f":"IF($N$105=19,ROUND($N$16,0),\"\")&\"\"","v":""},{"$f":"IF($O$105=19,ROUND($O$16,0),\"\")&\"\"","v":""},{"$f":"IF($P$105=19,ROUND($P$16,0),\"\")&\"\"","v":""},{"$f":"IF($Q$105=19,ROUND($Q$16,0),\"\")&\"\"","v":""},{"$f":"IF($R$105=19,ROUND($R$16,0),\"\")&\"\"","v":""},{"$f":"IF($S$105=19,ROUND($S$16,0),\"\")&\"\"","v":""},{"$f":"IF($T$105=19,ROUND($T$16,0),\"\")&\"\"","v":""},{"$f":"IF($U$105=19,ROUND($U$16,0),\"\")&\"\"","v":""},{"$f":"IF($V$105=19,ROUND($V$16,0),\"\")&\"\"","v":""},{"$f":"IF($W$105=19,ROUND($W$16,0),\"\")&\"\"","v":""},{"$f":"IF($X$105=19,ROUND($X$16,0),\"\")&\"\"","v":""},{"$f":"IF($Y$105=19,ROUND($Y$16,0),\"\")&\"\"","v":""},{"$f":"IF($Z$105=19,ROUND($Z$16,0),\"\")&\"\"","v":""},{"$f":"IF($AA$105=19,ROUND($AA$16,0),\"\")&\"\"","v":""},8]
[null,null,9,{"$f":"IF($D$106=19,ROUND($D$17,0),\"\")&\"\"","v":""},{"$f":"IF($E$106=19,ROUND($E$17,0),\"\")&\"\"","v":""},{"$f":"IF($F$106=19,ROUND($F$17,0),\"\")&\"\"","v":""},{"$f":"IF($G$106=19,ROUND($G$17,0),\"\")&\"\"","v":""},{"$f":"IF($H$106=19,ROUND($H$17,0),\"\")&\"\"","v":""},{"$f":"IF($I$106=19,ROUND($I$17,0),\"\")&\"\"","v":""},{"$f":"IF($J$106=19,ROUND($J$17,0),\"\")&\"\"","v":""},{"$f":"IF($K$106=19,ROUND($K$17,0),\"\")&\"\"","v":""},{"$f":"IF($L$106=19,ROUND($L$17,0),\"\")&\"\"","v":""},{"$f":"IF($M$106=19,ROUND($M$17,0),\"\")&\"\"","v":""},{"$f":"IF($N$106=19,ROUND($N$17,0),\"\")&\"\"","v":""},{"$f":"IF($O$106=19,ROUND($O$17,0),\"\")&\"\"","v":""},{"$f":"IF($P$106=19,ROUND($P$17,0),\"\")&\"\"","v":""},{"$f":"IF($Q$106=19,ROUND($Q$17,0),\"\")&\"\"","v":""},{"$f":"IF($R$106=19,ROUND($R$17,0),\"\")&\"\"","v":""},{"$f":"IF($S$106=19,ROUND($S$17,0),\"\")&\"\"","v":""},{"$f":"IF($T$106=19,ROUND($T$17,0),\"\")&\"\"","v":""},{"$f":"IF($U$106=19,ROUND($U$17,0),\"\")&\"\"","v":""},{"$f":"IF($V$106=19,ROUND($V$17,0),\"\")&\"\"","v":""},{"$f":"IF($W$106=19,ROUND($W$17,0),\"\")&\"\"","v":""},{"$f":"IF($X$106=19,ROUND($X$17,0),\"\")&\"\"","v":""},{"$f":"IF($Y$106=19,ROUND($Y$17,0),\"\")&\"\"","v":""},{"$f":"IF($Z$106=19,ROUND($Z$17,0),\"\")&\"\"","v":""},{"$f":"IF($AA$106=19,ROUND($AA$17,0),\"\")&\"\"","v":""},9]
[null,null,10,{"$f":"IF($D$107=19,ROUND($D$18,0),\"\")&\"\"","v":""},{"$f":"IF($E$107=19,ROUND($E$18,0),\"\")&\"\"","v":""},{"$f":"IF($F$107=19,ROUND($F$18,0),\"\")&\"\"","v":""},{"$f":"IF($G$107=19,ROUND($G$18,0),\"\")&\"\"","v":""},{"$f":"IF($H$107=19,ROUND($H$18,0),\"\")&\"\"","v":""},{"$f":"IF($I$107=19,ROUND($I$18,0),\"\")&\"\"","v":""},{"$f":"IF($J$107=19,ROUND($J$18,0),\"\")&\"\"","v":""},{"$f":"IF($K$107=19,ROUND($K$18,0),\"\")&\"\"","v":""},{"$f":"IF($L$107=19,ROUND($L$18,0),\"\")&\"\"","v":""},{"$f":"IF($M$107=19,ROUND($M$18,0),\"\")&\"\"","v":""},{"$f":"IF($N$107=19,ROUND($N$18,0),\"\")&\"\"","v":""},{"$f":"IF($O$107=19,ROUND($O$18,0),\"\")&\"\"","v":""},{"$f":"IF($P$107=19,ROUND($P$18,0),\"\")&\"\"","v":""},{"$f":"IF($Q$107=19,ROUND($Q$18,0),\"\")&\"\"","v":""},{"$f":"IF($R$107=19,ROUND($R$18,0),\"\")&\"\"","v":""},{"$f":"IF($S$107=19,ROUND($S$18,0),\"\")&\"\"","v":""},{"$f":"IF($T$107=19,ROUND($T$18,0),\"\")&\"\"","v":""},{"$f":"IF($U$107=19,ROUND($U$18,0),\"\")&\"\"","v":""},{"$f":"IF($V$107=19,ROUND($V$18,0),\"\")&\"\"","v":""},{"$f":"IF($W$107=19,ROUND($W$18,0),\"\")&\"\"","v":""},{"$f":"IF($X$107=19,ROUND($X$18,0),\"\")&\"\"","v":""},{"$f":"IF($Y$107=19,ROUND($Y$18,0),\"\")&\"\"","v":""},{"$f":"IF($Z$107=19,ROUND($Z$18,0),\"\")&\"\"","v":""},{"$f":"IF($AA$107=19,ROUND($AA$18,0),\"\")&\"\"","v":""},10]
[null,null,11,{"$f":"IF($D$108=19,ROUND($D$19,0),\"\")&\"\"","v":""},{"$f":"IF($E$108=19,ROUND($E$19,0),\"\")&\"\"","v":""},{"$f":"IF($F$108=19,ROUND($F$19,0),\"\")&\"\"","v":""},{"$f":"IF($G$108=19,ROUND($G$19,0),\"\")&\"\"","v":""},{"$f":"IF($H$108=19,ROUND($H$19,0),\"\")&\"\"","v":""},{"$f":"IF($I$108=19,ROUND($I$19,0),\"\")&\"\"","v":""},{"$f":"IF($J$108=19,ROUND($J$19,0),\"\")&\"\"","v":""},{"$f":"IF($K$108=19,ROUND($K$19,0),\"\")&\"\"","v":""},{"$f":"IF($L$108=19,ROUND($L$19,0),\"\")&\"\"","v":""},{"$f":"IF($M$108=19,ROUND($M$19,0),\"\")&\"\"","v":""},{"$f":"IF($N$108=19,ROUND($N$19,0),\"\")&\"\"","v":""},{"$f":"IF($O$108=19,ROUND($O$19,0),\"\")&\"\"","v":""},{"$f":"IF($P$108=19,ROUND($P$19,0),\"\")&\"\"","v":""},{"$f":"IF($Q$108=19,ROUND($Q$19,0),\"\")&\"\"","v":""},{"$f":"IF($R$108=19,ROUND($R$19,0),\"\")&\"\"","v":""},{"$f":"IF($S$108=19,ROUND($S$19,0),\"\")&\"\"","v":""},{"$f":"IF($T$108=19,ROUND($T$19,0),\"\")&\"\"","v":""},{"$f":"IF($U$108=19,ROUND($U$19,0),\"\")&\"\"","v":""},{"$f":"IF($V$108=19,ROUND($V$19,0),\"\")&\"\"","v":""},{"$f":"IF($W$108=19,ROUND($W$19,0),\"\")&\"\"","v":""},{"$f":"IF($X$108=19,ROUND($X$19,0),\"\")&\"\"","v":""},{"$f":"IF($Y$108=19,ROUND($Y$19,0),\"\")&\"\"","v":""},{"$f":"IF($Z$108=19,ROUND($Z$19,0),\"\")&\"\"","v":""},{"$f":"IF($AA$108=19,ROUND($AA$19,0),\"\")&\"\"","v":""},11]
[null,null,12,{"$f":"IF($D$109=19,ROUND($D$20,0),\"\")&\"\"","v":""},{"$f":"IF($E$109=19,ROUND($E$20,0),\"\")&\"\"","v":""},{"$f":"IF($F$109=19,ROUND($F$20,0),\"\")&\"\"","v":""},{"$f":"IF($G$109=19,ROUND($G$20,0),\"\")&\"\"","v":""},{"$f":"IF($H$109=19,ROUND($H$20,0),\"\")&\"\"","v":""},{"$f":"IF($I$109=19,ROUND($I$20,0),\"\")&\"\"","v":""},{"$f":"IF($J$109=19,ROUND($J$20,0),\"\")&\"\"","v":""},{"$f":"IF($K$109=19,ROUND($K$20,0),\"\")&\"\"","v":""},{"$f":"IF($L$109=19,ROUND($L$20,0),\"\")&\"\"","v":""},{"$f":"IF($M$109=19,ROUND($M$20,0),\"\")&\"\"","v":""},{"$f":"IF($N$109=19,ROUND($N$20,0),\"\")&\"\"","v":""},{"$f":"IF($O$109=19,ROUND($O$20,0),\"\")&\"\"","v":""},{"$f":"IF($P$109=19,ROUND($P$20,0),\"\")&\"\"","v":""},{"$f":"IF($Q$109=19,ROUND($Q$20,0),\"\")&\"\"","v":""},{"$f":"IF($R$109=19,ROUND($R$20,0),\"\")&\"\"","v":""},{"$f":"IF($S$109=19,ROUND($S$20,0),\"\")&\"\"","v":""},{"$f":"IF($T$109=19,ROUND($T$20,0),\"\")&\"\"","v":""},{"$f":"IF($U$109=19,ROUND($U$20,0),\"\")&\"\"","v":""},{"$f":"IF($V$109=19,ROUND($V$20,0),\"\")&\"\"","v":""},{"$f":"IF($W$109=19,ROUND($W$20,0),\"\")&\"\"","v":""},{"$f":"IF($X$109=19,ROUND($X$20,0),\"\")&\"\"","v":""},{"$f":"IF($Y$109=19,ROUND($Y$20,0),\"\")&\"\"","v":""},{"$f":"IF($Z$109=19,ROUND($Z$20,0),\"\")&\"\"","v":""},{"$f":"IF($AA$109=19,ROUND($AA$20,0),\"\")&\"\"","v":""},12]
[null,null,1,{"$f":"IF($D$110=19,ROUND($D$21,0),\"\")&\"\"","v":""},{"$f":"IF($E$110=19,ROUND($E$21,0),\"\")&\"\"","v":""},{"$f":"IF($F$110=19,ROUND($F$21,0),\"\")&\"\"","v":""},{"$f":"IF($G$110=19,ROUND($G$21,0),\"\")&\"\"","v":""},{"$f":"IF($H$110=19,ROUND($H$21,0),\"\")&\"\"","v":""},{"$f":"IF($I$110=19,ROUND($I$21,0),\"\")&\"\"","v":""},{"$f":"IF($J$110=19,ROUND($J$21,0),\"\")&\"\"","v":""},{"$f":"IF($K$110=19,ROUND($K$21,0),\"\")&\"\"","v":""},{"$f":"IF($L$110=19,ROUND($L$21,0),\"\")&\"\"","v":""},{"$f":"IF($M$110=19,ROUND($M$21,0),\"\")&\"\"","v":""},{"$f":"IF($N$110=19,ROUND($N$21,0),\"\")&\"\"","v":""},{"$f":"IF($O$110=19,ROUND($O$21,0),\"\")&\"\"","v":""},{"$f":"IF($P$110=19,ROUND($P$21,0),\"\")&\"\"","v":""},{"$f":"IF($Q$110=19,ROUND($Q$21,0),\"\")&\"\"","v":""},{"$f":"IF($R$110=19,ROUND($R$21,0),\"\")&\"\"","v":""},{"$f":"IF($S$110=19,ROUND($S$21,0),\"\")&\"\"","v":""},{"$f":"IF($T$110=19,ROUND($T$21,0),\"\")&\"\"","v":""},{"$f":"IF($U$110=19,ROUND($U$21,0),\"\")&\"\"","v":""},{"$f":"IF($V$110=19,ROUND($V$21,0),\"\")&\"\"","v":""},{"$f":"IF($W$110=19,ROUND($W$21,0),\"\")&\"\"","v":""},{"$f":"IF($X$110=19,ROUND($X$21,0),\"\")&\"\"","v":""},{"$f":"IF($Y$110=19,ROUND($Y$21,0),\"\")&\"\"","v":""},{"$f":"IF($Z$110=19,ROUND($Z$21,0),\"\")&\"\"","v":""},{"$f":"IF($AA$110=19,ROUND($AA$21,0),\"\")&\"\"","v":""},1]
[null,null,2,{"$f":"IF($D$111=19,ROUND($D$22,0),\"\")&\"\"","v":""},{"$f":"IF($E$111=19,ROUND($E$22,0),\"\")&\"\"","v":""},{"$f":"IF($F$111=19,ROUND($F$22,0),\"\")&\"\"","v":""},{"$f":"IF($G$111=19,ROUND($G$22,0),\"\")&\"\"","v":""},{"$f":"IF($H$111=19,ROUND($H$22,0),\"\")&\"\"","v":""},{"$f":"IF($I$111=19,ROUND($I$22,0),\"\")&\"\"","v":""},{"$f":"IF($J$111=19,ROUND($J$22,0),\"\")&\"\"","v":""},{"$f":"IF($K$111=19,ROUND($K$22,0),\"\")&\"\"","v":""},{"$f":"IF($L$111=19,ROUND($L$22,0),\"\")&\"\"","v":""},{"$f":"IF($M$111=19,ROUND($M$22,0),\"\")&\"\"","v":""},{"$f":"IF($N$111=19,ROUND($N$22,0),\"\")&\"\"","v":""},{"$f":"IF($O$111=19,ROUND($O$22,0),\"\")&\"\"","v":""},{"$f":"IF($P$111=19,ROUND($P$22,0),\"\")&\"\"","v":""},{"$f":"IF($Q$111=19,ROUND($Q$22,0),\"\")&\"\"","v":""},{"$f":"IF($R$111=19,ROUND($R$22,0),\"\")&\"\"","v":""},{"$f":"IF($S$111=19,ROUND($S$22,0),\"\")&\"\"","v":""},{"$f":"IF($T$111=19,ROUND($T$22,0),\"\")&\"\"","v":""},{"$f":"IF($U$111=19,ROUND($U$22,0),\"\")&\"\"","v":""},{"$f":"IF($V$111=19,ROUND($V$22,0),\"\")&\"\"","v":""},{"$f":"IF($W$111=19,ROUND($W$22,0),\"\")&\"\"","v":""},{"$f":"IF($X$111=19,ROUND($X$22,0),\"\")&\"\"","v":""},{"$f":"IF($Y$111=19,ROUND($Y$22,0),\"\")&\"\"","v":""},{"$f":"IF($Z$111=19,ROUND($Z$22,0),\"\")&\"\"","v":""},{"$f":"IF($AA$111=19,ROUND($AA$22,0),\"\")&\"\"","v":""},2]
[null,null,3,{"$f":"IF($D$112=19,ROUND($D$23,0),\"\")&\"\"","v":""},{"$f":"IF($E$112=19,ROUND($E$23,0),\"\")&\"\"","v":""},{"$f":"IF($F$112=19,ROUND($F$23,0),\"\")&\"\"","v":""},{"$f":"IF($G$112=19,ROUND($G$23,0),\"\")&\"\"","v":""},{"$f":"IF($H$112=19,ROUND($H$23,0),\"\")&\"\"","v":""},{"$f":"IF($I$112=19,ROUND($I$23,0),\"\")&\"\"","v":""},{"$f":"IF($J$112=19,ROUND($J$23,0),\"\")&\"\"","v":""},{"$f":"IF($K$112=19,ROUND($K$23,0),\"\")&\"\"","v":""},{"$f":"IF($L$112=19,ROUND($L$23,0),\"\")&\"\"","v":""},{"$f":"IF($M$112=19,ROUND($M$23,0),\"\")&\"\"","v":""},{"$f":"IF($N$112=19,ROUND($N$23,0),\"\")&\"\"","v":""},{"$f":"IF($O$112=19,ROUND($O$23,0),\"\")&\"\"","v":""},{"$f":"IF($P$112=19,ROUND($P$23,0),\"\")&\"\"","v":""},{"$f":"IF($Q$112=19,ROUND($Q$23,0),\"\")&\"\"","v":""},{"$f":"IF($R$112=19,ROUND($R$23,0),\"\")&\"\"","v":""},{"$f":"IF($S$112=19,ROUND($S$23,0),\"\")&\"\"","v":""},{"$f":"IF($T$112=19,ROUND($T$23,0),\"\")&\"\"","v":""},{"$f":"IF($U$112=19,ROUND($U$23,0),\"\")&\"\"","v":""},{"$f":"IF($V$112=19,ROUND($V$23,0),\"\")&\"\"","v":""},{"$f":"IF($W$112=19,ROUND($W$23,0),\"\")&\"\"","v":""},{"$f":"IF($X$112=19,ROUND($X$23,0),\"\")&\"\"","v":""},{"$f":"IF($Y$112=19,ROUND($Y$23,0),\"\")&\"\"","v":""},{"$f":"IF($Z$112=19,ROUND($Z$23,0),\"\")&\"\"","v":""},{"$f":"IF($AA$112=19,ROUND($AA$23,0),\"\")&\"\"","v":""},3]
[]
[null,null,"冷却期間中　外気湿球温度(Tw)が発生する時間[hour]",null,null,null,null,null,null,null,null,null,null,null,null,null,null,null,null,null,null,null,null,null,null,null,null,null,null,null,null,null,null,null,null,null,null,null,null,null,null,null,null,null,null,null,null,null,null,null,null,{"$f":"$T$29","v":{"$error":"#N/A"}},null,null,null,null,null,null,null,null,null,null,null,null,null,null,null,null,null,null,null,null,null,{"$f":"$T$43","v":{"$error":"#N/A"}}]
[null,null,null,"外気湿球温度(Tw)",null,null,null,null,null,null,null,null,null,null,null,null,null,null,null,null,null,null,null,null,null,null,null,null,null,null,null,null,null,null,null,null,null,null,null,null,null,null,null,null,null,null,null,"共通","共通","前1",null,null,null,null,null,null,"前2",null,null,null,null,null,null,"前3",null,null,null,null,null,null,null,"Rc=",{"$f":"$Q$30/$Q$44","v":{"$error":"#DIV/0!"}},"後1",null,null,null,null,"Rc=",{"$f":"$R$30/$R$44","v":{"$error":"#DIV/0!"}},"後2",null,null,null,null,"Rc=",{"$f":"$S$30/$S$44","v":{"$error":"#DIV/0!"}},"後3"]
[null,null,"月",-11,-10,-9,-8,-7,-6,-5,-4,-3,-2,-1,0,1,2,3,4,5,6,7,8,9,10,11,12,13,14,15,16,17,18,19,20,21,22,23,24,25,26,27,28,29,30,"月",null,"EccのΣ","EaxcのΣ","Ecc","Ecc’","Ecc’’","Eaxc","Eaxc’","Eaxc’’","Ec","Ecc","Ecc’","Ecc’’","Eaxc","Eaxc’","Eaxc’’","Ec","Ecc","Ecc’","Ecc’’","Eaxc","Eaxc’","Eaxc’’","Ec",null,"Ecc","Ecc’","Ecc’’","Eaxc","Eaxc’","Eaxc’’","Ec","Ecc","Ecc’","Ecc’’","Eaxc","Eaxc’","Eaxc’’","Ec","Ecc","Ecc’","Ecc’’","Eaxc","Eaxc’","Eaxc’’","Ec"]
[null,null,4,{"$f":"COUNTIF($D$117:$AA$117,$D$148)*$AB$12","v":0},{"$f":"COUNTIF($D$117:$AA$117,$E$148)*$AB$12","v":0},{"$f":"COUNTIF($D$117:$AA$117,$F$148)*$AB$12","v":0},{"$f":"COUNTIF($D$117:$AA$117,$G$148)*$AB$12","v":0},{"$f":"COUNTIF($D$117:$AA$117,$H$148)*$AB$12","v":0},{"$f":"COUNTIF($D$117:$AA$117,$I$148)*$AB$12","v":0},{"$f":"COUNTIF($D$117:$AA$117,$J$148)*$AB$12","v":0},{"$f":"COUNTIF($D$117:$AA$117,$K$148)*$AB$12","v":0},{"$f":"COUNTIF($D$117:$AA$117,$L$148)*$AB$12","v":0},{"$f":"COUNTIF($D$117:$AA$117,$M$148)*$AB$12","v":0},{"$f":"COUNTIF($D$117:$AA$117,$N$148)*$AB$12","v":0},{"$f":"COUNTIF($D$117:$AA$117,$O$148)*$AB$12","v":0},{"$f":"COUNTIF($D$117:$AA$117,$P$148)*$AB$12","v":0},{"$f":"COUNTIF($D$117:$AA$117,$Q$148)*$AB$12","v":0},{"$f":"COUNTIF($D$117:$AA$117,$R$148)*$AB$12","v":0},{"$f":"COUNTIF($D$117:$AA$117,$S$148)*$AB$12","v":0},{"$f":"COUNTIF($D$117:$AA$117,$T$148)*$AB$12","v":0},{"$f":"COUNTIF($D$117:$AA$117,$U$148)*$AB$12","v":0},{"$f":"COUNTIF($D$117:$AA$117,$V$148)*$AB$12","v":0},{"$f":"COUNTIF($D$117:$AA$117,$W$148)*$AB$12","v":0},{"$f":"COUNTIF($D$117:$AA$117,$X$148)*$AB$12","v":0},{"$f":"COUNTIF($D$117:$AA$117,$Y$148)*$AB$12","v":0},{"$f":"COUNTIF($D$117:$AA$117,$Z$148)*$AB$12","v":0},{"$f":"COUNTIF($D$117:$AA$117,$AA$148)*$AB$12","v":0},{"$f":"COUNTIF($D$117:$AA$117,$AB$148)*$AB$12","v":0},{"$f":"COUNTIF($D$117:$AA$117,$AC$148)*$AB$12","v":0},{"$f":"COUNTIF($D$117:$AA$117,$AD$148)*$AB$12","v":0},{"$f":"COUNTIF($D$117:$AA$117,$AE$148)*$AB$12","v":0},{"$f":"COUNTIF($D$117:$AA$117,$AF$148)*$AB$12","v":0},{"$f":"COUNTIF($D$117:$AA$117,$AG$148)*$AB$12","v":0},{"$f":"COUNTIF($D$117:$AA$117,$AH$148)*$AB$12","v":0},{"$f":"COUNTIF($D$117:$AA$117,$AI$148)*$AB$12","v":0},{"$f":"COUNTIF($D$117:$AA$117,$AJ$148)*$AB$12","v":0},{"$f":"COUNTIF($D$117:$AA$117,$AK$148)*$AB$12","v":0},{"$f":"COUNTIF($D$117:$AA$117,$AL$148)*$AB$12","v":0},{"$f":"COUNTIF($D$117:$AA$117,$AM$148)*$AB$12","v":0},{"$f":"COUNTIF($D$117:$AA$117,$AN$148)*$AB$12","v":0},{"$f":"COUNTIF($D$117:$AA$117,$AO$148)*$AB$12","v":0},{"$f":"COUNTIF($D$117:$AA$117,$AP$148)*$AB$12","v":0},{"$f":"COUNTIF($D$117:$AA$117,$AQ$148)*$AB$12","v":0},{"$f":"COUNTIF($D$117:$AA$117,$AR$148)*$AB$12","v":0},{"$f":"COUNTIF($D$117:$AA$117,$AS$148)*$AB$12","v":0},4,null,{"$f":"SUMPRODUCT($D149:$AS149,$D$162:$AS$162)","v":0},{"$f":"SUMPRODUCT($D149:$AS149,$D$168:$AS$168)","v":0},{"$f":"IFERROR($Q$30/$Q$32*$AV149*$Q$40,\"\")","v":""},{"$f":"IFERROR($AX149*3.6/1000,\"\")","v":""},{"$f":"IFERROR($AY149/$AZ$146,\"\")","v":""},{"$f":"IFERROR(($Q$36+$Q$37+$Q$38)*$AW149,\"\")","v":0},{"$f":"IFERROR($BA149*2.4*3.6/1000,\"\")","v":0},{"$f":"IFERROR($BA149/1000,\"\")","v":0},{"$f":"IFERROR($AY149+$BB149,\"\")","v":""},{"$f":"IFERROR($R$30/$R$32*$AV149*$R$40,\"\")","v":""},{"$f":"IFERROR($BE149*3.6/1000,\"\")","v":""},{"$f":"IFERROR($BF149/$AZ$146,\"\")","v":""},{"$f":"IFERROR(($R$36+$R$37+$R$38)*$AW149,\"\")","v":0},{"$f":"IFERROR($BH149*2.4*3.6/1000,\"\")","v":0},{"$f":"IFERROR($BH149/1000,\"\")","v":0},{"$f":"IFERROR($BF149+$BI149,\"\")","v":""},{"$f":"IFERROR($S$30/$S$32*$AV149*$S$40,\"\")","v":""},{"$f":"IFERROR($BL149*3.6/1000,\"\")","v":""},{"$f":"IFERROR($BM149/$AZ$146,\"\")","v":""},{"$f":"IFERROR(($S$36+$S$37+$S$38)*$AW149,\"\")","v":0},{"$f":"IFERROR($BO149*2.4*3.6/1000,\"\")","v":0},{"$f":"IFERROR($BO149/1000,\"\")","v":0},{"$f":"IFERROR($BM149+$BP149,\"\")","v":""},null,{"$f":"IFERROR($Q$44/$Q$46*$AV149*$Q$54*$BU$147,\"\")","v":""},{"$f":"IFERROR($BT149*3.6/1000,\"\")","v":""},{"$f":"IFERROR($BU149/$BV$146,\"\")","v":""},{"$f":"IFERROR(($Q$50+$Q$51+$Q$52)*$AW149,\"\")","v":0},{"$f":"IFERROR($BW149*2.4*3.6/1000,\"\")","v":0},{"$f":"IFERROR($BW149/1000,\"\")","v":0},{"$f":"IFERROR($BU149+$BX149,\"\")","v":""},{"$f":"IFERROR($R$44/$R$46*$AV149*$R$54*$CB$147,\"\")","v":""},{"$f":"IFERROR($CA149*3.6/1000,\"\")","v":""},{"$f":"IFERROR($CB149/$BV$146,\"\")","v":""},{"$f":"IFERROR(($R$50+$R$51+$R$52)*$AW149,\"\")","v":0},{"$f":"IFERROR($CD149*2.4*3.6/1000,\"\")","v":0},{"$f":"IFERROR($CD149/1000,\"\")","v":0},{"$f":"IFERROR($CB149+$CE149,\"\")","v":""},{"$f":"IFERROR($S$44/$S$46*$AV149*$S$54*$CI$147,\"\")","v":""},{"$f":"IFERROR($CH149*3.6/1000,\"\")","v":""},{"$f":"IFERROR($CI149/$BV$146,\"\")","v":""},{"$f":"IFERROR(($S$50+$S$51+$S$52)*$AW149,\"\")","v":0},{"$f":"IFERROR($CK149*2.4*3.6/1000,\"\")","v":0},{"$f":"IFERROR($CK149/1000,\"\")","v":0},{"$f":"IFERROR($CI149+$CL149,\"\")","v":""}]
[null,null,5,{"$f":"COUNTIF($D$118:$AA$118,$D$148)*$AB$13","v":0},{"$f":"COUNTIF($D$118:$AA$118,$E$148)*$AB$13","v":0},{"$f":"COUNTIF($D$118:$AA$118,$F$148)*$AB$13","v":0},{"$f":"COUNTIF($D$118:$AA$118,$G$148)*$AB$13","v":0},{"$f":"COUNTIF($D$118:$AA$118,$H$148)*$AB$13","v":0},{"$f":"COUNTIF($D$118:$AA$118,$I$148)*$AB$13","v":0},{"$f":"COUNTIF($D$118:$AA$118,$J$148)*$AB$13","v":0},{"$f":"COUNTIF($D$118:$AA$118,$K$148)*$AB$13","v":0},{"$f":"COUNTIF($D$118:$AA$118,$L$148)*$AB$13","v":0},{"$f":"COUNTIF($D$118:$AA$118,$M$148)*$AB$13","v":0},{"$f":"COUNTIF($D$118:$AA$118,$N$148)*$AB$13","v":0},{"$f":"COUNTIF($D$118:$AA$118,$O$148)*$AB$13","v":0},{"$f":"COUNTIF($D$118:$AA$118,$P$148)*$AB$13","v":0},{"$f":"COUNTIF($D$118:$AA$118,$Q$148)*$AB$13","v":0},{"$f":"COUNTIF($D$118:$AA$118,$R$148)*$AB$13","v":0},{"$f":"COUNTIF($D$118:$AA$118,$S$148)*$AB$13","v":0},{"$f":"COUNTIF($D$118:$AA$118,$T$148)*$AB$13","v":0},{"$f":"COUNTIF($D$118:$AA$118,$U$148)*$AB$13","v":0},{"$f":"COUNTIF($D$118:$AA$118,$V$148)*$AB$13","v":0},{"$f":"COUNTIF($D$118:$AA$118,$W$148)*$AB$13","v":0},{"$f":"COUNTIF($D$118:$AA$118,$X$148)*$AB$13","v":0},{"$f":"COUNTIF($D$118:$AA$118,$Y$148)*$AB$13","v":0},{"$f":"COUNTIF($D$118:$AA$118,$Z$148)*$AB$13","v":0},{"$f":"COUNTIF($D$118:$AA$118,$AA$148)*$AB$13","v":0},{"$f":"COUNTIF($D$118:$AA$118,$AB$148)*$AB$13","v":0},{"$f":"COUNTIF($D$118:$AA$118,$AC$148)*$AB$13","v":0},{"$f":"COUNTIF($D$118:$AA$118,$AD$148)*$AB$13","v":0},{"$f":"COUNTIF($D$118:$AA$118,$AE$148)*$AB$13","v":0},{"$f":"COUNTIF($D$118:$AA$118,$AF$148)*$AB$13","v":0},{"$f":"COUNTIF($D$118:$AA$118,$AG$148)*$AB$13","v":0},{"$f":"COUNTIF($D$118:$AA$118,$AH$148)*$AB$13","v":0},{"$f":"COUNTIF($D$118:$AA$118,$AI$148)*$AB$13","v":0},{"$f":"COUNTIF($D$118:$AA$118,$AJ$148)*$AB$13","v":0},{"$f":"COUNTIF($D$118:$AA$118,$AK$148)*$AB$13","v":0},{"$f":"COUNTIF($D$118:$AA$118,$AL$148)*$AB$13","v":0},{"$f":"COUNTIF($D$118:$AA$118,$AM$148)*$AB$13","v":0},{"$f":"COUNTIF($D$118:$AA$118,$AN$148)*$AB$13","v":0},{"$f":"COUNTIF($D$118:$AA$118,$AO$148)*$AB$13","v":0},{"$f":"COUNTIF($D$118:$AA$118,$AP$148)*$AB$13","v":0},{"$f":"COUNTIF($D$118:$AA$118,$AQ$148)*$AB$13","v":0},{"$f":"COUNTIF($D$118:$AA$118,$AR$148)*$AB$13","v":0},{"$f":"COUNTIF($D$118:$AA$118,$AS$148)*$AH$13","v":0},5,null,{"$f":"SUMPRODUCT($D150:$AS150,$D$162:$AS$162)","v":0},{"$f":"SUMPRODUCT($D150:$AS150,$D$168:$AS$168)","v":0},{"$f":"IFERROR($Q$30/$Q$32*$AV150*$Q$40,\"\")","v":""},{"$f":"IFERROR($AX150*3.6/1000,\"\")","v":""},{"$f":"IFERROR($AY150/$AZ$146,\"\")","v":""},{"$f":"IFERROR(($Q$36+$Q$37+$Q$38)*$AW150,\"\")","v":0},{"$f":"IFERROR($BA150*2.4*3.6/1000,\"\")","v":0},{"$f":"IFERROR($BA150/1000,\"\")","v":0},{"$f":"IFERROR($AY150+$BB150,\"\")","v":""},{"$f":"IFERROR($R$30/$R$32*$AV150*$R$40,\"\")","v":""},{"$f":"IFERROR($BE150*3.6/1000,\"\")","v":""},{"$f":"IFERROR($BF150/$AZ$146,\"\")","v":""},{"$f":"IFERROR(($R$36+$R$37+$R$38)*$AW150,\"\")","v":0},{"$f":"IFERROR($BH150*2.4*3.6/1000,\"\")","v":0},{"$f":"IFERROR($BH150/1000,\"\")","v":0},{"$f":"IFERROR($BF150+$BI150,\"\")","v":""},{"$f":"IFERROR($S$30/$S$32*$AV150*$S$40,\"\")","v":""},{"$f":"IFERROR($BL150*3.6/1000,\"\")","v":""},{"$f":"IFERROR($BM150/$AZ$146,\"\")","v":""},{"$f":"IFERROR(($S$36+$S$37+$S$38)*$AW150,\"\")","v":0},{"$f":"IFERROR($BO150*2.4*3.6/1000,\"\")","v":0},{"$f":"IFERROR($BO150/1000,\"\")","v":0},{"$f":"IFERROR($BM150+$BP150,\"\")","v":""},null,{"$f":"IFERROR($Q$44/$Q$46*$AV150*$Q$54*$BU$147,\"\")","v":""},{"$f":"IFERROR($BT150*3.6/1000,\"\")","v":""},{"$f":"IFERROR($BU150/$BV$146,\"\")","v":""},{"$f":"IFERROR(($Q$50+$Q$51+$Q$52)*$AW150,\"\")","v":0},{"$f":"IFERROR($BW150*2.4*3.6/1000,\"\")","v":0},{"$f":"IFERROR($BW150/1000,\"\")","v":0},{"$f":"IFERROR($BU150+$BX150,\"\")","v":""},{"$f":"IFERROR($R$44/$R$46*$AV150*$R$54*$CB$147,\"\")","v":""},{"$f":"IFERROR($CA150*3.6/1000,\"\")","v":""},{"$f":"IFERROR($CB150/$BV$146,\"\")","v":""},{"$f":"IFERROR(($R$50+$R$51+$R$52)*$AW150,\"\")","v":0},{"$f":"IFERROR($CD150*2.4*3.6/1000,\"\")","v":0},{"$f":"IFERROR($CD150/1000,\"\")","v":0},{"$f":"IFERROR($CB150+$CE150,\"\")","v":""},{"$f":"IFERROR($S$44/$S$46*$AV150*$S$54*$CI$147,\"\")","v":""},{"$f":"IFERROR($CH150*3.6/1000,\"\")","v":""},{"$f":"IFERROR($CI150/$BV$146,\"\")","v":""},{"$f":"IFERROR(($S$50+$S$51+$S$52)*$AW150,\"\")","v":0},{"$f":"IFERROR($CK150*2.4*3.6/1000,\"\")","v":0},{"$f":"IFERROR($CK150/1000,\"\")","v":0},{"$f":"IFERROR($CI150+$CL150,\"\")","v":""}]
[null,null,6,{"$f":"COUNTIF($D$119:$AA$119,$D$148)*$AB$14","v":0},{"$f":"COUNTIF($D$119:$AA$119,$E$148)*$AB$14","v":0},{"$f":"COUNTIF($D$119:$AA$119,$F$148)*$AB$14","v":0},{"$f":"COUNTIF($D$119:$AA$119,$G$148)*$AB$14","v":0},{"$f":"COUNTIF($D$119:$AA$119,$H$148)*$AB$14","v":0},{"$f":"COUNTIF($D$119:$AA$119,$I$148)*$AB$14","v":0},{"$f":"COUNTIF($D$119:$AA$119,$J$148)*$AB$14","v":0},{"$f":"COUNTIF($D$119:$AA$119,$K$148)*$AB$14","v":0},{"$f":"COUNTIF($D$119:$AA$119,$L$148)*$AB$14","v":0},{"$f":"COUNTIF($D$119:$AA$119,$M$148)*$AB$14","v":0},{"$f":"COUNTIF($D$119:$AA$119,$N$148)*$AB$14","v":0},{"$f":"COUNTIF($D$119:$AA$119,$O$148)*$AB$14","v":0},{"$f":"COUNTIF($D$119:$AA$119,$P$148)*$AB$14","v":0},{"$f":"COUNTIF($D$119:$AA$119,$Q$148)*$AB$14","v":0},{"$f":"COUNTIF($D$119:$AA$119,$R$148)*$AB$14","v":0},{"$f":"COUNTIF($D$119:$AA$119,$S$148)*$AB$14","v":0},{"$f":"COUNTIF($D$119:$AA$119,$T$148)*$AB$14","v":0},{"$f":"COUNTIF($D$119:$AA$119,$U$148)*$AB$14","v":0},{"$f":"COUNTIF($D$119:$AA$119,$V$148)*$AB$14","v":0},{"$f":"COUNTIF($D$119:$AA$119,$W$148)*$AB$14","v":0},{"$f":"COUNTIF($D$119:$AA$119,$X$148)*$AB$14","v":0},{"$f":"COUNTIF($D$119:$AA$119,$Y$148)*$AB$14","v":0},{"$f":"COUNTIF($D$119:$AA$119,$Z$148)*$AB$14","v":0},{"$f":"COUNTIF($D$119:$AA$119,$AA$148)*$AB$14","v":0},{"$f":"COUNTIF($D$119:$AA$119,$AB$148)*$AB$14","v":0},{"$f":"COUNTIF($D$119:$AA$119,$AC$148)*$AB$14","v":0},{"$f":"COUNTIF($D$119:$AA$119,$AD$148)*$AB$14","v":0},{"$f":"COUNTIF($D$119:$AA$119,$AE$148)*$AB$14","v":0},{"$f":"COUNTIF($D$119:$AA$119,$AF$148)*$AB$14","v":0},{"$f":"COUNTIF($D$119:$AA$119,$AG$148)*$AB$14","v":0},{"$f":"COUNTIF($D$119:$AA$119,$AH$148)*$AB$14","v":0},{"$f":"COUNTIF($D$119:$AA$119,$AI$148)*$AB$14","v":0},{"$f":"COUNTIF($D$119:$AA$119,$AJ$148)*$AB$14","v":0},{"$f":"COUNTIF($D$119:$AA$119,$AK$148)*$AB$14","v":0},{"$f":"COUNTIF($D$119:$AA$119,$AL$148)*$AB$14","v":0},{"$f":"COUNTIF($D$119:$AA$119,$AM$148)*$AB$14","v":0},{"$f":"COUNTIF($D$119:$AA$119,$AN$148)*$AB$14","v":0},{"$f":"COUNTIF($D$119:$AA$119,$AO$148)*$AB$14","v":0},{"$f":"COUNTIF($D$119:$AA$119,$AP$148)*$AB$14","v":0},{"$f":"COUNTIF($D$119:$AA$119,$AQ$148)*$AB$14","v":0},{"$f":"COUNTIF($D$119:$AA$119,$AR$148)*$AB$14","v":0},{"$f":"COUNTIF($D$119:$AA$119,$AS$148)*$AB$14","v":0},6,null,0,0,{"$f":"IFERROR($Q$30/$Q$32*$AV151*$Q$40,\"\")","v":""},"","",0,0,0,"","","","",0,0,0,"","","","",0,0,0,"",null,{"$f":"IFERROR($Q$44/$Q$46*$AV151*$Q$54*$BU$147,\"\")","v":""},"","",0,0,0,"","","","",0,0,0,"",{"$f":"IFERROR($S$44/$S$46*$AV151*$S$54*$CI$147,\"\")","v":""},"","",0,0,0,""]
[null,null,7,{"$f":"COUNTIF($D$120:$AA$120,$D$148)*$AB$15","v":0},{"$f":"COUNTIF($D$120:$AA$120,$E$148)*$AB$15","v":0},{"$f":"COUNTIF($D$120:$AA$120,$F$148)*$AB$15","v":0},{"$f":"COUNTIF($D$120:$AA$120,$G$148)*$AB$15","v":0},{"$f":"COUNTIF($D$120:$AA$120,$H$148)*$AB$15","v":0},{"$f":"COUNTIF($D$120:$AA$120,$I$148)*$AB$15","v":0},{"$f":"COUNTIF($D$120:$AA$120,$J$148)*$AB$15","v":0},{"$f":"COUNTIF($D$120:$AA$120,$K$148)*$AB$15","v":0},{"$f":"COUNTIF($D$120:$AA$120,$L$148)*$AB$15","v":0},{"$f":"COUNTIF($D$120:$AA$120,$M$148)*$AB$15","v":0},{"$f":"COUNTIF($D$120:$AA$120,$N$148)*$AB$15","v":0},{"$f":"COUNTIF($D$120:$AA$120,$O$148)*$AB$15","v":0},{"$f":"COUNTIF($D$120:$AA$120,$P$148)*$AB$15","v":0},{"$f":"COUNTIF($D$120:$AA$120,$Q$148)*$AB$15","v":0},{"$f":"COUNTIF($D$120:$AA$120,$R$148)*$AB$15","v":0},{"$f":"COUNTIF($D$120:$AA$120,$S$148)*$AB$15","v":0},{"$f":"COUNTIF($D$120:$AA$120,$T$148)*$AB$15","v":0},{"$f":"COUNTIF($D$120:$AA$120,$U$148)*$AB$15","v":0},{"$f":"COUNTIF($D$120:$AA$120,$V$148)*$AB$15","v":0},{"$f":"COUNTIF($D$120:$AA$120,$W$148)*$AB$15","v":0},{"$f":"COUNTIF($D$120:$AA$120,$X$148)*$AB$15","v":0},{"$f":"COUNTIF($D$120:$AA$120,$Y$148)*$AB$15","v":0},{"$f":"COUNTIF($D$120:$AA$120,$Z$148)*$AB$15","v":0},{"$f":"COUNTIF($D$120:$AA$120,$AA$148)*$AB$15","v":0},{"$f":"COUNTIF($D$120:$AA$120,$AB$148)*$AB$15","v":0},{"$f":"COUNTIF($D$120:$AA$120,$AC$148)*$AB$15","v":0},{"$f":"COUNTIF($D$120:$AA$120,$AD$148)*$AB$15","v":0},{"$f":"COUNTIF($D$120:$AA$120,$AE$148)*$AB$15","v":0},{"$f":"COUNTIF($D$120:$AA$120,$AF$148)*$AB$15","v":0},{"$f":"COUNTIF($D$120:$AA$120,$AG$148)*$AB$15","v":0},{"$f":"COUNTIF($D$120:$AA$120,$AH$148)*$AB$15","v":0},{"$f":"COUNTIF($D$120:$AA$120,$AI$148)*$AB$15","v":0},{"$f":"COUNTIF($D$120:$AA$120,$AJ$148)*$AB$15","v":0},{"$f":"COUNTIF($D$120:$AA$120,$AK$148)*$AB$15","v":0},{"$f":"COUNTIF($D$120:$AA$120,$AL$148)*$AB$15","v":0},{"$f":"COUNTIF($D$120:$AA$120,$AM$148)*$AB$15","v":0},{"$f":"COUNTIF($D$120:$AA$120,$AN$148)*$AB$15","v":0},{"$f":"COUNTIF($D$120:$AA$120,$AO$148)*$AB$15","v":0},{"$f":"COUNTIF($D$120:$AA$120,$AP$148)*$AB$15","v":0},{"$f":"COUNTIF($D$120:$AA$120,$AQ$148)*$AB$15","v":0},{"$f":"COUNTIF($D$120:$AA$120,$AR$148)*$AB$15","v":0},{"$f":"COUNTIF($D$120:$AA$120,$AS$148)*$AB$15","v":0},7,null,0,0,"","","",0,0,0,"","","","",0,0,0,"","","","",0,0,0,"",null,{"$f":"IFERROR($Q$44/$Q$46*$AV152*$Q$54*$BU$147,\"\")","v":""},"","",0,0,0,"","","","",0,0,0,"","","","",0,0,0,""]
[null,null,8,{"$f":"COUNTIF($D$121:$AA$121,$D$148)*$AB$16","v":0},{"$f":"COUNTIF($D$121:$AA$121,$E$148)*$AB$16","v":0},{"$f":"COUNTIF($D$121:$AA$121,$F$148)*$AB$16","v":0},{"$f":"COUNTIF($D$121:$AA$121,$G$148)*$AB$16","v":0},{"$f":"COUNTIF($D$121:$AA$121,$H$148)*$AB$16","v":0},{"$f":"COUNTIF($D$121:$AA$121,$I$148)*$AB$16","v":0},{"$f":"COUNTIF($D$121:$AA$121,$J$148)*$AB$16","v":0},{"$f":"COUNTIF($D$121:$AA$121,$K$148)*$AB$16","v":0},{"$f":"COUNTIF($D$121:$AA$121,$L$148)*$AB$16","v":0},{"$f":"COUNTIF($D$121:$AA$121,$M$148)*$AB$16","v":0},{"$f":"COUNTIF($D$121:$AA$121,$N$148)*$AB$16","v":0},{"$f":"COUNTIF($D$121:$AA$121,$O$148)*$AB$16","v":0},{"$f":"COUNTIF($D$121:$AA$121,$P$148)*$AB$16","v":0},{"$f":"COUNTIF($D$121:$AA$121,$Q$148)*$AB$16","v":0},{"$f":"COUNTIF($D$121:$AA$121,$R$148)*$AB$16","v":0},{"$f":"COUNTIF($D$121:$AA$121,$S$148)*$AB$16","v":0},{"$f":"COUNTIF($D$121:$AA$121,$T$148)*$AB$16","v":0},{"$f":"COUNTIF($D$121:$AA$121,$U$148)*$AB$16","v":0},{"$f":"COUNTIF($D$121:$AA$121,$V$148)*$AB$16","v":0},{"$f":"COUNTIF($D$121:$AA$121,$W$148)*$AB$16","v":0},{"$f":"COUNTIF($D$121:$AA$121,$X$148)*$AB$16","v":0},{"$f":"COUNTIF($D$121:$AA$121,$Y$148)*$AB$16","v":0},{"$f":"COUNTIF($D$121:$AA$121,$Z$148)*$AB$16","v":0},{"$f":"COUNTIF($D$121:$AA$121,$AA$148)*$AB$16","v":0},{"$f":"COUNTIF($D$121:$AA$121,$AB$148)*$AB$16","v":0},{"$f":"COUNTIF($D$121:$AA$121,$AC$148)*$AB$16","v":0},{"$f":"COUNTIF($D$121:$AA$121,$AD$148)*$AB$16","v":0},{"$f":"COUNTIF($D$121:$AA$121,$AE$148)*$AB$16","v":0},{"$f":"COUNTIF($D$121:$AA$121,$AF$148)*$AB$16","v":0},{"$f":"COUNTIF($D$121:$AA$121,$AG$148)*$AB$16","v":0},{"$f":"COUNTIF($D$121:$AA$121,$AH$148)*$AB$16","v":0},{"$f":"COUNTIF($D$121:$AA$121,$AI$148)*$AB$16","v":0},{"$f":"COUNTIF($D$121:$AA$121,$AJ$148)*$AB$16","v":0},{"$f":"COUNTIF($D$121:$AA$121,$AK$148)*$AB$16","v":0},{"$f":"COUNTIF($D$121:$AA$121,$AL$148)*$AB$16","v":0},{"$f":"COUNTIF($D$121:$AA$121,$AM$148)*$AB$16","v":0},{"$f":"COUNTIF($D$121:$AA$121,$AN$148)*$AB$16","v":0},{"$f":"COUNTIF($D$121:$AA$121,$AO$148)*$AB$16","v":0},{"$f":"COUNTIF($D$121:$AA$121,$AP$148)*$AB$16","v":0},{"$f":"COUNTIF($D$121:$AA$121,$AQ$148)*$AB$16","v":0},{"$f":"COUNTIF($D$121:$AA$121,$AR$148)*$AB$16","v":0},{"$f":"COUNTIF($D$121:$AA$121,$AS$148)*$AB$16","v":0},8,null,0,0,"","","",0,0,0,"","","","",0,0,0,"","","","",0,0,0,"",null,{"$f":"IFERROR($Q$44/$Q$46*$AV153*$Q$54*$BU$147,\"\")","v":""},"","",0,0,0,"","","","",0,0,0,"","","","",0,0,0,""]
[null,null,9,{"$f":"COUNTIF($D$122:$AA$122,$D$148)*$AB$17","v":0},{"$f":"COUNTIF($D$122:$AA$122,$E$148)*$AB$17","v":0},{"$f":"COUNTIF($D$122:$AA$122,$F$148)*$AB$17","v":0},{"$f":"COUNTIF($D$122:$AA$122,$G$148)*$AB$17","v":0},{"$f":"COUNTIF($D$122:$AA$122,$H$148)*$AB$17","v":0},{"$f":"COUNTIF($D$122:$AA$122,$I$148)*$AB$17","v":0},{"$f":"COUNTIF($D$122:$AA$122,$J$148)*$AB$17","v":0},{"$f":"COUNTIF($D$122:$AA$122,$K$148)*$AB$17","v":0},{"$f":"COUNTIF($D$122:$AA$122,$L$148)*$AB$17","v":0},{"$f":"COUNTIF($D$122:$AA$122,$M$148)*$AB$17","v":0},{"$f":"COUNTIF($D$122:$AA$122,$N$148)*$AB$17","v":0},{"$f":"COUNTIF($D$122:$AA$122,$O$148)*$AB$17","v":0},{"$f":"COUNTIF($D$122:$AA$122,$P$148)*$AB$17","v":0},{"$f":"COUNTIF($D$122:$AA$122,$Q$148)*$AB$17","v":0},{"$f":"COUNTIF($D$122:$AA$122,$R$148)*$AB$17","v":0},{"$f":"COUNTIF($D$122:$AA$122,$S$148)*$AB$17","v":0},{"$f":"COUNTIF($D$122:$AA$122,$T$148)*$AB$17","v":0},{"$f":"COUNTIF($D$122:$AA$122,$U$148)*$AB$17","v":0},{"$f":"COUNTIF($D$122:$AA$122,$V$148)*$AB$17","v":0},{"$f":"COUNTIF($D$122:$AA$122,$W$148)*$AB$17","v":0},{"$f":"COUNTIF($D$122:$AA$122,$X$148)*$AB$17","v":0},{"$f":"COUNTIF($D$122:$AA$122,$Y$148)*$AB$17","v":0},{"$f":"COUNTIF($D$122:$AA$122,$Z$148)*$AB$17","v":0},{"$f":"COUNTIF($D$122:$AA$122,$AA$148)*$AB$17","v":0},{"$f":"COUNTIF($D$122:$AA$122,$AB$148)*$AB$17","v":0},{"$f":"COUNTIF($D$122:$AA$122,$AC$148)*$AB$17","v":0},{"$f":"COUNTIF($D$122:$AA$122,$AD$148)*$AB$17","v":0},{"$f":"COUNTIF($D$122:$AA$122,$AE$148)*$AB$17","v":0},{"$f":"COUNTIF($D$122:$AA$122,$AF$148)*$AB$17","v":0},{"$f":"COUNTIF($D$122:$AA$122,$AG$148)*$AB$17","v":0},{"$f":"COUNTIF($D$122:$AA$122,$AH$148)*$AB$17","v":0},{"$f":"COUNTIF($D$122:$AA$122,$AI$148)*$AB$17","v":0},{"$f":"COUNTIF($D$122:$AA$122,$AJ$148)*$AB$17","v":0},{"$f":"COUNTIF($D$122:$AA$122,$AK$148)*$AB$17","v":0},{"$f":"COUNTIF($D$122:$AA$122,$AL$148)*$AB$17","v":0},{"$f":"COUNTIF($D$122:$AA$122,$AM$148)*$AB$17","v":0},{"$f":"COUNTIF($D$122:$AA$122,$AN$148)*$AB$17","v":0},{"$f":"COUNTIF($D$122:$AA$122,$AO$148)*$AB$17","v":0},{"$f":"COUNTIF($D$122:$AA$122,$AP$148)*$AB$17","v":0},{"$f":"COUNTIF($D$122:$AA$122,$AQ$148)*$AB$17","v":0},{"$f":"COUNTIF($D$122:$AA$122,$AR$148)*$AB$17","v":0},{"$f":"COUNTIF($D$122:$AA$122,$AS$148)*$AB$17","v":0},9,null,0,0,"","","",0,0,0,"","","","",0,0,0,"","","","",0,0,0,"",null,"","","",0,0,0,"","","","",0,0,0,"","","","",0,0,0,""]
[null,null,10,{"$f":"COUNTIF($D$123:$AA$123,$D$148)*$AB$18","v":0},{"$f":"COUNTIF($D$123:$AA$123,$E$148)*$AB$18","v":0},{"$f":"COUNTIF($D$123:$AA$123,$F$148)*$AB$18","v":0},{"$f":"COUNTIF($D$123:$AA$123,$G$148)*$AB$18","v":0},{"$f":"COUNTIF($D$123:$AA$123,$H$148)*$AB$18","v":0},{"$f":"COUNTIF($D$123:$AA$123,$I$148)*$AB$18","v":0},{"$f":"COUNTIF($D$123:$AA$123,$J$148)*$AB$18","v":0},{"$f":"COUNTIF($D$123:$AA$123,$K$148)*$AB$18","v":0},{"$f":"COUNTIF($D$123:$AA$123,$L$148)*$AB$18","v":0},{"$f":"COUNTIF($D$123:$AA$123,$M$148)*$AB$18","v":0},{"$f":"COUNTIF($D$123:$AA$123,$N$148)*$AB$18","v":0},{"$f":"COUNTIF($D$123:$AA$123,$O$148)*$AB$18","v":0},{"$f":"COUNTIF($D$123:$AA$123,$P$148)*$AB$18","v":0},{"$f":"COUNTIF($D$123:$AA$123,$Q$148)*$AB$18","v":0},{"$f":"COUNTIF($D$123:$AA$123,$R$148)*$AB$18","v":0},{"$f":"COUNTIF($D$123:$AA$123,$S$148)*$AB$18","v":0},{"$f":"COUNTIF($D$123:$AA$123,$T$148)*$AB$18","v":0},{"$f":"COUNTIF($D$123:$AA$123,$U$148)*$AB$18","v":0},{"$f":"COUNTIF($D$123:$AA$123,$V$148)*$AB$18","v":0},{"$f":"COUNTIF($D$123:$AA$123,$W$148)*$AB$18","v":0},{"$f":"COUNTIF($D$123:$AA$123,$X$148)*$AB$18","v":0},{"$f":"COUNTIF($D$123:$AA$123,$Y$148)*$AB$18","v":0},{"$f":"COUNTIF($D$123:$AA$123,$Z$148)*$AB$18","v":0},{"$f":"COUNTIF($D$123:$AA$123,$AA$148)*$AB$18","v":0},{"$f":"COUNTIF($D$123:$AA$123,$AB$148)*$AB$18","v":0},{"$f":"COUNTIF($D$123:$AA$123,$AC$148)*$AB$18","v":0},{"$f":"COUNTIF($D$123:$AA$123,$AD$148)*$AB$18","v":0},{"$f":"COUNTIF($D$123:$AA$123,$AE$148)*$AB$18","v":0},{"$f":"COUNTIF($D$123:$AA$123,$AF$148)*$AB$18","v":0},{"$f":"COUNTIF($D$123:$AA$123,$AG$148)*$AB$18","v":0},{"$f":"COUNTIF($D$123:$AA$123,$AH$148)*$AB$18","v":0},{"$f":"COUNTIF($D$123:$AA$123,$AI$148)*$AB$18","v":0},{"$f":"COUNTIF($D$123:$AA$123,$AJ$148)*$AB$18","v":0},{"$f":"COUNTIF($D$123:$AA$123,$AK$148)*$AB$18","v":0},{"$f":"COUNTIF($D$123:$AA$123,$AL$148)*$AB$18","v":0},{"$f":"COUNTIF($D$123:$AA$123,$AM$148)*$AB$18","v":0},{"$f":"COUNTIF($D$123:$AA$123,$AN$148)*$AB$18","v":0},{"$f":"COUNTIF($D$123:$AA$123,$AO$148)*$AB$18","v":0},{"$f":"COUNTIF($D$123:$AA$123,$AP$148)*$AB$18","v":0},{"$f":"COUNTIF($D$123:$AA$123,$AQ$148)*$AB$18","v":0},{"$f":"COUNTIF($D$123:$AA$123,$AR$148)*$AB$18","v":0},{"$f":"COUNTIF($D$123:$AA$123,$AS$148)*$AB$18","v":0},10,null,0,0,"","","",0,0,0,"","","","",0,0,0,"","","","",0,0,0,"",null,"","","",0,0,0,"","","","",0,0,0,"","","","",0,0,0,""]
[null,null,11,{"$f":"COUNTIF($D$124:$AA$124,$D$148)*$AB$19","v":0},{"$f":"COUNTIF($D$124:$AA$124,$E$148)*$AB$19","v":0},{"$f":"COUNTIF($D$124:$AA$124,$F$148)*$AB$19","v":0},{"$f":"COUNTIF($D$124:$AA$124,$G$148)*$AB$19","v":0},{"$f":"COUNTIF($D$124:$AA$124,$H$148)*$AB$19","v":0},{"$f":"COUNTIF($D$124:$AA$124,$I$148)*$AB$19","v":0},{"$f":"COUNTIF($D$124:$AA$124,$J$148)*$AB$19","v":0},{"$f":"COUNTIF($D$124:$AA$124,$K$148)*$AB$19","v":0},{"$f":"COUNTIF($D$124:$AA$124,$L$148)*$AB$19","v":0},{"$f":"COUNTIF($D$124:$AA$124,$M$148)*$AB$19","v":0},{"$f":"COUNTIF($D$124:$AA$124,$N$148)*$AB$19","v":0},{"$f":"COUNTIF($D$124:$AA$124,$O$148)*$AB$19","v":0},{"$f":"COUNTIF($D$124:$AA$124,$P$148)*$AB$19","v":0},{"$f":"COUNTIF($D$124:$AA$124,$Q$148)*$AB$19","v":0},{"$f":"COUNTIF($D$124:$AA$124,$R$148)*$AB$19","v":0},{"$f":"COUNTIF($D$124:$AA$124,$S$148)*$AB$19","v":0},{"$f":"COUNTIF($D$124:$AA$124,$T$148)*$AB$19","v":0},{"$f":"COUNTIF($D$124:$AA$124,$U$148)*$AB$19","v":0},{"$f":"COUNTIF($D$124:$AA$124,$V$148)*$AB$19","v":0},{"$f":"COUNTIF($D$124:$AA$124,$W$148)*$AB$19","v":0},{"$f":"COUNTIF($D$124:$AA$124,$X$148)*$AB$19","v":0},{"$f":"COUNTIF($D$124:$AA$124,$Y$148)*$AB$19","v":0},{"$f":"COUNTIF($D$124:$AA$124,$Z$148)*$AB$19","v":0},{"$f":"COUNTIF($D$124:$AA$124,$AA$148)*$AB$19","v":0},{"$f":"COUNTIF($D$124:$AA$124,$AB$148)*$AB$19","v":0},{"$f":"COUNTIF($D$124:$AA$124,$AC$148)*$AB$19","v":0},{"$f":"COUNTIF($D$124:$AA$124,$AD$148)*$AB$19","v":0},{"$f":"COUNTIF($D$124:$AA$124,$AE$148)*$AB$19","v":0},{"$f":"COUNTIF($D$124:$AA$124,$AF$148)*$AB$19","v":0},{"$f":"COUNTIF($D$124:$AA$124,$AG$148)*$AB$19","v":0},{"$f":"COUNTIF($D$124:$AA$124,$AH$148)*$AB$19","v":0},{"$f":"COUNTIF($D$124:$AA$124,$AI$148)*$AB$19","v":0},{"$f":"COUNTIF($D$124:$AA$124,$AJ$148)*$AB$19","v":0},{"$f":"COUNTIF($D$124:$AA$124,$AK$148)*$AB$19","v":0},{"$f":"COUNTIF($D$124:$AA$124,$AL$148)*$AB$19","v":0},{"$f":"COUNTIF($D$124:$AA$124,$AM$148)*$AB$19","v":0},{"$f":"COUNTIF($D$124:$AA$124,$AN$148)*$AB$19","v":0},{"$f":"COUNTIF($D$124:$AA$124,$AO$148)*$AB$19","v":0},{"$f":"COUNTIF($D$124:$AA$124,$AP$148)*$AB$19","v":0},{"$f":"COUNTIF($D$124:$AA$124,$AQ$148)*$AB$19","v":0},{"$f":"COUNTIF($D$124:$AA$124,$AR$148)*$AB$19","v":0},{"$f":"COUNTIF($D$124:$AA$124,$AS$148)*$AB$19","v":0},11,null,0,0,"","","",0,0,0,"","","","",0,0,0,"","","","",0,0,0,"",null,"","","",0,0,0,"","","","",0,0,0,"",{"$f":"IFERROR($S$44/$S$46*$AV156*$S$54*$CI$147,\"\")","v":""},"","",0,0,0,""]
[null,null,12,{"$f":"COUNTIF($D$125:$AA$125,$D$148)*$AB$20","v":0},{"$f":"COUNTIF($D$125:$AA$125,$E$148)*$AB$20","v":0},{"$f":"COUNTIF($D$125:$AA$125,$F$148)*$AB$20","v":0},{"$f":"COUNTIF($D$125:$AA$125,$G$148)*$AB$20","v":0},{"$f":"COUNTIF($D$125:$AA$125,$H$148)*$AB$20","v":0},{"$f":"COUNTIF($D$125:$AA$125,$I$148)*$AB$20","v":0},{"$f":"COUNTIF($D$125:$AA$125,$J$148)*$AB$20","v":0},{"$f":"COUNTIF($D$125:$AA$125,$K$148)*$AB$20","v":0},{"$f":"COUNTIF($D$125:$AA$125,$L$148)*$AB$20","v":0},{"$f":"COUNTIF($D$125:$AA$125,$M$148)*$AB$20","v":0},{"$f":"COUNTIF($D$125:$AA$125,$N$148)*$AB$20","v":0},{"$f":"COUNTIF($D$125:$AA$125,$O$148)*$AB$20","v":0},{"$f":"COUNTIF($D$125:$AA$125,$P$148)*$AB$20","v":0},{"$f":"COUNTIF($D$125:$AA$125,$Q$148)*$AB$20","v":0},{"$f":"COUNTIF($D$125:$AA$125,$R$148)*$AB$20","v":0},{"$f":"COUNTIF($D$125:$AA$125,$S$148)*$AB$20","v":0},{"$f":"COUNTIF($D$125:$AA$125,$T$148)*$AB$20","v":0},{"$f":"COUNTIF($D$125:$AA$125,$U$148)*$AB$20","v":0},{"$f":"COUNTIF($D$125:$AA$125,$V$148)*$AB$20","v":0},{"$f":"COUNTIF($D$125:$AA$125,$W$148)*$AB$20","v":0},{"$f":"COUNTIF($D$125:$AA$125,$X$148)*$AB$20","v":0},{"$f":"COUNTIF($D$125:$AA$125,$Y$148)*$AB$20","v":0},{"$f":"COUNTIF($D$125:$AA$125,$Z$148)*$AB$20","v":0},{"$f":"COUNTIF($D$125:$AA$125,$AA$148)*$AB$20","v":0},{"$f":"COUNTIF($D$125:$AA$125,$AB$148)*$AB$20","v":0},{"$f":"COUNTIF($D$125:$AA$125,$AC$148)*$AB$20","v":0},{"$f":"COUNTIF($D$125:$AA$125,$AD$148)*$AB$20","v":0},{"$f":"COUNTIF($D$125:$AA$125,$AE$148)*$AB$20","v":0},{"$f":"COUNTIF($D$125:$AA$125,$AF$148)*$AB$20","v":0},{"$f":"COUNTIF($D$125:$AA$125,$AG$148)*$AB$20","v":0},{"$f":"COUNTIF($D$125:$AA$125,$AH$148)*$AB$20","v":0},{"$f":"COUNTIF($D$125:$AA$125,$AI$148)*$AB$20","v":0},{"$f":"COUNTIF($D$125:$AA$125,$AJ$148)*$AB$20","v":0},{"$f":"COUNTIF($D$125:$AA$125,$AK$148)*$AB$20","v":0},{"$f":"COUNTIF($D$125:$AA$125,$AL$148)*$AB$20","v":0},{"$f":"COUNTIF($D$125:$AA$125,$AM$148)*$AB$20","v":0},{"$f":"COUNTIF($D$125:$AA$125,$AN$148)*$AB$20","v":0},{"$f":"COUNTIF($D$125:$AA$125,$AO$148)*$AB$20","v":0},{"$f":"COUNTIF($D$125:$AA$125,$AP$148)*$AB$20","v":0},{"$f":"COUNTIF($D$125:$AA$125,$AQ$148)*$AB$20","v":0},{"$f":"COUNTIF($D$125:$AA$125,$AR$148)*$AB$20","v":0},{"$f":"COUNTIF($D$125:$AA$125,$AS$148)*$AB$20","v":0},12,null,0,0,"","","",0,0,0,"","","","",0,0,0,"","","","",0,0,0,"",null,"","","",0,0,0,"","","","",0,0,0,"","","","",0,0,0,""]
[null,null,1,{"$f":"COUNTIF($D$126:$AA$126,$D$148)*$AB$21","v":0},{"$f":"COUNTIF($D$126:$AA$126,$E$148)*$AB$21","v":0},{"$f":"COUNTIF($D$126:$AA$126,$F$148)*$AB$21","v":0},{"$f":"COUNTIF($D$126:$AA$126,$G$148)*$AB$21","v":0},{"$f":"COUNTIF($D$126:$AA$126,$H$148)*$AB$21","v":0},{"$f":"COUNTIF($D$126:$AA$126,$I$148)*$AB$21","v":0},{"$f":"COUNTIF($D$126:$AA$126,$J$148)*$AB$21","v":0},{"$f":"COUNTIF($D$126:$AA$126,$K$148)*$AB$21","v":0},{"$f":"COUNTIF($D$126:$AA$126,$L$148)*$AB$21","v":0},{"$f":"COUNTIF($D$126:$AA$126,$M$148)*$AB$21","v":0},{"$f":"COUNTIF($D$126:$AA$126,$N$148)*$AB$21","v":0},{"$f":"COUNTIF($D$126:$AA$126,$O$148)*$AB$21","v":0},{"$f":"COUNTIF($D$126:$AA$126,$P$148)*$AB$21","v":0},{"$f":"COUNTIF($D$126:$AA$126,$Q$148)*$AB$21","v":0},{"$f":"COUNTIF($D$126:$AA$126,$R$148)*$AB$21","v":0},{"$f":"COUNTIF($D$126:$AA$126,$S$148)*$AB$21","v":0},{"$f":"COUNTIF($D$126:$AA$126,$T$148)*$AB$21","v":0},{"$f":"COUNTIF($D$126:$AA$126,$U$148)*$AB$21","v":0},{"$f":"COUNTIF($D$126:$AA$126,$V$148)*$AB$21","v":0},{"$f":"COUNTIF($D$126:$AA$126,$W$148)*$AB$21","v":0},{"$f":"COUNTIF($D$126:$AA$126,$X$148)*$AB$21","v":0},{"$f":"COUNTIF($D$126:$AA$126,$Y$148)*$AB$21","v":0},{"$f":"COUNTIF($D$126:$AA$126,$Z$148)*$AB$21","v":0},{"$f":"COUNTIF($D$126:$AA$126,$AA$148)*$AB$21","v":0},{"$f":"COUNTIF($D$126:$AA$126,$AB$148)*$AB$21","v":0},{"$f":"COUNTIF($D$126:$AA$126,$AC$148)*$AB$21","v":0},{"$f":"COUNTIF($D$126:$AA$126,$AD$148)*$AB$21","v":0},{"$f":"COUNTIF($D$126:$AA$126,$AE$148)*$AB$21","v":0},{"$f":"COUNTIF($D$126:$AA$126,$AF$148)*$AB$21","v":0},{"$f":"COUNTIF($D$126:$AA$126,$AG$148)*$AB$21","v":0},{"$f":"COUNTIF($D$126:$AA$126,$AH$148)*$AB$21","v":0},{"$f":"COUNTIF($D$126:$AA$126,$AI$148)*$AB$21","v":0},{"$f":"COUNTIF($D$126:$AA$126,$AJ$148)*$AB$21","v":0},{"$f":"COUNTIF($D$126:$AA$126,$AK$148)*$AB$21","v":0},{"$f":"COUNTIF($D$126:$AA$126,$AL$148)*$AB$21","v":0},{"$f":"COUNTIF($D$126:$AA$126,$AM$148)*$AB$21","v":0},{"$f":"COUNTIF($D$126:$AA$126,$AN$148)*$AB$21","v":0},{"$f":"COUNTIF($D$126:$AA$126,$AO$148)*$AB$21","v":0},{"$f":"COUNTIF($D$126:$AA$126,$AP$148)*$AB$21","v":0},{"$f":"COUNTIF($D$126:$AA$126,$AQ$148)*$AB$21","v":0},{"$f":"COUNTIF($D$126:$AA$126,$AR$148)*$AB$21","v":0},{"$f":"COUNTIF($D$126:$AA$126,$AS$148)*$AB$21","v":0},1,null,0,0,"","","",0,0,0,"","","","",0,0,0,"","","","",0,0,0,"",null,"","","",0,0,0,"","","","",0,0,0,"","","","",0,0,0,""]
[null,null,2,{"$f":"COUNTIF($D$127:$AA$127,$D$148)*$AB$22","v":0},{"$f":"COUNTIF($D$127:$AA$127,$E$148)*$AB$22","v":0},{"$f":"COUNTIF($D$127:$AA$127,$F$148)*$AB$22","v":0},{"$f":"COUNTIF($D$127:$AA$127,$G$148)*$AB$22","v":0},{"$f":"COUNTIF($D$127:$AA$127,$H$148)*$AB$22","v":0},{"$f":"COUNTIF($D$127:$AA$127,$I$148)*$AB$22","v":0},{"$f":"COUNTIF($D$127:$AA$127,$J$148)*$AB$22","v":0},{"$f":"COUNTIF($D$127:$AA$127,$K$148)*$AB$22","v":0},{"$f":"COUNTIF($D$127:$AA$127,$L$148)*$AB$22","v":0},{"$f":"COUNTIF($D$127:$AA$127,$M$148)*$AB$22","v":0},{"$f":"COUNTIF($D$127:$AA$127,$N$148)*$AB$22","v":0},{"$f":"COUNTIF($D$127:$AA$127,$O$148)*$AB$22","v":0},{"$f":"COUNTIF($D$127:$AA$127,$P$148)*$AB$22","v":0},{"$f":"COUNTIF($D$127:$AA$127,$Q$148)*$AB$22","v":0},{"$f":"COUNTIF($D$127:$AA$127,$R$148)*$AB$22","v":0},{"$f":"COUNTIF($D$127:$AA$127,$S$148)*$AB$22","v":0},{"$f":"COUNTIF($D$127:$AA$127,$T$148)*$AB$22","v":0},{"$f":"COUNTIF($D$127:$AA$127,$U$148)*$AB$22","v":0},{"$f":"COUNTIF($D$127:$AA$127,$V$148)*$AB$22","v":0},{"$f":"COUNTIF($D$127:$AA$127,$W$148)*$AB$22","v":0},{"$f":"COUNTIF($D$127:$AA$127,$X$148)*$AB$22","v":0},{"$f":"COUNTIF($D$127:$AA$127,$Y$148)*$AB$22","v":0},{"$f":"COUNTIF($D$127:$AA$127,$Z$148)*$AB$22","v":0},{"$f":"COUNTIF($D$127:$AA$127,$AA$148)*$AB$22","v":0},{"$f":"COUNTIF($D$127:$AA$127,$AB$148)*$AB$22","v":0},{"$f":"COUNTIF($D$127:$AA$127,$AC$148)*$AB$22","v":0},{"$f":"COUNTIF($D$127:$AA$127,$AD$148)*$AB$22","v":0},{"$f":"COUNTIF($D$127:$AA$127,$AE$148)*$AB$22","v":0},{"$f":"COUNTIF($D$127:$AA$127,$AF$148)*$AB$22","v":0},{"$f":"COUNTIF($D$127:$AA$127,$AG$148)*$AB$22","v":0},{"$f":"COUNTIF($D$127:$AA$127,$AH$148)*$AB$22","v":0},{"$f":"COUNTIF($D$127:$AA$127,$AI$148)*$AB$22","v":0},{"$f":"COUNTIF($D$127:$AA$127,$AJ$148)*$AB$22","v":0},{"$f":"COUNTIF($D$127:$AA$127,$AK$148)*$AB$22","v":0},{"$f":"COUNTIF($D$127:$AA$127,$AL$148)*$AB$22","v":0},{"$f":"COUNTIF($D$127:$AA$127,$AM$148)*$AB$22","v":0},{"$f":"COUNTIF($D$127:$AA$127,$AN$148)*$AB$22","v":0},{"$f":"COUNTIF($D$127:$AA$127,$AO$148)*$AB$22","v":0},{"$f":"COUNTIF($D$127:$AA$127,$AP$148)*$AB$22","v":0},{"$f":"COUNTIF($D$127:$AA$127,$AQ$148)*$AB$22","v":0},{"$f":"COUNTIF($D$127:$AA$127,$AR$148)*$AB$22","v":0},{"$f":"COUNTIF($D$127:$AA$127,$AS$148)*$AB$22","v":0},2,null,0,0,"","","",0,0,0,"","","","",0,0,0,"","","","",0,0,0,"",null,"","","",0,0,0,"",{"$f":"IFERROR($R$44/$R$46*$AV159*$R$54*$CB$147,\"\")","v":""},"","",0,0,0,"","","","",0,0,0,""]
[null,null,3,{"$f":"COUNTIF($D$128:$AA$128,$D$148)*$AB$23","v":0},{"$f":"COUNTIF($D$128:$AA$128,$E$148)*$AB$23","v":0},{"$f":"COUNTIF($D$128:$AA$128,$F$148)*$AB$23","v":0},{"$f":"COUNTIF($D$128:$AA$128,$G$148)*$AB$23","v":0},{"$f":"COUNTIF($D$128:$AA$128,$H$148)*$AB$23","v":0},{"$f":"COUNTIF($D$128:$AA$128,$I$148)*$AB$23","v":0},{"$f":"COUNTIF($D$128:$AA$128,$J$148)*$AB$23","v":0},{"$f":"COUNTIF($D$128:$AA$128,$K$148)*$AB$23","v":0},{"$f":"COUNTIF($D$128:$AA$128,$L$148)*$AB$23","v":0},{"$f":"COUNTIF($D$128:$AA$128,$M$148)*$AB$23","v":0},{"$f":"COUNTIF($D$128:$AA$128,$N$148)*$AB$23","v":0},{"$f":"COUNTIF($D$128:$AA$128,$O$148)*$AB$23","v":0},{"$f":"COUNTIF($D$128:$AA$128,$P$148)*$AB$23","v":0},{"$f":"COUNTIF($D$128:$AA$128,$Q$148)*$AB$23","v":0},{"$f":"COUNTIF($D$128:$AA$128,$R$148)*$AB$23","v":0},{"$f":"COUNTIF($D$128:$AA$128,$S$148)*$AB$23","v":0},{"$f":"COUNTIF($D$128:$AA$128,$T$148)*$AB$23","v":0},{"$f":"COUNTIF($D$128:$AA$128,$U$148)*$AB$23","v":0},{"$f":"COUNTIF($D$128:$AA$128,$V$148)*$AB$23","v":0},{"$f":"COUNTIF($D$128:$AA$128,$W$148)*$AB$23","v":0},{"$f":"COUNTIF($D$128:$AA$128,$X$148)*$AB$23","v":0},{"$f":"COUNTIF($D$128:$AA$128,$Y$148)*$AB$23","v":0},{"$f":"COUNTIF($D$128:$AA$128,$Z$148)*$AB$23","v":0},{"$f":"COUNTIF($D$128:$AA$128,$AA$148)*$AB$23","v":0},{"$f":"COUNTIF($D$128:$AA$128,$AB$148)*$AB$23","v":0},{"$f":"COUNTIF($D$128:$AA$128,$AC$148)*$AB$23","v":0},{"$f":"COUNTIF($D$128:$AA$128,$AD$148)*$AB$23","v":0},{"$f":"COUNTIF($D$128:$AA$128,$AE$148)*$AB$23","v":0},{"$f":"COUNTIF($D$128:$AA$128,$AF$148)*$AB$23","v":0},{"$f":"COUNTIF($D$128:$AA$128,$AG$148)*$AB$23","v":0},{"$f":"COUNTIF($D$128:$AA$128,$AH$148)*$AB$23","v":0},{"$f":"COUNTIF($D$128:$AA$128,$AI$148)*$AB$23","v":0},{"$f":"COUNTIF($D$128:$AA$128,$AJ$148)*$AB$23","v":0},{"$f":"COUNTIF($D$128:$AA$128,$AK$148)*$AB$23","v":0},{"$f":"COUNTIF($D$128:$AA$128,$AL$148)*$AB$23","v":0},{"$f":"COUNTIF($D$128:$AA$128,$AM$148)*$AB$23","v":0},{"$f":"COUNTIF($D$128:$AA$128,$AN$148)*$AB$23","v":0},{"$f":"COUNTIF($D$128:$AA$128,$AO$148)*$AB$23","v":0},{"$f":"COUNTIF($D$128:$AA$128,$AP$148)*$AB$23","v":0},{"$f":"COUNTIF($D$128:$AA$128,$AQ$148)*$AB$23","v":0},{"$f":"COUNTIF($D$128:$AA$128,$AR$148)*$AB$23","v":0},{"$f":"COUNTIF($D$128:$AA$128,$AS$148)*$AB$23","v":0},3,null,0,0,"","","",0,0,0,"","","","",0,0,0,"","","","",0,0,0,"",null,{"$f":"IFERROR($Q$44/$Q$46*$AV160*$Q$54*$BU$147,\"\")","v":""},"","",0,0,0,"","","","",0,0,0,"","","","",0,0,0,""]
[null,null,"冷却運転時間",{"$f":"SUM($D$149:$D$160)","v":0},{"$f":"SUM($E$149:$E$160)","v":0},{"$f":"SUM($F$149:$F$160)","v":0},{"$f":"SUM($G$149:$G$160)","v":0},{"$f":"SUM($H$149:$H$160)","v":0},{"$f":"SUM($I$149:$I$160)","v":0},{"$f":"SUM($J$149:$J$160)","v":0},{"$f":"SUM($K$149:$K$160)","v":0},{"$f":"SUM($L$149:$L$160)","v":0},{"$f":"SUM($M$149:$M$160)","v":0},{"$f":"SUM($N$149:$N$160)","v":0},{"$f":"SUM($O$149:$O$160)","v":0},{"$f":"SUM($P$149:$P$160)","v":0},{"$f":"SUM($Q$149:$Q$160)","v":0},{"$f":"SUM($R$149:$R$160)","v":0},{"$f":"SUM($S$149:$S$160)","v":0},{"$f":"SUM($T$149:$T$160)","v":0},{"$f":"SUM($U$149:$U$160)","v":0},{"$f":"SUM($V$149:$V$160)","v":0},{"$f":"SUM($W$149:$W$160)","v":0},{"$f":"SUM($X$149:$X$160)","v":0},{"$f":"SUM($Y$149:$Y$160)","v":0},{"$f":"SUM($Z$149:$Z$160)","v":0},{"$f":"SUM($AA$149:$AA$160)","v":0},{"$f":"SUM($AB$149:$AB$160)","v":0},{"$f":"SUM($AC$149:$AC$160)","v":0},{"$f":"SUM($AD$149:$AD$160)","v":0},{"$f":"SUM($AE$149:$AE$160)","v":0},{"$f":"SUM($AF$149:$AF$160)","v":0},{"$f":"SUM($AG$149:$AG$160)","v":0},{"$f":"SUM($AH$149:$AH$160)","v":0},{"$f":"SUM($AI$149:$AI$160)","v":0},{"$f":"SUM($AJ$149:$AJ$160)","v":0},{"$f":"SUM($AK$149:$AK$160)","v":0},{"$f":"SUM($AL$149:$AL$160)","v":0},{"$f":"SUM($AM$149:$AM$160)","v":0},{"$f":"SUM($AN$149:$AN$160)","v":0},{"$f":"SUM($AO$149:$AO$160)","v":0},{"$f":"SUM($AP$149:$AP$160)","v":0},{"$f":"SUM($AQ$149:$AQ$160)","v":0},{"$f":"SUM($AR$149:$AR$160)","v":0},{"$f":"SUM($AS$149:$AS$160)","v":0},{"$f":"C161","v":"冷却運転時間"},null,{"$f":"SUM($AV$149:$AV$160)","v":0},{"$f":"SUM($AW$149:$AW$160)","v":0},{"$f":"SUM($AX$149:$AX$160)","v":0},{"$f":"SUM(AY149:AY160)","v":0},{"$f":"SUM(AZ149:AZ160)","v":0},{"$f":"SUM($BA$149:$BA$160)","v":0},{"$f":"SUM(BB149:BB160)","v":0},{"$f":"SUM(BC149:BC160)","v":0},{"$f":"SUM(BD149:BD160)","v":0},{"$f":"SUM($BE$149:$BE$160)","v":0},{"$f":"SUM(BF149:BF160)","v":0},{"$f":"SUM(BG149:BG160)","v":0},{"$f":"SUM($BI$149:$BI$160)","v":0},{"$f":"SUM(BI149:BI160)","v":0},{"$f":"SUM(BJ149:BJ160)","v":0},{"$f":"SUM(BK149:BK160)","v":0},{"$f":"SUM($BL$149:$BL$160)","v":0},{"$f":"SUM(BM149:BM160)","v":0},{"$f":"SUM(BN149:BN160)","v":0},{"$f":"SUM($BO$149:$BO$160)","v":0},{"$f":"SUM(BP149:BP160)","v":0},{"$f":"SUM(BQ149:BQ160)","v":0},{"$f":"SUM(BR149:BR160)","v":0},null,{"$f":"SUM($BT$149:$BT$160)","v":0},{"$f":"SUM(BU149:BU160)","v":0},{"$f":"SUM(BV149:BV160)","v":0},{"$f":"SUM($BW$149:$BW$160)","v":0},{"$f":"SUM(BX149:BX160)","v":0},{"$f":"SUM(BY149:BY160)","v":0},{"$f":"SUM(BZ149:BZ160)","v":0},{"$f":"SUM($CA$149:$CA$160)","v":0},{"$f":"SUM(CB149:CB160)","v":0},{"$f":"SUM(CC149:CC160)","v":0},{"$f":"SUM($CD$149:$CD$160)","v":0},{"$f":"SUM(CE149:CE160)","v":0},{"$f":"SUM(CF149:CF160)","v":0},{"$f":"SUM(CG149:CG160)","v":0},{"$f":"SUM($CH$149:$CH$160)","v":0},{"$f":"SUM(CI149:CI160)","v":0},{"$f":"SUM(CJ149:CJ160)","v":0},{"$f":"SUM($CK$149:$CK$160)","v":0},{"$f":"SUM(CL149:CL160)","v":0},{"$f":"SUM(CM149:CM160)","v":0},{"$f":"SUM(CN149:CN160)","v":0}]
[null,"εc","冷却時消費電力比",{"$f":"D$163/D$164","v":0},{"$f":"E$163/E$164","v":0},0,0,0,0,0,0,0,0,0,0,0,0,0,0,0,0,0,0,0,0,0,0,0,0,0.95556617295747914,0.8214766864916373,0.79900710050976553,0.79895177527084438,0.80771007731400812,0.82124281412537647,0.83796809496333269,0.8571771442286259,0.87854076331526143,0.90192145346445984,0.92729188619599567,0.95469647016891745,0.98423259384657813,0.94346743150426415,0.91026597971927392,{"$f":"AS$163/AS$164","v":0.88339222614841018},{"$f":"C162","v":"冷却時消費電力比"},"εc",null,null,"kWh","GJ","千Nm3","kWh","GJ","千kWh","GJ"]
[null,"αc","冷却空調負荷率",{"$f":"IF((1/13)*(D$148-27)+1<0,0,IF((1/13)*(D$148-27)+1>1,1,(1/13)*(D$148-27)+1))","v":0},{"$f":"IF((1/13)*(E$148-27)+1<0,0,IF((1/13)*(E$148-27)+1>1,1,(1/13)*(E$148-27)+1))","v":0},0,0,0,0,0,0,0,0,0,0,0,0,0,0,0,0,0,0,0,0,0,0,0,0,7.6923076923076872E-2,0.15384615384615374,0.23076923076923073,0.30769230769230771,0.38461538461538458,0.46153846153846145,0.53846153846153844,0.61538461538461542,0.69230769230769229,0.76923076923076916,0.84615384615384615,0.92307692307692313,1,1,1,{"$f":"IF((1/13)*(AS$148-27)+1<0,0,IF((1/13)*(AS$148-27)+1>1,1,(1/13)*(AS$148-27)+1))","v":1},"冷却空調負荷率","αc"]
[null,"βc","冷却COP比",{"$f":"-2.62/1000*D$148*D$148+0.188*D$148-2.15","v":-4.5350199999999994},{"$f":"-2.62/1000*E$148*E$148+0.188*E$148-2.15","v":-4.2919999999999998},-4.0542199999999999,-3.8216799999999997,-3.5943800000000001,-3.3723200000000002,-3.1555,-2.9439199999999999,-2.7375799999999999,{"$f":"-2.62/1000*M$148*M$148+0.188*M$148-2.15","v":-2.5364800000000001},-2.3406199999999999,-2.15,-1.96462,-1.7844799999999998,-1.6095799999999998,{"$f":"-2.62/1000*S$148*S$148+0.188*S$148-2.15","v":-1.4399199999999999},-1.2755000000000001,-1.1163199999999998,-0.96237999999999979,-0.81367999999999996,-0.67022000000000004,-0.53200000000000003,{"$f":"-2.62/1000*Z$148*Z$148+0.188*Z$148-2.15","v":-0.39901999999999971},-0.27127999999999952,-0.14877999999999991,-3.1519999999999992E-2,8.0499999999999794E-2,0.18727999999999989,0.2888200000000003,0.38512000000000013,0.47618000000000027,0.56199999999999983,0.64258000000000015,0.71792000000000034,0.78801999999999994,0.85288000000000075,0.91250000000000009,0.96688000000000018,1.0160199999999997,1.0599200000000004,1.0985800000000001,{"$f":"-2.62/1000*AS$148*AS$148+0.188*AS$148-2.15","v":1.1319999999999997},"冷却COP比","βc"]
[null,"Tc1","冷却水入口温度",{"$f":"(18/13)*(D$148-27)+32","v":-20.615384615384613},{"$f":"(18/13)*(E$148-27)+32","v":-19.230769230769226},-17.846153846153847,-16.46153846153846,-15.076923076923073,-13.692307692307693,-12.307692307692307,-10.92307692307692,-9.5384615384615401,-8.1538461538461533,-6.7692307692307665,-5.3846153846153868,-4,-2.6153846153846132,-1.2307692307692264,0.1538461538461533,1.5384615384615401,2.9230769230769234,4.3076923076923066,5.6923076923076934,7.0769230769230766,8.4615384615384635,9.8461538461538467,11.23076923076923,12.615384615384617,14,15.384615384615387,16.76923076923077,18.153846153846153,19.53846153846154,20.923076923076923,22.307692307692307,23.692307692307693,25.076923076923077,26.46153846153846,27.846153846153847,29.23076923076923,30.615384615384617,32,33.384615384615387,34.769230769230766,{"$f":"(18/13)*(AS$148-27)+32","v":36.153846153846153},"冷却水入口温度","Tc1"]
[null,null,"Σ",{"$f":"D161*D162","v":0},{"$f":"E161*E162","v":0},0,0,0,0,0,0,0,0,0,0,0,0,0,0,0,0,0,0,0,0,0,0,0,0,0,0,0,0,0,0,0,0,0,0,0,0,0,0,0,{"$f":"AS161*AS162","v":0},{"$f":"SUM(D166:AS166)","v":0},"Σ"]
[]
[null,null,"αc^0.6",{"$f":"D163^0.6","v":0},{"$f":"E163^0.6","v":0},0,0,0,0,{"$f":"J163^0.6","v":0},0,0,0,0,0,0,0,0,0,0,0,0,0,0,0,0,0,0,0,0.21460211045300656,0.32527597402171626,0.41486494673221525,0.49302618251252139,0.5636584099885501,0.62881767262647259,0.68975175254731136,0.74728795255760783,0.8020094660942908,{"$f":"AM163^0.6","v":0.85434638987255551},0.90462711229998261,0.95310936371445665,1,1,1,{"$f":"AS163^0.6","v":1},"αc^0.6"]
[null,null,"Σ",{"$f":"D$168*D$161","v":0},{"$f":"E$168*E$161","v":0},0,0,0,0,0,0,0,0,0,0,0,0,0,0,0,0,0,0,0,0,0,0,0,0,0,0,0,0,0,0,0,0,0,0,0,0,0,0,0,{"$f":"AS$168*AS$161","v":0},{"$f":"SUM(D169:AS169)","v":0}]
[]
[null,null,"暖房期間中　外気湿球温度(Tw)が発生する時間[hour]"]
[null,null,null,"外気湿球温度(Tw)",null,null,null,null,null,null,null,null,null,null,null,null,null,null,null,null,null,null,null,null,null,null,null,null,null,null,null,null,null,null,null,null,null,null,null,null,null,null,null,null,null,null,null,"共通","共通","前1",null,null,null,null,null,null,"前2",null,null,null,null,null,null,"前3",null,null,null,null,null,null,null,"Rw=",{"$f":"$Q$33/$Q$47","v":{"$error":"#DIV/0!"}},"後1",null,null,null,null,"Rw=",{"$f":"$R$33/$R$47","v":{"$error":"#DIV/0!"}},"後2",null,null,null,null,"Rw=",{"$f":"$S$33/$S$47","v":{"$error":"#DIV/0!"}},"後3"]
[null,null,"月",-6,-5,-4,-3,-2,-1,0,1,2,3,4,5,6,7,8,9,10,11,12,13,14,15,16,17,18,19,20,21,22,23,24,25,26,27,28,29,30,31,32,33,34,35,"月",null,"EwwのΣ","EaxwのΣ","Eww","Eww’","Eww’’","Eaxw","Eaxw’","Eaxw’’","Ew","Eww","Eww’","Eww’’","Eaxw","Eaxw’","Eaxw’’","Ew","Eww","Eww’","Eww’’","Eaxw","Eaxw’","Eaxw’’","Ew",null,"Eww","Eww’","Eww’’","Eaxw","Eaxw’","Eaxw’’","Ew","Eww","Eww’","Eww’’","Eaxw","Eaxw’","Eaxw’’","Ew","Eww","Eww’","Eww’’","Eaxw","Eaxw’","Eaxw’’","Ew"]
[null,null,4,{"$f":"COUNTIF($D$133:$AA$133,D$173)*$AB$12","v":0},0,0,0,0,0,0,0,0,0,0,0,0,0,0,0,0,0,0,0,0,0,0,0,0,0,0,0,0,0,0,0,0,0,0,0,0,0,0,0,0,0,4,null,{"$f":"SUMPRODUCT($D174:$AS174,$D$187:$AS$187)","v":0},{"$f":"SUMPRODUCT($D174:$AS174,$D$190:$AS$190)","v":0},{"$f":"IFERROR($Q$33/$Q$35*$AV174,\"\")","v":""},{"$f":"IFERROR($AX174*3.6/1000,\"\")","v":""},{"$f":"IFERROR($AY174/$AZ$146,\"\")","v":""},{"$f":"IFERROR($Q$38*$AW174,\"\")","v":0},{"$f":"IFERROR($BA174*2.4*3.6/1000,\"\")","v":0},{"$f":"IFERROR($BA174/1000,\"\")","v":0},{"$f":"IFERROR($AY174+$BB174,\"\")","v":""},{"$f":"IFERROR($R$33/$R$35*$AV174,\"\")","v":""},{"$f":"IFERROR($BE174*3.6/1000,\"\")","v":""},{"$f":"IFERROR($BF174/$AZ$146,\"\")","v":""},{"$f":"IFERROR($R$38*$AW174,\"\")","v":0},{"$f":"IFERROR($BH174*2.4*3.6/1000,\"\")","v":0},{"$f":"IFERROR($BH174/1000,\"\")","v":0},{"$f":"IFERROR($BF174+$BI174,\"\")","v":""},{"$f":"IFERROR($S$33/$S$35*$AV174,\"\")","v":""},{"$f":"IFERROR($BL174*3.6/1000,\"\")","v":""},{"$f":"IFERROR($BM174/$AZ$146,\"\")","v":""},{"$f":"IFERROR($S$38*$AW174,\"\")","v":0},{"$f":"IFERROR($BO174*2.4*3.6/1000,\"\")","v":0},{"$f":"IFERROR($BO174/1000,\"\")","v":0},{"$f":"IFERROR($BM174+$BP174,\"\")","v":""},null,{"$f":"IFERROR($Q$47/$Q$49*$AV174*$BU$172,\"\")","v":""},{"$f":"IFERROR($BT174*3.6/1000,\"\")","v":""},{"$f":"IFERROR($BU174/$BV$146,\"\")","v":""},{"$f":"IFERROR($Q$52*$AW174,\"\")","v":0},{"$f":"IFERROR($BW174*2.4*3.6/1000,\"\")","v":0},{"$f":"IFERROR($BW174/1000,\"\")","v":0},{"$f":"IFERROR($BU174+$BX174,\"\")","v":""},{"$f":"IFERROR($R$47/$R$49*$AV174*$CB$172,\"\")","v":""},{"$f":"IFERROR($CA174*3.6/1000,\"\")","v":""},{"$f":"IFERROR($CB174/$BV$146,\"\")","v":""},{"$f":"IFERROR($R$52*$AW174,\"\")","v":0},{"$f":"IFERROR($CD174*2.4*3.6/1000,\"\")","v":0},{"$f":"IFERROR($CD174/1000,\"\")","v":0},{"$f":"IFERROR($CB174+$CE174,\"\")","v":""},{"$f":"IFERROR($S$47/$S$49*$AV174*$CI$172,\"\")","v":""},{"$f":"IFERROR($CH174*3.6/1000,\"\")","v":""},{"$f":"IFERROR($CI174/$BV$146,\"\")","v":""},{"$f":"IFERROR($S$52*$AW174,\"\")","v":0},{"$f":"IFERROR($CK174*2.4*3.6/1000,\"\")","v":0},{"$f":"IFERROR($CK174/1000,\"\")","v":0},{"$f":"IFERROR($CI174+$CL174,\"\")","v":""}]
[null,null,5,{"$f":"COUNTIF($D$134:$AA$134,D$173)*$AB$13","v":0},0,0,0,0,0,0,0,0,0,0,0,0,0,0,0,0,0,0,0,0,0,0,0,0,0,0,0,0,0,0,0,0,0,0,0,0,0,0,0,0,0,5,null,{"$f":"SUMPRODUCT($D175:$AS175,$D$187:$AS$187)","v":0},{"$f":"SUMPRODUCT($D175:$AS175,$D$190:$AS$190)","v":0},{"$f":"IFERROR($Q$33/$Q$35*$AV175,\"\")","v":""},{"$f":"IFERROR($AX175*3.6/1000,\"\")","v":""},{"$f":"IFERROR($AY175/$AZ$146,\"\")","v":""},{"$f":"IFERROR($Q$38*$AW175,\"\")","v":0},{"$f":"IFERROR($BA175*2.4*3.6/1000,\"\")","v":0},{"$f":"IFERROR($BA175/1000,\"\")","v":0},{"$f":"IFERROR($AY175+$BB175,\"\")","v":""},{"$f":"IFERROR($R$33/$R$35*$AV175,\"\")","v":""},{"$f":"IFERROR($BE175*3.6/1000,\"\")","v":""},{"$f":"IFERROR($BF175/$AZ$146,\"\")","v":""},{"$f":"IFERROR($R$38*$AW175,\"\")","v":0},{"$f":"IFERROR($BH175*2.4*3.6/1000,\"\")","v":0},{"$f":"IFERROR($BH175/1000,\"\")","v":0},{"$f":"IFERROR($BF175+$BI175,\"\")","v":""},{"$f":"IFERROR($S$33/$S$35*$AV175,\"\")","v":""},{"$f":"IFERROR($BL175*3.6/1000,\"\")","v":""},{"$f":"IFERROR($BM175/$AZ$146,\"\")","v":""},{"$f":"IFERROR($S$38*$AW175,\"\")","v":0},{"$f":"IFERROR($BO175*2.4*3.6/1000,\"\")","v":0},{"$f":"IFERROR($BO175/1000,\"\")","v":0},{"$f":"IFERROR($BM175+$BP175,\"\")","v":""},null,{"$f":"IFERROR($Q$47/$Q$49*$AV175*$BU$172,\"\")","v":""},{"$f":"IFERROR($BT175*3.6/1000,\"\")","v":""},{"$f":"IFERROR($BU175/$BV$146,\"\")","v":""},{"$f":"IFERROR($Q$52*$AW175,\"\")","v":0},{"$f":"IFERROR($BW175*2.4*3.6/1000,\"\")","v":0},{"$f":"IFERROR($BW175/1000,\"\")","v":0},{"$f":"IFERROR($BU175+$BX175,\"\")","v":""},{"$f":"IFERROR($R$47/$R$49*$AV175*$CB$172,\"\")","v":""},{"$f":"IFERROR($CA175*3.6/1000,\"\")","v":""},{"$f":"IFERROR($CB175/$BV$146,\"\")","v":""},{"$f":"IFERROR($R$52*$AW175,\"\")","v":0},{"$f":"IFERROR($CD175*2.4*3.6/1000,\"\")","v":0},{"$f":"IFERROR($CD175/1000,\"\")","v":0},{"$f":"IFERROR($CB175+$CE175,\"\")","v":""},{"$f":"IFERROR($S$47/$S$49*$AV175*$CI$172,\"\")","v":""},{"$f":"IFERROR($CH175*3.6/1000,\"\")","v":""},{"$f":"IFERROR($CI175/$BV$146,\"\")","v":""},{"$f":"IFERROR($S$52*$AW175,\"\")","v":0},{"$f":"IFERROR($CK175*2.4*3.6/1000,\"\")","v":0},{"$f":"IFERROR($CK175/1000,\"\")","v":0},{"$f":"IFERROR($CI175+$CL175,\"\")","v":""}]
[null,null,6,{"$f":"COUNTIF($D$135:$AA$135,D$173)*$AB$14","v":0},0,0,0,0,0,0,0,0,0,0,0,0,0,0,0,0,0,0,0,0,0,0,0,0,0,0,0,0,0,0,0,0,0,0,0,0,0,0,0,0,0,6,null,{"$f":"SUMPRODUCT($D176:$AS176,$D$187:$AS$187)","v":0},0,"","","",0,0,0,"","","","",0,0,0,"","","","",0,0,0,"",null,{"$f":"IFERROR($Q$47/$Q$49*$AV176*$BU$172,\"\")","v":""},"","",0,0,0,"","","","",0,0,0,"","","","",0,0,0,""]
[null,null,7,{"$f":"COUNTIF($D$136:$AA$136,D$173)*$AB$15","v":0},0,0,0,0,0,0,0,0,0,0,0,0,0,0,0,0,0,0,0,0,0,0,0,0,0,0,0,0,0,0,0,0,0,0,0,0,0,0,0,0,0,7,null,0,0,"","","",0,0,0,"","","","",0,0,0,"","","","",0,0,0,"",null,"","","",0,0,0,"","","","",0,0,0,"","","","",0,0,0,""]
[null,null,8,{"$f":"COUNTIF($D$137:$AA$137,D$173)*$AB$16","v":0},0,0,0,0,0,0,0,0,0,0,0,0,0,0,0,0,0,0,0,0,0,0,0,0,0,0,0,0,0,0,0,0,0,0,0,0,0,0,0,0,0,8,null,0,0,"","","",0,0,0,"","","","",0,0,0,"","","","",0,0,0,"",null,"","","",0,0,0,"","","","",0,0,0,"","","","",0,0,0,""]
[null,null,9,{"$f":"COUNTIF($D$138:$AA$138,D$173)*$AB$17","v":0},0,0,0,0,0,0,0,0,0,0,0,0,0,0,0,0,0,0,0,0,0,0,0,0,0,0,0,0,0,0,0,0,0,0,0,0,0,0,0,0,0,9,null,0,0,"","","",0,0,0,"","","","",0,0,0,"","","","",0,0,0,"",null,"","","",0,0,0,"","","","",0,0,0,"","","","",0,0,0,""]
[null,null,10,{"$f":"COUNTIF($D$139:$AA$139,D$173)*$AB$18","v":0},0,0,0,0,0,0,0,0,0,0,0,0,0,0,0,0,0,0,0,0,0,0,0,0,0,0,0,0,0,0,0,0,0,0,0,0,0,0,0,0,0,10,null,0,0,"","","",0,0,0,"","","","",0,0,0,"","","","",0,0,0,"",null,"","","",0,0,0,"","","","",0,0,0,"","","","",0,0,0,""]
[null,null,11,{"$f":"COUNTIF($D$140:$AA$140,D$173)*$AB$19","v":0},0,0,0,0,0,0,0,0,0,0,0,0,0,0,0,0,0,0,0,0,0,0,0,0,0,0,0,0,0,0,0,0,0,0,0,0,0,0,0,0,0,11,null,0,0,"","","",0,0,0,"","","","",0,0,0,"","","","",0,0,0,"",null,"","","",0,0,0,"","","","",0,0,0,"","","","",0,0,0,""]
[null,null,12,{"$f":"COUNTIF($D$141:$AA$141,D$173)*$AB$20","v":0},0,0,0,0,0,0,0,0,0,0,0,0,0,0,0,0,0,0,0,0,0,0,0,0,0,0,0,0,0,0,0,0,0,0,0,0,0,0,0,0,0,12,null,0,0,"","","",0,0,0,"","","","",0,0,0,"","","","",0,0,0,"",null,"","","",0,0,0,"",{"$f":"IFERROR($R$47/$R$49*$AV182*$CB$172,\"\")","v":""},"","",0,0,0,"",{"$f":"IFERROR($S$47/$S$49*$AV182*$CI$172,\"\")","v":""},"","",0,0,0,""]
[null,null,1,{"$f":"COUNTIF($D$142:$AA$142,D$173)*$AB$21","v":0},0,0,0,0,0,0,0,0,0,0,0,0,0,0,0,0,0,0,0,0,0,0,0,0,0,0,0,0,0,0,0,0,0,0,0,0,0,0,0,0,0,1,null,0,0,"","","",0,0,0,"","","","",0,0,0,"","","","",0,0,0,"",null,"","","",0,0,0,"","","","",0,0,0,"","","","",0,0,0,""]
[null,null,2,{"$f":"COUNTIF($D$143:$AA$143,D$173)*$AB$22","v":0},0,0,0,0,0,0,0,0,0,0,0,0,0,0,0,0,0,0,0,0,0,0,0,0,0,0,0,0,0,0,0,0,0,0,0,0,0,0,0,0,0,2,null,0,0,"","","",0,0,0,"","","","",0,0,0,"","","","",0,0,0,"",null,"","","",0,0,0,"","","","",0,0,0,"","","","",0,0,0,""]
[null,null,3,{"$f":"COUNTIF($D$144:$AA$144,D$173)*$AB$23","v":0},0,0,0,0,0,0,0,0,0,0,0,0,0,0,0,0,0,0,0,0,0,0,0,0,0,0,0,0,0,0,0,0,0,0,0,0,0,0,0,0,0,3,null,{"$f":"SUMPRODUCT($D185:$AS185,$D$187:$AS$187)","v":0},0,"","","",0,0,0,"","","","",0,0,0,"","","","",0,0,0,"",null,"","","",0,0,0,"","","","",0,0,0,"","","","",0,0,0,""]
[null,null,"加熱運転時間",{"$f":"SUM(D$174:D$185)","v":0},{"$f":"SUM(E$174:E$185)","v":0},0,0,0,0,0,0,0,0,0,0,0,0,0,0,0,0,0,0,0,0,0,0,0,0,0,0,0,0,0,0,0,0,0,0,0,0,0,0,0,{"$f":"SUM(AS$174:AS$185)","v":0},"加熱運転時間",null,{"$f":"SUM(AV174:AV185)","v":0},0,{"$f":"SUM(AX174:AX185)","v":0},{"$f":"SUM(AY174:AY185)","v":0},{"$f":"SUM(AZ174:AZ185)","v":0},{"$f":"SUM(BA174:BA185)","v":0},{"$f":"SUM(BB174:BB185)","v":0},0,0,{"$f":"SUM(BE174:BE185)","v":0},{"$f":"SUM(BF174:BF185)","v":0},{"$f":"SUM(BG174:BG185)","v":0},{"$f":"SUM(BH174:BH185)","v":0},0,0,0,{"$f":"SUM(BL174:BL185)","v":0},{"$f":"SUM(BM174:BM185)","v":0},{"$f":"SUM(BN174:BN185)","v":0},{"$f":"SUM(BO174:BO185)","v":0},0,0,{"$f":"SUM(BR174:BR185)","v":0},null,{"$f":"SUM(BT174:BT185)","v":0},{"$f":"SUM(BU174:BU185)","v":0},{"$f":"SUM(BV174:BV185)","v":0},{"$f":"SUM(BW174:BW185)","v":0},0,{"$f":"SUM(BY174:BY185)","v":0},{"$f":"SUM(BZ174:BZ185)","v":0},{"$f":"SUM(CA174:CA185)","v":0},{"$f":"SUM(CB174:CB185)","v":0},{"$f":"SUM(CC174:CC185)","v":0},{"$f":"SUM(CD174:CD185)","v":0},0,0,0,{"$f":"SUM(CH174:CH185)","v":0},{"$f":"SUM(CI174:CI185)","v":0},{"$f":"SUM(CJ174:CJ185)","v":0},{"$f":"SUM(CK174:CK185)","v":0},0,{"$f":"SUM(CM174:CM185)","v":0},{"$f":"SUM(CN174:CN185)","v":0}]
[null,"αw","加熱空調負荷率",{"$f":"IF((-1/18.1)*(D$173-11.4)<0,0,IF((-1/18.1)*(D$173-11.4)>1,1,(-1/18.1)*(D$173-11.4)))","v":0.96132596685082861},{"$f":"IF((-1/18.1)*(E$173-11.4)<0,0,IF((-1/18.1)*(E$173-11.4)>1,1,(-1/18.1)*(E$173-11.4)))","v":0.90607734806629825},0.85082872928176789,0.79558011049723754,0.74033149171270718,0.68508287292817682,0.62983425414364635,0.574585635359116,0.51933701657458564,0.46408839779005523,0.40883977900552487,0.35359116022099446,0.2983425414364641,0.24309392265193372,0.18784530386740333,0.13259668508287295,7.7348066298342552E-2,2.2099447513812175E-2,0,0,0,0,0,0,0,0,0,0,0,0,0,0,0,0,0,0,0,0,0,0,0,{"$f":"IF((-1/18.1)*(AS$173-11.4)<0,0,IF((-1/18.1)*(AS$173-11.4)>1,1,(-1/18.1)*(AS$173-11.4)))","v":0},"加熱空調負荷率","αw"]
[null,null,"Σ",{"$f":"D$186*D$187","v":0},{"$f":"E$186*E$187","v":0},{"$f":"F$186*F$187","v":0},0,0,0,0,{"$f":"K$186*K$187","v":0},0,0,0,0,0,0,0,0,0,0,0,0,0,0,0,0,0,0,0,0,0,0,0,0,0,{"$f":"AK$186*AK$187","v":0},0,0,0,{"$f":"AO$186*AO$187","v":0},0,0,0,{"$f":"AS$186*AS$187","v":0},{"$f":"SUM($D$188:$AS$188)","v":0},"Σ"]
[]
[null,null,"αw^0.6",{"$f":"D187^0.6","v":0.97661278194534784},{"$f":"E187^0.6","v":0.94253864102537166},{"$f":"F187^0.6","v":0.9076225711718916},{"$f":"G187^0.6","v":0.87178692324100626},0.83494089690266893,0.7969771430017345,0.75776713543805463,{"$f":"K187^0.6","v":0.71715471597041447},0.6749468382242495,0.63089985372702917,0.58469837509962719,0.53592107936456368,0.48398188975800577,0.42802039254228846,0.36667407519530559,0.29752235303982305,0.21531271462012308,0.10153805729187543,0,0,0,0,0,0,0,0,0,0,0,0,0,0,0,0,0,0,0,0,0,0,0,{"$f":"AS187^0.6","v":0},"αw^0.6"]
[null,null,"Σ",{"$f":"D186*D190","v":0},{"$f":"E186*E190","v":0},0,0,0,0,0,{"$f":"K186*K190","v":0},{"$f":"L186*L190","v":0},0,0,0,0,0,0,0,0,0,0,0,0,0,0,0,0,0,0,0,0,0,0,0,0,0,0,0,0,0,0,0,0,{"$f":"AS186*AS190","v":0},{"$f":"SUM(D191:AS191)","v":0}]

{"sheet":"燃料選択","index":2,"n_rows":15,"n_cols":5,"rows_kept":15,"cut":false,"hidden":true,"merged":[]}
[]
[null,"吸収式冷凍機の燃料の種類","入力単位","高位発熱量(H)"]
[null,"都市ガス13A","Nm3/h",45,"GJ/千Nm3"]
[1,"都市ガス12A","Nm3/h",42,"GJ/千Nm3"]
[2,"LPG","kg/h",50.1,"MJ/kg"]
[3,"灯油","L/h",36.5,"MJ/L"]
[4,"A重油","L/h",38.9,"MJ/L"]
[5,"---","---","---","---"]
[6,"---","---","---","---"]
[7,"---","---","---","---"]
[]
[null,"燃料消費量のkW変換"]
[null,"     C（α/h）＝C×H（高位発熱量）/3.6"]
[null,"例えば、都市ガス13Aで、C＝50Nm3/hの場合、625kWとなる。"]
[null,"     σc（COP）＝Φc（kW）/Pc（kW）←単位を揃える"]

{"sheet":"管理","index":3,"n_rows":43,"n_cols":10,"rows_kept":43,"cut":false,"hidden":true,"merged":[]}
[]
[null,"管理番号","起票日","起票者","区分","状態","内容","担当者","対応日","対応内容"]
[null,0,"2023-02-01","●●●","バグ／課題／要望","発生／完了／対応なし","発生状況等","■■■","2023-02-05"]
[null,1,"2025-01-23","hayakawa","Ver. 1.0","完了","バージョン変更","hayakawa","2025-01-23","内容変更"]
[null,2,"2025-02-05","hayakawa","Ver.1.0.1","完了","主機の燃料使用量の桁違い","hayakawa","2025-02-07","計算式、単位等修正（原さん監修）"]
[null,3,"2025-02-19","hayakawa","Ver.1.1","完了","計算式不備","hayakawa","2025-02-19","計算式修正（原さん監修）"]
[null,4]
[null,5]
[null,6]
[null,7]
[null,8]
[null,9]
[null,10]
[null,11]
[null,12]
[null,13]
[null,14]
[null,15]
[null,16]
[null,17]
[null,18]
[null,19]
[null,20]
[null,21]
[null,22]
[null,23]
[null,24]
[null,25]
[null,26]
[null,27]
[null,28]
[null,29]
[null,30]
[null,31]
[null,32]
[null,33]
[null,34]
[null,35]
[null,36]
[null,37]
[null,38]
[null,39]
[null,40]

{"sheet":"都道府県庁所在地等一覧表","index":4,"n_rows":50,"n_cols":5,"rows_kept":50,"cut":false,"hidden":true,"merged":[]}
[]
[null,"都道府県"]
[null,null,"都道府県名","data取得都市名","県庁所在都市名"]
[null,1,"北海道","札幌","札幌"]
[null,2,"青森","青森","青森"]
[null,3,"岩手","盛岡","盛岡"]
[null,4,"宮城","仙台","仙台"]
[null,5,"秋田","秋田","秋田"]
[null,6,"山形","山形","山形"]
[null,7,"福島","福島","福島"]
[null,8,"茨城","水戸","水戸"]
[null,9,"栃木","宇都宮","宇都宮"]
[null,10,"群馬","前橋","前橋"]
[null,11,"埼玉","熊谷","さいたま"]
[null,12,"千葉","千葉","千葉"]
[null,13,"東京","東京","東京"]
[null,14,"神奈川","横浜","横浜"]
[null,15,"新潟","新潟","新潟"]
[null,16,"富山","富山","富山"]
[null,17,"石川","金沢","金沢"]
[null,18,"福井","福井","福井"]
[null,19,"山梨","甲府","甲府"]
[null,20,"長野","長野","長野"]
[null,21,"岐阜","岐阜","岐阜"]
[null,22,"静岡","静岡","静岡"]
[null,23,"愛知","名古屋","名古屋"]
[null,24,"三重","津","津"]
[null,25,"滋賀","彦根","大津"]
[null,26,"京都","京都","京都"]
[null,27,"大阪","大阪","大阪"]
[null,28,"兵庫","神戸","神戸"]
[null,29,"奈良","奈良","奈良"]
[null,30,"和歌山","和歌山","和歌山"]
[null,31,"鳥取","鳥取","鳥取"]
[null,32,"島根","松江","松江"]
[null,33,"岡山","岡山","岡山"]
[null,34,"広島","広島","広島"]
[null,35,"山口","山口","山口"]
[null,36,"徳島","徳島","徳島"]
[null,37,"香川","高松","高松"]
[null,38,"愛媛","松山","松山"]
[null,39,"高知","高知","高知"]
[null,40,"福岡","福岡","福岡"]
[null,41,"佐賀","佐賀","佐賀"]
[null,42,"長崎","長崎","長崎"]
[null,43,"熊本","熊本","熊本"]
[null,44,"大分","大分","大分"]
[null,45,"宮崎","宮崎","宮崎"]
[null,46,"鹿児島","鹿児島","鹿児島"]
[null,47,"沖縄","那覇","那覇"]

{"sheet":"札幌","index":5,"n_rows":16,"n_cols":25,"rows_kept":16,"cut":false,"hidden":true,"merged":[]}
["気象データ"]
[{"$f":"RIGHT(CELL(\"filename\",A2),LEN(CELL(\"filename\",A2))-FIND(\"]\",CELL(\"filename\",A2)))","v":"札幌"}]
["時刻別平均外気湿球温度"]
["時刻",0,1,2,3,4,5,6,7,8,9,10,11,12,13,14,15,16,17,18,19,20,21,22,23]
["4月",3.1,2.9,2.8,2.6,2.5,2.4,2.6,3.1,3.9,4.5,4.9000000000000004,5.2,5.5,5.5,5.5,5.3,5.0999999999999996,4.8,4.5,4.3,4.0999999999999996,3.8,3.6,3.4]
["5月",8.4,8.1999999999999993,8.1,7.9,7.8,7.8,8.1999999999999993,8.8000000000000007,9.5,10,10.4,10.7,10.9,10.9,10.8,10.6,10.4,10.1,9.6999999999999993,9.5,9.3000000000000007,9.1,8.9,8.6999999999999993]
["6月",12.9,12.8,12.6,12.5,12.4,12.4,12.7,13.2,13.8,14.4,14.8,15.1,15.2,15.3,15.3,15.1,14.9,14.6,14.3,14,13.8,13.6,13.4,13.2]
["7月",17.3,17.100000000000001,17,16.899999999999999,16.8,16.8,17,17.5,18,18.5,18.8,19.100000000000001,19.3,19.3,19.3,19.2,19,18.8,18.5,18.2,18,17.899999999999999,17.7,17.600000000000001]
["8月",18.600000000000001,18.399999999999999,18.3,18.100000000000001,18,18,18.100000000000001,18.5,19,19.399999999999999,19.7,19.899999999999999,20.100000000000001,20.2,20.2,20.100000000000001,19.899999999999999,19.7,19.5,19.3,19.100000000000001,18.899999999999999,18.8,18.600000000000001]
["9月",14.6,14.5,14.3,14.1,14,13.9,13.9,14.4,15,15.6,15.9,16.100000000000001,16.3,16.3,16.3,16.2,16,15.8,15.6,15.4,15.2,15,14.8,14.6]
["10月",8.5,8.3000000000000007,8.1,8,7.8,7.7,7.6,7.9,8.6999999999999993,9.3000000000000007,9.8000000000000007,10.1,10.3,10.3,10.3,10.199999999999999,9.9,9.6,9.4,9.1999999999999993,9,8.8000000000000007,8.6,8.4]
["11月",2.5,2.4,2.2999999999999998,2.1,2.1,2,1.9,2,2.5,3,3.5,3.8,4,4,3.9,3.8,3.5,3.3,3.1,2.9,2.7,2.6,2.5,2.2999999999999998]
["12月",-3,-3.1,-3.2,-3.2,-3.3,-3.3,-3.4,-3.4,-3.2,-2.6,-2.2000000000000002,-1.8,-1.6,-1.6,-1.6,-1.8,-2,-2.2000000000000002,-2.4,-2.5,-2.6,-2.8,-2.9,-3]
["1月",-5.3,-5.4,-5.5,-5.6,-5.6,-5.7,-5.8,-5.8,-5.5,-4.9000000000000004,-4.4000000000000004,-4,-3.7,-3.6,-3.5,-3.7,-3.9,-4.0999999999999996,-4.3,-4.5,-4.7,-4.9000000000000004,-5,-5.2]
["2月",-4.8,-5,-5.0999999999999996,-5.3,-5.4,-5.5,-5.6,-5.6,-5.0999999999999996,-4.3,-3.8,-3.3,-3.1,-2.9,-2.9,-2.9,-3.2,-3.5,-3.7,-3.8,-4,-4.2,-4.3,-4.5]
["3月",-1.6,-1.7,-1.9,-2,-2.1,-2.2000000000000002,-2.2999999999999998,-2,-1.3,-0.7,-0.2,0.1,0.3,0.3,0.4,0.2,0.1,-0.2,-0.4,-0.6,-0.8,-1,-1.1000000000000001,-1.3]

{"sheet":"青森","index":6,"n_rows":16,"n_cols":25,"rows_kept":16,"cut":false,"hidden":true,"merged":[]}
["気象データ"]
[{"$f":"RIGHT(CELL(\"filename\",A2),LEN(CELL(\"filename\",A2))-FIND(\"]\",CELL(\"filename\",A2)))","v":"青森"}]
["時刻別平均外気湿球温度"]
["時刻",0,1,2,3,4,5,6,7,8,9,10,11,12,13,14,15,16,17,18,19,20,21,22,23]
["4月",3.1,2.9,2.8,2.7,2.5,2.4,2.6,3.2,3.9,4.5,5,5.3,5.5,5.6,5.5,5.4,5.2,4.8,4.5,4.3,4.0999999999999996,3.9,3.6,3.5]
["5月",8.4,8.1999999999999993,8.1,7.9,7.8,7.8,8.1999999999999993,8.8000000000000007,9.5,10,10.4,10.7,10.9,10.9,10.8,10.6,10.4,10.1,9.6999999999999993,9.5,9.3000000000000007,9.1,8.9,8.6999999999999993]
["6月",12.9,12.8,12.6,12.5,12.4,12.4,12.7,13.2,13.8,14.4,14.8,15.1,15.2,15.3,15.3,15.1,14.9,14.6,14.3,14,13.8,13.6,13.4,13.2]
["7月",17.3,17.100000000000001,17,16.899999999999999,16.8,16.8,17,17.5,18,18.5,18.8,19.100000000000001,19.3,19.3,19.3,19.2,19,18.8,18.5,18.2,18,17.899999999999999,17.7,17.600000000000001]
["8月",18.600000000000001,18.399999999999999,18.3,18.100000000000001,18,18,18.100000000000001,18.5,19,19.399999999999999,19.7,19.899999999999999,20.100000000000001,20.2,20.2,20.100000000000001,19.899999999999999,19.7,19.5,19.3,19.100000000000001,18.899999999999999,18.8,18.600000000000001]
["9月",14.6,14.5,14.3,14.1,14,13.9,13.9,14.4,15,15.6,15.9,16.100000000000001,16.3,16.3,16.3,16.2,16,15.8,15.6,15.4,15.2,15,14.8,14.6]
["10月",8.5,8.3000000000000007,8.1,8,7.8,7.7,7.6,7.9,8.6999999999999993,9.3000000000000007,9.8000000000000007,10.1,10.3,10.3,10.3,10.199999999999999,9.9,9.6,9.4,9.1999999999999993,9,8.8000000000000007,8.6,8.4]
["11月",2.5,2.4,2.2999999999999998,2.1,2.1,2,1.9,2,2.5,3,3.5,3.8,4,4,3.9,3.8,3.5,3.3,3.1,2.9,2.7,2.6,2.5,2.2999999999999998]
["12月",-3,-3.1,-3.2,-3.2,-3.3,-3.3,-3.4,-3.4,-3.2,-2.6,-2.2000000000000002,-1.8,-1.6,-1.6,-1.6,-1.8,-2,-2.2000000000000002,-2.4,-2.5,-2.6,-2.8,-2.9,-3]
["1月",-5.3,-5.4,-5.5,-5.6,-5.6,-5.7,-5.8,-5.8,-5.5,-4.9000000000000004,-4.4000000000000004,-4,-3.7,-3.6,-3.5,-3.7,-3.9,-4.0999999999999996,-4.3,-4.5,-4.7,-4.9000000000000004,-5,-5.2]
["2月",-4.8,-5,-5.0999999999999996,-5.3,-5.4,-5.5,-5.6,-5.6,-5.0999999999999996,-4.3,-3.8,-3.3,-3.1,-2.9,-2.9,-2.9,-3.2,-3.5,-3.7,-3.8,-4,-4.2,-4.3,-4.5]
["3月",-1.6,-1.7,-1.9,-2,-2.1,-2.2000000000000002,-2.2999999999999998,-2,-1.3,-0.7,-0.2,0.1,0.3,0.3,0.4,0.2,0.1,-0.2,-0.4,-0.6,-0.8,-1,-1.1000000000000001,-1.3]

{"sheet":"盛岡","index":7,"n_rows":16,"n_cols":25,"rows_kept":16,"cut":false,"hidden":true,"merged":[]}
["気象データ"]
[{"$f":"RIGHT(CELL(\"filename\",A2),LEN(CELL(\"filename\",A2))-FIND(\"]\",CELL(\"filename\",A2)))","v":"盛岡"}]
["時刻別平均外気湿球温度"]
["時刻",0,1,2,3,4,5,6,7,8,9,10,11,12,13,14,15,16,17,18,19,20,21,22,23]
["4月",4.2,3.9,3.7,3.5,3.3,3.1,3.3,4.2,5,5.8,6.4,6.9,7.2,7.4,7.5,7.4,7.2,6.9,6.4,6.1,5.7,5.3,5,4.7]
["5月",9.9,9.6,9.4,9.1,8.9,8.9,9.4,10.1,10.8,11.4,11.9,12.3,12.6,12.9,12.9,12.8,12.7,12.3,12,11.6,11.3,10.9,10.6,10.3]
["6月",14.6,14.4,14.2,14,13.8,13.9,14.3,14.8,15.4,15.9,16.3,16.7,16.899999999999999,17.100000000000001,17.2,17.2,17.100000000000001,16.8,16.600000000000001,16.2,15.9,15.6,15.3,15.1]
["7月",19,18.8,18.7,18.5,18.399999999999999,18.399999999999999,18.600000000000001,19,19.5,19.899999999999999,20.2,20.6,20.8,20.9,21,21.1,20.9,20.8,20.5,20.2,20,19.7,19.5,19.3]
["8月",20.2,20,19.8,19.7,19.600000000000001,19.5,19.600000000000001,20,20.5,21,21.3,21.6,21.8,21.9,22,21.9,21.8,21.7,21.4,21.1,20.9,20.7,20.5,20.3]
["9月",16.100000000000001,15.9,15.8,15.6,15.4,15.3,15.3,15.8,16.5,17.100000000000001,17.5,17.8,18,18.100000000000001,18.2,18.100000000000001,18,17.8,17.5,17.2,16.899999999999999,16.7,16.399999999999999,16.2]
["10月",9.6,9.4,9.1999999999999993,9,8.8000000000000007,8.6,8.5,8.9,9.8000000000000007,10.7,11.4,11.8,12.1,12.2,12.3,12.2,12,11.6,11.2,10.8,10.5,10.199999999999999,9.9,9.6999999999999993]
["11月",3.7,3.5,3.4,3.2,3,2.9,2.8,2.9,3.6,4.5,5.2,5.7,6.1,6.3,6.3,6.2,5.8,5.4,5,4.7,4.4000000000000004,4.0999999999999996,3.9,3.7]
["12月",-1.2,-1.3,-1.5,-1.5,-1.7,-1.8,-1.9,-1.9,-1.6,-0.8,-0.2,0.3,0.7,0.8,0.9,0.7,0.4,0,-0.2,-0.5,-0.7,-0.8,-1,-1.1000000000000001]
["1月",-3.8,-3.9,-4.0999999999999996,-4.2,-4.4000000000000004,-4.5,-4.5999999999999996,-4.7,-4.3,-3.4,-2.6,-2,-1.6,-1.4,-1.4,-1.5,-1.8,-2.2000000000000002,-2.5,-2.7,-3,-3.2,-3.4,-3.6]
["2月",-3.3,-3.5,-3.7,-3.9,-4,-4.2,-4.4000000000000004,-4.4000000000000004,-3.7,-2.7,-1.9,-1.3,-1,-0.7,-0.6,-0.7,-0.9,-1.3,-1.7,-2,-2.2999999999999998,-2.5,-2.7,-3]
["3月",-0.5,-0.7,-0.9,-1.1000000000000001,-1.2,-1.4,-1.5,-1.1000000000000001,-0.2,0.6,1.3,1.8,2.2000000000000002,2.4,2.5,2.4,2.1,1.8,1.3,1,0.7,0.4,0.1,-0.1]

{"sheet":"仙台","index":8,"n_rows":16,"n_cols":25,"rows_kept":16,"cut":false,"hidden":true,"merged":[]}
["気象データ"]
[{"$f":"RIGHT(CELL(\"filename\",A2),LEN(CELL(\"filename\",A2))-FIND(\"]\",CELL(\"filename\",A2)))","v":"仙台"}]
["時刻別平均外気湿球温度"]
["時刻",0,1,2,3,4,5,6,7,8,9,10,11,12,13,14,15,16,17,18,19,20,21,22,23]
["4月",6.3,6.1,5.9,5.6,5.5,5.3,5.5,6,6.7,7.4,7.9,8.3000000000000007,8.5,8.5,8.6,8.5,8.3000000000000007,8,7.7,7.5,7.3,7.2,6.9,6.7]
["5月",11.6,11.4,11.2,11,10.8,10.8,11.1,11.6,12.2,12.7,13.1,13.3,13.4,13.4,13.4,13.3,13.2,13,12.7,12.5,12.4,12.2,12.1,11.9]
["6月",16.100000000000001,15.9,15.8,15.6,15.5,15.5,15.7,16.100000000000001,16.5,16.8,17.2,17.399999999999999,17.5,17.5,17.399999999999999,17.3,17.2,17.100000000000001,16.899999999999999,16.7,16.600000000000001,16.600000000000001,16.5,16.399999999999999]
["7月",20.2,20.100000000000001,20,19.899999999999999,19.8,19.8,19.899999999999999,20.2,20.5,20.8,21.2,21.3,21.4,21.4,21.4,21.2,21.1,21,20.8,20.7,20.6,20.5,20.5,20.399999999999999]
["8月",21.6,21.5,21.3,21.2,21.1,21,21.1,21.3,21.7,22,22.4,22.6,22.7,22.7,22.5,22.6,22.4,22.3,22.1,22,22,21.9,21.8,21.7]
["9月",18.100000000000001,17.899999999999999,17.8,17.600000000000001,17.399999999999999,17.3,17.3,17.600000000000001,18.100000000000001,18.5,18.8,19,19.2,19.3,19.3,19.2,19.100000000000001,19,18.899999999999999,18.8,18.7,18.5,18.3,18.100000000000001]
["10月",12.2,12,11.8,11.6,11.5,11.3,11.2,11.5,12.1,12.7,13.2,13.6,13.8,13.9,13.9,13.8,13.6,13.4,13.2,13,12.9,12.6,12.4,12.2]
["11月",6.4,6.3,6.1,5.9,5.8,5.7,5.6,5.7,6.3,7,7.6,8,8.3000000000000007,8.5,8.5,8.4,8.1,7.8,7.6,7.4,7.1,6.9,6.7,6.4]
["12月",1.6,1.5,1.3,1.2,1.1000000000000001,1,0.9,0.9,1.3,2,2.6,3.1,3.4,3.5,3.5,3.4,3.1,2.8,2.6,2.4,2.2000000000000002,2,1.8,1.6]
["1月",-0.8,-0.9,-1.1000000000000001,-1.2,-1.3,-1.4,-1.5,-1.5,-1,-0.4,0.2,0.7,1,1.1000000000000001,1.1000000000000001,1,0.7,0.4,0.2,0,-0.2,-0.4,-0.5,-0.7]
["2月",-0.6,-0.8,-0.9,-1.1000000000000001,-1.2,-1.3,-1.4,-1.3,-0.7,0,0.7,1.1000000000000001,1.4,1.6,1.7,1.6,1.3,1,0.7,0.4,0.2,0,-0.1,-0.3]
["3月",1.9,1.7,1.5,1.3,1.1000000000000001,1,0.9,1.3,2,2.7,3.3,3.7,4,4.2,4.2,4.0999999999999996,4,3.6,3.3,3.1,2.9,2.6,2.4,2.2000000000000002]

{"sheet":"秋田","index":9,"n_rows":16,"n_cols":25,"rows_kept":16,"cut":false,"hidden":true,"merged":[]}
["気象データ"]
[{"$f":"RIGHT(CELL(\"filename\",A2),LEN(CELL(\"filename\",A2))-FIND(\"]\",CELL(\"filename\",A2)))","v":"秋田"}]
["時刻別平均外気湿球温度"]
["時刻",0,1,2,3,4,5,6,7,8,9,10,11,12,13,14,15,16,17,18,19,20,21,22,23]
["4月",5.7,5.5,5.3,5.0999999999999996,4.9000000000000004,4.8,4.9000000000000004,5.6,6.4,7.1,7.6,7.8,8,8.1,8.1,8,7.8,7.6,7.3,7.1,6.9,6.6,6.3,6.1]
["5月",11.2,10.9,10.7,10.6,10.4,10.4,10.7,11.3,12,12.5,12.8,13.1,13.2,13.2,13.2,13.1,13,12.8,12.6,12.4,12.2,12.1,11.8,11.6]
["6月",15.7,15.5,15.3,15.2,15,15,15.3,15.9,16.399999999999999,16.8,17.100000000000001,17.3,17.399999999999999,17.399999999999999,17.399999999999999,17.399999999999999,17.3,17.2,17,16.8,16.7,16.5,16.3,16.100000000000001]
["7月",20.2,20,19.8,19.7,19.600000000000001,19.600000000000001,19.8,20.2,20.6,20.9,21.2,21.4,21.5,21.5,21.5,21.5,21.5,21.4,21.2,21.1,20.9,20.8,20.7,20.5]
["8月",21.3,21.1,20.9,20.8,20.7,20.6,20.7,21.1,21.6,22,22.3,22.5,22.6,22.7,22.7,22.7,22.6,22.5,22.3,22.2,22.1,21.9,21.7,21.4]
["9月",17.2,16.899999999999999,16.8,16.600000000000001,16.5,16.399999999999999,16.399999999999999,16.8,17.399999999999999,18,18.399999999999999,18.600000000000001,18.8,18.8,18.8,18.8,18.7,18.5,18.3,18.100000000000001,17.899999999999999,17.7,17.399999999999999,17.2]
["10月",11,10.8,10.7,10.5,10.4,10.3,10.199999999999999,10.4,11.1,11.9,12.5,12.8,13,13,13,12.9,12.7,12.5,12.3,12.1,11.8,11.5,11.2,11]
["11月",5.6,5.4,5.3,5.2,5.0999999999999996,5,4.9000000000000004,5,5.4,6,6.6,7,7.2,7.4,7.3,7.2,7,6.7,6.5,6.3,6,5.8,5.6,5.5]
["12月",0.7,0.7,0.6,0.6,0.5,0.4,0.4,0.3,0.5,0.9,1.3,1.6,1.8,1.9,1.9,1.9,1.7,1.5,1.4,1.2,1,0.9,0.8,0.7]
["1月",-1.5,-1.6,-1.6,-1.7,-1.8,-1.8,-1.9,-1.9,-1.7,-1.4,-1,-0.7,-0.5,-0.4,-0.4,-0.5,-0.7,-0.8,-0.9,-1.1000000000000001,-1.2,-1.3,-1.4,-1.5]
["2月",-1.3,-1.4,-1.5,-1.6,-1.7,-1.7,-1.8,-1.8,-1.5,-1,-0.5,-0.2,0,0.2,0.2,0.1,0,-0.2,-0.4,-0.6,-0.7,-0.9,-1,-1.1000000000000001]
["3月",1.1000000000000001,1,0.8,0.7,0.6,0.5,0.5,0.7,1.3,2,2.5,2.9,3.1,3.2,3.2,3.1,3,2.7,2.5,2.2999999999999998,2,1.8,1.6,1.4]

{"sheet":"山形","index":10,"n_rows":16,"n_cols":25,"rows_kept":16,"cut":false,"hidden":true,"merged":[]}
["気象データ"]
[{"$f":"RIGHT(CELL(\"filename\",A2),LEN(CELL(\"filename\",A2))-FIND(\"]\",CELL(\"filename\",A2)))","v":"山形"}]
["時刻別平均外気湿球温度"]
["時刻",0,1,2,3,4,5,6,7,8,9,10,11,12,13,14,15,16,17,18,19,20,21,22,23]
["4月",5.3,5.0999999999999996,4.8,4.5999999999999996,4.4000000000000004,4.2,4.4000000000000004,5.0999999999999996,5.8,6.6,7.2,7.8,8.1,8.3000000000000007,8.4,8.4,8.1999999999999993,7.9,7.4,7,6.7,6.4,6,5.7]
["5月",10.9,10.7,10.5,10.3,10.1,10,10.3,10.9,11.6,12.2,12.7,13.1,13.4,13.7,13.7,13.6,13.5,13.2,12.9,12.4,12.1,11.8,11.5,11.3]
["6月",15.6,15.4,15.3,15.1,14.9,14.9,15.3,15.7,16.2,16.7,17.100000000000001,17.399999999999999,17.600000000000001,17.8,17.899999999999999,17.899999999999999,17.899999999999999,17.600000000000001,17.399999999999999,17,16.8,16.5,16.3,16]
["7月",19.899999999999999,19.8,19.7,19.5,19.399999999999999,19.399999999999999,19.600000000000001,20,20.399999999999999,20.8,21.2,21.5,21.7,21.8,21.9,21.9,21.8,21.6,21.4,21,20.8,20.6,20.399999999999999,20.2]
["8月",20.9,20.7,20.6,20.5,20.3,20.2,20.399999999999999,20.8,21.3,21.7,22.1,22.3,22.5,22.5,22.6,22.6,22.5,22.4,22.1,21.9,21.6,21.4,21.2,21]
["9月",17.100000000000001,16.899999999999999,16.7,16.600000000000001,16.399999999999999,16.3,16.3,16.7,17.2,17.8,18.2,18.5,18.7,18.8,18.899999999999999,18.899999999999999,18.8,18.5,18.2,17.899999999999999,17.7,17.5,17.3,17.100000000000001]
["10月",11,10.8,10.6,10.4,10.3,10.1,10,10.4,11,11.7,12.3,12.7,13,13.2,13.2,13.2,13,12.7,12.3,12,11.7,11.4,11.2,11]
["11月",5.2,5.0999999999999996,4.9000000000000004,4.8,4.5999999999999996,4.5,4.4000000000000004,4.5,5.0999999999999996,5.8,6.5,7,7.4,7.6,7.6,7.6,7.3,6.8,6.5,6.2,5.9,5.7,5.4,5.3]
["12月",0.7,0.5,0.4,0.3,0.2,0.1,0,0,0.4,1,1.6,2,2.2999999999999998,2.5,2.6,2.4,2.1,1.8,1.5,1.3,1.1000000000000001,1,0.8,0.7]
["1月",-1.7,-1.9,-2,-2.1,-2.2000000000000002,-2.2999999999999998,-2.4,-2.4,-2.1,-1.5,-0.9,-0.4,-0.1,0.1,0.1,0,-0.2,-0.5,-0.8,-1,-1.2,-1.3,-1.5,-1.6]
["2月",-1.7,-1.8,-2,-2.1,-2.2999999999999998,-2.4,-2.5,-2.5,-1.9,-1.2,-0.5,0,0.3,0.5,0.6,0.6,0.4,0,-0.3,-0.6,-0.8,-1,-1.2,-1.4]
["3月",0.8,0.6,0.4,0.2,0,-0.1,-0.2,0.2,0.9,1.7,2.2999999999999998,2.8,3.2,3.5,3.6,3.6,3.4,3,2.5,2.2000000000000002,1.9,1.6,1.4,1.1000000000000001]

{"sheet":"福島","index":11,"n_rows":16,"n_cols":25,"rows_kept":16,"cut":false,"hidden":true,"merged":[]}
["気象データ"]
[{"$f":"RIGHT(CELL(\"filename\",A2),LEN(CELL(\"filename\",A2))-FIND(\"]\",CELL(\"filename\",A2)))","v":"福島"}]
["時刻別平均外気湿球温度"]
["時刻",0,1,2,3,4,5,6,7,8,9,10,11,12,13,14,15,16,17,18,19,20,21,22,23]
["4月",6.5,6.3,6,5.8,5.6,5.4,5.5,6.1,6.9,7.7,8.3000000000000007,8.6999999999999993,9,9.1999999999999993,9.3000000000000007,9.1999999999999993,9,8.6999999999999993,8.3000000000000007,7.9,7.6,7.4,7.2,6.9]
["5月",11.8,11.6,11.4,11.2,11,10.9,11.2,11.7,12.4,13,13.5,13.8,14,14.1,14.3,14.2,14,13.8,13.4,13.1,12.8,12.6,12.4,12.2]
["6月",16.3,16.100000000000001,16,15.8,15.6,15.6,15.8,16.2,16.7,17.100000000000001,17.5,17.8,18,18.100000000000001,18.2,18.3,18.2,18,17.8,17.399999999999999,17.2,17,16.8,16.600000000000001]
["7月",20.399999999999999,20.3,20.2,20.100000000000001,20,19.899999999999999,20,20.399999999999999,20.7,21.1,21.4,21.7,21.8,22.1,22.1,22.2,22.1,21.9,21.6,21.4,21.1,20.9,20.8,20.6]
["8月",21.6,21.4,21.3,21.2,21.1,21,21,21.3,21.7,22.1,22.4,22.7,22.8,22.8,22.9,23,23,22.8,22.6,22.3,22.1,21.9,21.8,21.7]
["9月",18,17.899999999999999,17.7,17.5,17.399999999999999,17.3,17.2,17.5,17.899999999999999,18.399999999999999,18.8,19.100000000000001,19.3,19.399999999999999,19.399999999999999,19.399999999999999,19.3,19.2,19,18.8,18.600000000000001,18.399999999999999,18.2,18]
["10月",12.2,12,11.8,11.6,11.4,11.3,11.2,11.4,12,12.6,13.2,13.6,13.9,14.1,14.1,14.1,13.9,13.6,13.4,13.1,12.9,12.7,12.4,12.2]
["11月",6.3,6.1,5.9,5.7,5.5,5.4,5.2,5.3,5.8,6.6,7.3,8,8.4,8.6,8.6999999999999993,8.6,8.3000000000000007,8,7.7,7.4,7.1,6.9,6.6,6.4]
["12月",1.6,1.5,1.3,1.2,1,0.9,0.8,0.7,1,1.7,2.4,3,3.4,3.7,3.7,3.6,3.3,3,2.7,2.5,2.2999999999999998,2.1,1.9,1.7]
["1月",-0.8,-1,-1.1000000000000001,-1.3,-1.4,-1.5,-1.6,-1.6,-1.3,-0.6,0.1,0.6,1.1000000000000001,1.3,1.4,1.2,0.9,0.6,0.3,0.1,-0.1,-0.3,-0.5,-0.7]
["2月",-0.5,-0.7,-0.9,-1.1000000000000001,-1.2,-1.3,-1.4,-1.4,-0.9,-0.1,0.6,1.2,1.7,1.9,2,1.9,1.7,1.2,0.9,0.7,0.4,0.2,0,-0.2]
["3月",1.9,1.7,1.5,1.3,1.1000000000000001,1,0.9,1.2,1.9,2.7,3.5,4,4.4000000000000004,4.7,4.8,4.7,4.5,4,3.6,3.3,3,2.8,2.5,2.2999999999999998]

{"sheet":"水戸","index":12,"n_rows":16,"n_cols":25,"rows_kept":16,"cut":false,"hidden":true,"merged":[]}
["気象データ"]
[{"$f":"RIGHT(CELL(\"filename\",A2),LEN(CELL(\"filename\",A2))-FIND(\"]\",CELL(\"filename\",A2)))","v":"水戸"}]
["時刻別平均外気湿球温度"]
["時刻",0,1,2,3,4,5,6,7,8,9,10,11,12,13,14,15,16,17,18,19,20,21,22,23]
["4月",8.1999999999999993,7.9,7.6,7.4,7.1,6.9,7,7.8,8.9,9.6999999999999993,10.199999999999999,10.5,10.8,11,10.9,10.8,10.6,10.3,10.1,9.8000000000000007,9.6,9.4,9.1,8.6999999999999993]
["5月",13.4,13.1,12.9,12.7,12.5,12.4,12.7,13.4,14.1,14.6,14.9,15.2,15.2,15.3,15.3,15.2,15,14.8,14.5,14.3,14.2,14.1,13.9,13.7]
["6月",17.399999999999999,17.2,17.100000000000001,16.899999999999999,16.8,16.7,17,17.5,18,18.3,18.600000000000001,18.8,18.899999999999999,18.899999999999999,18.899999999999999,18.7,18.5,18.399999999999999,18.2,18,17.8,17.8,17.7,17.600000000000001]
["7月",21.1,21,20.9,20.9,20.8,20.7,21,21.4,21.8,22.2,22.5,22.6,22.8,22.8,22.7,22.5,22.3,22.1,21.9,21.6,21.5,21.4,21.4,21.3]
["8月",22.4,22.3,22.2,22.1,22,21.9,22,22.5,23,23.3,23.5,23.7,23.9,23.9,23.8,23.7,23.5,23.3,23,22.9,22.8,22.7,22.6,22.5]
["9月",19.100000000000001,18.899999999999999,18.8,18.7,18.5,18.399999999999999,18.399999999999999,18.899999999999999,19.600000000000001,20,20.3,20.5,20.6,20.7,20.6,20.5,20.3,20.100000000000001,19.899999999999999,19.8,19.7,19.600000000000001,19.399999999999999,19.2]
["10月",13.5,13.3,13.1,12.9,12.7,12.6,12.5,12.9,13.8,14.6,15.1,15.4,15.5,15.6,15.6,15.5,15.3,15,14.8,14.6,14.3,14,13.7,13.5]
["11月",7.5,7.2,7,6.8,6.6,6.4,6.2,6.4,7.4,8.6999999999999993,9.6999999999999993,10.3,10.5,10.7,10.6,10.5,10.3,9.9,9.5,9.1,8.6,8.1999999999999993,7.9,7.5]
["12月",1.9,1.6,1.4,1.2,1.1000000000000001,0.9,0.8,0.7,1.5,2.9,4.2,5.0999999999999996,5.5,5.7,5.8,5.6,5.2,4.7,4.2,3.7,3.2,2.7,2.2999999999999998,2]
["1月",-0.6,-0.8,-1.1000000000000001,-1.3,-1.5,-1.7,-1.8,-1.9,-1.1000000000000001,0.3,1.7,2.5,3,3.3,3.4,3.2,2.9,2.4,1.8,1.3,0.8,0.4,0,-0.3]
["2月",0,-0.2,-0.5,-0.7,-0.9,-1.1000000000000001,-1.2,-1.2,-0.2,1.2,2.4,3.1,3.5,3.8,3.9,3.8,3.5,3.1,2.7,2.2000000000000002,1.8,1.3,0.9,0.5]
["3月",3.4,3.2,2.9,2.6,2.4,2.2000000000000002,2,2.5,3.7,4.8,5.5,6,6.3,6.6,6.6,6.6,6.4,6,5.7,5.4,5.0999999999999996,4.7,4.3,3.9]

{"sheet":"宇都宮","index":13,"n_rows":16,"n_cols":25,"rows_kept":16,"cut":false,"hidden":true,"merged":[]}
["気象データ"]
[{"$f":"RIGHT(CELL(\"filename\",A2),LEN(CELL(\"filename\",A2))-FIND(\"]\",CELL(\"filename\",A2)))","v":"宇都宮"}]
["時刻別平均外気湿球温度"]
["時刻",0,1,2,3,4,5,6,7,8,9,10,11,12,13,14,15,16,17,18,19,20,21,22,23]
["4月",8,7.7,7.5,7.2,6.9,6.7,6.8,7.5,8.3000000000000007,9.1,9.6999999999999993,10.199999999999999,10.5,10.7,10.8,10.8,10.6,10.3,9.9,9.5,9.1999999999999993,9,8.6999999999999993,8.5]
["5月",13.2,13,12.8,12.6,12.4,12.3,12.6,13.1,13.7,14.2,14.7,15.1,15.3,15.4,15.5,15.4,15.3,15.1,14.7,14.4,14.1,13.9,13.7,13.6]
["6月",17.399999999999999,17.2,17.100000000000001,17,16.8,16.8,17,17.399999999999999,17.8,18.2,18.600000000000001,18.899999999999999,19.100000000000001,19.2,19.2,19.2,19.100000000000001,19,18.8,18.5,18.2,18,17.8,17.7]
["7月",21.2,21.1,21,21,20.8,20.7,20.9,21.2,21.6,22,22.4,22.6,22.9,23,23,23.1,22.9,22.8,22.4,22.2,21.9,21.8,21.6,21.4]
["8月",22.3,22.2,22.1,22,21.9,21.8,21.9,22.2,22.6,23,23.3,23.6,23.8,23.9,23.9,23.9,23.7,23.5,23.3,23,22.8,22.6,22.5,22.4]
["9月",18.899999999999999,18.8,18.600000000000001,18.5,18.3,18.2,18.2,18.5,19,19.399999999999999,19.8,20.100000000000001,20.3,20.399999999999999,20.399999999999999,20.399999999999999,20.2,20.100000000000001,19.8,19.600000000000001,19.3,19.2,19,18.899999999999999]
["10月",13.2,13,12.8,12.6,12.4,12.2,12.1,12.5,13.2,13.9,14.4,14.8,15,15.2,15.2,15.1,14.9,14.6,14.3,14.1,13.9,13.7,13.5,13.2]
["11月",7.1,6.8,6.6,6.3,6.1,5.9,5.7,5.9,7,8,8.8000000000000007,9.4,9.8000000000000007,10,10,9.8000000000000007,9.5,9.1,8.8000000000000007,8.5,8.1,7.8,7.5,7.2]
["12月",1.6,1.3,1,0.8,0.6,0.4,0.2,0.2,1.1000000000000001,2.6,3.6,4.3,4.8,5,5.0999999999999996,4.9000000000000004,4.5999999999999996,4,3.5,3.1,2.7,2.2999999999999998,2,1.7]
["1月",-1,-1.3,-1.5,-1.8,-2.1,-2.2999999999999998,-2.5,-2.5,-1.6,-0.1,1,1.7,2.2999999999999998,2.6,2.7,2.6,2.2000000000000002,1.6,1.2,0.7,0.3,-0.1,-0.4,-0.7]
["2月",-0.3,-0.6,-0.8,-1.1000000000000001,-1.3,-1.5,-1.7,-1.6,-0.5,0.8,1.7,2.4,2.9,3.2,3.4,3.4,3.1,2.6,2,1.6,1.3,0.9,0.5,0.2]
["3月",3.1,2.8,2.5,2.2000000000000002,2,1.8,1.6,2.1,3.2,4.0999999999999996,4.9000000000000004,5.5,5.9,6.2,6.3,6.3,6.1,5.7,5.2,4.8,4.5,4.2,3.9,3.5]

{"sheet":"前橋","index":14,"n_rows":16,"n_cols":25,"rows_kept":16,"cut":false,"hidden":true,"merged":[]}
["気象データ"]
[{"$f":"RIGHT(CELL(\"filename\",A2),LEN(CELL(\"filename\",A2))-FIND(\"]\",CELL(\"filename\",A2)))","v":"前橋"}]
["時刻別平均外気湿球温度"]
["時刻",0,1,2,3,4,5,6,7,8,9,10,11,12,13,14,15,16,17,18,19,20,21,22,23]
["4月",7.6,7.2,7,6.7,6.5,6.2,6.3,7,8,8.6999999999999993,9.4,9.9,10.199999999999999,10.4,10.5,10.5,10.3,10,9.6999999999999993,9.3000000000000007,9.1,8.8000000000000007,8.5,8.1]
["5月",12.8,12.5,12.2,11.9,11.7,11.6,11.8,12.5,13.2,13.8,14.3,14.7,14.9,15.1,15.2,15.2,15,14.9,14.6,14.3,14,13.8,13.5,13.2]
["6月",17.3,17.100000000000001,16.899999999999999,16.7,16.5,16.399999999999999,16.600000000000001,17,17.5,17.899999999999999,18.3,18.600000000000001,18.8,18.899999999999999,19.100000000000001,18.899999999999999,19,18.8,18.7,18.5,18.3,18.100000000000001,17.899999999999999,17.7]
["7月",21.3,21.2,21,20.9,20.7,20.6,20.7,21.1,21.5,21.9,22.2,22.4,22.6,22.8,22.8,22.9,22.8,22.8,22.6,22.4,22.2,22,21.8,21.6]
["8月",22.2,22,21.9,21.7,21.6,21.5,21.5,21.9,22.3,22.7,23.1,23.4,23.5,23.6,23.7,23.6,23.5,23.4,23.2,23,22.9,22.7,22.5,22.3]
["9月",18.7,18.5,18.399999999999999,18.2,18.100000000000001,17.899999999999999,17.899999999999999,18.2,18.7,19.100000000000001,19.5,19.8,20,20.100000000000001,20.100000000000001,20.100000000000001,19.899999999999999,19.8,19.600000000000001,19.5,19.3,19.100000000000001,18.899999999999999,18.7]
["10月",12.8,12.7,12.5,12.3,12.1,12,11.8,12.1,12.8,13.5,14,14.4,14.6,14.7,14.7,14.7,14.4,14.2,14,13.8,13.5,13.3,13.1,12.9]
["11月",6.8,6.6,6.4,6.2,6.1,5.9,5.7,5.8,6.7,7.7,8.5,9,9.4,9.6,9.6,9.4,9.1,8.6,8.3000000000000007,8,7.7,7.4,7.2,6.9]
["12月",1.9,1.7,1.5,1.4,1.2,1.1000000000000001,0.9,0.9,1.7,2.8,3.7,4.3,4.7,4.9000000000000004,4.9000000000000004,4.7,4.2,3.7,3.3,3,2.7,2.4,2.2000000000000002,1.9]
["1月",-0.5,-0.7,-0.9,-1.1000000000000001,-1.2,-1.4,-1.5,-1.6,-0.9,0.3,1.3,2,2.4,2.6,2.6,2.5,2.1,1.5,1.1000000000000001,0.7,0.4,0.2,-0.1,-0.3]
["2月",-0.1,-0.3,-0.5,-0.7,-0.8,-1,-1.2,-1.1000000000000001,-0.2,0.9,1.8,2.4,2.9,3.1,3.2,3.1,2.8,2.2999999999999998,1.8,1.4,1.1000000000000001,0.8,0.6,0.3]
["3月",2.9,2.6,2.4,2.2000000000000002,2,1.8,1.7,2.1,3,3.9,4.5999999999999996,5.2,5.6,5.8,5.9,5.9,5.7,5.3,4.9000000000000004,4.5,4.2,3.9,3.6,3.3]

{"sheet":"熊谷","index":15,"n_rows":16,"n_cols":25,"rows_kept":16,"cut":false,"hidden":true,"merged":[]}
["気象データ"]
[{"$f":"RIGHT(CELL(\"filename\",A2),LEN(CELL(\"filename\",A2))-FIND(\"]\",CELL(\"filename\",A2)))","v":"熊谷"}]
["時刻別平均外気湿球温度"]
["時刻",0,1,2,3,4,5,6,7,8,9,10,11,12,13,14,15,16,17,18,19,20,21,22,23]
["4月",8.5,8.3000000000000007,8,7.7,7.5,7.2,7.3,8,8.6,9.3000000000000007,9.9,10.4,10.8,11.1,11.2,11.3,11.2,10.9,10.6,10.199999999999999,9.9,9.6,9.3000000000000007,9]
["5月",13.7,13.4,13.2,13,12.8,12.6,12.9,13.4,13.9,14.4,14.8,15.2,15.5,15.6,15.8,15.7,15.7,15.5,15.2,14.9,14.7,14.4,14.2,14]
["6月",18,17.8,17.7,17.5,17.399999999999999,17.3,17.5,17.8,18.100000000000001,18.399999999999999,18.7,19,19.3,19.399999999999999,19.5,19.5,19.5,19.399999999999999,19.2,19,18.8,18.600000000000001,18.5,18.3]
["7月",21.9,21.7,21.7,21.6,21.5,21.4,21.6,21.8,22.1,22.4,22.7,22.9,23.2,23.2,23.3,23.4,23.3,23.2,23.1,22.8,22.5,22.4,22.2,22.1]
["8月",22.9,22.8,22.7,22.6,22.5,22.4,22.5,22.7,23,23.3,23.6,23.8,24,24.1,24,24,24.1,24,23.8,23.5,23.3,23.2,23,23]
["9月",19.5,19.399999999999999,19.2,19.100000000000001,19,18.8,18.8,19.100000000000001,19.399999999999999,19.8,20,20.3,20.5,20.6,20.6,20.6,20.5,20.5,20.3,20.100000000000001,19.899999999999999,19.8,19.600000000000001,19.5]
["10月",13.8,13.5,13.4,13.2,13,12.9,12.7,13,13.6,14.1,14.6,14.9,15.1,15.3,15.3,15.3,15.2,15,14.8,14.6,14.4,14.1,13.9,13.7]
["11月",7.7,7.4,7.2,6.9,6.7,6.5,6.4,6.5,7.4,8.3000000000000007,9,9.5,9.8000000000000007,10.1,10.199999999999999,10.1,9.8000000000000007,9.3000000000000007,9,8.6999999999999993,8.5,8.1999999999999993,8,7.7]
["12月",2.2999999999999998,2.1,1.9,1.7,1.5,1.3,1.2,1.1000000000000001,2,3.1,4,4.7,5.0999999999999996,5.4,5.5,5.3,4.9000000000000004,4.3,3.8,3.5,3.2,2.9,2.6,2.4]
["1月",-0.1,-0.4,-0.6,-0.8,-1,-1.1000000000000001,-1.3,-1.4,-0.6,0.6,1.6,2.4,2.8,3.1,3.3,3.1,2.7,2.1,1.5,1.2,0.9,0.6,0.3,0.1]
["2月",0.5,0.2,0,-0.2,-0.4,-0.6,-0.8,-0.7,0.2,1.3,2.2000000000000002,2.8,3.3,3.7,3.8,3.8,3.6,3.1,2.5,2.1,1.8,1.5,1.2,0.9]
["3月",3.8,3.5,3.2,2.9,2.7,2.5,2.4,2.8,3.6,4.4000000000000004,5.0999999999999996,5.7,6.2,6.5,6.7,6.8,6.6,6.3,5.8,5.5,5.0999999999999996,4.8,4.5,4.2]

{"sheet":"千葉","index":16,"n_rows":16,"n_cols":25,"rows_kept":16,"cut":false,"hidden":true,"merged":[]}
["気象データ"]
[{"$f":"RIGHT(CELL(\"filename\",A2),LEN(CELL(\"filename\",A2))-FIND(\"]\",CELL(\"filename\",A2)))","v":"千葉"}]
["時刻別平均外気湿球温度"]
["時刻",0,1,2,3,4,5,6,7,8,9,10,11,12,13,14,15,16,17,18,19,20,21,22,23]
["4月",10.3,10.199999999999999,10,9.8000000000000007,9.6,9.5,9.5,9.8000000000000007,10.3,10.8,11.1,11.4,11.6,11.8,11.9,11.9,11.9,11.6,11.4,11.2,11.1,10.9,10.8,10.6]
["5月",14.9,14.8,14.7,14.6,14.5,14.4,14.5,14.9,15.2,15.5,15.7,15.9,16.100000000000001,16.100000000000001,16.2,16.2,16.100000000000001,15.9,15.7,15.5,15.4,15.4,15.2,15.1]
["6月",18.5,18.399999999999999,18.3,18.3,18.2,18.100000000000001,18.3,18.5,18.8,19.100000000000001,19.3,19.399999999999999,19.5,19.600000000000001,19.7,19.7,19.7,19.5,19.3,19.100000000000001,19,18.899999999999999,18.8,18.7]
["7月",22.3,22.2,22.1,22.1,22,22,22.1,22.4,22.6,22.9,23.1,23.3,23.4,23.5,23.6,23.5,23.4,23.2,22.9,22.8,22.6,22.5,22.5,22.4]
["8月",23.5,23.4,23.3,23.3,23.2,23.2,23.2,23.5,23.8,24,24.1,24.2,24.3,24.4,24.5,24.4,24.3,24.1,23.9,23.7,23.6,23.6,23.5,23.5]
["9月",20.399999999999999,20.3,20.2,20.100000000000001,20,19.899999999999999,19.899999999999999,20.100000000000001,20.5,20.7,20.9,21.1,21.2,21.2,21.2,21.2,21.1,21,20.8,20.7,20.6,20.6,20.5,20.399999999999999]
["10月",15.2,15,14.9,14.7,14.5,14.3,14.2,14.4,14.9,15.4,15.7,16,16.100000000000001,16.2,16.2,16.2,16.100000000000001,16,15.8,15.7,15.5,15.4,15.3,15.2]
["11月",9.8000000000000007,9.5,9.3000000000000007,9,8.8000000000000007,8.6,8.4,8.5,8.9,9.6,10.199999999999999,10.7,11,11.2,11.3,11.4,11.2,11.1,10.9,10.8,10.6,10.3,10.1,9.9]
["12月",4.5,4.3,4,3.8,3.5,3.3,3.2,3.2,3.7,4.4000000000000004,5.0999999999999996,5.7,6.1,6.3,6.5,6.5,6.3,6.1,5.8,5.5,5.3,5,4.8,4.5999999999999996]
["1月",1.9,1.6,1.4,1.2,1,0.8,0.7,0.6,1,1.8,2.6,3.1,3.6,3.8,4,4.0999999999999996,3.9,3.6,3.3,3.1,2.8,2.5,2.2999999999999998,2.1]
["2月",2.6,2.2999999999999998,2.1,1.9,1.6,1.4,1.3,1.3,1.8,2.5,3.2,3.7,4.0999999999999996,4.4000000000000004,4.5999999999999996,4.7,4.5999999999999996,4.4000000000000004,4.0999999999999996,3.9,3.6,3.4,3.2,2.9]
["3月",5.9,5.6,5.4,5.0999999999999996,4.9000000000000004,4.7,4.5,4.7,5.3,5.9,6.4,6.8,7.1,7.4,7.5,7.6,7.6,7.4,7.2,7,6.8,6.6,6.3,6.2]

{"sheet":"東京","index":17,"n_rows":16,"n_cols":25,"rows_kept":16,"cut":false,"hidden":true,"merged":[]}
["気象データ"]
[{"$f":"RIGHT(CELL(\"filename\",A2),LEN(CELL(\"filename\",A2))-FIND(\"]\",CELL(\"filename\",A2)))","v":"東京"}]
["時刻別平均外気湿球温度"]
["時刻",0,1,2,3,4,5,6,7,8,9,10,11,12,13,14,15,16,17,18,19,20,21,22,23]
["4月",10,9.8000000000000007,9.6,9.3000000000000007,9.1999999999999993,8.9,9,9.3000000000000007,9.6999999999999993,10.199999999999999,10.6,11,11.3,11.5,11.6,11.5,11.5,11.4,11.2,11,10.8,10.7,10.5,10.3]
["5月",14.6,14.5,14.3,14.2,14.1,14,14.1,14.4,14.7,15,15.3,15.6,15.8,15.9,15.9,15.9,15.8,15.7,15.6,15.4,15.3,15.1,15,14.9]
["6月",18.399999999999999,18.3,18.2,18.100000000000001,18,18,18.100000000000001,18.3,18.5,18.8,19,19.2,19.399999999999999,19.5,19.5,19.5,19.5,19.399999999999999,19.2,19.100000000000001,18.899999999999999,18.8,18.7,18.7]
["7月",22.1,22.1,22,21.9,21.9,21.8,22,22.2,22.4,22.6,22.9,23.1,23.2,23.3,23.3,23.3,23.2,23.1,22.9,22.7,22.6,22.5,22.4,22.3]
["8月",23.3,23.2,23.1,23.1,23,22.9,23,23.2,23.4,23.5,23.8,24,24.1,24.1,24.2,24.1,24,24,23.8,23.6,23.5,23.5,23.4,23.3]
["9月",20.100000000000001,20,19.899999999999999,19.8,19.7,19.600000000000001,19.600000000000001,19.7,19.899999999999999,20.2,20.399999999999999,20.5,20.7,20.8,20.8,20.8,20.8,20.7,20.6,20.5,20.399999999999999,20.3,20.2,20.100000000000001]
["10月",14.9,14.7,14.5,14.3,14.1,14,13.8,14,14.3,14.6,15,15.3,15.6,15.7,15.7,15.7,15.7,15.5,15.5,15.4,15.2,15.1,15,14.9]
["11月",9.3000000000000007,9.1,8.9,8.6,8.4,8.1999999999999993,8.1,8.1999999999999993,8.5,9,9.5,10,10.4,10.6,10.7,10.8,10.7,10.5,10.4,10.3,10.1,9.9,9.6,9.4]
["12月",4.0999999999999996,3.9,3.6,3.4,3.2,3.1,3.1,3,3.3,4,4.5999999999999996,5.0999999999999996,5.6,5.9,6,6,5.8,5.5,5.3,5.0999999999999996,4.9000000000000004,4.7,4.5,4.2]
["1月",1.6,1.3,1.1000000000000001,0.9,0.7,0.5,0.4,0.4,0.8,1.4,2.1,2.7,3.1,3.5,3.6,3.6,3.5,3.2,2.9,2.7,2.5,2.2999999999999998,2.1,1.8]
["2月",2.2999999999999998,2,1.7,1.5,1.2,1.1000000000000001,1,1,1.4,2,2.6,3.2,3.7,4,4.3,4.3,4.3,4,3.8,3.6,3.4,3.2,2.9,2.7]
["3月",5.5,5.2,5,4.7,4.4000000000000004,4.3,4.0999999999999996,4.3,4.7,5.3,5.8,6.3,6.8,7.1,7.2,7.3,7.3,7.1,6.9,6.7,6.6,6.4,6.1,5.8]

{"sheet":"横浜","index":18,"n_rows":16,"n_cols":25,"rows_kept":16,"cut":false,"hidden":true,"merged":[]}
["気象データ"]
[{"$f":"RIGHT(CELL(\"filename\",A2),LEN(CELL(\"filename\",A2))-FIND(\"]\",CELL(\"filename\",A2)))","v":"横浜"}]
["時刻別平均外気湿球温度"]
["時刻",0,1,2,3,4,5,6,7,8,9,10,11,12,13,14,15,16,17,18,19,20,21,22,23]
["4月",10.199999999999999,10,9.8000000000000007,9.6,9.4,9.3000000000000007,9.3000000000000007,9.5,10,10.6,11,11.4,11.6,11.7,11.9,11.8,11.8,11.6,11.4,11.2,11.1,10.9,10.7,10.6]
["5月",14.7,14.6,14.4,14.3,14.2,14.1,14.2,14.5,14.9,15.3,15.6,15.8,15.9,16.100000000000001,16.100000000000001,16.100000000000001,16,15.8,15.6,15.5,15.3,15.2,15,14.9]
["6月",18.399999999999999,18.3,18.2,18.100000000000001,18,18,18.100000000000001,18.3,18.600000000000001,18.899999999999999,19.100000000000001,19.3,19.399999999999999,19.5,19.600000000000001,19.600000000000001,19.5,19.3,19.2,19,18.899999999999999,18.8,18.7,18.600000000000001]
["7月",22.1,22,22,21.9,21.9,21.8,22,22.2,22.5,22.7,23,23.1,23.2,23.3,23.4,23.4,23.2,23,22.8,22.6,22.5,22.4,22.3,22.3]
["8月",23.3,23.3,23.2,23.1,23.1,23,23.1,23.2,23.5,23.7,24,24.1,24.3,24.3,24.3,24.3,24.2,24,23.7,23.6,23.6,23.5,23.4,23.4]
["9月",20.3,20.2,20,19.899999999999999,19.8,19.7,19.7,19.8,20.100000000000001,20.399999999999999,20.6,20.8,21,21.1,21.1,21.1,21,20.9,20.7,20.6,20.5,20.399999999999999,20.399999999999999,20.2]
["10月",15,14.9,14.7,14.5,14.3,14.2,14.1,14.1,14.5,14.9,15.3,15.6,15.9,16.100000000000001,16.100000000000001,16.100000000000001,15.9,15.8,15.6,15.5,15.4,15.3,15.2,15.1]
["11月",9.6999999999999993,9.4,9.1999999999999993,9,8.8000000000000007,8.6,8.5,8.5,8.8000000000000007,9.4,9.9,10.4,10.8,11.1,11.2,11.2,11,10.8,10.7,10.5,10.4,10.199999999999999,10,9.6999999999999993]
["12月",4.5,4.2,4,3.8,3.7,3.5,3.5,3.4,3.8,4.4000000000000004,5.0999999999999996,5.7,6.1,6.4,6.6,6.5,6.3,5.9,5.7,5.5,5.3,5.0999999999999996,4.8,4.5999999999999996]
["1月",1.9,1.7,1.4,1.2,1,0.9,0.8,0.7,1.1000000000000001,1.8,2.5,3.1,3.6,4,4.0999999999999996,4.0999999999999996,3.9,3.6,3.3,3.1,2.9,2.7,2.4,2.1]
["2月",2.6,2.2999999999999998,2.1,1.8,1.6,1.5,1.3,1.3,1.7,2.2999999999999998,3,3.6,4.0999999999999996,4.4000000000000004,4.7,4.7,4.5999999999999996,4.4000000000000004,4.0999999999999996,3.9,3.7,3.5,3.3,3]
["3月",5.9,5.6,5.3,5.0999999999999996,4.8,4.5999999999999996,4.5,4.5999999999999996,5,5.6,6.2,6.7,7.1,7.4,7.6,7.7,7.6,7.4,7.2,7,6.8,6.7,6.4,6.2]

{"sheet":"新潟","index":19,"n_rows":16,"n_cols":25,"rows_kept":16,"cut":false,"hidden":true,"merged":[]}
["気象データ"]
[{"$f":"RIGHT(CELL(\"filename\",A2),LEN(CELL(\"filename\",A2))-FIND(\"]\",CELL(\"filename\",A2)))","v":"新潟"}]
["時刻別平均外気湿球温度"]
["時刻",0,1,2,3,4,5,6,7,8,9,10,11,12,13,14,15,16,17,18,19,20,21,22,23]
["4月",7.4,7.1,6.9,6.8,6.6,6.4,6.6,7.2,7.9,8.6,9,9.3000000000000007,9.5,9.5,9.4,9.3000000000000007,9.1,8.8000000000000007,8.5,8.4,8.3000000000000007,8.1,8,7.8]
["5月",12.7,12.6,12.4,12.2,12.1,12,12.2,12.7,13.2,13.7,14.1,14.4,14.4,14.4,14.3,14.1,14,13.7,13.5,13.3,13.2,13.2,13.1,13]
["6月",17.2,17.100000000000001,17,16.8,16.7,16.7,16.899999999999999,17.3,17.7,18,18.3,18.5,18.600000000000001,18.5,18.600000000000001,18.5,18.3,18.100000000000001,17.899999999999999,17.8,17.600000000000001,17.600000000000001,17.5,17.399999999999999]
["7月",21.5,21.4,21.2,21.1,21,21,21.1,21.5,21.8,22.1,22.4,22.6,22.6,22.7,22.6,22.6,22.5,22.3,22.1,22,21.9,21.8,21.7,21.7]
["8月",22.6,22.5,22.3,22.2,22.1,21.9,22,22.4,22.8,23.1,23.3,23.6,23.7,23.8,23.7,23.7,23.6,23.5,23.3,23.2,23.1,23,22.9,22.8]
["9月",18.8,18.7,18.5,18.399999999999999,18.3,18.2,18.2,18.5,19,19.399999999999999,19.7,19.899999999999999,20,20.100000000000001,20.100000000000001,20,19.899999999999999,19.7,19.5,19.399999999999999,19.3,19.100000000000001,19,18.899999999999999]
["10月",13.2,13,12.9,12.7,12.6,12.5,12.4,12.6,13.2,13.8,14.2,14.5,14.6,14.6,14.6,14.5,14.3,14.1,14,13.9,13.7,13.5,13.3,13.1]
["11月",7.9,7.7,7.6,7.4,7.3,7.2,7.1,7.2,7.6,8.1999999999999993,8.8000000000000007,9.1,9.3000000000000007,9.4,9.4,9.3000000000000007,9.1,8.8000000000000007,8.6999999999999993,8.5,8.4,8.1999999999999993,8,7.8]
["12月",3.3,3.1,3.1,3,2.9,2.8,2.8,2.7,2.9,3.3,3.8,4.0999999999999996,4.3,4.4000000000000004,4.4000000000000004,4.4000000000000004,4.2,4,3.9,3.8,3.6,3.5,3.4,3.2]
["1月",0.8,0.7,0.7,0.6,0.5,0.5,0.5,0.5,0.6,0.9,1.3,1.6,1.8,1.9,1.9,1.8,1.7,1.5,1.4,1.3,1.1000000000000001,1,0.9,0.8]
["2月",0.7,0.6,0.5,0.4,0.3,0.3,0.2,0.2,0.6,1,1.5,1.8,2.1,2.2999999999999998,2.2999999999999998,2.2999999999999998,2.1,1.8,1.7,1.5,1.4,1.2,1.1000000000000001,0.9]
["3月",3,2.8,2.7,2.5,2.4,2.2999999999999998,2.2000000000000002,2.5,3.1,3.8,4.3,4.7,4.9000000000000004,5,5,4.9000000000000004,4.7,4.5,4.2,4.0999999999999996,3.9,3.7,3.5,3.3]

{"sheet":"富山","index":20,"n_rows":16,"n_cols":25,"rows_kept":16,"cut":false,"hidden":true,"merged":[]}
["気象データ"]
[{"$f":"RIGHT(CELL(\"filename\",A2),LEN(CELL(\"filename\",A2))-FIND(\"]\",CELL(\"filename\",A2)))","v":"富山"}]
["時刻別平均外気湿球温度"]
["時刻",0,1,2,3,4,5,6,7,8,9,10,11,12,13,14,15,16,17,18,19,20,21,22,23]
["4月",8,7.8,7.6,7.4,7.3,7.1,7.3,8,8.9,9.5,10,10.199999999999999,10.5,10.6,10.5,10.3,10.1,9.8000000000000007,9.5,9.1999999999999993,9.1,8.9,8.6999999999999993,8.4]
["5月",13.2,13,12.8,12.6,12.5,12.4,12.8,13.4,14.1,14.5,14.9,15.1,15.2,15.3,15.2,15.1,14.9,14.6,14.3,14,13.9,13.9,13.7,13.5]
["6月",17.899999999999999,17.8,17.600000000000001,17.399999999999999,17.3,17.2,17.600000000000001,18.100000000000001,18.5,18.8,19.100000000000001,19.399999999999999,19.5,19.5,19.5,19.399999999999999,19.2,19,18.8,18.600000000000001,18.5,18.5,18.399999999999999,18.3]
["7月",22.2,22,21.9,21.7,21.6,21.5,21.7,22.1,22.5,22.9,23.2,23.4,23.6,23.6,23.6,23.5,23.4,23.2,23,22.8,22.7,22.6,22.5,22.4]
["8月",23.1,22.9,22.7,22.6,22.4,22.2,22.3,22.8,23.3,23.8,24.1,24.3,24.5,24.5,24.5,24.4,24.3,24.2,24,23.8,23.7,23.6,23.5,23.3]
["9月",19.399999999999999,19.2,19,18.899999999999999,18.7,18.600000000000001,18.600000000000001,19.100000000000001,19.7,20.100000000000001,20.5,20.7,20.8,20.8,20.8,20.7,20.6,20.3,20.100000000000001,20.100000000000001,20,19.899999999999999,19.7,19.5]
["10月",13.8,13.6,13.4,13.3,13.1,13,12.9,13.3,14.1,14.7,15.1,15.4,15.6,15.7,15.6,15.5,15.3,15,14.9,14.7,14.5,14.2,14,13.8]
["11月",8.4,8.1999999999999993,8,7.9,7.8,7.7,7.6,7.7,8.4,9.1999999999999993,9.6999999999999993,10.1,10.3,10.4,10.5,10.3,10.1,9.8000000000000007,9.6,9.4,9.1,8.8000000000000007,8.6,8.4]
["12月",3.7,3.6,3.5,3.4,3.4,3.3,3.3,3.2,3.5,4.0999999999999996,4.7,5.0999999999999996,5.3,5.4,5.4,5.3,5.0999999999999996,4.8,4.5999999999999996,4.4000000000000004,4.2,4,3.8,3.6]
["1月",1.2,1,0.9,0.9,0.8,0.7,0.7,0.7,0.9,1.4,2,2.4,2.7,2.8,2.8,2.8,2.6,2.2999999999999998,2.1,2,1.8,1.6,1.4,1.3]
["2月",1.1000000000000001,1,0.9,0.8,0.7,0.6,0.5,0.5,1,1.7,2.2999999999999998,2.7,3.1,3.2,3.3,3.3,3.1,2.8,2.5,2.2999999999999998,2.1,1.8,1.6,1.4]
["3月",3.7,3.6,3.4,3.3,3.1,3,2.9,3.2,4,4.8,5.3,5.8,6,6.2,6.2,6.1,5.9,5.6,5.2,5,4.8,4.5,4.2,4]

{"sheet":"金沢","index":21,"n_rows":16,"n_cols":25,"rows_kept":16,"cut":false,"hidden":true,"merged":[]}
["気象データ"]
[{"$f":"RIGHT(CELL(\"filename\",A2),LEN(CELL(\"filename\",A2))-FIND(\"]\",CELL(\"filename\",A2)))","v":"金沢"}]
["時刻別平均外気湿球温度"]
["時刻",0,1,2,3,4,5,6,7,8,9,10,11,12,13,14,15,16,17,18,19,20,21,22,23]
["4月",8.1,7.9,7.7,7.5,7.4,7.3,7.3,7.8,8.6999999999999993,9.3000000000000007,9.8000000000000007,10.1,10.3,10.4,10.3,10.199999999999999,10.1,9.8000000000000007,9.5,9.3000000000000007,9.1999999999999993,9,8.6999999999999993,8.4]
["5月",13.1,12.9,12.7,12.5,12.3,12.2,12.4,13,13.7,14.2,14.6,14.8,14.9,15,14.9,14.8,14.6,14.4,14.2,14,13.9,13.8,13.6,13.4]
["6月",17.7,17.5,17.399999999999999,17.2,17.100000000000001,17,17.2,17.600000000000001,18.100000000000001,18.5,18.7,19,19.100000000000001,19.100000000000001,19.100000000000001,19,18.899999999999999,18.7,18.600000000000001,18.399999999999999,18.3,18.2,18.100000000000001,18]
["7月",22,21.8,21.7,21.6,21.4,21.3,21.4,21.7,22.2,22.5,22.8,23,23.1,23.1,23.1,23,22.9,22.8,22.7,22.5,22.4,22.4,22.3,22.2]
["8月",23,22.8,22.6,22.4,22.2,22.1,22.1,22.4,23,23.4,23.7,23.9,24,24.1,24.1,24,23.9,23.8,23.7,23.5,23.5,23.4,23.2,23.1]
["9月",19.2,19.100000000000001,18.899999999999999,18.8,18.7,18.5,18.5,18.7,19.3,19.8,20,20.3,20.399999999999999,20.5,20.5,20.399999999999999,20.3,20.2,20,19.899999999999999,19.7,19.600000000000001,19.399999999999999,19.3]
["10月",13.7,13.5,13.3,13.2,13.1,13,12.9,13.1,13.7,14.4,14.8,15.1,15.2,15.3,15.3,15.2,15,14.8,14.7,14.5,14.3,14,13.8,13.7]
["11月",8.4,8.3000000000000007,8.1999999999999993,8.1,8,7.9,7.9,7.9,8.4,9,9.6,10,10.1,10.199999999999999,10.199999999999999,10.1,10,9.8000000000000007,9.6,9.4,9.1,8.9,8.6999999999999993,8.5]
["12月",3.9,3.8,3.8,3.7,3.7,3.6,3.6,3.6,3.8,4.3,4.7,5,5.2,5.3,5.3,5.2,5.0999999999999996,4.9000000000000004,4.7,4.5,4.3,4.0999999999999996,4,3.9]
["1月",1.6,1.5,1.5,1.4,1.4,1.3,1.3,1.3,1.4,1.8,2.2999999999999998,2.6,2.8,2.9,2.9,2.9,2.8,2.6,2.4,2.2999999999999998,2.1,1.9,1.8,1.7]
["2月",1.5,1.4,1.3,1.2,1.1000000000000001,1.1000000000000001,1,1,1.4,2,2.5,2.9,3.2,3.3,3.3,3.3,3.2,3,2.7,2.5,2.2999999999999998,2.1,1.9,1.8]
["3月",3.8,3.6,3.5,3.3,3.2,3.1,3,3.2,3.9,4.7,5.2,5.6,5.9,6,6,5.9,5.8,5.5,5.2,5,4.8,4.5,4.3,4.0999999999999996]

{"sheet":"福井","index":22,"n_rows":16,"n_cols":25,"rows_kept":16,"cut":false,"hidden":true,"merged":[]}
["気象データ"]
[{"$f":"RIGHT(CELL(\"filename\",A2),LEN(CELL(\"filename\",A2))-FIND(\"]\",CELL(\"filename\",A2)))","v":"福井"}]
["時刻別平均外気湿球温度"]
["時刻",0,1,2,3,4,5,6,7,8,9,10,11,12,13,14,15,16,17,18,19,20,21,22,23]
["4月",8,7.8,7.6,7.4,7.3,7.1,7.3,8,8.9,9.5,10,10.199999999999999,10.5,10.6,10.5,10.3,10.1,9.8000000000000007,9.5,9.1999999999999993,9.1,8.9,8.6999999999999993,8.4]
["5月",13.2,13,12.8,12.6,12.5,12.4,12.8,13.4,14.1,14.5,14.9,15.1,15.2,15.3,15.2,15.1,14.9,14.6,14.3,14,13.9,13.9,13.7,13.5]
["6月",17.899999999999999,17.8,17.600000000000001,17.399999999999999,17.3,17.2,17.600000000000001,18.100000000000001,18.5,18.8,19.100000000000001,19.399999999999999,19.5,19.5,19.5,19.399999999999999,19.2,19,18.8,18.600000000000001,18.5,18.5,18.399999999999999,18.3]
["7月",22.2,22,21.9,21.7,21.6,21.5,21.7,22.1,22.5,22.9,23.2,23.4,23.6,23.6,23.6,23.5,23.4,23.2,23,22.8,22.7,22.6,22.5,22.4]
["8月",23.1,22.9,22.7,22.6,22.4,22.2,22.3,22.8,23.3,23.8,24.1,24.3,24.5,24.5,24.5,24.4,24.3,24.2,24,23.8,23.7,23.6,23.5,23.3]
["9月",19.399999999999999,19.2,19,18.899999999999999,18.7,18.600000000000001,18.600000000000001,19.100000000000001,19.7,20.100000000000001,20.5,20.7,20.8,20.8,20.8,20.7,20.6,20.3,20.100000000000001,20.100000000000001,20,19.899999999999999,19.7,19.5]
["10月",13.8,13.6,13.4,13.3,13.1,13,12.9,13.3,14.1,14.7,15.1,15.4,15.6,15.7,15.6,15.5,15.3,15,14.9,14.7,14.5,14.2,14,13.8]
["11月",8.4,8.1999999999999993,8,7.9,7.8,7.7,7.6,7.7,8.4,9.1999999999999993,9.6999999999999993,10.1,10.3,10.4,10.5,10.3,10.1,9.8000000000000007,9.6,9.4,9.1,8.8000000000000007,8.6,8.4]
["12月",3.7,3.6,3.5,3.4,3.4,3.3,3.3,3.2,3.5,4.0999999999999996,4.7,5.0999999999999996,5.3,5.4,5.4,5.3,5.0999999999999996,4.8,4.5999999999999996,4.4000000000000004,4.2,4,3.8,3.6]
["1月",1.2,1,0.9,0.9,0.8,0.7,0.7,0.7,0.9,1.4,2,2.4,2.7,2.8,2.8,2.8,2.6,2.2999999999999998,2.1,2,1.8,1.6,1.4,1.3]
["2月",1.1000000000000001,1,0.9,0.8,0.7,0.6,0.5,0.5,1,1.7,2.2999999999999998,2.7,3.1,3.2,3.3,3.3,3.1,2.8,2.5,2.2999999999999998,2.1,1.8,1.6,1.4]
["3月",3.7,3.6,3.4,3.3,3.1,3,2.9,3.2,4,4.8,5.3,5.8,6,6.2,6.2,6.1,5.9,5.6,5.2,5,4.8,4.5,4.2,4]

{"sheet":"甲府","index":23,"n_rows":16,"n_cols":25,"rows_kept":16,"cut":false,"hidden":true,"merged":[]}
["気象データ"]
[{"$f":"RIGHT(CELL(\"filename\",A2),LEN(CELL(\"filename\",A2))-FIND(\"]\",CELL(\"filename\",A2)))","v":"甲府"}]
["時刻別平均外気湿球温度"]
["時刻",0,1,2,3,4,5,6,7,8,9,10,11,12,13,14,15,16,17,18,19,20,21,22,23]
["4月",8.4,8.1,7.8,7.5,7.3,7,7.1,7.7,8.3000000000000007,9,9.6,10.1,10.5,10.9,11.2,11.4,11.2,11,10.5,10.1,9.6999999999999993,9.5,9.1999999999999993,8.9]
["5月",13.3,13.1,12.8,12.6,12.4,12.2,12.5,12.9,13.4,13.9,14.4,14.7,14.9,15.3,15.5,15.7,15.6,15.4,15,14.6,14.3,14.1,13.9,13.6]
["6月",17.600000000000001,17.399999999999999,17.3,17.100000000000001,17,16.899999999999999,17.100000000000001,17.3,17.7,18,18.3,18.5,18.7,18.899999999999999,19.2,19.2,19.2,19.100000000000001,18.899999999999999,18.600000000000001,18.399999999999999,18.2,18.100000000000001,17.899999999999999]
["7月",21.5,21.4,21.3,21.2,21,21,21,21.3,21.5,21.8,22.1,22.3,22.4,22.6,22.6,22.9,22.9,22.8,22.5,22.3,22.1,22,21.8,21.7]
["8月",22.3,22.2,22.1,21.9,21.8,21.7,21.7,21.9,22.2,22.5,22.8,23,23.1,23.2,23.4,23.5,23.6,23.4,23.2,23,22.8,22.7,22.6,22.4]
["9月",19,18.8,18.7,18.5,18.399999999999999,18.2,18.2,18.399999999999999,18.7,19.100000000000001,19.399999999999999,19.7,19.899999999999999,20,20,20.2,20.3,20.100000000000001,19.8,19.600000000000001,19.5,19.3,19.100000000000001,19]
["10月",13.3,13.1,13,12.8,12.6,12.4,12.2,12.5,12.9,13.5,13.9,14.3,14.7,14.9,15,15.1,15.1,14.9,14.6,14.3,14,13.8,13.6,13.3]
["11月",7.1,6.9,6.6,6.3,6.1,5.8,5.6,5.7,6.5,7.2,7.9,8.6,9.1,9.5,9.6999999999999993,9.6999999999999993,9.6,9.3000000000000007,8.9,8.5,8.1,7.8,7.5,7.2]
["12月",1.5,1.2,0.9,0.7,0.4,0.2,0,-0.1,0.6,1.6,2.5,3.3,4,4.5,4.7,4.7,4.4000000000000004,3.9,3.5,3,2.6,2.2000000000000002,1.9,1.6]
["1月",-0.9,-1.2,-1.5,-1.8,-2.1,-2.2999999999999998,-2.6,-2.8,-2,-1,0,0.8,1.5,2.1,2.4,2.5,2.2999999999999998,1.8,1.3,0.9,0.4,0,-0.3,-0.6]
["2月",0.2,-0.1,-0.4,-0.7,-1,-1.2,-1.4,-1.4,-0.6,0.3,1.1000000000000001,2,2.7,3.2,3.6,3.8,3.7,3.2,2.7,2.2999999999999998,1.8,1.4,1,0.7]
["3月",3.7,3.4,3.1,2.8,2.5,2.2999999999999998,2,2.4,3.2,3.9,4.7,5.4,6,6.5,6.8,7.1,7,6.6,6.1,5.6,5.3,4.9000000000000004,4.5,4.0999999999999996]

{"sheet":"長野","index":24,"n_rows":16,"n_cols":25,"rows_kept":16,"cut":false,"hidden":true,"merged":[]}
["気象データ"]
[{"$f":"RIGHT(CELL(\"filename\",A2),LEN(CELL(\"filename\",A2))-FIND(\"]\",CELL(\"filename\",A2)))","v":"長野"}]
["時刻別平均外気湿球温度"]
["時刻",0,1,2,3,4,5,6,7,8,9,10,11,12,13,14,15,16,17,18,19,20,21,22,23]
["4月",5.6,5.3,5,4.8,4.5999999999999996,4.4000000000000004,4.5,5.2,6.1,7,7.7,8.3000000000000007,8.6999999999999993,8.9,9.1,8.9,8.6,8.1999999999999993,7.6,7.2,6.8,6.5,6.2,6]
["5月",11,10.8,10.6,10.4,10.199999999999999,10,10.3,11,11.7,12.4,13,13.4,13.7,13.9,14,14,13.7,13.3,12.9,12.4,12.1,11.8,11.5,11.3]
["6月",15.7,15.6,15.4,15.3,15.1,15,15.3,15.7,16.3,16.8,17.2,17.5,17.8,18,18.100000000000001,18.100000000000001,18,17.7,17.3,17,16.7,16.5,16.2,16.100000000000001]
["7月",20.100000000000001,19.899999999999999,19.8,19.7,19.600000000000001,19.5,19.7,20,20.5,20.9,21.2,21.5,21.7,22,22.2,22.2,22,21.8,21.4,21.1,20.8,20.6,20.399999999999999,20.3]
["8月",21,20.8,20.7,20.6,20.399999999999999,20.3,20.3,20.7,21.1,21.6,21.9,22.1,22.4,22.5,22.7,22.8,22.7,22.4,22,21.7,21.5,21.3,21.2,21]
["9月",17.2,17,16.899999999999999,16.7,16.600000000000001,16.5,16.5,16.8,17.2,17.7,18.2,18.5,18.7,18.8,19,19,18.8,18.399999999999999,18.100000000000001,17.8,17.600000000000001,17.5,17.3,17.100000000000001]
["10月",11.2,11,10.9,10.7,10.5,10.4,10.199999999999999,10.5,11.2,11.8,12.4,12.9,13.2,13.4,13.5,13.4,13.2,12.7,12.3,12.1,11.8,11.6,11.4,11.2]
["11月",5.2,5,4.7,4.5,4.3,4.0999999999999996,4,4,4.7,5.6,6.4,7.1,7.6,8,8.1,8,7.7,7.1,6.7,6.4,6.1,5.8,5.5,5.3]
["12月",0.2,0,-0.2,-0.3,-0.5,-0.7,-0.8,-0.9,-0.4,0.3,1.1000000000000001,1.8,2.2999999999999998,2.7,2.9,2.8,2.5,1.9,1.6,1.3,1,0.7,0.5,0.3]
["1月",-2.2999999999999998,-2.5,-2.7,-2.9,-3.1,-3.2,-3.4,-3.5,-3.1,-2.4,-1.6,-0.9,-0.4,0.1,0.3,0.3,0,-0.4,-0.8,-1.1000000000000001,-1.4,-1.6,-1.9,-2.1]
["2月",-2,-2.2000000000000002,-2.4,-2.7,-2.8,-3,-3.2,-3.2,-2.6,-1.7,-0.9,-0.1,0.5,0.9,1.1000000000000001,1.1000000000000001,0.8,0.3,-0.2,-0.5,-0.8,-1.1000000000000001,-1.4,-1.6]
["3月",0.9,0.7,0.5,0.3,0.1,-0.1,-0.3,0.1,0.9,1.7,2.6,3.3,3.9,4.2,4.3,4.2,3.9,3.4,2.8,2.4,2,1.7,1.5,1.2]

{"sheet":"岐阜","index":25,"n_rows":16,"n_cols":25,"rows_kept":16,"cut":false,"hidden":true,"merged":[]}
["気象データ"]
[{"$f":"RIGHT(CELL(\"filename\",A2),LEN(CELL(\"filename\",A2))-FIND(\"]\",CELL(\"filename\",A2)))","v":"岐阜"}]
["時刻別平均外気湿球温度"]
["時刻",0,1,2,3,4,5,6,7,8,9,10,11,12,13,14,15,16,17,18,19,20,21,22,23]
["4月",9.3000000000000007,9,8.8000000000000007,8.6,8.4,8.1999999999999993,8.1999999999999993,8.6,9.1999999999999993,9.8000000000000007,10.4,10.9,11.4,11.6,11.7,11.6,11.5,11.1,10.7,10.5,10.3,10.1,9.9,9.6999999999999993]
["5月",14.1,13.9,13.7,13.5,13.4,13.2,13.4,13.7,14.2,14.7,15.2,15.5,15.8,15.9,16.100000000000001,16,15.8,15.6,15.2,14.9,14.8,14.6,14.5,14.4]
["6月",18.399999999999999,18.3,18.2,18.100000000000001,17.899999999999999,17.8,18,18.2,18.600000000000001,18.899999999999999,19.3,19.5,19.8,19.899999999999999,20,20,19.8,19.600000000000001,19.399999999999999,19.100000000000001,19,18.899999999999999,18.8,18.7]
["7月",22.5,22.4,22.3,22.2,22.2,22.1,22.2,22.4,22.7,22.9,23.2,23.4,23.6,23.7,23.7,23.8,23.7,23.4,23.3,23.1,23,22.9,22.8,22.7]
["8月",23.3,23.2,23.1,23,22.9,22.8,22.8,23,23.3,23.6,23.8,24.1,24.2,24.4,24.3,24.3,24.2,24,23.8,23.6,23.6,23.5,23.4,23.3]
["9月",20,19.899999999999999,19.8,19.600000000000001,19.5,19.399999999999999,19.3,19.5,19.8,20.2,20.5,20.8,21,21.1,21,21.1,21,20.8,20.6,20.399999999999999,20.3,20.2,20.100000000000001,20]
["10月",14.4,14.2,14,13.9,13.7,13.5,13.4,13.7,14.2,14.6,15.1,15.5,15.7,15.9,15.9,15.8,15.7,15.4,15.2,15,14.9,14.7,14.5,14.3]
["11月",8.6999999999999993,8.6,8.3000000000000007,8.1,7.9,7.8,7.6,7.7,8.4,9,9.6,10.1,10.5,10.7,10.8,10.7,10.5,10.1,9.9,9.6999999999999993,9.4,9.1999999999999993,9,8.8000000000000007]
["12月",3.9,3.7,3.5,3.3,3.2,3,2.9,2.8,3.4,4.0999999999999996,4.8,5.4,5.7,6,6.1,5.9,5.7,5.3,5,4.8,4.5999999999999996,4.4000000000000004,4.0999999999999996,3.9]
["1月",1.5,1.3,1.1000000000000001,0.9,0.7,0.5,0.4,0.3,0.8,1.6,2.4,3,3.4,3.7,3.8,3.7,3.5,3.1,2.8,2.5,2.2999999999999998,2.1,1.9,1.7]
["2月",1.8,1.5,1.3,1.2,1,0.8,0.7,0.7,1.3,2.1,2.8,3.5,4,4.3,4.4000000000000004,4.3,4.0999999999999996,3.7,3.3,3,2.8,2.6,2.2999999999999998,2.1]
["3月",4.5999999999999996,4.4000000000000004,4.2,3.9,3.7,3.5,3.4,3.7,4.3,5,5.7,6.3,6.8,7.1,7.2,7.2,7,6.6,6.2,5.9,5.7,5.4,5.2,5]

{"sheet":"静岡","index":26,"n_rows":16,"n_cols":25,"rows_kept":16,"cut":false,"hidden":true,"merged":[]}
["気象データ"]
[{"$f":"RIGHT(CELL(\"filename\",A2),LEN(CELL(\"filename\",A2))-FIND(\"]\",CELL(\"filename\",A2)))","v":"静岡"}]
["時刻別平均外気湿球温度"]
["時刻",0,1,2,3,4,5,6,7,8,9,10,11,12,13,14,15,16,17,18,19,20,21,22,23]
["4月",10.5,10.3,10.1,9.9,9.6999999999999993,9.5,9.6,10.3,11,11.6,12,12.3,12.5,12.7,12.7,12.6,12.5,12.3,12.1,11.9,11.7,11.5,11.2,11]
["5月",15.1,14.9,14.7,14.4,14.2,14.1,14.4,14.9,15.5,16,16.3,16.5,16.600000000000001,16.7,16.7,16.7,16.600000000000001,16.5,16.3,16.2,16,15.9,15.7,15.5]
["6月",19,18.899999999999999,18.7,18.5,18.399999999999999,18.3,18.5,18.899999999999999,19.3,19.600000000000001,19.8,20,20.100000000000001,20.100000000000001,20.100000000000001,20.2,20.100000000000001,20,19.899999999999999,19.8,19.7,19.600000000000001,19.5,19.3]
["7月",22.8,22.7,22.5,22.4,22.3,22.2,22.3,22.6,23,23.3,23.5,23.7,23.8,23.8,23.8,23.8,23.7,23.6,23.5,23.4,23.3,23.2,23.1,23]
["8月",23.7,23.5,23.4,23.2,23.1,23,23,23.4,23.8,24.2,24.3,24.5,24.6,24.7,24.8,24.7,24.6,24.5,24.4,24.3,24.2,24.1,24,23.8]
["9月",20.7,20.5,20.399999999999999,20.2,20,19.899999999999999,19.899999999999999,20.2,20.7,21.1,21.3,21.5,21.6,21.7,21.7,21.7,21.7,21.5,21.5,21.4,21.3,21.1,21,20.7]
["10月",15.5,15.4,15.2,15,14.9,14.7,14.6,14.9,15.5,16.100000000000001,16.399999999999999,16.7,16.899999999999999,17,17,17,16.899999999999999,16.7,16.600000000000001,16.399999999999999,16.2,16,15.8,15.6]
["11月",10.199999999999999,10,9.8000000000000007,9.6,9.4,9.3000000000000007,9.1,9.1999999999999993,10,10.8,11.5,11.9,12.2,12.4,12.4,12.4,12.2,11.9,11.6,11.4,11.1,10.8,10.6,10.3]
["12月",5,4.8,4.5999999999999996,4.4000000000000004,4.2,4.0999999999999996,3.9,3.9,4.5999999999999996,5.7,6.5,7.1,7.5,7.7,7.7,7.6,7.3,6.8,6.5,6.2,5.9,5.6,5.3,5.0999999999999996]
["1月",2.5,2.2999999999999998,2.1,1.9,1.7,1.5,1.3,1.2,1.9,3.1,4.0999999999999996,4.7,5.0999999999999996,5.4,5.5,5.4,5.0999999999999996,4.7,4.2,3.9,3.6,3.3,3,2.8]
["2月",3.2,3,2.8,2.6,2.4,2.2000000000000002,2.1,2.1,3,4,4.8,5.4,5.8,6,6.1,6.1,5.9,5.5,5.2,4.8,4.5,4.2,3.9,3.6]
["3月",6.4,6.2,5.9,5.7,5.5,5.3,5.2,5.6,6.5,7.3,7.9,8.3000000000000007,8.6,8.8000000000000007,8.9,8.8000000000000007,8.6,8.4,8.1,7.9,7.6,7.3,7.1,6.8]

{"sheet":"名古屋","index":27,"n_rows":16,"n_cols":25,"rows_kept":16,"cut":false,"hidden":true,"merged":[]}
["気象データ"]
[{"$f":"RIGHT(CELL(\"filename\",A2),LEN(CELL(\"filename\",A2))-FIND(\"]\",CELL(\"filename\",A2)))","v":"名古屋"}]
["時刻別平均外気湿球温度"]
["時刻",0,1,2,3,4,5,6,7,8,9,10,11,12,13,14,15,16,17,18,19,20,21,22,23]
["4月",9.4,9.1,8.9,8.6999999999999993,8.6,8.4,8.4,8.9,9.5,10.1,10.7,11.1,11.4,11.6,11.7,11.6,11.4,11.1,10.8,10.6,10.4,10.1,10,9.6999999999999993]
["5月",14.1,14,13.8,13.7,13.5,13.3,13.6,14,14.5,15,15.3,15.6,15.9,16,16,15.9,15.7,15.5,15.3,15,14.9,14.8,14.6,14.4]
["6月",18.399999999999999,18.3,18.2,18.100000000000001,18,17.899999999999999,18.100000000000001,18.399999999999999,18.8,19.100000000000001,19.3,19.600000000000001,19.8,19.899999999999999,19.899999999999999,19.899999999999999,19.7,19.5,19.3,19.100000000000001,19,18.899999999999999,18.8,18.7]
["7月",22.4,22.3,22.2,22.1,22.1,22,22.1,22.4,22.7,23,23.3,23.4,23.6,23.6,23.7,23.6,23.5,23.4,23.1,23,22.9,22.8,22.7,22.6]
["8月",23.2,23.1,23,22.9,22.8,22.7,22.8,23.1,23.4,23.7,23.9,24,24.2,24.2,24.2,24.1,24.1,23.9,23.7,23.6,23.5,23.4,23.3,23.3]
["9月",20.100000000000001,20,19.8,19.7,19.600000000000001,19.5,19.399999999999999,19.7,20,20.399999999999999,20.7,20.8,21,21.1,21.1,21,20.9,20.7,20.5,20.5,20.399999999999999,20.3,20.2,20]
["10月",14.5,14.4,14.2,14,13.9,13.7,13.6,13.8,14.3,14.8,15.3,15.6,15.9,15.9,15.9,15.8,15.7,15.4,15.2,15.1,14.9,14.8,14.6,14.5]
["11月",8.8000000000000007,8.6,8.4,8.3000000000000007,8.1,7.9,7.7,7.8,8.4,9.1,9.6999999999999993,10.199999999999999,10.6,10.7,10.8,10.7,10.4,10.1,9.9,9.6,9.4,9.3000000000000007,9.1,8.9]
["12月",3.9,3.7,3.5,3.4,3.2,3.1,2.9,2.8,3.3,4.0999999999999996,4.8,5.4,5.7,6,6,5.9,5.6,5.2,5,4.8,4.5999999999999996,4.3,4.0999999999999996,3.9]
["1月",1.5,1.3,1.1000000000000001,0.9,0.7,0.6,0.4,0.3,0.8,1.6,2.4,3,3.5,3.7,3.8,3.7,3.4,3,2.7,2.5,2.2999999999999998,2.1,1.9,1.7]
["2月",1.8,1.6,1.4,1.2,1,0.8,0.7,0.6,1.3,2.1,2.9,3.6,4,4.3,4.5,4.4000000000000004,4.0999999999999996,3.7,3.3,3.1,2.8,2.6,2.4,2.2000000000000002]
["3月",4.8,4.5999999999999996,4.3,4.0999999999999996,3.9,3.7,3.5,3.8,4.5,5.2,5.9,6.5,6.9,7.2,7.4,7.3,7.1,6.7,6.3,6,5.8,5.6,5.3,5.0999999999999996]

{"sheet":"津","index":28,"n_rows":16,"n_cols":25,"rows_kept":16,"cut":false,"hidden":true,"merged":[]}
["気象データ"]
[{"$f":"RIGHT(CELL(\"filename\",A2),LEN(CELL(\"filename\",A2))-FIND(\"]\",CELL(\"filename\",A2)))","v":"津"}]
["時刻別平均外気湿球温度"]
["時刻",0,1,2,3,4,5,6,7,8,9,10,11,12,13,14,15,16,17,18,19,20,21,22,23]
["4月",9.5,9.4,9.1999999999999993,9,8.9,8.8000000000000007,8.8000000000000007,9.3000000000000007,9.9,10.3,10.6,11,11.2,11.5,11.7,11.8,11.7,11.5,11.2,10.9,10.7,10.5,10.199999999999999,9.9]
["5月",14.5,14.3,14.2,14,13.9,13.8,13.9,14.4,14.8,15.2,15.5,15.8,16,16.100000000000001,16.3,16.3,16.3,16.100000000000001,15.8,15.6,15.4,15.2,15,14.8]
["6月",18.600000000000001,18.5,18.399999999999999,18.3,18.2,18.100000000000001,18.3,18.600000000000001,18.899999999999999,19.2,19.5,19.7,19.8,20,20.100000000000001,20.2,20.2,20.100000000000001,19.899999999999999,19.600000000000001,19.399999999999999,19.3,19.100000000000001,19]
["7月",22.7,22.6,22.5,22.4,22.3,22.3,22.4,22.6,22.9,23.2,23.4,23.6,23.7,23.9,23.8,24,23.9,23.8,23.7,23.4,23.3,23.1,23,22.9]
["8月",23.5,23.4,23.3,23.2,23.1,23,23.1,23.3,23.7,24,24.2,24.4,24.5,24.6,24.7,24.7,24.6,24.6,24.3,24.1,23.9,23.8,23.7,23.5]
["9月",20.2,20.100000000000001,20,19.899999999999999,19.8,19.7,19.7,19.899999999999999,20.3,20.6,20.9,21.1,21.2,21.2,21.3,21.3,21.3,21.2,21,20.8,20.6,20.5,20.3,20.2]
["10月",14.7,14.6,14.4,14.3,14.2,14.1,14.1,14.2,14.8,15.2,15.5,15.8,15.9,16,16.100000000000001,16.100000000000001,16,15.8,15.6,15.4,15.2,15,14.8,14.6]
["11月",9.1999999999999993,9,8.9,8.8000000000000007,8.6999999999999993,8.5,8.4,8.5,9.1,9.8000000000000007,10.199999999999999,10.6,10.8,11,11,11,10.8,10.5,10.3,10.1,9.8000000000000007,9.6,9.4,9.1999999999999993]
["12月",4.4000000000000004,4.2,4.0999999999999996,4,3.9,3.8,3.7,3.7,4.2,5,5.6,6,6.2,6.3,6.4,6.3,6,5.7,5.5,5.2,4.9000000000000004,4.7,4.5,4.3]
["1月",2.1,1.9,1.8,1.7,1.6,1.5,1.4,1.4,1.8,2.5,3.2,3.6,3.9,4,4.0999999999999996,4,3.9,3.5,3.3,3,2.8,2.5,2.4,2.2000000000000002]
["2月",2.2000000000000002,2.1,2,1.8,1.7,1.6,1.6,1.6,2.1,2.9,3.5,3.9,4.2,4.3,4.4000000000000004,4.5,4.3,4,3.7,3.4,3.2,3,2.7,2.5]
["3月",5,4.8,4.5999999999999996,4.5,4.3,4.2,4.0999999999999996,4.3,5,5.6,6.1,6.4,6.7,6.9,7.1,7.2,7.1,6.9,6.6,6.3,6,5.8,5.5,5.3]

{"sheet":"彦根","index":29,"n_rows":16,"n_cols":25,"rows_kept":16,"cut":false,"hidden":true,"merged":[]}
["気象データ"]
[{"$f":"RIGHT(CELL(\"filename\",A2),LEN(CELL(\"filename\",A2))-FIND(\"]\",CELL(\"filename\",A2)))","v":"彦根"}]
["時刻別平均外気湿球温度"]
["時刻",0,1,2,3,4,5,6,7,8,9,10,11,12,13,14,15,16,17,18,19,20,21,22,23]
["4月",8.6999999999999993,8.5,8.3000000000000007,8.1,7.9,7.8,7.8,8.4,9.1,9.5,9.9,10.199999999999999,10.5,10.8,10.9,10.9,10.8,10.6,10.3,10,9.8000000000000007,9.6,9.4,9.1]
["5月",13.5,13.4,13.2,13,12.8,12.7,13,13.6,14.1,14.5,14.8,15.1,15.3,15.5,15.6,15.5,15.4,15.2,14.9,14.6,14.4,14.3,14,13.8]
["6月",18,17.899999999999999,17.7,17.600000000000001,17.5,17.399999999999999,17.7,18.100000000000001,18.5,18.8,19,19.3,19.5,19.7,19.7,19.7,19.600000000000001,19.5,19.2,19,18.8,18.600000000000001,18.5,18.3]
["7月",22.2,22.1,22,21.9,21.8,21.7,21.9,22.3,22.7,23,23.2,23.4,23.6,23.8,23.9,23.8,23.7,23.5,23.3,23.1,22.9,22.8,22.6,22.5]
["8月",23,22.9,22.8,22.7,22.5,22.5,22.5,22.9,23.4,23.8,24,24.2,24.4,24.5,24.6,24.5,24.4,24.2,24,23.8,23.6,23.4,23.3,23.1]
["9月",19.8,19.600000000000001,19.5,19.399999999999999,19.3,19.100000000000001,19.100000000000001,19.5,20,20.399999999999999,20.6,20.8,21,21,21.1,21.1,21,20.8,20.5,20.3,20.2,20.100000000000001,19.899999999999999,19.7]
["10月",14.2,14.1,13.9,13.8,13.6,13.5,13.4,13.7,14.4,15,15.4,15.6,15.8,15.9,15.9,15.9,15.8,15.6,15.4,15.2,14.9,14.6,14.4,14.2]
["11月",8.6999999999999993,8.5,8.4,8.1999999999999993,8,7.9,7.8,7.9,8.5,9.4,9.9,10.3,10.6,10.7,10.8,10.8,10.6,10.4,10.1,9.8000000000000007,9.5,9.3000000000000007,9,8.8000000000000007]
["12月",4.0999999999999996,3.9,3.7,3.7,3.5,3.4,3.4,3.3,3.6,4.3,4.9000000000000004,5.4,5.6,5.8,5.9,5.9,5.7,5.5,5.2,4.9000000000000004,4.7,4.4000000000000004,4.2,4]
["1月",1.7,1.5,1.4,1.3,1.1000000000000001,1,1,0.9,1.1000000000000001,1.8,2.4,2.8,3.1,3.3,3.5,3.5,3.3,3.1,2.9,2.7,2.5,2.2000000000000002,2,1.8]
["2月",1.9,1.7,1.5,1.4,1.3,1.2,1.1000000000000001,1.1000000000000001,1.5,2.2000000000000002,2.7,3.2,3.5,3.7,3.8,3.8,3.7,3.5,3.2,3.1,2.8,2.6,2.4,2.2000000000000002]
["3月",4.4000000000000004,4.2,4,3.8,3.7,3.5,3.4,3.6,4.4000000000000004,5,5.4,5.8,6.1,6.3,6.5,6.6,6.5,6.3,5.9,5.7,5.5,5.2,5,4.8]

{"sheet":"京都","index":30,"n_rows":16,"n_cols":25,"rows_kept":16,"cut":false,"hidden":true,"merged":[]}
["気象データ"]
[{"$f":"RIGHT(CELL(\"filename\",A2),LEN(CELL(\"filename\",A2))-FIND(\"]\",CELL(\"filename\",A2)))","v":"京都"}]
["時刻別平均外気湿球温度"]
["時刻",0,1,2,3,4,5,6,7,8,9,10,11,12,13,14,15,16,17,18,19,20,21,22,23]
["4月",8.9,8.6999999999999993,8.5,8.4,8.1999999999999993,8.1,8.1,8.5,9.1999999999999993,9.9,10.5,11,11.2,11.4,11.5,11.4,11.3,11,10.7,10.4,10.1,9.8000000000000007,9.6,9.3000000000000007]
["5月",13.5,13.3,13.2,13.1,12.9,12.8,13,13.6,14.2,14.7,15.1,15.5,15.7,15.8,15.8,15.8,15.7,15.5,15.1,14.8,14.5,14.3,14.1,13.8]
["6月",17.899999999999999,17.7,17.600000000000001,17.5,17.399999999999999,17.3,17.5,17.899999999999999,18.3,18.8,19.100000000000001,19.399999999999999,19.600000000000001,19.7,19.7,19.7,19.600000000000001,19.5,19.2,19,18.8,18.600000000000001,18.399999999999999,18.3]
["7月",22.2,22.1,22,21.9,21.8,21.7,21.8,22.1,22.5,22.8,23.1,23.2,23.4,23.5,23.5,23.4,23.4,23.3,23.1,23,22.8,22.7,22.5,22.4]
["8月",22.8,22.7,22.6,22.5,22.4,22.3,22.3,22.7,23.1,23.4,23.7,23.8,24,23.9,23.9,23.9,23.8,23.8,23.6,23.4,23.3,23.1,23,22.9]
["9月",19.5,19.399999999999999,19.3,19.2,19.100000000000001,19,19,19.2,19.7,20.100000000000001,20.399999999999999,20.6,20.7,20.7,20.6,20.7,20.5,20.399999999999999,20.2,20,19.899999999999999,19.7,19.600000000000001,19.5]
["10月",14.1,14,13.8,13.7,13.5,13.5,13.4,13.5,14.1,14.7,15.3,15.6,15.8,15.8,15.8,15.7,15.6,15.3,15.1,14.9,14.6,14.4,14.2,14.1]
["11月",8.8000000000000007,8.6,8.4,8.3000000000000007,8.1,8,7.9,7.9,8.4,9.1999999999999993,9.9,10.4,10.8,10.9,10.9,10.9,10.6,10.4,10.1,9.8000000000000007,9.5,9.3000000000000007,9.1,8.9]
["12月",4,3.9,3.7,3.6,3.4,3.3,3.2,3.1,3.5,4.2,4.9000000000000004,5.5,5.9,6.2,6.2,6.2,5.9,5.6,5.3,5,4.7,4.5,4.3,4.0999999999999996]
["1月",1.8,1.6,1.5,1.4,1.2,1.1000000000000001,1,0.9,1.2,1.9,2.6,3.2,3.7,3.9,4,4,3.7,3.4,3.1,2.9,2.6,2.4,2.2000000000000002,2]
["2月",2.1,1.9,1.7,1.6,1.5,1.4,1.3,1.2,1.7,2.4,3.2,3.7,4.2,4.4000000000000004,4.5,4.5,4.3,4,3.6,3.3,3,2.8,2.6,2.4]
["3月",4.7,4.5,4.3,4.0999999999999996,3.9,3.8,3.7,3.9,4.5,5.2,5.9,6.5,7,7.2,7.3,7.3,7.1,6.7,6.3,6,5.7,5.4,5.2,4.9000000000000004]

{"sheet":"大阪","index":31,"n_rows":16,"n_cols":25,"rows_kept":16,"cut":false,"hidden":true,"merged":[]}
["気象データ"]
[{"$f":"RIGHT(CELL(\"filename\",A2),LEN(CELL(\"filename\",A2))-FIND(\"]\",CELL(\"filename\",A2)))","v":"大阪"}]
["時刻別平均外気湿球温度"]
["時刻",0,1,2,3,4,5,6,7,8,9,10,11,12,13,14,15,16,17,18,19,20,21,22,23]
["4月",10.1,9.9,9.6999999999999993,9.5,9.4,9.1999999999999993,9.1999999999999993,9.5,10,10.6,11.1,11.4,11.6,11.8,11.8,11.8,11.6,11.4,11.2,11,10.9,10.7,10.6,10.4]
["5月",14.7,14.5,14.4,14.2,14.1,14,14.1,14.5,14.9,15.3,15.6,15.8,16,16.100000000000001,16.100000000000001,16.100000000000001,15.9,15.8,15.6,15.4,15.4,15.2,15.1,14.9]
["6月",18.899999999999999,18.8,18.600000000000001,18.5,18.399999999999999,18.3,18.5,18.7,19,19.3,19.600000000000001,19.8,19.899999999999999,20,20,20,19.899999999999999,19.7,19.600000000000001,19.5,19.399999999999999,19.399999999999999,19.2,19.100000000000001]
["7月",22.9,22.8,22.7,22.7,22.6,22.5,22.6,22.8,23.1,23.3,23.5,23.6,23.7,23.7,23.7,23.6,23.6,23.5,23.4,23.4,23.3,23.2,23.2,23.1]
["8月",23.6,23.5,23.4,23.3,23.2,23.2,23.2,23.4,23.7,23.9,24.1,24.2,24.3,24.4,24.3,24.2,24,24,24,23.9,23.9,23.8,23.7,23.6]
["9月",20.2,20.100000000000001,20,19.899999999999999,19.899999999999999,19.8,19.8,20,20.3,20.6,20.8,20.9,21.1,21.1,21.1,21,21,20.8,20.6,20.5,20.399999999999999,20.3,20.2,20.100000000000001]
["10月",14.9,14.8,14.7,14.6,14.5,14.4,14.3,14.5,14.9,15.4,15.7,16,16.100000000000001,16.2,16.2,16.100000000000001,15.9,15.7,15.6,15.4,15.3,15.2,15,14.9]
["11月",9.8000000000000007,9.6,9.5,9.3000000000000007,9.1999999999999993,9.1,9,9,9.5,10,10.6,10.9,11.2,11.3,11.4,11.3,11.1,10.8,10.7,10.5,10.3,10.1,10,9.8000000000000007]
["12月",5.0999999999999996,4.9000000000000004,4.8,4.5999999999999996,4.5,4.4000000000000004,4.3,4.3,4.5,5.2,5.8,6.2,6.5,6.6,6.6,6.6,6.4,6.1,6,5.8,5.6,5.4,5.2,5]
["1月",2.7,2.5,2.4,2.2999999999999998,2.2000000000000002,2.1,2,1.9,2.2000000000000002,2.8,3.4,3.9,4.0999999999999996,4.3,4.4000000000000004,4.4000000000000004,4.2,3.9,3.7,3.5,3.4,3.2,3,2.8]
["2月",2.9,2.8,2.6,2.5,2.4,2.2999999999999998,2.2000000000000002,2.2000000000000002,2.6,3.2,3.8,4.3,4.5999999999999996,4.8,4.9000000000000004,4.9000000000000004,4.8,4.4000000000000004,4.2,4,3.8,3.6,3.4,3.2]
["3月",5.6,5.5,5.3,5.0999999999999996,5,4.8,4.7,4.8,5.4,5.9,6.5,7,7.3,7.5,7.6,7.6,7.5,7.2,6.9,6.7,6.5,6.3,6.1,5.9]

{"sheet":"神戸","index":32,"n_rows":16,"n_cols":25,"rows_kept":16,"cut":false,"hidden":true,"merged":[]}
["気象データ"]
[{"$f":"RIGHT(CELL(\"filename\",A2),LEN(CELL(\"filename\",A2))-FIND(\"]\",CELL(\"filename\",A2)))","v":"神戸"}]
["時刻別平均外気湿球温度"]
["時刻",0,1,2,3,4,5,6,7,8,9,10,11,12,13,14,15,16,17,18,19,20,21,22,23]
["4月",10.199999999999999,10,9.9,9.6999999999999993,9.5,9.4,9.4,9.8000000000000007,10.3,10.7,11.1,11.4,11.6,11.8,11.8,11.8,11.7,11.6,11.4,11.1,10.9,10.8,10.7,10.5]
["5月",14.8,14.6,14.5,14.4,14.3,14.1,14.3,14.8,15.1,15.4,15.7,16,16.100000000000001,16.2,16.3,16.2,16.100000000000001,16,15.9,15.7,15.5,15.3,15.2,15]
["6月",19,18.899999999999999,18.8,18.7,18.600000000000001,18.5,18.7,19,19.3,19.5,19.8,19.899999999999999,20,20.100000000000001,20.100000000000001,20.100000000000001,20,19.899999999999999,19.8,19.7,19.600000000000001,19.5,19.399999999999999,19.3]
["7月",23.2,23.1,23,22.9,22.9,22.8,22.9,23.1,23.4,23.6,23.7,23.8,23.9,24,24.1,24,24,23.8,23.8,23.6,23.5,23.5,23.4,23.3]
["8月",23.9,23.8,23.7,23.6,23.6,23.5,23.5,23.7,24,24.2,24.4,24.5,24.6,24.6,24.7,24.7,24.6,24.5,24.4,24.3,24.2,24.1,24.1,24]
["9月",20.399999999999999,20.3,20.3,20.2,20.100000000000001,20,20,20.3,20.6,20.9,21.1,21.3,21.4,21.4,21.4,21.4,21.3,21.2,21,20.8,20.6,20.5,20.399999999999999,20.3]
["10月",15,14.9,14.8,14.7,14.6,14.5,14.5,14.7,15.2,15.6,15.9,16.2,16.3,16.399999999999999,16.399999999999999,16.3,16.2,16,15.7,15.5,15.3,15.2,15,14.9]
["11月",9.8000000000000007,9.6999999999999993,9.6,9.5,9.4,9.3000000000000007,9.1999999999999993,9.3000000000000007,9.9,10.4,10.8,11.1,11.4,11.5,11.5,11.4,11.2,10.9,10.6,10.4,10.199999999999999,10.1,10,9.8000000000000007]
["12月",5,4.9000000000000004,4.8,4.7,4.5999999999999996,4.5,4.5,4.4000000000000004,4.8,5.4,5.9,6.3,6.5,6.6,6.7,6.6,6.4,6.1,5.7,5.5,5.3,5.2,5,4.9000000000000004]
["1月",2.6,2.4,2.4,2.2000000000000002,2.1,2.1,2,2,2.2999999999999998,3,3.5,3.9,4.0999999999999996,4.3,4.4000000000000004,4.4000000000000004,4.2,3.9,3.6,3.3,3.1,3,2.8,2.7]
["2月",2.9,2.8,2.6,2.5,2.4,2.4,2.2999999999999998,2.2999999999999998,2.8,3.4,3.9,4.3,4.5,4.8,4.9000000000000004,4.9000000000000004,4.8,4.5,4.2,3.8,3.6,3.5,3.3,3.2]
["3月",5.7,5.6,5.4,5.3,5.0999999999999996,5,4.9000000000000004,5.0999999999999996,5.7,6.2,6.6,7,7.3,7.5,7.6,7.6,7.5,7.3,7,6.7,6.5,6.3,6.1,5.9]

{"sheet":"奈良","index":33,"n_rows":16,"n_cols":25,"rows_kept":16,"cut":false,"hidden":true,"merged":[]}
["気象データ"]
[{"$f":"RIGHT(CELL(\"filename\",A2),LEN(CELL(\"filename\",A2))-FIND(\"]\",CELL(\"filename\",A2)))","v":"奈良"}]
["時刻別平均外気湿球温度"]
["時刻",0,1,2,3,4,5,6,7,8,9,10,11,12,13,14,15,16,17,18,19,20,21,22,23]
["4月",8.5,8.3000000000000007,8.1,7.9,7.7,7.6,7.6,8.5,9.4,10.199999999999999,10.8,11.3,11.5,11.7,11.7,11.7,11.4,11,10.6,10.199999999999999,9.8000000000000007,9.5,9.1999999999999993,9]
["5月",13.4,13.2,13,12.8,12.7,12.6,13,13.8,14.5,15.1,15.5,15.9,16,16.100000000000001,16.2,16.100000000000001,15.8,15.5,15.2,14.9,14.5,14.2,13.9,13.7]
["6月",17.899999999999999,17.7,17.600000000000001,17.5,17.399999999999999,17.3,17.600000000000001,18.2,18.8,19.2,19.600000000000001,19.8,19.899999999999999,20,20,20,19.8,19.600000000000001,19.3,19.100000000000001,18.8,18.600000000000001,18.3,18.2]
["7月",22,21.9,21.8,21.7,21.6,21.5,21.8,22.3,22.7,23.2,23.5,23.7,23.8,23.9,23.8,23.7,23.6,23.4,23.2,22.9,22.7,22.5,22.4,22.2]
["8月",22.6,22.5,22.4,22.3,22.2,22.1,22.2,22.8,23.3,23.8,24.1,24.3,24.3,24.3,24.2,24.3,24,23.8,23.6,23.3,23.1,23,22.8,22.7]
["9月",19.3,19.2,19.100000000000001,19,18.899999999999999,18.8,18.8,19.3,20,20.5,20.9,21.1,21.2,21.2,21.2,21,20.8,20.7,20.3,20,19.8,19.600000000000001,19.5,19.3]
["10月",13.8,13.6,13.5,13.4,13.3,13.1,13,13.4,14.3,15,15.6,16,16.2,16.3,16.2,16,15.8,15.4,15,14.7,14.4,14.1,13.9,13.7]
["11月",8.3000000000000007,8.1999999999999993,8,7.8,7.6,7.5,7.4,7.4,8.4,9.4,10.1,10.7,11,11.1,11.1,11,10.7,10.199999999999999,9.8000000000000007,9.4,9.1,8.9,8.6,8.4]
["12月",3.4,3.3,3.1,3,2.9,2.8,2.7,2.6,3.2,4.2,5.0999999999999996,5.7,6.1,6.2,6.2,6.1,5.8,5.3,4.9000000000000004,4.5,4.0999999999999996,3.9,3.6,3.4]
["1月",1.2,1,0.9,0.8,0.6,0.5,0.5,0.4,0.8,1.9,2.7,3.3,3.7,3.9,4,3.9,3.6,3.2,2.7,2.2999999999999998,2,1.7,1.5,1.3]
["2月",1.3,1.2,1,0.9,0.8,0.7,0.6,0.6,1.4,2.4,3.2,3.8,4.2,4.4000000000000004,4.5,4.5,4.3,3.8,3.3,2.9,2.5,2.2000000000000002,1.9,1.7]
["3月",4.0999999999999996,3.9,3.7,3.6,3.4,3.3,3.1,3.5,4.5,5.4,6.2,6.8,7.2,7.4,7.4,7.4,7.1,6.8,6.3,5.8,5.4,5,4.7,4.4000000000000004]

{"sheet":"和歌山","index":34,"n_rows":16,"n_cols":25,"rows_kept":16,"cut":false,"hidden":true,"merged":[]}
["気象データ"]
[{"$f":"RIGHT(CELL(\"filename\",A2),LEN(CELL(\"filename\",A2))-FIND(\"]\",CELL(\"filename\",A2)))","v":"和歌山"}]
["時刻別平均外気湿球温度"]
["時刻",0,1,2,3,4,5,6,7,8,9,10,11,12,13,14,15,16,17,18,19,20,21,22,23]
["4月",10.199999999999999,10,9.8000000000000007,9.6,9.3000000000000007,9.1,9,9.3000000000000007,10,10.7,11.3,11.7,11.9,11.9,12.1,12.1,12,11.9,11.7,11.6,11.4,11.3,11,10.7]
["5月",14.9,14.6,14.4,14.2,14,13.8,13.8,14.2,14.9,15.4,15.9,16.100000000000001,16.2,16.3,16.399999999999999,16.399999999999999,16.3,16.3,16.2,16,15.8,15.7,15.5,15.3]
["6月",19.2,19,18.8,18.7,18.5,18.399999999999999,18.399999999999999,18.7,19.100000000000001,19.399999999999999,19.7,20,20,20.100000000000001,20.100000000000001,20.100000000000001,20.100000000000001,20.100000000000001,20,19.899999999999999,19.8,19.7,19.600000000000001,19.5]
["7月",23,23,22.8,22.7,22.6,22.4,22.5,22.7,23.1,23.4,23.7,23.8,23.9,23.9,24,23.9,23.9,23.8,23.7,23.6,23.5,23.4,23.3,23.2]
["8月",23.7,23.6,23.4,23.3,23.1,23,22.9,23.1,23.5,24,24.3,24.5,24.6,24.6,24.6,24.5,24.5,24.4,24.4,24.3,24.1,24,23.9,23.8]
["9月",20.399999999999999,20.2,20.100000000000001,20,19.8,19.7,19.600000000000001,19.7,20.100000000000001,20.6,20.9,21.2,21.3,21.3,21.3,21.2,21.2,21.1,21.1,21,20.9,20.8,20.5,20.399999999999999]
["10月",15,14.8,14.6,14.5,14.3,14.2,14.1,14.1,14.7,15.3,15.8,16.100000000000001,16.3,16.399999999999999,16.399999999999999,16.399999999999999,16.2,16.100000000000001,16,15.9,15.7,15.4,15.2,15]
["11月",9.8000000000000007,9.6,9.4,9.3000000000000007,9.1,9,8.9,8.8000000000000007,9.3000000000000007,10,10.7,11.2,11.5,11.6,11.7,11.6,11.5,11.2,11.1,10.9,10.6,10.3,10.1,9.9]
["12月",5,4.8,4.5999999999999996,4.5,4.4000000000000004,4.3,4.2,4.2,4.4000000000000004,5.0999999999999996,5.8,6.4,6.7,6.8,6.9,6.8,6.6,6.4,6.2,6,5.7,5.4,5.2,5]
["1月",2.6,2.5,2.2999999999999998,2.2000000000000002,2.1,2,1.9,1.9,2.1,2.7,3.4,4,4.3,4.4000000000000004,4.5,4.5,4.4000000000000004,4.2,4,3.8,3.6,3.3,3,2.8]
["2月",3,2.8,2.6,2.5,2.2999999999999998,2.2000000000000002,2.1,2.1,2.5,3.2,4,4.4000000000000004,4.8,5,5.0999999999999996,5.0999999999999996,5,4.8,4.5,4.3,4.0999999999999996,3.8,3.5,3.3]
["3月",5.8,5.6,5.4,5.2,5,4.9000000000000004,4.7,4.8,5.4,6.2,6.8,7.3,7.6,7.8,7.9,7.9,7.8,7.6,7.4,7.2,7,6.7,6.4,6.1]

{"sheet":"鳥取","index":35,"n_rows":16,"n_cols":25,"rows_kept":16,"cut":false,"hidden":true,"merged":[]}
["気象データ"]
[{"$f":"RIGHT(CELL(\"filename\",A2),LEN(CELL(\"filename\",A2))-FIND(\"]\",CELL(\"filename\",A2)))","v":"鳥取"}]
["時刻別平均外気湿球温度"]
["時刻",0,1,2,3,4,5,6,7,8,9,10,11,12,13,14,15,16,17,18,19,20,21,22,23]
["4月",8.5,8.1999999999999993,8,7.8,7.6,7.5,7.5,8.1,9.1999999999999993,10.1,10.6,11,11.2,11.3,11.3,11.2,11.1,10.9,10.6,10.3,10,9.6,9.1999999999999993,8.9]
["5月",13.2,13,12.8,12.6,12.4,12.3,12.5,13.2,14.1,14.8,15.1,15.3,15.5,15.5,15.6,15.5,15.4,15.2,14.9,14.8,14.5,14.2,13.8,13.6]
["6月",17.8,17.600000000000001,17.5,17.3,17.2,17.100000000000001,17.2,17.8,18.399999999999999,18.899999999999999,19.2,19.5,19.600000000000001,19.600000000000001,19.7,19.600000000000001,19.399999999999999,19.3,19.100000000000001,19,18.8,18.600000000000001,18.399999999999999,18.2]
["7月",22.1,21.9,21.8,21.7,21.6,21.5,21.6,22,22.5,23,23.2,23.4,23.6,23.5,23.6,23.6,23.5,23.4,23.2,23,22.9,22.7,22.5,22.3]
["8月",22.9,22.7,22.5,22.4,22.2,22.1,22.1,22.5,23.1,23.6,23.9,24.1,24.3,24.3,24.3,24.3,24.2,24,24,23.8,23.7,23.4,23.2,23]
["9月",19.3,19.100000000000001,19,18.8,18.7,18.600000000000001,18.5,18.8,19.5,20.100000000000001,20.5,20.8,21,21,21,20.9,20.8,20.6,20.5,20.3,20.100000000000001,19.8,19.600000000000001,19.3]
["10月",13.7,13.5,13.4,13.2,13.1,13,12.8,13,13.8,14.7,15.4,15.7,15.8,16,16,15.9,15.7,15.5,15.4,15,14.6,14.3,14,13.8]
["11月",8.6999999999999993,8.5,8.4,8.3000000000000007,8.1999999999999993,8.1,8,8,8.6999999999999993,9.6,10.4,10.8,10.9,11,11,10.9,10.8,10.5,10.199999999999999,9.8000000000000007,9.5,9.1999999999999993,8.9,8.6999999999999993]
["12月",4.2,4,4,3.9,3.8,3.7,3.7,3.6,3.9,4.5,5.3,5.8,6,6.1,6.1,6.1,5.9,5.6,5.3,5,4.7,4.5,4.3,4.0999999999999996]
["1月",1.8,1.7,1.6,1.6,1.5,1.5,1.4,1.4,1.6,2.2000000000000002,2.9,3.4,3.7,3.8,3.9,3.8,3.7,3.4,3.1,2.7,2.5,2.2999999999999998,2.1,1.9]
["2月",1.9,1.8,1.7,1.6,1.5,1.5,1.4,1.4,1.8,2.5,3.3,3.8,4.0999999999999996,4.3,4.4000000000000004,4.4000000000000004,4.2,4,3.6,3.2,2.9,2.6,2.4,2.2000000000000002]
["3月",4.3,4.0999999999999996,4,3.8,3.7,3.6,3.5,3.7,4.5,5.5,6.2,6.7,6.9,7.1,7.2,7.1,7,6.7,6.4,6.1,5.6,5.2,4.9000000000000004,4.5999999999999996]

{"sheet":"松江","index":36,"n_rows":16,"n_cols":25,"rows_kept":16,"cut":false,"hidden":true,"merged":[]}
["気象データ"]
[{"$f":"RIGHT(CELL(\"filename\",A2),LEN(CELL(\"filename\",A2))-FIND(\"]\",CELL(\"filename\",A2)))","v":"松江"}]
["時刻別平均外気湿球温度"]
["時刻",0,1,2,3,4,5,6,7,8,9,10,11,12,13,14,15,16,17,18,19,20,21,22,23]
["4月",9,8.8000000000000007,8.6,8.5,8.3000000000000007,8.1999999999999993,8.1999999999999993,8.9,9.8000000000000007,10.5,11,11.4,11.5,11.7,11.6,11.4,11.2,10.8,10.6,10.3,10.1,9.9,9.6,9.4]
["5月",13.8,13.6,13.4,13.3,13.2,13.1,13.3,14.1,14.7,15.2,15.6,15.8,15.9,15.9,15.9,15.7,15.5,15.2,15,14.7,14.6,14.4,14.2,14]
["6月",18.2,18.100000000000001,17.899999999999999,17.8,17.7,17.600000000000001,17.899999999999999,18.399999999999999,18.8,19.2,19.5,19.7,19.899999999999999,20,19.899999999999999,19.8,19.600000000000001,19.3,19.100000000000001,18.899999999999999,18.8,18.7,18.600000000000001,18.5]
["7月",22.4,22.3,22.2,22.2,22,22,22.1,22.5,22.9,23.3,23.5,23.7,23.8,23.9,23.8,23.8,23.6,23.4,23.2,23,22.8,22.8,22.7,22.6]
["8月",23.3,23.2,23.1,23,22.9,22.8,22.9,23.3,23.8,24.1,24.3,24.5,24.6,24.6,24.6,24.6,24.4,24.2,24,23.8,23.7,23.6,23.5,23.4]
["9月",19.7,19.600000000000001,19.5,19.3,19.2,19.100000000000001,19.100000000000001,19.5,20.100000000000001,20.5,20.8,20.9,21,21,21,20.8,20.7,20.5,20.3,20.2,20.100000000000001,20,19.899999999999999,19.7]
["10月",14.2,14,13.8,13.7,13.6,13.4,13.3,13.6,14.4,15.2,15.7,15.9,16,15.9,15.9,15.8,15.6,15.3,15.1,14.9,14.7,14.5,14.3,14.2]
["11月",9,8.9,8.6999999999999993,8.6,8.5,8.4,8.3000000000000007,8.3000000000000007,9,9.8000000000000007,10.5,10.9,11.1,11.1,11.1,10.9,10.7,10.4,10.199999999999999,9.9,9.6,9.4,9.1999999999999993,9]
["12月",4.5,4.4000000000000004,4.3,4.2,4.0999999999999996,4.0999999999999996,3.9,3.9,4.2,4.9000000000000004,5.5,6,6.3,6.4,6.3,6.2,5.9,5.6,5.4,5.2,5,4.8,4.5999999999999996,4.5]
["1月",2.2000000000000002,2.2000000000000002,2.1,2,1.9,1.9,1.8,1.8,1.9,2.6,3.3,3.7,3.9,4.0999999999999996,4,3.9,3.7,3.4,3.2,3,2.8,2.6,2.5,2.2999999999999998]
["2月",2.4,2.2000000000000002,2.1,2,1.9,1.8,1.8,1.7,2.2000000000000002,3,3.7,4.2,4.5,4.5999999999999996,4.5999999999999996,4.5,4.3,4,3.7,3.5,3.2,3,2.8,2.7]
["3月",4.8,4.5999999999999996,4.5,4.3,4.2,4.0999999999999996,4,4.2,5.0999999999999996,6,6.6,7,7.3,7.4,7.4,7.2,7,6.7,6.4,6.1,5.9,5.6,5.3,5.0999999999999996]

{"sheet":"岡山","index":37,"n_rows":16,"n_cols":25,"rows_kept":16,"cut":false,"hidden":true,"merged":[]}
["気象データ"]
[{"$f":"RIGHT(CELL(\"filename\",A2),LEN(CELL(\"filename\",A2))-FIND(\"]\",CELL(\"filename\",A2)))","v":"岡山"}]
["時刻別平均外気湿球温度"]
["時刻",0,1,2,3,4,5,6,7,8,9,10,11,12,13,14,15,16,17,18,19,20,21,22,23]
["4月",9.5,9.1999999999999993,9,8.6999999999999993,8.5,8.3000000000000007,8.1999999999999993,8.5,9.1999999999999993,10.199999999999999,10.8,11.2,11.5,11.7,11.8,11.8,11.7,11.5,11.2,10.9,10.7,10.4,10.1,9.9]
["5月",14.3,14.1,13.9,13.7,13.5,13.4,13.4,13.8,14.5,15.1,15.6,15.8,16,16.2,16.2,16.2,16.100000000000001,15.8,15.6,15.4,15.2,15,14.8,14.6]
["6月",18.7,18.600000000000001,18.399999999999999,18.3,18.2,18.100000000000001,18.100000000000001,18.5,18.899999999999999,19.3,19.600000000000001,19.8,20,20,20.100000000000001,20,19.899999999999999,19.8,19.7,19.600000000000001,19.399999999999999,19.3,19.2,19]
["7月",22.9,22.8,22.7,22.6,22.5,22.4,22.5,22.7,23.1,23.4,23.6,23.8,23.9,24,24,24,23.9,23.8,23.7,23.5,23.4,23.3,23.2,23.1]
["8月",23.6,23.5,23.4,23.3,23.2,23.1,23.1,23.3,23.7,24,24.2,24.4,24.5,24.5,24.5,24.4,24.3,24.2,24.1,24.1,24,23.9,23.8,23.7]
["9月",20,19.899999999999999,19.8,19.7,19.5,19.399999999999999,19.3,19.399999999999999,19.899999999999999,20.399999999999999,20.7,20.9,20.9,21,21,21,21,20.9,20.8,20.6,20.5,20.3,20.2,20]
["10月",14.5,14.3,14.1,13.9,13.7,13.6,13.4,13.4,14,14.8,15.4,15.7,15.9,15.8,15.9,16,15.9,15.8,15.6,15.4,15.2,14.9,14.7,14.5]
["11月",8.9,8.6999999999999993,8.5,8.3000000000000007,8.1,8,7.8,7.7,8.1999999999999993,9.1,10,10.6,10.9,10.9,11,11,10.9,10.7,10.4,10.1,9.8000000000000007,9.5,9.3000000000000007,9]
["12月",4,3.8,3.6,3.4,3.2,3,2.9,2.8,3,4,5,5.7,6.1,6.2,6.2,6.3,6.1,5.8,5.5,5.2,4.9000000000000004,4.5999999999999996,4.3,4.0999999999999996]
["1月",1.7,1.5,1.3,1.1000000000000001,0.9,0.8,0.7,0.6,0.8,1.8,2.8,3.6,4,4.0999999999999996,4.2,4.2,4.0999999999999996,3.8,3.4,3.1,2.8,2.5,2.2000000000000002,1.9]
["2月",2.2000000000000002,1.9,1.7,1.5,1.3,1.2,1,1,1.4,2.4,3.4,4.0999999999999996,4.5,4.7,4.8,4.9000000000000004,4.8,4.5,4.0999999999999996,3.8,3.5,3.2,2.8,2.5]
["3月",5,4.8,4.5,4.3,4.0999999999999996,3.9,3.7,3.8,4.4000000000000004,5.4,6.3,6.9,7.2,7.4,7.6,7.6,7.5,7.2,6.9,6.5,6.2,5.9,5.7,5.4]

{"sheet":"広島","index":38,"n_rows":16,"n_cols":25,"rows_kept":16,"cut":false,"hidden":true,"merged":[]}
["気象データ"]
[{"$f":"RIGHT(CELL(\"filename\",A2),LEN(CELL(\"filename\",A2))-FIND(\"]\",CELL(\"filename\",A2)))","v":"広島"}]
["時刻別平均外気湿球温度"]
["時刻",0,1,2,3,4,5,6,7,8,9,10,11,12,13,14,15,16,17,18,19,20,21,22,23]
["4月",9.8000000000000007,9.5,9.3000000000000007,9,8.8000000000000007,8.6,8.4,8.6,9.1999999999999993,10,10.8,11.2,11.6,11.8,12,12,11.9,11.7,11.4,11.2,11,10.8,10.6,10.3]
["5月",14.5,14.2,14,13.7,13.5,13.4,13.3,13.6,14.2,14.9,15.3,15.7,15.9,16.100000000000001,16.2,16.100000000000001,16.100000000000001,15.9,15.7,15.4,15.3,15.2,15,14.8]
["6月",18.8,18.600000000000001,18.5,18.3,18.2,18.100000000000001,18,18.3,18.7,19.100000000000001,19.399999999999999,19.7,19.899999999999999,20,20.100000000000001,20.100000000000001,20,19.8,19.7,19.600000000000001,19.5,19.399999999999999,19.3,19.2]
["7月",22.9,22.8,22.7,22.6,22.5,22.4,22.4,22.6,22.9,23.1,23.3,23.5,23.7,23.8,23.9,23.9,23.8,23.7,23.6,23.4,23.3,23.3,23.2,23.1]
["8月",23.7,23.5,23.4,23.3,23.2,23,23,23.1,23.4,23.7,24,24.1,24.2,24.4,24.4,24.4,24.2,24.3,24.1,24.1,24,23.9,23.8,23.7]
["9月",20,19.8,19.7,19.600000000000001,19.399999999999999,19.3,19.100000000000001,19.2,19.5,20,20.399999999999999,20.7,20.8,20.9,20.9,20.9,20.9,20.9,20.7,20.6,20.5,20.399999999999999,20.2,20]
["10月",14.4,14.2,14,13.8,13.6,13.5,13.3,13.3,13.7,14.3,15.1,15.5,15.8,15.9,16,15.9,15.9,15.8,15.6,15.4,15.2,14.9,14.7,14.5]
["11月",9.1999999999999993,8.9,8.6999999999999993,8.5,8.4,8.1999999999999993,8.1,8,8.3000000000000007,8.9,9.8000000000000007,10.4,10.8,11,11.1,11.1,11,10.8,10.6,10.3,10,9.6999999999999993,9.5,9.1999999999999993]
["12月",4.4000000000000004,4.2,4,3.8,3.7,3.5,3.4,3.4,3.5,4,4.8,5.6,6.1,6.3,6.5,6.4,6.2,6,5.7,5.5,5.2,5,4.7,4.5]
["1月",2.2000000000000002,2,1.8,1.7,1.5,1.4,1.3,1.3,1.4,2,2.7,3.5,4.0999999999999996,4.3,4.4000000000000004,4.4000000000000004,4.2,3.9,3.7,3.4,3.2,2.9,2.7,2.4]
["2月",2.7,2.5,2.2999999999999998,2.2000000000000002,2,1.8,1.7,1.7,1.9,2.6,3.4,4.2,4.5999999999999996,4.9000000000000004,5.0999999999999996,5.0999999999999996,5,4.7,4.4000000000000004,4.2,3.9,3.7,3.4,3.1]
["3月",5.6,5.3,5,4.8,4.5999999999999996,4.4000000000000004,4.2,4.2,4.5999999999999996,5.4,6.3,7,7.4,7.7,7.8,7.9,7.8,7.5,7.2,7,6.8,6.5,6.2,5.9]

{"sheet":"山口","index":39,"n_rows":16,"n_cols":25,"rows_kept":16,"cut":false,"hidden":true,"merged":[]}
["気象データ"]
[{"$f":"RIGHT(CELL(\"filename\",A2),LEN(CELL(\"filename\",A2))-FIND(\"]\",CELL(\"filename\",A2)))","v":"山口"}]
["時刻別平均外気湿球温度"]
["時刻",0,1,2,3,4,5,6,7,8,9,10,11,12,13,14,15,16,17,18,19,20,21,22,23]
["4月",9.4,9.1999999999999993,8.9,8.6999999999999993,8.5,8.3000000000000007,8.1999999999999993,8.6,9.5,10.6,11.4,11.9,12.2,12.4,12.4,12.3,12.1,11.8,11.4,11,10.8,10.5,10.199999999999999,9.9]
["5月",14,13.8,13.6,13.4,13.2,13,13.1,13.6,14.4,15.3,15.8,16.100000000000001,16.399999999999999,16.5,16.399999999999999,16.3,16.100000000000001,15.8,15.5,15.2,15,14.7,14.5,14.3]
["6月",18.5,18.399999999999999,18.2,18.100000000000001,18,17.899999999999999,18,18.3,18.899999999999999,19.399999999999999,19.7,20,20.3,20.399999999999999,20.399999999999999,20.399999999999999,20.2,20,19.8,19.5,19.3,19.100000000000001,19,18.8]
["7月",22.6,22.5,22.4,22.3,22.2,22.1,22.1,22.4,22.9,23.3,23.6,23.8,23.9,24.1,24.1,24.1,24,23.8,23.6,23.4,23.2,23,22.9,22.8]
["8月",23.3,23.2,23.1,23,22.9,22.8,22.7,23,23.5,23.9,24.2,24.4,24.6,24.7,24.7,24.6,24.4,24.3,24.1,23.9,23.8,23.6,23.5,23.4]
["9月",19.8,19.600000000000001,19.5,19.3,19.2,19.100000000000001,18.899999999999999,19.2,19.7,20.3,20.7,20.9,21,21.2,21.3,21.3,21.2,21,20.7,20.5,20.3,20.2,20,19.8]
["10月",14.1,13.8,13.6,13.4,13.2,13,12.9,12.9,13.7,14.6,15.4,15.9,16.100000000000001,16.2,16.3,16.2,16.100000000000001,15.8,15.5,15.3,15,14.7,14.4,14.1]
["11月",8.6999999999999993,8.4,8.1999999999999993,8,7.9,7.7,7.6,7.5,8.1,9.1,10.3,11.1,11.4,11.5,11.5,11.5,11.3,11,10.6,10.199999999999999,9.8000000000000007,9.4,9.1,8.8000000000000007]
["12月",3.9,3.6,3.5,3.2,3.1,2.9,2.8,2.7,2.9,3.8,4.9000000000000004,5.9,6.5,6.7,6.7,6.6,6.4,6,5.6,5.2,4.8,4.5,4.2,4]
["1月",1.7,1.5,1.3,1.2,1.1000000000000001,1,0.9,0.9,1,1.8,2.9,3.9,4.4000000000000004,4.5,4.7,4.5999999999999996,4.4000000000000004,4,3.6,3.2,2.8,2.5,2.2000000000000002,1.9]
["2月",2.4,2.2000000000000002,2,1.8,1.6,1.5,1.4,1.3,1.7,2.6,3.7,4.5999999999999996,5.0999999999999996,5.3,5.4,5.4,5.2,4.9000000000000004,4.5,4.0999999999999996,3.7,3.4,3.1,2.8]
["3月",5.3,5,4.8,4.5,4.3,4.2,4,4,4.8,5.9,7,7.7,8,8.1999999999999993,8.1999999999999993,8.1999999999999993,8,7.7,7.3,6.9,6.6,6.3,5.9,5.7]

{"sheet":"徳島","index":40,"n_rows":16,"n_cols":25,"rows_kept":16,"cut":false,"hidden":true,"merged":[]}
["気象データ"]
[{"$f":"RIGHT(CELL(\"filename\",A2),LEN(CELL(\"filename\",A2))-FIND(\"]\",CELL(\"filename\",A2)))","v":"徳島"}]
["時刻別平均外気湿球温度"]
["時刻",0,1,2,3,4,5,6,7,8,9,10,11,12,13,14,15,16,17,18,19,20,21,22,23]
["4月",10.3,10.1,9.8000000000000007,9.6,9.4,9.1999999999999993,9.1,9.5,10.1,10.8,11.3,11.7,12,12.2,12.3,12.3,12.2,12.1,11.9,11.7,11.5,11.3,11,10.7]
["5月",15,14.8,14.5,14.3,14.1,14,14,14.5,15,15.6,16,16.3,16.5,16.600000000000001,16.600000000000001,16.5,16.5,16.3,16.2,16,15.9,15.8,15.6,15.4]
["6月",19.2,19,18.899999999999999,18.7,18.600000000000001,18.5,18.600000000000001,18.899999999999999,19.3,19.7,19.899999999999999,20.100000000000001,20.3,20.3,20.3,20.3,20.2,20.2,20.100000000000001,19.899999999999999,19.8,19.8,19.7,19.5]
["7月",23.2,23.1,22.9,22.8,22.7,22.5,22.6,22.8,23.1,23.6,23.9,24.1,24.2,24.3,24.2,24.2,24.1,24,23.9,23.7,23.7,23.6,23.5,23.4]
["8月",23.8,23.7,23.6,23.4,23.3,23.1,23.1,23.4,23.7,24.2,24.6,24.8,24.9,25,24.9,24.8,24.6,24.6,24.4,24.3,24.2,24.2,24.1,23.9]
["9月",20.6,20.5,20.399999999999999,20.3,20.100000000000001,20,20,20.100000000000001,20.5,20.9,21.3,21.5,21.6,21.6,21.6,21.5,21.4,21.2,21.1,21.1,21,20.9,20.7,20.6]
["10月",15.3,15.1,15,14.8,14.7,14.6,14.5,14.6,15.1,15.6,16.100000000000001,16.399999999999999,16.600000000000001,16.7,16.7,16.600000000000001,16.399999999999999,16.2,16.100000000000001,16,15.8,15.6,15.4,15.2]
["11月",9.9,9.8000000000000007,9.6,9.4,9.3000000000000007,9.1999999999999993,9.1,9.1,9.5,10.199999999999999,10.8,11.3,11.6,11.8,11.8,11.7,11.5,11.3,11.1,10.9,10.7,10.4,10.199999999999999,10]
["12月",5,4.8,4.7,4.5999999999999996,4.5,4.4000000000000004,4.3,4.3,4.5,5.2,5.9,6.4,6.7,6.9,6.9,6.8,6.6,6.4,6.1,5.9,5.6,5.3,5.2,4.9000000000000004]
["1月",2.6,2.4,2.2999999999999998,2.2000000000000002,2.1,2.1,2,1.9,2.2000000000000002,2.8,3.5,4,4.4000000000000004,4.5999999999999996,4.7,4.7,4.5,4.2,3.9,3.7,3.5,3.2,3,2.8]
["2月",3,2.8,2.7,2.5,2.4,2.2999999999999998,2.2000000000000002,2.2000000000000002,2.6,3.4,4,4.5,4.9000000000000004,5.0999999999999996,5.3,5.3,5.0999999999999996,4.8,4.5,4.3,4.0999999999999996,3.8,3.5,3.3]
["3月",5.9,5.7,5.5,5.3,5.0999999999999996,5,4.9000000000000004,5,5.6,6.3,6.9,7.4,7.7,7.9,8,8.1,7.9,7.7,7.5,7.3,7,6.8,6.5,6.2]

{"sheet":"高松","index":41,"n_rows":16,"n_cols":25,"rows_kept":16,"cut":false,"hidden":true,"merged":[]}
["気象データ"]
[{"$f":"RIGHT(CELL(\"filename\",A2),LEN(CELL(\"filename\",A2))-FIND(\"]\",CELL(\"filename\",A2)))","v":"高松"}]
["時刻別平均外気湿球温度"]
["時刻",0,1,2,3,4,5,6,7,8,9,10,11,12,13,14,15,16,17,18,19,20,21,22,23]
["4月",9.8000000000000007,9.5,9.3000000000000007,9.1,8.9,8.6999999999999993,8.6999999999999993,9.1999999999999993,10.1,10.7,11.1,11.4,11.6,11.6,11.8,11.8,11.8,11.6,11.3,11.1,10.8,10.6,10.4,10.1]
["5月",14.5,14.3,14.1,14,13.8,13.6,13.8,14.4,15,15.5,15.8,16,16,16.100000000000001,16.100000000000001,16.100000000000001,16.100000000000001,15.9,15.7,15.5,15.3,15.2,15,14.8]
["6月",19,18.8,18.7,18.600000000000001,18.5,18.399999999999999,18.5,18.899999999999999,19.2,19.5,19.8,19.899999999999999,20.100000000000001,20.100000000000001,20.100000000000001,20,20,20,19.899999999999999,19.7,19.600000000000001,19.5,19.399999999999999,19.3]
["7月",23.1,22.9,22.8,22.8,22.7,22.6,22.7,23,23.3,23.6,23.8,23.9,24,24,24,24,24,23.9,23.7,23.6,23.5,23.4,23.4,23.3]
["8月",23.8,23.7,23.6,23.4,23.4,23.2,23.2,23.6,24,24.3,24.5,24.7,24.7,24.7,24.5,24.4,24.4,24.3,24.2,24.2,24.1,24.1,24,23.9]
["9月",20.5,20.3,20.2,20.100000000000001,20,19.899999999999999,19.899999999999999,20.2,20.7,21.1,21.3,21.4,21.4,21.4,21.4,21.3,21.2,21.1,21,20.9,20.9,20.8,20.6,20.5]
["10月",14.9,14.8,14.6,14.5,14.4,14.3,14.2,14.4,15.1,15.9,16.2,16.399999999999999,16.5,16.5,16.399999999999999,16.3,16.100000000000001,16,15.8,15.7,15.6,15.3,15.1,14.9]
["11月",9.5,9.3000000000000007,9.1,8.9,8.8000000000000007,8.6999999999999993,8.6,8.6,9.3000000000000007,10.3,11.1,11.4,11.6,11.6,11.6,11.5,11.3,11,10.8,10.5,10.3,10,9.8000000000000007,9.5]
["12月",4.5999999999999996,4.4000000000000004,4.3,4.2,4.0999999999999996,3.9,3.8,3.8,4.2,5.2,6.1,6.5,6.7,6.8,6.8,6.7,6.4,6.1,5.8,5.5,5.3,5.0999999999999996,4.8,4.5999999999999996]
["1月",2.2999999999999998,2.1,2,1.9,1.8,1.7,1.6,1.6,1.9,2.8,3.6,4.0999999999999996,4.3,4.5,4.5,4.4000000000000004,4.3,4,3.7,3.4,3.1,2.9,2.7,2.5]
["2月",2.6,2.4,2.2999999999999998,2.1,2,1.9,1.8,1.7,2.2999999999999998,3.3,4,4.5,4.8,4.9000000000000004,5,5,4.9000000000000004,4.5999999999999996,4.2,3.9,3.7,3.4,3.2,2.9]
["3月",5.4,5.2,5,4.8,4.5999999999999996,4.5,4.4000000000000004,4.5,5.4,6.2,6.8,7.1,7.4,7.6,7.7,7.7,7.6,7.4,7,6.7,6.5,6.2,5.9,5.7]

{"sheet":"松山","index":42,"n_rows":16,"n_cols":25,"rows_kept":16,"cut":false,"hidden":true,"merged":[]}
["気象データ"]
[{"$f":"RIGHT(CELL(\"filename\",A2),LEN(CELL(\"filename\",A2))-FIND(\"]\",CELL(\"filename\",A2)))","v":"松山"}]
["時刻別平均外気湿球温度"]
["時刻",0,1,2,3,4,5,6,7,8,9,10,11,12,13,14,15,16,17,18,19,20,21,22,23]
["4月",9.9,9.6,9.5,9.3000000000000007,9.1,9,9,9.4,10.3,11,11.5,11.8,12,12.1,12.1,12.1,12,11.8,11.5,11.3,11.1,10.8,10.5,10.3]
["5月",14.1,13.9,13.8,13.7,13.5,13.4,13.5,14.1,14.9,15.4,15.8,16.100000000000001,16.2,16.2,16.2,16.2,15.9,15.8,15.6,15.4,15.3,15,14.7,14.4]
["6月",18.600000000000001,18.399999999999999,18.3,18.2,18.100000000000001,18,18.100000000000001,18.600000000000001,19.100000000000001,19.5,19.8,20,20.100000000000001,20.2,20.2,20.100000000000001,20,19.899999999999999,19.7,19.600000000000001,19.5,19.3,19.100000000000001,18.899999999999999]
["7月",22.6,22.5,22.3,22.2,22.1,22,22.1,22.4,22.9,23.2,23.5,23.6,23.7,23.8,23.8,23.7,23.6,23.5,23.4,23.2,23.2,23.1,23,22.8]
["8月",23.2,23,22.9,22.7,22.6,22.5,22.5,22.8,23.4,23.9,24.2,24.3,24.5,24.5,24.5,24.4,24.3,24.1,24,23.9,23.8,23.7,23.5,23.3]
["9月",20,19.899999999999999,19.8,19.7,19.600000000000001,19.5,19.399999999999999,19.7,20.3,20.8,21.1,21.3,21.5,21.6,21.5,21.5,21.3,21.2,21,20.9,20.7,20.399999999999999,20.2,20]
["10月",14.7,14.5,14.4,14.3,14.2,14.1,14,14.2,14.9,15.7,16.100000000000001,16.399999999999999,16.5,16.7,16.7,16.600000000000001,16.399999999999999,16.2,16,15.7,15.3,15,14.8,14.6]
["11月",9.6,9.4,9.3000000000000007,9.1999999999999993,9.1,9.1,9,9,9.6,10.5,11.2,11.5,11.7,11.8,11.9,11.8,11.6,11.4,11,10.7,10.3,10,9.8000000000000007,9.6]
["12月",4.9000000000000004,4.8,4.7,4.5,4.5,4.4000000000000004,4.3,4.2,4.5,5.4,6.2,6.5,6.8,6.9,7,6.9,6.7,6.5,6.1,5.8,5.5,5.2,5,4.9000000000000004]
["1月",2.6,2.5,2.2999999999999998,2.2999999999999998,2.2000000000000002,2.1,2,2,2.2000000000000002,3,3.9,4.3,4.5999999999999996,4.8,4.9000000000000004,4.8,4.7,4.4000000000000004,4.0999999999999996,3.7,3.4,3.1,2.9,2.7]
["2月",3.1,2.9,2.8,2.7,2.6,2.5,2.4,2.2999999999999998,2.8,3.7,4.5,4.9000000000000004,5.2,5.4,5.5,5.5,5.4,5.0999999999999996,4.9000000000000004,4.5,4.0999999999999996,3.8,3.6,3.4]
["3月",5.8,5.6,5.5,5.3,5.2,5.0999999999999996,5,5.0999999999999996,5.8,6.7,7.3,7.7,8,8.1,8.1999999999999993,8.1,8,7.8,7.5,7.3,6.9,6.6,6.3,6]

{"sheet":"高知","index":43,"n_rows":16,"n_cols":25,"rows_kept":16,"cut":false,"hidden":true,"merged":[]}
["気象データ"]
[{"$f":"RIGHT(CELL(\"filename\",A2),LEN(CELL(\"filename\",A2))-FIND(\"]\",CELL(\"filename\",A2)))","v":"高知"}]
["時刻別平均外気湿球温度"]
["時刻",0,1,2,3,4,5,6,7,8,9,10,11,12,13,14,15,16,17,18,19,20,21,22,23]
["4月",11,10.7,10.5,10.199999999999999,10,9.8000000000000007,9.6999999999999993,10.1,10.9,11.6,12.2,12.7,13,13.2,13.4,13.4,13.4,13.2,13,12.7,12.4,12.1,11.8,11.5]
["5月",15.6,15.4,15.1,14.8,14.6,14.4,14.4,14.9,15.6,16.2,16.600000000000001,16.899999999999999,17.2,17.3,17.5,17.5,17.5,17.5,17.3,17.100000000000001,16.899999999999999,16.7,16.399999999999999,16.100000000000001]
["6月",19.7,19.5,19.3,19.100000000000001,19,18.8,18.899999999999999,19.3,19.7,20.2,20.5,20.7,20.8,20.9,21,21.1,21,20.9,20.9,20.8,20.7,20.5,20.399999999999999,20.2]
["7月",23.6,23.4,23.3,23.1,22.9,22.8,22.8,23.1,23.6,23.9,24.2,24.3,24.4,24.5,24.6,24.6,24.6,24.5,24.4,24.3,24.3,24.2,24.1,23.9]
["8月",24.2,24,23.8,23.6,23.4,23.3,23.2,23.5,23.9,24.3,24.6,24.7,24.9,25,25.1,25.1,25,25,24.9,24.8,24.8,24.7,24.5,24.3]
["9月",21,20.8,20.6,20.5,20.3,20.2,20.100000000000001,20.3,20.8,21.3,21.6,21.8,22,22.1,22.2,22.2,22.1,22,21.9,21.8,21.6,21.4,21.2,21]
["10月",15.5,15.3,15.1,14.9,14.8,14.6,14.4,14.6,15.3,16,16.5,16.8,17,17.2,17.2,17.2,17.100000000000001,16.899999999999999,16.7,16.5,16.3,16,15.8,15.6]
["11月",10.1,9.9,9.6999999999999993,9.5,9.3000000000000007,9.1999999999999993,9,9,9.6999999999999993,10.6,11.4,12,12.3,12.4,12.5,12.5,12.3,12,11.6,11.3,11,10.7,10.5,10.199999999999999]
["12月",4.9000000000000004,4.5999999999999996,4.4000000000000004,4.2,4,3.9,3.7,3.6,4.0999999999999996,5.2,6.3,7,7.4,7.6,7.7,7.6,7.4,7,6.5,6.2,5.8,5.5,5.2,4.9000000000000004]
["1月",2.6,2.4,2.1,1.9,1.8,1.6,1.5,1.4,1.8,2.9,4,4.8,5.2,5.6,5.8,5.7,5.5,5.0999999999999996,4.5999999999999996,4.0999999999999996,3.8,3.5,3.2,2.9]
["2月",3.6,3.4,3.2,3,2.8,2.6,2.5,2.4,3,4.0999999999999996,5,5.6,6.1,6.5,6.7,6.7,6.5,6.2,5.7,5.3,5,4.5999999999999996,4.3,4]
["3月",6.8,6.5,6.3,6.1,5.8,5.7,5.5,5.6,6.4,7.2,7.9,8.5,8.9,9.1999999999999993,9.3000000000000007,9.4,9.3000000000000007,9.1,8.8000000000000007,8.4,8.1,7.8,7.5,7.1]

{"sheet":"福岡","index":44,"n_rows":16,"n_cols":25,"rows_kept":16,"cut":false,"hidden":true,"merged":[]}
["気象データ"]
[{"$f":"RIGHT(CELL(\"filename\",A2),LEN(CELL(\"filename\",A2))-FIND(\"]\",CELL(\"filename\",A2)))","v":"福岡"}]
["時刻別平均外気湿球温度"]
["時刻",0,1,2,3,4,5,6,7,8,9,10,11,12,13,14,15,16,17,18,19,20,21,22,23]
["4月",10.9,10.7,10.5,10.4,10.199999999999999,10.1,10,10.3,10.9,11.5,12,12.4,12.6,12.8,12.9,12.8,12.6,12.4,12.1,11.9,11.8,11.6,11.4,11.2]
["5月",15.2,15,14.8,14.7,14.5,14.4,14.5,14.8,15.4,15.9,16.2,16.5,16.8,16.899999999999999,17,16.899999999999999,16.7,16.600000000000001,16.3,16.100000000000001,15.9,15.8,15.6,15.4]
["6月",19.399999999999999,19.3,19.2,19.100000000000001,19,18.899999999999999,18.899999999999999,19.2,19.600000000000001,19.899999999999999,20.2,20.5,20.7,20.8,20.8,20.8,20.6,20.5,20.3,20.100000000000001,20,19.899999999999999,19.8,19.7]
["7月",23.3,23.2,23.1,23,22.9,22.9,22.9,23.1,23.4,23.6,23.9,24.1,24.3,24.4,24.5,24.4,24.3,24.2,24,23.9,23.7,23.6,23.5,23.5]
["8月",23.9,23.8,23.7,23.6,23.5,23.4,23.4,23.6,23.9,24.2,24.4,24.7,24.9,25,25.1,25.1,25,24.8,24.7,24.5,24.4,24.3,24.2,24]
["9月",20.7,20.5,20.399999999999999,20.3,20.2,20.100000000000001,20,20.2,20.6,21,21.3,21.5,21.8,21.9,22,21.9,21.8,21.6,21.4,21.2,21.1,21,20.8,20.7]
["10月",15.3,15.2,15,14.9,14.8,14.7,14.6,14.6,15.2,15.7,16.100000000000001,16.399999999999999,16.7,16.899999999999999,16.899999999999999,16.899999999999999,16.7,16.5,16.2,16.100000000000001,15.9,15.7,15.5,15.3]
["11月",10.3,10.1,10,9.9,9.8000000000000007,9.6999999999999993,9.6,9.6,9.9,10.6,11.2,11.6,11.8,11.9,12,11.9,11.7,11.5,11.3,11.1,10.9,10.7,10.5,10.3]
["12月",5.5,5.4,5.3,5.0999999999999996,5,4.9000000000000004,4.9000000000000004,4.9000000000000004,5,5.5,6.1,6.6,6.8,7,7,7,6.8,6.6,6.4,6.2,6.1,5.9,5.7,5.5]
["1月",3.5,3.4,3.3,3.2,3.1,3.1,3,3,3.1,3.5,4.0999999999999996,4.5999999999999996,4.9000000000000004,5,5.0999999999999996,5.0999999999999996,5,4.7,4.5,4.4000000000000004,4.2,4,3.9,3.7]
["2月",4.3,4.0999999999999996,4,3.9,3.8,3.7,3.6,3.6,3.8,4.3,4.9000000000000004,5.4,5.7,5.9,6.1,6,5.9,5.6,5.4,5.2,5,4.8,4.7,4.5]
["3月",7,6.8,6.6,6.4,6.3,6.2,6.1,6.2,6.6,7.3,7.9,8.3000000000000007,8.6,8.8000000000000007,8.9,8.9,8.6999999999999993,8.5,8.1999999999999993,8,7.8,7.6,7.4,7.2]

{"sheet":"佐賀","index":45,"n_rows":16,"n_cols":25,"rows_kept":16,"cut":false,"hidden":true,"merged":[]}
["気象データ"]
[{"$f":"RIGHT(CELL(\"filename\",A2),LEN(CELL(\"filename\",A2))-FIND(\"]\",CELL(\"filename\",A2)))","v":"佐賀"}]
["時刻別平均外気湿球温度"]
["時刻",0,1,2,3,4,5,6,7,8,9,10,11,12,13,14,15,16,17,18,19,20,21,22,23]
["4月",10.5,10.3,10,9.9,9.6999999999999993,9.5,9.5,9.8000000000000007,10.6,11.4,12,12.4,12.7,12.9,13,13,12.8,12.7,12.4,12.1,11.8,11.5,11.3,11]
["5月",15,14.8,14.6,14.4,14.2,14.1,14.1,14.6,15.4,15.9,16.3,16.600000000000001,16.8,17,17,17,16.899999999999999,16.7,16.5,16.3,16,15.8,15.5,15.3]
["6月",19.399999999999999,19.3,19.2,19,18.899999999999999,18.8,18.899999999999999,19.2,19.600000000000001,20,20.3,20.5,20.6,20.7,20.8,20.7,20.7,20.7,20.6,20.399999999999999,20.2,20.100000000000001,19.899999999999999,19.8]
["7月",23.4,23.3,23.2,23.1,23,22.9,22.9,23.2,23.5,23.8,24.1,24.2,24.4,24.4,24.5,24.4,24.4,24.4,24.3,24.1,23.9,23.8,23.7,23.6]
["8月",23.8,23.7,23.5,23.4,23.3,23.2,23.2,23.5,23.9,24.3,24.6,24.7,24.8,24.9,24.9,24.8,24.8,24.8,24.6,24.4,24.3,24.2,24,23.9]
["9月",20.3,20.100000000000001,20,19.899999999999999,19.7,19.600000000000001,19.600000000000001,19.8,20.399999999999999,20.9,21.3,21.5,21.6,21.7,21.7,21.7,21.6,21.5,21.2,21,20.8,20.6,20.5,20.3]
["10月",14.8,14.6,14.4,14.2,14.1,14,13.9,13.9,14.6,15.5,16.100000000000001,16.399999999999999,16.5,16.600000000000001,16.600000000000001,16.600000000000001,16.399999999999999,16.3,16.100000000000001,15.8,15.5,15.3,15.1,14.8]
["11月",9.6999999999999993,9.5,9.3000000000000007,9.1,9,8.9,8.8000000000000007,8.6999999999999993,9.1999999999999993,10.1,10.9,11.4,11.7,11.9,11.9,11.9,11.7,11.5,11.2,10.9,10.6,10.3,10,9.6999999999999993]
["12月",4.8,4.5999999999999996,4.4000000000000004,4.2,4.0999999999999996,4,3.9,3.8,4,4.8,5.6,6.3,6.7,6.9,7,7,6.8,6.5,6.3,6,5.6,5.3,5.0999999999999996,4.8]
["1月",2.7,2.5,2.4,2.2999999999999998,2.2000000000000002,2.1,2,1.9,2.1,2.8,3.6,4.3,4.8,5.0999999999999996,5.2,5.2,5.0999999999999996,4.8,4.4000000000000004,4.0999999999999996,3.8,3.5,3.2,3]
["2月",3.6,3.4,3.2,3.1,2.9,2.8,2.8,2.7,3,3.8,4.5999999999999996,5.3,5.7,6,6.1,6.2,6.1,5.8,5.4,5.0999999999999996,4.8,4.5,4.2,4]
["3月",6.5,6.3,6.1,5.9,5.7,5.5,5.4,5.5,6.1,7,7.7,8.1999999999999993,8.6,8.8000000000000007,9,9,8.9,8.6,8.3000000000000007,8,7.8,7.4,7.2,6.9]

{"sheet":"長崎","index":46,"n_rows":16,"n_cols":25,"rows_kept":16,"cut":false,"hidden":true,"merged":[]}
["気象データ"]
[{"$f":"RIGHT(CELL(\"filename\",A2),LEN(CELL(\"filename\",A2))-FIND(\"]\",CELL(\"filename\",A2)))","v":"長崎"}]
["時刻別平均外気湿球温度"]
["時刻",0,1,2,3,4,5,6,7,8,9,10,11,12,13,14,15,16,17,18,19,20,21,22,23]
["4月",11.4,11.3,11.1,11,10.9,10.8,10.7,11,11.5,12.1,12.4,12.7,13,13.2,13.3,13.2,13.1,13,12.7,12.4,12.3,12.1,11.9,11.7]
["5月",15.7,15.5,15.4,15.3,15.2,15.1,15.1,15.4,16,16.399999999999999,16.7,16.899999999999999,17.100000000000001,17.3,17.399999999999999,17.3,17.2,17,16.8,16.600000000000001,16.399999999999999,16.3,16.100000000000001,15.9]
["6月",19.899999999999999,19.8,19.7,19.600000000000001,19.5,19.5,19.5,19.7,20.100000000000001,20.3,20.5,20.8,20.9,21,21.1,21,21,20.9,20.8,20.6,20.5,20.399999999999999,20.3,20.2]
["7月",23.8,23.7,23.7,23.6,23.6,23.5,23.5,23.7,23.9,24.2,24.3,24.4,24.6,24.7,24.7,24.8,24.7,24.6,24.4,24.3,24.1,24.1,24,23.9]
["8月",24.3,24.2,24.2,24.1,24,24,24,24.2,24.4,24.6,24.8,25,25.1,25.2,25.3,25.3,25.2,25.1,24.9,24.7,24.7,24.5,24.5,24.4]
["9月",21,20.9,20.8,20.7,20.6,20.5,20.399999999999999,20.6,20.9,21.3,21.5,21.7,21.8,22,22,22.1,22,21.9,21.7,21.5,21.3,21.2,21.1,21]
["10月",15.7,15.5,15.4,15.3,15.2,15.1,15,15.1,15.5,16.100000000000001,16.5,16.7,16.8,17,17.100000000000001,17.100000000000001,17,16.8,16.600000000000001,16.399999999999999,16.2,16,15.8,15.7]
["11月",10.8,10.7,10.6,10.5,10.5,10.4,10.4,10.3,10.7,11.3,11.8,12.1,12.3,12.4,12.4,12.4,12.3,12.1,11.7,11.5,11.3,11.1,10.9,10.8]
["12月",6.1,6,5.9,5.8,5.7,5.7,5.6,5.6,5.7,6.2,6.9,7.2,7.4,7.6,7.6,7.6,7.5,7.2,6.9,6.7,6.4,6.3,6.1,6]
["1月",3.9,3.8,3.8,3.8,3.7,3.6,3.6,3.6,3.7,4.0999999999999996,4.8,5.2,5.4,5.6,5.7,5.7,5.5,5.3,5,4.7,4.5,4.4000000000000004,4.2,4.0999999999999996]
["2月",4.7,4.5999999999999996,4.5,4.4000000000000004,4.3,4.3,4.2,4.2,4.4000000000000004,5,5.6,5.9,6.2,6.4,6.5,6.6,6.5,6.3,5.9,5.7,5.5,5.3,5.0999999999999996,4.9000000000000004]
["3月",7.4,7.3,7.2,7.1,7,6.9,6.8,6.8,7.3,7.9,8.4,8.8000000000000007,9,9.1999999999999993,9.3000000000000007,9.3000000000000007,9.1999999999999993,9,8.6999999999999993,8.5,8.1999999999999993,8.1,7.9,7.7]

{"sheet":"熊本","index":47,"n_rows":16,"n_cols":25,"rows_kept":16,"cut":false,"hidden":true,"merged":[]}
["気象データ"]
[{"$f":"RIGHT(CELL(\"filename\",A2),LEN(CELL(\"filename\",A2))-FIND(\"]\",CELL(\"filename\",A2)))","v":"熊本"}]
["時刻別平均外気湿球温度"]
["時刻",0,1,2,3,4,5,6,7,8,9,10,11,12,13,14,15,16,17,18,19,20,21,22,23]
["4月",11.2,10.9,10.7,10.4,10.199999999999999,10,9.8000000000000007,10.199999999999999,11,11.8,12.4,12.8,13.2,13.3,13.4,13.4,13.3,13.1,12.8,12.5,12.3,12.1,11.9,11.6]
["5月",15.7,15.5,15.3,15.1,14.8,14.7,14.6,15.1,15.8,16.3,16.7,17,17.2,17.399999999999999,17.399999999999999,17.399999999999999,17.3,17.100000000000001,17,16.7,16.5,16.3,16.100000000000001,15.9]
["6月",19.899999999999999,19.8,19.7,19.5,19.399999999999999,19.3,19.3,19.600000000000001,20,20.3,20.6,20.8,21,21.1,21.2,21,21,20.9,20.8,20.6,20.5,20.399999999999999,20.3,20.2]
["7月",23.6,23.5,23.4,23.3,23.2,23.1,23.1,23.3,23.7,24,24.2,24.4,24.6,24.6,24.6,24.6,24.5,24.4,24.4,24.2,24.1,24,23.8,23.8]
["8月",24,23.8,23.7,23.5,23.4,23.3,23.3,23.5,23.9,24.3,24.5,24.7,24.8,24.9,24.9,24.9,24.8,24.6,24.6,24.4,24.3,24.2,24.1,24]
["9月",20.7,20.6,20.399999999999999,20.3,20.100000000000001,20,19.899999999999999,20.100000000000001,20.6,21.1,21.5,21.7,21.8,22,22,22,21.9,21.8,21.5,21.3,21.1,21,20.8,20.7]
["10月",15.2,15,14.8,14.6,14.4,14.3,14.1,14.2,14.9,15.8,16.3,16.7,16.899999999999999,17.100000000000001,17.2,17.2,17,16.8,16.399999999999999,16.100000000000001,15.9,15.6,15.4,15.2]
["11月",10,9.6999999999999993,9.5,9.3000000000000007,9.1,8.9,8.8000000000000007,8.6999999999999993,9.3000000000000007,10.3,11.2,11.8,12.1,12.3,12.5,12.4,12.3,12,11.6,11.3,10.9,10.7,10.4,10.1]
["12月",4.8,4.5999999999999996,4.4000000000000004,4.0999999999999996,3.9,3.7,3.6,3.5,3.8,4.7,5.8,6.6,7,7.3,7.4,7.4,7.3,6.9,6.5,6.1,5.8,5.5,5.2,4.9000000000000004]
["1月",2.9,2.6,2.4,2.2000000000000002,2,1.9,1.7,1.6,1.8,2.8,3.8,4.5999999999999996,5,5.3,5.5,5.6,5.5,5.2,4.7,4.4000000000000004,4,3.7,3.5,3.2]
["2月",4,3.7,3.5,3.2,3,2.9,2.7,2.6,3.1,4,5,5.6,6.1,6.4,6.7,6.7,6.6,6.3,5.9,5.5,5.2,4.9000000000000004,4.5999999999999996,4.3]
["3月",7,6.8,6.5,6.2,6,5.8,5.6,5.6,6.4,7.4,8.1999999999999993,8.6999999999999993,9.1,9.4,9.5,9.5,9.3000000000000007,9.1,8.8000000000000007,8.4,8.1,7.9,7.6,7.3]

{"sheet":"大分","index":48,"n_rows":16,"n_cols":25,"rows_kept":16,"cut":false,"hidden":true,"merged":[]}
["気象データ"]
[{"$f":"RIGHT(CELL(\"filename\",A2),LEN(CELL(\"filename\",A2))-FIND(\"]\",CELL(\"filename\",A2)))","v":"大分"}]
["時刻別平均外気湿球温度"]
["時刻",0,1,2,3,4,5,6,7,8,9,10,11,12,13,14,15,16,17,18,19,20,21,22,23]
["4月",10.4,10.1,9.8000000000000007,9.6,9.4,9.1999999999999993,9.1,9.5,10.3,11.1,11.6,12,12.3,12.5,12.6,12.5,12.4,12.2,11.9,11.7,11.5,11.3,11.1,10.8]
["5月",14.8,14.6,14.4,14.2,13.9,13.7,13.8,14.2,15,15.6,16,16.3,16.5,16.5,16.600000000000001,16.600000000000001,16.5,16.3,16.100000000000001,15.8,15.7,15.5,15.3,15.1]
["6月",19.100000000000001,19,18.8,18.7,18.5,18.399999999999999,18.399999999999999,18.8,19.2,19.600000000000001,19.899999999999999,20.100000000000001,20.3,20.399999999999999,20.399999999999999,20.399999999999999,20.3,20.100000000000001,20,19.8,19.7,19.600000000000001,19.600000000000001,19.399999999999999]
["7月",23,22.9,22.8,22.7,22.5,22.4,22.4,22.7,23.1,23.5,23.7,24,24.1,24.2,24.2,24.2,24.1,23.9,23.8,23.6,23.5,23.4,23.3,23.3]
["8月",23.7,23.5,23.3,23.2,23.1,22.9,22.9,23.1,23.6,24.2,24.5,24.6,24.8,24.8,24.9,24.7,24.7,24.5,24.4,24.2,24.1,24.1,23.9,23.8]
["9月",20.399999999999999,20.2,20.100000000000001,20,19.899999999999999,19.8,19.7,19.899999999999999,20.3,20.9,21.2,21.5,21.6,21.7,21.6,21.6,21.5,21.3,21.2,21.1,21,20.9,20.7,20.5]
["10月",15.1,14.9,14.7,14.6,14.4,14.3,14.2,14.3,14.9,15.7,16.3,16.600000000000001,16.8,16.899999999999999,16.899999999999999,16.899999999999999,16.7,16.5,16.399999999999999,16.3,16,15.7,15.4,15.1]
["11月",9.9,9.6999999999999993,9.5,9.3000000000000007,9.1999999999999993,9.1,9,9,9.5,10.4,11.3,11.8,12,12.2,12.3,12.3,12.1,11.8,11.5,11.3,11,10.6,10.3,10]
["12月",4.9000000000000004,4.7,4.5,4.4000000000000004,4.2,4.0999999999999996,4,4,4.2,5.0999999999999996,6.1,6.7,7.1,7.3,7.4,7.4,7.2,6.8,6.5,6.2,5.8,5.5,5.2,4.9000000000000004]
["1月",2.8,2.6,2.4,2.2999999999999998,2.2000000000000002,2.1,2,2,2.2000000000000002,3,4,4.7,5,5.2,5.4,5.4,5.2,4.9000000000000004,4.5,4.3,3.9,3.6,3.3,3]
["2月",3.5,3.3,3.2,3,2.9,2.7,2.7,2.6,3,3.8,4.7,5.3,5.6,5.9,6.1,6.1,5.9,5.7,5.3,5.0999999999999996,4.8,4.5,4.2,3.9]
["3月",6.4,6.2,5.9,5.7,5.5,5.3,5.2,5.2,5.9,6.8,7.5,8,8.3000000000000007,8.5,8.6999999999999993,8.6,8.5,8.3000000000000007,8,7.7,7.5,7.3,7,6.7]

{"sheet":"宮崎","index":49,"n_rows":16,"n_cols":25,"rows_kept":16,"cut":false,"hidden":true,"merged":[]}
["気象データ"]
[{"$f":"RIGHT(CELL(\"filename\",A2),LEN(CELL(\"filename\",A2))-FIND(\"]\",CELL(\"filename\",A2)))","v":"宮崎"}]
["時刻別平均外気湿球温度"]
["時刻",0,1,2,3,4,5,6,7,8,9,10,11,12,13,14,15,16,17,18,19,20,21,22,23]
["4月",12.4,12.1,11.9,11.6,11.4,11.2,11.1,11.4,12.2,13,13.5,13.9,14.2,14.3,14.4,14.5,14.4,14.3,14,13.8,13.6,13.4,13.1,12.8]
["5月",16.600000000000001,16.3,16.100000000000001,15.9,15.7,15.6,15.5,16,16.7,17.3,17.600000000000001,17.899999999999999,18.100000000000001,18.100000000000001,18.2,18.2,18.2,18,17.8,17.7,17.5,17.399999999999999,17.2,16.899999999999999]
["6月",20.399999999999999,20.2,20.100000000000001,20,19.8,19.7,19.7,20.100000000000001,20.5,21,21.2,21.4,21.5,21.5,21.5,21.5,21.5,21.5,21.4,21.2,21.1,21,20.9,20.7]
["7月",23.8,23.7,23.6,23.5,23.3,23.2,23.3,23.5,23.9,24.3,24.5,24.7,24.9,24.9,24.9,25,24.8,24.7,24.7,24.5,24.3,24.3,24.1,24]
["8月",24.5,24.3,24.2,24.1,23.9,23.8,23.7,24,24.5,24.9,25.1,25.2,25.3,25.4,25.5,25.4,25.4,25.3,25.2,25,25,24.9,24.7,24.6]
["9月",21.8,21.6,21.5,21.3,21.2,21,20.9,21.1,21.6,22.1,22.4,22.6,22.7,22.8,22.9,22.9,22.8,22.7,22.5,22.4,22.3,22.2,22,21.8]
["10月",16.600000000000001,16.399999999999999,16.2,16,15.8,15.7,15.5,15.6,16.3,17.100000000000001,17.600000000000001,17.899999999999999,18.100000000000001,18.2,18.3,18.3,18.2,18,17.8,17.600000000000001,17.399999999999999,17.100000000000001,16.899999999999999,16.600000000000001]
["11月",11.3,11.1,10.9,10.7,10.5,10.4,10.199999999999999,10.199999999999999,10.7,11.8,12.7,13.2,13.6,13.7,13.8,13.8,13.7,13.4,13.1,12.8,12.4,12.1,11.7,11.5]
["12月",6,5.8,5.6,5.4,5.2,5.0999999999999996,4.9000000000000004,4.8,5.2,6.2,7.4,8.1,8.5,8.8000000000000007,9,9,8.8000000000000007,8.4,7.9,7.5,7.1,6.7,6.4,6.1]
["1月",4,3.8,3.5,3.4,3.2,3.1,3,2.9,3.2,4.2,5.3,6.1,6.6,6.9,7.1,7.1,7,6.7,6.2,5.7,5.2,4.9000000000000004,4.5999999999999996,4.3]
["2月",5.3,5.0999999999999996,4.9000000000000004,4.7,4.5,4.4000000000000004,4.2,4.0999999999999996,4.5,5.6,6.5,7.2,7.6,7.9,8.1,8.1999999999999993,8.1,7.9,7.5,7.1,6.7,6.3,6,5.7]
["3月",8.3000000000000007,8,7.8,7.6,7.4,7.2,7.1,7.1,7.8,8.6999999999999993,9.4,9.9,10.3,10.5,10.7,10.8,10.7,10.5,10.199999999999999,9.9,9.6,9.3000000000000007,8.9,8.6]

{"sheet":"鹿児島","index":50,"n_rows":16,"n_cols":25,"rows_kept":16,"cut":false,"hidden":true,"merged":[]}
["気象データ"]
[{"$f":"RIGHT(CELL(\"filename\",A2),LEN(CELL(\"filename\",A2))-FIND(\"]\",CELL(\"filename\",A2)))","v":"鹿児島"}]
["時刻別平均外気湿球温度"]
["時刻",0,1,2,3,4,5,6,7,8,9,10,11,12,13,14,15,16,17,18,19,20,21,22,23]
["4月",12.8,12.5,12.4,12.2,12,11.9,11.8,12.1,12.8,13.4,13.8,14,14.3,14.4,14.6,14.6,14.5,14.3,14.1,13.8,13.6,13.5,13.3,13.1]
["5月",16.899999999999999,16.7,16.600000000000001,16.399999999999999,16.3,16.2,16.100000000000001,16.5,17.100000000000001,17.5,17.7,17.899999999999999,18.100000000000001,18.2,18.3,18.3,18.3,18.100000000000001,17.899999999999999,17.600000000000001,17.399999999999999,17.3,17.2,17.100000000000001]
["6月",20.8,20.7,20.6,20.5,20.399999999999999,20.399999999999999,20.399999999999999,20.6,20.9,21.2,21.4,21.5,21.6,21.7,21.8,21.8,21.8,21.7,21.5,21.4,21.2,21.2,21.1,21.1]
["7月",24.3,24.2,24.2,24.1,24,23.9,23.9,24.2,24.4,24.6,24.8,25,25.1,25.2,25.2,25.2,25.1,25,24.8,24.7,24.6,24.5,24.4,24.4]
["8月",24.7,24.7,24.6,24.5,24.4,24.3,24.3,24.5,24.8,25,25.2,25.3,25.4,25.5,25.5,25.5,25.5,25.4,25.2,25.1,25,24.9,24.8,24.8]
["9月",22.1,22,21.8,21.7,21.6,21.6,21.5,21.6,22.1,22.4,22.7,22.8,22.9,23,23.1,23,23,22.9,22.7,22.5,22.4,22.3,22.2,22.1]
["10月",17.100000000000001,16.899999999999999,16.7,16.600000000000001,16.5,16.399999999999999,16.3,16.399999999999999,17,17.600000000000001,17.899999999999999,18.2,18.399999999999999,18.399999999999999,18.5,18.399999999999999,18.3,18.2,18,17.8,17.600000000000001,17.399999999999999,17.2,17.100000000000001]
["11月",12.2,12,11.8,11.7,11.6,11.5,11.4,11.4,11.9,12.9,13.4,13.7,13.9,14,14,14,13.8,13.6,13.4,13.1,12.9,12.6,12.4,12.2]
["12月",7.2,6.9,6.8,6.7,6.6,6.5,6.4,6.3,6.6,7.5,8.4,8.8000000000000007,9.1,9.3000000000000007,9.4,9.3000000000000007,9.1,8.6999999999999993,8.4,8.1999999999999993,7.9,7.6,7.4,7.1]
["1月",5,4.9000000000000004,4.7,4.5999999999999996,4.5,4.4000000000000004,4.4000000000000004,4.4000000000000004,4.5,5.4,6.3,6.8,7.1,7.4,7.5,7.5,7.3,7,6.7,6.3,6,5.8,5.5,5.3]
["2月",6.2,6,5.8,5.7,5.5,5.4,5.4,5.4,5.7,6.6,7.3,7.8,8.1,8.3000000000000007,8.5,8.5,8.4,8.1,7.7,7.4,7.2,6.9,6.7,6.5]
["3月",8.9,8.6999999999999993,8.5,8.3000000000000007,8.1999999999999993,8.1,8,8,8.6,9.4,9.9,10.3,10.6,10.8,11,11,10.9,10.6,10.3,10,9.8000000000000007,9.6,9.4,9.1999999999999993]

{"sheet":"那覇","index":51,"n_rows":16,"n_cols":25,"rows_kept":16,"cut":false,"hidden":true,"merged":[]}
["気象データ"]
[{"$f":"RIGHT(CELL(\"filename\",A2),LEN(CELL(\"filename\",A2))-FIND(\"]\",CELL(\"filename\",A2)))","v":"那覇"}]
["時刻別平均外気湿球温度"]
["時刻",0,1,2,3,4,5,6,7,8,9,10,11,12,13,14,15,16,17,18,19,20,21,22,23]
["4月",18,18,17.899999999999999,17.899999999999999,17.899999999999999,17.8,17.8,18,18.3,18.5,18.7,18.8,18.899999999999999,19,18.899999999999999,18.899999999999999,18.8,18.600000000000001,18.5,18.3,18.2,18.2,18.2,18.2]
["5月",21.2,21.1,21.1,21.1,21.1,21,21,21.3,21.5,21.7,21.8,21.9,22,22,22,21.9,21.8,21.6,21.5,21.4,21.3,21.3,21.3,21.3]
["6月",24.5,24.5,24.4,24.4,24.4,24.4,24.4,24.6,24.8,24.9,25.1,25.1,25.2,25.2,25.2,25.2,25,24.9,24.8,24.7,24.6,24.7,24.6,24.6]
["7月",25.6,25.6,25.6,25.5,25.5,25.5,25.4,25.6,25.8,25.9,26,26.1,26.1,26.2,26.1,26.1,26,25.9,25.8,25.7,25.7,25.7,25.7,25.7]
["8月",25.6,25.5,25.5,25.4,25.4,25.3,25.3,25.5,25.7,25.8,25.9,26,26,26.1,26,26,25.9,25.8,25.7,25.6,25.6,25.6,25.6,25.6]
["9月",24.3,24.2,24.2,24.1,24.1,24.1,24,24.2,24.4,24.6,24.7,24.7,24.8,24.8,24.8,24.7,24.6,24.5,24.4,24.3,24.3,24.3,24.3,24.2]
["10月",21.5,21.4,21.4,21.3,21.3,21.3,21.2,21.3,21.6,21.8,21.9,22.1,22.1,22.1,22.1,22,21.9,21.8,21.7,21.6,21.6,21.6,21.5,21.5]
["11月",18.399999999999999,18.3,18.3,18.2,18.2,18.100000000000001,18.100000000000001,18.2,18.399999999999999,18.7,18.899999999999999,19,19.100000000000001,19.100000000000001,19.100000000000001,19,18.899999999999999,18.7,18.600000000000001,18.5,18.5,18.399999999999999,18.399999999999999,18.3]
["12月",14.9,14.8,14.8,14.7,14.7,14.7,14.6,14.6,14.8,15.2,15.4,15.6,15.6,15.7,15.7,15.6,15.5,15.3,15.2,15.1,15,14.9,14.9,14.8]
["1月",13.2,13.2,13.2,13.1,13.1,13,13,13,13.2,13.6,13.8,14,14.1,14.1,14.1,14.1,14,13.8,13.7,13.6,13.5,13.4,13.4,13.3]
["2月",13.8,13.8,13.8,13.7,13.7,13.6,13.6,13.6,13.8,14.2,14.5,14.6,14.7,14.8,14.8,14.8,14.7,14.5,14.3,14.2,14.2,14.1,14,14]
["3月",15.4,15.3,15.3,15.3,15.2,15.1,15.1,15.2,15.5,15.8,16,16.2,16.3,16.3,16.3,16.3,16.2,16,15.9,15.7,15.6,15.6,15.5,15.5]